{"text_format":"1","workbook":"xlsx","n_sheets":53,"sheets":["Application Form","Instructions","Customer Information","Contractor Information","Site Information","Equipment Selection","Ts and Cs","Required Documents","AssignmentForm","Guidelines ","Eligibility Table ","Appliances Worksheet","Appliance Calculations","Appliances References","Appliances Inspection Form","ASHP Equipment Information","ASHP Load Calculations","Integrated Controls","Smart T-Stats","AIRFLOW FORM","Tune Up Worksheet","Water Heating Worksheet","HPwES","HPwES H&S","Completion Information Form","Heat Pump Costs","Pre Inspection Form","Post Inspection Form","Qualifying_Index","Air Flow References","References","Space Heating Worksheet","Dedicated Water Heating","Loop Field Cx Form","GSHP Costs","Pre-Inspection Form","Inspection Form","Tables","ProposedEquipment0","Project Review","Admin","EFS Pre-Approval","AIRFLOW FORM 2","AIRFLOW FORM 3","AIRFLOW FORM 4","AIRFLOW FORM 5","AIRFLOW FORM 6","AIRFLOW FORM 7","AIRFLOW FORM 8","AIRFLOW FORM 9","AIRFLOW FORM 10","Project Completion Form","Development"],"not_rendered":{"charts":0,"images":181,"macros":1,"external_links":9,"defined_names":387,"comments":6,"pivot_tables":0},"unopened":[],"bounds":{"document_bytes":16777216,"sheet_cells":100000,"rows_first":2000,"rows_last":500,"rows_between":2000,"halvings":0,"cell_chars":16384,"cell_head_chars":4096},"cells_cut":0,"cells_raw":0,"read":"whole","date_system":"1900"}

{"sheet":"Application Form","index":0,"n_rows":127,"n_cols":9,"rows_kept":127,"cut":false,"hidden":true,"merged":[[68,1,68,10],[0,1,0,10],[1,2,1,8],[3,1,3,10],[9,2,9,10],[45,2,45,10],[46,2,46,10],[47,2,47,10],[48,2,48,10],[60,1,60,10],[65,1,65,10],[66,2,66,8],[92,1,92,9],[70,7,70,9],[72,4,72,6],[72,8,72,9],[74,4,74,6],[76,4,76,5],[78,4,78,5],[80,4,80,6],[82,4,82,5],[84,4,84,6],[86,4,86,5],[88,1,88,10],[93,1,93,3],[93,4,93,6],[93,8,93,9],[94,1,94,3],[94,4,94,6],[94,8,94,9],[95,1,95,3],[95,4,95,6],[95,8,95,9],[96,1,96,3],[96,4,96,6],[96,8,96,9],[97,1,97,3],[97,4,97,6],[97,8,97,9],[99,1,99,9],[100,1,100,3],[100,4,100,6],[100,8,100,9],[107,1,107,3],[107,4,107,6],[107,8,107,9],[101,1,101,3],[101,4,101,6],[101,8,101,9],[102,1,102,3],[102,4,102,6],[102,8,102,9],[104,1,104,3],[105,1,105,9],[106,1,106,3],[106,4,106,6],[106,8,106,9],[108,1,108,3],[108,4,108,6],[108,8,108,9],[109,1,109,3],[109,4,109,6],[109,8,109,9],[110,1,110,3],[110,4,110,6],[110,8,110,9],[112,1,112,9],[113,1,113,3],[113,4,113,6],[113,8,113,9],[119,1,119,10],[121,4,121,6],[124,1,124,10],[126,1,126,10],[114,1,114,3],[114,4,114,6],[114,8,114,9],[115,1,115,3],[115,4,115,6],[115,8,115,9]]}
[null,{"$f":"Development!A3&\" Residential Rebate Application Form\"","v":"2023 Residential Rebate Application Form"}]
[null,null,"PSEG Long Island's Residential Central Air Conditioning Program, Central Air Conditioners, Heat Pumps, Ductless Mini Split Systems."]
[]
[null,"REBATE OPTION 2: Choose any Central Air Conditioning (CAC) Contractor"]
[]
[null,"Directions:"]
[null,"1.","Customer hires a contractor (at least three estimates are recommended prior to selection)."]
[null,"2.","Customer has a qualifying system installed."]
[null,"3.",{"$f":"\"Customer fills out and signs the \"&Development!A3&\" Residential Rebate Application Form.\"","v":"Customer fills out and signs the 2023 Residential Rebate Application Form."}]
[null,"4.",{"$f":"\"Customer submits \"&Development!A3&\" Residential Rebate Application Form and all required documentation listed below. Copy all forms prior to submission/keep a copy for your records.\"","v":"Customer submits 2023 Residential Rebate Application Form and all required documentation listed below. Copy all forms prior to submission/keep a copy for your records."}]
[null,"5.","If all required paperwork is correct and all rebate requirements are fulfilled, a rebate check will be sent to the customer."]
[]
[null,"Required Documents Checklist:"]
[]
[]
[]
[]
[null,null,"▪","Customer name and installation address matching electric account holder information"]
[null,null,"▪","Equipment manufacturer"]
[null,null,"▪","Condenser model number and serial number"]
[null,null,"▪","Coil/Air Handler model number and serial number"]
[null,null,"▪","Total Cost"]
[]
[]
[null,null,"Eligible Equipment Table:"]
[]
[]
[]
[]
[]
[]
[]
[]
[]
[]
[]
[]
[]
[]
[null,"Rebate Requirements / Terms and Conditions:"]
[null,"1.","There must be a PSEG Long Island residential electric account at the installation site in the applicant’s name."]
[null,"2.",{"$f":"\"Unit(s) must be purchased and installed between \"&TEXT(DATE(Development!A3,1,1),\"M/D/YY\")&\" and \"&TEXT(DATE(Development!A3,12,31),\"M/D/YY\")&\".\"","v":"Unit(s) must be purchased and installed between 1/1/23 and 12/31/23."}]
[null,"3.",{"$f":"\"Rebate application must be submitted within 90 days of purchase and postmarked no later than \"&TEXT(DATE(Development!A3,12,31),\"M/D/YY\")&\".\"","v":"Rebate application must be submitted within 90 days of purchase and postmarked no later than 12/31/23."}]
[null,"4.","Please allow up to 60 days for delivery of the rebate check."]
[null,"5.","Some ENERGY STAR® qualified equipment may not be eligible for this rebate. Qualifying units must be listed in the AHRI directory."]
[null,"6.","It is the customer’s responsibility to ensure contractor has proper licenses, certifications and insurance. Installation is to be properly permitted (or received authorization). Documents, including but not limited to, permits and surveys are to be provided upon request."]
[null,"7.","Replacement of systems less than five years old, that were rebated, are not eligible for a rebate unless the SEER level of the\nreplacement unit is higher than the existing unit by at least one full SEER level."]
[null,"8.","All units, including Ductless Mini Split Systems, must be installed with the matching pieces specified in the AHRI directory. These rebates apply to new and replacement total system installations performed during the term of this rebate program. The Condenser (outdoor), and Coil/ Air Handler (indoor) must be installed new and constitute one unit. Partial system replacements do not qualify."]
[null,"9.","PSEG Long Island reserves the right to inspect the equipment installation to ensure compliance with program requirements.\nFailure to allow PSEG Long Island access to the equipment will result in a denial of the rebate application."]
[null,"10.","PSEG Long Island is not responsible for any tax liability imposed as a result of rebate payments."]
[null,"11.","PSEG Long Island reserves the right to use the customer rebate to credit accounts in arrears."]
[null,"12.","PSEG Long Island is not responsible for lost or undeliverable mail or email."]
[]
[null,"Submit Signed Application Form and all Required Documents:"]
[null,null,"By Email: Preferred method for timely processing - coolhomesli@pseg.com"]
[null,null,"By Mail: PSEG Long Island's Residential CAC Program"]
[null,null,null,"395 North Service Road, Suite 409, Melville, NY 11747"]
[]
[]
[]
[null,"Any Questions? Call PSEG Long Island's Infoline at 1-800-692-2626 or visit PSEG Long Island's website for more information at www.psegliny.com/efficiency"]
[]
[]
[]
[]
[null,{"$f":"Development!A3&\" Residential Rebate Application Form\"","v":"2023 Residential Rebate Application Form"}]
[null,null,"PSEG Long Island's Residential Central Air Conditioning Program, Central Air Conditioners, Heat Pumps, Ductless Mini Split Systems."]
[]
[null,"Customer Information:"]
[]
[null,"Your PSEG Long Island Residential Account Number (found on the back of your bill): "]
[]
[null,"Your Name:",null,null,null,null,null,"E-Mail:"]
[]
[null,"Account/Installation Address:"]
[]
[null,"City:",null,null,null,null,"State:",null,"Zip:"]
[]
[null,"Home Telephone:",null,null,null,null,"Work Telephone:"]
[]
[null,"Mailing Address: (if different)"]
[]
[null,"City:",null,null,null,null,"State:",null,"Zip:"]
[]
[null,"Installation Contractor Name:",null,null,null,null,null,null,"Contractor Telephone:"]
[]
[null,"Installation Date:"]
[]
[null,"Product Information:"]
[]
[null,"Unit Number 1:"]
[]
[null,"New Equipment"]
[null,"Manufacturer:",null,null,null,null,null,"AHRI Reference No:"]
[null,"Condenser Model No. (outdoor):",null,null,null,null,null,"SEER Rating:"]
[null,"Condenser Serial No. (outdoor):",null,null,null,null,null,"EER Rating:"]
[null,"Coil/Air Handler Model No. (Indoor):",null,null,null,null,null,"HSPF Rating (Heat Pump Only):"]
[null,"Coil/Air Handler Serial No. (Indoor):",null,null,null,null,null,"Tons:"]
[]
[null,"Existing Equipment"]
[null,"Manufacturer:",null,null,null,null,null,"SEER Rating:"]
[null,"Condenser Model No. (outdoor):",null,null,null,null,null,"EER Rating:"]
[null,"Coil/Air Handler Model No. (Indoor):",null,null,null,null,null,"Tons:"]
[]
[null,"Unit Number 2:\n(if applicable)"]
[null,"New Equipment"]
[null,"Manufacturer:",null,null,null,null,null,"AHRI Reference No:"]
[null,"Condenser Model No. (outdoor):",null,null,null,null,null,"SEER Rating:"]
[null,"Condenser Serial No. (outdoor):",null,null,null,null,null,"EER Rating:"]
[null,"Coil/Air Handler Model No. (Indoor):",null,null,null,null,null,"HSPF Rating (Heat Pump Only):"]
[null,"Coil/Air Handler Serial No. (Indoor):",null,null,null,null,null,"Tons:"]
[]
[null,"Existing Equipment"]
[null,"Manufacturer:",null,null,null,null,null,"SEER Rating:"]
[null,"Condenser Model No. (outdoor):",null,null,null,null,null,"EER Rating:"]
[null,"Coil/Air Handler Model No. (Indoor):",null,null,null,null,null,"Tons:"]
[]
[null,null,null,null,null,null,null,null,"Total Rebate Amount Expected: $"]
[]
[null,"I certify that I purchased the unit(s) on the enclosed invoice and /or contract and that they were installed at the location indicated. I agree to the terms and conditions stated on this application (see rebate requirements)."]
[]
[null,"Customer's Signature:",null,null,null,null,null,null,"Date:"]
[]
[]
[null,"PSEG Long Island administrators the rebate program on behalf of the Long Island Power Authority, the rebate program sponsor. Please visit www.psegliny.com/efficiency for more details."]
[]
[null,"Any Questions? Call PSEG Long Island's Infoline at 1-800-692-2626 or visit PSEG Long Island's website for more information at www.psegliny.com/efficiency"]

{"sheet":"Instructions","index":1,"n_rows":207,"n_cols":15,"rows_kept":207,"cut":false,"hidden":true,"merged":[[3,1,3,13],[3,14,3,26],[5,1,5,13],[7,1,7,13],[95,10,95,11],[42,3,42,13],[91,4,91,13],[11,1,11,4],[20,1,20,4],[12,3,12,14],[16,1,16,4],[17,3,17,14],[51,1,51,4],[93,3,93,14],[195,3,195,12],[122,3,122,12],[99,4,99,15],[103,4,103,13],[98,3,98,12],[110,3,110,12],[100,3,100,10],[101,4,101,12],[104,3,104,12],[102,3,102,13],[196,3,196,12],[196,13,196,14],[203,1,203,14],[107,3,107,12],[108,4,108,14],[109,4,109,15],[194,3,194,12],[197,4,197,14],[198,3,198,12],[199,3,199,11],[200,3,200,12],[123,3,123,13],[124,3,124,13],[114,3,114,12],[115,3,115,13],[116,3,116,13]]}
[null,{"$f":"'Customer Information'!A1","v":"2023 Residential Efficiency Program"}]
[null,"Instructions"]
[]
[null,"The PSEG Long Island Home All Electric Home Application gathers data on Heating and Cooling Systems and energy efficient electric appliances and provides rebates for eligible equipment."]
[]
[null,"Cells requiring input are shaded with a gray background.  Cells with white background are locked and will auto populate."]
[]
[null,"The All Electric Homes Application is intended for all Residential customers (Rate Code 180 or equivalent)  and New Construction developments and accommodates projects that include the installation of Whole House Heat Pumps and energy efficient electric appliances. There are two participation tiers for All Electric Homes. Please refer to the Eligibility Table Tab for qualifying Tiers and associated participation bonus. For questions about eligibility, please speak to your PSEG Long Island Representative. "]
[]
[null,"To complete the worksheet enable all macros and follow these simple steps:"]
[]
[null,"Customer Information "]
[null,null,"1.","Enter account number, account holder name and installation address, and General Contractor/Developer information, and Rebate Payment Method on the Customer Information tab."]
[null,null,"2.","Enter Developer/General Contractor Information"]
[null,null,"3.","Select Rebate Payment Method from dropdown"]
[]
[null,"Contractor Information "]
[null,null,"1.","Enter Contractor Information for all participating contractors included in project installation"]
[null,null,null,"*Please note, all installation contractors must be participating PSEG Long Island contractors"]
[]
[null,"Site Information "]
[null,null,"1.","Select Residence Type from dropdown"]
[null,null,null,"- If New Construction is selected, please select \"New Construction\" for Primary Heating and Cooling Equipment fields"]
[null,null,"2. ","Enter Size of Home (sq.ft)"]
[null,null,"3.","Enter Number of Residences"]
[null,null,"4.","Select Project Type - Heat Pump from dropdown"]
[null,null,null,"• ","Whole House "]
[null,null,null,null,"- The designed heating Manual J must meet 90-120% of the Heating Load."]
[null,null,null,"- Please note, if you are only completing a Weatherization project then select \"Not Applicable\""]
[null,null,"5.","Select Project Type - Weatherization from dropdown"]
[null,null,null,"• ","Home Performance (HEMI)"]
[null,null,null,"• ","Not Applicable"]
[null,null,null,"- Please note, Home Performance participation is availble to existing building customers only and participation is suggested but not a program requirement"]
[null,null,"6.","Select Project Type - \"Electric Appliances\" from dropdown"]
[null,null,null,"• ","Yes"]
[null,null,"7.","Select Fossil Fuel Heater Removed from dropdown"]
[null,null,null,"• ","Yes"]
[null,null,null,"• ","No"]
[null,null,null,"• ","New Construction"]
[null,null,null,"- Please note, there should be no fossil fuel heater on site; If fossil fuel heater is not removed, project is not eligible for All Electric Home program"]
[null,null,"8.","Select \"Existing Primary Heating Equipment\" from dropdown"]
[null,null,null,"- If New Construction, please select \"New Construction\""]
[null,null,"9.","Select \"Existing Primary Cooling Equipment\""]
[null,null,null,"- If New Construction, please select \"none\""]
[null,null,"*","If you have a second Heating and Cooling System, please check the \"Check here to enter Secondary Equipment Information\" checkbox and repeat the same steps as above"]
[null,null,"10.","In the Exsiting Equipment Information Table, please enter Primary Heating System Information"]
[null,null,null,"-  Heating Capacity (btu), HSPF, COP, AFUE"]
[null,null,"11.","In the Exsiting Equipment Information Table, please enter Primary Cooling System Information"]
[null,null,null,"-  Cooling Capacity (btu), SEER, EER"]
[null,null,"*","If you selected the \"Seconday Equipment Information\" checkbox, please complete the Secondary System Information section for Heating and Cooling"]
[]
[null,"Equipment Selection"]
[null,null,"All Required selections on this page must be selected; The selections made on this page will appear on corresponding worksheet tabs and determine either Tier I or Tier II participation bonus"]
[null,null,"1.","Select Space Heating & Air Conditioning Equipment"]
[null,null,null,"• ","Cold Climate Air Source Heat Pump"]
[null,null,null,"• ","Geothermal Heat Pump"]
[null,null,null,"* In order to qualify for the All Electric Home Program, a Whole House ccASHP system or Whole House Geothermal Heat Pump system must be installed"]
[null,null,"2.","Select Smart HVAC Controls"]
[null,null,null,"• ","Connected Wi-Fi Thermostat"]
[null,null,null,"• ","Learning Thermostat"]
[null,null,null,"• ","\"Other\" Smart Control"]
[null,null,null,"* In order to qualify for the All Electric Home Program, a Smart HVAC Control must be installed"]
[null,null,"3.","Water Heating"]
[null,null,null,"• ","Tankless Water Heater"]
[null,null,null,"• ","Heat Pump Water Heater"]
[null,null,null,"• ","Dedicated Geothermal Heat Pump Water Heater"]
[null,null,null,"* In order to qualify for the All Electric Home Program, electric water heating must be installed"]
[null,null,null,"- Please note, Tankless Water Heater and Heat Pump Water Heater will appear on the \"Appliances Worksheet\" tab of this workbook"]
[null,null,"4.","Select Required Appliances"]
[null,null,null,"• ","ENERGY STAR Refrigerator OR ENERGY STAR Most Efficient Refrigerator"]
[null,null,null,"• ","ENERGY STAR Clothes Washer OR ENERGY STAR Most Efficient Clothes Washer"]
[null,null,null,"• ","ENERGY STAR Clothes Dryer - Electric Resistance OR ENERGY STAR Most Efficient Clothes Dryer - Heat Pump"]
[null,null,null,"• ","ENERGY STAR Dishwasher OR ENERGY STAR Most Efficient Dishwasher"]
[null,null,null,"• ","Standard Electric Range/Oven OR Induction Cooktop/Convection Oven"]
[null,null,null,"• ","ENERGY STAR LED Lamps"]
[null,null,null,"* In order to qualify for the All Electric Home Program, all required appliances must be installed"]
[null,null,"5.","Select Optional Appliances"]
[null,null,null,"• ","Heat Pump Pool Heater"]
[null,null,null,"• ","ENERGY STAR Dehumidifier"]
[null,null,null,"• ","ENERGY STAR Air Purifier"]
[null,null,null,"• ","Electric Lawn Mower"]
[null,null,null,"• ","Electric Leaf Blower"]
[null,null,null,"• ","Electric Weed Trimmer"]
[null,null,null,"* Optional Appliances do not have to be installed to qualify for the All Electric Home Program"]
[]
[null,"ASHP Equipment Information - Heat Pump Installation"]
[null,null,"1.","Complete the \"Heating and Cooling System 1\" table for new equipment"]
[null,null,null,"• ","Select \"New Equipment Type\" from dropdown"]
[null,null,null,"• ","Select \"Existing Equipment Type\" from dropdown"]
[null,null,null,null,"- Select either Primary Heating System or Secondary Heating System"]
[null,null,null,null,"- For New Construction select Primary Heating System "]
[null,null,null,"• ","Enter equipment and AHRI data in all grey cells; AHRI number must match information on AHRI certified, please don't abbreviate"]
[null,null,"2.","If installing a Smart Thermostat, complete the Smart Thermostats Worksheet tab"]
[null,null,"3. "," If installing more than one Heat Pump, please select the checkbox that states \"Click here to enter an additional Heating and Cooling System\"; Up to 10 Heat Pumps may be entered"]
[null,null,null,null,"- Repeat the same steps as above"]
[null,null,"*","All Cold Climate Heat Pumps must be listed and verified on the NEEP database",null,null,null,null,null,null,"www.NEEP.org"]
[]
[null,"ASHP Load Calculations - Heat Pump Installation"]
[null,null,"1.","Enter the \"Cooling Manual J\" and \"Heating Manual J\" data"]
[null,null,null,null,"- For Whole House Projects, the equipment must meet 90-120% of  the Manual J designed heating load"]
[null,null,"2.","Select \"Unit Controlled\" from dropdown"]
[null,null,null,null,"- The \"Unit #\" correlates with the Smart Thermostat worksheet"]
[null,null,"*","New Equipment Type, Control Type, Qualifying Tier, Equipment Rebate, and Manual J Pass/Fail fields will all autopopulate based on previous inputs"]
[null,null,null,null,"- Refer to the \"Eligiblity Table\" if you have questions regarding Qualifying Tier and Equipment Rebate "]
[null,null,"*","Provide complete and accurate load calculations associated with each Manual J report"]
[]
[null,"Air Flow Tabs- Heat Pump Installation"]
[null,null,"1.","Complete the \"Airflow Form\" tab for all Ducted Heat Pumps"]
[null,null,null,"• ","If more than one \"Airflow Form\" is required, selected the button that states \"Click Here for Additional Airflow Form\""]
[null,null,null,null,"- Up to 10 Airflow Forms are available"]
[null,null,null,"*Provide complete and accurate Air Flow and Charge data for each eligible unit"]
[]
[null,"Smart Thermostats Worksheet"]
[null,"In order to qualify for an incentive,Smart Thermostats must be listed at",null,null,null,null,null,"https://enrollmythermostat.com/faqs/pseg-long-island-faq/"]
[null,null,"1.","Select Manufacturer from dropdown"]
[null,null,"2.","Select Approved Thermostat from dropdown"]
[null,null,"3.","Select Model Number from dropdown"]
[null,null,"4.","Enter Serial Number "]
[null,null,"5. ","Select Unit Controlled from dropdown"]
[null,null,"*","If \"Other\" Smart Control, enter data for control in \"Other Smart Control\" section, please note this selection is not eligible for rebate"]
[]
[null,"Appliances Worksheet"]
[null,null,"1.","Complete the worksheet sections for appliances and weater heating equipment selected on the \"Equipment Selection\" tab"]
[null,null,"2.","All appliances and water heating equipment require the Proposed Quantity, Manufacturer, and Model Number to be entered"]
[null,null,"3.","ENERGY STAR listed appliances require the ENERGY STAR Unique ID to be entered"]
[null,null,"4.","Heat Pump Water Heater and Tankless Water Heater require the equipment size dropdown to be selected and the Proposed Efficiency of the system to be entered"]
[null,null,null,"*Heat Pump Water Heater must be ENERGY STAR listed; Tankless Water Heater must be ETL or UL listed"]
[null,null,"5. ","Air Purifiers require the equipment size dropdown to be selected"]
[]
[null,"Geothermal - Space Heating"]
[null,null,"1.","Select Application Type"]
[null,null,null,"• ","Geothermal System"]
[null,null,"2.","Select New Equipment Type"]
[null,null,null,"• ","Geothermal, Water to Air - Closed"]
[null,null,null,"• ","Geothermal, Water to Air - Open"]
[null,null,null,"• ","Geothermal, Water to Water - Closed"]
[null,null,null,"• ","Geothermal, Water to Water - Open"]
[null,null,null,"• ","Geothermal, DGX"]
[null,null,"3.","Select Stages"]
[null,null,null,"• ","Single Stage"]
[null,null,null,"• ","Dual Stage"]
[null,null,null,"• ","Multi - Stage"]
[null,null,null,"• ","Variable Speed"]
[null,null,"4.","Select Pump Type"]
[null,null,null,"• ","Variable Pumping"]
[null,null,null,"• ","Staged Pumping"]
[null,null,null,"• ","Constant Pumping"]
[null,null,"5.","Enter Full Load Capacity Cooling btuh"]
[null,null,"6.","Enter Full Load Capacity Heating btuh"]
[null,null,"7.","Enter Part Load Capacity Cooling btuh (if applicable)"]
[null,null,"8.","Enter Part Load Capacity Heating btuh (if applicable)"]
[null,null,"9.","Enter AHRI Reference No."]
[null,null,"10.","Enter Full Load EER"]
[null,null,"11.","Enter Full Load COP"]
[null,null,"12.","Enter Part Load EER (if applicable)"]
[null,null,"13.","Enter Part Load COP (if applicable)"]
[null,null,"14.","Select Existing Equiment Type - Heating"]
[null,null,null,"- If New Construction, select Primary Existing Heating"]
[null,null,"15.","Select Existing Equiment Type - Cooling"]
[null,null,null,"- If New Construction, select Primary Existing Heating"]
[null,null,"16.","Enter Existing Equipment SEER"]
[null,null,"17.","Enter Existing Equipment EER"]
[null,null,"18.","Enter Existing Equipment COP/AFUE"]
[null,null,"19.","Enter the following new equipment specs:"]
[null,null,null,"- Condenser Manufacturer, Model Number, Serial Number"]
[null,null,null,"- Coil/Air Handler Manufacturer, Model Number, Serial Number"]
[null,null,"20.","Select Yes/No for Residential Desuperheater installation"]
[null,null,"21.","Select Yes/No for to confirm if Equipment Sized in Accordance with Manual S"]
[null,null,"22.","Enter the following Existing Equiment details:"]
[null,null,null,"- Operating (Yes/No), Manufacturer, Model Number, Serial Number"]
[null,null,"23.","Enter Manual J Btu Cooling"]
[null,null,"24.","Enter Manual J Btu Heating"]
[]
[null,"Geothermal - Water Heating"]
[null,null,"1.","Select Application Type"]
[null,null,null,"• ","Geothermal System"]
[null,null,"2.","Select New Equipment Type"]
[null,null,null,"• ","Geothermal, Water to Water - Closed"]
[null,null,null,"• ","Geothermal, Water to Water - Open"]
[null,null,"3.","Enter Storage Tank Size (gallons)"]
[null,null,"4.","Enter AHRI Full Load Heating btuh"]
[null,null,"5.","Enter AHRI Reference No."]
[null,null,"6.","Enter AHRI Full Load COP"]
[null,null,"7.","Select Existing Equiment Type - Water Heater"]
[null,null,"8.","Enter Existing Equipment Storage Tank Size (gallons)"]
[null,null,"9.","Enter Existing Equipment UEF"]
[null,null,"10.","Enter the following new equipment specs:"]
[null,null,null,"- Condenser Manufacturer, Model Number, Serial Number"]
[null,null,null,"- Coil/Air Handler Manufacturer, Model Number, Serial Number"]
[null,null,"11.","Select Yes/No for Supplemental Electric Heat"]
[null,null,"12.","Enter the following Existing Equiment details:"]
[null,null,null,"- Operating (Yes/No), Manufacturer, Model Number, Serial Number"]
[null,"HPwES - Weatherization"]
[]
[null,null,"1.","If installing Weatherization measures, select Heating and Cooling System information from the drop down"]
[null,null,"*","If installing a Heat Pump, please select \"Home Comfort Heat Pump\" in dropdown"]
[null,null,"*","All Heating and Cooling system values will autopopulate based on Heat Pump installation or data inputs on Site Information tab"]
[null,null,null,"• ","If two cooling systems exist and only one heating system exists, enter \"0\" as the value for \"% of heating load\""]
[null,null,"2.","Enter all Duct Sealing data, if applicable, in gray cells"]
[null,null,"3.","Enter all Air Sealing data, if applicable, in grey cells"]
[null,null,"4.","Enter all Insulation data, if applicable, in grey cells"]
[]
[]
[null,"Submit completed application and any other required documents to HomeComfortLI@PSEG.com. Be sure to include All Electric Homes in the subject line."]
[]
[]
[null,"Application Version:",null,null,{"$f":"Development!A2","v":"1.0"},null,null,null,null,null,null,null,null,"Effective Date:",{"$f":"Development!A4","v":"1.1.23"}]

{"sheet":"Customer Information","index":2,"n_rows":50,"n_cols":12,"rows_kept":50,"cut":false,"hidden":false,"merged":[[33,10,33,11],[32,10,32,11],[9,0,9,1],[3,0,3,11],[4,0,4,1],[4,2,4,5],[4,10,4,11],[9,2,9,5],[5,0,5,1],[5,2,5,5],[5,10,5,11],[6,0,6,1],[6,2,6,5],[6,8,6,9],[7,0,7,1],[7,2,7,5],[19,10,19,11],[2,0,2,12],[7,8,7,9],[8,0,8,1],[8,2,8,5],[8,8,8,9],[8,10,8,11],[9,8,9,9],[9,10,9,11],[10,0,10,1],[10,2,10,5],[12,2,12,3],[17,0,17,1],[13,2,13,8],[13,9,13,11],[15,0,15,11],[17,2,17,5],[18,0,18,1],[18,2,18,5],[18,8,18,9],[19,0,19,1],[19,2,19,5],[31,10,31,11],[20,10,20,11],[21,10,21,11],[26,0,26,11],[27,0,27,1],[27,2,27,5],[29,0,29,11],[20,0,20,1],[20,2,20,5],[21,0,21,1],[21,2,21,5],[27,8,27,11],[23,0,23,11],[30,10,30,11],[49,3,49,5],[49,6,49,8],[34,0,34,11],[36,0,36,11],[37,0,37,1],[37,2,37,8],[39,0,39,1],[39,2,39,8],[39,10,39,11]]}
[{"$f":"Development!A3&\" Residential Efficiency Program\"","v":"2023 Residential Efficiency Program"}]
[{"$f":"\"All Electric Homes \nRebate Application, Version \"&Development!$A$2&\" \"","v":"All Electric Homes \nRebate Application, Version 1.0 "}]
["The Residential Efficiency Program offers rebates to PSEG Long Island customers installing efficient Whole House Heat Pumps and energy efficient electric appliances. All projects are subject to pre-inspections, pre-approval, and post inspections"]
["Customer Information"]
["Account No:",null,null,null,null,null,null,null,null,"Rate Code:"]
["Account Holder Name:",null,null,null,null,null,null,null,null,"Installation Date: "]
["Installation Address:",null,null,null,null,null,null,"City:",null,null,"Zip:"]
["Mailing Address:\n(If different than above)",null,null,null,null,null,null,"City:",null,null,"Zip:"]
[null,null,null,null,null,null,null,null,"Home Phone:"]
["Alternate Contact:",null,null,null,null,null,null,null,"Cell Phone:"]
["E-Mail Address:"]
[]
["Rebate Payment Method:"]
[]
[]
["General Contractor/Developer Information"]
[]
["Contractor Name:"]
["Contractor Address:",null,null,null,null,null,null,"City:",null,null,"Zip:"]
["Contact Name/Title:",null,null,null,null,null,null,null,null,"Business Phone:"]
["Tax ID #:",null,null,null,null,null,null,null,null,"Cell Phone:"]
["E-Mail Address:",null,null,null,null,null,null,null,null,"Fax:"]
[]
["I certify that the system to be installed will be in accordance with ACCA Manual J version 8.0 calculations and that the calculation was performed using ACCA-approved software. For Geothermal installations, I certify that the unit(s) are sized in accordance with ACCA Manual S 2nd Edition. I also certify that the unit(s) will be installed at the location indicated above.  I agree to the terms and conditions stated on this application (see eligibility requirements)."]
[]
[]
["Disclaimer: Terms and conditions are subject to change without notice, including early termination of this promotion. No additional fees apply. The rebate will be issued in the form of a check unless otherwise indicated. PSEG Long Island administers the rebate program on behalf of the Long Island Power Authority, the rebate program sponsor. Please visit www.psegliny.com/efficiency for more details. \n\nSignature also confirms that to the best of my knowledge this PSEG Long Account has not received any HPwES rebates in the past.  If rebates have already been claimed for the HPwES program, PSEG Long Island has the authority to deny additional rebate claims."]
["Contact Name/Title:",null,{"$f":"IF($C$20=\"\",\"\",$C$20)","v":""},null,null,null,null,"Signature: "]
[]
["Rebate"]
[null,null,null,null,null,null,null,null,null,"Qualifying Bonus Tier:",{"$f":"IF(References!BX12=\"\",\"\",References!BX12)","v":""}]
[null,null,null,null,null,null,null,null,null,"Total Estimated Customer Rebate Amount:",{"$f":"'Appliances Worksheet'!T9+'ASHP Load Calculations'!G6+'Smart T-Stats'!K34+HPwES!J56+HPwES!J109+HPwES!J148+'Space Heating Worksheet'!AL44+'Dedicated Water Heating'!AA41","v":0}]
[null,null,null,null,null,null,null,null,null,"Total Estimated Customer Rebate & Bonus Amount:",{"$f":"SUM(K32+'Appliances Worksheet'!V9+'ASHP Load Calculations'!G8+'Smart T-Stats'!K36+'Space Heating Worksheet'!AL46+'Dedicated Water Heating'!AA43)","v":0}]
[null,null,null,null,null,null,null,null,null,"Total Estimated Contractor Incentive Amount:",{"$f":"IF(K31=\"\",\"\",2000)","v":""}]
["*Disclaimer: Terms and conditions are subject to change without notice, including early termination of this promotion. No additional fees apply. The rebate may be issued in the form of a check. PSEG Long Island administers the rebate program on behalf of the Long Island Power Authority, the rebate program sponsor. Please visit www.PSEGLINY.com/Efficiency for more details."]
[]
["Certification Statement:  \nCustomer has read, understands and agrees to be bound by the Terms and Conditions set forth herein, and agrees to abide by them.  Customer certifies that  the unit(s) described on the proposal provided by a QIV Participating Contractor will be installed at the location indicated. By participating in this program, Customer agrees on behalf of itself and any successor in interest or assignee that PSEG Long Island obtains and/or retains ownership of all rights to existing and future emission credits, renewable energy rights to existing and future emissions credits, renewable energy green tags, tradable renewable certificates and/or any and all other environmental benefits associated with the installation of the ECMs. Customer certifies that the information provided in the herein is true and accurate.  Customer further certifies that the energy saving products described herein have or will be installed in the Home indicated above and will not be resold.  As specified herein, Customer agrees to permit PSEG Long Island to: (1) verify the purchase invoices and product installations and (2) upon request, install and remove load-monitoring equipment at the Home.  Customer acknowledges that the rights and obligations in this application shall be binding upon assignees, successors and future owners of the Home.  Customer agrees to include restrictions contained in this agreement in any leases, sales, contracts, or other similar documents relating to the use and ownership of the Home.  Customer acknowledge that, consistent with PSEG Long Island’s Efficiency Long Island program policies and procedures, PSEG Long Island may pro-rate a rebate or incentive (the “Rebate”) if the Customer purchases less than its full electric requirements from PSEG Long Island.  Customer further acknowledges that PSEG Long Island may require the Customer to repay all or a portion of the Rebate received if, within five (5) years of receipt of the Rebate, the Customer ceases purchasing its full electric requirements from PSEG Long Island or increases its use of electric power from non-PSEG Long Island sources at the Home, other than through the Long Island Choice Program.\n"]
["Account Holder Name:\n(Print)"]
[]
["Customer Signature:\nDuly authorized representative",null,null,null,null,null,null,null,null,"Date:"]
[]
[]
[]
[]
[]
[]
[]
[null,null,null,null,null,null,null,null,null,"For PSEG Long Island use only:","Application ID:"]
[]
["Application Version:",{"$f":"Development!A2","v":"1.0"},null,null,null,null,null,null,null,null,"Effective:",{"$f":"Development!A4","v":"1.1.23"}]

{"sheet":"Contractor Information","index":3,"n_rows":50,"n_cols":11,"rows_kept":50,"cut":false,"hidden":false,"merged":[[17,10,17,11],[9,0,9,1],[9,2,9,5],[9,10,9,11],[16,0,16,1],[16,2,16,5],[16,8,16,9],[17,0,17,1],[17,2,17,5],[2,0,2,12],[13,0,13,11],[15,0,15,1],[15,2,15,5],[7,0,7,1],[7,2,7,5],[7,10,7,11],[8,0,8,1],[8,2,8,5],[8,10,8,11],[3,0,3,11],[5,0,5,1],[5,2,5,5],[6,0,6,1],[6,2,6,5],[6,8,6,9],[18,0,18,1],[18,2,18,5],[18,10,18,11],[19,0,19,1],[19,2,19,5],[19,10,19,11],[23,0,23,11],[25,0,25,1],[25,2,25,5],[26,0,26,1],[26,2,26,5],[26,8,26,9],[27,0,27,1],[27,2,27,5],[27,10,27,11],[28,0,28,1],[28,2,28,5],[28,10,28,11],[37,10,37,11],[29,0,29,1],[29,2,29,5],[29,10,29,11],[33,0,33,11],[35,0,35,1],[35,2,35,5],[36,0,36,1],[36,2,36,5],[36,8,36,9],[37,0,37,1],[37,2,37,5],[38,0,38,1],[38,2,38,5],[38,10,38,11],[39,0,39,1],[39,2,39,5],[39,10,39,11],[43,0,43,11],[45,0,45,1],[45,2,45,5],[46,0,46,1],[46,2,46,5],[46,8,46,9],[49,0,49,1],[49,2,49,5],[49,10,49,11],[47,0,47,1],[47,2,47,5],[47,10,47,11],[48,0,48,1],[48,2,48,5],[48,10,48,11]]}
[{"$f":"Development!A3&\" Residential Efficiency Program\"","v":"2023 Residential Efficiency Program"}]
[{"$f":"\"All Electric Homes \nRebate Application, Version \"&Development!$A$2","v":"All Electric Homes \nRebate Application, Version 1.0"}]
["Enter all Contractor Information using the below fields"]
["Home Comfort Partner"]
[]
["Contractor Name:"]
["Contractor Address:",null,null,null,null,null,null,"City:",null,null,"Zip:"]
["Contact Name/Title:",null,null,null,null,null,null,null,null,"Business Phone:"]
["Tax ID #:",null,null,null,null,null,null,null,null,"Cell Phone:"]
["E-Mail Address:",null,null,null,null,null,null,null,null,"Fax:"]
[]
[]
[]
["Geothermal Participating Contractor"]
[]
["Contractor Name:"]
["Contractor Address:",null,null,null,null,null,null,"City:",null,null,"Zip:"]
["Contact Name/Title:",null,null,null,null,null,null,null,null,"Business Phone:"]
["Tax ID #:",null,null,null,null,null,null,null,null,"Cell Phone:"]
["E-Mail Address:",null,null,null,null,null,null,null,null,"Fax:"]
[]
[]
[]
["Home Performance with ENERGY STAR Partner"]
[]
["Contractor Name:"]
["Contractor Address:",null,null,null,null,null,null,"City:",null,null,"Zip:"]
["Contact Name/Title:",null,null,null,null,null,null,null,null,"Business Phone:"]
["Tax ID #:",null,null,null,null,null,null,null,null,"Cell Phone:"]
["E-Mail Address:",null,null,null,null,null,null,null,null,"Fax:"]
[]
[]
[]
["Heat Pump Water Heater/Tankless Water Heater Installation Contractor"]
[]
["Contractor Name:"]
["Contractor Address:",null,null,null,null,null,null,"City:",null,null,"Zip:"]
["Contact Name/Title:",null,null,null,null,null,null,null,null,"Business Phone:"]
["Tax ID #:",null,null,null,null,null,null,null,null,"Cell Phone:"]
["E-Mail Address:",null,null,null,null,null,null,null,null,"Fax:"]
[]
[]
[]
["Pool Heater Installation Contractor"]
[]
["Contractor Name:"]
["Contractor Address:",null,null,null,null,null,null,"City:",null,null,"Zip:"]
["Contact Name/Title:",null,null,null,null,null,null,null,null,"Business Phone:"]
["Tax ID #:",null,null,null,null,null,null,null,null,"Cell Phone:"]
["E-Mail Address:",null,null,null,null,null,null,null,null,"Fax:"]

{"sheet":"Site Information","index":4,"n_rows":56,"n_cols":12,"rows_kept":56,"cut":false,"hidden":false,"merged":[[11,0,11,1],[11,2,11,3],[10,7,10,9],[9,4,9,6],[11,4,11,6],[9,9,9,10],[9,2,9,3],[9,0,9,1],[9,11,9,13],[3,0,3,11],[5,0,5,1],[5,2,5,3],[9,7,9,8],[7,0,7,1],[7,2,7,3],[5,4,5,7],[23,2,23,3],[15,2,15,3],[25,0,25,11],[28,1,28,4],[13,2,13,3],[21,2,21,3],[15,9,15,10],[54,0,54,11],[30,9,30,10],[36,2,36,3],[48,2,48,3],[32,9,32,10],[34,9,34,10],[32,2,32,3],[34,2,34,3],[1,0,1,4],[7,7,7,8],[7,9,7,10],[55,3,55,5],[17,2,17,3],[26,2,26,8],[28,7,28,9],[30,2,30,3],[40,1,40,4],[40,7,40,9],[42,2,42,3],[42,9,42,10],[44,2,44,3],[44,9,44,10],[46,2,46,3],[46,9,46,10]]}
[{"$f":"Development!A3&\" Residential Efficiency Program\"","v":"2023 Residential Efficiency Program"}]
[{"$f":"\"All Electric Homes \nRebate Application, Version\"&Development!A2","v":"All Electric Homes \nRebate Application, Version1.0"}]
[]
["Site Information"]
[]
["Residence Type:",null,"Select…",null,{"$f":"IF(C6=\"New Construction\",\"\",IF(C6=\"Select…\",\"\",IF(C6=\"Existing Building\",\"If residence type is existing building, please contact a PSEG Long Island representative.\")))","v":""}]
[]
["Size of Home (sq. ft.)",null,null,null,null,null,null,"Number of Residences:"]
[]
["Project Type - Heat Pump*:",null,"Select…",null,{"$f":"IF(C10=\"Partial House\",\"\",IF(C10=\"Whole House\",\"\",IF(C10=\"Select…\",\"\",IF(C10=\"Not Applicable\",\"Project must include Whole House Heat Pump to be eligible for rebates.\"))))","v":""},null,null,"Project Type - Electric Appliances:",null,"Select…",null,{"$f":"IF(J10=\"Yes\",\"\",IF(J10=\"Select…\",\"\",IF(J10=\"Not Applicable\",\"Project must include appliances to be eligible for rebates.\")))","v":""}]
["*The Designed Heating Manual J must meet 90% of the Heating Load."]
["Project Type - Weatherization:",null,"Select…",null,{"$f":"IF(C12=\"Not Applicable\",\"\",IF(C12=\"Select…\",\"\",IF(C12=\"Home Performance\",\"Home Performance projects are eligible for existing residences only.\")))","v":""}]
[]
["Income Eligible?",null,"No",null,{"$f":"IF(OR(C14=\"NO\",C14=\"Select…\"),\"\", IF(C14=\"YES\", \"Refer to Required Documents for Verification Documents\",\"\"))","v":""}]
[]
["Existing Primary Heating  Equipment:",null,"Select…",null,null,null,null,"Fossil Fuel Heater Removed?",null,"Select…",null,{"$f":"IF(J16=\"Yes\",\"\",IF(J16=\"Select…\",\"\",IF(J16=\"New Construction\",\"\",IF(J16=\"No\",\"Fossil Fuel Heater must be removed to be eligible for rebates.\"))))","v":""}]
[]
["Existing Primary Cooling Equipment:",null,"Select…"]
[]
[]
[]
["Existing Secondary Heating  Equipment:",null,"Select…"]
[]
["Existing Secondary Cooling Equipment:",null,"Select…"]
[]
["Existing Equipment Information"]
[]
[]
[null,"Primary Heating System Information",null,null,null,null,null,"Primary Cooling System Information"]
[]
["Heating Capacity:",null,null,null,"(btuh)",null,null,"Cooling Capacity:",null,null,null,"(btuh)"]
[]
["HSPF:\n*For Electric Heat Pumps",null,null,null,null,null,null,"SEER:"]
[]
["COP:\n*For Electric Heating",null,null,null,null,null,null,"EER:"]
[]
["AFUE:\n*For Fossil Fuel Heating"]
[]
[]
[]
[null,"Secondary Heating System Information",null,null,null,null,null,"Secondary Cooling System Information"]
[]
["Heating Capacity:",null,null,null,"(btuh)",null,null,"Cooling Capacity:",null,null,null,"(btuh)"]
[]
["HSPF:\n*For Electric Heat Pumps",null,null,null,null,null,null,"SEER:"]
[]
["COP:\n*For Electric Heating",null,null,null,null,null,null,"EER:"]
[]
["AFUE:\n*For Fossil Fuel Heating"]
[]
[]
[]
[]
[]
[]
["Application Version:","=Development!A2",null,null,null,null,null,null,null,null,"Effective:",{"$f":"Development!A4","v":"1.1.23"}]

{"sheet":"Equipment Selection","index":5,"n_rows":86,"n_cols":1,"rows_kept":86,"cut":false,"hidden":false,"merged":[[85,0,85,11],[45,9,45,10],[25,0,25,11],[26,2,26,8],[28,1,28,4],[28,7,28,9],[34,9,34,10],[34,2,34,3],[98,0,98,11],[99,3,99,5],[30,2,30,3],[30,9,30,10],[32,2,32,3],[32,9,32,10],[47,2,47,3],[47,9,47,10],[38,0,38,11],[39,2,39,8],[68,0,68,11],[41,1,41,4],[41,7,41,9],[43,2,43,3],[43,9,43,10],[45,2,45,3],[23,2,23,3],[23,9,23,10],[17,2,17,8],[19,1,19,4],[19,7,19,9],[21,2,21,3],[21,9,21,10],[16,0,16,11],[14,7,14,9],[15,0,15,1],[15,2,15,3],[15,7,15,8],[15,9,15,10],[13,0,13,1],[13,2,13,3],[13,4,13,6],[13,7,13,8],[13,9,13,10],[3,0,3,11],[6,0,6,11],[11,0,11,1],[11,2,11,3],[11,7,11,8],[11,9,11,10],[7,0,7,11],[9,0,9,1],[9,2,9,3]]}
[{"$f":"Development!A3&\" Residential Efficiency Program\"","v":"2023 Residential Efficiency Program"}]
[{"$f":"\"All Electric Homes Rebate Application, Version \"&Development!A2","v":"All Electric Homes Rebate Application, Version 1.0"}]
[]
["All Electric Homes Equipment Checklist"]
[]
[]
[{"$f":"IF(References!BU13,\"This Project qualifies for the \"&References!BX12&\" bonus.\",\"This Project is missing \"&References!BT25&\".\")","v":"This Project is missing Space Heating and Air Conditioning, Water Heating, Refrigerators, Clothes Washers,Clothes Dryers, Dishwashers, Cooking Components, LED Lighting, and Thermostat Controls."}]
["Space Heating & Air Conditioning (Required):"]
[]
[]
[]
[]
[]
[]
[]
[]
["Smart HVAC Controls (Required):"]
[]
[]
[]
[]
[]
[]
[]
[]
["Water Heating (Required):"]
[]
[]
[]
[]
[]
[]
[]
[]
[]
[]
[]
[]
["Appliances (Required):"]
[]
["Refrigerator (Choose one):"]
[]
[]
[]
["Clothes Washer (Choose One): "]
[]
[]
[]
["Clothes Dryer (Choose One): "]
[]
[]
[]
["Dish Washer (Choose One): "]
[]
[]
[]
["Cooking (Choose One): "]
[]
[]
[]
[]
[]
[]
["Lighting (Choose One): "]
[]
[]
[]
[]
["Add-on Appliances (Optional):"]
[]
[]
[]
[]
[]
[]
[]
[]
[]
[]
[]
[]
[]
[]
[]
[]
["Home Performance with ENERGY STAR (Optional for Existing Residence Only):"]

{"sheet":"Ts and Cs","index":6,"n_rows":30,"n_cols":11,"rows_kept":30,"cut":false,"hidden":false,"merged":[[13,2,13,10],[17,2,17,10],[16,2,16,10],[4,2,4,10],[5,2,5,10],[14,2,14,10],[6,2,6,10],[7,2,7,10],[9,2,9,10],[11,2,11,10],[12,2,12,10],[15,2,15,10],[8,2,8,10],[10,2,10,10],[33,1,33,11],[35,1,35,11],[45,1,45,11],[18,2,18,10],[19,2,19,10],[20,2,20,10],[21,2,21,10],[22,2,22,10],[32,1,32,11],[29,3,29,5],[29,6,29,8],[30,1,30,11],[36,1,36,11],[23,2,23,10],[79,1,79,11],[64,1,64,11],[66,1,66,11],[67,1,67,11],[69,1,69,11],[71,1,71,11],[75,1,75,11],[61,1,61,11],[77,1,77,11],[78,1,78,11],[63,1,63,11],[39,1,39,11],[41,1,41,11],[54,1,54,11],[55,1,55,11],[59,1,59,11],[51,1,51,11],[53,1,53,11],[47,1,47,11],[43,1,43,11]]}
[{"$f":"Development!$A$3&\" Residential Efficiency Program\"","v":"2023 Residential Efficiency Program"}]
[{"$f":"'Customer Information'!A2:H2","v":"All Electric Homes \nRebate Application, Version 1.0 "}]
["Terms and Conditions"]
[]
[null,"1.",{"$f":"\"Units must be installed on or after \"&Development!A4","v":"Units must be installed on or after 1.1.23"}]
[null,"2.","The participating Customer must have or obtain a PSEG Long Island residential electric account prior to payment"]
[null,"3.","Qualifying ASHP units must be listed in the AHRI directory at the time of installation (Visit www.ahridirectory.org/ to verify equipment eligibility). Program Manager document review and approval required"]
[null,"4.","Split ASHP systems must be installed with the matching pieces specified in the AHRI directory at the time of installation"]
[null,"5.","If proposed equipment is a Cold Climate Air Source Heat Pump (ASHP), equipment must be listed with NEEP and visible on its Cold Climate Air Source Heat Pump Specifications Product Listing: www.NEEP.org"]
[null,"6.","Rebates and incentives apply only to installations completed within the effective dates of this rebate application "]
[null,"7.","The heat pump unit and air handler / fan coil must both be installed new. Partial system replacements do not qualify"]
[null,"8.","All qualifying units installed at a residence must be documented on the same application (additional sheets may be attached if necessary)"]
[null,"9.","Retrofit of systems less than five years old that were previously rebated by PSEG Long Island are not eligible for another rebate unless the SEER level of the replacement unit is higher than the existing unit by at least 1 full SEER level"]
[null,"10.","Participating Contractors must use an ACCA approved Manual J version 8 software package to perform the load calculation, and then size the unit(s) accordingly \n(Visit http://www.acca.org/software/ for a current list of ACCA approved Manual J version 8 software) "]
[null,"11.","To qualify for Whole House ASHP rebates and incentives, integrated controls must be installed with the ASHP where there is a secondary/supplementary gas, oil, or propane heating system. The ASHP must be used for primary heating of the space. If integrated controls are not installed, the project will not be eligible for Whole House rebates and incentives. (Not applicable to homes with electric resistance heating.)"]
[null,"12.","Installation must be completed after the application has been preapproved."]
[null,"13.","Required Documents as outlined on the corresponding tab must be submited with this application"]
[null,"14.","PSEG Long Island reserves the right to inspect and test the equipment installation and review the original contract in order to ensure compliance with program requirements. Failure to allow PSEG Long Island access to the equipment or original contract will result in denial of the rebate application"]
[null,"15.","PSEG Long Island is not responsible for any tax liability imposed as a result of rebate payments"]
[null,"16.","PSEG Long Island reserves the right to use the Customer rebate to credit accounts in arrears"]
[null,"17.","Please allow up to 60 days for the delivery of the rebate check or bill credit"]
[null,"18.",{"$f":"\"Applications must be received by December 31, \"&Development!$A$3","v":"Applications must be received by December 31, 2023"}]
[null,"19.","PSEG Long Island reserves the right to modify or withdraw these rebates and incentives, or to adjust the eligibility requirements, at any time"]
[null,"20.","By providing a telephone number you are giving consent to be contacted at that number about matters that are closely related to the utility service"]
[]
[]
[]
[]
[]
["Application Version:",null,{"$f":"Development!$A$2","v":"1.0"},null,null,null,null,null,null,"Effective:",{"$f":"Development!$A$4","v":"1.1.23"}]

{"sheet":"Required Documents","index":7,"n_rows":50,"n_cols":8,"rows_kept":50,"cut":false,"hidden":false,"merged":[[43,1,43,8],[42,1,42,7]]}
[{"$f":"Development!$A$3&\" Residential Efficiency Program\"","v":"2023 Residential Efficiency Program"}]
[{"$f":"'Customer Information'!A2:H2","v":"All Electric Homes \nRebate Application, Version 1.0 "}]
[null,"Required Documents Checklist"]
[null,"Required Documents for Pre Approval"]
[null,"Document:",null,"Responsible Party"]
[null,null,null,"Customer/Applicant"]
[null,null,null,"Customer/Applicant"]
[null,null,null,"Customer/Applicant"]
[null,null,null,"Home Comfort Partner/Geothermal Partner"]
[null,null,null,"Customer/Applicant"]
[null,null,null,"Customer/Applicant and PSEG Long Island Representative"]
[null,null,null,"Applicant"]
[null,null,null,"Geothermal Partner"]
[null,null,null,"Geothermal Partner"]
[null,null,null,"Geothermal Partner"]
[null,null,null,"Geothermal Partner"]
[null,"*Please note, if installing Geothermal System and invoice for well drilling is not provide, system will not be eligible for a rebate"]
[]
[null,"Required Documents for Payment"]
[null,"Document:",null,"Responsible Party"]
[null,null,null,"Customer/Applicant"]
[null,null,null,"Applicant"]
[null,null,null,"Applicant"]
[null,null,null,"Home Comfort Partner"]
[null,null,null,"Geothermal Partner"]
[null,null,null,"Customer/Applicant and PSEG Long Island Representative"]
[]
[]
[null,"Required Documents for Home Performance with ENERGY STAR Pre-Approval"]
[null,"Document:",null,"Responsible Party"]
[null,null,null,"Customer/HPwES Partner"]
[null,null,null,"Customer/HPwES Partner"]
[null,null,null,"Customer/HPwES Partner"]
[null,null,null,"Customer/HPwES Partner"]
[]
[null,"Required Documents for Home Performance with ENERGY STAR Payment"]
[null,"Document:",null,"Responsible Party"]
[null,null,null,"HPwES Partner"]
[null,null,null,"HPwES Partner"]
[null,null,null,"HPwES Partner"]
[]
[]
[null,"PSEG Long Island may require additional documentation not listed above as deemed necessary to properly process any rebates."]
[null,"Any hard copy documents provided by Customer must be scanned and emailed  to PSEG Long Island or uploaded to the Lead Partner Portal by a participating Partner"]
[]
[]
[]
[]
[]
[null,"Application Version:",{"$f":"Development!$A$2","v":"1.0"},null,null,null,"Effective:",{"$f":"Development!$A$4","v":"1.1.23"}]

{"sheet":"AssignmentForm","index":8,"n_rows":41,"n_cols":12,"rows_kept":41,"cut":false,"hidden":true,"merged":[[40,3,40,5],[40,6,40,8],[17,8,17,9],[21,10,21,11],[28,0,28,1],[28,2,28,8],[28,10,28,11],[29,1,29,2],[29,3,29,5],[29,6,29,8],[29,9,29,10],[30,0,30,1],[30,2,30,8],[32,0,32,1],[32,2,32,8],[32,10,32,11],[20,0,20,11],[23,1,23,11],[26,0,26,1],[26,2,26,8],[27,0,27,1],[16,0,16,1],[16,2,16,5],[17,0,17,1],[17,2,17,5],[16,8,16,9],[14,0,14,1],[14,2,14,5],[14,8,14,9],[15,0,15,1],[15,2,15,5],[15,8,15,9],[9,10,9,11],[12,0,12,11],[13,0,13,1],[13,2,13,5],[13,8,13,10],[9,0,9,1],[9,2,9,5],[9,8,9,9],[8,2,8,5],[8,8,8,9],[8,10,8,11],[5,0,5,1],[5,2,5,5],[5,8,5,9],[6,0,6,1],[6,2,6,5],[6,8,6,9],[7,2,7,5],[7,8,7,9],[7,10,7,11],[8,0,8,1],[7,0,7,1],[3,0,3,11],[4,0,4,1],[4,2,4,5],[4,10,4,11],[2,0,2,12]]}
[{"$f":"Development!$A$3&\" Residential Efficiency Program\"","v":"2023 Residential Efficiency Program"}]
["All Electric Homes Assignment Form"]
["The Residential Efficiency Program offers rebates to PSEG Long Island customers installing efficient Whole House Heat Pumps and energy efficient electric appliances. All projects are subject to pre-inspections, pre-approval, and post inspections"]
["Customer Information"]
["Customer Name:",null,{"$f":"IF('Customer Information'!C6=\"\",\"\",'Customer Information'!C6)","v":""}]
["Installation Address:",null,{"$f":"IF('Customer Information'!C7=\"\",\"\",'Customer Information'!C7)","v":""},null,null,null,null,"City:",{"$f":"IF('Customer Information'!I7=\"\",\"\",'Customer Information'!I7)","v":""},null,"Zip:",{"$f":"IF('Customer Information'!L7=\"\",\"\",'Customer Information'!L7)","v":""}]
["Mailing Address:\n(If different than above)",null,{"$f":"IF('Customer Information'!C8=\"\",\"\",'Customer Information'!C8)","v":""},null,null,null,null,"City:",{"$f":"IF('Customer Information'!I8=\"\",\"\",'Customer Information'!I8)","v":""},null,"Zip:",{"$f":"IF('Customer Information'!L8=\"\",\"\",'Customer Information'!L8)","v":""}]
[null,null,{"$f":"IF('Customer Information'!C9=\"\",\"\",'Customer Information'!C9)","v":""},null,null,null,null,null,"Home Phone:",null,{"$f":"IF('Customer Information'!K9=\"\",\"\",'Customer Information'!K9)","v":""}]
["Alternate Contact:",null,{"$f":"IF('Customer Information'!C10=\"\",\"\",'Customer Information'!C10)","v":""},null,null,null,null,null,"Cell Phone:",null,{"$f":"IF('Customer Information'!K10=\"\",\"\",'Customer Information'!K10)","v":""}]
["E-Mail Address:",null,{"$f":"IF('Customer Information'!C11=\"\",\"\",'Customer Information'!C11)","v":""}]
[]
[]
["Developer/General Contractor Information"]
["Contractor Name:",null,{"$f":"IF('Customer Information'!C18=\"\",\"\",'Customer Information'!C18)","v":""}]
["Contractor Address:",null,{"$f":"IF('Customer Information'!C19=\"\",\"\",'Customer Information'!C19)","v":""},null,null,null,null,"City:",{"$f":"IF('Customer Information'!I19=\"\",\"\",'Customer Information'!I19)","v":""},null,"Zip:",{"$f":"IF('Customer Information'!L19=\"\",\"\",'Customer Information'!L19)","v":""}]
["Contact Name/Title:",null,{"$f":"IF('Customer Information'!C20=\"\",\"\",'Customer Information'!C20)","v":""},null,null,null,null,"Business Phone:",{"$f":"IF('Customer Information'!K20=\"\",\"\",'Customer Information'!K20)","v":""}]
["Tax ID #:",null,{"$f":"IF('Customer Information'!C21=\"\",\"\",'Customer Information'!C21)","v":""},null,null,null,null,"Cell Phone:",{"$f":"IF('Customer Information'!K21=\"\",\"\",'Customer Information'!K21)","v":""}]
["E-Mail Address:",null,{"$f":"IF('Customer Information'!C22=\"\",\"\",'Customer Information'!C22)","v":""},null,null,null,null,"Fax:",{"$f":"IF('Customer Information'!K22=\"\",\"\",'Customer Information'!K22)","v":""}]
[]
[]
["Rebate"]
[null,null,null,null,null,null,null,null,null,"Total Estimated Customer Rebate Amount (Calculated from Equipment Worksheets and Smart Thermostat Worksheet):",{"$f":"IF('Customer Information'!K32=\"\",\"\",'Customer Information'!K32)","v":0}]
[]
[null,"As the payee of the above referenced Home Comfort Rebate, I, Customer, hereby assign my rights and interest in the payment of said rebate to Assignee as indicated below.\n \nI certify that the electric account listed above is not in arrears and that I have supplied the contractor with a copy of the latest PSEGLI bill for the listed account, showing that the account is active and that there is no previous balance owed on the account.  Rebates can not be assigned to the contractor if the PSEGLI account is in arrears.\n\nIf the PSEGLI account goes into arrears while the rebate is being processed, PSEGLI will apply the Home Comfort Rebate to those arrears before remitting the balance of the rebate, if any, to my Assignee.  I also understand that PSEGLI’s application of all, or a portion of, the Rebate to any arrears on my PSEGLI account does not reduce the amount I am responsible to pay my Assignee (I will still owe my contractor the Rebate amount applied to my PSEGLI account). Please forward my rebate to the Assignee listed directly above. \n\nI also understand that I am responsible to inform PSEGLI (via email to homecomfortli@pseg.com or in writing to PSEG Long Island, Home Comfort Program, 395 N Service Rd, Melville, NY 11747) of any changes to this assignment.\n"]
[]
[]
["Customer Name*:\n(Print)"]
["*Must be Account Holder of Record"]
["Accepted and Agreed To Payee:\n(Customer Signature)",null,null,null,null,null,null,null,null,"Date:"]
[]
["Contractor Name\n(Print)",null,{"$f":"IF('Customer Information'!C20=\"\",\"\",'Customer Information'!C20)","v":""}]
[]
["Accepted and Agreed To Assignee:\n(Duly Authorized Representative Signature)",null,null,null,null,null,null,null,null,"Date:"]
[]
[]
[]
[]
[]
[]
[]
["Application Version:",{"$f":"Development!$A$4&\"_\"&Development!$A$2","v":"1.1.23_1.0"},null,null,null,null,null,null,null,null,"Effective:",{"$f":"Development!$A$4","v":"1.1.23"}]

{"sheet":"Guidelines ","index":9,"n_rows":119,"n_cols":12,"rows_kept":119,"cut":false,"hidden":false,"merged":[[38,1,38,11],[1,61,1,70],[0,61,0,70],[18,1,18,11],[7,1,7,9],[32,1,32,11],[25,1,25,6],[27,1,27,11],[0,41,0,50],[0,51,0,60],[24,1,24,10],[0,241,0,250],[118,3,118,5],[118,6,118,8],[0,21,0,30],[0,31,0,40],[86,0,86,11],[1,31,1,40],[35,1,35,11],[114,1,114,11],[1,21,1,30],[103,1,103,10],[36,1,36,2],[17,1,17,11],[43,1,43,10],[104,1,104,6],[105,1,105,6],[0,211,0,220],[0,251,0,255],[0,151,0,160],[1,81,1,90],[1,91,1,100],[1,101,1,110],[1,231,1,240],[1,181,1,190],[1,191,1,200],[0,221,0,230],[0,111,0,120],[0,161,0,170],[0,141,0,150],[1,141,1,150],[1,151,1,160],[0,231,0,240],[0,171,0,180],[0,181,0,190],[0,191,0,200],[0,201,0,210],[0,131,0,140],[0,121,0,130],[1,131,1,140],[1,121,1,130],[1,71,1,80],[0,101,0,110],[0,91,0,100],[0,71,0,80],[0,81,0,90],[106,1,106,6],[1,251,1,255],[16,1,16,11],[1,161,1,170],[1,171,1,180],[1,201,1,210],[1,211,1,220],[1,221,1,230],[1,241,1,250],[1,111,1,120],[1,51,1,60],[1,41,1,50],[69,1,69,10],[19,1,19,11],[26,1,26,11],[46,1,46,11]]}
[{"$f":"Development!$A$3&\" Residential Efficiency Program\"","v":"2023 Residential Efficiency Program"}]
[{"$f":"'Customer Information'!A2:H2","v":"All Electric Homes \nRebate Application, Version 1.0 "}]
[]
["Rebate Guidelines For All Projects"]
["*",{"$f":"\"Units/Measures must be installed on or after \"&Development!$A$4","v":"Units/Measures must be installed on or after 1.1.23"}]
[null,"Please submit the worksheet effective during the time of installation."]
["*","Total rebates will not exceed 70% of total project cost."]
["*","Please note that installing an ASHP may qualify you for a new reduced electric rate code. When the ASHP is used for the home’s primary heating, the home will use more electricity, so PSEG Long Island offers an electric heat rate which is lower than standard rates, and which will save on your electric bill. Please reach out to us for details."]
["*","Projects are subject to pre-inspection, post inspection, and pre-approval."]
[null,"*Equipment should not be purchased and Project should not be started until after the Pre-Approval Letter is delivered. Rebates for pre-purchased and/or installed equipment are not permitted. "]
["*","A PSEG Long Island representative may contact you to schedule a post-inspection."]
["*","Rebates are available to New Construction single family residences and existing building single family residences that convert fossil fuel systems (Natural Gas/Oil/Propane) to all electric. "]
["*","To qualify for rebates and incentives, there should be no backup fossil fuel connection on site."]
[null,"* Backup connection for a generator is allowable."]
[null,"*Measures are available in either a Tier I or Tier II structure - Participation bonuses are available for all rebated measures; Refer to the Eligibility Table for more information"]
["*","Premises must be serviced by a residential account/meter which must be in Customer's name before final payment."]
["*","Complete Customer Information section of application and appropriate worksheet(s). Incomplete applications will not be accepted."]
["*","If the proposed equipment is listed in the measure-specific eligibility tables, the rebate amount will be determined according to corresponding worksheet, one of which must be completed for each measure type."]
["*","All measures must carry the appropriate designated Underwriters Laboratory (UL) or Electrical Testing Laboratory (ETL) label.\n"]
["*","Eligible equipment criteria may be updated or modified regularly. This Rebate Application will be updated, at a minimum but not limited to, quarterly."]
["*","Measure-specific eligibility requirements apply. Check each worksheet for measure-specific eligibility requirements."]
["*","All installed equipment must be electric end use only.\n"]
[null,"-Propane cooking equipment is allowable so long as there's an electric connection on site."]
["*","All required electric end use equipment must be installed; please refer to the \"Equipment Selection\" tab and the \"Eligibility Table\" tab."]
["*","All equipment must be installed in accordance with all applicable local, state, and national codes and ordinances.\n"]
["*","All equipment must be installed in a permanent building or structure."]
["*","Where eligible products are required to be listed with an approved rating agency (i.e. AHRI, ENERGY STAR; CEE), products must be installed and used in accordance with the rating condition for which it was approved."]
["*","Customers must agree to PSEG Long Island’s Terms and Conditions found within this application."]
["*","For Loan project, send all Loan ProFormas directly to EFS."]
[null,"Where Income Eligible Projects are submitted, all EFS Pre-Approval documents and Income Eligible Verification documents must be provided"]
[null,"* Income Eligible customers must meet the NYSERDA EmPower income eligibility requirements"]
[null,"https://www.nyserda.ny.gov/All-Programs/Programs/EmPower-New-York/Eligibility-Guidelines"]
["*","If customer has participated in any other state or utility sponsored rebate program, related to the technology in this application, please contact a PSEG Long Island Representative to determine whether the project is also eligible under this program."]
[]
["Additional Rebate Guidelines Home Comfort Whole House Cold Climate ASHP Equipment"]
["*","If proposed equipment is a Cold Climate Air Source Heat Pump (ASHP), equipment must be listed with NEEP and visible on its Cold Climate Air Source Heat Pump Specifications Product Listing:"]
[null,"www.NEEP.org"]
["*","Qualifying ASHP units must be listed in the AHRI directory at the time of installation (Visit www.ahridirectory.org/ to verify equipment eligibility); Program Manager document review and approval required."]
["*","SEER/EER/HSPF and SEER2/EER2/HSPF2 are all accepted efficieny values in this worksheet. Please specify which rating system will be used in the \"Rating Methodology\" field on the ASHP Equipment Information tab."]
["*","All Whole House equipment installations 17°F Maximum Heating Capacity must meet at least 90-120% of the Manual J designed heat load."]
[null,"-The 17⁰F Maximum Heating Capacity can be found on the NEEP Cold Climate list"]
[null,"- A Manual J is required for each residence or residence type."]
["*","All Cold Climate equipment rebates will be calculated using the 17⁰F Rated Heating Capacity."]
["*","To qualify for Whole House ASHP rebates and incentives, a Smart Thermostat or Control must be installed."]
[]
["Additional Rebate Guidelines for Whole House Geothermal Equipment"]
["*","Ground Source Heat Pumps must be installed by a Geothermal participating contractor.\n"]
["*","Contractor must hold IGSHPA Accredited Installer certification or plan to acquire this certification within 1 year. If the installer plans to acquire the certification in coming months, then the installer will be granted provisional status as a Geothermal participating"]
[null,"contactor.",null,null,null,null," "]
["*","Install properly sized qualifying equipment for the space being heated. Heat Pump may not be used exclusively for water heating."]
[null,"-Geothermal unit may use a Desuperheater for water heating; Please see Eligibility Table on Space Heating Worksheet for more details."]
["*","The geothermal heat pump system installer shall provide the customer with a written warranty of labor for a minimum of one (1) year from the date the service is performed and, for materials, and the equipment installed shall carry the full manufacturer’s warranty."]
["*","One application per residence every 5 years, unless new equipment efficiency exceeds the existing equipment efficiency by at least 1.0 EER value."]
["*","Desuperheaters must only be installed on residential electric tank-storage water heaters."]
["*","Desuperheater installation must comply with all local plumbing codes."]
["*","If installing Geothermal Water Heating with Geothermal Space Heating system.\n"]
[null,"- Water to Water - Closed system is eligible with a COP of 3.1 or higher."]
[null,"- Water to Water - Open system is eligible with a COP of 3.5 or higher."]
["*","Geothermal Water Heating is not eligible without installing a Geothermal Space Heating System."]
[]
["Additional Rebate Guidelines Water Heating"]
["*","Heat Pump Water Heater must be ENERGY STAR listed."]
[null,"- Limit of 1 HPWH per year."]
["*","Tankless Water Heater must carry Underwriters Laboratory (UL) or Electrical Testing Laboratory (ETL) label."]
[null,"- Limit of 3 < 12 kW unit per year; Limit of 1 > 12 kW  unit per year."]
["*","Please note, if the customer has received a rebate for this measure, previously in the program year of 2023, the customer is not eligible for a Water Heating rebate through this application."]
[]
["Additional Rebate Guidelines ENERGY STAR Appliances"]
["*","Appliance must be installed in pre-approved residence.\n"]
[null,"-Refer to Eligiblity Table tab for quantity limits and rebates."]
["*","Appliance must carry ENERGY STAR or Most Efficient designation (if applicable).\n"]
["*","Model must be on the qualified ENERGY STAR list at time of purchase (if applicable)."]
["*","The rebate amount cannot be more than 50% of the purchase price paid."]
["*","Solar Pool Covers and Pool Heaters do not have to be ENERGY STAR labeled to receive a rebate."]
["*","Please note, if the customer has received a rebate for appliances included in this program, previously in the program year of 2023, the customer is not eligible for additional rebates for the same measure."]
["*","To be eligible for a solar pool cover rebate in 2023, a solar pool cover must be installed with a Heat Pump Pool Heater or at a customer site that's received a Heat Pump Pool Heater through our program in the past. "]
[]
["Additional Rebate Guidelines Home Performance with ENERGY STAR Projects"]
["*","HPwES Customer may participate in the HPwES Program until their project/measure rebate cap has been met, as determined by the HPwES Program Manager."]
["*","Signed contract between customer and HPwES Partner is required."]
["*","Health & Safety Test form must be completed to be eligible for rebate/incentive."]
["*","Home Performance with ENERGY STAR rebates are eligible for existing residences only."]
[null,"- HPwES is not a requirement for the All Electric Homes program but is recommended for existing homes that convert to All Electric"]
[null,"- A Home Energy Audit should be conducted before participation in HPwES"]
[]
[]
["Program Requirements/Steps to Participate"]
[null,"Before Whole House Heat Pump equipment purchase and installation:"]
["*","Customer must choose a licensed HVAC Contractor (Home Comfort Partner, Geothermal Participating Contractor)."]
["*","Print, complete, sign and date the Customer Information section of Application and provide to installation contractor."]
["*","Home Comfort Partner/Geothermal Participating Contractor must perform the ACCA approved Manual J software calculation."]
["*","Manual J version 8 report, save document as: \"Manual_J_<customer name>.pdf\" (Home Comfort only)."]
["*","Home Comfort Partner/Geothermal Participating Contractor must ensure equipment is listed in the AHRI directory."]
["*","Home Comfort Partner/Geothermal Participating Contractor must ensure that split systems are installed with the matching pieces specified in the AHRI directory."]
["*","AHRI Certificate, save document as: \"AHRI_<customer name>.pdf\""]
["*","Home Comfort Partner/Geothermal Participating Contractor must install properly sized qualifying equipment."]
["*","Complete and submit the Assignment form (if applicable), save document as: \"Assignment_<customer name>.pdf\""]
[null,"Before Appliances/Water Heating equipment purchase and installation:"]
["*","Customer must choose a licensed contractor to install equipment/appliances."]
["*","Customer/contractor must confirm customer has not received rebates for appliances/equipment previously in the 2022 program year."]
[]
[null,"Once Project is Complete submit the following:"]
["*","If the installation differs from pre-approval, please submit new worksheet."]
["*","Invoices (must contain total cost, equipment make, model, & serial number as well as Customer name, installation address and date), \n  save document as: \"Invoice_<customer name>.pdf\""]
[null,"* If a Smart Thermostat is installed, ensure the Make, Model, and Serial Number is also listed on the invoice."]
["*","Home Comfort Partner must complete Airflow/Refrigerant and Equipment schedule worksheets from this application for all Ducted projects."]
["*","Geothermal Participating Contractor must complete the Loop Field Cx form."]
["*","Home Performance Partner must complete the Health & Safety Test Form."]
["*","Projection Completion Form (filled out and signed by Customer and Contractor), save document as: \"PCF_<customer name>.pdf\""]
[null,"For Home Comfort/Geothermal/Appliances/Water Heating Equipment please use the \"Project Completion Form\" tab and for HPwES please use the \"Project Completion Form HPwES\" tab."]
["*","Partners may submit documentation by completing an On Line Application via Partner Portal. If not submitting via Partner Portal On Line Application:"]
[null,"Contractor must electronically submit documents to:",null,null,"HomeComfortLI@pseg.com",null,"Subject Line should read: All Electric Home - Customer Name"]
[]
[]
[]
[]
[]
[]
["Application Version:",null,{"$f":"Development!$A$2","v":"1.0"},null,null,null,null,null,null,null,"Effective:",{"$f":"Development!$A$4","v":"1.1.23"}]

{"sheet":"Eligibility Table ","index":10,"n_rows":150,"n_cols":2,"rows_kept":150,"cut":false,"hidden":false,"merged":[[2,1,2,20],[58,1,58,17],[7,1,7,20]]}
[null,{"$f":"'Customer Information'!A1","v":"2023 Residential Efficiency Program"}]
[null,"All Electric Homes Eligibility Tables"]
[null,"*Pre and post verification of installed equipment is required. PSEG will accept photo verification in lieu of inspection. Where a Whole House installation is completed and electric energy efficiency measures are installed, the PSEG Long Island Inspector will need to access the inside of the home to verify the removal of the existing heating source and confirm installation of Smart Themostat."]
[null,"Eligibility Requirements"]
["*","No fossil fuel connection on site"]
[null,"*Backup generator connection allowed"]
["*","Eligible residences are either single family New Construction or Existing homes that undergo natural gas/oil/propane conversion to all electric"]
["*","All required equipment must be installed to qualify for either Tier I or Tier II incentive bonus; Bonus is based on required rebated measures only (Whole House Heat Pumps, Smart Thermostats, Water Heating Equipment, ENERGY STAR Clothes Dryer, Most Efficient Heat Pump Dryer, Most Efficient Clothes Washer)"]
[null,"Please note, not all measures are rebateable but are required"]
[null,"-The eligible Tier I or Tier II bonus will be applied to all rebateable measures"]
["*","All installed measures must be electric end use only\n"]
["*","Weatherization measures may be installed through the HPwES worksheet tab for existing residences only"]
[null,"- New Construction does not qualify"]
[null,"- HPwES participation is recommended but not required for All Electric Home Program"]
["*","A $2,000/Project Contractor Incentive is available upon successful project completion and PSEG Long Island validation"]
[null,"- If Project is completed by 12/31/2023, the contractor incentive may be doubled"]
[]
[]
[]
[]
[]
[]
[]
[]
[]
[]
[]
[]
[]
[]
[]
[]
[]
[null,"Eligibility Requirements - Whole House Air Source Heat Pump Installations"]
[]
["*","All Whole House equipment installations 17°F Maximum Heating Capacity must meet at least 90-120% of the Manual J designed heat load"]
[null,"-The 17⁰F Maximum Heating Capacity can be found on the NEEP Cold Climate list"]
["*","All Whole House Cold Climate Air Source Heat Pumps must be NEEP listed"]
[null,"-Rebates will be calculated using the 17⁰F Rated Heating Capacity for all Cold Climate systems"]
["*","Integrated Controls are required for all projects where a supplemental heating source is present"]
[null,"- Ducted ccASHPs may be paired with Integrated/Modulating, Integrated/Fixed, Freeze Stats, or Dual Fuel Thermostats to be eligible for Whole House rebates"]
[null,"- Ductless ccASHPs may be paired only with Integrated/Modulating to be eligibile for Whole House rebates"]
["*","An ACCA Manual J is required "]
[]
["*","Enhanced rebates are available to qualified Income Eligible customers "]
[null,"- Please see \"Required Documents\" tab for guidance on \"Income Eligible\" verification"]
["*","A per project contractor incentive is available for to all qualifying Home Comfort Partners (please note, the Contractor Incentive will be applied to the  equipment entered on the first line of the \" ASHP Equipment Information\" tab)"]
[]
[]
[]
[]
[]
[]
[]
[null,"Eligibility Requirements - Whole House Ground Source Heat Pump Installations"]
["*","Customer may choose to install a Whole House Geothermal System in place of a Cold Climate Whole House Air Source Heat Pump system"]
[null,"-Installation of GSHP in place of ccASHP is allowable and rebateable, this will not impact project Tier level."]
[null,"-Whole House Geothermal Systems are rebateable and eligible for the bonus; bonus will be calculated at $1k/ton for all systems regardless of actual GSHP rebate amount"]
["*","Contractor must hold IGSHPA Accredited Installer certification or plan to acquire this certification within 1 year. If the installer plans to acquire the certification in coming months, then the installer will be granted provisional status as a Geothermal participating contractor"]
["*","Install properly sized qualifying equipment for the space being heated. Heat Pump may not be used exclusively for water heating"]
[null,"-Geothermal unit may use a Desuperheater for water heating."]
[null,"- Desuperheaters must only be installed on residential electric tank-storage water heaters"]
["*","If installing Geothermal Water Heating with Geothermal Space Heating system please reference the tables below for eligbility criteria\n"]
["*","Geothermal Water Heating is not eligible without installing a Geothermal Space Heating System"]
[]
[]
[]
[]
[]
[]
[]
[]
[]
[]
[]
[]
[]
[]
[]
[]
[]
[]
[]
[]
[]
[null,"Eligibility Requirements - Water Heating"]
["*","Heat Pump Water Heater must be ENERGY STAR listed"]
[null,"- Limit of 1 HPWH per year"]
["*","Tankless Water Heater must carry Underwriters Laboratory (UL) or Electrical Testing Laboratory (ETL) label"]
[null,"- Limit of 3 < 12 kW unit per year; Limit of 1 > 12 kW  unit per year"]
["*","See Geothermal section for information regarding Geothermal Water Heating"]
[]
[]
[]
[]
[]
[]
[]
[]
[]
[null,"Eligibility Requirements - Electric  Appliances (Required and Add-On)"]
[]
["*","Appliance must carry ENERGY STAR or Most Efficient designation (if applicable)\n"]
["*","Model must be on the qualified ENERGY STAR list at time of purchase (if applicable)"]
["*","Lawn Equipment, Solar Pool Covers and Pool Heaters do not have to be ENERGY STAR labeled to receive a rebate"]
[null,"-Pool Equipment must be installed by eligible Dealer or Installer"]
["*","Rebates are not available for all required appliances, refer to the Tier I and Tier II eligibility tables (found at the top of this page) to confirm which measures must be installed"]
[]
[]
[]
[]
[]
[]
[]
[]
[]
[]
[]
[]
[]
[]
[]
[]
[]
[]
[]
[]
[]
[]
[]
[]
[]
[]
[]
[]
[]
[]
[]
[]
[null,"Eligibility Requirements - Home Performance with ENERGY STAR"]
[]
["*","HPwES participants should receive a Home Energy Assessment prior to HPwES participation"]
["*","Single-family homes in the PSEG LI territory with a primary heating fuel of oil, propane, or electric are eligible"]
[null,"- New Construction residences are not eligible"]
["*","Program financing is available for all eligible measures through NYSERDA:"]
[null,"http://www.energyfinancesolutions.com"]
["*","Eligible measures include Insulation, Air Sealing, and Duct Sealing"]
[null,"- Insulation must be accompanied by blower door assisted air sealing per BPI standard and must be installed in conjuction with comprehensive air sealing"]
[null,"- Air Sealing must includer Blower door tests assisted per BPI standards"]
[null,"- Duct Sealing is not permitted with duct tape, only UL181B mastic or tape is permissable; all ductwork in uncondtioned space must be duct sealed"]

{"sheet":"Appliances Worksheet","index":11,"n_rows":319,"n_cols":24,"rows_kept":319,"cut":false,"hidden":false,"merged":[[298,6,298,7],[298,9,298,10],[291,1,291,18],[294,6,294,7],[294,9,294,10],[295,6,295,7],[295,9,295,10],[296,6,296,7],[296,9,296,10],[297,6,297,7],[297,9,297,10],[310,6,310,7],[310,9,310,10],[303,1,303,18],[306,6,306,7],[306,9,306,10],[307,6,307,7],[307,9,307,10],[308,6,308,7],[308,9,308,10],[309,6,309,7],[309,9,309,10],[307,12,307,13],[308,12,308,13],[309,12,309,13],[310,12,310,13],[306,12,306,13],[3,1,3,20],[6,1,6,19],[15,1,15,20],[18,6,18,7],[18,11,18,12],[18,14,18,15],[18,17,18,18],[21,6,21,7],[21,11,21,12],[21,14,21,15],[21,17,21,18],[7,19,7,20],[8,19,8,20],[18,20,18,21],[19,20,19,21],[20,20,20,21],[21,20,21,21],[7,21,7,22],[8,21,8,22],[22,6,22,7],[22,11,22,12],[22,14,22,15],[22,17,22,18],[19,6,19,7],[19,11,19,12],[19,14,19,15],[19,17,19,18],[20,6,20,7],[20,11,20,12],[20,14,20,15],[20,17,20,18],[32,6,32,7],[32,9,32,10],[32,12,32,13],[32,15,32,16],[33,6,33,7],[33,9,33,10],[33,12,33,13],[33,15,33,16],[27,1,27,20],[30,6,30,7],[30,9,30,10],[30,12,30,13],[30,15,30,16],[31,6,31,7],[31,9,31,10],[31,12,31,13],[31,15,31,16],[44,6,44,7],[44,9,44,10],[44,12,44,13],[34,6,34,7],[34,9,34,10],[34,12,34,13],[34,15,34,16],[39,1,39,18],[42,6,42,7],[42,9,42,10],[42,12,42,13],[55,6,55,7],[55,9,55,10],[55,14,55,15],[55,17,55,18],[55,20,55,21],[56,6,56,7],[56,9,56,10],[56,14,56,15],[56,17,56,18],[56,20,56,21],[57,6,57,7],[57,9,57,10],[57,14,57,15],[57,17,57,18],[57,20,57,21],[58,6,58,7],[58,9,58,10],[58,14,58,15],[58,17,58,18],[58,20,58,21],[68,6,68,7],[68,9,68,10],[68,12,68,13],[68,15,68,16],[69,6,69,7],[69,9,69,10],[69,12,69,13],[69,15,69,16],[63,1,63,20],[66,6,66,7],[66,9,66,10],[66,12,66,13],[66,15,66,16],[67,6,67,7],[67,9,67,10],[67,12,67,13],[67,15,67,16],[70,6,70,7],[70,9,70,10],[70,12,70,13],[70,15,70,16],[75,1,75,20],[78,6,78,7],[78,9,78,10],[78,12,78,13],[78,15,78,16],[82,15,82,16],[81,18,81,19],[82,18,82,19],[79,6,79,7],[79,9,79,10],[79,12,79,13],[79,15,79,16],[80,6,80,7],[80,9,80,10],[80,12,80,13],[80,15,80,16],[80,18,80,19],[94,6,94,7],[94,9,94,10],[94,12,94,13],[92,6,92,7],[92,9,92,10],[92,12,92,13],[93,6,93,7],[93,9,93,10],[93,12,93,13],[104,6,104,7],[104,9,104,10],[104,12,104,13],[104,15,104,16],[105,6,105,7],[105,9,105,10],[105,12,105,13],[105,15,105,16],[99,1,99,20],[102,6,102,7],[102,9,102,10],[102,12,102,13],[102,15,102,16],[103,6,103,7],[103,9,103,10],[103,12,103,13],[103,15,103,16],[102,18,102,19],[103,18,103,19],[104,18,104,19],[105,18,105,19],[140,18,140,19],[141,18,141,19],[129,9,129,10],[129,12,129,13],[129,15,129,16],[130,6,130,7],[130,9,130,10],[130,12,130,13],[130,15,130,16],[138,12,138,13],[138,15,138,16],[138,18,138,19],[140,6,140,7],[140,9,140,10],[140,12,140,13],[140,15,140,16],[141,6,141,7],[141,9,141,10],[141,12,141,13],[141,15,141,16],[106,6,106,7],[106,9,106,10],[106,12,106,13],[106,15,106,16],[111,1,111,20],[114,9,114,10],[114,12,114,13],[114,15,114,16],[139,18,139,19],[115,9,115,10],[115,12,115,13],[115,15,115,16],[116,9,116,10],[116,12,116,13],[116,15,116,16],[117,9,117,10],[117,12,117,13],[117,15,117,16],[118,9,118,10],[118,12,118,13],[118,15,118,16],[135,1,135,20],[138,6,138,7],[138,9,138,10],[123,1,123,20],[126,6,126,7],[126,9,126,10],[126,12,126,13],[126,15,126,16],[127,6,127,7],[127,9,127,10],[127,12,127,13],[127,15,127,16],[128,6,128,7],[128,9,128,10],[128,12,128,13],[128,15,128,16],[129,6,129,7],[139,6,139,7],[139,9,139,10],[139,12,139,13],[139,15,139,16],[142,6,142,7],[142,9,142,10],[142,12,142,13],[142,15,142,16],[147,1,147,18],[150,6,150,7],[150,9,150,10],[151,6,151,7],[151,9,151,10],[150,12,150,13],[151,12,151,13],[142,18,142,19],[152,12,152,13],[153,12,153,13],[154,12,154,13],[159,1,159,20],[162,6,162,7],[162,9,162,10],[162,12,162,13],[163,6,163,7],[163,9,163,10],[163,12,163,13],[152,6,152,7],[152,9,152,10],[153,6,153,7],[153,9,153,10],[154,6,154,7],[154,9,154,10],[171,1,171,20],[174,6,174,7],[174,9,174,10],[174,12,174,13],[175,6,175,7],[175,9,175,10],[175,12,175,13],[164,6,164,7],[164,9,164,10],[164,12,164,13],[165,6,165,7],[165,9,165,10],[165,12,165,13],[166,6,166,7],[166,9,166,10],[166,12,166,13],[183,1,183,20],[186,6,186,7],[186,9,186,10],[186,12,186,13],[187,6,187,7],[187,9,187,10],[187,12,187,13],[176,6,176,7],[176,9,176,10],[176,12,176,13],[177,6,177,7],[177,9,177,10],[177,12,177,13],[178,6,178,7],[178,9,178,10],[178,12,178,13],[195,1,195,18],[198,6,198,7],[198,9,198,10],[198,12,198,13],[199,6,199,7],[199,9,199,10],[199,12,199,13],[188,6,188,7],[188,9,188,10],[188,12,188,13],[189,6,189,7],[189,9,189,10],[189,12,189,13],[190,6,190,7],[190,9,190,10],[190,12,190,13],[207,1,207,20],[210,6,210,7],[210,9,210,10],[210,12,210,13],[211,6,211,7],[211,9,211,10],[211,12,211,13],[200,6,200,7],[200,9,200,10],[200,12,200,13],[201,6,201,7],[201,9,201,10],[201,12,201,13],[202,6,202,7],[202,9,202,10],[202,12,202,13],[219,1,219,20],[222,6,222,7],[222,9,222,10],[222,12,222,13],[222,15,222,16],[223,6,223,7],[223,9,223,10],[223,12,223,13],[212,6,212,7],[212,9,212,10],[212,12,212,13],[213,6,213,7],[213,9,213,10],[213,12,213,13],[214,6,214,7],[214,9,214,10],[214,12,214,13],[224,6,224,7],[224,9,224,10],[224,12,224,13],[225,6,225,7],[225,9,225,10],[225,12,225,13],[226,6,226,7],[226,9,226,10],[226,12,226,13],[272,6,272,7],[272,9,272,10],[273,6,273,7],[273,9,273,10],[274,6,274,7],[274,9,274,10],[267,1,267,18],[270,6,270,7],[270,9,270,10],[271,6,271,7],[271,9,271,10],[285,6,285,7],[285,9,285,10],[279,1,279,18],[282,6,282,7],[282,9,282,10],[283,6,283,7],[283,9,283,10],[284,6,284,7],[284,9,284,10],[231,1,231,20],[234,6,234,7],[234,9,234,10],[234,12,234,13],[234,15,234,16],[235,6,235,7],[235,9,235,10],[235,12,235,13],[236,6,236,7],[236,9,236,10],[236,12,236,13],[237,6,237,7],[237,9,237,10],[237,12,237,13],[238,6,238,7],[238,9,238,10],[238,12,238,13],[243,1,243,20],[246,6,246,7],[246,9,246,10],[246,12,246,13],[246,15,246,16],[247,6,247,7],[247,9,247,10],[247,12,247,13],[248,6,248,7],[248,9,248,10],[248,12,248,13],[249,6,249,7],[249,9,249,10],[249,12,249,13],[261,6,261,7],[261,9,261,10],[261,12,261,13],[262,6,262,7],[262,9,262,10],[262,12,262,13],[250,6,250,7],[250,9,250,10],[250,12,250,13],[255,1,255,20],[258,6,258,7],[258,9,258,10],[258,12,258,13],[258,15,258,16],[259,6,259,7],[259,9,259,10],[259,12,259,13],[22,20,22,21],[30,18,30,19],[31,18,31,19],[32,18,32,19],[33,18,33,19],[34,18,34,19],[54,23,54,24],[55,23,55,24],[56,23,56,24],[51,1,51,20],[54,6,54,7],[54,9,54,10],[54,14,54,15],[54,17,54,18],[54,20,54,21],[45,6,45,7],[45,9,45,10],[45,12,45,13],[46,6,46,7],[46,9,46,10],[46,12,46,13],[43,6,43,7],[43,9,43,10],[43,12,43,13],[106,18,106,19],[57,23,57,24],[58,23,58,24],[66,18,66,19],[67,18,67,19],[68,18,68,19],[69,18,69,19],[70,18,70,19],[78,18,78,19],[79,18,79,19],[87,1,87,18],[90,6,90,7],[90,9,90,10],[90,12,90,13],[91,6,91,7],[91,9,91,10],[91,12,91,13],[81,6,81,7],[81,9,81,10],[81,12,81,13],[81,15,81,16],[82,6,82,7],[82,9,82,10],[82,12,82,13],[114,6,114,7],[115,6,115,7],[116,6,116,7],[117,6,117,7],[118,6,118,7],[321,6,321,7],[321,9,321,10],[321,12,321,13],[322,6,322,7],[322,9,322,10],[322,12,322,13],[315,1,315,18],[318,6,318,7],[318,9,318,10],[318,12,318,13],[319,6,319,7],[319,9,319,10],[319,12,319,13],[320,6,320,7],[320,9,320,10],[320,12,320,13],[260,6,260,7],[260,9,260,10],[260,12,260,13]]}
[null,{"$f":"'Customer Information'!A1","v":"2023 Residential Efficiency Program"}]
[null,"All Electric Homes Appliances Information"]
[]
["1.","Enter Proposed Quantity, ENERGY STAR Unique ID, Manufacturer, and Model Number"]
["2.","Appliances must be ENERGY STAR listed or Most Efficient ENERGY STAR listed where appropriate"]
[null,"- If installing an Electric Tankless Water Heater, Heat Pump Pool Heater, Solar Pool Cover, ENERGY STAR requirement does not apply"]
["3.","Equipment must be installed in permanent structure"]
["4.","All required appliances must be installed",null,null,null,null,null,null,null,null,null,null,null,null,null,null,null,null,null,"Total Rebate",null,"Total Bonus"]
[null,"-Refer to Equipment Selection tab to select appliances; Once selected, the corresponding appliances will appear in the below worksheet",null,null,null,null,null,null,null,null,null,null,null,null,null,null,null,null,null,{"$f":"SUM(R20:R23,P32:P35,U56:U59,P68:P71,P80:P83,P104:P107,P116:P119,P128:P131,S140:S143,M152:M155,M164:M167,M176:M179,M188:M191,M200:M203)","v":0},null,{"$f":"SUM(U20:V23,S32:T35,X56:Y59,S68:T71,S80:T83)","v":0}]
[null,"-Refer to All Electric Homes - Eligible Equipment Table to ensure all appropriate sections on this worksheet tab are completed for appliances"]
[null,"-Bonus incentives available for Tankless Water Heaters, Heat Pump Water Heaters, ENERGY STAR Clothes Dryers, Most Efficient Heat Pump Dryers,  and Most Efficient Clothes Washers"]
[]
[]
[]
[]
[null,"Electric Tankless Water Heater <12 kW or ≥12 kW - $100, $300 each "]
[]
[]
[null,null,null,null,"Proposed Quantity",null,"Equipment Size",null,null,"Proposed Efficiency \n(Uniform Energy Factor)",null,"Manufacturer",null,null,"Model Number",null,null,"Rebate",null,null,"Bonus"]
[null,null,null,null,null,null,"Select…",null,null,null,null,null,null,null,null,null,null,{"$f":"IF(G20=\"Select…\",\"\",IF(G20=\"< 12kW\",'Appliance Calculations'!N2,IF(G20=\"≥ 12 kW\",'Appliance Calculations'!N2)))","v":""},null,null,{"$f":"IF((R20=\"\"),\"\",'Appliance Calculations'!O2)","v":""}]
[null,null,null,null,null,null,"Select…",null,null,null,null,null,null,null,null,null,null,{"$f":"IF(G21=\"Select…\",\"\",IF(G21=\"< 12kW\",'Appliance Calculations'!N3,IF(G21=\"≥ 12 kW\",'Appliance Calculations'!N3)))","v":""},null,null,{"$f":"IF((R21=\"\"),\"\",'Appliance Calculations'!O3)","v":""}]
[null,null,null,null,null,null,"Select…",null,null,null,null,null,null,null,null,null,null,{"$f":"IF(G22=\"Select…\",\"\",IF(G22=\"< 12kW\",'Appliance Calculations'!N4,IF(G22=\"≥ 12 kW\",'Appliance Calculations'!N4)))","v":""},null,null,{"$f":"IF((R22=\"\"),\"\",'Appliance Calculations'!O4)","v":""}]
[null,null,null,null,null,null,"Select…",null,null,null,null,null,null,null,null,null,null,{"$f":"IF(G23=\"Select…\",\"\",IF(G23=\"< 12kW\",'Appliance Calculations'!N5,IF(G23=\"≥ 12 kW\",'Appliance Calculations'!N5)))","v":""},null,null,{"$f":"IF((R23=\"\"),\"\",'Appliance Calculations'!O5)","v":""}]
[]
[]
[]
[]
[null,{"$f":"\"ENERGY STAR - Clothes Dryer - Electric Resistance - $\"&'Appliances References'!AJ8&\" each\"","v":"ENERGY STAR - Clothes Dryer - Electric Resistance - $50 each"}]
[]
[]
[null,null,null,null,"Proposed Quantity",null,"ENERGY STAR Unique ID",null,null,"Manufacturer",null,null,"Model Number",null,null,"Rebate",null,null,"Bonus"]
[null,null,null,null,null,null,null,null,null,null,null,null,null,null,null,{"$f":"IF(OR(E32=\"\",G32=\"\"),\"\",'Appliance Calculations'!N14)","v":""},null,null,{"$f":"IF(OR(E32=\"\",G32=\"\"),\"\",'Appliance Calculations'!O14)","v":""}]
[null,null,null,null,null,null,null,null,null,null,null,null,null,null,null,{"$f":"IF(OR(E33=\"\",G33=\"\"),\"\",'Appliance Calculations'!N15)","v":""},null,null,{"$f":"IF(OR(E33=\"\",G33=\"\"),\"\",'Appliance Calculations'!O15)","v":""}]
[null,null,null,null,null,null,null,null,null,null,null,null,null,null,null,{"$f":"IF(OR(E34=\"\",G34=\"\"),\"\",'Appliance Calculations'!N16)","v":""},null,null,{"$f":"IF(OR(E34=\"\",G34=\"\"),\"\",'Appliance Calculations'!O16)","v":""}]
[null,null,null,null,null,null,null,null,null,null,null,null,null,null,null,{"$f":"IF(OR(E35=\"\",G35=\"\"),\"\",'Appliance Calculations'!N17)","v":""},null,null,{"$f":"IF(OR(E35=\"\",G35=\"\"),\"\",'Appliance Calculations'!O17)","v":""}]
[]
[]
[]
[]
[null,"Smart Connected Thermostats  -  $70 each"]
[]
[]
[null,null,null,null,"Proposed Quantity",null,"Manufacturer",null,null,"Qualified Model",null,null,"Rebate"]
[]
[]
[]
[]
[]
[]
[]
[]
[null,{"$f":"\"ENERGY STAR - Heat Pump Water Heater ≤  55 gallons or > 55 gallons - $\"&'Appliances References'!AJ5&\" each\"","v":"ENERGY STAR - Heat Pump Water Heater ≤  55 gallons or > 55 gallons - $1000 each"}]
[]
[]
[null,null,null,null,"Proposed Quantity",null,"Equipment Size",null,null,"ENERGY STAR Unique ID",null,null,"Proposed Efficiency \n(Uniform Energy Factor)",null,"Manufacturer",null,null,"Model Number",null,null,"Rebate",null,null,"Bonus"]
[null,null,null,null,null,null,"Select…",null,null,null,null,null,null,null,null,null,null,null,null,null,{"$f":"IF(G56=\"Select…\",\"\",IF(G56=\"≤ 55 Gallons\",'Appliance Calculations'!N38,IF(G56=\"> 55 Gallons\",'Appliance Calculations'!N38)))","v":""},null,null,{"$f":"IF(U56=\"\",\"\",'Appliance Calculations'!O38)","v":""}]
[null,null,null,null,null,null,"Select…",null,null,null,null,null,null,null,null,null,null,null,null,null,{"$f":"IF(G57=\"Select…\",\"\",IF(G57=\"≤ 55 Gallons\",'Appliance Calculations'!N39,IF(G57=\"> 55 Gallons\",'Appliance Calculations'!N39)))","v":""},null,null,{"$f":"IF(U57=\"\",\"\",'Appliance Calculations'!O39)","v":""}]
[null,null,null,null,null,null,"Select…",null,null,null,null,null,null,null,null,null,null,null,null,null,{"$f":"IF(G58=\"Select…\",\"\",IF(G58=\"≤ 55 Gallons\",'Appliance Calculations'!N40,IF(G58=\"> 55 Gallons\",'Appliance Calculations'!N40)))","v":""},null,null,{"$f":"IF(U58=\"\",\"\",'Appliance Calculations'!O40)","v":""}]
[null,null,null,null,null,null,"Select…",null,null,null,null,null,null,null,null,null,null,null,null,null,{"$f":"IF(G59=\"Select…\",\"\",IF(G59=\"≤ 55 Gallons\",'Appliance Calculations'!N41,IF(G59=\"> 55 Gallons\",'Appliance Calculations'!N41)))","v":""},null,null,{"$f":"IF(U59=\"\",\"\",'Appliance Calculations'!O41)","v":""}]
[]
[]
[]
[]
[null,{"$f":"\"ENERGY STAR Most Efficient Clothes Dryer - Heat Pump - $\"&'Appliances References'!AJ9&\" each\"","v":"ENERGY STAR Most Efficient Clothes Dryer - Heat Pump - $300 each"}]
[]
[]
[null,null,null,null,"Proposed Quantity",null,"ENERGY STAR Unique ID",null,null,"Manufacturer",null,null,"Model Number",null,null,"Rebate",null,null,"Bonus"]
[null,null,null,null,null,null,null,null,null,null,null,null,null,null,null,{"$f":"IF(OR(E68=\"\",G68=\"\"),\"\",'Appliance Calculations'!N50)","v":""},null,null,{"$f":"IF(OR(E68=\"\",G68=\"\"),\"\",'Appliance Calculations'!O50)","v":""}]
[null,null,null,null,null,null,null,null,null,null,null,null,null,null,null,{"$f":"IF(OR(E69=\"\",G69=\"\"),\"\",'Appliance Calculations'!N51)","v":""},null,null,{"$f":"IF(OR(E69=\"\",G69=\"\"),\"\",'Appliance Calculations'!O51)","v":""}]
[null,null,null,null,null,null,null,null,null,null,null,null,null,null,null,{"$f":"IF(OR(E70=\"\",G70=\"\"),\"\",'Appliance Calculations'!N52)","v":""},null,null,{"$f":"IF(OR(E70=\"\",G70=\"\"),\"\",'Appliance Calculations'!O52)","v":""}]
[null,null,null,null,null,null,null,null,null,null,null,null,null,null,null,{"$f":"IF(OR(E71=\"\",G71=\"\"),\"\",'Appliance Calculations'!N53)","v":""},null,null,{"$f":"IF(OR(E71=\"\",G71=\"\"),\"\",'Appliance Calculations'!O53)","v":""}]
[]
[]
[]
[]
[null,{"$f":"\"ENERGY STAR Most Efficient Clothes Washer - $\"&'Appliances References'!AJ7&\" each\"","v":"ENERGY STAR Most Efficient Clothes Washer - $50 each"}]
[]
[]
[null,null,null,null,"Proposed Quantity",null,"ENERGY STAR Unique ID",null,null,"Manufacturer",null,null,"Model Number",null,null,"Rebate",null,null,"Bonus"]
[null,null,null,null,null,null,null,null,null,null,null,null,null,null,null,{"$f":"IF(OR(E80=\"\",G80=\"\"),\"\",'Appliance Calculations'!N62)","v":""},null,null,{"$f":"IF(OR(E80=\"\",G80=\"\"),\"\",'Appliance Calculations'!O62)","v":""}]
[null,null,null,null,null,null,null,null,null,null,null,null,null,null,null,{"$f":"IF(OR(E81=\"\",G81=\"\"),\"\",'Appliance Calculations'!N63)","v":""},null,null,{"$f":"IF(OR(E81=\"\",G81=\"\"),\"\",'Appliance Calculations'!O63)","v":""}]
[null,null,null,null,null,null,null,null,null,null,null,null,null,null,null,{"$f":"IF(OR(E82=\"\",G82=\"\"),\"\",'Appliance Calculations'!N64)","v":""},null,null,{"$f":"IF(OR(E82=\"\",G82=\"\"),\"\",'Appliance Calculations'!O64)","v":""}]
[null,null,null,null,null,null,null,null,null,null,null,null,null,null,null,{"$f":"IF(OR(E83=\"\",G83=\"\"),\"\",'Appliance Calculations'!N65)","v":""},null,null,{"$f":"IF(OR(E83=\"\",G83=\"\"),\"\",'Appliance Calculations'!O65)","v":""}]
[]
[]
[]
[]
[null,"Smart Learning Thermostats - $100 each"]
[]
[]
[null,null,null,null,"Proposed Quantity",null,"Manufacturer",null,null,"Qualified Model",null,null,"Rebate"]
[]
[]
[]
[]
[]
[]
[]
[]
[null,{"$f":"\"Solar Pool Cover - $\"&'Appliances References'!AJ30&\" each\"","v":"Solar Pool Cover - $75 each"}]
[]
[]
[null,null,null,null,"Proposed Quantity",null,"Pool Cover Square Footage",null,null,"Manufacturer",null,null,"Model Number",null,null,"Rebate"]
[null,null,null,null,null,null,null,null,null,null,null,null,null,null,null,{"$f":"IF(OR(E104=\"\",G104=\"\"),\"\",'Appliance Calculations'!N86)","v":""}]
[null,null,null,null,null,null,null,null,null,null,null,null,null,null,null,{"$f":"IF(OR(E105=\"\",G105=\"\"),\"\",'Appliance Calculations'!N87)","v":""}]
[null,null,null,null,null,null,null,null,null,null,null,null,null,null,null,{"$f":"IF(OR(E106=\"\",G106=\"\"),\"\",'Appliance Calculations'!N88)","v":""}]
[null,null,null,null,null,null,null,null,null,null,null,null,null,null,null,{"$f":"IF(OR(E107=\"\",G107=\"\"),\"\",'Appliance Calculations'!N89)","v":""}]
[]
[]
[]
[]
[null,{"$f":"\"Heat Pump Pool Heater - $\"&'Appliances References'!AJ29&\" each\"","v":"Heat Pump Pool Heater - $1000 each"}]
[]
[]
[null,null,null,null,"Proposed Quantity",null,"Coefficient of Performance (COP)",null,null,"Manufacturer",null,null,"Model Number",null,null,"Rebate"]
[null,null,null,null,null,null,null,null,null,null,null,null,null,null,null,{"$f":"IF(OR(E116=\"\",J116=\"\"),\"\",'Appliance Calculations'!N98)","v":""}]
[null,null,null,null,null,null,null,null,null,null,null,null,null,null,null,{"$f":"IF(OR(E117=\"\",J117=\"\"),\"\",'Appliance Calculations'!N99)","v":""}]
[null,null,null,null,null,null,null,null,null,null,null,null,null,null,null,{"$f":"IF(OR(E118=\"\",J118=\"\"),\"\",'Appliance Calculations'!N100)","v":""}]
[null,null,null,null,null,null,null,null,null,null,null,null,null,null,null,{"$f":"IF(OR(E119=\"\",J119=\"\"),\"\",'Appliance Calculations'!N101)","v":""}]
[]
[]
[]
[]
[null,{"$f":"\"ENERGY STAR Dehumidifier - $\"&'Appliances References'!AJ14&\" each\"","v":"ENERGY STAR Dehumidifier - $30 each"}]
[]
[]
[null,null,null,null,"Proposed Quantity",null,"ENERGY STAR Unique ID",null,null,"Manufacturer",null,null,"Model Number",null,null,"Rebate"]
[null,null,null,null,null,null,null,null,null,null,null,null,null,null,null,{"$f":"IF(OR(E128=\"\",G128=\"\"),\"\",'Appliance Calculations'!N110)","v":""}]
[null,null,null,null,null,null,null,null,null,null,null,null,null,null,null,{"$f":"IF(OR(E129=\"\",G129=\"\"),\"\",'Appliance Calculations'!N111)","v":""}]
[null,null,null,null,null,null,null,null,null,null,null,null,null,null,null,{"$f":"IF(OR(E130=\"\",G130=\"\"),\"\",'Appliance Calculations'!N112)","v":""}]
[null,null,null,null,null,null,null,null,null,null,null,null,null,null,null,{"$f":"IF(OR(E131=\"\",G131=\"\"),\"\",'Appliance Calculations'!N113)","v":""}]
[]
[]
[]
[]
[null,"ENERGY STAR Air Purifier <150 CADR or >150 CADR - $60 and $80 each"]
[]
[null,null,null,null,null,null,null,null,null," "]
[null,null,null,null,"Proposed Quantity",null,"Equipment Size",null,null,"ENERGY STAR Unique ID",null,null,"Manufacturer",null,null,"Model Number",null,null,"Rebate"]
[null,null,null,null,null,null,"Select…",null,null,null,null,null,null,null,null,null,null,null,{"$f":"IF(OR(E140=\"\",J140=\"\"),\"\",'Appliance Calculations'!N122)","v":""}]
[null,null,null,null,null,null,"Select…",null,null,null,null,null,null,null,null,null,null,null,{"$f":"IF(OR(E141=\"\",J141=\"\"),\"\",'Appliance Calculations'!N123)","v":""}]
[null,null,null,null,null,null,"Select…",null,null,null,null,null,null,null,null,null,null,null,{"$f":"IF(OR(E142=\"\",J142=\"\"),\"\",'Appliance Calculations'!N124)","v":""}]
[null,null,null,null,null,null,"Select…",null,null,null,null,null,null,null,null,null,null,null,{"$f":"IF(OR(E143=\"\",J143=\"\"),\"\",'Appliance Calculations'!N125)","v":""}]
[]
[]
[]
[]
[null,{"$f":"\"Battery Operated Lawn Mower All Sizes - $\"&'Appliances References'!AJ23&\" each\"","v":"Battery Operated Lawn Mower All Sizes - $30 each"}]
[]
[]
[null,null,null,null,"Proposed Quantity",null,"Manufacturer",null,null,"Model Number",null,null,"Rebate"]
[null,null,null,null,null,null,null,null,null,null,null,null,{"$f":"IF(OR(E152=\"\",J152=\"\"),\"\",'Appliance Calculations'!N134)","v":""}]
[null,null,null,null,null,null,null,null,null,null,null,null,{"$f":"IF(OR(E153=\"\",J153=\"\"),\"\",'Appliance Calculations'!N135)","v":""}]
[null,null,null,null,null,null,null,null,null,null,null,null,{"$f":"IF(OR(E154=\"\",J154=\"\"),\"\",'Appliance Calculations'!N136)","v":""}]
[null,null,null,null,null,null,null,null,null,null,null,null,{"$f":"IF(OR(E155=\"\",J155=\"\"),\"\",'Appliance Calculations'!N137)","v":""}]
[]
[]
[]
[]
[null,{"$f":"\"Battery Operated Lawn Mower 4-5aH - $\"&'Appliances References'!AJ24&\" each\"","v":"Battery Operated Lawn Mower 4-5aH - $30 each"}]
[]
[]
[null,null,null,null,"Proposed Quantity",null,"Manufacturer",null,null,"Model Number",null,null,"Rebate"]
[null,null,null,null,null,null,null,null,null,null,null,null,{"$f":"IF(OR(E164=\"\",J164=\"\"),\"\",'Appliance Calculations'!N146)","v":""}]
[null,null,null,null,null,null,null,null,null,null,null,null,{"$f":"IF(OR(E165=\"\",J165=\"\"),\"\",'Appliance Calculations'!N147)","v":""}]
[null,null,null,null,null,null,null,null,null,null,null,null,{"$f":"IF(OR(E166=\"\",J166=\"\"),\"\",'Appliance Calculations'!N148)","v":""}]
[null,null,null,null,null,null,null,null,null,null,null,null,{"$f":"IF(OR(E167=\"\",J167=\"\"),\"\",'Appliance Calculations'!N149)","v":""}]
[]
[]
[]
[]
[null,{"$f":"\"Battery Operated Lawn Mower >5aH - $\"&'Appliances References'!AJ25&\" each\"","v":"Battery Operated Lawn Mower >5aH - $40 each"}]
[]
[]
[null,null,null,null,"Proposed Quantity",null,"Manufacturer",null,null,"Model Number",null,null,"Rebate"]
[null,null,null,null,null,null,null,null,null,null,null,null,{"$f":"IF(OR(E176=\"\",J176=\"\"),\"\",'Appliance Calculations'!N158)","v":""}]
[null,null,null,null,null,null,null,null,null,null,null,null,{"$f":"IF(OR(E177=\"\",J177=\"\"),\"\",'Appliance Calculations'!N159)","v":""}]
[null,null,null,null,null,null,null,null,null,null,null,null,{"$f":"IF(OR(E178=\"\",J178=\"\"),\"\",'Appliance Calculations'!N160)","v":""}]
[null,null,null,null,null,null,null,null,null,null,null,null,{"$f":"IF(OR(E179=\"\",J179=\"\"),\"\",'Appliance Calculations'!N161)","v":""}]
[]
[]
[]
[]
[null,{"$f":"\"Battery Operated Leaf Blower - $\"&'Appliances References'!AJ27&\" each\"","v":"Battery Operated Leaf Blower - $20 each"}]
[]
[]
[null,null,null,null,"Proposed Quantity",null,"Manufacturer",null,null,"Model Number",null,null,"Rebate"]
[null,null,null,null,null,null,null,null,null,null,null,null,{"$f":"IF(OR(E188=\"\",G188=\"\"),\"\",'Appliance Calculations'!N170)","v":""}]
[null,null,null,null,null,null,null,null,null,null,null,null,{"$f":"IF(OR(E189=\"\",G189=\"\"),\"\",'Appliance Calculations'!N171)","v":""}]
[null,null,null,null,null,null,null,null,null,null,null,null,{"$f":"IF(OR(E190=\"\",G190=\"\"),\"\",'Appliance Calculations'!N172)","v":""}]
[null,null,null,null,null,null,null,null,null,null,null,null,{"$f":"IF(OR(E191=\"\",G191=\"\"),\"\",'Appliance Calculations'!N173)","v":""}]
[]
[]
[]
[]
[null,{"$f":"\"Battery Operated Weed Trimmer - $\"&'Appliances References'!AJ26&\" each\"","v":"Battery Operated Weed Trimmer - $20 each"}]
[]
[]
[null,null,null,null,"Proposed Quantity",null,"Manufacturer",null,null,"Model Number",null,null,"Rebate"]
[null,null,null,null,null,null,null,null,null,null,null,null,{"$f":"IF(OR(E200=\"\",G200=\"\"),\"\",'Appliance Calculations'!N182)","v":""}]
[null,null,null,null,null,null,null,null,null,null,null,null,{"$f":"IF(OR(E201=\"\",G201=\"\"),\"\",'Appliance Calculations'!N183)","v":""}]
[null,null,null,null,null,null,null,null,null,null,null,null,{"$f":"IF(OR(E202=\"\",G202=\"\"),\"\",'Appliance Calculations'!N184)","v":""}]
[null,null,null,null,null,null,null,null,null,null,null,null,{"$f":"IF(OR(E203=\"\",G203=\"\"),\"\",'Appliance Calculations'!N185)","v":""}]
[]
[]
[]
[]
[null,"ENERGY STAR Refrigerator"]
[]
[]
[null,null,null,null,"Proposed Quantity",null,"ENERGY STAR Unique ID",null,null,"Manufacturer",null,null,"Model Number"]
[]
[]
[]
[]
[]
[]
[]
[]
[null,"Most Efficient Refrigerator"]
[]
[]
[null,null,null,null,"Proposed Quantity",null,"ENERGY STAR Unique ID",null,null,"Manufacturer",null,null,"Model Number"]
[]
[]
[]
[]
[]
[]
[]
[]
[null,"ENERGY STAR Clothes Washer"]
[]
[]
[null,null,null,null,"Proposed Quantity",null,"ENERGY STAR Unique ID",null,null,"Manufacturer",null,null,"Model Number"]
[]
[]
[]
[]
[]
[]
[]
[]
[null,"ENERGY STAR Dishwasher"]
[]
[]
[null,null,null,null,"Proposed Quantity",null,"ENERGY STAR Unique ID",null,null,"Manufacturer",null,null,"Model Number"]
[]
[]
[]
[]
[]
[]
[]
[]
[null,"Most Efficient Dishwasher"]
[]
[]
[null,null,null,null,"Proposed Quantity",null,"ENERGY STAR Unique ID",null,null,"Manufacturer",null,null,"Model Number"]
[]
[]
[]
[]
[]
[]
[]
[]
[null,"Standard Electric Range Oven"]
[]
[]
[null,null,null,null,"Proposed Quantity",null,"Manufacturer",null,null,"Model Number"]
[]
[]
[]
[]
[]
[]
[]
[]
[null,"Induction Cooktop/Convection Oven"]
[]
[]
[null,null,null,null,"Proposed Quantity",null,"Manufacturer",null,null,"Model Number"]
[]
[]
[]
[]
[]
[]
[]
[]
[null,"Propane Stove"]
[]
[]
[null,null,null,null,"Proposed Quantity",null,"Manufacturer",null,null,"Model Number"]
[]
[]
[]
[]
[]
[]
[]
[]
[null,"ENERGY STAR LED A-19 Bulbs "]
[]
[]
[null,null,null,null,"Proposed Quantity",null,"ENERGY STAR Unique ID",null,null,"Manufacturer",null,null,"Model Number"]
[]
[]
[]
[]
[]
[]
[]
[]
[null,"ENERGY STAR LED Specialty"]
[]
[]
[null,null,null,null,"Proposed Quantity",null,"ENERGY STAR Unique ID",null,null,"Manufacturer",null,null,"Model Number"]

{"sheet":"Appliance Calculations","index":12,"n_rows":305,"n_cols":16,"rows_kept":305,"cut":false,"hidden":true,"merged":[]}
["Device - Tankless","Proposed Qty","Gross kW per unit","EE kWh per unit","Winter kW saved","BE kWh saved","MMBTU EE","MMBTU BE","EE CO2","BE CO2","Rebate per unit",null,"$/kWh","Total Rebate","Bonus","Total Rebate + Bonus"]
[{"$f":"IF('Appliances Worksheet'!E20=\"\",\"\",IF('Appliances Worksheet'!G20='Appliances References'!$C$8,'Appliances References'!$N$21,'Appliances References'!$N$22))","v":""},{"$f":"IF('Appliances Worksheet'!E20=\"\",\"\",'Appliances Worksheet'!E20)","v":""},{"$f":"IF($A2=\"\",\"\",INDEX('Appliances References'!$R$5:$R$36,MATCH($A2,'Appliances References'!$N$5:$N$36,0)))","v":""},{"$f":"IF($A2=\"\",\"\",INDEX('Appliances References'!$S$5:$S$36,MATCH($A2,'Appliances References'!$N$5:$N$36,0)))","v":""},{"$f":"IF($A2=\"\",\"\",INDEX('Appliances References'!$T$5:$T$36,MATCH($A2,'Appliances References'!$N$5:$N$36,0)))","v":""},{"$f":"IF($A2=\"\",\"\",INDEX('Appliances References'!$U$5:$U$36,MATCH($A2,'Appliances References'!$N$5:$N$36,0)))","v":""},{"$f":"IF($A2=\"\",\"\",INDEX('Appliances References'!$V$5:$V$36,MATCH($A2,'Appliances References'!$N$5:$N$36,0)))","v":""},{"$f":"IF($A2=\"\",\"\",INDEX('Appliances References'!$W$5:$W$36,MATCH($A2,'Appliances References'!$N$5:$N$36,0)))","v":""},{"$f":"IF($A2=\"\",\"\",INDEX('Appliances References'!$Y$5:$Y$36,MATCH($A2,'Appliances References'!$N$5:$N$36,0)))","v":""},{"$f":"IF($A2=\"\",\"\",INDEX('Appliances References'!$Z$5:$Z$36,MATCH($A2,'Appliances References'!$N$5:$N$36,0)))","v":""},{"$f":"IF($A2=\"\",\"\",INDEX('Appliances References'!$AJ$5:$AJ$36,MATCH($A2,'Appliances References'!$N$5:$N$36,0)))","v":""},null,{"$f":"IF(D2=\"\",\"\",K2/D2)","v":""},{"$f":"IF(B2>0,B2*K2,\"\")","v":{"$error":"#VALUE!"}},{"$f":"IF(B2>0,N2*References!$BX$23,\"\")","v":{"$error":"#VALUE!"}},{"$f":"IF(B2>0,N2+O2,\"\")","v":{"$error":"#VALUE!"}}]
[{"$f":"IF('Appliances Worksheet'!E21=\"\",\"\",IF('Appliances Worksheet'!G21='Appliances References'!$C$8,'Appliances References'!$N$21,'Appliances References'!$N$22))","v":""},{"$f":"IF('Appliances Worksheet'!E21=\"\",\"\",'Appliances Worksheet'!E21)","v":""},{"$f":"IF($A3=\"\",\"\",INDEX('Appliances References'!$R$5:$R$36,MATCH($A3,'Appliances References'!$N$5:$N$36,0)))","v":""},{"$f":"IF($A3=\"\",\"\",INDEX('Appliances References'!$S$5:$S$36,MATCH($A3,'Appliances References'!$N$5:$N$36,0)))","v":""},{"$f":"IF($A3=\"\",\"\",INDEX('Appliances References'!$T$5:$T$36,MATCH($A3,'Appliances References'!$N$5:$N$36,0)))","v":""},{"$f":"IF($A3=\"\",\"\",INDEX('Appliances References'!$U$5:$U$36,MATCH($A3,'Appliances References'!$N$5:$N$36,0)))","v":""},{"$f":"IF($A3=\"\",\"\",INDEX('Appliances References'!$V$5:$V$36,MATCH($A3,'Appliances References'!$N$5:$N$36,0)))","v":""},{"$f":"IF($A3=\"\",\"\",INDEX('Appliances References'!$W$5:$W$36,MATCH($A3,'Appliances References'!$N$5:$N$36,0)))","v":""},{"$f":"IF($A3=\"\",\"\",INDEX('Appliances References'!$Y$5:$Y$36,MATCH($A3,'Appliances References'!$N$5:$N$36,0)))","v":""},{"$f":"IF($A3=\"\",\"\",INDEX('Appliances References'!$Z$5:$Z$36,MATCH($A3,'Appliances References'!$N$5:$N$36,0)))","v":""},{"$f":"IF($A3=\"\",\"\",INDEX('Appliances References'!$AJ$5:$AJ$36,MATCH($A3,'Appliances References'!$N$5:$N$36,0)))","v":""},null,{"$f":"IF(D3=\"\",\"\",K3/D3)","v":""},{"$f":"IF(B3>0,B3*K3,\"\")","v":{"$error":"#VALUE!"}},{"$f":"IF(B3>0,N3*References!$BX$23,\"\")","v":{"$error":"#VALUE!"}},{"$f":"IF(B3>0,N3+O3,\"\")","v":{"$error":"#VALUE!"}}]
[{"$f":"IF('Appliances Worksheet'!E22=\"\",\"\",IF('Appliances Worksheet'!G22='Appliances References'!$C$8,'Appliances References'!$N$21,'Appliances References'!$N$22))","v":""},{"$f":"IF('Appliances Worksheet'!E22=\"\",\"\",'Appliances Worksheet'!E22)","v":""},{"$f":"IF($A4=\"\",\"\",INDEX('Appliances References'!$R$5:$R$36,MATCH($A4,'Appliances References'!$N$5:$N$36,0)))","v":""},{"$f":"IF($A4=\"\",\"\",INDEX('Appliances References'!$S$5:$S$36,MATCH($A4,'Appliances References'!$N$5:$N$36,0)))","v":""},{"$f":"IF($A4=\"\",\"\",INDEX('Appliances References'!$T$5:$T$36,MATCH($A4,'Appliances References'!$N$5:$N$36,0)))","v":""},{"$f":"IF($A4=\"\",\"\",INDEX('Appliances References'!$U$5:$U$36,MATCH($A4,'Appliances References'!$N$5:$N$36,0)))","v":""},{"$f":"IF($A4=\"\",\"\",INDEX('Appliances References'!$V$5:$V$36,MATCH($A4,'Appliances References'!$N$5:$N$36,0)))","v":""},{"$f":"IF($A4=\"\",\"\",INDEX('Appliances References'!$W$5:$W$36,MATCH($A4,'Appliances References'!$N$5:$N$36,0)))","v":""},{"$f":"IF($A4=\"\",\"\",INDEX('Appliances References'!$Y$5:$Y$36,MATCH($A4,'Appliances References'!$N$5:$N$36,0)))","v":""},{"$f":"IF($A4=\"\",\"\",INDEX('Appliances References'!$Z$5:$Z$36,MATCH($A4,'Appliances References'!$N$5:$N$36,0)))","v":""},{"$f":"IF($A4=\"\",\"\",INDEX('Appliances References'!$AJ$5:$AJ$36,MATCH($A4,'Appliances References'!$N$5:$N$36,0)))","v":""},null,"",{"$error":"#VALUE!"},{"$f":"IF(B4>0,N4*References!$BX$23,\"\")","v":{"$error":"#VALUE!"}},{"$error":"#VALUE!"}]
[{"$f":"IF('Appliances Worksheet'!E23=\"\",\"\",IF('Appliances Worksheet'!G23='Appliances References'!$C$8,'Appliances References'!$N$21,'Appliances References'!$N$22))","v":""},{"$f":"IF('Appliances Worksheet'!E23=\"\",\"\",'Appliances Worksheet'!E23)","v":""},{"$f":"IF($A5=\"\",\"\",INDEX('Appliances References'!$R$5:$R$36,MATCH($A5,'Appliances References'!$N$5:$N$36,0)))","v":""},{"$f":"IF($A5=\"\",\"\",INDEX('Appliances References'!$S$5:$S$36,MATCH($A5,'Appliances References'!$N$5:$N$36,0)))","v":""},{"$f":"IF($A5=\"\",\"\",INDEX('Appliances References'!$T$5:$T$36,MATCH($A5,'Appliances References'!$N$5:$N$36,0)))","v":""},{"$f":"IF($A5=\"\",\"\",INDEX('Appliances References'!$U$5:$U$36,MATCH($A5,'Appliances References'!$N$5:$N$36,0)))","v":""},{"$f":"IF($A5=\"\",\"\",INDEX('Appliances References'!$V$5:$V$36,MATCH($A5,'Appliances References'!$N$5:$N$36,0)))","v":""},{"$f":"IF($A5=\"\",\"\",INDEX('Appliances References'!$W$5:$W$36,MATCH($A5,'Appliances References'!$N$5:$N$36,0)))","v":""},{"$f":"IF($A5=\"\",\"\",INDEX('Appliances References'!$Y$5:$Y$36,MATCH($A5,'Appliances References'!$N$5:$N$36,0)))","v":""},{"$f":"IF($A5=\"\",\"\",INDEX('Appliances References'!$Z$5:$Z$36,MATCH($A5,'Appliances References'!$N$5:$N$36,0)))","v":""},{"$f":"IF($A5=\"\",\"\",INDEX('Appliances References'!$AJ$5:$AJ$36,MATCH($A5,'Appliances References'!$N$5:$N$36,0)))","v":""},null,"",{"$error":"#VALUE!"},{"$f":"IF(B5>0,N5*References!$BX$23,\"\")","v":{"$error":"#VALUE!"}},{"$error":"#VALUE!"}]
[]
[]
[]
[]
[]
[]
["Clothes Dryer - Electric Resistance"]
["Device","Proposed Qty","Gross kW per unit","EE kWh per unit","Winter kW saved","BE kWh saved","MMBTU EE","MMBTU BE","EE CO2","BE CO2","Rebate per unit",null,"$/kWh","Total Rebate","Bonus","Total Rebate + Bonus"]
[{"$f":"IF('Appliances Worksheet'!E32=\"\",\"\",'Appliances References'!$N$8)","v":""},{"$f":"IF('Appliances Worksheet'!E32=\"\",\"\",'Appliances Worksheet'!E32)","v":""},{"$f":"IF($A14=\"\",\"\",INDEX('Appliances References'!$R$5:$R$36,MATCH($A14,'Appliances References'!$N$5:$N$36,0)))","v":""},{"$f":"IF($A14=\"\",\"\",INDEX('Appliances References'!$S$5:$S$36,MATCH($A14,'Appliances References'!$N$5:$N$36,0)))","v":""},{"$f":"IF($A14=\"\",\"\",INDEX('Appliances References'!$T$5:$T$36,MATCH($A14,'Appliances References'!$N$5:$N$36,0)))","v":""},{"$f":"IF($A14=\"\",\"\",INDEX('Appliances References'!$U$5:$U$36,MATCH($A14,'Appliances References'!$N$5:$N$36,0)))","v":""},{"$f":"IF($A14=\"\",\"\",INDEX('Appliances References'!$V$5:$V$36,MATCH($A14,'Appliances References'!$N$5:$N$36,0)))","v":""},{"$f":"IF($A14=\"\",\"\",INDEX('Appliances References'!$W$5:$W$36,MATCH($A14,'Appliances References'!$N$5:$N$36,0)))","v":""},{"$f":"IF($A14=\"\",\"\",INDEX('Appliances References'!$Y$5:$Y$36,MATCH($A14,'Appliances References'!$N$5:$N$36,0)))","v":""},{"$f":"IF($A14=\"\",\"\",INDEX('Appliances References'!$Z$5:$Z$36,MATCH($A14,'Appliances References'!$N$5:$N$36,0)))","v":""},{"$f":"IF($A14=\"\",\"\",INDEX('Appliances References'!$AJ$5:$AJ$36,MATCH($A14,'Appliances References'!$N$5:$N$36,0)))","v":""},null,{"$f":"IF(D14=\"\",\"\",K14/D14)","v":""},{"$f":"IF(B14>0,B14*K14,\"\")","v":{"$error":"#VALUE!"}},{"$f":"IF(B14>0,N14*References!$BX$23,\"\")","v":{"$error":"#VALUE!"}},{"$f":"IF(B14>0,N14+O14,\"\")","v":{"$error":"#VALUE!"}}]
[{"$f":"IF('Appliances Worksheet'!E33=\"\",\"\",'Appliances References'!$N$8)","v":""},{"$f":"IF('Appliances Worksheet'!E33=\"\",\"\",'Appliances Worksheet'!E33)","v":""},{"$f":"IF($A15=\"\",\"\",INDEX('Appliances References'!$R$5:$R$36,MATCH($A15,'Appliances References'!$N$5:$N$36,0)))","v":""},{"$f":"IF($A15=\"\",\"\",INDEX('Appliances References'!$S$5:$S$36,MATCH($A15,'Appliances References'!$N$5:$N$36,0)))","v":""},{"$f":"IF($A15=\"\",\"\",INDEX('Appliances References'!$T$5:$T$36,MATCH($A15,'Appliances References'!$N$5:$N$36,0)))","v":""},{"$f":"IF($A15=\"\",\"\",INDEX('Appliances References'!$U$5:$U$36,MATCH($A15,'Appliances References'!$N$5:$N$36,0)))","v":""},{"$f":"IF($A15=\"\",\"\",INDEX('Appliances References'!$V$5:$V$36,MATCH($A15,'Appliances References'!$N$5:$N$36,0)))","v":""},{"$f":"IF($A15=\"\",\"\",INDEX('Appliances References'!$W$5:$W$36,MATCH($A15,'Appliances References'!$N$5:$N$36,0)))","v":""},{"$f":"IF($A15=\"\",\"\",INDEX('Appliances References'!$Y$5:$Y$36,MATCH($A15,'Appliances References'!$N$5:$N$36,0)))","v":""},{"$f":"IF($A15=\"\",\"\",INDEX('Appliances References'!$Z$5:$Z$36,MATCH($A15,'Appliances References'!$N$5:$N$36,0)))","v":""},{"$f":"IF($A15=\"\",\"\",INDEX('Appliances References'!$AJ$5:$AJ$36,MATCH($A15,'Appliances References'!$N$5:$N$36,0)))","v":""},null,null,{"$error":"#VALUE!"},{"$f":"IF(B15>0,N15*References!$BX$23,\"\")","v":{"$error":"#VALUE!"}},{"$error":"#VALUE!"}]
[{"$f":"IF('Appliances Worksheet'!E34=\"\",\"\",'Appliances References'!$N$8)","v":""},{"$f":"IF('Appliances Worksheet'!E34=\"\",\"\",'Appliances Worksheet'!E34)","v":""},{"$f":"IF($A16=\"\",\"\",INDEX('Appliances References'!$R$5:$R$36,MATCH($A16,'Appliances References'!$N$5:$N$36,0)))","v":""},{"$f":"IF($A16=\"\",\"\",INDEX('Appliances References'!$S$5:$S$36,MATCH($A16,'Appliances References'!$N$5:$N$36,0)))","v":""},{"$f":"IF($A16=\"\",\"\",INDEX('Appliances References'!$T$5:$T$36,MATCH($A16,'Appliances References'!$N$5:$N$36,0)))","v":""},{"$f":"IF($A16=\"\",\"\",INDEX('Appliances References'!$U$5:$U$36,MATCH($A16,'Appliances References'!$N$5:$N$36,0)))","v":""},{"$f":"IF($A16=\"\",\"\",INDEX('Appliances References'!$V$5:$V$36,MATCH($A16,'Appliances References'!$N$5:$N$36,0)))","v":""},{"$f":"IF($A16=\"\",\"\",INDEX('Appliances References'!$W$5:$W$36,MATCH($A16,'Appliances References'!$N$5:$N$36,0)))","v":""},{"$f":"IF($A16=\"\",\"\",INDEX('Appliances References'!$Y$5:$Y$36,MATCH($A16,'Appliances References'!$N$5:$N$36,0)))","v":""},{"$f":"IF($A16=\"\",\"\",INDEX('Appliances References'!$Z$5:$Z$36,MATCH($A16,'Appliances References'!$N$5:$N$36,0)))","v":""},{"$f":"IF($A16=\"\",\"\",INDEX('Appliances References'!$AJ$5:$AJ$36,MATCH($A16,'Appliances References'!$N$5:$N$36,0)))","v":""},null,null,{"$error":"#VALUE!"},{"$f":"IF(B16>0,N16*References!$BX$23,\"\")","v":{"$error":"#VALUE!"}},{"$error":"#VALUE!"}]
[{"$f":"IF('Appliances Worksheet'!E35=\"\",\"\",'Appliances References'!$N$8)","v":""},{"$f":"IF('Appliances Worksheet'!E35=\"\",\"\",'Appliances Worksheet'!E35)","v":""},{"$f":"IF($A17=\"\",\"\",INDEX('Appliances References'!$R$5:$R$36,MATCH($A17,'Appliances References'!$N$5:$N$36,0)))","v":""},{"$f":"IF($A17=\"\",\"\",INDEX('Appliances References'!$S$5:$S$36,MATCH($A17,'Appliances References'!$N$5:$N$36,0)))","v":""},{"$f":"IF($A17=\"\",\"\",INDEX('Appliances References'!$T$5:$T$36,MATCH($A17,'Appliances References'!$N$5:$N$36,0)))","v":""},{"$f":"IF($A17=\"\",\"\",INDEX('Appliances References'!$U$5:$U$36,MATCH($A17,'Appliances References'!$N$5:$N$36,0)))","v":""},{"$f":"IF($A17=\"\",\"\",INDEX('Appliances References'!$V$5:$V$36,MATCH($A17,'Appliances References'!$N$5:$N$36,0)))","v":""},{"$f":"IF($A17=\"\",\"\",INDEX('Appliances References'!$W$5:$W$36,MATCH($A17,'Appliances References'!$N$5:$N$36,0)))","v":""},{"$f":"IF($A17=\"\",\"\",INDEX('Appliances References'!$Y$5:$Y$36,MATCH($A17,'Appliances References'!$N$5:$N$36,0)))","v":""},{"$f":"IF($A17=\"\",\"\",INDEX('Appliances References'!$Z$5:$Z$36,MATCH($A17,'Appliances References'!$N$5:$N$36,0)))","v":""},{"$f":"IF($A17=\"\",\"\",INDEX('Appliances References'!$AJ$5:$AJ$36,MATCH($A17,'Appliances References'!$N$5:$N$36,0)))","v":""},null,null,{"$error":"#VALUE!"},{"$f":"IF(B17>0,N17*References!$BX$23,\"\")","v":{"$error":"#VALUE!"}},{"$error":"#VALUE!"}]
[]
[]
[]
[]
[]
[]
["Smart Thermostat - Connected"]
["Device","Proposed Qty","Gross kW per unit","EE kWh per unit","Winter kW saved","BE kWh saved","MMBTU EE","MMBTU BE","EE CO2","BE CO2","Rebate per unit",null,"$/kWh","Total Rebate","Bonus","Total Rebate + Bonus"]
[null,null,null,null,null,null,null,null,null,null,null,null,null,{"$f":"IF(B26>0,B26*K26,\"\")","v":""},{"$f":"IF(B26>0,N26*References!$BX$23,\"\")","v":""},{"$f":"IF(B26>0,N26+O26,\"\")","v":""}]
[null,null,null,null,null,null,null,null,null,null,null,null,null,"",{"$f":"IF(B27>0,N27*References!$BX$23,\"\")","v":""},""]
[null,null,null,null,null,null,null,null,null,null,null,null,null,"",{"$f":"IF(B28>0,N28*References!$BX$23,\"\")","v":""},""]
[null,null,null,null,null,null,null,null,null,null,null,null,null,"",{"$f":"IF(B29>0,N29*References!$BX$23,\"\")","v":""},""]
[]
[]
[]
[]
[]
[]
["HPWH"]
["Device","Proposed Qty","Gross kW per unit","EE kWh per unit","Winter kW saved","BE kWh saved","MMBTU EE","MMBTU BE","EE CO2","BE CO2","Rebate per unit",null,"$/kWh","Total Rebate","Bonus","Total Rebate + Bonus"]
[{"$f":"IF('Appliances Worksheet'!E56=\"\",\"\",IF('Appliances Worksheet'!G56='Appliances References'!$B$8,'Appliances References'!$N$5,'Appliances References'!$N$6))","v":""},{"$f":"IF('Appliances Worksheet'!E56=\"\",\"\",'Appliances Worksheet'!E56)","v":""},{"$f":"IF($A38=\"\",\"\",INDEX('Appliances References'!$R$5:$R$36,MATCH($A38,'Appliances References'!$N$5:$N$36,0)))","v":""},{"$f":"IF($A38=\"\",\"\",INDEX('Appliances References'!$S$5:$S$36,MATCH($A38,'Appliances References'!$N$5:$N$36,0)))","v":""},{"$f":"IF($A38=\"\",\"\",INDEX('Appliances References'!$T$5:$T$36,MATCH($A38,'Appliances References'!$N$5:$N$36,0)))","v":""},{"$f":"IF($A38=\"\",\"\",INDEX('Appliances References'!$U$5:$U$36,MATCH($A38,'Appliances References'!$N$5:$N$36,0)))","v":""},{"$f":"IF($A38=\"\",\"\",INDEX('Appliances References'!$V$5:$V$36,MATCH($A38,'Appliances References'!$N$5:$N$36,0)))","v":""},{"$f":"IF($A38=\"\",\"\",INDEX('Appliances References'!$W$5:$W$36,MATCH($A38,'Appliances References'!$N$5:$N$36,0)))","v":""},{"$f":"IF($A38=\"\",\"\",INDEX('Appliances References'!$Y$5:$Y$36,MATCH($A38,'Appliances References'!$N$5:$N$36,0)))","v":""},{"$f":"IF($A38=\"\",\"\",INDEX('Appliances References'!$Z$5:$Z$36,MATCH($A38,'Appliances References'!$N$5:$N$36,0)))","v":""},{"$f":"IF($A38=\"\",\"\",INDEX('Appliances References'!$AJ$5:$AJ$36,MATCH($A38,'Appliances References'!$N$5:$N$36,0)))","v":""},null,{"$f":"IF(D38=\"\",\"\",K38/D38)","v":""},{"$f":"IF(B38>0,B38*K38,\"\")","v":{"$error":"#VALUE!"}},{"$f":"IF(B38>0,N38*References!$BX$23,\"\")","v":{"$error":"#VALUE!"}},{"$f":"IF(B38>0,N38+O38,\"\")","v":{"$error":"#VALUE!"}}]
[{"$f":"IF('Appliances Worksheet'!E57=\"\",\"\",IF('Appliances Worksheet'!G57='Appliances References'!$B$8,'Appliances References'!$N$5,'Appliances References'!$N$6))","v":""},{"$f":"IF('Appliances Worksheet'!E57=\"\",\"\",'Appliances Worksheet'!E57)","v":""},{"$f":"IF($A39=\"\",\"\",INDEX('Appliances References'!$R$5:$R$36,MATCH($A39,'Appliances References'!$N$5:$N$36,0)))","v":""},{"$f":"IF($A39=\"\",\"\",INDEX('Appliances References'!$S$5:$S$36,MATCH($A39,'Appliances References'!$N$5:$N$36,0)))","v":""},{"$f":"IF($A39=\"\",\"\",INDEX('Appliances References'!$T$5:$T$36,MATCH($A39,'Appliances References'!$N$5:$N$36,0)))","v":""},{"$f":"IF($A39=\"\",\"\",INDEX('Appliances References'!$U$5:$U$36,MATCH($A39,'Appliances References'!$N$5:$N$36,0)))","v":""},{"$f":"IF($A39=\"\",\"\",INDEX('Appliances References'!$V$5:$V$36,MATCH($A39,'Appliances References'!$N$5:$N$36,0)))","v":""},{"$f":"IF($A39=\"\",\"\",INDEX('Appliances References'!$W$5:$W$36,MATCH($A39,'Appliances References'!$N$5:$N$36,0)))","v":""},{"$f":"IF($A39=\"\",\"\",INDEX('Appliances References'!$Y$5:$Y$36,MATCH($A39,'Appliances References'!$N$5:$N$36,0)))","v":""},{"$f":"IF($A39=\"\",\"\",INDEX('Appliances References'!$Z$5:$Z$36,MATCH($A39,'Appliances References'!$N$5:$N$36,0)))","v":""},{"$f":"IF($A39=\"\",\"\",INDEX('Appliances References'!$AJ$5:$AJ$36,MATCH($A39,'Appliances References'!$N$5:$N$36,0)))","v":""},null,{"$f":"IF(D39=\"\",\"\",K39/D39)","v":""},{"$error":"#VALUE!"},{"$f":"IF(B39>0,N39*References!$BX$23,\"\")","v":{"$error":"#VALUE!"}},{"$error":"#VALUE!"}]
[{"$f":"IF('Appliances Worksheet'!E58=\"\",\"\",IF('Appliances Worksheet'!G58='Appliances References'!$B$8,'Appliances References'!$N$5,'Appliances References'!$N$6))","v":""},{"$f":"IF('Appliances Worksheet'!E58=\"\",\"\",'Appliances Worksheet'!E58)","v":""},{"$f":"IF($A40=\"\",\"\",INDEX('Appliances References'!$R$5:$R$36,MATCH($A40,'Appliances References'!$N$5:$N$36,0)))","v":""},{"$f":"IF($A40=\"\",\"\",INDEX('Appliances References'!$S$5:$S$36,MATCH($A40,'Appliances References'!$N$5:$N$36,0)))","v":""},{"$f":"IF($A40=\"\",\"\",INDEX('Appliances References'!$T$5:$T$36,MATCH($A40,'Appliances References'!$N$5:$N$36,0)))","v":""},{"$f":"IF($A40=\"\",\"\",INDEX('Appliances References'!$U$5:$U$36,MATCH($A40,'Appliances References'!$N$5:$N$36,0)))","v":""},{"$f":"IF($A40=\"\",\"\",INDEX('Appliances References'!$V$5:$V$36,MATCH($A40,'Appliances References'!$N$5:$N$36,0)))","v":""},{"$f":"IF($A40=\"\",\"\",INDEX('Appliances References'!$W$5:$W$36,MATCH($A40,'Appliances References'!$N$5:$N$36,0)))","v":""},{"$f":"IF($A40=\"\",\"\",INDEX('Appliances References'!$Y$5:$Y$36,MATCH($A40,'Appliances References'!$N$5:$N$36,0)))","v":""},{"$f":"IF($A40=\"\",\"\",INDEX('Appliances References'!$Z$5:$Z$36,MATCH($A40,'Appliances References'!$N$5:$N$36,0)))","v":""},{"$f":"IF($A40=\"\",\"\",INDEX('Appliances References'!$AJ$5:$AJ$36,MATCH($A40,'Appliances References'!$N$5:$N$36,0)))","v":""},null,"",{"$error":"#VALUE!"},{"$f":"IF(B40>0,N40*References!$BX$23,\"\")","v":{"$error":"#VALUE!"}},{"$error":"#VALUE!"}]
[{"$f":"IF('Appliances Worksheet'!E59=\"\",\"\",IF('Appliances Worksheet'!G59='Appliances References'!$B$8,'Appliances References'!$N$5,'Appliances References'!$N$6))","v":""},{"$f":"IF('Appliances Worksheet'!E59=\"\",\"\",'Appliances Worksheet'!E59)","v":""},{"$f":"IF($A41=\"\",\"\",INDEX('Appliances References'!$R$5:$R$36,MATCH($A41,'Appliances References'!$N$5:$N$36,0)))","v":""},{"$f":"IF($A41=\"\",\"\",INDEX('Appliances References'!$S$5:$S$36,MATCH($A41,'Appliances References'!$N$5:$N$36,0)))","v":""},{"$f":"IF($A41=\"\",\"\",INDEX('Appliances References'!$T$5:$T$36,MATCH($A41,'Appliances References'!$N$5:$N$36,0)))","v":""},{"$f":"IF($A41=\"\",\"\",INDEX('Appliances References'!$U$5:$U$36,MATCH($A41,'Appliances References'!$N$5:$N$36,0)))","v":""},{"$f":"IF($A41=\"\",\"\",INDEX('Appliances References'!$V$5:$V$36,MATCH($A41,'Appliances References'!$N$5:$N$36,0)))","v":""},{"$f":"IF($A41=\"\",\"\",INDEX('Appliances References'!$W$5:$W$36,MATCH($A41,'Appliances References'!$N$5:$N$36,0)))","v":""},{"$f":"IF($A41=\"\",\"\",INDEX('Appliances References'!$Y$5:$Y$36,MATCH($A41,'Appliances References'!$N$5:$N$36,0)))","v":""},{"$f":"IF($A41=\"\",\"\",INDEX('Appliances References'!$Z$5:$Z$36,MATCH($A41,'Appliances References'!$N$5:$N$36,0)))","v":""},{"$f":"IF($A41=\"\",\"\",INDEX('Appliances References'!$AJ$5:$AJ$36,MATCH($A41,'Appliances References'!$N$5:$N$36,0)))","v":""},null,"",{"$error":"#VALUE!"},{"$f":"IF(B41>0,N41*References!$BX$23,\"\")","v":{"$error":"#VALUE!"}},{"$error":"#VALUE!"}]
[]
[]
[]
[]
[]
[]
["ME Clothes Dryer"]
["Device","Proposed Qty","Gross kW per unit","EE kWh per unit","Winter kW saved","BE kWh saved","MMBTU EE","MMBTU BE","EE CO2","BE CO2","Rebate per unit",null,"$/kWh","Total Rebate","Bonus","Total Rebate + Bonus"]
[{"$f":"IF('Appliances Worksheet'!E68=\"\",\"\",'Appliances References'!$N$9)","v":""},{"$f":"IF('Appliances Worksheet'!E68=\"\",\"\",'Appliances Worksheet'!E68)","v":""},{"$f":"IF($A50=\"\",\"\",INDEX('Appliances References'!$R$5:$R$36,MATCH($A50,'Appliances References'!$N$5:$N$36,0)))","v":""},{"$f":"IF($A50=\"\",\"\",INDEX('Appliances References'!$S$5:$S$36,MATCH($A50,'Appliances References'!$N$5:$N$36,0)))","v":""},{"$f":"IF($A50=\"\",\"\",INDEX('Appliances References'!$T$5:$T$36,MATCH($A50,'Appliances References'!$N$5:$N$36,0)))","v":""},{"$f":"IF($A50=\"\",\"\",INDEX('Appliances References'!$U$5:$U$36,MATCH($A50,'Appliances References'!$N$5:$N$36,0)))","v":""},{"$f":"IF($A50=\"\",\"\",INDEX('Appliances References'!$V$5:$V$36,MATCH($A50,'Appliances References'!$N$5:$N$36,0)))","v":""},{"$f":"IF($A50=\"\",\"\",INDEX('Appliances References'!$W$5:$W$36,MATCH($A50,'Appliances References'!$N$5:$N$36,0)))","v":""},{"$f":"IF($A50=\"\",\"\",INDEX('Appliances References'!$Y$5:$Y$36,MATCH($A50,'Appliances References'!$N$5:$N$36,0)))","v":""},{"$f":"IF($A50=\"\",\"\",INDEX('Appliances References'!$Z$5:$Z$36,MATCH($A50,'Appliances References'!$N$5:$N$36,0)))","v":""},{"$f":"IF($A50=\"\",\"\",INDEX('Appliances References'!$AJ$5:$AJ$36,MATCH($A50,'Appliances References'!$N$5:$N$36,0)))","v":""},null,{"$f":"IF(D50=\"\",\"\",K50/D50)","v":""},{"$f":"IF(B50>0,B50*K50,\"\")","v":{"$error":"#VALUE!"}},{"$f":"IF(B50>0,N50*References!$BX$23,\"\")","v":{"$error":"#VALUE!"}},{"$f":"IF(B50>0,N50+O50,\"\")","v":{"$error":"#VALUE!"}}]
[{"$f":"IF('Appliances Worksheet'!E69=\"\",\"\",'Appliances References'!$N$9)","v":""},{"$f":"IF('Appliances Worksheet'!E69=\"\",\"\",'Appliances Worksheet'!E69)","v":""},{"$f":"IF($A51=\"\",\"\",INDEX('Appliances References'!$R$5:$R$36,MATCH($A51,'Appliances References'!$N$5:$N$36,0)))","v":""},{"$f":"IF($A51=\"\",\"\",INDEX('Appliances References'!$S$5:$S$36,MATCH($A51,'Appliances References'!$N$5:$N$36,0)))","v":""},{"$f":"IF($A51=\"\",\"\",INDEX('Appliances References'!$T$5:$T$36,MATCH($A51,'Appliances References'!$N$5:$N$36,0)))","v":""},{"$f":"IF($A51=\"\",\"\",INDEX('Appliances References'!$U$5:$U$36,MATCH($A51,'Appliances References'!$N$5:$N$36,0)))","v":""},{"$f":"IF($A51=\"\",\"\",INDEX('Appliances References'!$V$5:$V$36,MATCH($A51,'Appliances References'!$N$5:$N$36,0)))","v":""},{"$f":"IF($A51=\"\",\"\",INDEX('Appliances References'!$W$5:$W$36,MATCH($A51,'Appliances References'!$N$5:$N$36,0)))","v":""},{"$f":"IF($A51=\"\",\"\",INDEX('Appliances References'!$Y$5:$Y$36,MATCH($A51,'Appliances References'!$N$5:$N$36,0)))","v":""},{"$f":"IF($A51=\"\",\"\",INDEX('Appliances References'!$Z$5:$Z$36,MATCH($A51,'Appliances References'!$N$5:$N$36,0)))","v":""},{"$f":"IF($A51=\"\",\"\",INDEX('Appliances References'!$AJ$5:$AJ$36,MATCH($A51,'Appliances References'!$N$5:$N$36,0)))","v":""},null,"",{"$error":"#VALUE!"},{"$f":"IF(B51>0,N51*References!$BX$23,\"\")","v":{"$error":"#VALUE!"}},{"$error":"#VALUE!"}]
[{"$f":"IF('Appliances Worksheet'!E70=\"\",\"\",'Appliances References'!$N$9)","v":""},{"$f":"IF('Appliances Worksheet'!E70=\"\",\"\",'Appliances Worksheet'!E70)","v":""},{"$f":"IF($A52=\"\",\"\",INDEX('Appliances References'!$R$5:$R$36,MATCH($A52,'Appliances References'!$N$5:$N$36,0)))","v":""},{"$f":"IF($A52=\"\",\"\",INDEX('Appliances References'!$S$5:$S$36,MATCH($A52,'Appliances References'!$N$5:$N$36,0)))","v":""},{"$f":"IF($A52=\"\",\"\",INDEX('Appliances References'!$T$5:$T$36,MATCH($A52,'Appliances References'!$N$5:$N$36,0)))","v":""},{"$f":"IF($A52=\"\",\"\",INDEX('Appliances References'!$U$5:$U$36,MATCH($A52,'Appliances References'!$N$5:$N$36,0)))","v":""},{"$f":"IF($A52=\"\",\"\",INDEX('Appliances References'!$V$5:$V$36,MATCH($A52,'Appliances References'!$N$5:$N$36,0)))","v":""},{"$f":"IF($A52=\"\",\"\",INDEX('Appliances References'!$W$5:$W$36,MATCH($A52,'Appliances References'!$N$5:$N$36,0)))","v":""},{"$f":"IF($A52=\"\",\"\",INDEX('Appliances References'!$Y$5:$Y$36,MATCH($A52,'Appliances References'!$N$5:$N$36,0)))","v":""},{"$f":"IF($A52=\"\",\"\",INDEX('Appliances References'!$Z$5:$Z$36,MATCH($A52,'Appliances References'!$N$5:$N$36,0)))","v":""},{"$f":"IF($A52=\"\",\"\",INDEX('Appliances References'!$AJ$5:$AJ$36,MATCH($A52,'Appliances References'!$N$5:$N$36,0)))","v":""},null,"",{"$error":"#VALUE!"},{"$f":"IF(B52>0,N52*References!$BX$23,\"\")","v":{"$error":"#VALUE!"}},{"$error":"#VALUE!"}]
[{"$f":"IF('Appliances Worksheet'!E71=\"\",\"\",'Appliances References'!$N$9)","v":""},{"$f":"IF('Appliances Worksheet'!E71=\"\",\"\",'Appliances Worksheet'!E71)","v":""},{"$f":"IF($A53=\"\",\"\",INDEX('Appliances References'!$R$5:$R$36,MATCH($A53,'Appliances References'!$N$5:$N$36,0)))","v":""},{"$f":"IF($A53=\"\",\"\",INDEX('Appliances References'!$S$5:$S$36,MATCH($A53,'Appliances References'!$N$5:$N$36,0)))","v":""},{"$f":"IF($A53=\"\",\"\",INDEX('Appliances References'!$T$5:$T$36,MATCH($A53,'Appliances References'!$N$5:$N$36,0)))","v":""},{"$f":"IF($A53=\"\",\"\",INDEX('Appliances References'!$U$5:$U$36,MATCH($A53,'Appliances References'!$N$5:$N$36,0)))","v":""},{"$f":"IF($A53=\"\",\"\",INDEX('Appliances References'!$V$5:$V$36,MATCH($A53,'Appliances References'!$N$5:$N$36,0)))","v":""},{"$f":"IF($A53=\"\",\"\",INDEX('Appliances References'!$W$5:$W$36,MATCH($A53,'Appliances References'!$N$5:$N$36,0)))","v":""},{"$f":"IF($A53=\"\",\"\",INDEX('Appliances References'!$Y$5:$Y$36,MATCH($A53,'Appliances References'!$N$5:$N$36,0)))","v":""},{"$f":"IF($A53=\"\",\"\",INDEX('Appliances References'!$Z$5:$Z$36,MATCH($A53,'Appliances References'!$N$5:$N$36,0)))","v":""},{"$f":"IF($A53=\"\",\"\",INDEX('Appliances References'!$AJ$5:$AJ$36,MATCH($A53,'Appliances References'!$N$5:$N$36,0)))","v":""},null,"",{"$error":"#VALUE!"},{"$f":"IF(B53>0,N53*References!$BX$23,\"\")","v":{"$error":"#VALUE!"}},{"$error":"#VALUE!"}]
[]
[]
[]
[]
[]
[]
["ME Clothes Washer"]
["Device","Proposed Qty","Gross kW per unit","EE kWh per unit","Winter kW saved","BE kWh saved","MMBTU EE","MMBTU BE","EE CO2","BE CO2","Rebate per unit",null,"$/kWh","Total Rebate","Bonus","Total Rebate + Bonus"]
[{"$f":"IF('Appliances Worksheet'!E80=\"\",\"\",'Appliances References'!$N$7)","v":""},{"$f":"IF('Appliances Worksheet'!E80=\"\",\"\",'Appliances Worksheet'!E80)","v":""},{"$f":"IF($A62=\"\",\"\",INDEX('Appliances References'!$R$5:$R$36,MATCH($A62,'Appliances References'!$N$5:$N$36,0)))","v":""},{"$f":"IF($A62=\"\",\"\",INDEX('Appliances References'!$S$5:$S$36,MATCH($A62,'Appliances References'!$N$5:$N$36,0)))","v":""},{"$f":"IF($A62=\"\",\"\",INDEX('Appliances References'!$T$5:$T$36,MATCH($A62,'Appliances References'!$N$5:$N$36,0)))","v":""},{"$f":"IF($A62=\"\",\"\",INDEX('Appliances References'!$U$5:$U$36,MATCH($A62,'Appliances References'!$N$5:$N$36,0)))","v":""},{"$f":"IF($A62=\"\",\"\",INDEX('Appliances References'!$V$5:$V$36,MATCH($A62,'Appliances References'!$N$5:$N$36,0)))","v":""},{"$f":"IF($A62=\"\",\"\",INDEX('Appliances References'!$W$5:$W$36,MATCH($A62,'Appliances References'!$N$5:$N$36,0)))","v":""},{"$f":"IF($A62=\"\",\"\",INDEX('Appliances References'!$Y$5:$Y$36,MATCH($A62,'Appliances References'!$N$5:$N$36,0)))","v":""},{"$f":"IF($A62=\"\",\"\",INDEX('Appliances References'!$Z$5:$Z$36,MATCH($A62,'Appliances References'!$N$5:$N$36,0)))","v":""},{"$f":"IF($A62=\"\",\"\",INDEX('Appliances References'!$AJ$5:$AJ$36,MATCH($A62,'Appliances References'!$N$5:$N$36,0)))","v":""},null,{"$f":"IF(D62=\"\",\"\",K62/D62)","v":""},{"$f":"IF(B62>0,B62*K62,\"\")","v":{"$error":"#VALUE!"}},{"$f":"IF(B62>0,N62*References!$BX$23,\"\")","v":{"$error":"#VALUE!"}},{"$f":"IF(B62>0,N62+O62,\"\")","v":{"$error":"#VALUE!"}}]
[{"$f":"IF('Appliances Worksheet'!E81=\"\",\"\",'Appliances References'!$N$7)","v":""},{"$f":"IF('Appliances Worksheet'!E81=\"\",\"\",'Appliances Worksheet'!E81)","v":""},{"$f":"IF($A63=\"\",\"\",INDEX('Appliances References'!$R$5:$R$36,MATCH($A63,'Appliances References'!$N$5:$N$36,0)))","v":""},{"$f":"IF($A63=\"\",\"\",INDEX('Appliances References'!$S$5:$S$36,MATCH($A63,'Appliances References'!$N$5:$N$36,0)))","v":""},{"$f":"IF($A63=\"\",\"\",INDEX('Appliances References'!$T$5:$T$36,MATCH($A63,'Appliances References'!$N$5:$N$36,0)))","v":""},{"$f":"IF($A63=\"\",\"\",INDEX('Appliances References'!$U$5:$U$36,MATCH($A63,'Appliances References'!$N$5:$N$36,0)))","v":""},{"$f":"IF($A63=\"\",\"\",INDEX('Appliances References'!$V$5:$V$36,MATCH($A63,'Appliances References'!$N$5:$N$36,0)))","v":""},{"$f":"IF($A63=\"\",\"\",INDEX('Appliances References'!$W$5:$W$36,MATCH($A63,'Appliances References'!$N$5:$N$36,0)))","v":""},{"$f":"IF($A63=\"\",\"\",INDEX('Appliances References'!$Y$5:$Y$36,MATCH($A63,'Appliances References'!$N$5:$N$36,0)))","v":""},{"$f":"IF($A63=\"\",\"\",INDEX('Appliances References'!$Z$5:$Z$36,MATCH($A63,'Appliances References'!$N$5:$N$36,0)))","v":""},{"$f":"IF($A63=\"\",\"\",INDEX('Appliances References'!$AJ$5:$AJ$36,MATCH($A63,'Appliances References'!$N$5:$N$36,0)))","v":""},null,"",{"$error":"#VALUE!"},{"$f":"IF(B63>0,N63*References!$BX$23,\"\")","v":{"$error":"#VALUE!"}},{"$error":"#VALUE!"}]
[{"$f":"IF('Appliances Worksheet'!E82=\"\",\"\",'Appliances References'!$N$7)","v":""},{"$f":"IF('Appliances Worksheet'!E82=\"\",\"\",'Appliances Worksheet'!E82)","v":""},{"$f":"IF($A64=\"\",\"\",INDEX('Appliances References'!$R$5:$R$36,MATCH($A64,'Appliances References'!$N$5:$N$36,0)))","v":""},{"$f":"IF($A64=\"\",\"\",INDEX('Appliances References'!$S$5:$S$36,MATCH($A64,'Appliances References'!$N$5:$N$36,0)))","v":""},{"$f":"IF($A64=\"\",\"\",INDEX('Appliances References'!$T$5:$T$36,MATCH($A64,'Appliances References'!$N$5:$N$36,0)))","v":""},{"$f":"IF($A64=\"\",\"\",INDEX('Appliances References'!$U$5:$U$36,MATCH($A64,'Appliances References'!$N$5:$N$36,0)))","v":""},{"$f":"IF($A64=\"\",\"\",INDEX('Appliances References'!$V$5:$V$36,MATCH($A64,'Appliances References'!$N$5:$N$36,0)))","v":""},{"$f":"IF($A64=\"\",\"\",INDEX('Appliances References'!$W$5:$W$36,MATCH($A64,'Appliances References'!$N$5:$N$36,0)))","v":""},{"$f":"IF($A64=\"\",\"\",INDEX('Appliances References'!$Y$5:$Y$36,MATCH($A64,'Appliances References'!$N$5:$N$36,0)))","v":""},{"$f":"IF($A64=\"\",\"\",INDEX('Appliances References'!$Z$5:$Z$36,MATCH($A64,'Appliances References'!$N$5:$N$36,0)))","v":""},{"$f":"IF($A64=\"\",\"\",INDEX('Appliances References'!$AJ$5:$AJ$36,MATCH($A64,'Appliances References'!$N$5:$N$36,0)))","v":""},null,"",{"$error":"#VALUE!"},{"$f":"IF(B64>0,N64*References!$BX$23,\"\")","v":{"$error":"#VALUE!"}},{"$error":"#VALUE!"}]
[{"$f":"IF('Appliances Worksheet'!E83=\"\",\"\",'Appliances References'!$N$7)","v":""},{"$f":"IF('Appliances Worksheet'!E83=\"\",\"\",'Appliances Worksheet'!E83)","v":""},{"$f":"IF($A65=\"\",\"\",INDEX('Appliances References'!$R$5:$R$36,MATCH($A65,'Appliances References'!$N$5:$N$36,0)))","v":""},{"$f":"IF($A65=\"\",\"\",INDEX('Appliances References'!$S$5:$S$36,MATCH($A65,'Appliances References'!$N$5:$N$36,0)))","v":""},{"$f":"IF($A65=\"\",\"\",INDEX('Appliances References'!$T$5:$T$36,MATCH($A65,'Appliances References'!$N$5:$N$36,0)))","v":""},{"$f":"IF($A65=\"\",\"\",INDEX('Appliances References'!$U$5:$U$36,MATCH($A65,'Appliances References'!$N$5:$N$36,0)))","v":""},{"$f":"IF($A65=\"\",\"\",INDEX('Appliances References'!$V$5:$V$36,MATCH($A65,'Appliances References'!$N$5:$N$36,0)))","v":""},{"$f":"IF($A65=\"\",\"\",INDEX('Appliances References'!$W$5:$W$36,MATCH($A65,'Appliances References'!$N$5:$N$36,0)))","v":""},{"$f":"IF($A65=\"\",\"\",INDEX('Appliances References'!$Y$5:$Y$36,MATCH($A65,'Appliances References'!$N$5:$N$36,0)))","v":""},{"$f":"IF($A65=\"\",\"\",INDEX('Appliances References'!$Z$5:$Z$36,MATCH($A65,'Appliances References'!$N$5:$N$36,0)))","v":""},{"$f":"IF($A65=\"\",\"\",INDEX('Appliances References'!$AJ$5:$AJ$36,MATCH($A65,'Appliances References'!$N$5:$N$36,0)))","v":""},null,"",{"$error":"#VALUE!"},{"$f":"IF(B65>0,N65*References!$BX$23,\"\")","v":{"$error":"#VALUE!"}},{"$error":"#VALUE!"}]
[]
[]
[]
[]
[]
[]
["Smart Thermostat - Learning"]
["Device","Proposed Qty","Gross kW per unit","EE kWh per unit","Winter kW saved","BE kWh saved","MMBTU EE","MMBTU BE","EE CO2","BE CO2","Rebate per unit",null,"$/kWh","Total Rebate","Bonus","Total Rebate + Bonus"]
[null,null,null,null,null,null,null,null,null,null,null,null,null,{"$f":"IF(B74>0,B74*K74,\"\")","v":""},{"$f":"IF(B74>0,N74*References!$BX$23,\"\")","v":""},""]
[null,null,null,null,null,null,null,null,null,null,null,null,null,"",{"$f":"IF(B75>0,N75*References!$BX$23,\"\")","v":""},""]
[null,null,null,null,null,null,null,null,null,null,null,null,null,"",{"$f":"IF(B76>0,N76*References!$BX$23,\"\")","v":""},""]
[null,null,null,null,null,null,null,null,null,null,null,null,null,"",{"$f":"IF(B77>0,N77*References!$BX$23,\"\")","v":""},""]
[]
[]
[]
[]
[]
[]
["Solar Pool Cover"]
["Device","Proposed Qty","Gross kW per unit","EE kWh per unit","Winter kW saved","BE kWh saved","MMBTU EE","MMBTU BE","EE CO2","BE CO2","Rebate per unit",null,"$/kWh","Total Rebate","Bonus","Total Rebate + Bonus"]
[{"$f":"IF('Appliances Worksheet'!E104=\"\",\"\",'Appliances References'!$N$30)","v":""},{"$f":"IF('Appliances Worksheet'!E104=\"\",\"\",'Appliances Worksheet'!E104)","v":""},{"$f":"IF($A86=\"\",\"\",INDEX('Appliances References'!$R$5:$R$36,MATCH($A86,'Appliances References'!$N$5:$N$36,0)))","v":""},{"$f":"IF($A86=\"\",\"\",INDEX('Appliances References'!$S$5:$S$36,MATCH($A86,'Appliances References'!$N$5:$N$36,0)))","v":""},{"$f":"IF($A86=\"\",\"\",INDEX('Appliances References'!$T$5:$T$36,MATCH($A86,'Appliances References'!$N$5:$N$36,0)))","v":""},{"$f":"IF($A86=\"\",\"\",INDEX('Appliances References'!$U$5:$U$36,MATCH($A86,'Appliances References'!$N$5:$N$36,0)))","v":""},{"$f":"IF($A86=\"\",\"\",INDEX('Appliances References'!$V$5:$V$36,MATCH($A86,'Appliances References'!$N$5:$N$36,0)))","v":""},{"$f":"IF($A86=\"\",\"\",INDEX('Appliances References'!$W$5:$W$36,MATCH($A86,'Appliances References'!$N$5:$N$36,0)))","v":""},{"$f":"IF($A86=\"\",\"\",INDEX('Appliances References'!$Y$5:$Y$36,MATCH($A86,'Appliances References'!$N$5:$N$36,0)))","v":""},{"$f":"IF($A86=\"\",\"\",INDEX('Appliances References'!$Z$5:$Z$36,MATCH($A86,'Appliances References'!$N$5:$N$36,0)))","v":""},{"$f":"IF($A86=\"\",\"\",INDEX('Appliances References'!$AJ$5:$AJ$36,MATCH($A86,'Appliances References'!$N$5:$N$36,0)))","v":""},null,{"$f":"IF(D86=\"\",\"\",K86/D86)","v":""},{"$error":"#VALUE!"},{"$f":"IF(B86>0,0,\"\")","v":0},{"$error":"#VALUE!"}]
[{"$f":"IF('Appliances Worksheet'!E105=\"\",\"\",'Appliances References'!$N$30)","v":""},{"$f":"IF('Appliances Worksheet'!E105=\"\",\"\",'Appliances Worksheet'!E105)","v":""},{"$f":"IF($A87=\"\",\"\",INDEX('Appliances References'!$R$5:$R$36,MATCH($A87,'Appliances References'!$N$5:$N$36,0)))","v":""},{"$f":"IF($A87=\"\",\"\",INDEX('Appliances References'!$S$5:$S$36,MATCH($A87,'Appliances References'!$N$5:$N$36,0)))","v":""},{"$f":"IF($A87=\"\",\"\",INDEX('Appliances References'!$T$5:$T$36,MATCH($A87,'Appliances References'!$N$5:$N$36,0)))","v":""},{"$f":"IF($A87=\"\",\"\",INDEX('Appliances References'!$U$5:$U$36,MATCH($A87,'Appliances References'!$N$5:$N$36,0)))","v":""},{"$f":"IF($A87=\"\",\"\",INDEX('Appliances References'!$V$5:$V$36,MATCH($A87,'Appliances References'!$N$5:$N$36,0)))","v":""},{"$f":"IF($A87=\"\",\"\",INDEX('Appliances References'!$W$5:$W$36,MATCH($A87,'Appliances References'!$N$5:$N$36,0)))","v":""},{"$f":"IF($A87=\"\",\"\",INDEX('Appliances References'!$Y$5:$Y$36,MATCH($A87,'Appliances References'!$N$5:$N$36,0)))","v":""},{"$f":"IF($A87=\"\",\"\",INDEX('Appliances References'!$Z$5:$Z$36,MATCH($A87,'Appliances References'!$N$5:$N$36,0)))","v":""},{"$f":"IF($A87=\"\",\"\",INDEX('Appliances References'!$AJ$5:$AJ$36,MATCH($A87,'Appliances References'!$N$5:$N$36,0)))","v":""},null,"",{"$error":"#VALUE!"},{"$f":"IF(B87>0,0,\"\")","v":0},{"$error":"#VALUE!"}]
[{"$f":"IF('Appliances Worksheet'!E106=\"\",\"\",'Appliances References'!$N$30)","v":""},{"$f":"IF('Appliances Worksheet'!E106=\"\",\"\",'Appliances Worksheet'!E106)","v":""},{"$f":"IF($A88=\"\",\"\",INDEX('Appliances References'!$R$5:$R$36,MATCH($A88,'Appliances References'!$N$5:$N$36,0)))","v":""},{"$f":"IF($A88=\"\",\"\",INDEX('Appliances References'!$S$5:$S$36,MATCH($A88,'Appliances References'!$N$5:$N$36,0)))","v":""},{"$f":"IF($A88=\"\",\"\",INDEX('Appliances References'!$T$5:$T$36,MATCH($A88,'Appliances References'!$N$5:$N$36,0)))","v":""},{"$f":"IF($A88=\"\",\"\",INDEX('Appliances References'!$U$5:$U$36,MATCH($A88,'Appliances References'!$N$5:$N$36,0)))","v":""},{"$f":"IF($A88=\"\",\"\",INDEX('Appliances References'!$V$5:$V$36,MATCH($A88,'Appliances References'!$N$5:$N$36,0)))","v":""},{"$f":"IF($A88=\"\",\"\",INDEX('Appliances References'!$W$5:$W$36,MATCH($A88,'Appliances References'!$N$5:$N$36,0)))","v":""},{"$f":"IF($A88=\"\",\"\",INDEX('Appliances References'!$Y$5:$Y$36,MATCH($A88,'Appliances References'!$N$5:$N$36,0)))","v":""},{"$f":"IF($A88=\"\",\"\",INDEX('Appliances References'!$Z$5:$Z$36,MATCH($A88,'Appliances References'!$N$5:$N$36,0)))","v":""},{"$f":"IF($A88=\"\",\"\",INDEX('Appliances References'!$AJ$5:$AJ$36,MATCH($A88,'Appliances References'!$N$5:$N$36,0)))","v":""},null,"",{"$error":"#VALUE!"},0,{"$error":"#VALUE!"}]
[{"$f":"IF('Appliances Worksheet'!E107=\"\",\"\",'Appliances References'!$N$30)","v":""},{"$f":"IF('Appliances Worksheet'!E107=\"\",\"\",'Appliances Worksheet'!E107)","v":""},{"$f":"IF($A89=\"\",\"\",INDEX('Appliances References'!$R$5:$R$36,MATCH($A89,'Appliances References'!$N$5:$N$36,0)))","v":""},{"$f":"IF($A89=\"\",\"\",INDEX('Appliances References'!$S$5:$S$36,MATCH($A89,'Appliances References'!$N$5:$N$36,0)))","v":""},{"$f":"IF($A89=\"\",\"\",INDEX('Appliances References'!$T$5:$T$36,MATCH($A89,'Appliances References'!$N$5:$N$36,0)))","v":""},{"$f":"IF($A89=\"\",\"\",INDEX('Appliances References'!$U$5:$U$36,MATCH($A89,'Appliances References'!$N$5:$N$36,0)))","v":""},{"$f":"IF($A89=\"\",\"\",INDEX('Appliances References'!$V$5:$V$36,MATCH($A89,'Appliances References'!$N$5:$N$36,0)))","v":""},{"$f":"IF($A89=\"\",\"\",INDEX('Appliances References'!$W$5:$W$36,MATCH($A89,'Appliances References'!$N$5:$N$36,0)))","v":""},{"$f":"IF($A89=\"\",\"\",INDEX('Appliances References'!$Y$5:$Y$36,MATCH($A89,'Appliances References'!$N$5:$N$36,0)))","v":""},{"$f":"IF($A89=\"\",\"\",INDEX('Appliances References'!$Z$5:$Z$36,MATCH($A89,'Appliances References'!$N$5:$N$36,0)))","v":""},{"$f":"IF($A89=\"\",\"\",INDEX('Appliances References'!$AJ$5:$AJ$36,MATCH($A89,'Appliances References'!$N$5:$N$36,0)))","v":""},null,"",{"$error":"#VALUE!"},0,{"$error":"#VALUE!"}]
[]
[]
[]
[]
[]
[]
["Heat Pump Pool Heater"]
["Device","Proposed Qty","Gross kW per unit","EE kWh per unit","Winter kW saved","BE kWh saved","MMBTU EE","MMBTU BE","EE CO2","BE CO2","Rebate per unit",null,"$/kWh","Total Rebate","Bonus","Total Rebate + Bonus"]
[{"$f":"IF('Appliances Worksheet'!E116=\"\",\"\",'Appliances References'!$N$29)","v":""},{"$f":"IF('Appliances Worksheet'!E116=\"\",\"\",'Appliances Worksheet'!E116)","v":""},{"$f":"IF($A98=\"\",\"\",INDEX('Appliances References'!$R$5:$R$36,MATCH($A98,'Appliances References'!$N$5:$N$36,0)))","v":""},{"$f":"IF($A98=\"\",\"\",INDEX('Appliances References'!$S$5:$S$36,MATCH($A98,'Appliances References'!$N$5:$N$36,0)))","v":""},{"$f":"IF($A98=\"\",\"\",INDEX('Appliances References'!$T$5:$T$36,MATCH($A98,'Appliances References'!$N$5:$N$36,0)))","v":""},{"$f":"IF($A98=\"\",\"\",INDEX('Appliances References'!$U$5:$U$36,MATCH($A98,'Appliances References'!$N$5:$N$36,0)))","v":""},{"$f":"IF($A98=\"\",\"\",INDEX('Appliances References'!$V$5:$V$36,MATCH($A98,'Appliances References'!$N$5:$N$36,0)))","v":""},{"$f":"IF($A98=\"\",\"\",INDEX('Appliances References'!$W$5:$W$36,MATCH($A98,'Appliances References'!$N$5:$N$36,0)))","v":""},{"$f":"IF($A98=\"\",\"\",INDEX('Appliances References'!$Y$5:$Y$36,MATCH($A98,'Appliances References'!$N$5:$N$36,0)))","v":""},{"$f":"IF($A98=\"\",\"\",INDEX('Appliances References'!$Z$5:$Z$36,MATCH($A98,'Appliances References'!$N$5:$N$36,0)))","v":""},{"$f":"IF($A98=\"\",\"\",INDEX('Appliances References'!$AJ$5:$AJ$36,MATCH($A98,'Appliances References'!$N$5:$N$36,0)))","v":""},null,{"$f":"IF(D98=\"\",\"\",K98/D98)","v":""},{"$error":"#VALUE!"},{"$f":"IF(B98>0,0,\"\")","v":0},{"$error":"#VALUE!"}]
[{"$f":"IF('Appliances Worksheet'!E117=\"\",\"\",'Appliances References'!$N$29)","v":""},{"$f":"IF('Appliances Worksheet'!E117=\"\",\"\",'Appliances Worksheet'!E117)","v":""},{"$f":"IF($A99=\"\",\"\",INDEX('Appliances References'!$R$5:$R$36,MATCH($A99,'Appliances References'!$N$5:$N$36,0)))","v":""},{"$f":"IF($A99=\"\",\"\",INDEX('Appliances References'!$S$5:$S$36,MATCH($A99,'Appliances References'!$N$5:$N$36,0)))","v":""},{"$f":"IF($A99=\"\",\"\",INDEX('Appliances References'!$T$5:$T$36,MATCH($A99,'Appliances References'!$N$5:$N$36,0)))","v":""},{"$f":"IF($A99=\"\",\"\",INDEX('Appliances References'!$U$5:$U$36,MATCH($A99,'Appliances References'!$N$5:$N$36,0)))","v":""},{"$f":"IF($A99=\"\",\"\",INDEX('Appliances References'!$V$5:$V$36,MATCH($A99,'Appliances References'!$N$5:$N$36,0)))","v":""},{"$f":"IF($A99=\"\",\"\",INDEX('Appliances References'!$W$5:$W$36,MATCH($A99,'Appliances References'!$N$5:$N$36,0)))","v":""},{"$f":"IF($A99=\"\",\"\",INDEX('Appliances References'!$Y$5:$Y$36,MATCH($A99,'Appliances References'!$N$5:$N$36,0)))","v":""},{"$f":"IF($A99=\"\",\"\",INDEX('Appliances References'!$Z$5:$Z$36,MATCH($A99,'Appliances References'!$N$5:$N$36,0)))","v":""},{"$f":"IF($A99=\"\",\"\",INDEX('Appliances References'!$AJ$5:$AJ$36,MATCH($A99,'Appliances References'!$N$5:$N$36,0)))","v":""},null,"",{"$error":"#VALUE!"},{"$f":"IF(B99>0,N99*References!$BX$23,\"\")","v":{"$error":"#VALUE!"}},{"$error":"#VALUE!"}]
[{"$f":"IF('Appliances Worksheet'!E118=\"\",\"\",'Appliances References'!$N$29)","v":""},{"$f":"IF('Appliances Worksheet'!E118=\"\",\"\",'Appliances Worksheet'!E118)","v":""},{"$f":"IF($A100=\"\",\"\",INDEX('Appliances References'!$R$5:$R$36,MATCH($A100,'Appliances References'!$N$5:$N$36,0)))","v":""},{"$f":"IF($A100=\"\",\"\",INDEX('Appliances References'!$S$5:$S$36,MATCH($A100,'Appliances References'!$N$5:$N$36,0)))","v":""},{"$f":"IF($A100=\"\",\"\",INDEX('Appliances References'!$T$5:$T$36,MATCH($A100,'Appliances References'!$N$5:$N$36,0)))","v":""},{"$f":"IF($A100=\"\",\"\",INDEX('Appliances References'!$U$5:$U$36,MATCH($A100,'Appliances References'!$N$5:$N$36,0)))","v":""},{"$f":"IF($A100=\"\",\"\",INDEX('Appliances References'!$V$5:$V$36,MATCH($A100,'Appliances References'!$N$5:$N$36,0)))","v":""},{"$f":"IF($A100=\"\",\"\",INDEX('Appliances References'!$W$5:$W$36,MATCH($A100,'Appliances References'!$N$5:$N$36,0)))","v":""},{"$f":"IF($A100=\"\",\"\",INDEX('Appliances References'!$Y$5:$Y$36,MATCH($A100,'Appliances References'!$N$5:$N$36,0)))","v":""},{"$f":"IF($A100=\"\",\"\",INDEX('Appliances References'!$Z$5:$Z$36,MATCH($A100,'Appliances References'!$N$5:$N$36,0)))","v":""},{"$f":"IF($A100=\"\",\"\",INDEX('Appliances References'!$AJ$5:$AJ$36,MATCH($A100,'Appliances References'!$N$5:$N$36,0)))","v":""},null,"",{"$error":"#VALUE!"},{"$f":"IF(B100>0,N100*References!$BX$23,\"\")","v":{"$error":"#VALUE!"}},{"$error":"#VALUE!"}]
[{"$f":"IF('Appliances Worksheet'!E119=\"\",\"\",'Appliances References'!$N$29)","v":""},{"$f":"IF('Appliances Worksheet'!E119=\"\",\"\",'Appliances Worksheet'!E119)","v":""},{"$f":"IF($A101=\"\",\"\",INDEX('Appliances References'!$R$5:$R$36,MATCH($A101,'Appliances References'!$N$5:$N$36,0)))","v":""},{"$f":"IF($A101=\"\",\"\",INDEX('Appliances References'!$S$5:$S$36,MATCH($A101,'Appliances References'!$N$5:$N$36,0)))","v":""},{"$f":"IF($A101=\"\",\"\",INDEX('Appliances References'!$T$5:$T$36,MATCH($A101,'Appliances References'!$N$5:$N$36,0)))","v":""},{"$f":"IF($A101=\"\",\"\",INDEX('Appliances References'!$U$5:$U$36,MATCH($A101,'Appliances References'!$N$5:$N$36,0)))","v":""},{"$f":"IF($A101=\"\",\"\",INDEX('Appliances References'!$V$5:$V$36,MATCH($A101,'Appliances References'!$N$5:$N$36,0)))","v":""},{"$f":"IF($A101=\"\",\"\",INDEX('Appliances References'!$W$5:$W$36,MATCH($A101,'Appliances References'!$N$5:$N$36,0)))","v":""},{"$f":"IF($A101=\"\",\"\",INDEX('Appliances References'!$Y$5:$Y$36,MATCH($A101,'Appliances References'!$N$5:$N$36,0)))","v":""},{"$f":"IF($A101=\"\",\"\",INDEX('Appliances References'!$Z$5:$Z$36,MATCH($A101,'Appliances References'!$N$5:$N$36,0)))","v":""},{"$f":"IF($A101=\"\",\"\",INDEX('Appliances References'!$AJ$5:$AJ$36,MATCH($A101,'Appliances References'!$N$5:$N$36,0)))","v":""},null,"",{"$error":"#VALUE!"},{"$f":"IF(B101>0,N101*References!$BX$23,\"\")","v":{"$error":"#VALUE!"}},{"$error":"#VALUE!"}]
[]
[]
[]
[]
[]
[]
["Dehumidifier"]
["Device","Proposed Qty","Gross kW per unit","EE kWh per unit","Winter kW saved","BE kWh saved","MMBTU EE","MMBTU BE","EE CO2","BE CO2","Rebate per unit",null,"$/kWh","Total Rebate","Bonus","Total Rebate + Bonus"]
[{"$f":"IF('Appliances Worksheet'!E128=\"\",\"\",'Appliances References'!$N$14)","v":""},{"$f":"IF('Appliances Worksheet'!E128=\"\",\"\",'Appliances Worksheet'!E128)","v":""},{"$f":"IF($A110=\"\",\"\",INDEX('Appliances References'!$R$5:$R$36,MATCH($A110,'Appliances References'!$N$5:$N$36,0)))","v":""},{"$f":"IF($A110=\"\",\"\",INDEX('Appliances References'!$S$5:$S$36,MATCH($A110,'Appliances References'!$N$5:$N$36,0)))","v":""},{"$f":"IF($A110=\"\",\"\",INDEX('Appliances References'!$T$5:$T$36,MATCH($A110,'Appliances References'!$N$5:$N$36,0)))","v":""},{"$f":"IF($A110=\"\",\"\",INDEX('Appliances References'!$U$5:$U$36,MATCH($A110,'Appliances References'!$N$5:$N$36,0)))","v":""},{"$f":"IF($A110=\"\",\"\",INDEX('Appliances References'!$V$5:$V$36,MATCH($A110,'Appliances References'!$N$5:$N$36,0)))","v":""},{"$f":"IF($A110=\"\",\"\",INDEX('Appliances References'!$W$5:$W$36,MATCH($A110,'Appliances References'!$N$5:$N$36,0)))","v":""},{"$f":"IF($A110=\"\",\"\",INDEX('Appliances References'!$Y$5:$Y$36,MATCH($A110,'Appliances References'!$N$5:$N$36,0)))","v":""},{"$f":"IF($A110=\"\",\"\",INDEX('Appliances References'!$Z$5:$Z$36,MATCH($A110,'Appliances References'!$N$5:$N$36,0)))","v":""},{"$f":"IF($A110=\"\",\"\",INDEX('Appliances References'!$AJ$5:$AJ$36,MATCH($A110,'Appliances References'!$N$5:$N$36,0)))","v":""},null,{"$f":"IF(D110=\"\",\"\",K110/D110)","v":""},{"$error":"#VALUE!"},{"$f":"IF(B110>0,0,\"\")","v":0},{"$error":"#VALUE!"}]
[{"$f":"IF('Appliances Worksheet'!E129=\"\",\"\",'Appliances References'!$N$14)","v":""},{"$f":"IF('Appliances Worksheet'!E129=\"\",\"\",'Appliances Worksheet'!E129)","v":""},{"$f":"IF($A111=\"\",\"\",INDEX('Appliances References'!$R$5:$R$36,MATCH($A111,'Appliances References'!$N$5:$N$36,0)))","v":""},{"$f":"IF($A111=\"\",\"\",INDEX('Appliances References'!$S$5:$S$36,MATCH($A111,'Appliances References'!$N$5:$N$36,0)))","v":""},{"$f":"IF($A111=\"\",\"\",INDEX('Appliances References'!$T$5:$T$36,MATCH($A111,'Appliances References'!$N$5:$N$36,0)))","v":""},{"$f":"IF($A111=\"\",\"\",INDEX('Appliances References'!$U$5:$U$36,MATCH($A111,'Appliances References'!$N$5:$N$36,0)))","v":""},{"$f":"IF($A111=\"\",\"\",INDEX('Appliances References'!$V$5:$V$36,MATCH($A111,'Appliances References'!$N$5:$N$36,0)))","v":""},{"$f":"IF($A111=\"\",\"\",INDEX('Appliances References'!$W$5:$W$36,MATCH($A111,'Appliances References'!$N$5:$N$36,0)))","v":""},{"$f":"IF($A111=\"\",\"\",INDEX('Appliances References'!$Y$5:$Y$36,MATCH($A111,'Appliances References'!$N$5:$N$36,0)))","v":""},{"$f":"IF($A111=\"\",\"\",INDEX('Appliances References'!$Z$5:$Z$36,MATCH($A111,'Appliances References'!$N$5:$N$36,0)))","v":""},{"$f":"IF($A111=\"\",\"\",INDEX('Appliances References'!$AJ$5:$AJ$36,MATCH($A111,'Appliances References'!$N$5:$N$36,0)))","v":""},null,{"$f":"IF(D111=\"\",\"\",K111/D111)","v":""},{"$error":"#VALUE!"},{"$f":"IF(B111>0,0,\"\")","v":0},{"$error":"#VALUE!"}]
[{"$f":"IF('Appliances Worksheet'!E130=\"\",\"\",'Appliances References'!$N$14)","v":""},{"$f":"IF('Appliances Worksheet'!E130=\"\",\"\",'Appliances Worksheet'!E130)","v":""},{"$f":"IF($A112=\"\",\"\",INDEX('Appliances References'!$R$5:$R$36,MATCH($A112,'Appliances References'!$N$5:$N$36,0)))","v":""},{"$f":"IF($A112=\"\",\"\",INDEX('Appliances References'!$S$5:$S$36,MATCH($A112,'Appliances References'!$N$5:$N$36,0)))","v":""},{"$f":"IF($A112=\"\",\"\",INDEX('Appliances References'!$T$5:$T$36,MATCH($A112,'Appliances References'!$N$5:$N$36,0)))","v":""},{"$f":"IF($A112=\"\",\"\",INDEX('Appliances References'!$U$5:$U$36,MATCH($A112,'Appliances References'!$N$5:$N$36,0)))","v":""},{"$f":"IF($A112=\"\",\"\",INDEX('Appliances References'!$V$5:$V$36,MATCH($A112,'Appliances References'!$N$5:$N$36,0)))","v":""},{"$f":"IF($A112=\"\",\"\",INDEX('Appliances References'!$W$5:$W$36,MATCH($A112,'Appliances References'!$N$5:$N$36,0)))","v":""},{"$f":"IF($A112=\"\",\"\",INDEX('Appliances References'!$Y$5:$Y$36,MATCH($A112,'Appliances References'!$N$5:$N$36,0)))","v":""},{"$f":"IF($A112=\"\",\"\",INDEX('Appliances References'!$Z$5:$Z$36,MATCH($A112,'Appliances References'!$N$5:$N$36,0)))","v":""},{"$f":"IF($A112=\"\",\"\",INDEX('Appliances References'!$AJ$5:$AJ$36,MATCH($A112,'Appliances References'!$N$5:$N$36,0)))","v":""},null,"",{"$error":"#VALUE!"},0,{"$error":"#VALUE!"}]
[{"$f":"IF('Appliances Worksheet'!E131=\"\",\"\",'Appliances References'!$N$14)","v":""},{"$f":"IF('Appliances Worksheet'!E131=\"\",\"\",'Appliances Worksheet'!E131)","v":""},{"$f":"IF($A113=\"\",\"\",INDEX('Appliances References'!$R$5:$R$36,MATCH($A113,'Appliances References'!$N$5:$N$36,0)))","v":""},{"$f":"IF($A113=\"\",\"\",INDEX('Appliances References'!$S$5:$S$36,MATCH($A113,'Appliances References'!$N$5:$N$36,0)))","v":""},{"$f":"IF($A113=\"\",\"\",INDEX('Appliances References'!$T$5:$T$36,MATCH($A113,'Appliances References'!$N$5:$N$36,0)))","v":""},{"$f":"IF($A113=\"\",\"\",INDEX('Appliances References'!$U$5:$U$36,MATCH($A113,'Appliances References'!$N$5:$N$36,0)))","v":""},{"$f":"IF($A113=\"\",\"\",INDEX('Appliances References'!$V$5:$V$36,MATCH($A113,'Appliances References'!$N$5:$N$36,0)))","v":""},{"$f":"IF($A113=\"\",\"\",INDEX('Appliances References'!$W$5:$W$36,MATCH($A113,'Appliances References'!$N$5:$N$36,0)))","v":""},{"$f":"IF($A113=\"\",\"\",INDEX('Appliances References'!$Y$5:$Y$36,MATCH($A113,'Appliances References'!$N$5:$N$36,0)))","v":""},{"$f":"IF($A113=\"\",\"\",INDEX('Appliances References'!$Z$5:$Z$36,MATCH($A113,'Appliances References'!$N$5:$N$36,0)))","v":""},{"$f":"IF($A113=\"\",\"\",INDEX('Appliances References'!$AJ$5:$AJ$36,MATCH($A113,'Appliances References'!$N$5:$N$36,0)))","v":""},null,"",{"$error":"#VALUE!"},0,{"$error":"#VALUE!"}]
[]
[]
[]
[]
[]
[]
["Room Air Purifiers"]
["Device","Proposed Qty","Gross kW per unit","EE kWh per unit","Winter kW saved","BE kWh saved","MMBTU EE","MMBTU BE","EE CO2","BE CO2","Rebate per unit",null,"$/kWh","Total Rebate","Bonus","Total Rebate + Bonus"]
[{"$f":"IF('Appliances Worksheet'!E140=\"\",\"\",IF('Appliances Worksheet'!G140='Appliances References'!$H$194,'Appliances References'!$N$12,'Appliances References'!$N$13))","v":""},{"$f":"IF('Appliances Worksheet'!E140=\"\",\"\",'Appliances Worksheet'!E140)","v":""},{"$f":"IF($A122=\"\",\"\",INDEX('Appliances References'!$R$5:$R$36,MATCH($A122,'Appliances References'!$N$5:$N$36,0)))","v":""},{"$f":"IF($A122=\"\",\"\",INDEX('Appliances References'!$S$5:$S$36,MATCH($A122,'Appliances References'!$N$5:$N$36,0)))","v":""},{"$f":"IF($A122=\"\",\"\",INDEX('Appliances References'!$T$5:$T$36,MATCH($A122,'Appliances References'!$N$5:$N$36,0)))","v":""},{"$f":"IF($A122=\"\",\"\",INDEX('Appliances References'!$U$5:$U$36,MATCH($A122,'Appliances References'!$N$5:$N$36,0)))","v":""},{"$f":"IF($A122=\"\",\"\",INDEX('Appliances References'!$V$5:$V$36,MATCH($A122,'Appliances References'!$N$5:$N$36,0)))","v":""},{"$f":"IF($A122=\"\",\"\",INDEX('Appliances References'!$W$5:$W$36,MATCH($A122,'Appliances References'!$N$5:$N$36,0)))","v":""},{"$f":"IF($A122=\"\",\"\",INDEX('Appliances References'!$Y$5:$Y$36,MATCH($A122,'Appliances References'!$N$5:$N$36,0)))","v":""},{"$f":"IF($A122=\"\",\"\",INDEX('Appliances References'!$Z$5:$Z$36,MATCH($A122,'Appliances References'!$N$5:$N$36,0)))","v":""},{"$f":"IF($A122=\"\",\"\",INDEX('Appliances References'!$AJ$5:$AJ$36,MATCH($A122,'Appliances References'!$N$5:$N$36,0)))","v":""},null,{"$f":"IF(D122=\"\",\"\",K122/D122)","v":""},{"$f":"IF(B122>0,B122*K122,\"\")","v":{"$error":"#VALUE!"}},{"$f":"IF(B122>0,0,\"\")","v":0},{"$f":"IF(B122>0,N122+O122,\"\")","v":{"$error":"#VALUE!"}}]
[{"$f":"IF('Appliances Worksheet'!E141=\"\",\"\",IF('Appliances Worksheet'!G141='Appliances References'!$H$194,'Appliances References'!$N$12,'Appliances References'!$N$13))","v":""},{"$f":"IF('Appliances Worksheet'!E141=\"\",\"\",'Appliances Worksheet'!E141)","v":""},{"$f":"IF($A123=\"\",\"\",INDEX('Appliances References'!$R$5:$R$36,MATCH($A123,'Appliances References'!$N$5:$N$36,0)))","v":""},{"$f":"IF($A123=\"\",\"\",INDEX('Appliances References'!$S$5:$S$36,MATCH($A123,'Appliances References'!$N$5:$N$36,0)))","v":""},{"$f":"IF($A123=\"\",\"\",INDEX('Appliances References'!$T$5:$T$36,MATCH($A123,'Appliances References'!$N$5:$N$36,0)))","v":""},{"$f":"IF($A123=\"\",\"\",INDEX('Appliances References'!$U$5:$U$36,MATCH($A123,'Appliances References'!$N$5:$N$36,0)))","v":""},{"$f":"IF($A123=\"\",\"\",INDEX('Appliances References'!$V$5:$V$36,MATCH($A123,'Appliances References'!$N$5:$N$36,0)))","v":""},{"$f":"IF($A123=\"\",\"\",INDEX('Appliances References'!$W$5:$W$36,MATCH($A123,'Appliances References'!$N$5:$N$36,0)))","v":""},{"$f":"IF($A123=\"\",\"\",INDEX('Appliances References'!$Y$5:$Y$36,MATCH($A123,'Appliances References'!$N$5:$N$36,0)))","v":""},{"$f":"IF($A123=\"\",\"\",INDEX('Appliances References'!$Z$5:$Z$36,MATCH($A123,'Appliances References'!$N$5:$N$36,0)))","v":""},{"$f":"IF($A123=\"\",\"\",INDEX('Appliances References'!$AJ$5:$AJ$36,MATCH($A123,'Appliances References'!$N$5:$N$36,0)))","v":""},null,"",{"$error":"#VALUE!"},{"$f":"IF(B123>0,0,\"\")","v":0},{"$error":"#VALUE!"}]
[{"$f":"IF('Appliances Worksheet'!E142=\"\",\"\",IF('Appliances Worksheet'!G142='Appliances References'!$H$194,'Appliances References'!$N$12,'Appliances References'!$N$13))","v":""},{"$f":"IF('Appliances Worksheet'!E142=\"\",\"\",'Appliances Worksheet'!E142)","v":""},{"$f":"IF($A124=\"\",\"\",INDEX('Appliances References'!$R$5:$R$36,MATCH($A124,'Appliances References'!$N$5:$N$36,0)))","v":""},{"$f":"IF($A124=\"\",\"\",INDEX('Appliances References'!$S$5:$S$36,MATCH($A124,'Appliances References'!$N$5:$N$36,0)))","v":""},{"$f":"IF($A124=\"\",\"\",INDEX('Appliances References'!$T$5:$T$36,MATCH($A124,'Appliances References'!$N$5:$N$36,0)))","v":""},{"$f":"IF($A124=\"\",\"\",INDEX('Appliances References'!$U$5:$U$36,MATCH($A124,'Appliances References'!$N$5:$N$36,0)))","v":""},{"$f":"IF($A124=\"\",\"\",INDEX('Appliances References'!$V$5:$V$36,MATCH($A124,'Appliances References'!$N$5:$N$36,0)))","v":""},{"$f":"IF($A124=\"\",\"\",INDEX('Appliances References'!$W$5:$W$36,MATCH($A124,'Appliances References'!$N$5:$N$36,0)))","v":""},{"$f":"IF($A124=\"\",\"\",INDEX('Appliances References'!$Y$5:$Y$36,MATCH($A124,'Appliances References'!$N$5:$N$36,0)))","v":""},{"$f":"IF($A124=\"\",\"\",INDEX('Appliances References'!$Z$5:$Z$36,MATCH($A124,'Appliances References'!$N$5:$N$36,0)))","v":""},{"$f":"IF($A124=\"\",\"\",INDEX('Appliances References'!$AJ$5:$AJ$36,MATCH($A124,'Appliances References'!$N$5:$N$36,0)))","v":""},null,"",{"$error":"#VALUE!"},0,{"$error":"#VALUE!"}]
[{"$f":"IF('Appliances Worksheet'!E143=\"\",\"\",IF('Appliances Worksheet'!G143='Appliances References'!$H$194,'Appliances References'!$N$12,'Appliances References'!$N$13))","v":""},{"$f":"IF('Appliances Worksheet'!E143=\"\",\"\",'Appliances Worksheet'!E143)","v":""},{"$f":"IF($A125=\"\",\"\",INDEX('Appliances References'!$R$5:$R$36,MATCH($A125,'Appliances References'!$N$5:$N$36,0)))","v":""},{"$f":"IF($A125=\"\",\"\",INDEX('Appliances References'!$S$5:$S$36,MATCH($A125,'Appliances References'!$N$5:$N$36,0)))","v":""},{"$f":"IF($A125=\"\",\"\",INDEX('Appliances References'!$T$5:$T$36,MATCH($A125,'Appliances References'!$N$5:$N$36,0)))","v":""},{"$f":"IF($A125=\"\",\"\",INDEX('Appliances References'!$U$5:$U$36,MATCH($A125,'Appliances References'!$N$5:$N$36,0)))","v":""},{"$f":"IF($A125=\"\",\"\",INDEX('Appliances References'!$V$5:$V$36,MATCH($A125,'Appliances References'!$N$5:$N$36,0)))","v":""},{"$f":"IF($A125=\"\",\"\",INDEX('Appliances References'!$W$5:$W$36,MATCH($A125,'Appliances References'!$N$5:$N$36,0)))","v":""},{"$f":"IF($A125=\"\",\"\",INDEX('Appliances References'!$Y$5:$Y$36,MATCH($A125,'Appliances References'!$N$5:$N$36,0)))","v":""},{"$f":"IF($A125=\"\",\"\",INDEX('Appliances References'!$Z$5:$Z$36,MATCH($A125,'Appliances References'!$N$5:$N$36,0)))","v":""},{"$f":"IF($A125=\"\",\"\",INDEX('Appliances References'!$AJ$5:$AJ$36,MATCH($A125,'Appliances References'!$N$5:$N$36,0)))","v":""},null,"",{"$error":"#VALUE!"},0,{"$error":"#VALUE!"}]
[]
[]
[]
[]
[]
[]
["Battery Operated Lawn Mower All Sizes"]
["Device","Proposed Qty","Gross kW per unit","EE kWh per unit","Winter kW saved","BE kWh saved","MMBTU EE","MMBTU BE","EE CO2","BE CO2","Rebate per unit",null,"$/kWh","Total Rebate","Bonus","Total Rebate + Bonus"]
[{"$f":"IF('Appliances Worksheet'!E152=\"\",\"\",'Appliances References'!$N$23)","v":""},{"$f":"IF('Appliances Worksheet'!E152=\"\",\"\",'Appliances Worksheet'!E152)","v":""},{"$f":"IF($A134=\"\",\"\",INDEX('Appliances References'!$R$5:$R$36,MATCH($A134,'Appliances References'!$N$5:$N$36,0)))","v":""},{"$f":"IF($A134=\"\",\"\",INDEX('Appliances References'!$S$5:$S$36,MATCH($A134,'Appliances References'!$N$5:$N$36,0)))","v":""},{"$f":"IF($A134=\"\",\"\",INDEX('Appliances References'!$T$5:$T$36,MATCH($A134,'Appliances References'!$N$5:$N$36,0)))","v":""},{"$f":"IF($A134=\"\",\"\",INDEX('Appliances References'!$U$5:$U$36,MATCH($A134,'Appliances References'!$N$5:$N$36,0)))","v":""},{"$f":"IF($A134=\"\",\"\",INDEX('Appliances References'!$V$5:$V$36,MATCH($A134,'Appliances References'!$N$5:$N$36,0)))","v":""},{"$f":"IF($A134=\"\",\"\",INDEX('Appliances References'!$W$5:$W$36,MATCH($A134,'Appliances References'!$N$5:$N$36,0)))","v":""},{"$f":"IF($A134=\"\",\"\",INDEX('Appliances References'!$Y$5:$Y$36,MATCH($A134,'Appliances References'!$N$5:$N$36,0)))","v":""},{"$f":"IF($A134=\"\",\"\",INDEX('Appliances References'!$Z$5:$Z$36,MATCH($A134,'Appliances References'!$N$5:$N$36,0)))","v":""},{"$f":"IF($A134=\"\",\"\",INDEX('Appliances References'!$AJ$5:$AJ$36,MATCH($A134,'Appliances References'!$N$5:$N$36,0)))","v":""},null,{"$f":"IF(D134=\"\",\"\",K134/D134)","v":""},{"$error":"#VALUE!"},{"$f":"IF(B134>0,0,\"\")","v":0},{"$error":"#VALUE!"}]
[{"$f":"IF('Appliances Worksheet'!E153=\"\",\"\",'Appliances References'!$N$23)","v":""},{"$f":"IF('Appliances Worksheet'!E153=\"\",\"\",'Appliances Worksheet'!E153)","v":""},{"$f":"IF($A135=\"\",\"\",INDEX('Appliances References'!$R$5:$R$36,MATCH($A135,'Appliances References'!$N$5:$N$36,0)))","v":""},{"$f":"IF($A135=\"\",\"\",INDEX('Appliances References'!$S$5:$S$36,MATCH($A135,'Appliances References'!$N$5:$N$36,0)))","v":""},{"$f":"IF($A135=\"\",\"\",INDEX('Appliances References'!$T$5:$T$36,MATCH($A135,'Appliances References'!$N$5:$N$36,0)))","v":""},{"$f":"IF($A135=\"\",\"\",INDEX('Appliances References'!$U$5:$U$36,MATCH($A135,'Appliances References'!$N$5:$N$36,0)))","v":""},{"$f":"IF($A135=\"\",\"\",INDEX('Appliances References'!$V$5:$V$36,MATCH($A135,'Appliances References'!$N$5:$N$36,0)))","v":""},{"$f":"IF($A135=\"\",\"\",INDEX('Appliances References'!$W$5:$W$36,MATCH($A135,'Appliances References'!$N$5:$N$36,0)))","v":""},{"$f":"IF($A135=\"\",\"\",INDEX('Appliances References'!$Y$5:$Y$36,MATCH($A135,'Appliances References'!$N$5:$N$36,0)))","v":""},{"$f":"IF($A135=\"\",\"\",INDEX('Appliances References'!$Z$5:$Z$36,MATCH($A135,'Appliances References'!$N$5:$N$36,0)))","v":""},{"$f":"IF($A135=\"\",\"\",INDEX('Appliances References'!$AJ$5:$AJ$36,MATCH($A135,'Appliances References'!$N$5:$N$36,0)))","v":""},null,{"$f":"IF(D135=\"\",\"\",K135/D135)","v":""},{"$error":"#VALUE!"},{"$f":"IF(B135>0,0,\"\")","v":0},{"$error":"#VALUE!"}]
[{"$f":"IF('Appliances Worksheet'!E154=\"\",\"\",'Appliances References'!$N$23)","v":""},{"$f":"IF('Appliances Worksheet'!E154=\"\",\"\",'Appliances Worksheet'!E154)","v":""},{"$f":"IF($A136=\"\",\"\",INDEX('Appliances References'!$R$5:$R$36,MATCH($A136,'Appliances References'!$N$5:$N$36,0)))","v":""},{"$f":"IF($A136=\"\",\"\",INDEX('Appliances References'!$S$5:$S$36,MATCH($A136,'Appliances References'!$N$5:$N$36,0)))","v":""},{"$f":"IF($A136=\"\",\"\",INDEX('Appliances References'!$T$5:$T$36,MATCH($A136,'Appliances References'!$N$5:$N$36,0)))","v":""},{"$f":"IF($A136=\"\",\"\",INDEX('Appliances References'!$U$5:$U$36,MATCH($A136,'Appliances References'!$N$5:$N$36,0)))","v":""},{"$f":"IF($A136=\"\",\"\",INDEX('Appliances References'!$V$5:$V$36,MATCH($A136,'Appliances References'!$N$5:$N$36,0)))","v":""},{"$f":"IF($A136=\"\",\"\",INDEX('Appliances References'!$W$5:$W$36,MATCH($A136,'Appliances References'!$N$5:$N$36,0)))","v":""},{"$f":"IF($A136=\"\",\"\",INDEX('Appliances References'!$Y$5:$Y$36,MATCH($A136,'Appliances References'!$N$5:$N$36,0)))","v":""},{"$f":"IF($A136=\"\",\"\",INDEX('Appliances References'!$Z$5:$Z$36,MATCH($A136,'Appliances References'!$N$5:$N$36,0)))","v":""},{"$f":"IF($A136=\"\",\"\",INDEX('Appliances References'!$AJ$5:$AJ$36,MATCH($A136,'Appliances References'!$N$5:$N$36,0)))","v":""},null,"",{"$error":"#VALUE!"},0,{"$error":"#VALUE!"}]
[{"$f":"IF('Appliances Worksheet'!E155=\"\",\"\",'Appliances References'!$N$23)","v":""},{"$f":"IF('Appliances Worksheet'!E155=\"\",\"\",'Appliances Worksheet'!E155)","v":""},{"$f":"IF($A137=\"\",\"\",INDEX('Appliances References'!$R$5:$R$36,MATCH($A137,'Appliances References'!$N$5:$N$36,0)))","v":""},{"$f":"IF($A137=\"\",\"\",INDEX('Appliances References'!$S$5:$S$36,MATCH($A137,'Appliances References'!$N$5:$N$36,0)))","v":""},{"$f":"IF($A137=\"\",\"\",INDEX('Appliances References'!$T$5:$T$36,MATCH($A137,'Appliances References'!$N$5:$N$36,0)))","v":""},{"$f":"IF($A137=\"\",\"\",INDEX('Appliances References'!$U$5:$U$36,MATCH($A137,'Appliances References'!$N$5:$N$36,0)))","v":""},{"$f":"IF($A137=\"\",\"\",INDEX('Appliances References'!$V$5:$V$36,MATCH($A137,'Appliances References'!$N$5:$N$36,0)))","v":""},{"$f":"IF($A137=\"\",\"\",INDEX('Appliances References'!$W$5:$W$36,MATCH($A137,'Appliances References'!$N$5:$N$36,0)))","v":""},{"$f":"IF($A137=\"\",\"\",INDEX('Appliances References'!$Y$5:$Y$36,MATCH($A137,'Appliances References'!$N$5:$N$36,0)))","v":""},{"$f":"IF($A137=\"\",\"\",INDEX('Appliances References'!$Z$5:$Z$36,MATCH($A137,'Appliances References'!$N$5:$N$36,0)))","v":""},{"$f":"IF($A137=\"\",\"\",INDEX('Appliances References'!$AJ$5:$AJ$36,MATCH($A137,'Appliances References'!$N$5:$N$36,0)))","v":""},null,"",{"$error":"#VALUE!"},0,{"$error":"#VALUE!"}]
[]
[]
[]
[]
[]
[]
["Battery Operated Lawn Mower 4-5aH"]
["Device","Proposed Qty","Gross kW per unit","EE kWh per unit","Winter kW saved","BE kWh saved","MMBTU EE","MMBTU BE","EE CO2","BE CO2","Rebate per unit",null,"$/kWh","Total Rebate","Bonus","Total Rebate + Bonus"]
[{"$f":"IF('Appliances Worksheet'!E164=\"\",\"\",'Appliances References'!$N$24)","v":""},{"$f":"IF('Appliances Worksheet'!E164=\"\",\"\",'Appliances Worksheet'!E164)","v":""},{"$f":"IF($A146=\"\",\"\",INDEX('Appliances References'!$R$5:$R$36,MATCH($A146,'Appliances References'!$N$5:$N$36,0)))","v":""},{"$f":"IF($A146=\"\",\"\",INDEX('Appliances References'!$S$5:$S$36,MATCH($A146,'Appliances References'!$N$5:$N$36,0)))","v":""},{"$f":"IF($A146=\"\",\"\",INDEX('Appliances References'!$T$5:$T$36,MATCH($A146,'Appliances References'!$N$5:$N$36,0)))","v":""},{"$f":"IF($A146=\"\",\"\",INDEX('Appliances References'!$U$5:$U$36,MATCH($A146,'Appliances References'!$N$5:$N$36,0)))","v":""},{"$f":"IF($A146=\"\",\"\",INDEX('Appliances References'!$V$5:$V$36,MATCH($A146,'Appliances References'!$N$5:$N$36,0)))","v":""},{"$f":"IF($A146=\"\",\"\",INDEX('Appliances References'!$W$5:$W$36,MATCH($A146,'Appliances References'!$N$5:$N$36,0)))","v":""},{"$f":"IF($A146=\"\",\"\",INDEX('Appliances References'!$Y$5:$Y$36,MATCH($A146,'Appliances References'!$N$5:$N$36,0)))","v":""},{"$f":"IF($A146=\"\",\"\",INDEX('Appliances References'!$Z$5:$Z$36,MATCH($A146,'Appliances References'!$N$5:$N$36,0)))","v":""},{"$f":"IF($A146=\"\",\"\",INDEX('Appliances References'!$AJ$5:$AJ$36,MATCH($A146,'Appliances References'!$N$5:$N$36,0)))","v":""},null,{"$f":"IF(D146=\"\",\"\",K146/D146)","v":""},{"$error":"#VALUE!"},{"$f":"IF(B146>0,0,\"\")","v":0},{"$error":"#VALUE!"}]
[{"$f":"IF('Appliances Worksheet'!E165=\"\",\"\",'Appliances References'!$N$24)","v":""},{"$f":"IF('Appliances Worksheet'!E165=\"\",\"\",'Appliances Worksheet'!E165)","v":""},{"$f":"IF($A147=\"\",\"\",INDEX('Appliances References'!$R$5:$R$36,MATCH($A147,'Appliances References'!$N$5:$N$36,0)))","v":""},{"$f":"IF($A147=\"\",\"\",INDEX('Appliances References'!$S$5:$S$36,MATCH($A147,'Appliances References'!$N$5:$N$36,0)))","v":""},{"$f":"IF($A147=\"\",\"\",INDEX('Appliances References'!$T$5:$T$36,MATCH($A147,'Appliances References'!$N$5:$N$36,0)))","v":""},{"$f":"IF($A147=\"\",\"\",INDEX('Appliances References'!$U$5:$U$36,MATCH($A147,'Appliances References'!$N$5:$N$36,0)))","v":""},{"$f":"IF($A147=\"\",\"\",INDEX('Appliances References'!$V$5:$V$36,MATCH($A147,'Appliances References'!$N$5:$N$36,0)))","v":""},{"$f":"IF($A147=\"\",\"\",INDEX('Appliances References'!$W$5:$W$36,MATCH($A147,'Appliances References'!$N$5:$N$36,0)))","v":""},{"$f":"IF($A147=\"\",\"\",INDEX('Appliances References'!$Y$5:$Y$36,MATCH($A147,'Appliances References'!$N$5:$N$36,0)))","v":""},{"$f":"IF($A147=\"\",\"\",INDEX('Appliances References'!$Z$5:$Z$36,MATCH($A147,'Appliances References'!$N$5:$N$36,0)))","v":""},{"$f":"IF($A147=\"\",\"\",INDEX('Appliances References'!$AJ$5:$AJ$36,MATCH($A147,'Appliances References'!$N$5:$N$36,0)))","v":""},null,{"$f":"IF(D147=\"\",\"\",K147/D147)","v":""},{"$error":"#VALUE!"},{"$f":"IF(B147>0,0,\"\")","v":0},{"$error":"#VALUE!"}]
[{"$f":"IF('Appliances Worksheet'!E166=\"\",\"\",'Appliances References'!$N$24)","v":""},{"$f":"IF('Appliances Worksheet'!E166=\"\",\"\",'Appliances Worksheet'!E166)","v":""},{"$f":"IF($A148=\"\",\"\",INDEX('Appliances References'!$R$5:$R$36,MATCH($A148,'Appliances References'!$N$5:$N$36,0)))","v":""},{"$f":"IF($A148=\"\",\"\",INDEX('Appliances References'!$S$5:$S$36,MATCH($A148,'Appliances References'!$N$5:$N$36,0)))","v":""},{"$f":"IF($A148=\"\",\"\",INDEX('Appliances References'!$T$5:$T$36,MATCH($A148,'Appliances References'!$N$5:$N$36,0)))","v":""},{"$f":"IF($A148=\"\",\"\",INDEX('Appliances References'!$U$5:$U$36,MATCH($A148,'Appliances References'!$N$5:$N$36,0)))","v":""},{"$f":"IF($A148=\"\",\"\",INDEX('Appliances References'!$V$5:$V$36,MATCH($A148,'Appliances References'!$N$5:$N$36,0)))","v":""},{"$f":"IF($A148=\"\",\"\",INDEX('Appliances References'!$W$5:$W$36,MATCH($A148,'Appliances References'!$N$5:$N$36,0)))","v":""},{"$f":"IF($A148=\"\",\"\",INDEX('Appliances References'!$Y$5:$Y$36,MATCH($A148,'Appliances References'!$N$5:$N$36,0)))","v":""},{"$f":"IF($A148=\"\",\"\",INDEX('Appliances References'!$Z$5:$Z$36,MATCH($A148,'Appliances References'!$N$5:$N$36,0)))","v":""},{"$f":"IF($A148=\"\",\"\",INDEX('Appliances References'!$AJ$5:$AJ$36,MATCH($A148,'Appliances References'!$N$5:$N$36,0)))","v":""},null,"",{"$error":"#VALUE!"},0,{"$error":"#VALUE!"}]
[{"$f":"IF('Appliances Worksheet'!E167=\"\",\"\",'Appliances References'!$N$24)","v":""},{"$f":"IF('Appliances Worksheet'!E167=\"\",\"\",'Appliances Worksheet'!E167)","v":""},{"$f":"IF($A149=\"\",\"\",INDEX('Appliances References'!$R$5:$R$36,MATCH($A149,'Appliances References'!$N$5:$N$36,0)))","v":""},{"$f":"IF($A149=\"\",\"\",INDEX('Appliances References'!$S$5:$S$36,MATCH($A149,'Appliances References'!$N$5:$N$36,0)))","v":""},{"$f":"IF($A149=\"\",\"\",INDEX('Appliances References'!$T$5:$T$36,MATCH($A149,'Appliances References'!$N$5:$N$36,0)))","v":""},{"$f":"IF($A149=\"\",\"\",INDEX('Appliances References'!$U$5:$U$36,MATCH($A149,'Appliances References'!$N$5:$N$36,0)))","v":""},{"$f":"IF($A149=\"\",\"\",INDEX('Appliances References'!$V$5:$V$36,MATCH($A149,'Appliances References'!$N$5:$N$36,0)))","v":""},{"$f":"IF($A149=\"\",\"\",INDEX('Appliances References'!$W$5:$W$36,MATCH($A149,'Appliances References'!$N$5:$N$36,0)))","v":""},{"$f":"IF($A149=\"\",\"\",INDEX('Appliances References'!$Y$5:$Y$36,MATCH($A149,'Appliances References'!$N$5:$N$36,0)))","v":""},{"$f":"IF($A149=\"\",\"\",INDEX('Appliances References'!$Z$5:$Z$36,MATCH($A149,'Appliances References'!$N$5:$N$36,0)))","v":""},{"$f":"IF($A149=\"\",\"\",INDEX('Appliances References'!$AJ$5:$AJ$36,MATCH($A149,'Appliances References'!$N$5:$N$36,0)))","v":""},null,"",{"$error":"#VALUE!"},0,{"$error":"#VALUE!"}]
[]
[]
[]
[]
[]
[]
["Battery Operated Lawn Mower >5aH"]
["Device","Proposed Qty","Gross kW per unit","EE kWh per unit","Winter kW saved","BE kWh saved","MMBTU EE","MMBTU BE","EE CO2","BE CO2","Rebate per unit",null,"$/kWh","Total Rebate","Bonus","Total Rebate + Bonus"]
[{"$f":"IF('Appliances Worksheet'!E176=\"\",\"\",'Appliances References'!$N$25)","v":""},{"$f":"IF('Appliances Worksheet'!E176=\"\",\"\",'Appliances Worksheet'!E176)","v":""},{"$f":"IF($A158=\"\",\"\",INDEX('Appliances References'!$R$5:$R$36,MATCH($A158,'Appliances References'!$N$5:$N$36,0)))","v":""},{"$f":"IF($A158=\"\",\"\",INDEX('Appliances References'!$S$5:$S$36,MATCH($A158,'Appliances References'!$N$5:$N$36,0)))","v":""},{"$f":"IF($A158=\"\",\"\",INDEX('Appliances References'!$T$5:$T$36,MATCH($A158,'Appliances References'!$N$5:$N$36,0)))","v":""},{"$f":"IF($A158=\"\",\"\",INDEX('Appliances References'!$U$5:$U$36,MATCH($A158,'Appliances References'!$N$5:$N$36,0)))","v":""},{"$f":"IF($A158=\"\",\"\",INDEX('Appliances References'!$V$5:$V$36,MATCH($A158,'Appliances References'!$N$5:$N$36,0)))","v":""},{"$f":"IF($A158=\"\",\"\",INDEX('Appliances References'!$W$5:$W$36,MATCH($A158,'Appliances References'!$N$5:$N$36,0)))","v":""},{"$f":"IF($A158=\"\",\"\",INDEX('Appliances References'!$Y$5:$Y$36,MATCH($A158,'Appliances References'!$N$5:$N$36,0)))","v":""},{"$f":"IF($A158=\"\",\"\",INDEX('Appliances References'!$Z$5:$Z$36,MATCH($A158,'Appliances References'!$N$5:$N$36,0)))","v":""},{"$f":"IF($A158=\"\",\"\",INDEX('Appliances References'!$AJ$5:$AJ$36,MATCH($A158,'Appliances References'!$N$5:$N$36,0)))","v":""},null,{"$f":"IF(D158=\"\",\"\",K158/D158)","v":""},{"$error":"#VALUE!"},{"$f":"IF(B158>0,0,\"\")","v":0},{"$error":"#VALUE!"}]
[{"$f":"IF('Appliances Worksheet'!E177=\"\",\"\",'Appliances References'!$N$25)","v":""},{"$f":"IF('Appliances Worksheet'!E177=\"\",\"\",'Appliances Worksheet'!E177)","v":""},{"$f":"IF($A159=\"\",\"\",INDEX('Appliances References'!$R$5:$R$36,MATCH($A159,'Appliances References'!$N$5:$N$36,0)))","v":""},{"$f":"IF($A159=\"\",\"\",INDEX('Appliances References'!$S$5:$S$36,MATCH($A159,'Appliances References'!$N$5:$N$36,0)))","v":""},{"$f":"IF($A159=\"\",\"\",INDEX('Appliances References'!$T$5:$T$36,MATCH($A159,'Appliances References'!$N$5:$N$36,0)))","v":""},{"$f":"IF($A159=\"\",\"\",INDEX('Appliances References'!$U$5:$U$36,MATCH($A159,'Appliances References'!$N$5:$N$36,0)))","v":""},{"$f":"IF($A159=\"\",\"\",INDEX('Appliances References'!$V$5:$V$36,MATCH($A159,'Appliances References'!$N$5:$N$36,0)))","v":""},{"$f":"IF($A159=\"\",\"\",INDEX('Appliances References'!$W$5:$W$36,MATCH($A159,'Appliances References'!$N$5:$N$36,0)))","v":""},{"$f":"IF($A159=\"\",\"\",INDEX('Appliances References'!$Y$5:$Y$36,MATCH($A159,'Appliances References'!$N$5:$N$36,0)))","v":""},{"$f":"IF($A159=\"\",\"\",INDEX('Appliances References'!$Z$5:$Z$36,MATCH($A159,'Appliances References'!$N$5:$N$36,0)))","v":""},{"$f":"IF($A159=\"\",\"\",INDEX('Appliances References'!$AJ$5:$AJ$36,MATCH($A159,'Appliances References'!$N$5:$N$36,0)))","v":""},null,{"$f":"IF(D159=\"\",\"\",K159/D159)","v":""},{"$error":"#VALUE!"},{"$f":"IF(B159>0,0,\"\")","v":0},{"$error":"#VALUE!"}]
[{"$f":"IF('Appliances Worksheet'!E178=\"\",\"\",'Appliances References'!$N$25)","v":""},{"$f":"IF('Appliances Worksheet'!E178=\"\",\"\",'Appliances Worksheet'!E178)","v":""},{"$f":"IF($A160=\"\",\"\",INDEX('Appliances References'!$R$5:$R$36,MATCH($A160,'Appliances References'!$N$5:$N$36,0)))","v":""},{"$f":"IF($A160=\"\",\"\",INDEX('Appliances References'!$S$5:$S$36,MATCH($A160,'Appliances References'!$N$5:$N$36,0)))","v":""},{"$f":"IF($A160=\"\",\"\",INDEX('Appliances References'!$T$5:$T$36,MATCH($A160,'Appliances References'!$N$5:$N$36,0)))","v":""},{"$f":"IF($A160=\"\",\"\",INDEX('Appliances References'!$U$5:$U$36,MATCH($A160,'Appliances References'!$N$5:$N$36,0)))","v":""},{"$f":"IF($A160=\"\",\"\",INDEX('Appliances References'!$V$5:$V$36,MATCH($A160,'Appliances References'!$N$5:$N$36,0)))","v":""},{"$f":"IF($A160=\"\",\"\",INDEX('Appliances References'!$W$5:$W$36,MATCH($A160,'Appliances References'!$N$5:$N$36,0)))","v":""},{"$f":"IF($A160=\"\",\"\",INDEX('Appliances References'!$Y$5:$Y$36,MATCH($A160,'Appliances References'!$N$5:$N$36,0)))","v":""},{"$f":"IF($A160=\"\",\"\",INDEX('Appliances References'!$Z$5:$Z$36,MATCH($A160,'Appliances References'!$N$5:$N$36,0)))","v":""},{"$f":"IF($A160=\"\",\"\",INDEX('Appliances References'!$AJ$5:$AJ$36,MATCH($A160,'Appliances References'!$N$5:$N$36,0)))","v":""},null,"",{"$error":"#VALUE!"},0,{"$error":"#VALUE!"}]
[{"$f":"IF('Appliances Worksheet'!E179=\"\",\"\",'Appliances References'!$N$25)","v":""},{"$f":"IF('Appliances Worksheet'!E179=\"\",\"\",'Appliances Worksheet'!E179)","v":""},{"$f":"IF($A161=\"\",\"\",INDEX('Appliances References'!$R$5:$R$36,MATCH($A161,'Appliances References'!$N$5:$N$36,0)))","v":""},{"$f":"IF($A161=\"\",\"\",INDEX('Appliances References'!$S$5:$S$36,MATCH($A161,'Appliances References'!$N$5:$N$36,0)))","v":""},{"$f":"IF($A161=\"\",\"\",INDEX('Appliances References'!$T$5:$T$36,MATCH($A161,'Appliances References'!$N$5:$N$36,0)))","v":""},{"$f":"IF($A161=\"\",\"\",INDEX('Appliances References'!$U$5:$U$36,MATCH($A161,'Appliances References'!$N$5:$N$36,0)))","v":""},{"$f":"IF($A161=\"\",\"\",INDEX('Appliances References'!$V$5:$V$36,MATCH($A161,'Appliances References'!$N$5:$N$36,0)))","v":""},{"$f":"IF($A161=\"\",\"\",INDEX('Appliances References'!$W$5:$W$36,MATCH($A161,'Appliances References'!$N$5:$N$36,0)))","v":""},{"$f":"IF($A161=\"\",\"\",INDEX('Appliances References'!$Y$5:$Y$36,MATCH($A161,'Appliances References'!$N$5:$N$36,0)))","v":""},{"$f":"IF($A161=\"\",\"\",INDEX('Appliances References'!$Z$5:$Z$36,MATCH($A161,'Appliances References'!$N$5:$N$36,0)))","v":""},{"$f":"IF($A161=\"\",\"\",INDEX('Appliances References'!$AJ$5:$AJ$36,MATCH($A161,'Appliances References'!$N$5:$N$36,0)))","v":""},null,"",{"$error":"#VALUE!"},0,{"$error":"#VALUE!"}]
[]
[]
[]
[]
[]
[]
["Battery Operated Leaf Blower"]
["Device","Proposed Qty","Gross kW per unit","EE kWh per unit","Winter kW saved","BE kWh saved","MMBTU EE","MMBTU BE","EE CO2","BE CO2","Rebate per unit",null,"$/kWh","Total Rebate","Bonus","Total Rebate + Bonus"]
[{"$f":"IF('Appliances Worksheet'!E188=\"\",\"\",'Appliances References'!$N$27)","v":""},{"$f":"IF('Appliances Worksheet'!E188=\"\",\"\",'Appliances Worksheet'!E188)","v":""},{"$f":"IF($A170=\"\",\"\",INDEX('Appliances References'!$R$5:$R$36,MATCH($A170,'Appliances References'!$N$5:$N$36,0)))","v":""},{"$f":"IF($A170=\"\",\"\",INDEX('Appliances References'!$S$5:$S$36,MATCH($A170,'Appliances References'!$N$5:$N$36,0)))","v":""},{"$f":"IF($A170=\"\",\"\",INDEX('Appliances References'!$T$5:$T$36,MATCH($A170,'Appliances References'!$N$5:$N$36,0)))","v":""},{"$f":"IF($A170=\"\",\"\",INDEX('Appliances References'!$U$5:$U$36,MATCH($A170,'Appliances References'!$N$5:$N$36,0)))","v":""},{"$f":"IF($A170=\"\",\"\",INDEX('Appliances References'!$V$5:$V$36,MATCH($A170,'Appliances References'!$N$5:$N$36,0)))","v":""},{"$f":"IF($A170=\"\",\"\",INDEX('Appliances References'!$W$5:$W$36,MATCH($A170,'Appliances References'!$N$5:$N$36,0)))","v":""},{"$f":"IF($A170=\"\",\"\",INDEX('Appliances References'!$Y$5:$Y$36,MATCH($A170,'Appliances References'!$N$5:$N$36,0)))","v":""},{"$f":"IF($A170=\"\",\"\",INDEX('Appliances References'!$Z$5:$Z$36,MATCH($A170,'Appliances References'!$N$5:$N$36,0)))","v":""},{"$f":"IF($A170=\"\",\"\",INDEX('Appliances References'!$AJ$5:$AJ$36,MATCH($A170,'Appliances References'!$N$5:$N$36,0)))","v":""},null,{"$f":"IF(D170=\"\",\"\",K170/D170)","v":""},{"$error":"#VALUE!"},{"$f":"IF(B170>0,0,\"\")","v":0},{"$error":"#VALUE!"}]
[{"$f":"IF('Appliances Worksheet'!E189=\"\",\"\",'Appliances References'!$N$27)","v":""},{"$f":"IF('Appliances Worksheet'!E189=\"\",\"\",'Appliances Worksheet'!E189)","v":""},{"$f":"IF($A171=\"\",\"\",INDEX('Appliances References'!$R$5:$R$36,MATCH($A171,'Appliances References'!$N$5:$N$36,0)))","v":""},{"$f":"IF($A171=\"\",\"\",INDEX('Appliances References'!$S$5:$S$36,MATCH($A171,'Appliances References'!$N$5:$N$36,0)))","v":""},{"$f":"IF($A171=\"\",\"\",INDEX('Appliances References'!$T$5:$T$36,MATCH($A171,'Appliances References'!$N$5:$N$36,0)))","v":""},{"$f":"IF($A171=\"\",\"\",INDEX('Appliances References'!$U$5:$U$36,MATCH($A171,'Appliances References'!$N$5:$N$36,0)))","v":""},{"$f":"IF($A171=\"\",\"\",INDEX('Appliances References'!$V$5:$V$36,MATCH($A171,'Appliances References'!$N$5:$N$36,0)))","v":""},{"$f":"IF($A171=\"\",\"\",INDEX('Appliances References'!$W$5:$W$36,MATCH($A171,'Appliances References'!$N$5:$N$36,0)))","v":""},{"$f":"IF($A171=\"\",\"\",INDEX('Appliances References'!$Y$5:$Y$36,MATCH($A171,'Appliances References'!$N$5:$N$36,0)))","v":""},{"$f":"IF($A171=\"\",\"\",INDEX('Appliances References'!$Z$5:$Z$36,MATCH($A171,'Appliances References'!$N$5:$N$36,0)))","v":""},{"$f":"IF($A171=\"\",\"\",INDEX('Appliances References'!$AJ$5:$AJ$36,MATCH($A171,'Appliances References'!$N$5:$N$36,0)))","v":""},null,{"$f":"IF(D171=\"\",\"\",K171/D171)","v":""},{"$error":"#VALUE!"},{"$f":"IF(B171>0,0,\"\")","v":0},{"$error":"#VALUE!"}]
[{"$f":"IF('Appliances Worksheet'!E190=\"\",\"\",'Appliances References'!$N$27)","v":""},{"$f":"IF('Appliances Worksheet'!E190=\"\",\"\",'Appliances Worksheet'!E190)","v":""},{"$f":"IF($A172=\"\",\"\",INDEX('Appliances References'!$R$5:$R$36,MATCH($A172,'Appliances References'!$N$5:$N$36,0)))","v":""},{"$f":"IF($A172=\"\",\"\",INDEX('Appliances References'!$S$5:$S$36,MATCH($A172,'Appliances References'!$N$5:$N$36,0)))","v":""},{"$f":"IF($A172=\"\",\"\",INDEX('Appliances References'!$T$5:$T$36,MATCH($A172,'Appliances References'!$N$5:$N$36,0)))","v":""},{"$f":"IF($A172=\"\",\"\",INDEX('Appliances References'!$U$5:$U$36,MATCH($A172,'Appliances References'!$N$5:$N$36,0)))","v":""},{"$f":"IF($A172=\"\",\"\",INDEX('Appliances References'!$V$5:$V$36,MATCH($A172,'Appliances References'!$N$5:$N$36,0)))","v":""},{"$f":"IF($A172=\"\",\"\",INDEX('Appliances References'!$W$5:$W$36,MATCH($A172,'Appliances References'!$N$5:$N$36,0)))","v":""},{"$f":"IF($A172=\"\",\"\",INDEX('Appliances References'!$Y$5:$Y$36,MATCH($A172,'Appliances References'!$N$5:$N$36,0)))","v":""},{"$f":"IF($A172=\"\",\"\",INDEX('Appliances References'!$Z$5:$Z$36,MATCH($A172,'Appliances References'!$N$5:$N$36,0)))","v":""},{"$f":"IF($A172=\"\",\"\",INDEX('Appliances References'!$AJ$5:$AJ$36,MATCH($A172,'Appliances References'!$N$5:$N$36,0)))","v":""},null,"",{"$error":"#VALUE!"},0,{"$error":"#VALUE!"}]
[{"$f":"IF('Appliances Worksheet'!E191=\"\",\"\",'Appliances References'!$N$27)","v":""},{"$f":"IF('Appliances Worksheet'!E191=\"\",\"\",'Appliances Worksheet'!E191)","v":""},{"$f":"IF($A173=\"\",\"\",INDEX('Appliances References'!$R$5:$R$36,MATCH($A173,'Appliances References'!$N$5:$N$36,0)))","v":""},{"$f":"IF($A173=\"\",\"\",INDEX('Appliances References'!$S$5:$S$36,MATCH($A173,'Appliances References'!$N$5:$N$36,0)))","v":""},{"$f":"IF($A173=\"\",\"\",INDEX('Appliances References'!$T$5:$T$36,MATCH($A173,'Appliances References'!$N$5:$N$36,0)))","v":""},{"$f":"IF($A173=\"\",\"\",INDEX('Appliances References'!$U$5:$U$36,MATCH($A173,'Appliances References'!$N$5:$N$36,0)))","v":""},{"$f":"IF($A173=\"\",\"\",INDEX('Appliances References'!$V$5:$V$36,MATCH($A173,'Appliances References'!$N$5:$N$36,0)))","v":""},{"$f":"IF($A173=\"\",\"\",INDEX('Appliances References'!$W$5:$W$36,MATCH($A173,'Appliances References'!$N$5:$N$36,0)))","v":""},{"$f":"IF($A173=\"\",\"\",INDEX('Appliances References'!$Y$5:$Y$36,MATCH($A173,'Appliances References'!$N$5:$N$36,0)))","v":""},{"$f":"IF($A173=\"\",\"\",INDEX('Appliances References'!$Z$5:$Z$36,MATCH($A173,'Appliances References'!$N$5:$N$36,0)))","v":""},{"$f":"IF($A173=\"\",\"\",INDEX('Appliances References'!$AJ$5:$AJ$36,MATCH($A173,'Appliances References'!$N$5:$N$36,0)))","v":""},null,"",{"$error":"#VALUE!"},0,{"$error":"#VALUE!"}]
[]
[]
[]
[]
[]
[]
["Battery Operated Weed Trimmer"]
["Device","Proposed Qty","Gross kW per unit","EE kWh per unit","Winter kW saved","BE kWh saved","MMBTU EE","MMBTU BE","EE CO2","BE CO2","Rebate per unit",null,"$/kWh","Total Rebate","Bonus","Total Rebate + Bonus"]
[{"$f":"IF('Appliances Worksheet'!E200=\"\",\"\",'Appliances References'!$N$26)","v":""},{"$f":"IF('Appliances Worksheet'!E200=\"\",\"\",'Appliances Worksheet'!E200)","v":""},{"$f":"IF($A182=\"\",\"\",INDEX('Appliances References'!$R$5:$R$36,MATCH($A182,'Appliances References'!$N$5:$N$36,0)))","v":""},{"$f":"IF($A182=\"\",\"\",INDEX('Appliances References'!$S$5:$S$36,MATCH($A182,'Appliances References'!$N$5:$N$36,0)))","v":""},{"$f":"IF($A182=\"\",\"\",INDEX('Appliances References'!$T$5:$T$36,MATCH($A182,'Appliances References'!$N$5:$N$36,0)))","v":""},{"$f":"IF($A182=\"\",\"\",INDEX('Appliances References'!$U$5:$U$36,MATCH($A182,'Appliances References'!$N$5:$N$36,0)))","v":""},{"$f":"IF($A182=\"\",\"\",INDEX('Appliances References'!$V$5:$V$36,MATCH($A182,'Appliances References'!$N$5:$N$36,0)))","v":""},{"$f":"IF($A182=\"\",\"\",INDEX('Appliances References'!$W$5:$W$36,MATCH($A182,'Appliances References'!$N$5:$N$36,0)))","v":""},{"$f":"IF($A182=\"\",\"\",INDEX('Appliances References'!$Y$5:$Y$36,MATCH($A182,'Appliances References'!$N$5:$N$36,0)))","v":""},{"$f":"IF($A182=\"\",\"\",INDEX('Appliances References'!$Z$5:$Z$36,MATCH($A182,'Appliances References'!$N$5:$N$36,0)))","v":""},{"$f":"IF($A182=\"\",\"\",INDEX('Appliances References'!$AJ$5:$AJ$36,MATCH($A182,'Appliances References'!$N$5:$N$36,0)))","v":""},null,{"$f":"IF(D182=\"\",\"\",K182/D182)","v":""},{"$error":"#VALUE!"},{"$f":"IF(B182>0,0,\"\")","v":0},{"$error":"#VALUE!"}]
[{"$f":"IF('Appliances Worksheet'!E201=\"\",\"\",'Appliances References'!$N$26)","v":""},{"$f":"IF('Appliances Worksheet'!E201=\"\",\"\",'Appliances Worksheet'!E201)","v":""},{"$f":"IF($A183=\"\",\"\",INDEX('Appliances References'!$R$5:$R$36,MATCH($A183,'Appliances References'!$N$5:$N$36,0)))","v":""},{"$f":"IF($A183=\"\",\"\",INDEX('Appliances References'!$S$5:$S$36,MATCH($A183,'Appliances References'!$N$5:$N$36,0)))","v":""},{"$f":"IF($A183=\"\",\"\",INDEX('Appliances References'!$T$5:$T$36,MATCH($A183,'Appliances References'!$N$5:$N$36,0)))","v":""},{"$f":"IF($A183=\"\",\"\",INDEX('Appliances References'!$U$5:$U$36,MATCH($A183,'Appliances References'!$N$5:$N$36,0)))","v":""},{"$f":"IF($A183=\"\",\"\",INDEX('Appliances References'!$V$5:$V$36,MATCH($A183,'Appliances References'!$N$5:$N$36,0)))","v":""},{"$f":"IF($A183=\"\",\"\",INDEX('Appliances References'!$W$5:$W$36,MATCH($A183,'Appliances References'!$N$5:$N$36,0)))","v":""},{"$f":"IF($A183=\"\",\"\",INDEX('Appliances References'!$Y$5:$Y$36,MATCH($A183,'Appliances References'!$N$5:$N$36,0)))","v":""},{"$f":"IF($A183=\"\",\"\",INDEX('Appliances References'!$Z$5:$Z$36,MATCH($A183,'Appliances References'!$N$5:$N$36,0)))","v":""},{"$f":"IF($A183=\"\",\"\",INDEX('Appliances References'!$AJ$5:$AJ$36,MATCH($A183,'Appliances References'!$N$5:$N$36,0)))","v":""},null,"",{"$error":"#VALUE!"},{"$f":"IF(B183>0,0,\"\")","v":0},{"$error":"#VALUE!"}]
[{"$f":"IF('Appliances Worksheet'!E202=\"\",\"\",'Appliances References'!$N$26)","v":""},{"$f":"IF('Appliances Worksheet'!E202=\"\",\"\",'Appliances Worksheet'!E202)","v":""},{"$f":"IF($A184=\"\",\"\",INDEX('Appliances References'!$R$5:$R$36,MATCH($A184,'Appliances References'!$N$5:$N$36,0)))","v":""},{"$f":"IF($A184=\"\",\"\",INDEX('Appliances References'!$S$5:$S$36,MATCH($A184,'Appliances References'!$N$5:$N$36,0)))","v":""},{"$f":"IF($A184=\"\",\"\",INDEX('Appliances References'!$T$5:$T$36,MATCH($A184,'Appliances References'!$N$5:$N$36,0)))","v":""},{"$f":"IF($A184=\"\",\"\",INDEX('Appliances References'!$U$5:$U$36,MATCH($A184,'Appliances References'!$N$5:$N$36,0)))","v":""},{"$f":"IF($A184=\"\",\"\",INDEX('Appliances References'!$V$5:$V$36,MATCH($A184,'Appliances References'!$N$5:$N$36,0)))","v":""},{"$f":"IF($A184=\"\",\"\",INDEX('Appliances References'!$W$5:$W$36,MATCH($A184,'Appliances References'!$N$5:$N$36,0)))","v":""},{"$f":"IF($A184=\"\",\"\",INDEX('Appliances References'!$Y$5:$Y$36,MATCH($A184,'Appliances References'!$N$5:$N$36,0)))","v":""},{"$f":"IF($A184=\"\",\"\",INDEX('Appliances References'!$Z$5:$Z$36,MATCH($A184,'Appliances References'!$N$5:$N$36,0)))","v":""},{"$f":"IF($A184=\"\",\"\",INDEX('Appliances References'!$AJ$5:$AJ$36,MATCH($A184,'Appliances References'!$N$5:$N$36,0)))","v":""},null,"",{"$error":"#VALUE!"},0,{"$error":"#VALUE!"}]
[{"$f":"IF('Appliances Worksheet'!E203=\"\",\"\",'Appliances References'!$N$26)","v":""},{"$f":"IF('Appliances Worksheet'!E203=\"\",\"\",'Appliances Worksheet'!E203)","v":""},{"$f":"IF($A185=\"\",\"\",INDEX('Appliances References'!$R$5:$R$36,MATCH($A185,'Appliances References'!$N$5:$N$36,0)))","v":""},{"$f":"IF($A185=\"\",\"\",INDEX('Appliances References'!$S$5:$S$36,MATCH($A185,'Appliances References'!$N$5:$N$36,0)))","v":""},{"$f":"IF($A185=\"\",\"\",INDEX('Appliances References'!$T$5:$T$36,MATCH($A185,'Appliances References'!$N$5:$N$36,0)))","v":""},{"$f":"IF($A185=\"\",\"\",INDEX('Appliances References'!$U$5:$U$36,MATCH($A185,'Appliances References'!$N$5:$N$36,0)))","v":""},{"$f":"IF($A185=\"\",\"\",INDEX('Appliances References'!$V$5:$V$36,MATCH($A185,'Appliances References'!$N$5:$N$36,0)))","v":""},{"$f":"IF($A185=\"\",\"\",INDEX('Appliances References'!$W$5:$W$36,MATCH($A185,'Appliances References'!$N$5:$N$36,0)))","v":""},{"$f":"IF($A185=\"\",\"\",INDEX('Appliances References'!$Y$5:$Y$36,MATCH($A185,'Appliances References'!$N$5:$N$36,0)))","v":""},{"$f":"IF($A185=\"\",\"\",INDEX('Appliances References'!$Z$5:$Z$36,MATCH($A185,'Appliances References'!$N$5:$N$36,0)))","v":""},{"$f":"IF($A185=\"\",\"\",INDEX('Appliances References'!$AJ$5:$AJ$36,MATCH($A185,'Appliances References'!$N$5:$N$36,0)))","v":""},null,"",{"$error":"#VALUE!"},0,{"$error":"#VALUE!"}]
[]
[]
[]
[]
[]
[]
["ENERGY STAR Refrigerator"]
["Device","Proposed Qty","Gross kW per unit","EE kWh per unit","Winter kW saved","BE kWh saved","MMBTU EE","MMBTU BE","EE CO2","BE CO2","Rebate per unit",null,"$/kWh","Total Rebate","Bonus","Total Rebate + Bonus"]
[{"$f":"IF('Appliances Worksheet'!E212=\"\",\"\",'Appliances References'!$N$32)","v":""},{"$f":"IF('Appliances Worksheet'!E212=\"\",\"\",'Appliances Worksheet'!E212)","v":""},{"$f":"IF($A194=\"\",\"\",INDEX('Appliances References'!$R$5:$R$36,MATCH($A194,'Appliances References'!$N$5:$N$36,0)))","v":""},{"$f":"IF($A194=\"\",\"\",INDEX('Appliances References'!$S$5:$S$36,MATCH($A194,'Appliances References'!$N$5:$N$36,0)))","v":""},{"$f":"IF($A194=\"\",\"\",INDEX('Appliances References'!$T$5:$T$36,MATCH($A194,'Appliances References'!$N$5:$N$36,0)))","v":""},{"$f":"IF($A194=\"\",\"\",INDEX('Appliances References'!$U$5:$U$36,MATCH($A194,'Appliances References'!$N$5:$N$36,0)))","v":""},{"$f":"IF($A194=\"\",\"\",INDEX('Appliances References'!$V$5:$V$36,MATCH($A194,'Appliances References'!$N$5:$N$36,0)))","v":""},{"$f":"IF($A194=\"\",\"\",INDEX('Appliances References'!$W$5:$W$36,MATCH($A194,'Appliances References'!$N$5:$N$36,0)))","v":""},{"$f":"IF($A194=\"\",\"\",INDEX('Appliances References'!$Y$5:$Y$36,MATCH($A194,'Appliances References'!$N$5:$N$36,0)))","v":""},{"$f":"IF($A194=\"\",\"\",INDEX('Appliances References'!$Z$5:$Z$36,MATCH($A194,'Appliances References'!$N$5:$N$36,0)))","v":""},{"$f":"IF($A194=\"\",\"\",INDEX('Appliances References'!$AJ$5:$AJ$36,MATCH($A194,'Appliances References'!$N$5:$N$36,0)))","v":""},null,{"$f":"IF(D194=\"\",\"\",K194/D194)","v":""},{"$f":"IF(B194>0,B194*K194,\"\")","v":{"$error":"#VALUE!"}},{"$f":"IF(B194>0,0,\"\")","v":0},{"$f":"IF(B194>0,N194+O194,\"\")","v":{"$error":"#VALUE!"}}]
[{"$f":"IF('Appliances Worksheet'!E213=\"\",\"\",'Appliances References'!$N$32)","v":""},{"$f":"IF('Appliances Worksheet'!E213=\"\",\"\",'Appliances Worksheet'!E213)","v":""},{"$f":"IF($A195=\"\",\"\",INDEX('Appliances References'!$R$5:$R$36,MATCH($A195,'Appliances References'!$N$5:$N$36,0)))","v":""},{"$f":"IF($A195=\"\",\"\",INDEX('Appliances References'!$S$5:$S$36,MATCH($A195,'Appliances References'!$N$5:$N$36,0)))","v":""},{"$f":"IF($A195=\"\",\"\",INDEX('Appliances References'!$T$5:$T$36,MATCH($A195,'Appliances References'!$N$5:$N$36,0)))","v":""},{"$f":"IF($A195=\"\",\"\",INDEX('Appliances References'!$U$5:$U$36,MATCH($A195,'Appliances References'!$N$5:$N$36,0)))","v":""},{"$f":"IF($A195=\"\",\"\",INDEX('Appliances References'!$V$5:$V$36,MATCH($A195,'Appliances References'!$N$5:$N$36,0)))","v":""},{"$f":"IF($A195=\"\",\"\",INDEX('Appliances References'!$W$5:$W$36,MATCH($A195,'Appliances References'!$N$5:$N$36,0)))","v":""},{"$f":"IF($A195=\"\",\"\",INDEX('Appliances References'!$Y$5:$Y$36,MATCH($A195,'Appliances References'!$N$5:$N$36,0)))","v":""},{"$f":"IF($A195=\"\",\"\",INDEX('Appliances References'!$Z$5:$Z$36,MATCH($A195,'Appliances References'!$N$5:$N$36,0)))","v":""},{"$f":"IF($A195=\"\",\"\",INDEX('Appliances References'!$AJ$5:$AJ$36,MATCH($A195,'Appliances References'!$N$5:$N$36,0)))","v":""},null,"",{"$error":"#VALUE!"},{"$f":"IF(B195>0,0,\"\")","v":0},{"$error":"#VALUE!"}]
[{"$f":"IF('Appliances Worksheet'!E214=\"\",\"\",'Appliances References'!$N$32)","v":""},{"$f":"IF('Appliances Worksheet'!E214=\"\",\"\",'Appliances Worksheet'!E214)","v":""},{"$f":"IF($A196=\"\",\"\",INDEX('Appliances References'!$R$5:$R$36,MATCH($A196,'Appliances References'!$N$5:$N$36,0)))","v":""},{"$f":"IF($A196=\"\",\"\",INDEX('Appliances References'!$S$5:$S$36,MATCH($A196,'Appliances References'!$N$5:$N$36,0)))","v":""},{"$f":"IF($A196=\"\",\"\",INDEX('Appliances References'!$T$5:$T$36,MATCH($A196,'Appliances References'!$N$5:$N$36,0)))","v":""},{"$f":"IF($A196=\"\",\"\",INDEX('Appliances References'!$U$5:$U$36,MATCH($A196,'Appliances References'!$N$5:$N$36,0)))","v":""},{"$f":"IF($A196=\"\",\"\",INDEX('Appliances References'!$V$5:$V$36,MATCH($A196,'Appliances References'!$N$5:$N$36,0)))","v":""},{"$f":"IF($A196=\"\",\"\",INDEX('Appliances References'!$W$5:$W$36,MATCH($A196,'Appliances References'!$N$5:$N$36,0)))","v":""},{"$f":"IF($A196=\"\",\"\",INDEX('Appliances References'!$Y$5:$Y$36,MATCH($A196,'Appliances References'!$N$5:$N$36,0)))","v":""},{"$f":"IF($A196=\"\",\"\",INDEX('Appliances References'!$Z$5:$Z$36,MATCH($A196,'Appliances References'!$N$5:$N$36,0)))","v":""},{"$f":"IF($A196=\"\",\"\",INDEX('Appliances References'!$AJ$5:$AJ$36,MATCH($A196,'Appliances References'!$N$5:$N$36,0)))","v":""},null,"",{"$error":"#VALUE!"},0,{"$error":"#VALUE!"}]
[{"$f":"IF('Appliances Worksheet'!E215=\"\",\"\",'Appliances References'!$N$32)","v":""},{"$f":"IF('Appliances Worksheet'!E215=\"\",\"\",'Appliances Worksheet'!E215)","v":""},{"$f":"IF($A197=\"\",\"\",INDEX('Appliances References'!$R$5:$R$36,MATCH($A197,'Appliances References'!$N$5:$N$36,0)))","v":""},{"$f":"IF($A197=\"\",\"\",INDEX('Appliances References'!$S$5:$S$36,MATCH($A197,'Appliances References'!$N$5:$N$36,0)))","v":""},{"$f":"IF($A197=\"\",\"\",INDEX('Appliances References'!$T$5:$T$36,MATCH($A197,'Appliances References'!$N$5:$N$36,0)))","v":""},{"$f":"IF($A197=\"\",\"\",INDEX('Appliances References'!$U$5:$U$36,MATCH($A197,'Appliances References'!$N$5:$N$36,0)))","v":""},{"$f":"IF($A197=\"\",\"\",INDEX('Appliances References'!$V$5:$V$36,MATCH($A197,'Appliances References'!$N$5:$N$36,0)))","v":""},{"$f":"IF($A197=\"\",\"\",INDEX('Appliances References'!$W$5:$W$36,MATCH($A197,'Appliances References'!$N$5:$N$36,0)))","v":""},{"$f":"IF($A197=\"\",\"\",INDEX('Appliances References'!$Y$5:$Y$36,MATCH($A197,'Appliances References'!$N$5:$N$36,0)))","v":""},{"$f":"IF($A197=\"\",\"\",INDEX('Appliances References'!$Z$5:$Z$36,MATCH($A197,'Appliances References'!$N$5:$N$36,0)))","v":""},{"$f":"IF($A197=\"\",\"\",INDEX('Appliances References'!$AJ$5:$AJ$36,MATCH($A197,'Appliances References'!$N$5:$N$36,0)))","v":""},null,"",{"$error":"#VALUE!"},0,{"$error":"#VALUE!"}]
[]
[]
[]
[]
[]
[]
["Most Efficient Refrigerator"]
["Device","Proposed Qty","Gross kW per unit","EE kWh per unit","Winter kW saved","BE kWh saved","MMBTU EE","MMBTU BE","EE CO2","BE CO2","Rebate per unit",null,"$/kWh","Total Rebate","Bonus","Total Rebate + Bonus"]
[{"$f":"IF('Appliances Worksheet'!E224=\"\",\"\",'Appliances References'!$N$31)","v":""},{"$f":"IF('Appliances Worksheet'!E224=\"\",\"\",'Appliances Worksheet'!E224)","v":""},{"$f":"IF($A206=\"\",\"\",INDEX('Appliances References'!$R$5:$R$36,MATCH($A206,'Appliances References'!$N$5:$N$36,0)))","v":""},{"$f":"IF($A206=\"\",\"\",INDEX('Appliances References'!$S$5:$S$36,MATCH($A206,'Appliances References'!$N$5:$N$36,0)))","v":""},{"$f":"IF($A206=\"\",\"\",INDEX('Appliances References'!$T$5:$T$36,MATCH($A206,'Appliances References'!$N$5:$N$36,0)))","v":""},{"$f":"IF($A206=\"\",\"\",INDEX('Appliances References'!$U$5:$U$36,MATCH($A206,'Appliances References'!$N$5:$N$36,0)))","v":""},{"$f":"IF($A206=\"\",\"\",INDEX('Appliances References'!$V$5:$V$36,MATCH($A206,'Appliances References'!$N$5:$N$36,0)))","v":""},{"$f":"IF($A206=\"\",\"\",INDEX('Appliances References'!$W$5:$W$36,MATCH($A206,'Appliances References'!$N$5:$N$36,0)))","v":""},{"$f":"IF($A206=\"\",\"\",INDEX('Appliances References'!$Y$5:$Y$36,MATCH($A206,'Appliances References'!$N$5:$N$36,0)))","v":""},{"$f":"IF($A206=\"\",\"\",INDEX('Appliances References'!$Z$5:$Z$36,MATCH($A206,'Appliances References'!$N$5:$N$36,0)))","v":""},{"$f":"IF($A206=\"\",\"\",INDEX('Appliances References'!$AJ$5:$AJ$36,MATCH($A206,'Appliances References'!$N$5:$N$36,0)))","v":""},null,{"$f":"IF(D206=\"\",\"\",K206/D206)","v":""},{"$f":"IF(B206>0,B206*K206,\"\")","v":{"$error":"#VALUE!"}},{"$f":"IF(B206>0,0,\"\")","v":0},{"$f":"IF(B206>0,N206+O206,\"\")","v":{"$error":"#VALUE!"}}]
[{"$f":"IF('Appliances Worksheet'!E225=\"\",\"\",'Appliances References'!$N$31)","v":""},{"$f":"IF('Appliances Worksheet'!E225=\"\",\"\",'Appliances Worksheet'!E225)","v":""},{"$f":"IF($A207=\"\",\"\",INDEX('Appliances References'!$R$5:$R$36,MATCH($A207,'Appliances References'!$N$5:$N$36,0)))","v":""},{"$f":"IF($A207=\"\",\"\",INDEX('Appliances References'!$S$5:$S$36,MATCH($A207,'Appliances References'!$N$5:$N$36,0)))","v":""},{"$f":"IF($A207=\"\",\"\",INDEX('Appliances References'!$T$5:$T$36,MATCH($A207,'Appliances References'!$N$5:$N$36,0)))","v":""},{"$f":"IF($A207=\"\",\"\",INDEX('Appliances References'!$U$5:$U$36,MATCH($A207,'Appliances References'!$N$5:$N$36,0)))","v":""},{"$f":"IF($A207=\"\",\"\",INDEX('Appliances References'!$V$5:$V$36,MATCH($A207,'Appliances References'!$N$5:$N$36,0)))","v":""},{"$f":"IF($A207=\"\",\"\",INDEX('Appliances References'!$W$5:$W$36,MATCH($A207,'Appliances References'!$N$5:$N$36,0)))","v":""},{"$f":"IF($A207=\"\",\"\",INDEX('Appliances References'!$Y$5:$Y$36,MATCH($A207,'Appliances References'!$N$5:$N$36,0)))","v":""},{"$f":"IF($A207=\"\",\"\",INDEX('Appliances References'!$Z$5:$Z$36,MATCH($A207,'Appliances References'!$N$5:$N$36,0)))","v":""},{"$f":"IF($A207=\"\",\"\",INDEX('Appliances References'!$AJ$5:$AJ$36,MATCH($A207,'Appliances References'!$N$5:$N$36,0)))","v":""},null,"",{"$error":"#VALUE!"},{"$f":"IF(B207>0,0,\"\")","v":0},{"$error":"#VALUE!"}]
[{"$f":"IF('Appliances Worksheet'!E226=\"\",\"\",'Appliances References'!$N$31)","v":""},{"$f":"IF('Appliances Worksheet'!E226=\"\",\"\",'Appliances Worksheet'!E226)","v":""},{"$f":"IF($A208=\"\",\"\",INDEX('Appliances References'!$R$5:$R$36,MATCH($A208,'Appliances References'!$N$5:$N$36,0)))","v":""},{"$f":"IF($A208=\"\",\"\",INDEX('Appliances References'!$S$5:$S$36,MATCH($A208,'Appliances References'!$N$5:$N$36,0)))","v":""},{"$f":"IF($A208=\"\",\"\",INDEX('Appliances References'!$T$5:$T$36,MATCH($A208,'Appliances References'!$N$5:$N$36,0)))","v":""},{"$f":"IF($A208=\"\",\"\",INDEX('Appliances References'!$U$5:$U$36,MATCH($A208,'Appliances References'!$N$5:$N$36,0)))","v":""},{"$f":"IF($A208=\"\",\"\",INDEX('Appliances References'!$V$5:$V$36,MATCH($A208,'Appliances References'!$N$5:$N$36,0)))","v":""},{"$f":"IF($A208=\"\",\"\",INDEX('Appliances References'!$W$5:$W$36,MATCH($A208,'Appliances References'!$N$5:$N$36,0)))","v":""},{"$f":"IF($A208=\"\",\"\",INDEX('Appliances References'!$Y$5:$Y$36,MATCH($A208,'Appliances References'!$N$5:$N$36,0)))","v":""},{"$f":"IF($A208=\"\",\"\",INDEX('Appliances References'!$Z$5:$Z$36,MATCH($A208,'Appliances References'!$N$5:$N$36,0)))","v":""},{"$f":"IF($A208=\"\",\"\",INDEX('Appliances References'!$AJ$5:$AJ$36,MATCH($A208,'Appliances References'!$N$5:$N$36,0)))","v":""},null,"",{"$error":"#VALUE!"},0,{"$error":"#VALUE!"}]
[{"$f":"IF('Appliances Worksheet'!E227=\"\",\"\",'Appliances References'!$N$31)","v":""},{"$f":"IF('Appliances Worksheet'!E227=\"\",\"\",'Appliances Worksheet'!E227)","v":""},{"$f":"IF($A209=\"\",\"\",INDEX('Appliances References'!$R$5:$R$36,MATCH($A209,'Appliances References'!$N$5:$N$36,0)))","v":""},{"$f":"IF($A209=\"\",\"\",INDEX('Appliances References'!$S$5:$S$36,MATCH($A209,'Appliances References'!$N$5:$N$36,0)))","v":""},{"$f":"IF($A209=\"\",\"\",INDEX('Appliances References'!$T$5:$T$36,MATCH($A209,'Appliances References'!$N$5:$N$36,0)))","v":""},{"$f":"IF($A209=\"\",\"\",INDEX('Appliances References'!$U$5:$U$36,MATCH($A209,'Appliances References'!$N$5:$N$36,0)))","v":""},{"$f":"IF($A209=\"\",\"\",INDEX('Appliances References'!$V$5:$V$36,MATCH($A209,'Appliances References'!$N$5:$N$36,0)))","v":""},{"$f":"IF($A209=\"\",\"\",INDEX('Appliances References'!$W$5:$W$36,MATCH($A209,'Appliances References'!$N$5:$N$36,0)))","v":""},{"$f":"IF($A209=\"\",\"\",INDEX('Appliances References'!$Y$5:$Y$36,MATCH($A209,'Appliances References'!$N$5:$N$36,0)))","v":""},{"$f":"IF($A209=\"\",\"\",INDEX('Appliances References'!$Z$5:$Z$36,MATCH($A209,'Appliances References'!$N$5:$N$36,0)))","v":""},{"$f":"IF($A209=\"\",\"\",INDEX('Appliances References'!$AJ$5:$AJ$36,MATCH($A209,'Appliances References'!$N$5:$N$36,0)))","v":""},null,"",{"$error":"#VALUE!"},0,{"$error":"#VALUE!"}]
[]
[]
[]
[]
[]
[]
["ENERGY STAR Clothes Washer"]
["Device","Proposed Qty","Gross kW per unit","EE kWh per unit","Winter kW saved","BE kWh saved","MMBTU EE","MMBTU BE","EE CO2","BE CO2","Rebate per unit",null,"$/kWh","Total Rebate","Bonus","Total Rebate + Bonus"]
[{"$f":"IF('Appliances Worksheet'!E236=\"\",\"\",'Appliances References'!$N$33)","v":""},{"$f":"IF('Appliances Worksheet'!E236=\"\",\"\",'Appliances Worksheet'!E236)","v":""},{"$f":"IF($A218=\"\",\"\",INDEX('Appliances References'!$R$5:$R$36,MATCH($A218,'Appliances References'!$N$5:$N$36,0)))","v":""},{"$f":"IF($A218=\"\",\"\",INDEX('Appliances References'!$S$5:$S$36,MATCH($A218,'Appliances References'!$N$5:$N$36,0)))","v":""},{"$f":"IF($A218=\"\",\"\",INDEX('Appliances References'!$T$5:$T$36,MATCH($A218,'Appliances References'!$N$5:$N$36,0)))","v":""},{"$f":"IF($A218=\"\",\"\",INDEX('Appliances References'!$U$5:$U$36,MATCH($A218,'Appliances References'!$N$5:$N$36,0)))","v":""},{"$f":"IF($A218=\"\",\"\",INDEX('Appliances References'!$V$5:$V$36,MATCH($A218,'Appliances References'!$N$5:$N$36,0)))","v":""},{"$f":"IF($A218=\"\",\"\",INDEX('Appliances References'!$W$5:$W$36,MATCH($A218,'Appliances References'!$N$5:$N$36,0)))","v":""},{"$f":"IF($A218=\"\",\"\",INDEX('Appliances References'!$Y$5:$Y$36,MATCH($A218,'Appliances References'!$N$5:$N$36,0)))","v":""},{"$f":"IF($A218=\"\",\"\",INDEX('Appliances References'!$Z$5:$Z$36,MATCH($A218,'Appliances References'!$N$5:$N$36,0)))","v":""},{"$f":"IF($A218=\"\",\"\",INDEX('Appliances References'!$AJ$5:$AJ$36,MATCH($A218,'Appliances References'!$N$5:$N$36,0)))","v":""},null,{"$f":"IF(D218=\"\",\"\",K218/D218)","v":""},{"$f":"IF(B218>0,B218*K218,\"\")","v":{"$error":"#VALUE!"}},{"$f":"IF(B218>0,0,\"\")","v":0},{"$f":"IF(B218>0,N218+O218,\"\")","v":{"$error":"#VALUE!"}}]
[{"$f":"IF('Appliances Worksheet'!E237=\"\",\"\",'Appliances References'!$N$33)","v":""},{"$f":"IF('Appliances Worksheet'!E237=\"\",\"\",'Appliances Worksheet'!E237)","v":""},{"$f":"IF($A219=\"\",\"\",INDEX('Appliances References'!$R$5:$R$36,MATCH($A219,'Appliances References'!$N$5:$N$36,0)))","v":""},{"$f":"IF($A219=\"\",\"\",INDEX('Appliances References'!$S$5:$S$36,MATCH($A219,'Appliances References'!$N$5:$N$36,0)))","v":""},{"$f":"IF($A219=\"\",\"\",INDEX('Appliances References'!$T$5:$T$36,MATCH($A219,'Appliances References'!$N$5:$N$36,0)))","v":""},{"$f":"IF($A219=\"\",\"\",INDEX('Appliances References'!$U$5:$U$36,MATCH($A219,'Appliances References'!$N$5:$N$36,0)))","v":""},{"$f":"IF($A219=\"\",\"\",INDEX('Appliances References'!$V$5:$V$36,MATCH($A219,'Appliances References'!$N$5:$N$36,0)))","v":""},{"$f":"IF($A219=\"\",\"\",INDEX('Appliances References'!$W$5:$W$36,MATCH($A219,'Appliances References'!$N$5:$N$36,0)))","v":""},{"$f":"IF($A219=\"\",\"\",INDEX('Appliances References'!$Y$5:$Y$36,MATCH($A219,'Appliances References'!$N$5:$N$36,0)))","v":""},{"$f":"IF($A219=\"\",\"\",INDEX('Appliances References'!$Z$5:$Z$36,MATCH($A219,'Appliances References'!$N$5:$N$36,0)))","v":""},{"$f":"IF($A219=\"\",\"\",INDEX('Appliances References'!$AJ$5:$AJ$36,MATCH($A219,'Appliances References'!$N$5:$N$36,0)))","v":""},null,"",{"$error":"#VALUE!"},{"$f":"IF(B219>0,0,\"\")","v":0},{"$error":"#VALUE!"}]
[{"$f":"IF('Appliances Worksheet'!E238=\"\",\"\",'Appliances References'!$N$33)","v":""},{"$f":"IF('Appliances Worksheet'!E238=\"\",\"\",'Appliances Worksheet'!E238)","v":""},{"$f":"IF($A220=\"\",\"\",INDEX('Appliances References'!$R$5:$R$36,MATCH($A220,'Appliances References'!$N$5:$N$36,0)))","v":""},{"$f":"IF($A220=\"\",\"\",INDEX('Appliances References'!$S$5:$S$36,MATCH($A220,'Appliances References'!$N$5:$N$36,0)))","v":""},{"$f":"IF($A220=\"\",\"\",INDEX('Appliances References'!$T$5:$T$36,MATCH($A220,'Appliances References'!$N$5:$N$36,0)))","v":""},{"$f":"IF($A220=\"\",\"\",INDEX('Appliances References'!$U$5:$U$36,MATCH($A220,'Appliances References'!$N$5:$N$36,0)))","v":""},{"$f":"IF($A220=\"\",\"\",INDEX('Appliances References'!$V$5:$V$36,MATCH($A220,'Appliances References'!$N$5:$N$36,0)))","v":""},{"$f":"IF($A220=\"\",\"\",INDEX('Appliances References'!$W$5:$W$36,MATCH($A220,'Appliances References'!$N$5:$N$36,0)))","v":""},{"$f":"IF($A220=\"\",\"\",INDEX('Appliances References'!$Y$5:$Y$36,MATCH($A220,'Appliances References'!$N$5:$N$36,0)))","v":""},{"$f":"IF($A220=\"\",\"\",INDEX('Appliances References'!$Z$5:$Z$36,MATCH($A220,'Appliances References'!$N$5:$N$36,0)))","v":""},{"$f":"IF($A220=\"\",\"\",INDEX('Appliances References'!$AJ$5:$AJ$36,MATCH($A220,'Appliances References'!$N$5:$N$36,0)))","v":""},null,"",{"$error":"#VALUE!"},0,{"$error":"#VALUE!"}]
[{"$f":"IF('Appliances Worksheet'!E239=\"\",\"\",'Appliances References'!$N$33)","v":""},{"$f":"IF('Appliances Worksheet'!E239=\"\",\"\",'Appliances Worksheet'!E239)","v":""},{"$f":"IF($A221=\"\",\"\",INDEX('Appliances References'!$R$5:$R$36,MATCH($A221,'Appliances References'!$N$5:$N$36,0)))","v":""},{"$f":"IF($A221=\"\",\"\",INDEX('Appliances References'!$S$5:$S$36,MATCH($A221,'Appliances References'!$N$5:$N$36,0)))","v":""},{"$f":"IF($A221=\"\",\"\",INDEX('Appliances References'!$T$5:$T$36,MATCH($A221,'Appliances References'!$N$5:$N$36,0)))","v":""},{"$f":"IF($A221=\"\",\"\",INDEX('Appliances References'!$U$5:$U$36,MATCH($A221,'Appliances References'!$N$5:$N$36,0)))","v":""},{"$f":"IF($A221=\"\",\"\",INDEX('Appliances References'!$V$5:$V$36,MATCH($A221,'Appliances References'!$N$5:$N$36,0)))","v":""},{"$f":"IF($A221=\"\",\"\",INDEX('Appliances References'!$W$5:$W$36,MATCH($A221,'Appliances References'!$N$5:$N$36,0)))","v":""},{"$f":"IF($A221=\"\",\"\",INDEX('Appliances References'!$Y$5:$Y$36,MATCH($A221,'Appliances References'!$N$5:$N$36,0)))","v":""},{"$f":"IF($A221=\"\",\"\",INDEX('Appliances References'!$Z$5:$Z$36,MATCH($A221,'Appliances References'!$N$5:$N$36,0)))","v":""},{"$f":"IF($A221=\"\",\"\",INDEX('Appliances References'!$AJ$5:$AJ$36,MATCH($A221,'Appliances References'!$N$5:$N$36,0)))","v":""},null,"",{"$error":"#VALUE!"},0,{"$error":"#VALUE!"}]
[]
[]
[]
[]
[]
[]
["ENERGY STAR Dishwasher"]
["Device","Proposed Qty","Gross kW per unit","EE kWh per unit","Winter kW saved","BE kWh saved","MMBTU EE","MMBTU BE","EE CO2","BE CO2","Rebate per unit",null,"$/kWh","Total Rebate","Bonus","Total Rebate + Bonus"]
[{"$f":"IF('Appliances Worksheet'!E248=\"\",\"\",'Appliances References'!$N$34)","v":""},{"$f":"IF('Appliances Worksheet'!E248=\"\",\"\",'Appliances Worksheet'!E248)","v":""},{"$f":"IF($A230=\"\",\"\",INDEX('Appliances References'!$R$5:$R$36,MATCH($A230,'Appliances References'!$N$5:$N$36,0)))","v":""},{"$f":"IF($A230=\"\",\"\",INDEX('Appliances References'!$S$5:$S$36,MATCH($A230,'Appliances References'!$N$5:$N$36,0)))","v":""},{"$f":"IF($A230=\"\",\"\",INDEX('Appliances References'!$T$5:$T$36,MATCH($A230,'Appliances References'!$N$5:$N$36,0)))","v":""},{"$f":"IF($A230=\"\",\"\",INDEX('Appliances References'!$U$5:$U$36,MATCH($A230,'Appliances References'!$N$5:$N$36,0)))","v":""},{"$f":"IF($A230=\"\",\"\",INDEX('Appliances References'!$V$5:$V$36,MATCH($A230,'Appliances References'!$N$5:$N$36,0)))","v":""},{"$f":"IF($A230=\"\",\"\",INDEX('Appliances References'!$W$5:$W$36,MATCH($A230,'Appliances References'!$N$5:$N$36,0)))","v":""},{"$f":"IF($A230=\"\",\"\",INDEX('Appliances References'!$Y$5:$Y$36,MATCH($A230,'Appliances References'!$N$5:$N$36,0)))","v":""},{"$f":"IF($A230=\"\",\"\",INDEX('Appliances References'!$Z$5:$Z$36,MATCH($A230,'Appliances References'!$N$5:$N$36,0)))","v":""},{"$f":"IF($A230=\"\",\"\",INDEX('Appliances References'!$AJ$5:$AJ$36,MATCH($A230,'Appliances References'!$N$5:$N$36,0)))","v":""},null,{"$f":"IF(D230=\"\",\"\",K230/D230)","v":""},{"$f":"IF(B230>0,B230*K230,\"\")","v":{"$error":"#VALUE!"}},{"$f":"IF(B230>0,0,\"\")","v":0},{"$f":"IF(B230>0,N230+O230,\"\")","v":{"$error":"#VALUE!"}}]
[{"$f":"IF('Appliances Worksheet'!E249=\"\",\"\",'Appliances References'!$N$34)","v":""},{"$f":"IF('Appliances Worksheet'!E249=\"\",\"\",'Appliances Worksheet'!E249)","v":""},{"$f":"IF($A231=\"\",\"\",INDEX('Appliances References'!$R$5:$R$36,MATCH($A231,'Appliances References'!$N$5:$N$36,0)))","v":""},{"$f":"IF($A231=\"\",\"\",INDEX('Appliances References'!$S$5:$S$36,MATCH($A231,'Appliances References'!$N$5:$N$36,0)))","v":""},{"$f":"IF($A231=\"\",\"\",INDEX('Appliances References'!$T$5:$T$36,MATCH($A231,'Appliances References'!$N$5:$N$36,0)))","v":""},{"$f":"IF($A231=\"\",\"\",INDEX('Appliances References'!$U$5:$U$36,MATCH($A231,'Appliances References'!$N$5:$N$36,0)))","v":""},{"$f":"IF($A231=\"\",\"\",INDEX('Appliances References'!$V$5:$V$36,MATCH($A231,'Appliances References'!$N$5:$N$36,0)))","v":""},{"$f":"IF($A231=\"\",\"\",INDEX('Appliances References'!$W$5:$W$36,MATCH($A231,'Appliances References'!$N$5:$N$36,0)))","v":""},{"$f":"IF($A231=\"\",\"\",INDEX('Appliances References'!$Y$5:$Y$36,MATCH($A231,'Appliances References'!$N$5:$N$36,0)))","v":""},{"$f":"IF($A231=\"\",\"\",INDEX('Appliances References'!$Z$5:$Z$36,MATCH($A231,'Appliances References'!$N$5:$N$36,0)))","v":""},{"$f":"IF($A231=\"\",\"\",INDEX('Appliances References'!$AJ$5:$AJ$36,MATCH($A231,'Appliances References'!$N$5:$N$36,0)))","v":""},null,"",{"$error":"#VALUE!"},{"$f":"IF(B231>0,0,\"\")","v":0},{"$error":"#VALUE!"}]
[{"$f":"IF('Appliances Worksheet'!E250=\"\",\"\",'Appliances References'!$N$34)","v":""},{"$f":"IF('Appliances Worksheet'!E250=\"\",\"\",'Appliances Worksheet'!E250)","v":""},{"$f":"IF($A232=\"\",\"\",INDEX('Appliances References'!$R$5:$R$36,MATCH($A232,'Appliances References'!$N$5:$N$36,0)))","v":""},{"$f":"IF($A232=\"\",\"\",INDEX('Appliances References'!$S$5:$S$36,MATCH($A232,'Appliances References'!$N$5:$N$36,0)))","v":""},{"$f":"IF($A232=\"\",\"\",INDEX('Appliances References'!$T$5:$T$36,MATCH($A232,'Appliances References'!$N$5:$N$36,0)))","v":""},{"$f":"IF($A232=\"\",\"\",INDEX('Appliances References'!$U$5:$U$36,MATCH($A232,'Appliances References'!$N$5:$N$36,0)))","v":""},{"$f":"IF($A232=\"\",\"\",INDEX('Appliances References'!$V$5:$V$36,MATCH($A232,'Appliances References'!$N$5:$N$36,0)))","v":""},{"$f":"IF($A232=\"\",\"\",INDEX('Appliances References'!$W$5:$W$36,MATCH($A232,'Appliances References'!$N$5:$N$36,0)))","v":""},{"$f":"IF($A232=\"\",\"\",INDEX('Appliances References'!$Y$5:$Y$36,MATCH($A232,'Appliances References'!$N$5:$N$36,0)))","v":""},{"$f":"IF($A232=\"\",\"\",INDEX('Appliances References'!$Z$5:$Z$36,MATCH($A232,'Appliances References'!$N$5:$N$36,0)))","v":""},{"$f":"IF($A232=\"\",\"\",INDEX('Appliances References'!$AJ$5:$AJ$36,MATCH($A232,'Appliances References'!$N$5:$N$36,0)))","v":""},null,"",{"$error":"#VALUE!"},0,{"$error":"#VALUE!"}]
[{"$f":"IF('Appliances Worksheet'!E251=\"\",\"\",'Appliances References'!$N$34)","v":""},{"$f":"IF('Appliances Worksheet'!E251=\"\",\"\",'Appliances Worksheet'!E251)","v":""},{"$f":"IF($A233=\"\",\"\",INDEX('Appliances References'!$R$5:$R$36,MATCH($A233,'Appliances References'!$N$5:$N$36,0)))","v":""},{"$f":"IF($A233=\"\",\"\",INDEX('Appliances References'!$S$5:$S$36,MATCH($A233,'Appliances References'!$N$5:$N$36,0)))","v":""},{"$f":"IF($A233=\"\",\"\",INDEX('Appliances References'!$T$5:$T$36,MATCH($A233,'Appliances References'!$N$5:$N$36,0)))","v":""},{"$f":"IF($A233=\"\",\"\",INDEX('Appliances References'!$U$5:$U$36,MATCH($A233,'Appliances References'!$N$5:$N$36,0)))","v":""},{"$f":"IF($A233=\"\",\"\",INDEX('Appliances References'!$V$5:$V$36,MATCH($A233,'Appliances References'!$N$5:$N$36,0)))","v":""},{"$f":"IF($A233=\"\",\"\",INDEX('Appliances References'!$W$5:$W$36,MATCH($A233,'Appliances References'!$N$5:$N$36,0)))","v":""},{"$f":"IF($A233=\"\",\"\",INDEX('Appliances References'!$Y$5:$Y$36,MATCH($A233,'Appliances References'!$N$5:$N$36,0)))","v":""},{"$f":"IF($A233=\"\",\"\",INDEX('Appliances References'!$Z$5:$Z$36,MATCH($A233,'Appliances References'!$N$5:$N$36,0)))","v":""},{"$f":"IF($A233=\"\",\"\",INDEX('Appliances References'!$AJ$5:$AJ$36,MATCH($A233,'Appliances References'!$N$5:$N$36,0)))","v":""},null,"",{"$error":"#VALUE!"},0,{"$error":"#VALUE!"}]
[]
[]
[]
[]
[]
[]
["Most Efficient Dishwasher"]
["Device","Proposed Qty","Gross kW per unit","EE kWh per unit","Winter kW saved","BE kWh saved","MMBTU EE","MMBTU BE","EE CO2","BE CO2","Rebate per unit",null,"$/kWh","Total Rebate","Bonus","Total Rebate + Bonus"]
[{"$f":"IF('Appliances Worksheet'!E260=\"\",\"\",'Appliances References'!$N$10)","v":""},{"$f":"IF('Appliances Worksheet'!E260=\"\",\"\",'Appliances Worksheet'!E260)","v":""},{"$f":"IF($A242=\"\",\"\",INDEX('Appliances References'!$R$5:$R$36,MATCH($A242,'Appliances References'!$N$5:$N$36,0)))","v":""},{"$f":"IF($A242=\"\",\"\",INDEX('Appliances References'!$S$5:$S$36,MATCH($A242,'Appliances References'!$N$5:$N$36,0)))","v":""},{"$f":"IF($A242=\"\",\"\",INDEX('Appliances References'!$T$5:$T$36,MATCH($A242,'Appliances References'!$N$5:$N$36,0)))","v":""},{"$f":"IF($A242=\"\",\"\",INDEX('Appliances References'!$U$5:$U$36,MATCH($A242,'Appliances References'!$N$5:$N$36,0)))","v":""},{"$f":"IF($A242=\"\",\"\",INDEX('Appliances References'!$V$5:$V$36,MATCH($A242,'Appliances References'!$N$5:$N$36,0)))","v":""},{"$f":"IF($A242=\"\",\"\",INDEX('Appliances References'!$W$5:$W$36,MATCH($A242,'Appliances References'!$N$5:$N$36,0)))","v":""},{"$f":"IF($A242=\"\",\"\",INDEX('Appliances References'!$Y$5:$Y$36,MATCH($A242,'Appliances References'!$N$5:$N$36,0)))","v":""},{"$f":"IF($A242=\"\",\"\",INDEX('Appliances References'!$Z$5:$Z$36,MATCH($A242,'Appliances References'!$N$5:$N$36,0)))","v":""},{"$f":"IF($A242=\"\",\"\",INDEX('Appliances References'!$AJ$5:$AJ$36,MATCH($A242,'Appliances References'!$N$5:$N$36,0)))","v":""},null,{"$f":"IF(D242=\"\",\"\",K242/D242)","v":""},{"$f":"IF(B242>0,B242*K242,\"\")","v":{"$error":"#VALUE!"}},{"$f":"IF(B242>0,0,\"\")","v":0},{"$f":"IF(B242>0,N242+O242,\"\")","v":{"$error":"#VALUE!"}}]
[{"$f":"IF('Appliances Worksheet'!E261=\"\",\"\",'Appliances References'!$N$10)","v":""},{"$f":"IF('Appliances Worksheet'!E261=\"\",\"\",'Appliances Worksheet'!E261)","v":""},{"$f":"IF($A243=\"\",\"\",INDEX('Appliances References'!$R$5:$R$36,MATCH($A243,'Appliances References'!$N$5:$N$36,0)))","v":""},{"$f":"IF($A243=\"\",\"\",INDEX('Appliances References'!$S$5:$S$36,MATCH($A243,'Appliances References'!$N$5:$N$36,0)))","v":""},{"$f":"IF($A243=\"\",\"\",INDEX('Appliances References'!$T$5:$T$36,MATCH($A243,'Appliances References'!$N$5:$N$36,0)))","v":""},{"$f":"IF($A243=\"\",\"\",INDEX('Appliances References'!$U$5:$U$36,MATCH($A243,'Appliances References'!$N$5:$N$36,0)))","v":""},{"$f":"IF($A243=\"\",\"\",INDEX('Appliances References'!$V$5:$V$36,MATCH($A243,'Appliances References'!$N$5:$N$36,0)))","v":""},{"$f":"IF($A243=\"\",\"\",INDEX('Appliances References'!$W$5:$W$36,MATCH($A243,'Appliances References'!$N$5:$N$36,0)))","v":""},{"$f":"IF($A243=\"\",\"\",INDEX('Appliances References'!$Y$5:$Y$36,MATCH($A243,'Appliances References'!$N$5:$N$36,0)))","v":""},{"$f":"IF($A243=\"\",\"\",INDEX('Appliances References'!$Z$5:$Z$36,MATCH($A243,'Appliances References'!$N$5:$N$36,0)))","v":""},{"$f":"IF($A243=\"\",\"\",INDEX('Appliances References'!$AJ$5:$AJ$36,MATCH($A243,'Appliances References'!$N$5:$N$36,0)))","v":""},null,"",{"$error":"#VALUE!"},{"$f":"IF(B243>0,0,\"\")","v":0},{"$error":"#VALUE!"}]
[{"$f":"IF('Appliances Worksheet'!E262=\"\",\"\",'Appliances References'!$N$10)","v":""},{"$f":"IF('Appliances Worksheet'!E262=\"\",\"\",'Appliances Worksheet'!E262)","v":""},{"$f":"IF($A244=\"\",\"\",INDEX('Appliances References'!$R$5:$R$36,MATCH($A244,'Appliances References'!$N$5:$N$36,0)))","v":""},{"$f":"IF($A244=\"\",\"\",INDEX('Appliances References'!$S$5:$S$36,MATCH($A244,'Appliances References'!$N$5:$N$36,0)))","v":""},{"$f":"IF($A244=\"\",\"\",INDEX('Appliances References'!$T$5:$T$36,MATCH($A244,'Appliances References'!$N$5:$N$36,0)))","v":""},{"$f":"IF($A244=\"\",\"\",INDEX('Appliances References'!$U$5:$U$36,MATCH($A244,'Appliances References'!$N$5:$N$36,0)))","v":""},{"$f":"IF($A244=\"\",\"\",INDEX('Appliances References'!$V$5:$V$36,MATCH($A244,'Appliances References'!$N$5:$N$36,0)))","v":""},{"$f":"IF($A244=\"\",\"\",INDEX('Appliances References'!$W$5:$W$36,MATCH($A244,'Appliances References'!$N$5:$N$36,0)))","v":""},{"$f":"IF($A244=\"\",\"\",INDEX('Appliances References'!$Y$5:$Y$36,MATCH($A244,'Appliances References'!$N$5:$N$36,0)))","v":""},{"$f":"IF($A244=\"\",\"\",INDEX('Appliances References'!$Z$5:$Z$36,MATCH($A244,'Appliances References'!$N$5:$N$36,0)))","v":""},{"$f":"IF($A244=\"\",\"\",INDEX('Appliances References'!$AJ$5:$AJ$36,MATCH($A244,'Appliances References'!$N$5:$N$36,0)))","v":""},null,"",{"$error":"#VALUE!"},0,{"$error":"#VALUE!"}]
[{"$f":"IF('Appliances Worksheet'!E263=\"\",\"\",'Appliances References'!$N$10)","v":""},{"$f":"IF('Appliances Worksheet'!E263=\"\",\"\",'Appliances Worksheet'!E263)","v":""},{"$f":"IF($A245=\"\",\"\",INDEX('Appliances References'!$R$5:$R$36,MATCH($A245,'Appliances References'!$N$5:$N$36,0)))","v":""},{"$f":"IF($A245=\"\",\"\",INDEX('Appliances References'!$S$5:$S$36,MATCH($A245,'Appliances References'!$N$5:$N$36,0)))","v":""},{"$f":"IF($A245=\"\",\"\",INDEX('Appliances References'!$T$5:$T$36,MATCH($A245,'Appliances References'!$N$5:$N$36,0)))","v":""},{"$f":"IF($A245=\"\",\"\",INDEX('Appliances References'!$U$5:$U$36,MATCH($A245,'Appliances References'!$N$5:$N$36,0)))","v":""},{"$f":"IF($A245=\"\",\"\",INDEX('Appliances References'!$V$5:$V$36,MATCH($A245,'Appliances References'!$N$5:$N$36,0)))","v":""},{"$f":"IF($A245=\"\",\"\",INDEX('Appliances References'!$W$5:$W$36,MATCH($A245,'Appliances References'!$N$5:$N$36,0)))","v":""},{"$f":"IF($A245=\"\",\"\",INDEX('Appliances References'!$Y$5:$Y$36,MATCH($A245,'Appliances References'!$N$5:$N$36,0)))","v":""},{"$f":"IF($A245=\"\",\"\",INDEX('Appliances References'!$Z$5:$Z$36,MATCH($A245,'Appliances References'!$N$5:$N$36,0)))","v":""},{"$f":"IF($A245=\"\",\"\",INDEX('Appliances References'!$AJ$5:$AJ$36,MATCH($A245,'Appliances References'!$N$5:$N$36,0)))","v":""},null,"",{"$error":"#VALUE!"},0,{"$error":"#VALUE!"}]
[]
[]
[]
[]
[]
[]
["Standard Electric Range Oven"]
["Device","Proposed Qty","Gross kW per unit","EE kWh per unit","Winter kW saved","BE kWh saved","MMBTU EE","MMBTU BE","EE CO2","BE CO2","Rebate per unit",null,"$/kWh","Total Rebate","Bonus","Total Rebate + Bonus"]
[{"$f":"IF('Appliances Worksheet'!E272=\"\",\"\",'Appliances References'!$N$35)","v":""},{"$f":"IF('Appliances Worksheet'!E272=\"\",\"\",'Appliances Worksheet'!E272)","v":""},{"$f":"IF($A254=\"\",\"\",INDEX('Appliances References'!$R$5:$R$36,MATCH($A254,'Appliances References'!$N$5:$N$36,0)))","v":""},{"$f":"IF($A254=\"\",\"\",INDEX('Appliances References'!$S$5:$S$36,MATCH($A254,'Appliances References'!$N$5:$N$36,0)))","v":""},{"$f":"IF($A254=\"\",\"\",INDEX('Appliances References'!$T$5:$T$36,MATCH($A254,'Appliances References'!$N$5:$N$36,0)))","v":""},{"$f":"IF($A254=\"\",\"\",INDEX('Appliances References'!$U$5:$U$36,MATCH($A254,'Appliances References'!$N$5:$N$36,0)))","v":""},{"$f":"IF($A254=\"\",\"\",INDEX('Appliances References'!$V$5:$V$36,MATCH($A254,'Appliances References'!$N$5:$N$36,0)))","v":""},{"$f":"IF($A254=\"\",\"\",INDEX('Appliances References'!$W$5:$W$36,MATCH($A254,'Appliances References'!$N$5:$N$36,0)))","v":""},{"$f":"IF($A254=\"\",\"\",INDEX('Appliances References'!$Y$5:$Y$36,MATCH($A254,'Appliances References'!$N$5:$N$36,0)))","v":""},{"$f":"IF($A254=\"\",\"\",INDEX('Appliances References'!$Z$5:$Z$36,MATCH($A254,'Appliances References'!$N$5:$N$36,0)))","v":""},{"$f":"IF($A254=\"\",\"\",INDEX('Appliances References'!$AJ$5:$AJ$36,MATCH($A254,'Appliances References'!$N$5:$N$36,0)))","v":""},null,{"$f":"IF(D254=\"\",\"\",K254/D254)","v":""},{"$f":"IF(B254>0,B254*K254,\"\")","v":{"$error":"#VALUE!"}},{"$f":"IF(B254>0,0,\"\")","v":0},{"$f":"IF(B254>0,N254+O254,\"\")","v":{"$error":"#VALUE!"}}]
[{"$f":"IF('Appliances Worksheet'!E273=\"\",\"\",'Appliances References'!$N$35)","v":""},{"$f":"IF('Appliances Worksheet'!E273=\"\",\"\",'Appliances Worksheet'!E273)","v":""},{"$f":"IF($A255=\"\",\"\",INDEX('Appliances References'!$R$5:$R$36,MATCH($A255,'Appliances References'!$N$5:$N$36,0)))","v":""},{"$f":"IF($A255=\"\",\"\",INDEX('Appliances References'!$S$5:$S$36,MATCH($A255,'Appliances References'!$N$5:$N$36,0)))","v":""},{"$f":"IF($A255=\"\",\"\",INDEX('Appliances References'!$T$5:$T$36,MATCH($A255,'Appliances References'!$N$5:$N$36,0)))","v":""},{"$f":"IF($A255=\"\",\"\",INDEX('Appliances References'!$U$5:$U$36,MATCH($A255,'Appliances References'!$N$5:$N$36,0)))","v":""},{"$f":"IF($A255=\"\",\"\",INDEX('Appliances References'!$V$5:$V$36,MATCH($A255,'Appliances References'!$N$5:$N$36,0)))","v":""},{"$f":"IF($A255=\"\",\"\",INDEX('Appliances References'!$W$5:$W$36,MATCH($A255,'Appliances References'!$N$5:$N$36,0)))","v":""},{"$f":"IF($A255=\"\",\"\",INDEX('Appliances References'!$Y$5:$Y$36,MATCH($A255,'Appliances References'!$N$5:$N$36,0)))","v":""},{"$f":"IF($A255=\"\",\"\",INDEX('Appliances References'!$Z$5:$Z$36,MATCH($A255,'Appliances References'!$N$5:$N$36,0)))","v":""},{"$f":"IF($A255=\"\",\"\",INDEX('Appliances References'!$AJ$5:$AJ$36,MATCH($A255,'Appliances References'!$N$5:$N$36,0)))","v":""},null,"",{"$error":"#VALUE!"},{"$f":"IF(B255>0,0,\"\")","v":0},{"$error":"#VALUE!"}]
[{"$f":"IF('Appliances Worksheet'!E274=\"\",\"\",'Appliances References'!$N$35)","v":""},{"$f":"IF('Appliances Worksheet'!E274=\"\",\"\",'Appliances Worksheet'!E274)","v":""},{"$f":"IF($A256=\"\",\"\",INDEX('Appliances References'!$R$5:$R$36,MATCH($A256,'Appliances References'!$N$5:$N$36,0)))","v":""},{"$f":"IF($A256=\"\",\"\",INDEX('Appliances References'!$S$5:$S$36,MATCH($A256,'Appliances References'!$N$5:$N$36,0)))","v":""},{"$f":"IF($A256=\"\",\"\",INDEX('Appliances References'!$T$5:$T$36,MATCH($A256,'Appliances References'!$N$5:$N$36,0)))","v":""},{"$f":"IF($A256=\"\",\"\",INDEX('Appliances References'!$U$5:$U$36,MATCH($A256,'Appliances References'!$N$5:$N$36,0)))","v":""},{"$f":"IF($A256=\"\",\"\",INDEX('Appliances References'!$V$5:$V$36,MATCH($A256,'Appliances References'!$N$5:$N$36,0)))","v":""},{"$f":"IF($A256=\"\",\"\",INDEX('Appliances References'!$W$5:$W$36,MATCH($A256,'Appliances References'!$N$5:$N$36,0)))","v":""},{"$f":"IF($A256=\"\",\"\",INDEX('Appliances References'!$Y$5:$Y$36,MATCH($A256,'Appliances References'!$N$5:$N$36,0)))","v":""},{"$f":"IF($A256=\"\",\"\",INDEX('Appliances References'!$Z$5:$Z$36,MATCH($A256,'Appliances References'!$N$5:$N$36,0)))","v":""},{"$f":"IF($A256=\"\",\"\",INDEX('Appliances References'!$AJ$5:$AJ$36,MATCH($A256,'Appliances References'!$N$5:$N$36,0)))","v":""},null,"",{"$error":"#VALUE!"},0,{"$error":"#VALUE!"}]
[{"$f":"IF('Appliances Worksheet'!E275=\"\",\"\",'Appliances References'!$N$35)","v":""},{"$f":"IF('Appliances Worksheet'!E275=\"\",\"\",'Appliances Worksheet'!E275)","v":""},{"$f":"IF($A257=\"\",\"\",INDEX('Appliances References'!$R$5:$R$36,MATCH($A257,'Appliances References'!$N$5:$N$36,0)))","v":""},{"$f":"IF($A257=\"\",\"\",INDEX('Appliances References'!$S$5:$S$36,MATCH($A257,'Appliances References'!$N$5:$N$36,0)))","v":""},{"$f":"IF($A257=\"\",\"\",INDEX('Appliances References'!$T$5:$T$36,MATCH($A257,'Appliances References'!$N$5:$N$36,0)))","v":""},{"$f":"IF($A257=\"\",\"\",INDEX('Appliances References'!$U$5:$U$36,MATCH($A257,'Appliances References'!$N$5:$N$36,0)))","v":""},{"$f":"IF($A257=\"\",\"\",INDEX('Appliances References'!$V$5:$V$36,MATCH($A257,'Appliances References'!$N$5:$N$36,0)))","v":""},{"$f":"IF($A257=\"\",\"\",INDEX('Appliances References'!$W$5:$W$36,MATCH($A257,'Appliances References'!$N$5:$N$36,0)))","v":""},{"$f":"IF($A257=\"\",\"\",INDEX('Appliances References'!$Y$5:$Y$36,MATCH($A257,'Appliances References'!$N$5:$N$36,0)))","v":""},{"$f":"IF($A257=\"\",\"\",INDEX('Appliances References'!$Z$5:$Z$36,MATCH($A257,'Appliances References'!$N$5:$N$36,0)))","v":""},{"$f":"IF($A257=\"\",\"\",INDEX('Appliances References'!$AJ$5:$AJ$36,MATCH($A257,'Appliances References'!$N$5:$N$36,0)))","v":""},null,"",{"$error":"#VALUE!"},0,{"$error":"#VALUE!"}]
[]
[]
[]
[]
[]
[]
["Induction Cooktop Convection Oven"]
["Device","Proposed Qty","Gross kW per unit","EE kWh per unit","Winter kW saved","BE kWh saved","MMBTU EE","MMBTU BE","EE CO2","BE CO2","Rebate per unit",null,"$/kWh","Total Rebate","Bonus","Total Rebate + Bonus"]
[{"$f":"IF('Appliances Worksheet'!E284=\"\",\"\",'Appliances References'!$N$36)","v":""},{"$f":"IF('Appliances Worksheet'!E284=\"\",\"\",'Appliances Worksheet'!E284)","v":""},{"$f":"IF($A266=\"\",\"\",INDEX('Appliances References'!$R$5:$R$36,MATCH($A266,'Appliances References'!$N$5:$N$36,0)))","v":""},{"$f":"IF($A266=\"\",\"\",INDEX('Appliances References'!$S$5:$S$36,MATCH($A266,'Appliances References'!$N$5:$N$36,0)))","v":""},{"$f":"IF($A266=\"\",\"\",INDEX('Appliances References'!$T$5:$T$36,MATCH($A266,'Appliances References'!$N$5:$N$36,0)))","v":""},{"$f":"IF($A266=\"\",\"\",INDEX('Appliances References'!$U$5:$U$36,MATCH($A266,'Appliances References'!$N$5:$N$36,0)))","v":""},{"$f":"IF($A266=\"\",\"\",INDEX('Appliances References'!$V$5:$V$36,MATCH($A266,'Appliances References'!$N$5:$N$36,0)))","v":""},{"$f":"IF($A266=\"\",\"\",INDEX('Appliances References'!$W$5:$W$36,MATCH($A266,'Appliances References'!$N$5:$N$36,0)))","v":""},{"$f":"IF($A266=\"\",\"\",INDEX('Appliances References'!$Y$5:$Y$36,MATCH($A266,'Appliances References'!$N$5:$N$36,0)))","v":""},{"$f":"IF($A266=\"\",\"\",INDEX('Appliances References'!$Z$5:$Z$36,MATCH($A266,'Appliances References'!$N$5:$N$36,0)))","v":""},{"$f":"IF($A266=\"\",\"\",INDEX('Appliances References'!$AJ$5:$AJ$36,MATCH($A266,'Appliances References'!$N$5:$N$36,0)))","v":""},null,{"$f":"IF(D266=\"\",\"\",K266/D266)","v":""},{"$f":"IF(B266>0,B266*K266,\"\")","v":{"$error":"#VALUE!"}},{"$f":"IF(B266>0,0,\"\")","v":0},{"$f":"IF(B266>0,N266+O266,\"\")","v":{"$error":"#VALUE!"}}]
[{"$f":"IF('Appliances Worksheet'!E285=\"\",\"\",'Appliances References'!$N$36)","v":""},{"$f":"IF('Appliances Worksheet'!E285=\"\",\"\",'Appliances Worksheet'!E285)","v":""},{"$f":"IF($A267=\"\",\"\",INDEX('Appliances References'!$R$5:$R$36,MATCH($A267,'Appliances References'!$N$5:$N$36,0)))","v":""},{"$f":"IF($A267=\"\",\"\",INDEX('Appliances References'!$S$5:$S$36,MATCH($A267,'Appliances References'!$N$5:$N$36,0)))","v":""},{"$f":"IF($A267=\"\",\"\",INDEX('Appliances References'!$T$5:$T$36,MATCH($A267,'Appliances References'!$N$5:$N$36,0)))","v":""},{"$f":"IF($A267=\"\",\"\",INDEX('Appliances References'!$U$5:$U$36,MATCH($A267,'Appliances References'!$N$5:$N$36,0)))","v":""},{"$f":"IF($A267=\"\",\"\",INDEX('Appliances References'!$V$5:$V$36,MATCH($A267,'Appliances References'!$N$5:$N$36,0)))","v":""},{"$f":"IF($A267=\"\",\"\",INDEX('Appliances References'!$W$5:$W$36,MATCH($A267,'Appliances References'!$N$5:$N$36,0)))","v":""},{"$f":"IF($A267=\"\",\"\",INDEX('Appliances References'!$Y$5:$Y$36,MATCH($A267,'Appliances References'!$N$5:$N$36,0)))","v":""},{"$f":"IF($A267=\"\",\"\",INDEX('Appliances References'!$Z$5:$Z$36,MATCH($A267,'Appliances References'!$N$5:$N$36,0)))","v":""},{"$f":"IF($A267=\"\",\"\",INDEX('Appliances References'!$AJ$5:$AJ$36,MATCH($A267,'Appliances References'!$N$5:$N$36,0)))","v":""},null,"",{"$error":"#VALUE!"},{"$f":"IF(B267>0,0,\"\")","v":0},{"$error":"#VALUE!"}]
[{"$f":"IF('Appliances Worksheet'!E286=\"\",\"\",'Appliances References'!$N$36)","v":""},{"$f":"IF('Appliances Worksheet'!E286=\"\",\"\",'Appliances Worksheet'!E286)","v":""},{"$f":"IF($A268=\"\",\"\",INDEX('Appliances References'!$R$5:$R$36,MATCH($A268,'Appliances References'!$N$5:$N$36,0)))","v":""},{"$f":"IF($A268=\"\",\"\",INDEX('Appliances References'!$S$5:$S$36,MATCH($A268,'Appliances References'!$N$5:$N$36,0)))","v":""},{"$f":"IF($A268=\"\",\"\",INDEX('Appliances References'!$T$5:$T$36,MATCH($A268,'Appliances References'!$N$5:$N$36,0)))","v":""},{"$f":"IF($A268=\"\",\"\",INDEX('Appliances References'!$U$5:$U$36,MATCH($A268,'Appliances References'!$N$5:$N$36,0)))","v":""},{"$f":"IF($A268=\"\",\"\",INDEX('Appliances References'!$V$5:$V$36,MATCH($A268,'Appliances References'!$N$5:$N$36,0)))","v":""},{"$f":"IF($A268=\"\",\"\",INDEX('Appliances References'!$W$5:$W$36,MATCH($A268,'Appliances References'!$N$5:$N$36,0)))","v":""},{"$f":"IF($A268=\"\",\"\",INDEX('Appliances References'!$Y$5:$Y$36,MATCH($A268,'Appliances References'!$N$5:$N$36,0)))","v":""},{"$f":"IF($A268=\"\",\"\",INDEX('Appliances References'!$Z$5:$Z$36,MATCH($A268,'Appliances References'!$N$5:$N$36,0)))","v":""},{"$f":"IF($A268=\"\",\"\",INDEX('Appliances References'!$AJ$5:$AJ$36,MATCH($A268,'Appliances References'!$N$5:$N$36,0)))","v":""},null,"",{"$error":"#VALUE!"},0,{"$error":"#VALUE!"}]
[{"$f":"IF('Appliances Worksheet'!E287=\"\",\"\",'Appliances References'!$N$36)","v":""},{"$f":"IF('Appliances Worksheet'!E291=\"\",\"\",'Appliances Worksheet'!E291)","v":""},{"$f":"IF($A269=\"\",\"\",INDEX('Appliances References'!$R$5:$R$36,MATCH($A269,'Appliances References'!$N$5:$N$36,0)))","v":""},{"$f":"IF($A269=\"\",\"\",INDEX('Appliances References'!$S$5:$S$36,MATCH($A269,'Appliances References'!$N$5:$N$36,0)))","v":""},{"$f":"IF($A269=\"\",\"\",INDEX('Appliances References'!$T$5:$T$36,MATCH($A269,'Appliances References'!$N$5:$N$36,0)))","v":""},{"$f":"IF($A269=\"\",\"\",INDEX('Appliances References'!$U$5:$U$36,MATCH($A269,'Appliances References'!$N$5:$N$36,0)))","v":""},{"$f":"IF($A269=\"\",\"\",INDEX('Appliances References'!$V$5:$V$36,MATCH($A269,'Appliances References'!$N$5:$N$36,0)))","v":""},{"$f":"IF($A269=\"\",\"\",INDEX('Appliances References'!$W$5:$W$36,MATCH($A269,'Appliances References'!$N$5:$N$36,0)))","v":""},{"$f":"IF($A269=\"\",\"\",INDEX('Appliances References'!$Y$5:$Y$36,MATCH($A269,'Appliances References'!$N$5:$N$36,0)))","v":""},{"$f":"IF($A269=\"\",\"\",INDEX('Appliances References'!$Z$5:$Z$36,MATCH($A269,'Appliances References'!$N$5:$N$36,0)))","v":""},{"$f":"IF($A269=\"\",\"\",INDEX('Appliances References'!$AJ$5:$AJ$36,MATCH($A269,'Appliances References'!$N$5:$N$36,0)))","v":""},null,"",{"$error":"#VALUE!"},0,{"$error":"#VALUE!"}]
[]
[]
[]
[]
[]
[]
["Propane Stove"]
["Device","Proposed Qty","Gross kW per unit","EE kWh per unit","Winter kW saved","BE kWh saved","MMBTU EE","MMBTU BE","EE CO2","BE CO2","Rebate per unit",null,"$/kWh","Total Rebate","Bonus","Total Rebate + Bonus"]
[{"$f":"IF('Appliances Worksheet'!E296=\"\",\"\",'Appliances References'!$N$37)","v":""},{"$f":"IF('Appliances Worksheet'!E300=\"\",\"\",'Appliances Worksheet'!E300)","v":""},{"$f":"IF($A278=\"\",\"\",INDEX('Appliances References'!$R$5:$R$37,MATCH($A278,'Appliances References'!$N$5:$N$37,0)))","v":""},{"$f":"IF($A278=\"\",\"\",INDEX('Appliances References'!$S$5:$S$37,MATCH($A278,'Appliances References'!$N$5:$N$37,0)))","v":""},{"$f":"IF($A278=\"\",\"\",INDEX('Appliances References'!$T$5:$T$37,MATCH($A278,'Appliances References'!$N$5:$N$37,0)))","v":""},{"$f":"IF($A278=\"\",\"\",INDEX('Appliances References'!$U$5:$U$37,MATCH($A278,'Appliances References'!$N$5:$N$37,0)))","v":""},{"$f":"IF($A278=\"\",\"\",INDEX('Appliances References'!$V$5:$V$37,MATCH($A278,'Appliances References'!$N$5:$N$37,0)))","v":""},{"$f":"IF($A278=\"\",\"\",INDEX('Appliances References'!$W$5:$W$37,MATCH($A278,'Appliances References'!$N$5:$N$37,0)))","v":""},{"$f":"IF($A278=\"\",\"\",INDEX('Appliances References'!$Y$5:$Y$37,MATCH($A278,'Appliances References'!$N$5:$N$37,0)))","v":""},{"$f":"IF($A278=\"\",\"\",INDEX('Appliances References'!$Z$5:$Z$37,MATCH($A278,'Appliances References'!$N$5:$N$37,0)))","v":""},{"$f":"IF($A278=\"\",\"\",INDEX('Appliances References'!$AJ$5:$AJ$37,MATCH($A278,'Appliances References'!$N$5:$N$37,0)))","v":""},null,{"$f":"IF(D278=\"\",\"\",K278/D278)","v":""},{"$f":"IF(B278>0,B278*K278,\"\")","v":{"$error":"#VALUE!"}},{"$f":"IF(B278>0,0,\"\")","v":0},{"$f":"IF(B278>0,N278+O278,\"\")","v":{"$error":"#VALUE!"}}]
[{"$f":"IF('Appliances Worksheet'!E297=\"\",\"\",'Appliances References'!$N$37)","v":""},{"$f":"IF('Appliances Worksheet'!E301=\"\",\"\",'Appliances Worksheet'!E301)","v":""},{"$f":"IF($A279=\"\",\"\",INDEX('Appliances References'!$R$5:$R$37,MATCH($A279,'Appliances References'!$N$5:$N$37,0)))","v":""},{"$f":"IF($A279=\"\",\"\",INDEX('Appliances References'!$S$5:$S$37,MATCH($A279,'Appliances References'!$N$5:$N$37,0)))","v":""},{"$f":"IF($A279=\"\",\"\",INDEX('Appliances References'!$T$5:$T$37,MATCH($A279,'Appliances References'!$N$5:$N$37,0)))","v":""},{"$f":"IF($A279=\"\",\"\",INDEX('Appliances References'!$U$5:$U$37,MATCH($A279,'Appliances References'!$N$5:$N$37,0)))","v":""},{"$f":"IF($A279=\"\",\"\",INDEX('Appliances References'!$V$5:$V$37,MATCH($A279,'Appliances References'!$N$5:$N$37,0)))","v":""},{"$f":"IF($A279=\"\",\"\",INDEX('Appliances References'!$W$5:$W$37,MATCH($A279,'Appliances References'!$N$5:$N$37,0)))","v":""},{"$f":"IF($A279=\"\",\"\",INDEX('Appliances References'!$Y$5:$Y$37,MATCH($A279,'Appliances References'!$N$5:$N$37,0)))","v":""},{"$f":"IF($A279=\"\",\"\",INDEX('Appliances References'!$Z$5:$Z$37,MATCH($A279,'Appliances References'!$N$5:$N$37,0)))","v":""},{"$f":"IF($A279=\"\",\"\",INDEX('Appliances References'!$AJ$5:$AJ$37,MATCH($A279,'Appliances References'!$N$5:$N$37,0)))","v":""},null,"",{"$error":"#VALUE!"},{"$f":"IF(B279>0,0,\"\")","v":0},{"$error":"#VALUE!"}]
[{"$f":"IF('Appliances Worksheet'!E298=\"\",\"\",'Appliances References'!$N$37)","v":""},{"$f":"IF('Appliances Worksheet'!E302=\"\",\"\",'Appliances Worksheet'!E302)","v":""},{"$f":"IF($A280=\"\",\"\",INDEX('Appliances References'!$R$5:$R$37,MATCH($A280,'Appliances References'!$N$5:$N$37,0)))","v":""},{"$f":"IF($A280=\"\",\"\",INDEX('Appliances References'!$S$5:$S$37,MATCH($A280,'Appliances References'!$N$5:$N$37,0)))","v":""},{"$f":"IF($A280=\"\",\"\",INDEX('Appliances References'!$T$5:$T$37,MATCH($A280,'Appliances References'!$N$5:$N$37,0)))","v":""},{"$f":"IF($A280=\"\",\"\",INDEX('Appliances References'!$U$5:$U$37,MATCH($A280,'Appliances References'!$N$5:$N$37,0)))","v":""},{"$f":"IF($A280=\"\",\"\",INDEX('Appliances References'!$V$5:$V$37,MATCH($A280,'Appliances References'!$N$5:$N$37,0)))","v":""},{"$f":"IF($A280=\"\",\"\",INDEX('Appliances References'!$W$5:$W$37,MATCH($A280,'Appliances References'!$N$5:$N$37,0)))","v":""},{"$f":"IF($A280=\"\",\"\",INDEX('Appliances References'!$Y$5:$Y$37,MATCH($A280,'Appliances References'!$N$5:$N$37,0)))","v":""},{"$f":"IF($A280=\"\",\"\",INDEX('Appliances References'!$Z$5:$Z$37,MATCH($A280,'Appliances References'!$N$5:$N$37,0)))","v":""},{"$f":"IF($A280=\"\",\"\",INDEX('Appliances References'!$AJ$5:$AJ$37,MATCH($A280,'Appliances References'!$N$5:$N$37,0)))","v":""},null,"",{"$error":"#VALUE!"},0,{"$error":"#VALUE!"}]
[{"$f":"IF('Appliances Worksheet'!E299=\"\",\"\",'Appliances References'!$N$37)","v":""},{"$f":"IF('Appliances Worksheet'!E303=\"\",\"\",'Appliances Worksheet'!E303)","v":""},{"$f":"IF($A281=\"\",\"\",INDEX('Appliances References'!$R$5:$R$37,MATCH($A281,'Appliances References'!$N$5:$N$37,0)))","v":""},{"$f":"IF($A281=\"\",\"\",INDEX('Appliances References'!$S$5:$S$37,MATCH($A281,'Appliances References'!$N$5:$N$37,0)))","v":""},{"$f":"IF($A281=\"\",\"\",INDEX('Appliances References'!$T$5:$T$37,MATCH($A281,'Appliances References'!$N$5:$N$37,0)))","v":""},{"$f":"IF($A281=\"\",\"\",INDEX('Appliances References'!$U$5:$U$37,MATCH($A281,'Appliances References'!$N$5:$N$37,0)))","v":""},{"$f":"IF($A281=\"\",\"\",INDEX('Appliances References'!$V$5:$V$37,MATCH($A281,'Appliances References'!$N$5:$N$37,0)))","v":""},{"$f":"IF($A281=\"\",\"\",INDEX('Appliances References'!$W$5:$W$37,MATCH($A281,'Appliances References'!$N$5:$N$37,0)))","v":""},{"$f":"IF($A281=\"\",\"\",INDEX('Appliances References'!$Y$5:$Y$37,MATCH($A281,'Appliances References'!$N$5:$N$37,0)))","v":""},{"$f":"IF($A281=\"\",\"\",INDEX('Appliances References'!$Z$5:$Z$37,MATCH($A281,'Appliances References'!$N$5:$N$37,0)))","v":""},{"$f":"IF($A281=\"\",\"\",INDEX('Appliances References'!$AJ$5:$AJ$37,MATCH($A281,'Appliances References'!$N$5:$N$37,0)))","v":""},null,"",{"$error":"#VALUE!"},0,{"$error":"#VALUE!"}]
[]
[]
[]
[]
[]
[]
["ENERGY STAR Standard Bulbs"]
["Device","Proposed Qty","Gross kW per unit","EE kWh per unit","Winter kW saved","BE kWh saved","MMBTU EE","MMBTU BE","EE CO2","BE CO2","Rebate per unit",null,"$/kWh","Total Rebate","Bonus","Total Rebate + Bonus"]
[{"$f":"IF('Appliances Worksheet'!E308=\"\",\"\",'Appliances References'!$N$18)","v":""},{"$f":"IF('Appliances Worksheet'!E308=\"\",\"\",'Appliances Worksheet'!E308)","v":""},{"$f":"IF($A290=\"\",\"\",INDEX('Appliances References'!$R$5:$R$36,MATCH($A290,'Appliances References'!$N$5:$N$36,0)))","v":""},{"$f":"IF($A290=\"\",\"\",INDEX('Appliances References'!$S$5:$S$36,MATCH($A290,'Appliances References'!$N$5:$N$36,0)))","v":""},{"$f":"IF($A290=\"\",\"\",INDEX('Appliances References'!$T$5:$T$36,MATCH($A290,'Appliances References'!$N$5:$N$36,0)))","v":""},{"$f":"IF($A290=\"\",\"\",INDEX('Appliances References'!$U$5:$U$36,MATCH($A290,'Appliances References'!$N$5:$N$36,0)))","v":""},{"$f":"IF($A290=\"\",\"\",INDEX('Appliances References'!$V$5:$V$36,MATCH($A290,'Appliances References'!$N$5:$N$36,0)))","v":""},{"$f":"IF($A290=\"\",\"\",INDEX('Appliances References'!$W$5:$W$36,MATCH($A290,'Appliances References'!$N$5:$N$36,0)))","v":""},{"$f":"IF($A290=\"\",\"\",INDEX('Appliances References'!$Y$5:$Y$36,MATCH($A290,'Appliances References'!$N$5:$N$36,0)))","v":""},{"$f":"IF($A290=\"\",\"\",INDEX('Appliances References'!$Z$5:$Z$36,MATCH($A290,'Appliances References'!$N$5:$N$36,0)))","v":""},{"$f":"IF($A290=\"\",\"\",INDEX('Appliances References'!$AJ$5:$AJ$36,MATCH($A290,'Appliances References'!$N$5:$N$36,0)))","v":""},null,{"$f":"IF(D290=\"\",\"\",K290/D290)","v":""},{"$f":"IF(B290>0,B290*K290,\"\")","v":{"$error":"#VALUE!"}},{"$f":"IF(B290>0,0,\"\")","v":0},{"$f":"IF(B290>0,N290+O290,\"\")","v":{"$error":"#VALUE!"}}]
[{"$f":"IF('Appliances Worksheet'!E309=\"\",\"\",'Appliances References'!$N$18)","v":""},{"$f":"IF('Appliances Worksheet'!E309=\"\",\"\",'Appliances Worksheet'!E309)","v":""},{"$f":"IF($A291=\"\",\"\",INDEX('Appliances References'!$R$5:$R$36,MATCH($A291,'Appliances References'!$N$5:$N$36,0)))","v":""},{"$f":"IF($A291=\"\",\"\",INDEX('Appliances References'!$S$5:$S$36,MATCH($A291,'Appliances References'!$N$5:$N$36,0)))","v":""},{"$f":"IF($A291=\"\",\"\",INDEX('Appliances References'!$T$5:$T$36,MATCH($A291,'Appliances References'!$N$5:$N$36,0)))","v":""},{"$f":"IF($A291=\"\",\"\",INDEX('Appliances References'!$U$5:$U$36,MATCH($A291,'Appliances References'!$N$5:$N$36,0)))","v":""},{"$f":"IF($A291=\"\",\"\",INDEX('Appliances References'!$V$5:$V$36,MATCH($A291,'Appliances References'!$N$5:$N$36,0)))","v":""},{"$f":"IF($A291=\"\",\"\",INDEX('Appliances References'!$W$5:$W$36,MATCH($A291,'Appliances References'!$N$5:$N$36,0)))","v":""},{"$f":"IF($A291=\"\",\"\",INDEX('Appliances References'!$Y$5:$Y$36,MATCH($A291,'Appliances References'!$N$5:$N$36,0)))","v":""},{"$f":"IF($A291=\"\",\"\",INDEX('Appliances References'!$Z$5:$Z$36,MATCH($A291,'Appliances References'!$N$5:$N$36,0)))","v":""},{"$f":"IF($A291=\"\",\"\",INDEX('Appliances References'!$AJ$5:$AJ$36,MATCH($A291,'Appliances References'!$N$5:$N$36,0)))","v":""},null,"",{"$error":"#VALUE!"},{"$f":"IF(B291>0,0,\"\")","v":0},{"$error":"#VALUE!"}]
[{"$f":"IF('Appliances Worksheet'!E310=\"\",\"\",'Appliances References'!$N$18)","v":""},{"$f":"IF('Appliances Worksheet'!E310=\"\",\"\",'Appliances Worksheet'!E310)","v":""},{"$f":"IF($A292=\"\",\"\",INDEX('Appliances References'!$R$5:$R$36,MATCH($A292,'Appliances References'!$N$5:$N$36,0)))","v":""},{"$f":"IF($A292=\"\",\"\",INDEX('Appliances References'!$S$5:$S$36,MATCH($A292,'Appliances References'!$N$5:$N$36,0)))","v":""},{"$f":"IF($A292=\"\",\"\",INDEX('Appliances References'!$T$5:$T$36,MATCH($A292,'Appliances References'!$N$5:$N$36,0)))","v":""},{"$f":"IF($A292=\"\",\"\",INDEX('Appliances References'!$U$5:$U$36,MATCH($A292,'Appliances References'!$N$5:$N$36,0)))","v":""},{"$f":"IF($A292=\"\",\"\",INDEX('Appliances References'!$V$5:$V$36,MATCH($A292,'Appliances References'!$N$5:$N$36,0)))","v":""},{"$f":"IF($A292=\"\",\"\",INDEX('Appliances References'!$W$5:$W$36,MATCH($A292,'Appliances References'!$N$5:$N$36,0)))","v":""},{"$f":"IF($A292=\"\",\"\",INDEX('Appliances References'!$Y$5:$Y$36,MATCH($A292,'Appliances References'!$N$5:$N$36,0)))","v":""},{"$f":"IF($A292=\"\",\"\",INDEX('Appliances References'!$Z$5:$Z$36,MATCH($A292,'Appliances References'!$N$5:$N$36,0)))","v":""},{"$f":"IF($A292=\"\",\"\",INDEX('Appliances References'!$AJ$5:$AJ$36,MATCH($A292,'Appliances References'!$N$5:$N$36,0)))","v":""},null,"",{"$error":"#VALUE!"},0,{"$error":"#VALUE!"}]
[{"$f":"IF('Appliances Worksheet'!E311=\"\",\"\",'Appliances References'!$N$18)","v":""},{"$f":"IF('Appliances Worksheet'!E311=\"\",\"\",'Appliances Worksheet'!E311)","v":""},{"$f":"IF($A293=\"\",\"\",INDEX('Appliances References'!$R$5:$R$36,MATCH($A293,'Appliances References'!$N$5:$N$36,0)))","v":""},{"$f":"IF($A293=\"\",\"\",INDEX('Appliances References'!$S$5:$S$36,MATCH($A293,'Appliances References'!$N$5:$N$36,0)))","v":""},{"$f":"IF($A293=\"\",\"\",INDEX('Appliances References'!$T$5:$T$36,MATCH($A293,'Appliances References'!$N$5:$N$36,0)))","v":""},{"$f":"IF($A293=\"\",\"\",INDEX('Appliances References'!$U$5:$U$36,MATCH($A293,'Appliances References'!$N$5:$N$36,0)))","v":""},{"$f":"IF($A293=\"\",\"\",INDEX('Appliances References'!$V$5:$V$36,MATCH($A293,'Appliances References'!$N$5:$N$36,0)))","v":""},{"$f":"IF($A293=\"\",\"\",INDEX('Appliances References'!$W$5:$W$36,MATCH($A293,'Appliances References'!$N$5:$N$36,0)))","v":""},{"$f":"IF($A293=\"\",\"\",INDEX('Appliances References'!$Y$5:$Y$36,MATCH($A293,'Appliances References'!$N$5:$N$36,0)))","v":""},{"$f":"IF($A293=\"\",\"\",INDEX('Appliances References'!$Z$5:$Z$36,MATCH($A293,'Appliances References'!$N$5:$N$36,0)))","v":""},{"$f":"IF($A293=\"\",\"\",INDEX('Appliances References'!$AJ$5:$AJ$36,MATCH($A293,'Appliances References'!$N$5:$N$36,0)))","v":""},null,"",{"$error":"#VALUE!"},0,{"$error":"#VALUE!"}]
[]
[]
[]
[]
[]
[]
[]
["Device","Proposed Qty","Gross kW per unit","EE kWh per unit","Winter kW saved","BE kWh saved","MMBTU EE","MMBTU BE","EE CO2","BE CO2","Rebate per unit",null,"$/kWh","Total Rebate","Bonus","Total Rebate + Bonus"]
[{"$f":"IF('Appliances Worksheet'!E320=\"\",\"\",'Appliances References'!$N$17)","v":""},{"$f":"IF('Appliances Worksheet'!E320=\"\",\"\",'Appliances Worksheet'!E320)","v":""},{"$f":"IF($A302=\"\",\"\",INDEX('Appliances References'!$R$5:$R$36,MATCH($A302,'Appliances References'!$N$5:$N$36,0)))","v":""},{"$f":"IF($A302=\"\",\"\",INDEX('Appliances References'!$S$5:$S$36,MATCH($A302,'Appliances References'!$N$5:$N$36,0)))","v":""},{"$f":"IF($A302=\"\",\"\",INDEX('Appliances References'!$T$5:$T$36,MATCH($A302,'Appliances References'!$N$5:$N$36,0)))","v":""},{"$f":"IF($A302=\"\",\"\",INDEX('Appliances References'!$U$5:$U$36,MATCH($A302,'Appliances References'!$N$5:$N$36,0)))","v":""},{"$f":"IF($A302=\"\",\"\",INDEX('Appliances References'!$V$5:$V$36,MATCH($A302,'Appliances References'!$N$5:$N$36,0)))","v":""},{"$f":"IF($A302=\"\",\"\",INDEX('Appliances References'!$W$5:$W$36,MATCH($A302,'Appliances References'!$N$5:$N$36,0)))","v":""},{"$f":"IF($A302=\"\",\"\",INDEX('Appliances References'!$Y$5:$Y$36,MATCH($A302,'Appliances References'!$N$5:$N$36,0)))","v":""},{"$f":"IF($A302=\"\",\"\",INDEX('Appliances References'!$Z$5:$Z$36,MATCH($A302,'Appliances References'!$N$5:$N$36,0)))","v":""},{"$f":"IF($A302=\"\",\"\",INDEX('Appliances References'!$AJ$5:$AJ$36,MATCH($A302,'Appliances References'!$N$5:$N$36,0)))","v":""},null,{"$f":"IF(D302=\"\",\"\",K302/D302)","v":""},{"$f":"IF(B302>0,B302*K302,\"\")","v":{"$error":"#VALUE!"}},{"$f":"IF(B302>0,0,\"\")","v":0},{"$f":"IF(B302>0,N302+O302,\"\")","v":{"$error":"#VALUE!"}}]
[{"$f":"IF('Appliances Worksheet'!E321=\"\",\"\",'Appliances References'!$N$17)","v":""},{"$f":"IF('Appliances Worksheet'!E321=\"\",\"\",'Appliances Worksheet'!E321)","v":""},{"$f":"IF($A303=\"\",\"\",INDEX('Appliances References'!$R$5:$R$36,MATCH($A303,'Appliances References'!$N$5:$N$36,0)))","v":""},{"$f":"IF($A303=\"\",\"\",INDEX('Appliances References'!$S$5:$S$36,MATCH($A303,'Appliances References'!$N$5:$N$36,0)))","v":""},{"$f":"IF($A303=\"\",\"\",INDEX('Appliances References'!$T$5:$T$36,MATCH($A303,'Appliances References'!$N$5:$N$36,0)))","v":""},{"$f":"IF($A303=\"\",\"\",INDEX('Appliances References'!$U$5:$U$36,MATCH($A303,'Appliances References'!$N$5:$N$36,0)))","v":""},{"$f":"IF($A303=\"\",\"\",INDEX('Appliances References'!$V$5:$V$36,MATCH($A303,'Appliances References'!$N$5:$N$36,0)))","v":""},{"$f":"IF($A303=\"\",\"\",INDEX('Appliances References'!$W$5:$W$36,MATCH($A303,'Appliances References'!$N$5:$N$36,0)))","v":""},{"$f":"IF($A303=\"\",\"\",INDEX('Appliances References'!$Y$5:$Y$36,MATCH($A303,'Appliances References'!$N$5:$N$36,0)))","v":""},{"$f":"IF($A303=\"\",\"\",INDEX('Appliances References'!$Z$5:$Z$36,MATCH($A303,'Appliances References'!$N$5:$N$36,0)))","v":""},{"$f":"IF($A303=\"\",\"\",INDEX('Appliances References'!$AJ$5:$AJ$36,MATCH($A303,'Appliances References'!$N$5:$N$36,0)))","v":""},null,"",{"$error":"#VALUE!"},{"$f":"IF(B303>0,0,\"\")","v":0},{"$error":"#VALUE!"}]
[{"$f":"IF('Appliances Worksheet'!E322=\"\",\"\",'Appliances References'!$N$17)","v":""},{"$f":"IF('Appliances Worksheet'!E322=\"\",\"\",'Appliances Worksheet'!E322)","v":""},{"$f":"IF($A304=\"\",\"\",INDEX('Appliances References'!$R$5:$R$36,MATCH($A304,'Appliances References'!$N$5:$N$36,0)))","v":""},{"$f":"IF($A304=\"\",\"\",INDEX('Appliances References'!$S$5:$S$36,MATCH($A304,'Appliances References'!$N$5:$N$36,0)))","v":""},{"$f":"IF($A304=\"\",\"\",INDEX('Appliances References'!$T$5:$T$36,MATCH($A304,'Appliances References'!$N$5:$N$36,0)))","v":""},{"$f":"IF($A304=\"\",\"\",INDEX('Appliances References'!$U$5:$U$36,MATCH($A304,'Appliances References'!$N$5:$N$36,0)))","v":""},{"$f":"IF($A304=\"\",\"\",INDEX('Appliances References'!$V$5:$V$36,MATCH($A304,'Appliances References'!$N$5:$N$36,0)))","v":""},{"$f":"IF($A304=\"\",\"\",INDEX('Appliances References'!$W$5:$W$36,MATCH($A304,'Appliances References'!$N$5:$N$36,0)))","v":""},{"$f":"IF($A304=\"\",\"\",INDEX('Appliances References'!$Y$5:$Y$36,MATCH($A304,'Appliances References'!$N$5:$N$36,0)))","v":""},{"$f":"IF($A304=\"\",\"\",INDEX('Appliances References'!$Z$5:$Z$36,MATCH($A304,'Appliances References'!$N$5:$N$36,0)))","v":""},{"$f":"IF($A304=\"\",\"\",INDEX('Appliances References'!$AJ$5:$AJ$36,MATCH($A304,'Appliances References'!$N$5:$N$36,0)))","v":""},null,"",{"$error":"#VALUE!"},0,{"$error":"#VALUE!"}]
[{"$f":"IF('Appliances Worksheet'!E323=\"\",\"\",'Appliances References'!$N$17)","v":""},{"$f":"IF('Appliances Worksheet'!E323=\"\",\"\",'Appliances Worksheet'!E323)","v":""},{"$f":"IF($A305=\"\",\"\",INDEX('Appliances References'!$R$5:$R$36,MATCH($A305,'Appliances References'!$N$5:$N$36,0)))","v":""},{"$f":"IF($A305=\"\",\"\",INDEX('Appliances References'!$S$5:$S$36,MATCH($A305,'Appliances References'!$N$5:$N$36,0)))","v":""},{"$f":"IF($A305=\"\",\"\",INDEX('Appliances References'!$T$5:$T$36,MATCH($A305,'Appliances References'!$N$5:$N$36,0)))","v":""},{"$f":"IF($A305=\"\",\"\",INDEX('Appliances References'!$U$5:$U$36,MATCH($A305,'Appliances References'!$N$5:$N$36,0)))","v":""},{"$f":"IF($A305=\"\",\"\",INDEX('Appliances References'!$V$5:$V$36,MATCH($A305,'Appliances References'!$N$5:$N$36,0)))","v":""},{"$f":"IF($A305=\"\",\"\",INDEX('Appliances References'!$W$5:$W$36,MATCH($A305,'Appliances References'!$N$5:$N$36,0)))","v":""},{"$f":"IF($A305=\"\",\"\",INDEX('Appliances References'!$Y$5:$Y$36,MATCH($A305,'Appliances References'!$N$5:$N$36,0)))","v":""},{"$f":"IF($A305=\"\",\"\",INDEX('Appliances References'!$Z$5:$Z$36,MATCH($A305,'Appliances References'!$N$5:$N$36,0)))","v":""},{"$f":"IF($A305=\"\",\"\",INDEX('Appliances References'!$AJ$5:$AJ$36,MATCH($A305,'Appliances References'!$N$5:$N$36,0)))","v":""},null,"",{"$error":"#VALUE!"},0,{"$error":"#VALUE!"}]

{"sheet":"Appliances References","index":13,"n_rows":526,"n_cols":37,"rows_kept":526,"cut":false,"hidden":true,"merged":[[1,0,1,3],[10,1,10,2],[10,4,10,5],[58,1,58,2],[112,1,112,2],[86,1,86,2],[442,3,442,4],[477,1,477,2],[503,1,503,2],[138,1,138,2],[165,1,165,2],[191,1,191,2],[297,2,297,3],[382,3,382,4],[191,4,191,5],[213,1,213,2],[211,3,211,4]]}
[]
["Appliances"]
[]
[null,null,null,null,null,null,null,null,null,null,null,null,"Product ","Measure Code","Product Name","Product Class","EER","Summer kW saved","EE kWh saved","Winter kW saved","BE kWh saved","MMBTU EE","MMBTU BE","Coincidence Factor","EE CO2","BE CO2","Free Ridership","Spillover","Line Loss kW Summer","Line Loss Energy","HVAC Interactivity Factor Demand","HVAC Interactivity Factor Energy","HVAC Interactivity Factor Fossil Fuel","Fossil Fuel MMBTU","In Service Rate","Rebate","Incentive"]
[null,"Heat Pump Water Heater","Tankless Water Heater",null,null,null,null,null,null,null,null,null,"Heat Pump Water Heater","AEH-600","Heat Pump Water Heater < 55 Gallons","Heat Pump Water Heaters",null,{"$f":"C14","v":-4.9517543966704644E-2},{"$f":"C13","v":265.20341653218952},{"$f":"C18","v":-0.11967999999999999},{"$f":"C17","v":698.9771016805222},{"$f":"C16","v":0.90487405720783065},{"$f":"C19","v":10.857511960538607},1,{"$f":"H37","v":317.23632685580509},{"$f":"H38","v":1037.8695645238331},0,0,7.1900000000000006E-2,5.67E-2,null,null,null,{"$f":"W5+U5*0.003412","v":13.24242183147255},1,1000]
[null,"Equipment Size",null,null,null,null,null,null,null,null,null,null,"Heat Pump Water Heater","AEH-610","Heat Pump Water Heater > 55 Gallons","Heat Pump Water Heaters",null,{"$f":"F14","v":-4.804222017252488E-2},{"$f":"F13","v":262.20864917979094},{"$f":"F18","v":-0.11967999999999999},{"$f":"F17","v":683.05849789110891},{"$f":"F16","v":0.8946559110014467},{"$f":"F19","v":7.2924572369540872},1,{"$f":"I37","v":313.6539861488659},{"$f":"I38","v":544.72059031316815},0,0,7.1900000000000006E-2,5.67E-2,null,null,null,{"$f":"W6+U6*0.003412","v":9.6230528317585513},1,1000]
[null,"Select…","Select…",null,null,null,null,null,null,null,null,null,"Clothes Washer","AEH-400","Most Efficient Clothes Washer","Clothes Washers",null,{"$f":"C61","v":0.80316275451956487},{"$f":"C60","v":236.93301258327165},{"$f":"C65","v":0.80316275451956487},{"$f":"C64","v":0},{"$f":"C63","v":0.80841543893412293},{"$f":"C66","v":0},{"$f":"C80","v":2.9000000000000001E-2},{"$f":"(S7*L62)+(C73*(C74*$L$60+C75*$L$61+C76*$L$64))+((C77*C78)*$L$60)","v":283.41926965210951},0,0.2,0.1,7.1900000000000006E-2,5.67E-2,null,null,null,0,1,50]
[null,"≤ 55 Gallons","< 12kW",null,null,null,null,null,null,null,null,null,"Clothes Dryer","AEH-300","ENERGY STAR Clothes Dryer - Electric Resistance","Clothes Dryers",null,{"$f":"C89","v":7.2019217938345051E-2},{"$f":"C88","v":20.885573202120064},{"$f":"C93","v":7.2019217938345051E-2},{"$f":"C92","v":203.10149613403576},{"$f":"C91","v":7.1261575765633661E-2},{"$f":"C94","v":0.14045483835328987},{"$f":"C106","v":2.9000000000000001E-2},{"$f":"S8*$L$62","v":24.983322664376018},{"$f":"(C96*C97*C104/C99*C102*0.003412)*$L$60-C92*$L$63","v":-145.45780307572005},0.2,0.1,7.1900000000000006E-2,5.67E-2,null,null,null,0.83343714316261985,1,50]
[null,"> 55 Gallons","≥ 12 kW",null,null,null,null,null,null,null,null,null,"Clothes Dryer","AEH-310","Most Efficient Dryer - Heat Pump","Clothes Dryers",null,{"$f":"C115","v":0.37170430873231924},{"$f":"C114","v":107.79424953237258},{"$f":"C119","v":0.37170430873231924},{"$f":"C118","v":77.789387356940111},{"$f":"C117","v":0.36779397940445524},{"$f":"C120","v":0.22044633692847151},{"$f":"C132","v":2.9000000000000001E-2},{"$f":"S9*L62","v":128.94348129062408},{"$f":"(C122*C123*C130/C125*C128*0.003412)*$L$60-C118*$L$63","v":-36.217232949095617},0.2,0.1,7.1900000000000006E-2,5.67E-2,null,null,null,0.48586372659035115,1,300]
[null,null,null,null,null,null,null,null,null,null,null,null,"Dishwasher","AEH-1500","Most Efficient Dishwasher","Dishwashers",null,{"$f":"C141","v":0.2292358803986711},{"$f":"C140","v":69},{"$f":"C145","v":0.2292358803986711},{"$f":"C144","v":0},{"$f":"C143","v":0.235428},{"$f":"C146","v":0},{"$f":"C159","v":2.9000000000000001E-2},{"$f":"(S10*$L$63)+((C148-C149)*C152*(C154*$L$60+C155*$L$61+C156*L64)*C157/C158*3412/1000000)","v":82.53779999999999},0,0.2,0.1,7.1900000000000006E-2,5.67E-2,null,null,null,0,1,0]
[null,"HPWH < 55 gallons",null,null,"HPWH > 55 gallons",null,null,null,null,null,null,null,"Freezer","AEH-1800","ENERGY STAR Freezer","Freezers",null,{"$f":"C168","v":4.7444343607305952E-3},{"$f":"C167","v":40.015840000000011},{"$f":"C171","v":4.3721461187214627E-3},{"$f":"C170","v":0},{"$f":"C169","v":5.1700465280000038E-2},{"$f":"C172","v":0},{"$f":"C185","v":1},47.866947808000013,0,0.2,0.1,7.1900000000000006E-2,5.67E-2,null,null,null,0,1,0]
[null,"Units/Measure",1,null,"Units/Measure",1,null,null,null,null,null,null,"Air Purifier","AEH-120","ENERGY STAR Air  Purifier <150 CADR","Room Air Purifier",null,{"$f":"C194","v":7.2638307289316875E-2},{"$f":"C193","v":424.20771456961052},{"$f":"C198","v":7.2638307289316875E-2},{"$f":"C197","v":0},{"$f":"C196","v":1.4473967221115112},{"$f":"C199","v":0},{"$f":"C207","v":0.67},{"$f":"S12*L62","v":507.43726816816809},0,0.3,0,7.1900000000000006E-2,5.67E-2,null,null,null,0,1,60]
[null,"Gross_EE kWh/Unit",265.20341653218952,null,"Gross_EE kWh/Unit",{"$f":"(I31*F41)+(I33*F31)+(I34*F28)","v":262.20864917979094},null,null,null,null,null,null,"Air Purifier","AEH-125","ENERGY STAR Air  Purifier >150 CADR","Room Air Purifier",null,{"$f":"F194","v":0.21790122193706049},{"$f":"F193","v":1272.5431361124333},{"$f":"F198","v":0.21790122193706049},{"$f":"F197","v":0},{"$f":"F196","v":4.3419171804156225},{"$f":"F199","v":0},{"$f":"F207","v":0.67},{"$f":"S13*L62","v":1522.2160994176927},0,0.3,0.15,7.1900000000000006E-2,5.67E-2,null,null,null,0,1,80]
[null,"Summer Peak kW/Unit",-4.9517543966704644E-2,null,"Summer Peak kW/Unit",{"$f":"(F13-F17)/8760","v":-4.804222017252488E-2},"ODC TRM",null,null,null,null,null,"Dehumidifier","AEH-500","ENERGY STAR Dehumidifier ","Dehumidifier",null,{"$f":"C216","v":6.5626753138740779E-2},{"$f":"C215","v":110.18731851994578},{"$f":"C220","v":0.35226124846529983},{"$f":"C219","v":0},{"$f":"C218","v":0.375959130790055},{"$f":"C221","v":0},{"$f":"C227","v":0.3},{"$f":"S14*$L$62","v":131.80607041355913},0,0.3,0.15,7.1900000000000006E-2,5.67E-2,null,null,null,0,1,30]
[null,"therm/Unit",0,null,"therm/Unit",0,null,null,null,null,null,null,"Advanced Power Strips","AEH-200","Advanced Power Strips Tier I","Advanced Power Strip",null,{"$f":"D236","v":8.1888283378746592E-3},{"$f":"D235","v":60.106000000000002},{"$f":"D240","v":8.1888283378746592E-3},{"$f":"D239","v":0},{"$f":"D238","v":0},{"$f":"D241","v":0},0.8,{"$f":"S15*$L$62","v":71.898797200000004},0,0,0,7.1900000000000006E-2,5.67E-2,null,null,null,0,1,15]
[null,"MMBTU/Unit_EE",{"$f":"(C13*[7]References!$D$12)","v":0.90487405720783065},null,"MMBTU/Unit_EE",{"$f":"(F13*[7]References!$D$12)","v":0.8946559110014467},null,null,null,null,null,null,"Advanced Power Strips","AEH-210","Advanced Power Strips Tier II","Advanced Power Strip",null,{"$f":"C236","v":1.9744035785288272E-2},{"$f":"C235","v":158.9},{"$f":"C240","v":1.9744035785288272E-2},{"$f":"C239","v":0},{"$f":"C238","v":0},{"$f":"C241","v":0},0.8,190.07617999999999,0,0,0,7.1900000000000006E-2,5.67E-2,null,null,null,0,1,25]
[null,"Gross_BE kWh/Unit",{"$f":"H30/C39*(1/C23/C27)*C42","v":698.9771016805222},null,"Gross_BE kWh/Unit",{"$f":"I30/F39*(1/F23/F27)*F42","v":683.05849789110891},null,null,null,null,null,null,"Lamps","AEH-1250","Specialty Lamps","LED Specialty",null,{"$f":"D271","v":4.6204761133907896E-2},{"$f":"D272","v":42.632869185190202},{"$f":"D274","v":4.0448884823520874E-2},{"$f":"D275","v":0},{"$f":"D273","v":0.14546334965986898},{"$f":"D276","v":0},{"$f":"D264","v":0.23},{"$f":"S17*$K$75","v":50.997438119324514},0,0.45,0,7.1900000000000006E-2,5.67E-2,null,null,null,0,{"$f":"D268","v":0.89},0]
[null,"Gross_Winter kW/Unit",{"$f":"(0.17*C41)-(0.17*C42)","v":-0.11967999999999999},null,"Gross_Winter kW/Unit",{"$f":"(0.17*F41)-(0.17*F42)","v":-0.11967999999999999},null,null,null,null,null,null,"Lamps","AEH-1200","Standard Lamps","LED Standard",null,{"$f":"C271","v":3.730459833584137E-2},{"$f":"C272","v":34.420739807501242},{"$f":"C274","v":3.2657444047834515E-2},{"$f":"C275","v":0},{"$f":"C273","v":0.11744356422319424},{"$f":"C276","v":0},0.23,{"$f":"S18*$K$75","v":41.174088957732984},0,0.45,0,7.1900000000000006E-2,5.67E-2,null,null,null,0,0.89,0]
[null,"MMBTU/Unit_BE",{"$f":"(H30/1000000*((1/C21*C42)+((1-(1/C23))*C29*C32*(C43+C44+C45)/C40)))-(C17*[7]References!$D$12)","v":10.857511960538607},null,"MMBTU/Unit_BE",{"$f":"(I30/1000000*((1/F21*F42)+((1-(1/F23))*F29*F32*(F43+F44+F45)/F40)))-(F17*[7]References!$D$12)","v":7.2924572369540872},null,null,null,null,null,null,"Smart Thermostat","AEH-1415","Smart Thermostat Connected","Smart Thermostat",null,{"$f":"D301","v":1},{"$f":"D300","v":629.40320321449462},{"$f":"C305","v":0},{"$f":"C304","v":0},{"$f":"D303","v":2.1475237293678555},{"$f":"C306","v":0},0,{"$f":"(S19*$L$63)","v":752.89211168517841},0,0.1,0,7.1900000000000006E-2,5.67E-2,null,null,null,0,1,70]
[null,"Lifetime",10,null,"Lifetime",10,null,null,null,null,null,null,"Smart Thermostat","AEH-1420","Smart Thermostat Learning","Smart Thermostat",null,{"$f":"C301","v":0},{"$f":"C300","v":716.46612974868515},{"$f":"D305","v":0},{"$f":"D304","v":0},{"$f":"C303","v":2.444582434702514},{"$f":"D306","v":0},0,{"$f":"(S20*$L$63)","v":857.03678440537715},0,0.1,0,7.1900000000000006E-2,5.67E-2,null,null,null,0,1,100]
[null,"UEFbase: Baseline Uniform Energy Factor",0.57230163934426326,null,"UEFbase: Baseline Uniform Energy Factor",0.78755254237288108,"UEFbase = 0.9307 - (0.0002 * Volume) for <= 50 gallons",null,null,null,null,null,"Tankless Water Heater","AEH-650","Tankless Water Heater < 12 kW","Tankless Water Heater",null,{"$f":"H62","v":1.872772567409144E-2},{"$f":"H61","v":24.449699836518818},{"$f":"H66","v":-0.11967999999999999},{"$f":"H65","v":1960.0307444314185},{"$f":"H64","v":8.3422375842202204E-2},{"$f":"H67","v":6.3722746744270209},0.8,{"$f":"1.1962*H61","v":29.246730944443808},{"$f":"(H30/1000000*((1/H69*(C54*L60+C55*L61+C56*L64)))-(H65*1.1962))","v":-496.43222854271153},0,0,7.1900000000000006E-2,5.67E-2,null,null,null,13.059899574427021,1,100]
[null,"UEFcode: Code Uniform Energy Factor",0.92175901639344382,null,"UEFcode: Code Uniform Energy Factor",2.1697593220338987,null,null,null,null,null,null,"Tankless Water Heater","AEH-655","Tankless Water Heater ≥ 12 kW","Tankless Water Heater",null,{"$f":"I62","v":1.872772567409144E-2},{"$f":"I61","v":-203.56019890418563},{"$f":"I66","v":-0.11967999999999999},{"$f":"I65","v":1960.0307444314185},{"$f":"I64","v":-0.69454739866108139},{"$f":"I67","v":3.3145655751748739},0.8,{"$f":"1.1962*H61","v":29.246730944443808},{"$f":"(H30/1000000*((1/H69*(C54*L60+C55*L61+C56*L64)))-(H65*1.1962))","v":-496.43222854271153},0,0,7.1900000000000006E-2,5.67E-2,null,null,null,10.002190475174874,1,300]
[null,"UEFee: Efficient Uniform Energy Factor",3.5839344262295127,null,"UEFee: Efficient Uniform Energy Factor",3.6674576271186421,null,{"$f":"0.9307-(0.0002*C24)","v":0.92069999999999996},null,null,null,null,"Electric Lawn Mower (All Sizes)","AEH-1950","Electric Lawn Mower (All Sizes)","Electric Lawn Mower",null,{"$f":"C360","v":0},{"$f":"C361","v":0},{"$f":"C363","v":0},{"$f":"C364","v":25.74},{"$f":"C362","v":0},{"$f":"C365","v":0.39578596252768738},0.8,{"$f":"S23*1.1962","v":0},{"$f":"-U23*1.1962+$C$368*$L$67","v":47.948971335847901},0.1,0,7.1900000000000006E-2,5.67E-2,null,null,null,0.48361084252768738,1,30]
[null,"Avg Storage Capacity - Tank Size (gallons)",50,null,"Avg Storage Capacity - Tank Size (gallons)",80,"UEFee = 2.2418 - (0.0011 * Volume) for >= 50 gallons",null,null,null,null,null,"Electric Lawn Mower 4-5aH","AEH-1905","Electric Lawn Mower 4-4aH","Electric Lawn Mower",null,{"$f":"D360","v":0},{"$f":"D361","v":0},{"$f":"D363","v":0},{"$f":"D364","v":19.575906},{"$f":"D362","v":0},{"$f":"D365","v":0.41105130840226717},0.8,0,{"$f":"-U24*1.1962+$D$368*$L$67","v":54.380993097920538},0.1,0,7.1900000000000006E-2,5.67E-2,null,null,null,0.47784429967426717,1,30]
[null,"Days/Year",365,null,"Days/Year",365,null,{"$f":"2.2418-(0.0011*F24)","v":2.1537999999999999},null,null,null,null,"Electric Lawn Mower >5aH","AEH-1910","Electric Lawn Mower >5aH","Electric Lawn Mower",null,{"$f":"E360","v":0},{"$f":"E361","v":0},{"$f":"E363","v":0},{"$f":"E364","v":29.647893999999997},{"$f":"E362","v":0},{"$f":"E365","v":0.37668568534626717},0.8,0,{"$f":"-U25*1.1962+$E$368*$L$67","v":42.332881052320538},0.1,0,7.1900000000000006E-2,5.67E-2,null,null,null,0.47784429967426717,1,40]
[null,"Gallons/Day (GPD)",46,null,"Gallons/Day (GPD)",46,"kWhCooling = ((GPD * 365 * 8.33 * (Setpoint-Inlet)/3412) * (1-(1/UEFee)) * FL * Fcool*/3.412/SEER))",null,null,null,null,null,"Electric Weed Trimmer","AEH-1920","Electric Weed Trimmer","Electric Weed Trimmer",null,{"$f":"C417","v":0},{"$f":"C418","v":0},{"$f":"C420","v":0},{"$f":"C421","v":4.7249999999999996},{"$f":"C419","v":0},{"$f":"C422","v":0.11581696709120486},0.8,{"$f":"S26*1.1962","v":0},{"$f":"-U26*1.1962+C425*$L$67","v":-2.1632092347362915},0.1,0,7.1900000000000006E-2,5.67E-2,null,null,null,{"$f":"W26+U26*0.003412","v":0.13193866709120486},1,20]
[null,"FD: Derate Factor",0.8866666666666666,null,"FD: Derate Factor",0.8866666666666666,null,{"$f":"((C26*C25*C36*(C38-C37)/3412)*(1-(1/C23))*C29*C30/3.412/C33)","v":7.2038020491048753},null,null,null,null,"Electric Leaf Blower","AEH-1930","Electric Leaf Blower","Electric Leaf Blower",null,{"$f":"C390","v":0},{"$f":"C391","v":0},{"$f":"C393","v":0},{"$f":"C394","v":10.8},{"$f":"C392","v":0},{"$f":"C395","v":0.11452269068403909},0.8,{"$f":"S27*1.1962","v":0},{"$f":"-U27*1.1962+C397*$L$67","v":11.725918748304105},0.1,0,7.1900000000000006E-2,5.67E-2,null,null,null,{"$f":"W27+U27*0.003412","v":0.1513722906840391},1,20]
[null,"FEH: Electric Heating Factor",1,null,"FEH: Electric Heating Factor",1,"kWhHeating = ((GPD * 365 * 8.33 * (Setpoint_Inlet)/3412) * (1-(1/UEFee)) * FL * (Fheat/3.412/HSPF))",null,null,null,null,null,"Pool Pump - Variable Speed","AEH-711","Pool Pump - Variable Speed","Pool Pump",null,{"$f":"D335","v":1.6520503597122305},{"$f":"D334","v":2418.6017266187055},{"$f":"D339","v":0},{"$f":"D338","v":0},{"$f":"D337","v":8.2522690912230239},{"$f":"D340","v":0},0.36,{"$f":"S28*1.1962","v":2893.1313853812953},0,0.1,0,7.1900000000000006E-2,5.67E-2,null,null,null,{"$f":"W28+U28*0.003412","v":0},1,325]
[null,"FL: Location Factor",0.33333333333333331,null,"FL: Location Factor",0.33333333333333331,null,{"$f":"((C26*C25*C36*(C38-C37)/3412)*(1-(1/C23))*C29*C32/3.412/C34)","v":16.119640083693511},null,null,null,null,"Heat Pump Pool Heater","AEH-720","Heat Pump Pool Heater","Pool Heater",null,{"$f":"H335","v":0},{"$f":"H334","v":7304.1683920495934},{"$f":"H339","v":0},{"$f":"H338","v":0},{"$f":"H337","v":24.921822553673213},{"$f":"H340","v":0},0.8,{"$f":"S29*1.1962","v":8737.2462305697227},{"$f":"H347*H350*L60","v":0},0.2,0.1,7.1900000000000006E-2,5.67E-2,null,null,null,{"$f":"W29+U29*0.003412","v":0},1,1000]
[null,"FCool: Cooling Factor",0.51,null,"FCool: Cooling Factor",0.51,"MTC",{"$f":"C26*C25*C36*(C38-C37)","v":8895140.5200000014},{"$f":"F26*F25*F36*(F38-F37)","v":8895140.5200000014},"ODC TRM",null,null,"Solar Pool Cover","AEH-750","Solar Pool Cover","Pool Equipment",null,{"$f":"N335","v":0},{"$f":"N334","v":870.11925639626475},{"$f":"N339","v":0},{"$f":"N338","v":0},{"$f":"N337","v":2.9688469028240556},{"$f":"N340","v":0},0.8,{"$f":"S30*L63","v":1040.8366545012118},0,0.1,0,7.1900000000000006E-2,5.67E-2,null,null,null,null,null,75]
[null,"FAC: Air Conditioning Factor",1,null,"FAC: Air Conditioning Factor",1,"kWhWHe",{"$f":"(H30/C39)*((1/C22)-(1/(C23*C27)))","v":2007.9103499121777},{"$f":"(I30/F39)*((1/F22)-(1/(F23*F27)))","v":399.81153293171263},"ODC TRM",null,null,"Refrigerator","AEH-1000","Most Efficient Refrigerator","Refrigerator",null,{"$f":"C447","v":7.6283732876712331E-3},{"$f":"C446","v":47.034000000000006},{"$f":"C451","v":6.6780821917808222E-3},{"$f":"C450","v":0},{"$f":"C449","v":0.16048000800000004},{"$f":"C452","v":0},{"$f":"E446","v":1},{"$f":"S31*$K$75","v":56.262070800000004},0,0.2,0.1,7.1900000000000006E-2,5.67E-2,null,null,null,{"$f":"W31+U31*0.003412","v":0},1,0]
[null,"FHeat: Heating Factor",0.49,null,"FHeat: Heating Factor",0.49,"kWhWHff",{"$f":"(H30/C39)*((1/C21)-(1/C23/C27))","v":3734.9233995104983},{"$f":"(I30/F39)*((1/F21)-(1/F23/F27))","v":2508.5645102875269},"ODC TRM",null,null,"Refrigerator","AEH-1005","ENERGY STAR Refrigerator","Refrigerator",null,{"$f":"C466","v":7.628373287671234E-3},{"$f":"C465","v":47.034000000000006},{"$f":"C470","v":0},{"$f":"C469","v":0.16048000800000004},{"$f":"C468","v":14},{"$f":"C471","v":0},{"$f":"E465","v":1},{"$f":"S32*$K$75","v":56.262070800000004},0,0.2,0.1,7.1900000000000006E-2,5.67E-2,null,null,null,5.4755778729600015E-4,1,0]
[null,"SEER",13,null,"SEER",13,"kWhC ",{"$f":"H30/3412*(1-1/C22)*C29*C30*3.412/C33","v":-9.8735945503157065},{"$f":"I30/3412*(1-1/F22)*F29*F30*3.412/F33","v":62.710943400998907},"ODC TRM",null,null,"Clothes Washer","AEH-405","ENERGY STAR Clothes Washer","Clothes Washers",null,{"$f":"C480","v":0.78960845073956509},{"$f":"C479","v":232.9344929681717},{"$f":"C484","v":0.78960845073956509},{"$f":"C483","v":0},{"$f":"C482","v":0.7947724900074018},{"$f":"C481","v":0},{"$f":"C500","v":2.9000000000000001E-2},{"$f":"(S33*1.1962)+(C493*(C494*$L$60+C495*$L$61+C496*$L$64))+((C497*C498)*$L$60)","v":278.63624048852699},0,0.2,0.1,7.1900000000000006E-2,5.67E-2,null,null,null,0,1,0]
[null,"HSPF",5.581818181818182,null,"HSPF",5.581818181818182,"kWhH ",{"$f":"H30/3412*(1-1/C22)*C29*C32*3.412/C34","v":-22.093720704497073},{"$f":"I30/3412*(1-1/F22)*F29*F32*3.412/F34","v":140.32559890489856},"ODC TRM",null,null,"Dishwasher","AEH-1505","ENERGY STAR Dishwasher","Dishwashers",null,{"$f":"C506","v":0.12292358803986711},{"$f":"C505","v":37},{"$f":"C510","v":0.12292358803986711},{"$f":"C509","v":0},{"$f":"C508","v":0.126244},{"$f":"C511","v":0},{"$f":"C524","v":2.9000000000000001E-2},{"$f":"(S34*$L$63)+((C513-C514)*C517*(C519*$L$60+C520*$L$61+C521*L64)*C522/C523*3412/1000000)","v":44.259399999999999},0,0.2,0.1,7.1900000000000006E-2,5.67E-2,null,null,null,0,1,0]
[null,"Standby Hours/Year",6570,null,"Standby Hours/Year",6570,null,null,null,null,null,null,"Standard Electric Range Oven","AEH-4000","Standard Electric Range Oven","Oven",null,0,0,0,0,0,0,0,0,0,0,0,0,0,0,0,null,0,0,0]
[null,"Btu/gal-°F",8.33,null,"Btu/gal-°F",8.33,null,"<55 gal HPWH",">55gal HPWH",null,null,null,"Induction Cook Top Convection Over","AEH-4005","Induction Cook Top Convection Over","Oven",null,0,0,0,0,0,0,0,0,0,0,0,0,0,0,0,null,0,0,0]
[null,"TI: Inlet Temp (Tank-In Temperature)",61.4,null,"TI: Inlet Temp (Tank-In Temperature)",61.4,"EE CO2",{"$f":"C13*L62","v":317.23632685580509},{"$f":"F13*L62","v":313.6539861488659},null,null,null,"Propane Stove","AEH-4010","Propane Stove","Oven",null,0,0,0,0,0,0,0,0,0,0,0,0,0,0,0,null,{"$f":"W37+U37*0.003412","v":0},0,0]
[null,"THW: Hot Water Temp (Tank Setpoint)",125,null,"THW: Hot Water Temp (Tank Setpoint)",125,"BE CO2",{"$f":"(H30/1000000*((1/C21*(C54*L60+C55*L61+C56*L64))+((1-(1/C23))*C29*C32*(C43*L60+C44*L61+C45*L64)/C40)))-(C17*L62)","v":1037.8695645238331},{"$f":"(I30/1000000*((1/F21*(F54*L60+F55*L61+F56*L64))+((1-(1/F23))*F29*F32*(F43*L60+F44*L61+F45*L64)/F40)))-(F17*L62)","v":544.72059031316815}]
[null,"Btu/kW",3412,null,"Btu/kW",3412]
[null,"AFEff",0.8,null,"AFEff",0.8]
[null,"FWH,E: Electric water heating factor",0.14799999999999999,null,"FWH,E: Electric water heating factor",0.14799999999999999]
[null,"FWH,FF: Fossil fuel water heating factor",0.85199999999999998,null,"FWH,FF: Fossil fuel water heating factor",0.85199999999999998,"ODC TRM"]
[null,"FGH: Natural gas heating factor",0,null,"FGH: Natural gas heating factor",0,"ODC TRM"]
[null,"FOH: Fuel oil heating factor",0,null,"FOH: Fuel oil heating factor",0,"ODC TRM"]
[null,"FPH: Propane heating factor",0,null,"FPH: Propane heating factor",0,"ODC TRM"]
[null,"kWh Cooling",13.12227637,null,"kWh Heating",29.382724889999999]
[null,"MTC",10993051.02,null,"MTC",10993051.02]
[null,"kWhWHe",2519.5227316645833,null,"kWhWHe",2619.0855143477802]
[null,"kWhWHff",2481.0387497906545,null,"kWhWHff",407.38699284602654]
[null,"kWhC ",13.122276370747759,null,"kWhC ",12.787904003390606]
[null,"kWhH ",29.372724886381061,null,"kWhH ",28.624270328764556]
[]
[null,"Source: 2022 Program Planning Tool ",null,null,"Source: 2022 Program Planning Tool "]
[null,"Gas Water Heating:",{"$f":"53%/101%*100%","v":0.52475247524752477},null,null,0.52475247524752477]
[null,"Oil Water Heating:",{"$f":"35%/101%*100%","v":0.34653465346534651},null,null,0.34653465346534651]
[null,"Propane Water Heating:",{"$f":"2%/101%*100%","v":1.9801980198019802E-2},null,null,1.9801980198019802E-2]
[]
[]
[null,"ME Clothes Washers",null,null,null,null,"Tankless Water Heater","<12kW",">12kW",null,"Heating Source","CO2 (tons / MMBTU)"]
[null,"Gross_EE kWh/Unit",{"$f":"C68+(C69*C71)+(C70*C72)","v":236.93301258327165},null,null,null,"Incremental Cost",null,null,null,"Gas",{"$f":"0.05306*K72","v":116.97607600000001}]
[null,"Gross_Summer Peak kW/Unit",{"$f":"C60/C79","v":0.80316275451956487},null,null,null,"Gross_EE kWh/Unit",{"$f":"(H76*H75*H77*(H78/H80)*((1/H70)-(1/H71))*H81)","v":24.449699836518818},{"$f":"(I76*I75*I77*(I78/I80)*((1/I70)-(1/I71))*I81)","v":-203.56019890418563},null,"Oil",{"$f":"0.07396*K72","v":163.05221599999999}]
[null,"therm/Unit",null,null,null,null,"Summer Peak kW/Unit",{"$f":"(H73-H74)*H86/3412*H81","v":1.872772567409144E-2},{"$f":"(I73-I74)*I86/3412*I81","v":1.872772567409144E-2},null,"Electric Resistance",{"$f":"K75","v":1.1961999999999999}]
[null,"MMBTU/Unit_EE",{"$f":"(C73*(C74+C75+C76))+(C77*C78)+(C60*[7]References!$D$12)","v":0.80841543893412293},null,null,null,"therm/Unit",0,0,null,"Electric Heat Pump",{"$f":"K75","v":1.1961999999999999}]
[null,"Gross_BE kWh/Unit",0,null,null,null,"MMBTU/Unit_EE",{"$f":"(H61*[7]References!$D$12)","v":8.3422375842202204E-2},{"$f":"(I61*[7]References!$D$12)","v":-0.69454739866108139},null,"Propane",{"$f":"0.06146*K72","v":135.49471599999998}]
[null,"Gross_Winter kW/Unit",{"$f":"C60/C79","v":0.80316275451956487},null,null,null,"Gross_BE kWh/Unit",{"$f":"H76*H75*H77*55/H80*(1/H71)*H82","v":1960.0307444314185},{"$f":"I76*I75*I77*55/I80*(1/I71)*I82","v":1960.0307444314185},null,"Wood",{"$f":"0.0938*K72","v":206.79147999999998}]
[null,"MMBTU/Unit_BE",0,null,null,null,"Gross_Winter kW/Unit",{"$f":"(0.17*H81)-(0.17*H82)","v":-0.11967999999999999},{"$f":"(0.17*I81)-(0.17*I82)","v":-0.11967999999999999},null,"Other",{"$f":"0.05306*K72","v":116.97607600000001}]
[null,"Lifetime",11,null,null,null,"MMBTU/Unit_BE",{"$f":"H76*H75*H77*H78/1000000*(1/H69)*H82-H65*[7]References!$D$12","v":6.3722746744270209},{"$f":"I76*I75*I77*I78/1000000*(1/I69)*I82-I65*[7]References!$D$12","v":3.3145655751748739},null,"Gasoline",162.80971]
[null,"kWh Svgs_Washer",9.99851961509993,null,null,null,"Lifetime",20,20]
[null,"kWh Svgs_Elec Wtr Ht",38.993708364174701,null,null,null,"UEFbase: Baseline Uniform Energy Factor",{"$f":"0.6483-(0.0017*H72)","v":0.58030000000000004},0.75769999999999993]
[null,"kWh Svgs_Elec Drying",187.940784603997,null,null,null,"UEFcode: Code Uniform Energy Factor",{"$f":"0.9307-(0.0002*H72)","v":0.92269999999999996},2.0291000000000001]
[null,"Elec Wtr Htr Factor",1,null,null,null,"UEFee: Efficient Uniform Energy Factor",0.98,0.98,null,"ConversionFactors"]
[null,"Elec Dryer Factor",1,null,null,null,"Avg Storage Capacity - Tank Size (gallons)",40,80,null,2204.6,"lbs/metric ton"]
[null,"MMBTU Svgs_FF Wtr Ht",0.18,null,null,null,"UAbaseline: Baseline Overall Heat Loss Coefficient:",7.85,7.85]
[null,"Gas Wtr Htr Factor",0,null,null,null,"Uaee: Energy Efficient Overall Heat Loss Coefficient:",0,0,null,"Emission Factor (lb CO2 / kWh)"]
[null,"Oil Wtr Htr Factor",0,null,null,null,"Days/Year",365,365,null,1.1961999999999999]
[null,"Prop Wtr Htr Factor",0,null,null,null,"Gallons/Day (GPD)",46,46]
[null,"MMBTU Svgs_Gas Drying",0.71977424130273904,null,null,null,"Btu/gal-°F",8.33,8.33]
[null,"Gas Dryer Factor",0,null,null,null,"TI: Inlet Temp (Tank-In Temperature)",63.6,63.6]
[null,"Hours of Operation",295,null,null,null,"THW: Hot Water Temp (Tank Setpoint)",140,140]
[null,"CF: Coincidence Factor",2.9000000000000001E-2,null,null,null,"Btu/kW",3412,3412]
[null,"Source: 2022 Program Planning Tool ",null,null,null,null,"FWH,E: Electric water heating factor",0.14799999999999999,0.14799999999999999]
[null,null,null,null,null,null,"FWH,FF: Fossil fuel water heating factor",0.85199999999999998,0.85199999999999998]
[null,null,null,null,null,null,"FGH: Natural gas heating factor",-0.52,-0.52]
[null,null,null,null,null,null,"FOH: Fuel oil heating factor",-0.39,-0.39]
[null,null,null,null,null,null,"FPH: Propane heating factor",-0.01,-0.01]
[null,null,null,null,null,null,"Source: 2020 Program Planning Tool ",55,55]
[null,"ENERGY STAR Dryer - Electric Resistance","ES Dryer - Electric Resistance",null,null,null,null,0.8,0.8]
[null,"EE kWh/Unit",{"$f":"((1/C98)-(1/C100))*C96*C97*C101","v":20.885573202120064}]
[null,"Summer Peak kW/Unit",{"$f":"C88/C105","v":7.2019217938345051E-2}]
[null,"therm/Unit"]
[null,"MMBTU/Unit_EE",{"$f":"C88*[7]References!$D$12","v":7.1261575765633661E-2}]
[null,"Gross_BE kWh/Unit",{"$f":"C96*C97*(1/C100-C103/C99)*C102","v":203.10149613403576}]
[null,"Gross_Winter kW/Unit",{"$f":"C88/C105","v":7.2019217938345051E-2}]
[null,"MMBTU/Unit_BE",{"$f":"(C96*C97*C104/C99*C102-C92)*[7]References!$D$12","v":0.14045483835328987}]
[null,"Lifetime",14]
[null,"Loads per year",283]
[null,"Weighted Avg Load",8.4263898916967506]
[null,"CEF_Elec_Baseline",3.7290974729241899]
[null,"CEF_Gas_Baseline",3.3]
[null,"CEF_Efficient",3.9290324909747301]
[null,"%home w/ elec dryers",0.64182835919626902]
[null,"%home w/ gas dryers",0.35581657732962502]
[null,"% elec consumed by gas dryer",0.05]
[null,"% gas consumed by gas dryer",0.95]
[null,"Annual Hours",290]
[null,"CF",2.9000000000000001E-2]
[null,"Source: 2022 Program Planning Tool "]
[]
[]
[]
[]
[]
[null,"Most Efficient Dryer - Heat Pump","Super Efficient Dryer - Heat Pumps"]
[null,"EE kWh/Unit",{"$f":"((1/C124)-(1/C126))*C122*C123*C127","v":107.79424953237258}]
[null,"Summer Peak kW/Unit",{"$f":"C114/C131","v":0.37170430873231924}]
[null,"therm/Unit"]
[null,"MMBTU/Unit_EE",{"$f":"C114*[7]References!$D$12","v":0.36779397940445524}]
[null,"Gross_BE kWh/Unit",{"$f":"C122*C123*(1/C126-C129/C125)*C128","v":77.789387356940111}]
[null,"Gross_Winter kW/Unit",{"$f":"C114/C131","v":0.37170430873231924}]
[null,"MMBTU/Unit_BE",{"$f":"(C122*C123*C130/C125*C128-C118)*[7]References!$D$12","v":0.22044633692847151}]
[null,"Lifetime",14]
[null,"Loads per year",283]
[null,"Weighted Avg Load",4.9122807017543897]
[null,"CEF_Elec_Baseline",3.4103508771929798]
[null,"CEF_Gas_Baseline",3.3]
[null,"CEF_Efficient",5.8]
[null,"%home w/ elec dryers",0.64182835919626902]
[null,"%home w/ gas dryers",0.35581657732962502]
[null,"% elec consumed by gas dryer",0.05]
[null,"% gas consumed by gas dryer",0.95]
[null,"Annual Hours",290]
[null,"CF",2.9000000000000001E-2]
[null,"Source: 2022 Program Planning Tool "]
[]
[]
[]
[]
[]
[null,"Most Efficient Dishwasher","ME Dishwashers"]
[null,"Gross_EE_kWh/Unit",{"$f":"((C148-C149)*(1-C152))+((C148-C149)*C152*C151)","v":69}]
[null,"Summer Peak kW/Unit",{"$f":"C140/C153","v":0.2292358803986711}]
[null,"therm/Unit"]
[null,"MMBTU/Unit_EE",{"$f":"((C148-C149)*C152*(C154+C155+C156)*C157/C158*3412/1000000)+(C140*[7]References!$D$12)","v":0.235428}]
[null,"Gross_BE kWh/Unit",0]
[null,"Gross_Winter kW/Unit",{"$f":"C140/C153","v":0.2292358803986711}]
[null,"MMBTU/Unit_BE",0]
[null,"EUL",11]
[null,"Conventional Unit",307]
[null,"Most Efficient Unit",238]
[]
[null,"ElecSF",1]
[null,"% of Energy Used",0.56000000000000005]
[null,"Annual Hours",301]
[null,"% of homes w/ Gas",0]
[null,"% of homes w/ Oil",0]
[null,"% of homes w/ Propane",0]
[null,"Recovery efficiency",0.98]
[null,"Recovery efficiency",0.75]
[null,"CF",2.9000000000000001E-2]
[null,"Source: 2022 Program Planning Tool "]
[]
[]
[]
[]
[]
[null,"ENERGY STAR Freezer","ES Freezers"]
[null,"Gross_EE kWh/Unit",{"$f":"(C175-C177)*C178*C184","v":40.015840000000011}]
[null,"Gross_Summer Peak kW/Unit",{"$f":"((C175-C177)/C183)*C179","v":4.7444343607305952E-3}]
[null,"MMBTU/Unit_EE",{"$f":"(C167*[7]References!$D$12)+(C167*(C180+C181+C182))","v":5.1700465280000038E-2}]
[null,"Gross_BE kWh/Unit",0]
[null,"Gross_Winter kW/Unit",{"$f":"((C175-C177)/C183)","v":4.3721461187214627E-3}]
[null,"MMBTU/Unit_BE",0]
[null,"EUL",14]
[null,"Average Size (cf)",19.399999999999999]
[null,"kWh_Baseline",347.6]
[]
[null,"kWh_Efficient",309.3]
[null,"HVACEnergy",1.0448]
[null,"HVACDemand",1.0851500000000001]
[null,"HVACg",-1.07E-3]
[null,"HVACo",-1.0200000000000001E-3]
[null,"HVACp",-3.0000000000000001E-5]
[null,"Annual Hours",8760]
[null,"Occupancy Factor",1]
[null,"Summer CF",1]
[null,"Source: 2022 Program Planning Tool "]
[]
[]
[]
[]
[]
[null,"ENERGY STAR Air Purifier <150 CADR",null,null,"ENERGY STAR Air Purifier >150 CADR",null,null,"Air Purifier CADR"]
[null,"Gross_EE kWh/Unit",{"$f":"(((8760-C206)*(C201-C202))+(C206*C205*((1/C203)-(1/C204))))/1000","v":424.20771456961052},null,"Gross_EE kWh/Unit",{"$f":"(((8760-F206)*(F201-F202))+(F206*F205*((1/F203)-(1/F204))))/1000","v":1272.5431361124333},null,"Select…"]
[null,"Gross_Summer Peak kW/Unit",{"$f":"C193/C206","v":7.2638307289316875E-2},null,"Gross_Summer Peak kW/Unit",{"$f":"F193/F206","v":0.21790122193706049},null,"< 150"]
[null,"therm/Unit",null,null,"therm/Unit",null,null,"> 150"]
[null,"MMBTU/Unit_EE",{"$f":"C193*[7]References!$D$12","v":1.4473967221115112},null,"MMBTU/Unit_EE",{"$f":"F193*[7]References!$D$12","v":4.3419171804156225}]
[null,"Gross_BE kWh/Unit",0,null,"Gross_BE kWh/Unit",0]
[null,"Gross_Winter kW/Unit",{"$f":"C193/C206","v":7.2638307289316875E-2},null,"Gross_Winter kW/Unit",{"$f":"F193/F206","v":0.21790122193706049}]
[null,"MMBTU/Unit_BE",0,null,"MMBTU/Unit_BE",0]
[null,"Lifetime",9,null,"Lifetime"]
[null,"Baseline Standby Power",1,null,"Baseline Standby Power",1]
[null,"Efficient Standby Power (<150)",0.388695652173913,null,"Efficient Standby Power (>150)",0.62708661417322797]
[null,"Efficiency_Baseline Unit",1,null,"Efficiency_Baseline Unit",1]
[null,"Efficiency_Efficient Unit (<150)",3.4173739130434799,null,"Efficiency_Efficient Unit (>150)",5.0057480314960703]
[null,"Clean Air Delivery Rate (<150 CADR)",102.254652173913,null,"Clean Air Delivery Rate (>150 CADR)",272.065354330709]
[null,"Annual Hours",5840,null,"Annual Hours",5840]
[null,"CF",0.67,null,"CF",0.67]
[null,"Source: 2022 Program Planning Tool ",null,null,"Source: 2022 Program Planning Tool "]
[]
[]
[]
[]
[]
[null,"ENERGY STAR Dehumidifier","ES Dehumidifiers"]
[null,"EE kWh/Unit",{"$f":"C228*C229*(C225/24)*((1/C223)-(1/C224))","v":110.18731851994578}]
[null,"Summer Peak kW/Unit",{"$f":"C215/C226","v":6.5626753138740779E-2}]
[null,"therm/Unit"]
[null,"MMBTU/Unit_EE",{"$f":"C215*[7]References!$D$12","v":0.375959130790055}]
[null,"Gross_BE kWh/Unit",0]
[null,"Gross_Winter kW/Unit",{"$f":"C215/C230","v":0.35226124846529983}]
[null,"MMBTU/Unit_BE",0]
[null,"Lifetime",12]
[null,"Conventional (L/kWh)",1.57340308370044]
[null,"Efficient (L/kWh)",1.7856691177945401]
[null,"Average Annual Usage",1679]
[null,"Operating Hours (TRM)",1679]
[null,"Summer CF",0.3]
[null,"Average pints/day",44.0749165015825]
[null,"L/pint conversion factor",0.47299999999999998]
[null,"Operating Hours 2018",{"$f":"4.6*68","v":312.79999999999995}]
[null,"Source: 2022 Program Planning Tool "]
[]
[]
[null,"Advanced Power Strips","Tier 2","Tier 1"]
[null,"Gross_EE kWh/Unit",{"$f":"C244","v":158.9},60.106000000000002]
[null,"Gross_Summer Peak kW/Unit",{"$f":"C235/C248","v":1.9744035785288272E-2},{"$f":"D235/D247","v":8.1888283378746592E-3}]
[null,"therm/Unit"]
[null,"MMBTU/Unit_EE",{"$f":"C235*$G$1","v":0},{"$f":"D235*$G$1","v":0}]
[null,"Gross_BE kWh/Unit",0,0]
[null,"Gross_Winter kW/Unit",{"$f":"C235/C248","v":1.9744035785288272E-2},{"$f":"D235/D247","v":8.1888283378746592E-3}]
[null,"MMBTU/Unit_BE",0,0]
[null,"Lifetime",8,8]
[null,"Annual Energy Saved - Tier I (kWh/yr)",null,75.099999999999994]
[null,"Annual Energy Saved - Tier II (kWh/yr)",158.9]
[null,"Equipment Factor - Tier I - A/V",null,0.66]
[null,"Equipment Factor - Tier I - IT",null,0.34]
[null,"Annual Hours - Tier I",null,7340]
[null,"Annual Hours - Tier II",8048]
[null,null,0.8,0.8]
[null,"Source: 2022 Program Planning Tool "]
[]
[]
[]
[]
[]
[null,null,"Standard Lamps","Specialty Lamps"]
[null,"Baseline Wattages",46.607570648193359,54.009621394129567]
[null,"Installed Wattages",9.9138132910759236,8.5614361991623049]
[null,"HVACe (Energy Interactive factor)",-0.19600000000000001,-0.19600000000000001]
[null,"HVACd (demand Interactive Factor)",0.14230000000000001,0.14230000000000001]
[null,"HVACg (Gas Interactive Factor)",0,0]
[null,"HVACo (Oil Interactive Factor)",0,0]
[null,"HVACp(Propane Interactive Factor)",0,0]
[null,"Coincidence Factor (Interior)",0.23,0.23]
[null,"Coincidence Factor (Exterior)",0,0]
[null,"% Interior Lamps",0.89,0.89]
[null,"% Exterior Lamps",0.11,0.11]
[null,"In-service RateYear 1",0.89,0.89]
[null,"Hours of Use (Interior) per Day",2.7,2.7]
[null,"Hours of Use (Exterior) per Day",5.8,5.8]
[null,"Gross_Summer Peak kW_Year 1",{"$f":"((C257-C258)*C266*(1+C260))/1000","v":3.730459833584137E-2},{"$f":"((D257-D258)*D266*(1+D260))/1000","v":4.6204761133907896E-2}]
[null,"Gross_EE kWh-Year 1",{"$f":"((C257-C258)*((C269*C266*(1+C259))+(C270*C267))*365/1000)","v":34.420739807501242},{"$f":"((D257-D258)*((D269*365*D266*(1+D259))+(D270*365*D267)))/1000","v":42.632869185190202}]
[null,"MMBTU _EE_Year 1",{"$f":"(C272*[7]References!$D$12)+(((C257-C258)*((C269*365*C266)))/1000*(C261+C262+C263))","v":0.11744356422319424},{"$f":"(D272*[7]References!$D$12)+(((D257-D258)*((D269*365*D266)))/1000*(D261+D262+D263))","v":0.14546334965986898}]
[null,"Gross_Winter kW_Year 1",{"$f":"((C257-C258)*C266)/1000","v":3.2657444047834515E-2},{"$f":"((D257-D258)*D266)/1000","v":4.0448884823520874E-2}]
[null,"Gross_BE kWh-Year 1",0,0]
[null,"MMBTU _BE_Year 1",0,0]
[null,"Source: 2022 Program Planning Tool "]
[]
[]
[]
[]
[null,"Learning Thermostat"]
[null,"Ecobee","Honeywell ","Nest"]
[null,"ecobee4","Lyric T5 Wi-Fi Thermostat","Nest Learning Thermostat"]
[null,"ecobee SmartThermostat with Voice Control"]
[]
[]
[]
[]
[null,"Connected Thermostat"]
[null,"Emerson","Ecobee","Honeywell","Nest"]
[null,"Sensi Touch Smart Thermostat","ecobee3 Lite Thermostat","Wi-Fi Smart Thermostat","Nest Thermostat E"]
[null,"Emerson Sensi Thermostat"]
[]
[]
[]
[null,"Measure Name","Learning Thermostat","Wi-Fi Thermostat"]
[null,"Units/Measure",1]
[null,"Incremental Cost"]
[null,"EE kWh/Unit",{"$f":"(C308*(12/C309)*C320*C310*C316)+((C311/C312)*C321*C313*C318)","v":716.46612974868515},{"$f":"(D308*(12/D309)*D320*D310*D316)+((D311/D312)*D321*D313*D318)","v":629.40320321449462},"ODC TRM"]
[null,"Summer Peak kW/Unit",0,1,"ODC TRM (CF=0)"]
[null,"therm/Unit"]
[null,"MMBTU/Unit_EE",{"$f":"(C300*[7]References!$D$12)+((C311/1000)*C321*C313*C319)","v":2.444582434702514},{"$f":"(D300*[7]References!$D$12)+((D311/1000)*D321*D313*D319)","v":2.1475237293678555},"ODC TRM"]
[null,"Gross_BE kWh/Unit",0,0]
[null,"Gross_Winter kW/Unit",0,0]
[null,"MMBTU/Unit_BE",0,0]
[null,"Lifetime"]
[null,"Cooling tons per zone:",4.1900000000000004,4.1900000000000004,"ODC TRM"]
[null,"SEER (blended):",17.11,17.11,"ODC TRM"]
[null,"ESF cooling:",0.1,9.0000000000000011E-2,"ODC TRM"]
[null,"kBTUout heating",49,49,"ODC TRM"]
[null,"HSPF (HP &ER):",9.44,9.44,"ODC TRM"]
[null,"ESF heating:",0.08,7.0000000000000007E-2,"ODC TRM"]
[null,"AFUE",0.8,0.8]
[null,"Cooling Present",1,1,"ODC TRM"]
[null,"CAC%",0.54,0.54,"Smart Thermostat Calculation analysis for Super Savers"]
[null,"ASHP%",1,1,"Smart Thermostat Calculation analysis for Super Savers"]
[null,"Electric heating factor",1,1,"ODC TRM"]
[null,"FF Heating Factor",0,0,"ODC TRM"]
[null,"EFLHc",629,629,"ODC TRM"]
[null,"EFLHh",1485,1485,"ODC TRM"]
[null,"Source: 2022 Program Planning Tool ","ASHP EE MMBTU:",{"$f":"104*$G$1","v":0}]
[null,"Gas Heating:",0]
[null,"Oil Heating:",0]
[null,"Propane Heating:",0]
[]
[]
[]
[]
[null,"Pool Pumps"]
[null,"Measure Name","2-Speed","Variable Speed","Source",null,"Measure Name","Heat Pump Pool Heaters",null,null,null,null,"Measure Name","Pool Cover"]
[null,"Units/Measure",1,1,null,null,"Units/Measure",1,null,null,null,null,"Units/Measure",1]
[null,"Incremental Cost",549,549,"ENERGY STAR Calculator",null,"Incremental Cost",1415,null,null,null,null,"Incremental Cost",1415]
[null,"EE kWh/Unit",{"$f":"((C342*C351/C345)-((C347*C343+C348*C344)*(C347*C352+C348*C353))/C346)*60*C349/1000","v":1870.9470748399435},{"$f":"((D342*D351/D345)-((D347*D343+D348*D344)*(D347*D352+D348*D353))/D346)*60*D349/1000","v":2418.6017266187055},"ODC TRM, ",null,"EE kWh/Unit",{"$f":"H347*(1/H348-1/H344)*H342*H351/0.003412","v":7304.1683920495934},null,null,null,null,"EE kWh/Unit",{"$f":"((N345-N346)/N364)/N368","v":870.11925639626475}]
[null,"Summer Peak kW/Unit",{"$f":"C334/C350","v":1.2779693134152619},{"$f":"D334/D350","v":1.6520503597122305},"ODC TRM",null,"Summer Peak kW/Unit",0,null,null,null,null,"Summer Peak kW/Unit",0]
[null,"therm/Unit",null,null,null,null,"therm/Unit",null,null,null,null,null,"therm/Unit"]
[null,"MMBTU/Unit_EE",{"$f":"C334*0.003412","v":6.3836714193538873},{"$f":"D334*0.003412","v":8.2522690912230239},null,null,"MMBTU/Unit_EE",{"$f":"(H334*[7]References!$D$12)","v":24.921822553673213},null,null,null,null,"MMBTU/Unit_EE",{"$f":"N334*[7]References!$D$12","v":2.9688469028240556}]
[null,"Gross_BE kWh/Unit",0,0,null,null,"Gross_BE kWh/Unit",{"$f":"H347*(1/H344)*H342*H350/0.003412","v":0},null,null,null,null,"Gross_BE kWh/Unit",0]
[null,"Gross_Winter kW/Unit",0,0,null,null,"Gross_Winter kW/Unit",0,null,null,null,null,"Gross_Winter kW/Unit",0]
[null,"MMBTU/Unit_BE",0,0,null,null,"MMBTU/Unit_BE",{"$f":"(H347-H345)*H350","v":0},null,null,null,null,"MMBTU/Unit_BE",0]
[null,"Lifetime",10,10,"ODC TRM",null,"Lifetime",8,"DSA TRM<----NYS TRM v8",null,null,null,"Lifetime",8]
[null,"GPMbase: Baseline flow rate",63.5,65.099999999999994,"ODC TRM",null,"Baseline FF efficiency:",0.82,"*TRM uses a 82% gas baseline for gas pool heaters",null,null,null,"HeatLoss; Heat Loss from Surface",28343.039999999997]
[null,"GPMee,HS: Installed high-speed flow rate",60.3,50,"ODC TRM",null,"Baseline demand kBTU/hr:",226,"NYS TRM",null,null,null,"EvapLoss; Evaporative Loss",352.54201707369538]
[null,"GPMee,LS: Installed low-speed flow rate",31.8,37.299999999999997,"ODC TRM",null,"Proposed COP:",5.9762259466169603,"DSA TRM<----DOE Heat Pump Pool Heaters",null,null,null,"Reheat; Yearly pool drainage and refill",1251.3537827999999]
[null,"WEFbase: Baseline weighted energy factor",2.14,1.9,"ODC TRM",null,"Proposed Annual Consumption MMBTU:",{"$f":"(H347*H342)/H344","v":5.0081774463267843},null,null,null,null,"No CoverUsage; Total usage with no cover",29946.935799873692]
[null,"WEFee: Installed weighted energy factor",3.81,5.56,"ODC TRM",null,"Annual hours:",149,"NYS TRM",null,null,null,"With CoverUsage",12204.435907683161]
[null,"FHS: High speed weighting factor",0.2,0.2,"NY TRMv7",null,"Baseline Annual Consupmtion MMBTU:",36.5,"DSA TRM<----NYS TRM v8",null,null,null,"Temppool",78]
[null,"FLS: Low speed weighting factor",0.8,0.8,"NY TRMv7",null,"Electric heater baseline efficiency :",1,"DSA TRM",null,null,null,"Tempair",70]
[null,"Operating days",122,122,"NY TRMv7",null,"Electric heater baseline consumption:",{"$f":"((H347*H342)/H348)/0.003412","v":8771.9812426729186},"DSA TRM",null,null,null,"TempIncomingCityWater",61.4]
[null,"hrsannual: Annual hours of operation",1464,1464,"NY TRMv7",null,"FFF: Fuel-fired heater fraction",0,"REC 2015 --> DSA TRM",null,null,null,"HoursperDay; Hours of Operation per Day",24]
[null,"hrsbase: Baseline daily hours of operation",11.4,11.4,"NY TRMv7",null,"FE: Electric heater fraction",1,"REC 2015 --> DSA TRM",null,null,null,"DaysperWeek; Days of Operation per Week",7]
[null,"hrsee,HS: Efficient daily hours of operation at high speed",2,2,"NY TRMv7",null,"Source: 2022 Program Planning Tool ",null,null,null,null,null,"WeeksperYear; Weeks of Operation per Year",17.428571428571427]
[null,"hrsee,LS: Efficient daily hours of operation at low speed",10,10,"NY TRMv7",null,null,null,null,null,null,null,"AreaPool; Pool Area",242]
[null,null,null,null,null,null,null,null,null,null,null,null,"Btu/hr ft^2 degree F",5]
[null,null,null,null,null,null,null,null,null,null,null,null,"Btu/lb F",1]
[null,null,null,null,null,null,null,null,null,null,null,null,"AF; Activity Factor (Pool water agitation)",0.5]
[null,null,null,null,null,null,null,null,null,null,null,null,"Satvaporpressure; Saturation vapor pressure (pool water)",0.97181982980799986]
[null,"Battery Operated Mowers",null,null,null,null,null,null,null,null,null,null,"Dew Pointvaporpressure; Partial vapor pressure at dew point",0.372378953796]
[null,"Measure Name","All Sizes","4-5Ah",">5Ah",null,null,null,null,null,null,null,"Usagecover; Hours of Cover Usage",12]
[null,"Gross_Summer Peak kW/unit",0,0,0,null,null,null,null,null,null,null,"Efficiencyheat loss",0.85]
[null,"Gross_EE kWh/unit",0,0,0,null,null,null,null,null,null,null,"Efficiencyevap",0.9]
[null,"MMBTU _EE",0,0,0,null,null,null,null,null,null,null,"AvgDepthPool ; Average depth of pool",5]
[null,"Gross_Winter kW",0,0,0,"*TVA program CF=0",null,null,null,null,null,null,"VolumePool; gallons",9038.6999999999989]
[null,"Gross_BE kWh",{"$f":"(C383*0.0778)+2.4","v":25.74},{"$f":"D379","v":19.575906},{"$f":"E379","v":29.647893999999997},null,null,null,null,null,null,null,"COPHeatPump; COP Efficiency of Heat Pump",5.9762259466169647]
[null,"MMBTU _BE",{"$f":"C370*C371*C372*C373/C374*0.120286-C364*[7]References!$D$12","v":0.39578596252768738},{"$f":"D368-D382","v":0.41105130840226717},{"$f":"E368-E382","v":0.37668568534626717},null,null,null,null,null,null,null,"Conversion factor, cubic feet per gallon",7.47]
[null,"Incremental Cost",0,0,0,null,null,null,null,null,null,null,"Conversion factor, one kBTU equals 1,000 BTU",1000]
[null,null,null,null,null,null,null,null,null,null,null,null,"Conversion factor, lbs per gallon of water",8.34]
[null,"Energy Equivalent of Baseline Fuel Usage per Year (MMBtu per year)",{"$f":"C369*C378","v":0.48362692456026063},{"$f":"D369*D378","v":0.47784429967426717},{"$f":"E369*E378","v":0.47784429967426717},null,null,null,null,null,null,null,"Conversion factor, kWh per kBTU",3.4119999999999999]
[null,"Fuel Usage of Baseline Equipment (gallons per year)",{"$f":"(C370*C371*C372*C373)/C374","v":4.0205081433224761},{"$f":"(D370*D371*D372*D373)/D374","v":3.9820358306188934},{"$f":"(E370*E371*E372*E373)/E374","v":3.9820358306188934},"Per California Air Resources Board. Annual Fuel Usage = (Brake specific Fuel consumption*Base Equipment Load Factor*Base Equipment Horsepower*Annual Hours Used)/ Fuel Density of Gasoline"]
[null,"Brake Specific Fuel Consumption Factor (lbs/hp-hr)",1.1060000000000001,1.1950000000000001,1.1950000000000001]
[null,"Load Factor of Baseline Equipment",0.36,0.33,0.33]
[null,"Horsepower of Baseline Equipment",4,4,4]
[null,"Annual Hours of Equipment Usage",15.5,15.5,15.5]
[null,"Fuel Density of Baseline Equipment Fuel (lbs/gallon)",6.14,6.14,6.14]
[null,"Energy Density of Gas (MJ/gallon)",115.83,115.83,115.83]
[null,"Energy Density of Electricity (MJ/kWh)",3.6,3.6,3.6]
[null,"kWh to MMBtu Conversion Factor",3.4120000000000001E-3,3.4120000000000001E-3,3.4120000000000001E-3]
[null,"gallons of Gasoline to MMBTU",0.12028999999999999,0.12,0.12]
[null,"Maximum Annual Energy Usage (kWh)",{"$f":"(C380*0.0778)+2.4","v":12.729506000000001},{"$f":"(D380*0.0778)+2.4","v":19.575906},{"$f":"(E380*0.0778)+2.4","v":29.647893999999997},"Equation per Department of Energy. for Class 6 batteries: (Avg Wh *.0778)+2.4"]
[null,"Rated Battery Energy (Wh)",132.77000000000001,220.77,350.23,"Average of data pulled manually"]
[null,"Average Charging Time (hrs)",2,2,2.46,"Average of data pulled manually"]
[null,"Maximum Annual Energy Usage - Equivalent MMBtu",{"$f":"C379*0.003412","v":4.3433074472000004E-2},{"$f":"D379*0.003412","v":6.6792991272000002E-2},{"$f":"E379*0.003412","v":0.101158614328}]
[null,"Ebattery (Wh)",300]
[null,"Source: 2022 Program Planning Tool "]
[]
[]
[]
[null,"Battery Operated Leaf Blowers"]
[null,"Measure Name","1 HP"]
[null,"Gross_Summer Peak kW/unit",0]
[null,"Gross_EE kWh/unit",0]
[null,"MMBTU _EE",0]
[null,"Gross_Winter kW",0]
[null,"Gross_BE kWh",{"$f":"C408","v":10.8}]
[null,"MMBTU _BE",{"$f":"C397-C411","v":0.11452269068403909}]
[null,"Incremental Cost",0]
[null,"Energy Equivalent of Baseline Fuel Usage per Year (MMBtu per year)",{"$f":"C398*C407","v":0.1513722906840391}]
[null,"Fuel Usage of Baseline Equipment (gallons per year)",{"$f":"(C399*C400*C401*C402)/C403","v":1.2584364820846905}]
[null,"Brake Specific Fuel Consumption Factor (lbs/hp-hr)",0.82199999999999995]
[null,"Load Factor of Baseline Equipment",0.94,"*LM Leaf Blower Electrification Analysis"]
[null,"Horsepower of Baseline Equipment",1]
[null,"Annual Hours of Equipment Usage",10]
[null,"Fuel Density of Baseline Equipment Fuel (lbs/gallon)",6.14]
[null,"Energy Density of Gas (MJ/gallon)",115.83]
[null,"Energy Density of Electricity (MJ/kWh)",3.6]
[null,"kWh to MMBtu Conversion Factor",3.4120000000000001E-3]
[null,"gallons of Gasoline to MMBTU",0.120286]
[null,"Maximum Annual Energy Usage (kWh)",{"$f":"C409*C402/1000","v":10.8}]
[null,"Rated Battery Energy (Wh)",1080]
[null,"Average Charging Time (hrs)",2,"*Refer LM Leaf Blower Electrification Analysis"]
[null,"Maximum Annual Energy Usage - Equivalent MMBtu",{"$f":"C408*[7]References!$D$12","v":3.6849600000000003E-2}]
[null,"BSFC: Brake specific fuel consumption factor (gallon/hp-hr)",0.13]
[null,"Source: 2022 Program Planning Tool "]
[]
[null,"Battery Operated Weed Trimmers"]
[null,"Measure Name","1 HP"]
[null,"Gross_Summer Peak kW/unit",0]
[null,"Gross_EE kWh/unit",0]
[null,"MMBTU _EE",0]
[null,"Gross_Winter kW",0]
[null,"Gross_BE kWh",{"$f":"C436","v":4.7249999999999996}]
[null,"MMBTU _BE",{"$f":"C429*C428*C430*C427*0.120333-C421*[7]References!$D$12","v":0.11581696709120486}]
[null,"Incremental Cost",0]
[]
[null,"Energy Equivalent of Baseline Fuel Usage per Year (MMBtu per year)",{"$f":"C426*C435","v":2.1428917017687139E-2}]
[null,"Fuel Usage of Baseline Equipment (gallons per year)",{"$f":"(C427*C428*C429*C430)/C431","v":0.17857430848072617}]
[null,"Brake Specific Fuel Consumption Factor (gal/hp-hr)",0.133876221498371,"*LM Trimmer Electrification Analysis"]
[null,"Load Factor of Baseline Equipment",0.91]
[null,"Horsepower of Baseline Equipment",1]
[null,"Annual Hours of Equipment Usage",9]
[null,"Fuel Density of Baseline Equipment Fuel (lbs/gallon)",6.14]
[null,"Energy Density of Gas (MJ/gallon)",115.83]
[null,"Energy Density of Electricity (MJ/kWh)",3.6]
[null,"kWh to MMBtu Conversion Factor",3.4120000000000001E-3]
[null,"gallons of Gasoline to MMBTU",0.12]
[null,"Maximum Annual Energy Usage (kWh)",{"$f":"C437*C430/1000","v":4.7249999999999996}]
[null,"Rated Battery Energy (Wh)",525,"*Refer LM Trimmer Electrification Analysis"]
[null,"Average Charging Time (hrs)",2]
[null,"Maximum Annual Energy Usage - Equivalent MMBtu",{"$f":"C436*0.003412","v":1.6121699999999999E-2}]
[null,"Source: 2022 Program Planning Tool "]
[]
[null,"ME Refrigerators"]
[null,"Measure Name","ME Refrigerators","Assumptions"]
[null,"Units/Measure",1,"Avg Size (cf)",19.3]
[null,"Incremental Cost",140,"Adjusted Volume (cf)",23.5]
[null,"EE kWh/Unit",{"$f":"(E453-E454)*E447*E455","v":47.034000000000006},"Summer CF",1]
[null,"Summer Peak kW/Unit",{"$f":"((E453-E454)*E448)/E456","v":7.6283732876712331E-3},"HVACEnergy",{"$f":"1-0.196","v":0.80400000000000005}]
[null,"therm/Unit",{"$f":"IF(C454=\"Yes\",C446*3412*C457/100000,0)","v":0},"HVACDemand",{"$f":"1+0.1423","v":1.1423000000000001}]
[null,"MMBTU/Unit_EE",{"$f":"(C446*(E449+E450+E451))+(C446*[7]References!$D$12)","v":0.16048000800000004},"HVACg",0,"*All Electric"]
[null,"Gross_BE kWh/Unit",0,"HVACo",0,"*All Electric"]
[null,"Gross_Winter kW/Unit",{"$f":"((E453-E454))/E456","v":6.6780821917808222E-3},"HVACp",0,"*All Electric"]
[null,"MMBTU/Unit_BE",0,"Adjusted Volume (cf)",{"$f":"(0.6857*E444)+(1.76*E444*(1-0.6857))","v":23.910152400000001}]
[null,"Lifetime",14,"kWh_Baseline",494.8]
[null,"Interactivity Included?","Yes","kWh_Efficient",436.3]
[null,"HVAC_d",null,"Occupancy Factor",1]
[null,"HVAC_e",null,"Operating Hours",8760]
[null,"HVAC_g"]
[null,"Source: 2022  Planning Tool "]
[]
[null,"ES Refrigerators"]
[null,"Measure Name","ES Refrigerators","Assumptions"]
[null,"Units/Measure",1,"Avg Size (cf)",21.7,"ODC TRM"]
[null,"Incremental Cost",140,"Operating Hours",8760]
[]
[null,"Gross_kWh/Unit",{"$f":"(E469-E470)*E466*E471","v":47.034000000000006},"Summer CF",1,"ODC<--NYS TRMv7"]
[null,"Gross_kW/Unit",{"$f":"((E469-E470)/E463)*E467","v":7.628373287671234E-3},"HVACEnergy",0.80400000000000005,"ODC TRM"]
[null,null,null,"HVACDemand",1.1423000000000001,"ODC TRM"]
[null,"EUL",14,"Adjusted Volume (cf)",23.5,"*All Electric"]
[null,"EE MMBTU",{"$f":"C465*[7]References!$D$12","v":0.16048000800000004},"kWh_Baseline",494.8,"*All Electric"]
[null,"BE MMBTU",0,"kWh_Efficient",436.3,"*All Electric"]
[null,"BE kWh",null,"Occupancy Factor",1,"ODC TRM"]
[null,"Winter kW",null,null,null,"ODC TRM"]
[null,"EUL",14,"kWh_Efficient",436.3,"ODC TRM "]
[null,"Source: 2022  Planning Tool ",null,"Occupancy Factor",1,"ODC<--NYS TRMv7"]
[]
[]
[null,"ES Clothes Washer"]
[null,"ES Clothes Washer"]
[null,"Gross_EE kWh/Unit",{"$f":"C488+(C489*C491)+(C490*C492)","v":232.9344929681717}]
[null,"Gross_Summer Peak kW/Unit",{"$f":"C479/C499","v":0.78960845073956509}]
[null,"therm/Unit"]
[null,"MMBTU/Unit_EE",{"$f":"(C493*(C494+C495+C496))+(C497*C498)+(C479*[7]References!$D$12)","v":0.7947724900074018}]
[null,"Gross_BE kWh/Unit",0]
[null,"Gross_Winter kW/Unit",{"$f":"C479/C499","v":0.78960845073956509}]
[null,"MMBTU/Unit_BE",0,null,null,null,null,null,null,null,null,null,null,"Sum of Product Quantity","kWh washer","Elec. DHW","Gas DHW","Elec. Dryer","Gas Dryer"]
[null,"Lifetime",11,null,null,null,null,null,null,null,null,null,"ES FL <2.5",27,4,15,0.7,19,0.7]
[null,null,null,null,null,null,null,null,null,null,null,null,"ES FL >2.5",2952,6,35,1.6,169,6.5]
[null,"kWh Svgs_Washer",6,null,null,null,null,null,null,null,null,null,"ES TL <2.5",4,4,17,0.8,75,2.9]
[null,"kWh Svgs_Elec Wtr Ht",38.993708364174701,null,null,null,null,null,null,null,null,null,"ES TL >2.5",0,12,46,2.1,144,5.5]
[null,"kWh Svgs_Elec Drying",187.940784603997,null,null,null,null,null,null,null,null,null,null,2983,{"$f":"SUMPRODUCT(O486:O489,$N$486:$N$489)/$N$490","v":5.979215554810593},{"$f":"SUMPRODUCT(P486:P489,$N$486:$N$489)/$N$490","v":34.794837412001343},{"$f":"SUMPRODUCT(Q486:Q489,$N$486:$N$489)/$N$490","v":1.5907810928595372},{"$f":"SUMPRODUCT(R486:R489,$N$486:$N$489)/$N$490","v":167.51625879986591},{"$f":"SUMPRODUCT(S486:S489,$N$486:$N$489)/$N$490","v":6.4426751592356686}]
[null,"Elec Wtr Htr Factor",1,null,null,null,null,null,null,null,null,null,"Source: Washers_Non-ME / 2021 ODC TRM"]
[null,"Elec Dryer Factor",1]
[null,"MMBTU Svgs_FF Wtr Ht",0.18]
[null,"Gas Wtr Htr Factor",0]
[null,"Oil Wtr Htr Factor",0]
[null,"Prop Wtr Htr Factor",0]
[null,"MMBTU Svgs_Gas Drying",0.71977424130273904]
[null,"Gas Dryer Factor",0]
[null,"Hours of Operation",295]
[null,"CF: Coincidence Factor",2.9000000000000001E-2]
[null,"Source: 2022  Planning Tool "]
[]
[]
[null,"Energy Star Dishwasher"]
[null,"Gross_EE_kWh/Unit",{"$f":"((C513-C514)*(1-C517))+((C513-C514)*C517*C516)","v":37}]
[null,"Summer Peak kW/Unit",{"$f":"C505/C518","v":0.12292358803986711}]
[null,"therm/Unit"]
[null,"MMBTU/Unit_EE",{"$f":"((C513-C514)*C517*(C519+C520+C521)*C522/C523*3412/1000000)+(C505*[7]References!D12)","v":0.126244}]
[null,"Gross_BE kWh/Unit",0]
[null,"Gross_Winter kW/Unit",{"$f":"C505/C518","v":0.12292358803986711}]
[null,"MMBTU/Unit_BE",0]
[null,"EUL",11]
[null,"Conventional Unit",307]
[null,"Most Efficient Unit",270]
[]
[null,"ElecSF",1]
[null,"% of Energy Used",0.56000000000000005]
[null,"Annual Hours",301]
[null,"% of homes w/ Gas",0]
[null,"% of homes w/ Oil",0]
[null,"% of homes w/ Propane",0]
[null,"Recovery efficiency",0.98]
[null,"Recovery efficiency",0.75]
[null,"CF",2.9000000000000001E-2]
[null,"*Washers_Non-ME"]
[null,"Source: 2022  Planning Tool "]

{"sheet":"Appliances Inspection Form","index":14,"n_rows":342,"n_cols":21,"rows_kept":342,"cut":false,"hidden":true,"merged":[[327,13,327,14],[328,13,328,14],[329,13,329,14],[330,13,330,14],[331,13,331,14],[332,13,332,14],[333,13,333,14],[334,13,334,14],[335,13,335,14],[336,13,336,14],[337,13,337,14],[338,13,338,14],[339,13,339,14],[340,13,340,14],[341,13,341,14],[3,2,3,5],[5,2,5,5],[6,2,6,5],[7,2,7,5],[8,2,8,5],[9,2,9,5],[10,2,10,5],[310,13,310,14],[311,13,311,14],[312,13,312,14],[313,13,313,14],[314,13,314,14],[315,13,315,14],[316,13,316,14],[317,13,317,14],[318,13,318,14],[319,13,319,14],[321,13,321,14],[322,13,322,14],[323,13,323,14],[324,13,324,14],[325,13,325,14],[326,13,326,14],[293,13,293,14],[294,13,294,14],[295,13,295,14],[296,13,296,14],[297,13,297,14],[298,13,298,14],[299,13,299,14],[300,13,300,14],[301,13,301,14],[302,13,302,14],[303,13,303,14],[304,13,304,14],[305,13,305,14],[306,13,306,14],[307,13,307,14],[308,13,308,14],[309,13,309,14],[277,13,277,14],[278,13,278,14],[279,13,279,14],[280,13,280,14],[281,13,281,14],[282,13,282,14],[283,13,283,14],[284,13,284,14],[285,13,285,14],[286,13,286,14],[287,13,287,14],[288,13,288,14],[289,13,289,14],[290,13,290,14],[291,13,291,14],[292,13,292,14],[320,13,320,14],[260,13,260,14],[261,13,261,14],[262,13,262,14],[263,13,263,14],[264,13,264,14],[265,13,265,14],[266,13,266,14],[267,13,267,14],[268,13,268,14],[269,13,269,14],[270,13,270,14],[271,13,271,14],[272,13,272,14],[273,13,273,14],[274,13,274,14],[275,13,275,14],[276,13,276,14],[243,13,243,14],[244,13,244,14],[245,13,245,14],[246,13,246,14],[247,13,247,14],[248,13,248,14],[249,13,249,14],[250,13,250,14],[251,13,251,14],[252,13,252,14],[253,13,253,14],[254,13,254,14],[255,13,255,14],[256,13,256,14],[257,13,257,14],[258,13,258,14],[259,13,259,14],[226,13,226,14],[227,13,227,14],[228,13,228,14],[229,13,229,14],[230,13,230,14],[231,13,231,14],[232,13,232,14],[233,13,233,14],[234,13,234,14],[235,13,235,14],[236,13,236,14],[237,13,237,14],[238,13,238,14],[239,13,239,14],[240,13,240,14],[241,13,241,14],[242,13,242,14],[209,13,209,14],[210,13,210,14],[211,13,211,14],[212,13,212,14],[213,13,213,14],[214,13,214,14],[215,13,215,14],[216,13,216,14],[217,13,217,14],[218,13,218,14],[219,13,219,14],[220,13,220,14],[221,13,221,14],[222,13,222,14],[223,13,223,14],[224,13,224,14],[225,13,225,14],[192,13,192,14],[193,13,193,14],[194,13,194,14],[195,13,195,14],[196,13,196,14],[197,13,197,14],[198,13,198,14],[199,13,199,14],[200,13,200,14],[201,13,201,14],[202,13,202,14],[203,13,203,14],[204,13,204,14],[205,13,205,14],[206,13,206,14],[207,13,207,14],[208,13,208,14],[175,13,175,14],[176,13,176,14],[177,13,177,14],[178,13,178,14],[179,13,179,14],[180,13,180,14],[181,13,181,14],[182,13,182,14],[183,13,183,14],[184,13,184,14],[185,13,185,14],[186,13,186,14],[187,13,187,14],[188,13,188,14],[189,13,189,14],[190,13,190,14],[191,13,191,14],[158,13,158,14],[159,13,159,14],[160,13,160,14],[161,13,161,14],[162,13,162,14],[163,13,163,14],[164,13,164,14],[165,13,165,14],[166,13,166,14],[167,13,167,14],[168,13,168,14],[169,13,169,14],[170,13,170,14],[171,13,171,14],[172,13,172,14],[173,13,173,14],[174,13,174,14],[141,13,141,14],[142,13,142,14],[143,13,143,14],[144,13,144,14],[145,13,145,14],[146,13,146,14],[147,13,147,14],[148,13,148,14],[149,13,149,14],[150,13,150,14],[151,13,151,14],[152,13,152,14],[153,13,153,14],[154,13,154,14],[155,13,155,14],[156,13,156,14],[157,13,157,14],[124,13,124,14],[125,13,125,14],[126,13,126,14],[127,13,127,14],[128,13,128,14],[129,13,129,14],[130,13,130,14],[131,13,131,14],[132,13,132,14],[133,13,133,14],[134,13,134,14],[135,13,135,14],[136,13,136,14],[137,13,137,14],[138,13,138,14],[139,13,139,14],[140,13,140,14],[107,13,107,14],[108,13,108,14],[109,13,109,14],[110,13,110,14],[111,13,111,14],[112,13,112,14],[113,13,113,14],[114,13,114,14],[115,13,115,14],[116,13,116,14],[117,13,117,14],[118,13,118,14],[119,13,119,14],[120,13,120,14],[121,13,121,14],[122,13,122,14],[123,13,123,14],[90,13,90,14],[91,13,91,14],[92,13,92,14],[93,13,93,14],[94,13,94,14],[95,13,95,14],[96,13,96,14],[97,13,97,14],[98,13,98,14],[99,13,99,14],[100,13,100,14],[101,13,101,14],[102,13,102,14],[103,13,103,14],[104,13,104,14],[105,13,105,14],[106,13,106,14],[73,13,73,14],[74,13,74,14],[75,13,75,14],[76,13,76,14],[77,13,77,14],[78,13,78,14],[79,13,79,14],[80,13,80,14],[81,13,81,14],[82,13,82,14],[83,13,83,14],[84,13,84,14],[85,13,85,14],[86,13,86,14],[87,13,87,14],[88,13,88,14],[89,13,89,14],[56,13,56,14],[57,13,57,14],[58,13,58,14],[59,13,59,14],[60,13,60,14],[61,13,61,14],[62,13,62,14],[63,13,63,14],[64,13,64,14],[65,13,65,14],[66,13,66,14],[67,13,67,14],[68,13,68,14],[69,13,69,14],[70,13,70,14],[71,13,71,14],[72,13,72,14],[39,13,39,14],[40,13,40,14],[41,13,41,14],[42,13,42,14],[43,13,43,14],[44,13,44,14],[45,13,45,14],[46,13,46,14],[47,13,47,14],[48,13,48,14],[49,13,49,14],[50,13,50,14],[51,13,51,14],[52,13,52,14],[53,13,53,14],[54,13,54,14],[55,13,55,14],[37,9,37,12],[37,15,37,16],[37,17,37,18],[37,1,37,2],[37,3,37,8],[5,13,5,15],[5,18,5,20],[7,13,7,15],[7,18,7,20],[9,13,9,15],[9,18,9,20],[37,13,37,14],[53,1,53,2],[54,1,54,2],[55,1,55,2],[56,1,56,2],[38,3,38,8],[39,3,39,8],[40,3,40,8],[41,3,41,8],[42,3,42,8],[48,3,48,8],[49,3,49,8],[50,3,50,8],[51,3,51,8],[52,3,52,8],[43,3,43,8],[44,3,44,8],[45,3,45,8],[46,3,46,8],[47,3,47,8],[38,13,38,14],[57,1,57,2],[48,1,48,2],[49,1,49,2],[50,1,50,2],[51,1,51,2],[52,1,52,2],[43,1,43,2],[44,1,44,2],[45,1,45,2],[46,1,46,2],[47,1,47,2],[38,1,38,2],[39,1,39,2],[40,1,40,2],[41,1,41,2],[42,1,42,2],[73,1,73,2],[74,1,74,2],[75,1,75,2],[76,1,76,2],[77,1,77,2],[68,1,68,2],[69,1,69,2],[70,1,70,2],[71,1,71,2],[72,1,72,2],[63,1,63,2],[64,1,64,2],[65,1,65,2],[66,1,66,2],[67,1,67,2],[58,1,58,2],[59,1,59,2],[60,1,60,2],[61,1,61,2],[62,1,62,2],[93,1,93,2],[94,1,94,2],[95,1,95,2],[96,1,96,2],[97,1,97,2],[88,1,88,2],[89,1,89,2],[90,1,90,2],[91,1,91,2],[92,1,92,2],[83,1,83,2],[84,1,84,2],[85,1,85,2],[86,1,86,2],[87,1,87,2],[78,1,78,2],[79,1,79,2],[80,1,80,2],[81,1,81,2],[82,1,82,2],[113,1,113,2],[114,1,114,2],[115,1,115,2],[116,1,116,2],[117,1,117,2],[108,1,108,2],[109,1,109,2],[110,1,110,2],[111,1,111,2],[112,1,112,2],[103,1,103,2],[104,1,104,2],[105,1,105,2],[106,1,106,2],[107,1,107,2],[98,1,98,2],[99,1,99,2],[100,1,100,2],[101,1,101,2],[102,1,102,2],[133,1,133,2],[134,1,134,2],[135,1,135,2],[136,1,136,2],[137,1,137,2],[128,1,128,2],[129,1,129,2],[130,1,130,2],[131,1,131,2],[132,1,132,2],[123,1,123,2],[124,1,124,2],[125,1,125,2],[126,1,126,2],[127,1,127,2],[118,1,118,2],[119,1,119,2],[120,1,120,2],[121,1,121,2],[122,1,122,2],[153,1,153,2],[154,1,154,2],[155,1,155,2],[156,1,156,2],[157,1,157,2],[148,1,148,2],[149,1,149,2],[150,1,150,2],[151,1,151,2],[152,1,152,2],[143,1,143,2],[144,1,144,2],[145,1,145,2],[146,1,146,2],[147,1,147,2],[138,1,138,2],[139,1,139,2],[140,1,140,2],[141,1,141,2],[142,1,142,2],[173,1,173,2],[174,1,174,2],[175,1,175,2],[176,1,176,2],[177,1,177,2],[168,1,168,2],[169,1,169,2],[170,1,170,2],[171,1,171,2],[172,1,172,2],[163,1,163,2],[164,1,164,2],[165,1,165,2],[166,1,166,2],[167,1,167,2],[158,1,158,2],[159,1,159,2],[160,1,160,2],[161,1,161,2],[162,1,162,2],[193,1,193,2],[194,1,194,2],[195,1,195,2],[196,1,196,2],[197,1,197,2],[188,1,188,2],[189,1,189,2],[190,1,190,2],[191,1,191,2],[192,1,192,2],[183,1,183,2],[184,1,184,2],[185,1,185,2],[186,1,186,2],[187,1,187,2],[178,1,178,2],[179,1,179,2],[180,1,180,2],[181,1,181,2],[182,1,182,2],[213,1,213,2],[214,1,214,2],[215,1,215,2],[216,1,216,2],[217,1,217,2],[208,1,208,2],[209,1,209,2],[210,1,210,2],[211,1,211,2],[212,1,212,2],[203,1,203,2],[204,1,204,2],[205,1,205,2],[206,1,206,2],[207,1,207,2],[198,1,198,2],[199,1,199,2],[200,1,200,2],[201,1,201,2],[202,1,202,2],[233,1,233,2],[234,1,234,2],[235,1,235,2],[236,1,236,2],[237,1,237,2],[228,1,228,2],[229,1,229,2],[230,1,230,2],[231,1,231,2],[232,1,232,2],[223,1,223,2],[224,1,224,2],[225,1,225,2],[226,1,226,2],[227,1,227,2],[218,1,218,2],[219,1,219,2],[220,1,220,2],[221,1,221,2],[222,1,222,2],[253,1,253,2],[254,1,254,2],[255,1,255,2],[256,1,256,2],[257,1,257,2],[248,1,248,2],[249,1,249,2],[250,1,250,2],[251,1,251,2],[252,1,252,2],[243,1,243,2],[244,1,244,2],[245,1,245,2],[246,1,246,2],[247,1,247,2],[238,1,238,2],[239,1,239,2],[240,1,240,2],[241,1,241,2],[242,1,242,2],[273,1,273,2],[274,1,274,2],[275,1,275,2],[276,1,276,2],[277,1,277,2],[268,1,268,2],[269,1,269,2],[270,1,270,2],[271,1,271,2],[272,1,272,2],[263,1,263,2],[264,1,264,2],[265,1,265,2],[266,1,266,2],[267,1,267,2],[258,1,258,2],[259,1,259,2],[260,1,260,2],[261,1,261,2],[262,1,262,2],[293,1,293,2],[294,1,294,2],[295,1,295,2],[296,1,296,2],[297,1,297,2],[288,1,288,2],[289,1,289,2],[290,1,290,2],[291,1,291,2],[292,1,292,2],[283,1,283,2],[284,1,284,2],[285,1,285,2],[286,1,286,2],[287,1,287,2],[278,1,278,2],[279,1,279,2],[280,1,280,2],[281,1,281,2],[282,1,282,2],[315,1,315,2],[316,1,316,2],[317,1,317,2],[308,1,308,2],[309,1,309,2],[310,1,310,2],[311,1,311,2],[312,1,312,2],[303,1,303,2],[304,1,304,2],[305,1,305,2],[306,1,306,2],[307,1,307,2],[298,1,298,2],[299,1,299,2],[300,1,300,2],[301,1,301,2],[302,1,302,2],[338,1,338,2],[339,1,339,2],[340,1,340,2],[341,1,341,2],[342,1,342,2],[333,1,333,2],[334,1,334,2],[335,1,335,2],[336,1,336,2],[337,1,337,2],[328,1,328,2],[329,1,329,2],[330,1,330,2],[331,1,331,2],[332,1,332,2],[323,1,323,2],[324,1,324,2],[325,1,325,2],[326,1,326,2],[327,1,327,2],[318,1,318,2],[319,1,319,2],[320,1,320,2],[321,1,321,2],[322,1,322,2],[313,1,313,2],[314,1,314,2],[58,3,58,8],[59,3,59,8],[60,3,60,8],[61,3,61,8],[62,3,62,8],[53,3,53,8],[54,3,54,8],[55,3,55,8],[56,3,56,8],[57,3,57,8],[78,3,78,8],[79,3,79,8],[80,3,80,8],[81,3,81,8],[82,3,82,8],[73,3,73,8],[74,3,74,8],[75,3,75,8],[76,3,76,8],[77,3,77,8],[68,3,68,8],[69,3,69,8],[70,3,70,8],[71,3,71,8],[72,3,72,8],[63,3,63,8],[64,3,64,8],[65,3,65,8],[66,3,66,8],[67,3,67,8],[98,3,98,8],[99,3,99,8],[100,3,100,8],[101,3,101,8],[102,3,102,8],[93,3,93,8],[94,3,94,8],[95,3,95,8],[96,3,96,8],[97,3,97,8],[88,3,88,8],[89,3,89,8],[90,3,90,8],[91,3,91,8],[92,3,92,8],[83,3,83,8],[84,3,84,8],[85,3,85,8],[86,3,86,8],[87,3,87,8],[118,3,118,8],[119,3,119,8],[120,3,120,8],[121,3,121,8],[122,3,122,8],[113,3,113,8],[114,3,114,8],[115,3,115,8],[116,3,116,8],[117,3,117,8],[108,3,108,8],[109,3,109,8],[110,3,110,8],[111,3,111,8],[112,3,112,8],[103,3,103,8],[104,3,104,8],[105,3,105,8],[106,3,106,8],[107,3,107,8],[138,3,138,8],[139,3,139,8],[140,3,140,8],[141,3,141,8],[142,3,142,8],[133,3,133,8],[134,3,134,8],[135,3,135,8],[136,3,136,8],[137,3,137,8],[128,3,128,8],[129,3,129,8],[130,3,130,8],[131,3,131,8],[132,3,132,8],[123,3,123,8],[124,3,124,8],[125,3,125,8],[126,3,126,8],[127,3,127,8],[158,3,158,8],[159,3,159,8],[160,3,160,8],[161,3,161,8],[162,3,162,8],[153,3,153,8],[154,3,154,8],[155,3,155,8],[156,3,156,8],[157,3,157,8],[148,3,148,8],[149,3,149,8],[150,3,150,8],[151,3,151,8],[152,3,152,8],[143,3,143,8],[144,3,144,8],[145,3,145,8],[146,3,146,8],[147,3,147,8],[178,3,178,8],[179,3,179,8],[180,3,180,8],[181,3,181,8],[182,3,182,8],[173,3,173,8],[174,3,174,8],[175,3,175,8],[176,3,176,8],[177,3,177,8],[168,3,168,8],[169,3,169,8],[170,3,170,8],[171,3,171,8],[172,3,172,8],[163,3,163,8],[164,3,164,8],[165,3,165,8],[166,3,166,8],[167,3,167,8],[198,3,198,8],[199,3,199,8],[200,3,200,8],[201,3,201,8],[202,3,202,8],[193,3,193,8],[194,3,194,8],[195,3,195,8],[196,3,196,8],[197,3,197,8],[188,3,188,8],[189,3,189,8],[190,3,190,8],[191,3,191,8],[192,3,192,8],[183,3,183,8],[184,3,184,8],[185,3,185,8],[186,3,186,8],[187,3,187,8],[218,3,218,8],[219,3,219,8],[220,3,220,8],[221,3,221,8],[222,3,222,8],[213,3,213,8],[214,3,214,8],[215,3,215,8],[216,3,216,8],[217,3,217,8],[208,3,208,8],[209,3,209,8],[210,3,210,8],[211,3,211,8],[212,3,212,8],[203,3,203,8],[204,3,204,8],[205,3,205,8],[206,3,206,8],[207,3,207,8],[238,3,238,8],[239,3,239,8],[240,3,240,8],[241,3,241,8],[242,3,242,8],[233,3,233,8],[234,3,234,8],[235,3,235,8],[236,3,236,8],[237,3,237,8],[228,3,228,8],[229,3,229,8],[230,3,230,8],[231,3,231,8],[232,3,232,8],[223,3,223,8],[224,3,224,8],[225,3,225,8],[226,3,226,8],[227,3,227,8],[258,3,258,8],[259,3,259,8],[260,3,260,8],[261,3,261,8],[262,3,262,8],[253,3,253,8],[254,3,254,8],[255,3,255,8],[256,3,256,8],[257,3,257,8],[248,3,248,8],[249,3,249,8],[250,3,250,8],[251,3,251,8],[252,3,252,8],[243,3,243,8],[244,3,244,8],[245,3,245,8],[246,3,246,8],[247,3,247,8],[278,3,278,8],[279,3,279,8],[280,3,280,8],[281,3,281,8],[282,3,282,8],[273,3,273,8],[274,3,274,8],[275,3,275,8],[276,3,276,8],[277,3,277,8],[268,3,268,8],[269,3,269,8],[270,3,270,8],[271,3,271,8],[272,3,272,8],[263,3,263,8],[264,3,264,8],[265,3,265,8],[266,3,266,8],[267,3,267,8],[298,3,298,8],[299,3,299,8],[300,3,300,8],[301,3,301,8],[302,3,302,8],[293,3,293,8],[294,3,294,8],[295,3,295,8],[296,3,296,8],[297,3,297,8],[288,3,288,8],[289,3,289,8],[290,3,290,8],[291,3,291,8],[292,3,292,8],[283,3,283,8],[284,3,284,8],[285,3,285,8],[286,3,286,8],[287,3,287,8],[319,3,319,8],[320,3,320,8],[321,3,321,8],[322,3,322,8],[313,3,313,8],[314,3,314,8],[315,3,315,8],[316,3,316,8],[317,3,317,8],[308,3,308,8],[309,3,309,8],[310,3,310,8],[311,3,311,8],[312,3,312,8],[303,3,303,8],[304,3,304,8],[305,3,305,8],[306,3,306,8],[307,3,307,8],[338,3,338,8],[339,3,339,8],[340,3,340,8],[341,3,341,8],[38,9,38,12],[39,9,39,12],[40,9,40,12],[41,9,41,12],[42,9,42,12],[43,9,43,12],[44,9,44,12],[45,9,45,12],[46,9,46,12],[47,9,47,12],[48,9,48,12],[49,9,49,12],[333,3,333,8],[334,3,334,8],[335,3,335,8],[336,3,336,8],[337,3,337,8],[328,3,328,8],[329,3,329,8],[330,3,330,8],[331,3,331,8],[332,3,332,8],[323,3,323,8],[324,3,324,8],[325,3,325,8],[326,3,326,8],[327,3,327,8],[318,3,318,8],[65,9,65,12],[66,9,66,12],[67,9,67,12],[68,9,68,12],[69,9,69,12],[60,9,60,12],[61,9,61,12],[62,9,62,12],[63,9,63,12],[64,9,64,12],[55,9,55,12],[56,9,56,12],[57,9,57,12],[58,9,58,12],[59,9,59,12],[50,9,50,12],[51,9,51,12],[52,9,52,12],[53,9,53,12],[54,9,54,12],[85,9,85,12],[86,9,86,12],[87,9,87,12],[88,9,88,12],[89,9,89,12],[80,9,80,12],[81,9,81,12],[82,9,82,12],[83,9,83,12],[84,9,84,12],[75,9,75,12],[76,9,76,12],[77,9,77,12],[78,9,78,12],[79,9,79,12],[70,9,70,12],[71,9,71,12],[72,9,72,12],[73,9,73,12],[74,9,74,12],[105,9,105,12],[106,9,106,12],[107,9,107,12],[108,9,108,12],[109,9,109,12],[100,9,100,12],[101,9,101,12],[102,9,102,12],[103,9,103,12],[104,9,104,12],[95,9,95,12],[96,9,96,12],[97,9,97,12],[98,9,98,12],[99,9,99,12],[90,9,90,12]],"merged_total":2150,"flags":["merged_cut"]}
[null,{"$f":"Development!A3&\" All Electric Homes\"","v":"2023 All Electric Homes"}]
[null,{"$f":"Development!A1&\", \"&Development!A3&\" version - \"&Development!A2","v":"All Electric Homes, 2023 version - 1.0"}]
[]
[null,"Project ID : ",{"$f":"IF('Customer Information'!L48=\"\",\"\",'Customer Information'!L48)","v":""},null,null,null,null,null,null,null,"Confirmation and Screening Questions"]
[]
[null,"Customer Name : ",{"$f":"IF('Customer Information'!C6=\"\",\"\",'Customer Information'!C6)","v":""},null,null,null,null,null,null,null,null,null,"Inspector Name:",null,null,null,null,"Signature :"]
[null,"Installation Address : ",{"$f":"IF('Customer Information'!C7=\"\",\"\",'Customer Information'!C7)","v":""}]
[null,"City, Zip : ",{"$f":"IF('Customer Information'!I7=\"\",\"\",'Customer Information'!I7)","v":""},null,null,null,null,null,null,null,null,null,"Inspector Company Name:",null,null,null,null,"Date:"]
[null,"Alternate Contact : ",{"$f":"IF('Customer Information'!C10=\"\",\"\",'Customer Information'!C10)","v":""}]
[null,"Phone : ",{"$f":"IF('Customer Information'!K10=\"\",\"\",'Customer Information'!K10)","v":""},null,null,null,null,null,null,null,null,null,"Customer Name:",null,null,null,null,"Customer Signature:"]
[null,"Building Type:",{"$f":"IF('Site Information'!C6=\"\",\"\",'Site Information'!C6)","v":"Select…"}]
[null,null,null,null,null,null,null,null,null,null,"Was the selected Building Type appropriate for this facility?"]
[null,null,null,null,null,null,null,null,null,null,null,null,null,null,null,null,""]
[null,null,null,null,null,null,null,null,null,null,"1. Have you or any family member traveled to a country for which the CDC has issued a Level 2 or 3 travel designation within the last 14 days?"]
[]
[]
[null,null,null,null,null,null,null,null,null,null,"2. Have you or any family member traveled or had contact with any Persons Under Investigation (PUIs) for COVID-19 within the last 14 days, OR with anyone with known COVID-19?"]
[]
[]
[null,null,null,null,null,null,null,null,null,null,"3. Do you or any family member have any symptoms of a fever or respiratory infection (e.g., cough, sore throat, fever, or shortness of breath)?"]
[]
[]
[null,null,null,null,null,null,null,null,null,null,"IF ANY QUESTION IS RESPONDED TO WITH A YES, YOU CANNOT PROCEED AND WILL NEED TO RESCHEDULE THE APPOINTMENT"]
[null,null,null,null,null,null,null,null,null,null,null,null,null,null,null,null," "]
[]
[]
[]
[]
[]
[]
[]
[]
[]
[]
[]
[]
[]
[null,"Location/Designation","Proposed/Installed Product Description","Proposed/Installed Product Description",null,null,null,null,null,"Manufacturer",null,null,null,"Model Number",null,"Quantity",null,"Verified",null,null,"Notes"]
[null,null,null,{"$f":"IF('Appliances Worksheet'!E20=\"\",NA(),INDEX('Appliances References'!$O$5:$O$35,MATCH(RIGHT('Appliance Calculations'!A2,8),'Appliances References'!$N$5:$N$35,0)))","v":{"$error":"#N/A"}},null,null,null,null,null,{"$f":"IF('Appliances Worksheet'!L20=\"\",\"\",'Appliances Worksheet'!L20)","v":""},null,null,null,{"$f":"IF('Appliances Worksheet'!O20=\"\",\"\",'Appliances Worksheet'!O20)","v":""},null,{"$f":"IF('Appliances Worksheet'!E20=\"\",\"\",'Appliances Worksheet'!E20)","v":""}]
[null,null,null,{"$f":"IF('Appliances Worksheet'!E21=\"\",NA(),INDEX('Appliances References'!$O$5:$O$35,MATCH(RIGHT('Appliance Calculations'!A3,8),'Appliances References'!$N$5:$N$35,0)))","v":{"$error":"#N/A"}},null,null,null,null,null,{"$f":"IF('Appliances Worksheet'!L21=\"\",\"\",'Appliances Worksheet'!L21)","v":""},null,null,null,{"$f":"IF('Appliances Worksheet'!O21=\"\",\"\",'Appliances Worksheet'!O21)","v":""},null,{"$f":"IF('Appliances Worksheet'!E21=\"\",\"\",'Appliances Worksheet'!E21)","v":""}]
[null,null,null,{"$f":"IF('Appliances Worksheet'!E22=\"\",NA(),INDEX('Appliances References'!$O$5:$O$35,MATCH(RIGHT('Appliance Calculations'!A4,8),'Appliances References'!$N$5:$N$35,0)))","v":{"$error":"#N/A"}},null,null,null,null,null,{"$f":"IF('Appliances Worksheet'!L22=\"\",\"\",'Appliances Worksheet'!L22)","v":""},null,null,null,{"$f":"IF('Appliances Worksheet'!O22=\"\",\"\",'Appliances Worksheet'!O22)","v":""},null,{"$f":"IF('Appliances Worksheet'!E22=\"\",\"\",'Appliances Worksheet'!E22)","v":""}]
[null,null,null,{"$f":"IF('Appliances Worksheet'!E23=\"\",NA(),INDEX('Appliances References'!$O$5:$O$35,MATCH(RIGHT('Appliance Calculations'!A5,8),'Appliances References'!$N$5:$N$35,0)))","v":{"$error":"#N/A"}},null,null,null,null,null,{"$f":"IF('Appliances Worksheet'!L23=\"\",\"\",'Appliances Worksheet'!L23)","v":""},null,null,null,{"$f":"IF('Appliances Worksheet'!O23=\"\",\"\",'Appliances Worksheet'!O23)","v":""},null,{"$f":"IF('Appliances Worksheet'!E23=\"\",\"\",'Appliances Worksheet'!E23)","v":""}]
[null,null,null,{"$f":"IF('Appliances Worksheet'!E24=\"\",NA(),INDEX('Appliances References'!$O$5:$O$35,MATCH(RIGHT('Appliance Calculations'!A6,8),'Appliances References'!$N$5:$N$35,0)))","v":{"$error":"#N/A"}},null,null,null,null,null,{"$f":"IF('Appliances Worksheet'!J24=\"\",\"\",'Appliances Worksheet'!J24)","v":""},null,null,null,{"$f":"IF('Appliances Worksheet'!M24=\"\",\"\",'Appliances Worksheet'!M24)","v":""},null,{"$f":"IF('Appliances Worksheet'!E24=\"\",\"\",'Appliances Worksheet'!E24)","v":""}]
[null,null,null,{"$f":"IF('Appliances Worksheet'!E25=\"\",NA(),INDEX('Appliances References'!$O$5:$O$35,MATCH(RIGHT('Appliance Calculations'!A7,8),'Appliances References'!$N$5:$N$35,0)))","v":{"$error":"#N/A"}},null,null,null,null,null,{"$f":"IF('Appliances Worksheet'!J25=\"\",\"\",'Appliances Worksheet'!J25)","v":""},null,null,null,{"$f":"IF('Appliances Worksheet'!M25=\"\",\"\",'Appliances Worksheet'!M25)","v":""},null,{"$f":"IF('Appliances Worksheet'!E25=\"\",\"\",'Appliances Worksheet'!E25)","v":""}]
[null,null,null,{"$f":"IF('Appliances Worksheet'!E26=\"\",NA(),INDEX('Appliances References'!$O$5:$O$35,MATCH(RIGHT('Appliance Calculations'!A8,8),'Appliances References'!$N$5:$N$35,0)))","v":{"$error":"#N/A"}},null,null,null,null,null,{"$f":"IF('Appliances Worksheet'!J26=\"\",\"\",'Appliances Worksheet'!J26)","v":""},null,null,null,{"$f":"IF('Appliances Worksheet'!M26=\"\",\"\",'Appliances Worksheet'!M26)","v":""},null,{"$f":"IF('Appliances Worksheet'!E26=\"\",\"\",'Appliances Worksheet'!E26)","v":""}]
[null,null,null,{"$f":"IF('Appliances Worksheet'!E27=\"\",NA(),INDEX('Appliances References'!$O$5:$O$35,MATCH(RIGHT('Appliance Calculations'!A9,8),'Appliances References'!$N$5:$N$35,0)))","v":{"$error":"#N/A"}},null,null,null,null,null,{"$f":"IF('Appliances Worksheet'!J27=\"\",\"\",'Appliances Worksheet'!J27)","v":""},null,null,null,{"$f":"IF('Appliances Worksheet'!M27=\"\",\"\",'Appliances Worksheet'!M27)","v":""},null,{"$f":"IF('Appliances Worksheet'!E27=\"\",\"\",'Appliances Worksheet'!E27)","v":""}]
[null,null,null,{"$f":"IF('Appliances Worksheet'!E28=\"\",NA(),INDEX('Appliances References'!$O$5:$O$35,MATCH(RIGHT('Appliance Calculations'!A10,8),'Appliances References'!$N$5:$N$35,0)))","v":{"$error":"#N/A"}},null,null,null,null,null,{"$f":"IF('Appliances Worksheet'!J28=\"\",\"\",'Appliances Worksheet'!J28)","v":""},null,null,null,{"$f":"IF('Appliances Worksheet'!M28=\"\",\"\",'Appliances Worksheet'!M28)","v":""},null,{"$f":"IF('Appliances Worksheet'!E28=\"\",\"\",'Appliances Worksheet'!E28)","v":""}]
[null,null,null,{"$f":"IF('Appliances Worksheet'!E29=\"\",NA(),INDEX('Appliances References'!$O$5:$O$35,MATCH(RIGHT('Appliance Calculations'!A11,8),'Appliances References'!$N$5:$N$35,0)))","v":{"$error":"#N/A"}},null,null,null,null,null,{"$f":"IF('Appliances Worksheet'!J29=\"\",\"\",'Appliances Worksheet'!J29)","v":""},null,null,null,{"$f":"IF('Appliances Worksheet'!M29=\"\",\"\",'Appliances Worksheet'!M29)","v":""},null,{"$f":"IF('Appliances Worksheet'!E29=\"\",\"\",'Appliances Worksheet'!E29)","v":""}]
[null,null,null,{"$f":"IF('Appliances Worksheet'!E30=\"\",NA(),INDEX('Appliances References'!$O$5:$O$35,MATCH(RIGHT('Appliance Calculations'!A12,8),'Appliances References'!$N$5:$N$35,0)))","v":{"$error":"#N/A"}},null,null,null,null,null,{"$f":"IF('Appliances Worksheet'!J30=\"\",\"\",'Appliances Worksheet'!J30)","v":""},null,null,null,{"$f":"IF('Appliances Worksheet'!M30=\"\",\"\",'Appliances Worksheet'!M30)","v":""},null,{"$f":"IF('Appliances Worksheet'!E30=\"\",\"\",'Appliances Worksheet'!E30)","v":""}]
[null,null,null,{"$f":"IF('Appliances Worksheet'!E31=\"\",NA(),INDEX('Appliances References'!$O$5:$O$35,MATCH(RIGHT('Appliance Calculations'!A13,8),'Appliances References'!$N$5:$N$35,0)))","v":{"$error":"#N/A"}},null,null,null,null,null,{"$f":"IF('Appliances Worksheet'!J31=\"\",\"\",'Appliances Worksheet'!J31)","v":"Manufacturer"},null,null,null,{"$f":"IF('Appliances Worksheet'!M31=\"\",\"\",'Appliances Worksheet'!M31)","v":"Model Number"},null,{"$f":"IF('Appliances Worksheet'!E31=\"\",\"\",'Appliances Worksheet'!E31)","v":"Proposed Quantity"}]
[null,null,null,{"$f":"IF('Appliances Worksheet'!E32=\"\",NA(),INDEX('Appliances References'!$O$5:$O$35,MATCH(RIGHT('Appliance Calculations'!A14,8),'Appliances References'!$N$5:$N$35,0)))","v":{"$error":"#N/A"}},null,null,null,null,null,{"$f":"IF('Appliances Worksheet'!J32=\"\",\"\",'Appliances Worksheet'!J32)","v":""},null,null,null,{"$f":"IF('Appliances Worksheet'!M32=\"\",\"\",'Appliances Worksheet'!M32)","v":""},null,{"$f":"IF('Appliances Worksheet'!E32=\"\",\"\",'Appliances Worksheet'!E32)","v":""}]
[null,null,null,{"$f":"IF('Appliances Worksheet'!E33=\"\",NA(),INDEX('Appliances References'!$O$5:$O$35,MATCH(RIGHT('Appliance Calculations'!A15,8),'Appliances References'!$N$5:$N$35,0)))","v":{"$error":"#N/A"}},null,null,null,null,null,{"$f":"IF('Appliances Worksheet'!J33=\"\",\"\",'Appliances Worksheet'!J33)","v":""},null,null,null,{"$f":"IF('Appliances Worksheet'!M33=\"\",\"\",'Appliances Worksheet'!M33)","v":""},null,{"$f":"IF('Appliances Worksheet'!E33=\"\",\"\",'Appliances Worksheet'!E33)","v":""}]
[null,null,null,{"$f":"IF('Appliances Worksheet'!E34=\"\",NA(),INDEX('Appliances References'!$O$5:$O$35,MATCH(RIGHT('Appliance Calculations'!A16,8),'Appliances References'!$N$5:$N$35,0)))","v":{"$error":"#N/A"}},null,null,null,null,null,{"$f":"IF('Appliances Worksheet'!J34=\"\",\"\",'Appliances Worksheet'!J34)","v":""},null,null,null,{"$f":"IF('Appliances Worksheet'!M34=\"\",\"\",'Appliances Worksheet'!M34)","v":""},null,{"$f":"IF('Appliances Worksheet'!E34=\"\",\"\",'Appliances Worksheet'!E34)","v":""}]
[null,null,null,{"$f":"IF('Appliances Worksheet'!E35=\"\",NA(),INDEX('Appliances References'!$O$5:$O$35,MATCH(RIGHT('Appliance Calculations'!A17,8),'Appliances References'!$N$5:$N$35,0)))","v":{"$error":"#N/A"}},null,null,null,null,null,{"$f":"IF('Appliances Worksheet'!J35=\"\",\"\",'Appliances Worksheet'!J35)","v":""},null,null,null,{"$f":"IF('Appliances Worksheet'!M35=\"\",\"\",'Appliances Worksheet'!M35)","v":""},null,{"$f":"IF('Appliances Worksheet'!E35=\"\",\"\",'Appliances Worksheet'!E35)","v":""}]
[null,null,null,{"$f":"IF('Appliances Worksheet'!E36=\"\",NA(),INDEX('Appliances References'!$O$5:$O$35,MATCH(RIGHT('Appliance Calculations'!A18,8),'Appliances References'!$N$5:$N$35,0)))","v":{"$error":"#N/A"}},null,null,null,null,null,{"$f":"IF('Appliances Worksheet'!J36=\"\",\"\",'Appliances Worksheet'!J36)","v":""},null,null,null,{"$f":"IF('Appliances Worksheet'!M36=\"\",\"\",'Appliances Worksheet'!M36)","v":""},null,{"$f":"IF('Appliances Worksheet'!E36=\"\",\"\",'Appliances Worksheet'!E36)","v":""}]
[null,null,null,{"$f":"IF('Appliances Worksheet'!E37=\"\",NA(),INDEX('Appliances References'!$O$5:$O$35,MATCH(RIGHT('Appliance Calculations'!A19,8),'Appliances References'!$N$5:$N$35,0)))","v":{"$error":"#N/A"}},null,null,null,null,null,{"$f":"IF('Appliances Worksheet'!J37=\"\",\"\",'Appliances Worksheet'!J37)","v":""},null,null,null,{"$f":"IF('Appliances Worksheet'!M37=\"\",\"\",'Appliances Worksheet'!M37)","v":""},null,{"$f":"IF('Appliances Worksheet'!E37=\"\",\"\",'Appliances Worksheet'!E37)","v":""}]
[null,null,null,{"$f":"IF('Appliances Worksheet'!E38=\"\",NA(),INDEX('Appliances References'!$O$5:$O$35,MATCH(RIGHT('Appliance Calculations'!A20,8),'Appliances References'!$N$5:$N$35,0)))","v":{"$error":"#N/A"}},null,null,null,null,null,{"$f":"IF('Appliances Worksheet'!J38=\"\",\"\",'Appliances Worksheet'!J38)","v":""},null,null,null,{"$f":"IF('Appliances Worksheet'!M38=\"\",\"\",'Appliances Worksheet'!M38)","v":""},null,{"$f":"IF('Appliances Worksheet'!E38=\"\",\"\",'Appliances Worksheet'!E38)","v":""}]
[null,null,null,{"$f":"IF('Appliances Worksheet'!E39=\"\",NA(),INDEX('Appliances References'!$O$5:$O$35,MATCH(RIGHT('Appliance Calculations'!A21,8),'Appliances References'!$N$5:$N$35,0)))","v":{"$error":"#N/A"}},null,null,null,null,null,{"$f":"IF('Appliances Worksheet'!J39=\"\",\"\",'Appliances Worksheet'!J39)","v":""},null,null,null,{"$f":"IF('Appliances Worksheet'!M39=\"\",\"\",'Appliances Worksheet'!M39)","v":""},null,{"$f":"IF('Appliances Worksheet'!E39=\"\",\"\",'Appliances Worksheet'!E39)","v":""}]
[null,null,null,{"$f":"IF('Appliances Worksheet'!E40=\"\",NA(),INDEX('Appliances References'!$O$5:$O$35,MATCH(RIGHT('Appliance Calculations'!A22,8),'Appliances References'!$N$5:$N$35,0)))","v":{"$error":"#N/A"}},null,null,null,null,null,{"$f":"IF('Appliances Worksheet'!J40=\"\",\"\",'Appliances Worksheet'!J40)","v":""},null,null,null,{"$f":"IF('Appliances Worksheet'!M40=\"\",\"\",'Appliances Worksheet'!M40)","v":""},null,{"$f":"IF('Appliances Worksheet'!E40=\"\",\"\",'Appliances Worksheet'!E40)","v":""}]
[null,null,null,{"$f":"IF('Appliances Worksheet'!E41=\"\",NA(),INDEX('Appliances References'!$O$5:$O$35,MATCH(RIGHT('Appliance Calculations'!A23,8),'Appliances References'!$N$5:$N$35,0)))","v":{"$error":"#N/A"}},null,null,null,null,null,{"$f":"IF('Appliances Worksheet'!J41=\"\",\"\",'Appliances Worksheet'!J41)","v":""},null,null,null,{"$f":"IF('Appliances Worksheet'!M41=\"\",\"\",'Appliances Worksheet'!M41)","v":""},null,{"$f":"IF('Appliances Worksheet'!E41=\"\",\"\",'Appliances Worksheet'!E41)","v":""}]
[null,null,null,{"$f":"IF('Appliances Worksheet'!E42=\"\",NA(),INDEX('Appliances References'!$O$5:$O$35,MATCH(RIGHT('Appliance Calculations'!A24,8),'Appliances References'!$N$5:$N$35,0)))","v":{"$error":"#N/A"}},null,null,null,null,null,{"$f":"IF('Appliances Worksheet'!J42=\"\",\"\",'Appliances Worksheet'!J42)","v":""},null,null,null,{"$f":"IF('Appliances Worksheet'!M42=\"\",\"\",'Appliances Worksheet'!M42)","v":""},null,{"$f":"IF('Appliances Worksheet'!E42=\"\",\"\",'Appliances Worksheet'!E42)","v":""}]
[null,null,null,{"$f":"IF('Appliances Worksheet'!E43=\"\",NA(),INDEX('Appliances References'!$O$5:$O$35,MATCH(RIGHT('Appliance Calculations'!A25,8),'Appliances References'!$N$5:$N$35,0)))","v":{"$error":"#N/A"}},null,null,null,null,null,{"$f":"IF('Appliances Worksheet'!G43=\"\",\"\",'Appliances Worksheet'!G43)","v":"Manufacturer"},null,null,null,{"$f":"IF('Appliances Worksheet'!J43=\"\",\"\",'Appliances Worksheet'!J43)","v":"Qualified Model"},null,{"$f":"IF('Appliances Worksheet'!E43=\"\",\"\",'Appliances Worksheet'!E43)","v":"Proposed Quantity"}]
[null,null,null,{"$f":"IF('Appliances Worksheet'!E44=\"\",NA(),INDEX('Appliances References'!$O$5:$O$35,MATCH(RIGHT('Appliance Calculations'!A26,8),'Appliances References'!$N$5:$N$35,0)))","v":{"$error":"#N/A"}},null,null,null,null,null,{"$f":"IF('Appliances Worksheet'!G44=\"\",\"\",'Appliances Worksheet'!G44)","v":""},null,null,null,{"$f":"IF('Appliances Worksheet'!J44=\"\",\"\",'Appliances Worksheet'!J44)","v":""},null,{"$f":"IF('Appliances Worksheet'!E44=\"\",\"\",'Appliances Worksheet'!E44)","v":""}]
[null,null,null,{"$f":"IF('Appliances Worksheet'!E45=\"\",NA(),INDEX('Appliances References'!$O$5:$O$35,MATCH(RIGHT('Appliance Calculations'!A27,8),'Appliances References'!$N$5:$N$35,0)))","v":{"$error":"#N/A"}},null,null,null,null,null,{"$f":"IF('Appliances Worksheet'!G45=\"\",\"\",'Appliances Worksheet'!G45)","v":""},null,null,null,{"$f":"IF('Appliances Worksheet'!J45=\"\",\"\",'Appliances Worksheet'!J45)","v":""},null,{"$f":"IF('Appliances Worksheet'!E45=\"\",\"\",'Appliances Worksheet'!E45)","v":""}]
[null,null,null,{"$f":"IF('Appliances Worksheet'!E46=\"\",NA(),INDEX('Appliances References'!$O$5:$O$35,MATCH(RIGHT('Appliance Calculations'!A28,8),'Appliances References'!$N$5:$N$35,0)))","v":{"$error":"#N/A"}},null,null,null,null,null,{"$f":"IF('Appliances Worksheet'!G46=\"\",\"\",'Appliances Worksheet'!G46)","v":""},null,null,null,{"$f":"IF('Appliances Worksheet'!J46=\"\",\"\",'Appliances Worksheet'!J46)","v":""},null,{"$f":"IF('Appliances Worksheet'!E46=\"\",\"\",'Appliances Worksheet'!E46)","v":""}]
[null,null,null,{"$f":"IF('Appliances Worksheet'!E47=\"\",NA(),INDEX('Appliances References'!$O$5:$O$35,MATCH(RIGHT('Appliance Calculations'!A29,8),'Appliances References'!$N$5:$N$35,0)))","v":{"$error":"#N/A"}},null,null,null,null,null,{"$f":"IF('Appliances Worksheet'!G47=\"\",\"\",'Appliances Worksheet'!G47)","v":""},null,null,null,{"$f":"IF('Appliances Worksheet'!J47=\"\",\"\",'Appliances Worksheet'!J47)","v":""},null,{"$f":"IF('Appliances Worksheet'!E47=\"\",\"\",'Appliances Worksheet'!E47)","v":""}]
[null,null,null,{"$f":"IF('Appliances Worksheet'!E48=\"\",NA(),INDEX('Appliances References'!$O$5:$O$35,MATCH(RIGHT('Appliance Calculations'!A30,8),'Appliances References'!$N$5:$N$35,0)))","v":{"$error":"#N/A"}},null,null,null,null,null,{"$f":"IF('Appliances Worksheet'!G48=\"\",\"\",'Appliances Worksheet'!G48)","v":""},null,null,null,{"$f":"IF('Appliances Worksheet'!J48=\"\",\"\",'Appliances Worksheet'!J48)","v":""},null,{"$f":"IF('Appliances Worksheet'!E48=\"\",\"\",'Appliances Worksheet'!E48)","v":""}]
[null,null,null,{"$f":"IF('Appliances Worksheet'!E49=\"\",NA(),INDEX('Appliances References'!$O$5:$O$35,MATCH(RIGHT('Appliance Calculations'!A31,8),'Appliances References'!$N$5:$N$35,0)))","v":{"$error":"#N/A"}},null,null,null,null,null,{"$f":"IF('Appliances Worksheet'!G49=\"\",\"\",'Appliances Worksheet'!G49)","v":""},null,null,null,{"$f":"IF('Appliances Worksheet'!J49=\"\",\"\",'Appliances Worksheet'!J49)","v":""},null,{"$f":"IF('Appliances Worksheet'!E49=\"\",\"\",'Appliances Worksheet'!E49)","v":""}]
[null,null,null,{"$f":"IF('Appliances Worksheet'!E50=\"\",NA(),INDEX('Appliances References'!$O$5:$O$35,MATCH(RIGHT('Appliance Calculations'!A32,8),'Appliances References'!$N$5:$N$35,0)))","v":{"$error":"#N/A"}},null,null,null,null,null,{"$f":"IF('Appliances Worksheet'!G50=\"\",\"\",'Appliances Worksheet'!G50)","v":""},null,null,null,{"$f":"IF('Appliances Worksheet'!J50=\"\",\"\",'Appliances Worksheet'!J50)","v":""},null,{"$f":"IF('Appliances Worksheet'!E50=\"\",\"\",'Appliances Worksheet'!E50)","v":""}]
[null,null,null,{"$f":"IF('Appliances Worksheet'!E51=\"\",NA(),INDEX('Appliances References'!$O$5:$O$35,MATCH(RIGHT('Appliance Calculations'!A33,8),'Appliances References'!$N$5:$N$35,0)))","v":{"$error":"#N/A"}},null,null,null,null,null,{"$f":"IF('Appliances Worksheet'!G51=\"\",\"\",'Appliances Worksheet'!G51)","v":""},null,null,null,{"$f":"IF('Appliances Worksheet'!J51=\"\",\"\",'Appliances Worksheet'!J51)","v":""},null,{"$f":"IF('Appliances Worksheet'!E51=\"\",\"\",'Appliances Worksheet'!E51)","v":""}]
[null,null,null,{"$f":"IF('Appliances Worksheet'!E52=\"\",NA(),INDEX('Appliances References'!$O$5:$O$35,MATCH(RIGHT('Appliance Calculations'!A34,8),'Appliances References'!$N$5:$N$35,0)))","v":{"$error":"#N/A"}},null,null,null,null,null,{"$f":"IF('Appliances Worksheet'!G52=\"\",\"\",'Appliances Worksheet'!G52)","v":""},null,null,null,{"$f":"IF('Appliances Worksheet'!J52=\"\",\"\",'Appliances Worksheet'!J52)","v":""},null,{"$f":"IF('Appliances Worksheet'!E52=\"\",\"\",'Appliances Worksheet'!E52)","v":""}]
[null,null,null,{"$f":"IF('Appliances Worksheet'!E53=\"\",NA(),INDEX('Appliances References'!$O$5:$O$35,MATCH(RIGHT('Appliance Calculations'!A35,8),'Appliances References'!$N$5:$N$35,0)))","v":{"$error":"#N/A"}},null,null,null,null,null,{"$f":"IF('Appliances Worksheet'!G53=\"\",\"\",'Appliances Worksheet'!G53)","v":""},null,null,null,{"$f":"IF('Appliances Worksheet'!J53=\"\",\"\",'Appliances Worksheet'!J53)","v":""},null,{"$f":"IF('Appliances Worksheet'!E53=\"\",\"\",'Appliances Worksheet'!E53)","v":""}]
[null,null,null,{"$f":"IF('Appliances Worksheet'!E54=\"\",NA(),INDEX('Appliances References'!$O$5:$O$35,MATCH(RIGHT('Appliance Calculations'!A36,8),'Appliances References'!$N$5:$N$35,0)))","v":{"$error":"#N/A"}},null,null,null,null,null,{"$f":"IF('Appliances Worksheet'!G54=\"\",\"\",'Appliances Worksheet'!G54)","v":""},null,null,null,{"$f":"IF('Appliances Worksheet'!J54=\"\",\"\",'Appliances Worksheet'!J54)","v":""},null,{"$f":"IF('Appliances Worksheet'!E54=\"\",\"\",'Appliances Worksheet'!E54)","v":""}]
[null,null,null,{"$f":"IF('Appliances Worksheet'!E55=\"\",NA(),INDEX('Appliances References'!$O$5:$O$35,MATCH(RIGHT('Appliance Calculations'!A37,8),'Appliances References'!$N$5:$N$35,0)))","v":{"$error":"#N/A"}},null,null,null,null,null,{"$f":"IF('Appliances Worksheet'!O55=\"\",\"\",'Appliances Worksheet'!O55)","v":"Manufacturer"},null,null,null,{"$f":"IF('Appliances Worksheet'!R55=\"\",\"\",'Appliances Worksheet'!R55)","v":"Model Number"},null,{"$f":"IF('Appliances Worksheet'!E55=\"\",\"\",'Appliances Worksheet'!E55)","v":"Proposed Quantity"}]
[null,null,null,{"$f":"IF('Appliances Worksheet'!E56=\"\",NA(),INDEX('Appliances References'!$O$5:$O$35,MATCH(RIGHT('Appliance Calculations'!A38,8),'Appliances References'!$N$5:$N$35,0)))","v":{"$error":"#N/A"}},null,null,null,null,null,{"$f":"IF('Appliances Worksheet'!O56=\"\",\"\",'Appliances Worksheet'!O56)","v":""},null,null,null,{"$f":"IF('Appliances Worksheet'!R56=\"\",\"\",'Appliances Worksheet'!R56)","v":""},null,{"$f":"IF('Appliances Worksheet'!E56=\"\",\"\",'Appliances Worksheet'!E56)","v":""}]
[null,null,null,{"$f":"IF('Appliances Worksheet'!E57=\"\",NA(),INDEX('Appliances References'!$O$5:$O$35,MATCH(RIGHT('Appliance Calculations'!A39,8),'Appliances References'!$N$5:$N$35,0)))","v":{"$error":"#N/A"}},null,null,null,null,null,{"$f":"IF('Appliances Worksheet'!O57=\"\",\"\",'Appliances Worksheet'!O57)","v":""},null,null,null,{"$f":"IF('Appliances Worksheet'!R57=\"\",\"\",'Appliances Worksheet'!R57)","v":""},null,{"$f":"IF('Appliances Worksheet'!E57=\"\",\"\",'Appliances Worksheet'!E57)","v":""}]
[null,null,null,{"$f":"IF('Appliances Worksheet'!E58=\"\",NA(),INDEX('Appliances References'!$O$5:$O$35,MATCH(RIGHT('Appliance Calculations'!A40,8),'Appliances References'!$N$5:$N$35,0)))","v":{"$error":"#N/A"}},null,null,null,null,null,{"$f":"IF('Appliances Worksheet'!O58=\"\",\"\",'Appliances Worksheet'!O58)","v":""},null,null,null,{"$f":"IF('Appliances Worksheet'!R58=\"\",\"\",'Appliances Worksheet'!R58)","v":""},null,{"$f":"IF('Appliances Worksheet'!E58=\"\",\"\",'Appliances Worksheet'!E58)","v":""}]
[null,null,null,{"$f":"IF('Appliances Worksheet'!E59=\"\",NA(),INDEX('Appliances References'!$O$5:$O$35,MATCH(RIGHT('Appliance Calculations'!A41,8),'Appliances References'!$N$5:$N$35,0)))","v":{"$error":"#N/A"}},null,null,null,null,null,{"$f":"IF('Appliances Worksheet'!O59=\"\",\"\",'Appliances Worksheet'!O59)","v":""},null,null,null,{"$f":"IF('Appliances Worksheet'!R59=\"\",\"\",'Appliances Worksheet'!R59)","v":""},null,{"$f":"IF('Appliances Worksheet'!E59=\"\",\"\",'Appliances Worksheet'!E59)","v":""}]
[null,null,null,{"$f":"IF('Appliances Worksheet'!E60=\"\",NA(),INDEX('Appliances References'!$O$5:$O$35,MATCH(RIGHT('Appliance Calculations'!A42,8),'Appliances References'!$N$5:$N$35,0)))","v":{"$error":"#N/A"}},null,null,null,null,null,{"$f":"IF('Appliances Worksheet'!O60=\"\",\"\",'Appliances Worksheet'!O60)","v":""},null,null,null,{"$f":"IF('Appliances Worksheet'!R60=\"\",\"\",'Appliances Worksheet'!R60)","v":""},null,{"$f":"IF('Appliances Worksheet'!E60=\"\",\"\",'Appliances Worksheet'!E60)","v":""}]
[null,null,null,{"$f":"IF('Appliances Worksheet'!E61=\"\",NA(),INDEX('Appliances References'!$O$5:$O$35,MATCH(RIGHT('Appliance Calculations'!A43,8),'Appliances References'!$N$5:$N$35,0)))","v":{"$error":"#N/A"}},null,null,null,null,null,{"$f":"IF('Appliances Worksheet'!O61=\"\",\"\",'Appliances Worksheet'!O61)","v":""},null,null,null,{"$f":"IF('Appliances Worksheet'!R61=\"\",\"\",'Appliances Worksheet'!R61)","v":""},null,{"$f":"IF('Appliances Worksheet'!E61=\"\",\"\",'Appliances Worksheet'!E61)","v":""}]
[null,null,null,{"$f":"IF('Appliances Worksheet'!E62=\"\",NA(),INDEX('Appliances References'!$O$5:$O$35,MATCH(RIGHT('Appliance Calculations'!A44,8),'Appliances References'!$N$5:$N$35,0)))","v":{"$error":"#N/A"}},null,null,null,null,null,{"$f":"IF('Appliances Worksheet'!O62=\"\",\"\",'Appliances Worksheet'!O62)","v":""},null,null,null,{"$f":"IF('Appliances Worksheet'!R62=\"\",\"\",'Appliances Worksheet'!R62)","v":""},null,{"$f":"IF('Appliances Worksheet'!E62=\"\",\"\",'Appliances Worksheet'!E62)","v":""}]
[null,null,null,{"$f":"IF('Appliances Worksheet'!E63=\"\",NA(),INDEX('Appliances References'!$O$5:$O$35,MATCH(RIGHT('Appliance Calculations'!A45,8),'Appliances References'!$N$5:$N$35,0)))","v":{"$error":"#N/A"}},null,null,null,null,null,{"$f":"IF('Appliances Worksheet'!M63=\"\",\"\",'Appliances Worksheet'!M63)","v":""},null,null,null,{"$f":"IF('Appliances Worksheet'!P63=\"\",\"\",'Appliances Worksheet'!P63)","v":""},null,{"$f":"IF('Appliances Worksheet'!E63=\"\",\"\",'Appliances Worksheet'!E63)","v":""}]
[null,null,null,{"$f":"IF('Appliances Worksheet'!E64=\"\",NA(),INDEX('Appliances References'!$O$5:$O$35,MATCH(RIGHT('Appliance Calculations'!A46,8),'Appliances References'!$N$5:$N$35,0)))","v":{"$error":"#N/A"}},null,null,null,null,null,{"$f":"IF('Appliances Worksheet'!M64=\"\",\"\",'Appliances Worksheet'!M64)","v":""},null,null,null,{"$f":"IF('Appliances Worksheet'!P64=\"\",\"\",'Appliances Worksheet'!P64)","v":""},null,{"$f":"IF('Appliances Worksheet'!E64=\"\",\"\",'Appliances Worksheet'!E64)","v":""}]
[null,null,null,{"$f":"IF('Appliances Worksheet'!E65=\"\",NA(),INDEX('Appliances References'!$O$5:$O$35,MATCH(RIGHT('Appliance Calculations'!A47,8),'Appliances References'!$N$5:$N$35,0)))","v":{"$error":"#N/A"}},null,null,null,null,null,{"$f":"IF('Appliances Worksheet'!M65=\"\",\"\",'Appliances Worksheet'!M65)","v":""},null,null,null,{"$f":"IF('Appliances Worksheet'!P65=\"\",\"\",'Appliances Worksheet'!P65)","v":""},null,{"$f":"IF('Appliances Worksheet'!E65=\"\",\"\",'Appliances Worksheet'!E65)","v":""}]
[null,null,null,{"$f":"IF('Appliances Worksheet'!E66=\"\",NA(),INDEX('Appliances References'!$O$5:$O$35,MATCH(RIGHT('Appliance Calculations'!A48,8),'Appliances References'!$N$5:$N$35,0)))","v":{"$error":"#N/A"}},null,null,null,null,null,{"$f":"IF('Appliances Worksheet'!M66=\"\",\"\",'Appliances Worksheet'!M66)","v":""},null,null,null,{"$f":"IF('Appliances Worksheet'!P66=\"\",\"\",'Appliances Worksheet'!P66)","v":""},null,{"$f":"IF('Appliances Worksheet'!E66=\"\",\"\",'Appliances Worksheet'!E66)","v":""}]
[null,null,null,{"$f":"IF('Appliances Worksheet'!E67=\"\",NA(),INDEX('Appliances References'!$O$5:$O$35,MATCH(RIGHT('Appliance Calculations'!A49,8),'Appliances References'!$N$5:$N$35,0)))","v":{"$error":"#N/A"}},null,null,null,null,null,{"$f":"IF('Appliances Worksheet'!J67=\"\",\"\",'Appliances Worksheet'!J67)","v":"Manufacturer"},null,null,null,{"$f":"IF('Appliances Worksheet'!M67=\"\",\"\",'Appliances Worksheet'!M67)","v":"Model Number"},null,{"$f":"IF('Appliances Worksheet'!E67=\"\",\"\",'Appliances Worksheet'!E67)","v":"Proposed Quantity"}]
[null,null,null,{"$f":"IF('Appliances Worksheet'!E68=\"\",NA(),INDEX('Appliances References'!$O$5:$O$35,MATCH(RIGHT('Appliance Calculations'!A50,8),'Appliances References'!$N$5:$N$35,0)))","v":{"$error":"#N/A"}},null,null,null,null,null,{"$f":"IF('Appliances Worksheet'!J68=\"\",\"\",'Appliances Worksheet'!J68)","v":""},null,null,null,{"$f":"IF('Appliances Worksheet'!M68=\"\",\"\",'Appliances Worksheet'!M68)","v":""},null,{"$f":"IF('Appliances Worksheet'!E68=\"\",\"\",'Appliances Worksheet'!E68)","v":""}]
[null,null,null,{"$f":"IF('Appliances Worksheet'!E69=\"\",NA(),INDEX('Appliances References'!$O$5:$O$35,MATCH(RIGHT('Appliance Calculations'!A51,8),'Appliances References'!$N$5:$N$35,0)))","v":{"$error":"#N/A"}},null,null,null,null,null,{"$f":"IF('Appliances Worksheet'!J69=\"\",\"\",'Appliances Worksheet'!J69)","v":""},null,null,null,{"$f":"IF('Appliances Worksheet'!M69=\"\",\"\",'Appliances Worksheet'!M69)","v":""},null,{"$f":"IF('Appliances Worksheet'!E69=\"\",\"\",'Appliances Worksheet'!E69)","v":""}]
[null,null,null,{"$f":"IF('Appliances Worksheet'!E70=\"\",NA(),INDEX('Appliances References'!$O$5:$O$35,MATCH(RIGHT('Appliance Calculations'!A52,8),'Appliances References'!$N$5:$N$35,0)))","v":{"$error":"#N/A"}},null,null,null,null,null,{"$f":"IF('Appliances Worksheet'!J70=\"\",\"\",'Appliances Worksheet'!J70)","v":""},null,null,null,{"$f":"IF('Appliances Worksheet'!M70=\"\",\"\",'Appliances Worksheet'!M70)","v":""},null,{"$f":"IF('Appliances Worksheet'!E70=\"\",\"\",'Appliances Worksheet'!E70)","v":""}]
[null,null,null,{"$f":"IF('Appliances Worksheet'!E71=\"\",NA(),INDEX('Appliances References'!$O$5:$O$35,MATCH(RIGHT('Appliance Calculations'!A53,8),'Appliances References'!$N$5:$N$35,0)))","v":{"$error":"#N/A"}},null,null,null,null,null,{"$f":"IF('Appliances Worksheet'!J71=\"\",\"\",'Appliances Worksheet'!J71)","v":""},null,null,null,{"$f":"IF('Appliances Worksheet'!M71=\"\",\"\",'Appliances Worksheet'!M71)","v":""},null,{"$f":"IF('Appliances Worksheet'!E71=\"\",\"\",'Appliances Worksheet'!E71)","v":""}]
[null,null,null,{"$f":"IF('Appliances Worksheet'!E72=\"\",NA(),INDEX('Appliances References'!$O$5:$O$35,MATCH(RIGHT('Appliance Calculations'!A54,8),'Appliances References'!$N$5:$N$35,0)))","v":{"$error":"#N/A"}},null,null,null,null,null,{"$f":"IF('Appliances Worksheet'!J72=\"\",\"\",'Appliances Worksheet'!J72)","v":""},null,null,null,{"$f":"IF('Appliances Worksheet'!M72=\"\",\"\",'Appliances Worksheet'!M72)","v":""},null,{"$f":"IF('Appliances Worksheet'!E72=\"\",\"\",'Appliances Worksheet'!E72)","v":""}]
[null,null,null,{"$f":"IF('Appliances Worksheet'!E73=\"\",NA(),INDEX('Appliances References'!$O$5:$O$35,MATCH(RIGHT('Appliance Calculations'!A55,8),'Appliances References'!$N$5:$N$35,0)))","v":{"$error":"#N/A"}},null,null,null,null,null,{"$f":"IF('Appliances Worksheet'!J73=\"\",\"\",'Appliances Worksheet'!J73)","v":""},null,null,null,{"$f":"IF('Appliances Worksheet'!M73=\"\",\"\",'Appliances Worksheet'!M73)","v":""},null,{"$f":"IF('Appliances Worksheet'!E73=\"\",\"\",'Appliances Worksheet'!E73)","v":""}]
[null,null,null,{"$f":"IF('Appliances Worksheet'!E74=\"\",NA(),INDEX('Appliances References'!$O$5:$O$35,MATCH(RIGHT('Appliance Calculations'!A56,8),'Appliances References'!$N$5:$N$35,0)))","v":{"$error":"#N/A"}},null,null,null,null,null,{"$f":"IF('Appliances Worksheet'!J74=\"\",\"\",'Appliances Worksheet'!J74)","v":""},null,null,null,{"$f":"IF('Appliances Worksheet'!M74=\"\",\"\",'Appliances Worksheet'!M74)","v":""},null,{"$f":"IF('Appliances Worksheet'!E74=\"\",\"\",'Appliances Worksheet'!E74)","v":""}]
[null,null,null,{"$f":"IF('Appliances Worksheet'!E75=\"\",NA(),INDEX('Appliances References'!$O$5:$O$35,MATCH(RIGHT('Appliance Calculations'!A57,8),'Appliances References'!$N$5:$N$35,0)))","v":{"$error":"#N/A"}},null,null,null,null,null,{"$f":"IF('Appliances Worksheet'!J75=\"\",\"\",'Appliances Worksheet'!J75)","v":""},null,null,null,{"$f":"IF('Appliances Worksheet'!M75=\"\",\"\",'Appliances Worksheet'!M75)","v":""},null,{"$f":"IF('Appliances Worksheet'!E75=\"\",\"\",'Appliances Worksheet'!E75)","v":""}]
[null,null,null,{"$f":"IF('Appliances Worksheet'!E76=\"\",NA(),INDEX('Appliances References'!$O$5:$O$35,MATCH(RIGHT('Appliance Calculations'!A58,8),'Appliances References'!$N$5:$N$35,0)))","v":{"$error":"#N/A"}},null,null,null,null,null,{"$f":"IF('Appliances Worksheet'!J76=\"\",\"\",'Appliances Worksheet'!J76)","v":""},null,null,null,{"$f":"IF('Appliances Worksheet'!M76=\"\",\"\",'Appliances Worksheet'!M76)","v":""},null,{"$f":"IF('Appliances Worksheet'!E76=\"\",\"\",'Appliances Worksheet'!E76)","v":""}]
[null,null,null,{"$f":"IF('Appliances Worksheet'!E77=\"\",NA(),INDEX('Appliances References'!$O$5:$O$35,MATCH(RIGHT('Appliance Calculations'!A59,8),'Appliances References'!$N$5:$N$35,0)))","v":{"$error":"#N/A"}},null,null,null,null,null,{"$f":"IF('Appliances Worksheet'!J77=\"\",\"\",'Appliances Worksheet'!J77)","v":""},null,null,null,{"$f":"IF('Appliances Worksheet'!M77=\"\",\"\",'Appliances Worksheet'!M77)","v":""},null,{"$f":"IF('Appliances Worksheet'!E77=\"\",\"\",'Appliances Worksheet'!E77)","v":""}]
[null,null,null,{"$f":"IF('Appliances Worksheet'!E78=\"\",NA(),INDEX('Appliances References'!$O$5:$O$35,MATCH(RIGHT('Appliance Calculations'!A60,8),'Appliances References'!$N$5:$N$35,0)))","v":{"$error":"#N/A"}},null,null,null,null,null,{"$f":"IF('Appliances Worksheet'!J78=\"\",\"\",'Appliances Worksheet'!J78)","v":""},null,null,null,{"$f":"IF('Appliances Worksheet'!M78=\"\",\"\",'Appliances Worksheet'!M78)","v":""},null,{"$f":"IF('Appliances Worksheet'!E78=\"\",\"\",'Appliances Worksheet'!E78)","v":""}]
[null,null,null,{"$f":"IF('Appliances Worksheet'!E79=\"\",NA(),INDEX('Appliances References'!$O$5:$O$35,MATCH(RIGHT('Appliance Calculations'!A61,8),'Appliances References'!$N$5:$N$35,0)))","v":{"$error":"#N/A"}},null,null,null,null,null,{"$f":"IF('Appliances Worksheet'!J79=\"\",\"\",'Appliances Worksheet'!J79)","v":"Manufacturer"},null,null,null,{"$f":"IF('Appliances Worksheet'!M79=\"\",\"\",'Appliances Worksheet'!M79)","v":"Model Number"},null,{"$f":"IF('Appliances Worksheet'!E79=\"\",\"\",'Appliances Worksheet'!E79)","v":"Proposed Quantity"}]
[null,null,null,{"$f":"IF('Appliances Worksheet'!E80=\"\",NA(),INDEX('Appliances References'!$O$5:$O$35,MATCH(RIGHT('Appliance Calculations'!A62,8),'Appliances References'!$N$5:$N$35,0)))","v":{"$error":"#N/A"}},null,null,null,null,null,{"$f":"IF('Appliances Worksheet'!J80=\"\",\"\",'Appliances Worksheet'!J80)","v":""},null,null,null,{"$f":"IF('Appliances Worksheet'!M80=\"\",\"\",'Appliances Worksheet'!M80)","v":""},null,{"$f":"IF('Appliances Worksheet'!E80=\"\",\"\",'Appliances Worksheet'!E80)","v":""}]
[null,null,null,{"$f":"IF('Appliances Worksheet'!E81=\"\",NA(),INDEX('Appliances References'!$O$5:$O$35,MATCH(RIGHT('Appliance Calculations'!A63,8),'Appliances References'!$N$5:$N$35,0)))","v":{"$error":"#N/A"}},null,null,null,null,null,{"$f":"IF('Appliances Worksheet'!J81=\"\",\"\",'Appliances Worksheet'!J81)","v":""},null,null,null,{"$f":"IF('Appliances Worksheet'!M81=\"\",\"\",'Appliances Worksheet'!M81)","v":""},null,{"$f":"IF('Appliances Worksheet'!E81=\"\",\"\",'Appliances Worksheet'!E81)","v":""}]
[null,null,null,{"$f":"IF('Appliances Worksheet'!E82=\"\",NA(),INDEX('Appliances References'!$O$5:$O$35,MATCH(RIGHT('Appliance Calculations'!A64,8),'Appliances References'!$N$5:$N$35,0)))","v":{"$error":"#N/A"}},null,null,null,null,null,{"$f":"IF('Appliances Worksheet'!J82=\"\",\"\",'Appliances Worksheet'!J82)","v":""},null,null,null,{"$f":"IF('Appliances Worksheet'!M82=\"\",\"\",'Appliances Worksheet'!M82)","v":""},null,{"$f":"IF('Appliances Worksheet'!E82=\"\",\"\",'Appliances Worksheet'!E82)","v":""}]
[null,null,null,{"$f":"IF('Appliances Worksheet'!E83=\"\",NA(),INDEX('Appliances References'!$O$5:$O$35,MATCH(RIGHT('Appliance Calculations'!A65,8),'Appliances References'!$N$5:$N$35,0)))","v":{"$error":"#N/A"}},null,null,null,null,null,{"$f":"IF('Appliances Worksheet'!J83=\"\",\"\",'Appliances Worksheet'!J83)","v":""},null,null,null,{"$f":"IF('Appliances Worksheet'!M83=\"\",\"\",'Appliances Worksheet'!M83)","v":""},null,{"$f":"IF('Appliances Worksheet'!E83=\"\",\"\",'Appliances Worksheet'!E83)","v":""}]
[null,null,null,{"$f":"IF('Appliances Worksheet'!E84=\"\",NA(),INDEX('Appliances References'!$O$5:$O$35,MATCH(RIGHT('Appliance Calculations'!A66,8),'Appliances References'!$N$5:$N$35,0)))","v":{"$error":"#N/A"}},null,null,null,null,null,{"$f":"IF('Appliances Worksheet'!J84=\"\",\"\",'Appliances Worksheet'!J84)","v":""},null,null,null,{"$f":"IF('Appliances Worksheet'!M84=\"\",\"\",'Appliances Worksheet'!M84)","v":""},null,{"$f":"IF('Appliances Worksheet'!E84=\"\",\"\",'Appliances Worksheet'!E84)","v":""}]
[null,null,null,{"$f":"IF('Appliances Worksheet'!E85=\"\",NA(),INDEX('Appliances References'!$O$5:$O$35,MATCH(RIGHT('Appliance Calculations'!A67,8),'Appliances References'!$N$5:$N$35,0)))","v":{"$error":"#N/A"}},null,null,null,null,null,{"$f":"IF('Appliances Worksheet'!J85=\"\",\"\",'Appliances Worksheet'!J85)","v":""},null,null,null,{"$f":"IF('Appliances Worksheet'!M85=\"\",\"\",'Appliances Worksheet'!M85)","v":""},null,{"$f":"IF('Appliances Worksheet'!E85=\"\",\"\",'Appliances Worksheet'!E85)","v":""}]
[null,null,null,{"$f":"IF('Appliances Worksheet'!E86=\"\",NA(),INDEX('Appliances References'!$O$5:$O$35,MATCH(RIGHT('Appliance Calculations'!A68,8),'Appliances References'!$N$5:$N$35,0)))","v":{"$error":"#N/A"}},null,null,null,null,null,{"$f":"IF('Appliances Worksheet'!J86=\"\",\"\",'Appliances Worksheet'!J86)","v":""},null,null,null,{"$f":"IF('Appliances Worksheet'!M86=\"\",\"\",'Appliances Worksheet'!M86)","v":""},null,{"$f":"IF('Appliances Worksheet'!E86=\"\",\"\",'Appliances Worksheet'!E86)","v":""}]
[null,null,null,{"$f":"IF('Appliances Worksheet'!E87=\"\",NA(),INDEX('Appliances References'!$O$5:$O$35,MATCH(RIGHT('Appliance Calculations'!A69,8),'Appliances References'!$N$5:$N$35,0)))","v":{"$error":"#N/A"}},null,null,null,null,null,{"$f":"IF('Appliances Worksheet'!J87=\"\",\"\",'Appliances Worksheet'!J87)","v":""},null,null,null,{"$f":"IF('Appliances Worksheet'!M87=\"\",\"\",'Appliances Worksheet'!M87)","v":""},null,{"$f":"IF('Appliances Worksheet'!E87=\"\",\"\",'Appliances Worksheet'!E87)","v":""}]
[null,null,null,{"$f":"IF('Appliances Worksheet'!E88=\"\",NA(),INDEX('Appliances References'!$O$5:$O$35,MATCH(RIGHT('Appliance Calculations'!A70,8),'Appliances References'!$N$5:$N$35,0)))","v":{"$error":"#N/A"}},null,null,null,null,null,{"$f":"IF('Appliances Worksheet'!J88=\"\",\"\",'Appliances Worksheet'!J88)","v":""},null,null,null,{"$f":"IF('Appliances Worksheet'!M88=\"\",\"\",'Appliances Worksheet'!M88)","v":""},null,{"$f":"IF('Appliances Worksheet'!E88=\"\",\"\",'Appliances Worksheet'!E88)","v":""}]
[null,null,null,{"$f":"IF('Appliances Worksheet'!E89=\"\",NA(),INDEX('Appliances References'!$O$5:$O$35,MATCH(RIGHT('Appliance Calculations'!A71,8),'Appliances References'!$N$5:$N$35,0)))","v":{"$error":"#N/A"}},null,null,null,null,null,{"$f":"IF('Appliances Worksheet'!J89=\"\",\"\",'Appliances Worksheet'!J89)","v":""},null,null,null,{"$f":"IF('Appliances Worksheet'!M89=\"\",\"\",'Appliances Worksheet'!M89)","v":""},null,{"$f":"IF('Appliances Worksheet'!E89=\"\",\"\",'Appliances Worksheet'!E89)","v":""}]
[null,null,null,{"$f":"IF('Appliances Worksheet'!E90=\"\",NA(),INDEX('Appliances References'!$O$5:$O$35,MATCH(RIGHT('Appliance Calculations'!A72,8),'Appliances References'!$N$5:$N$35,0)))","v":{"$error":"#N/A"}},null,null,null,null,null,{"$f":"IF('Appliances Worksheet'!J90=\"\",\"\",'Appliances Worksheet'!J90)","v":""},null,null,null,{"$f":"IF('Appliances Worksheet'!M90=\"\",\"\",'Appliances Worksheet'!M90)","v":""},null,{"$f":"IF('Appliances Worksheet'!E90=\"\",\"\",'Appliances Worksheet'!E90)","v":""}]
[null,null,null,{"$f":"IF('Appliances Worksheet'!E91=\"\",NA(),INDEX('Appliances References'!$O$5:$O$35,MATCH(RIGHT('Appliance Calculations'!A73,8),'Appliances References'!$N$5:$N$35,0)))","v":{"$error":"#N/A"}},null,null,null,null,null,{"$f":"IF('Appliances Worksheet'!G91=\"\",\"\",'Appliances Worksheet'!G91)","v":"Manufacturer"},null,null,null,{"$f":"IF('Appliances Worksheet'!J91=\"\",\"\",'Appliances Worksheet'!J91)","v":"Qualified Model"},null,{"$f":"IF('Appliances Worksheet'!E91=\"\",\"\",'Appliances Worksheet'!E91)","v":"Proposed Quantity"}]
[null,null,null,{"$f":"IF('Appliances Worksheet'!E92=\"\",NA(),INDEX('Appliances References'!$O$5:$O$35,MATCH(RIGHT('Appliance Calculations'!A74,8),'Appliances References'!$N$5:$N$35,0)))","v":{"$error":"#N/A"}},null,null,null,null,null,{"$f":"IF('Appliances Worksheet'!G92=\"\",\"\",'Appliances Worksheet'!G92)","v":""},null,null,null,{"$f":"IF('Appliances Worksheet'!J92=\"\",\"\",'Appliances Worksheet'!J92)","v":""},null,{"$f":"IF('Appliances Worksheet'!E92=\"\",\"\",'Appliances Worksheet'!E92)","v":""}]
[null,null,null,{"$f":"IF('Appliances Worksheet'!E93=\"\",NA(),INDEX('Appliances References'!$O$5:$O$35,MATCH(RIGHT('Appliance Calculations'!A75,8),'Appliances References'!$N$5:$N$35,0)))","v":{"$error":"#N/A"}},null,null,null,null,null,{"$f":"IF('Appliances Worksheet'!G93=\"\",\"\",'Appliances Worksheet'!G93)","v":""},null,null,null,{"$f":"IF('Appliances Worksheet'!J93=\"\",\"\",'Appliances Worksheet'!J93)","v":""},null,{"$f":"IF('Appliances Worksheet'!E93=\"\",\"\",'Appliances Worksheet'!E93)","v":""}]
[null,null,null,{"$f":"IF('Appliances Worksheet'!E94=\"\",NA(),INDEX('Appliances References'!$O$5:$O$35,MATCH(RIGHT('Appliance Calculations'!A76,8),'Appliances References'!$N$5:$N$35,0)))","v":{"$error":"#N/A"}},null,null,null,null,null,{"$f":"IF('Appliances Worksheet'!G94=\"\",\"\",'Appliances Worksheet'!G94)","v":""},null,null,null,{"$f":"IF('Appliances Worksheet'!J94=\"\",\"\",'Appliances Worksheet'!J94)","v":""},null,{"$f":"IF('Appliances Worksheet'!E94=\"\",\"\",'Appliances Worksheet'!E94)","v":""}]
[null,null,null,{"$f":"IF('Appliances Worksheet'!E95=\"\",NA(),INDEX('Appliances References'!$O$5:$O$35,MATCH(RIGHT('Appliance Calculations'!A77,8),'Appliances References'!$N$5:$N$35,0)))","v":{"$error":"#N/A"}},null,null,null,null,null,{"$f":"IF('Appliances Worksheet'!G95=\"\",\"\",'Appliances Worksheet'!G95)","v":""},null,null,null,{"$f":"IF('Appliances Worksheet'!J95=\"\",\"\",'Appliances Worksheet'!J95)","v":""},null,{"$f":"IF('Appliances Worksheet'!E95=\"\",\"\",'Appliances Worksheet'!E95)","v":""}]
[null,null,null,{"$f":"IF('Appliances Worksheet'!E96=\"\",NA(),INDEX('Appliances References'!$O$5:$O$35,MATCH(RIGHT('Appliance Calculations'!A78,8),'Appliances References'!$N$5:$N$35,0)))","v":{"$error":"#N/A"}},null,null,null,null,null,{"$f":"IF('Appliances Worksheet'!G96=\"\",\"\",'Appliances Worksheet'!G96)","v":""},null,null,null,{"$f":"IF('Appliances Worksheet'!J96=\"\",\"\",'Appliances Worksheet'!J96)","v":""},null,{"$f":"IF('Appliances Worksheet'!E96=\"\",\"\",'Appliances Worksheet'!E96)","v":""}]
[null,null,null,{"$f":"IF('Appliances Worksheet'!E97=\"\",NA(),INDEX('Appliances References'!$O$5:$O$35,MATCH(RIGHT('Appliance Calculations'!A79,8),'Appliances References'!$N$5:$N$35,0)))","v":{"$error":"#N/A"}},null,null,null,null,null,{"$f":"IF('Appliances Worksheet'!G97=\"\",\"\",'Appliances Worksheet'!G97)","v":""},null,null,null,{"$f":"IF('Appliances Worksheet'!J97=\"\",\"\",'Appliances Worksheet'!J97)","v":""},null,{"$f":"IF('Appliances Worksheet'!E97=\"\",\"\",'Appliances Worksheet'!E97)","v":""}]
[null,null,null,{"$f":"IF('Appliances Worksheet'!E98=\"\",NA(),INDEX('Appliances References'!$O$5:$O$35,MATCH(RIGHT('Appliance Calculations'!A80,8),'Appliances References'!$N$5:$N$35,0)))","v":{"$error":"#N/A"}},null,null,null,null,null,{"$f":"IF('Appliances Worksheet'!G98=\"\",\"\",'Appliances Worksheet'!G98)","v":""},null,null,null,{"$f":"IF('Appliances Worksheet'!J98=\"\",\"\",'Appliances Worksheet'!J98)","v":""},null,{"$f":"IF('Appliances Worksheet'!E98=\"\",\"\",'Appliances Worksheet'!E98)","v":""}]
[null,null,null,{"$f":"IF('Appliances Worksheet'!E99=\"\",NA(),INDEX('Appliances References'!$O$5:$O$35,MATCH(RIGHT('Appliance Calculations'!A81,8),'Appliances References'!$N$5:$N$35,0)))","v":{"$error":"#N/A"}},null,null,null,null,null,{"$f":"IF('Appliances Worksheet'!G99=\"\",\"\",'Appliances Worksheet'!G99)","v":""},null,null,null,{"$f":"IF('Appliances Worksheet'!J99=\"\",\"\",'Appliances Worksheet'!J99)","v":""},null,{"$f":"IF('Appliances Worksheet'!E99=\"\",\"\",'Appliances Worksheet'!E99)","v":""}]
[null,null,null,{"$f":"IF('Appliances Worksheet'!E100=\"\",NA(),INDEX('Appliances References'!$O$5:$O$35,MATCH(RIGHT('Appliance Calculations'!A82,8),'Appliances References'!$N$5:$N$35,0)))","v":{"$error":"#N/A"}},null,null,null,null,null,{"$f":"IF('Appliances Worksheet'!G100=\"\",\"\",'Appliances Worksheet'!G100)","v":""},null,null,null,{"$f":"IF('Appliances Worksheet'!J100=\"\",\"\",'Appliances Worksheet'!J100)","v":""},null,{"$f":"IF('Appliances Worksheet'!E100=\"\",\"\",'Appliances Worksheet'!E100)","v":""}]
[null,null,null,{"$f":"IF('Appliances Worksheet'!E101=\"\",NA(),INDEX('Appliances References'!$O$5:$O$35,MATCH(RIGHT('Appliance Calculations'!A83,8),'Appliances References'!$N$5:$N$35,0)))","v":{"$error":"#N/A"}},null,null,null,null,null,{"$f":"IF('Appliances Worksheet'!G101=\"\",\"\",'Appliances Worksheet'!G101)","v":""},null,null,null,{"$f":"IF('Appliances Worksheet'!J101=\"\",\"\",'Appliances Worksheet'!J101)","v":""},null,{"$f":"IF('Appliances Worksheet'!E101=\"\",\"\",'Appliances Worksheet'!E101)","v":""}]
[null,null,null,{"$f":"IF('Appliances Worksheet'!E102=\"\",NA(),INDEX('Appliances References'!$O$5:$O$35,MATCH(RIGHT('Appliance Calculations'!A84,8),'Appliances References'!$N$5:$N$35,0)))","v":{"$error":"#N/A"}},null,null,null,null,null,{"$f":"IF('Appliances Worksheet'!G102=\"\",\"\",'Appliances Worksheet'!G102)","v":""},null,null,null,{"$f":"IF('Appliances Worksheet'!J102=\"\",\"\",'Appliances Worksheet'!J102)","v":""},null,{"$f":"IF('Appliances Worksheet'!E102=\"\",\"\",'Appliances Worksheet'!E102)","v":""}]
[null,null,null,{"$f":"IF('Appliances Worksheet'!E103=\"\",NA(),INDEX('Appliances References'!$O$5:$O$35,MATCH(RIGHT('Appliance Calculations'!A85,8),'Appliances References'!$N$5:$N$35,0)))","v":{"$error":"#N/A"}},null,null,null,null,null,{"$f":"IF('Appliances Worksheet'!J103=\"\",\"\",'Appliances Worksheet'!J103)","v":"Manufacturer"},null,null,null,{"$f":"IF('Appliances Worksheet'!M103=\"\",\"\",'Appliances Worksheet'!M103)","v":"Model Number"},null,{"$f":"IF('Appliances Worksheet'!E103=\"\",\"\",'Appliances Worksheet'!E103)","v":"Proposed Quantity"}]
[null,null,null,{"$f":"IF('Appliances Worksheet'!E104=\"\",NA(),INDEX('Appliances References'!$O$5:$O$35,MATCH(RIGHT('Appliance Calculations'!A86,8),'Appliances References'!$N$5:$N$35,0)))","v":{"$error":"#N/A"}},null,null,null,null,null,{"$f":"IF('Appliances Worksheet'!J104=\"\",\"\",'Appliances Worksheet'!J104)","v":""},null,null,null,{"$f":"IF('Appliances Worksheet'!M104=\"\",\"\",'Appliances Worksheet'!M104)","v":""},null,{"$f":"IF('Appliances Worksheet'!E104=\"\",\"\",'Appliances Worksheet'!E104)","v":""}]
[null,null,null,{"$f":"IF('Appliances Worksheet'!E105=\"\",NA(),INDEX('Appliances References'!$O$5:$O$35,MATCH(RIGHT('Appliance Calculations'!A87,8),'Appliances References'!$N$5:$N$35,0)))","v":{"$error":"#N/A"}},null,null,null,null,null,{"$f":"IF('Appliances Worksheet'!J105=\"\",\"\",'Appliances Worksheet'!J105)","v":""},null,null,null,{"$f":"IF('Appliances Worksheet'!M105=\"\",\"\",'Appliances Worksheet'!M105)","v":""},null,{"$f":"IF('Appliances Worksheet'!E105=\"\",\"\",'Appliances Worksheet'!E105)","v":""}]
[null,null,null,{"$f":"IF('Appliances Worksheet'!E106=\"\",NA(),INDEX('Appliances References'!$O$5:$O$35,MATCH(RIGHT('Appliance Calculations'!A88,8),'Appliances References'!$N$5:$N$35,0)))","v":{"$error":"#N/A"}},null,null,null,null,null,{"$f":"IF('Appliances Worksheet'!J106=\"\",\"\",'Appliances Worksheet'!J106)","v":""},null,null,null,{"$f":"IF('Appliances Worksheet'!M106=\"\",\"\",'Appliances Worksheet'!M106)","v":""},null,{"$f":"IF('Appliances Worksheet'!E106=\"\",\"\",'Appliances Worksheet'!E106)","v":""}]
[null,null,null,{"$f":"IF('Appliances Worksheet'!E107=\"\",NA(),INDEX('Appliances References'!$O$5:$O$35,MATCH(RIGHT('Appliance Calculations'!A89,8),'Appliances References'!$N$5:$N$35,0)))","v":{"$error":"#N/A"}},null,null,null,null,null,{"$f":"IF('Appliances Worksheet'!J107=\"\",\"\",'Appliances Worksheet'!J107)","v":""},null,null,null,{"$f":"IF('Appliances Worksheet'!M107=\"\",\"\",'Appliances Worksheet'!M107)","v":""},null,{"$f":"IF('Appliances Worksheet'!E107=\"\",\"\",'Appliances Worksheet'!E107)","v":""}]
[null,null,null,{"$f":"IF('Appliances Worksheet'!E108=\"\",NA(),INDEX('Appliances References'!$O$5:$O$35,MATCH(RIGHT('Appliance Calculations'!A90,8),'Appliances References'!$N$5:$N$35,0)))","v":{"$error":"#N/A"}},null,null,null,null,null,{"$f":"IF('Appliances Worksheet'!J108=\"\",\"\",'Appliances Worksheet'!J108)","v":""},null,null,null,{"$f":"IF('Appliances Worksheet'!M108=\"\",\"\",'Appliances Worksheet'!M108)","v":""},null,{"$f":"IF('Appliances Worksheet'!E108=\"\",\"\",'Appliances Worksheet'!E108)","v":""}]
[null,null,null,{"$f":"IF('Appliances Worksheet'!E109=\"\",NA(),INDEX('Appliances References'!$O$5:$O$35,MATCH(RIGHT('Appliance Calculations'!A91,8),'Appliances References'!$N$5:$N$35,0)))","v":{"$error":"#N/A"}},null,null,null,null,null,{"$f":"IF('Appliances Worksheet'!J109=\"\",\"\",'Appliances Worksheet'!J109)","v":""},null,null,null,{"$f":"IF('Appliances Worksheet'!M109=\"\",\"\",'Appliances Worksheet'!M109)","v":""},null,{"$f":"IF('Appliances Worksheet'!E109=\"\",\"\",'Appliances Worksheet'!E109)","v":""}]
[null,null,null,{"$f":"IF('Appliances Worksheet'!E110=\"\",NA(),INDEX('Appliances References'!$O$5:$O$35,MATCH(RIGHT('Appliance Calculations'!A92,8),'Appliances References'!$N$5:$N$35,0)))","v":{"$error":"#N/A"}},null,null,null,null,null,{"$f":"IF('Appliances Worksheet'!J110=\"\",\"\",'Appliances Worksheet'!J110)","v":""},null,null,null,{"$f":"IF('Appliances Worksheet'!M110=\"\",\"\",'Appliances Worksheet'!M110)","v":""},null,{"$f":"IF('Appliances Worksheet'!E110=\"\",\"\",'Appliances Worksheet'!E110)","v":""}]
[null,null,null,{"$f":"IF('Appliances Worksheet'!E111=\"\",NA(),INDEX('Appliances References'!$O$5:$O$35,MATCH(RIGHT('Appliance Calculations'!A93,8),'Appliances References'!$N$5:$N$35,0)))","v":{"$error":"#N/A"}},null,null,null,null,null,{"$f":"IF('Appliances Worksheet'!J111=\"\",\"\",'Appliances Worksheet'!J111)","v":""},null,null,null,{"$f":"IF('Appliances Worksheet'!M111=\"\",\"\",'Appliances Worksheet'!M111)","v":""},null,{"$f":"IF('Appliances Worksheet'!E111=\"\",\"\",'Appliances Worksheet'!E111)","v":""}]
[null,null,null,{"$f":"IF('Appliances Worksheet'!E112=\"\",NA(),INDEX('Appliances References'!$O$5:$O$35,MATCH(RIGHT('Appliance Calculations'!A94,8),'Appliances References'!$N$5:$N$35,0)))","v":{"$error":"#N/A"}},null,null,null,null,null,{"$f":"IF('Appliances Worksheet'!J112=\"\",\"\",'Appliances Worksheet'!J112)","v":""},null,null,null,{"$f":"IF('Appliances Worksheet'!M112=\"\",\"\",'Appliances Worksheet'!M112)","v":""},null,{"$f":"IF('Appliances Worksheet'!E112=\"\",\"\",'Appliances Worksheet'!E112)","v":""}]
[null,null,null,{"$f":"IF('Appliances Worksheet'!E113=\"\",NA(),INDEX('Appliances References'!$O$5:$O$35,MATCH(RIGHT('Appliance Calculations'!A95,8),'Appliances References'!$N$5:$N$35,0)))","v":{"$error":"#N/A"}},null,null,null,null,null,{"$f":"IF('Appliances Worksheet'!J113=\"\",\"\",'Appliances Worksheet'!J113)","v":""},null,null,null,{"$f":"IF('Appliances Worksheet'!M113=\"\",\"\",'Appliances Worksheet'!M113)","v":""},null,{"$f":"IF('Appliances Worksheet'!E113=\"\",\"\",'Appliances Worksheet'!E113)","v":""}]
[null,null,null,{"$f":"IF('Appliances Worksheet'!E114=\"\",NA(),INDEX('Appliances References'!$O$5:$O$35,MATCH(RIGHT('Appliance Calculations'!A96,8),'Appliances References'!$N$5:$N$35,0)))","v":{"$error":"#N/A"}},null,null,null,null,null,{"$f":"IF('Appliances Worksheet'!J114=\"\",\"\",'Appliances Worksheet'!J114)","v":""},null,null,null,{"$f":"IF('Appliances Worksheet'!M114=\"\",\"\",'Appliances Worksheet'!M114)","v":""},null,{"$f":"IF('Appliances Worksheet'!E114=\"\",\"\",'Appliances Worksheet'!E114)","v":""}]
[null,null,null,{"$f":"IF('Appliances Worksheet'!E115=\"\",NA(),INDEX('Appliances References'!$O$5:$O$35,MATCH(RIGHT('Appliance Calculations'!A97,8),'Appliances References'!$N$5:$N$35,0)))","v":{"$error":"#N/A"}},null,null,null,null,null,{"$f":"IF('Appliances Worksheet'!J115=\"\",\"\",'Appliances Worksheet'!J115)","v":"Manufacturer"},null,null,null,{"$f":"IF('Appliances Worksheet'!M115=\"\",\"\",'Appliances Worksheet'!M115)","v":"Model Number"},null,{"$f":"IF('Appliances Worksheet'!E115=\"\",\"\",'Appliances Worksheet'!E115)","v":"Proposed Quantity"}]
[null,null,null,{"$f":"IF('Appliances Worksheet'!E116=\"\",NA(),INDEX('Appliances References'!$O$5:$O$35,MATCH(RIGHT('Appliance Calculations'!A98,8),'Appliances References'!$N$5:$N$35,0)))","v":{"$error":"#N/A"}},null,null,null,null,null,{"$f":"IF('Appliances Worksheet'!J116=\"\",\"\",'Appliances Worksheet'!J116)","v":""},null,null,null,{"$f":"IF('Appliances Worksheet'!M116=\"\",\"\",'Appliances Worksheet'!M116)","v":""},null,{"$f":"IF('Appliances Worksheet'!E116=\"\",\"\",'Appliances Worksheet'!E116)","v":""}]
[null,null,null,{"$f":"IF('Appliances Worksheet'!E117=\"\",NA(),INDEX('Appliances References'!$O$5:$O$35,MATCH(RIGHT('Appliance Calculations'!A99,8),'Appliances References'!$N$5:$N$35,0)))","v":{"$error":"#N/A"}},null,null,null,null,null,{"$f":"IF('Appliances Worksheet'!J117=\"\",\"\",'Appliances Worksheet'!J117)","v":""},null,null,null,{"$f":"IF('Appliances Worksheet'!M117=\"\",\"\",'Appliances Worksheet'!M117)","v":""},null,{"$f":"IF('Appliances Worksheet'!E117=\"\",\"\",'Appliances Worksheet'!E117)","v":""}]
[null,null,null,{"$f":"IF('Appliances Worksheet'!E118=\"\",NA(),INDEX('Appliances References'!$O$5:$O$35,MATCH(RIGHT('Appliance Calculations'!A100,8),'Appliances References'!$N$5:$N$35,0)))","v":{"$error":"#N/A"}},null,null,null,null,null,{"$f":"IF('Appliances Worksheet'!J118=\"\",\"\",'Appliances Worksheet'!J118)","v":""},null,null,null,{"$f":"IF('Appliances Worksheet'!M118=\"\",\"\",'Appliances Worksheet'!M118)","v":""},null,{"$f":"IF('Appliances Worksheet'!E118=\"\",\"\",'Appliances Worksheet'!E118)","v":""}]
[null,null,null,{"$f":"IF('Appliances Worksheet'!E119=\"\",NA(),INDEX('Appliances References'!$O$5:$O$35,MATCH(RIGHT('Appliance Calculations'!A101,8),'Appliances References'!$N$5:$N$35,0)))","v":{"$error":"#N/A"}},null,null,null,null,null,{"$f":"IF('Appliances Worksheet'!J119=\"\",\"\",'Appliances Worksheet'!J119)","v":""},null,null,null,{"$f":"IF('Appliances Worksheet'!M119=\"\",\"\",'Appliances Worksheet'!M119)","v":""},null,{"$f":"IF('Appliances Worksheet'!E119=\"\",\"\",'Appliances Worksheet'!E119)","v":""}]
[null,null,null,{"$f":"IF('Appliances Worksheet'!E120=\"\",NA(),INDEX('Appliances References'!$O$5:$O$35,MATCH(RIGHT('Appliance Calculations'!A102,8),'Appliances References'!$N$5:$N$35,0)))","v":{"$error":"#N/A"}},null,null,null,null,null,{"$f":"IF('Appliances Worksheet'!G120=\"\",\"\",'Appliances Worksheet'!G120)","v":""},null,null,null,{"$f":"IF('Appliances Worksheet'!J120=\"\",\"\",'Appliances Worksheet'!J120)","v":""},null,{"$f":"IF('Appliances Worksheet'!E120=\"\",\"\",'Appliances Worksheet'!E120)","v":""}]
[null,null,null,{"$f":"IF('Appliances Worksheet'!E121=\"\",NA(),INDEX('Appliances References'!$O$5:$O$35,MATCH(RIGHT('Appliance Calculations'!A103,8),'Appliances References'!$N$5:$N$35,0)))","v":{"$error":"#N/A"}},null,null,null,null,null,{"$f":"IF('Appliances Worksheet'!G121=\"\",\"\",'Appliances Worksheet'!G121)","v":""},null,null,null,{"$f":"IF('Appliances Worksheet'!J121=\"\",\"\",'Appliances Worksheet'!J121)","v":""},null,{"$f":"IF('Appliances Worksheet'!E121=\"\",\"\",'Appliances Worksheet'!E121)","v":""}]
[null,null,null,{"$f":"IF('Appliances Worksheet'!E122=\"\",NA(),INDEX('Appliances References'!$O$5:$O$35,MATCH(RIGHT('Appliance Calculations'!A104,8),'Appliances References'!$N$5:$N$35,0)))","v":{"$error":"#N/A"}},null,null,null,null,null,{"$f":"IF('Appliances Worksheet'!G122=\"\",\"\",'Appliances Worksheet'!G122)","v":""},null,null,null,{"$f":"IF('Appliances Worksheet'!J122=\"\",\"\",'Appliances Worksheet'!J122)","v":""},null,{"$f":"IF('Appliances Worksheet'!E122=\"\",\"\",'Appliances Worksheet'!E122)","v":""}]
[null,null,null,{"$f":"IF('Appliances Worksheet'!E123=\"\",NA(),INDEX('Appliances References'!$O$5:$O$35,MATCH(RIGHT('Appliance Calculations'!A105,8),'Appliances References'!$N$5:$N$35,0)))","v":{"$error":"#N/A"}},null,null,null,null,null,{"$f":"IF('Appliances Worksheet'!G123=\"\",\"\",'Appliances Worksheet'!G123)","v":""},null,null,null,{"$f":"IF('Appliances Worksheet'!J123=\"\",\"\",'Appliances Worksheet'!J123)","v":""},null,{"$f":"IF('Appliances Worksheet'!E123=\"\",\"\",'Appliances Worksheet'!E123)","v":""}]
[null,null,null,{"$f":"IF('Appliances Worksheet'!E124=\"\",NA(),INDEX('Appliances References'!$O$5:$O$35,MATCH(RIGHT('Appliance Calculations'!A106,8),'Appliances References'!$N$5:$N$35,0)))","v":{"$error":"#N/A"}},null,null,null,null,null,{"$f":"IF('Appliances Worksheet'!G124=\"\",\"\",'Appliances Worksheet'!G124)","v":""},null,null,null,{"$f":"IF('Appliances Worksheet'!J124=\"\",\"\",'Appliances Worksheet'!J124)","v":""},null,{"$f":"IF('Appliances Worksheet'!E124=\"\",\"\",'Appliances Worksheet'!E124)","v":""}]
[null,null,null,{"$f":"IF('Appliances Worksheet'!E125=\"\",NA(),INDEX('Appliances References'!$O$5:$O$35,MATCH(RIGHT('Appliance Calculations'!A107,8),'Appliances References'!$N$5:$N$35,0)))","v":{"$error":"#N/A"}},null,null,null,null,null,{"$f":"IF('Appliances Worksheet'!G125=\"\",\"\",'Appliances Worksheet'!G125)","v":""},null,null,null,{"$f":"IF('Appliances Worksheet'!J125=\"\",\"\",'Appliances Worksheet'!J125)","v":""},null,{"$f":"IF('Appliances Worksheet'!E125=\"\",\"\",'Appliances Worksheet'!E125)","v":""}]
[null,null,null,{"$f":"IF('Appliances Worksheet'!E126=\"\",NA(),INDEX('Appliances References'!$O$5:$O$35,MATCH(RIGHT('Appliance Calculations'!A108,8),'Appliances References'!$N$5:$N$35,0)))","v":{"$error":"#N/A"}},null,null,null,null,null,{"$f":"IF('Appliances Worksheet'!G126=\"\",\"\",'Appliances Worksheet'!G126)","v":""},null,null,null,{"$f":"IF('Appliances Worksheet'!J126=\"\",\"\",'Appliances Worksheet'!J126)","v":""},null,{"$f":"IF('Appliances Worksheet'!E126=\"\",\"\",'Appliances Worksheet'!E126)","v":""}]
[null,null,null,{"$f":"IF('Appliances Worksheet'!E127=\"\",NA(),INDEX('Appliances References'!$O$5:$O$35,MATCH(RIGHT('Appliance Calculations'!A109,8),'Appliances References'!$N$5:$N$35,0)))","v":{"$error":"#N/A"}},null,null,null,null,null,{"$f":"IF('Appliances Worksheet'!J127=\"\",\"\",'Appliances Worksheet'!J127)","v":"Manufacturer"},null,null,null,{"$f":"IF('Appliances Worksheet'!M127=\"\",\"\",'Appliances Worksheet'!M127)","v":"Model Number"},null,{"$f":"IF('Appliances Worksheet'!E127=\"\",\"\",'Appliances Worksheet'!E127)","v":"Proposed Quantity"}]
[null,null,null,{"$f":"IF('Appliances Worksheet'!E128=\"\",NA(),INDEX('Appliances References'!$O$5:$O$35,MATCH(RIGHT('Appliance Calculations'!A110,8),'Appliances References'!$N$5:$N$35,0)))","v":{"$error":"#N/A"}},null,null,null,null,null,{"$f":"IF('Appliances Worksheet'!J128=\"\",\"\",'Appliances Worksheet'!J128)","v":""},null,null,null,{"$f":"IF('Appliances Worksheet'!M128=\"\",\"\",'Appliances Worksheet'!M128)","v":""},null,{"$f":"IF('Appliances Worksheet'!E128=\"\",\"\",'Appliances Worksheet'!E128)","v":""}]
[null,null,null,{"$f":"IF('Appliances Worksheet'!E129=\"\",NA(),INDEX('Appliances References'!$O$5:$O$35,MATCH(RIGHT('Appliance Calculations'!A111,8),'Appliances References'!$N$5:$N$35,0)))","v":{"$error":"#N/A"}},null,null,null,null,null,{"$f":"IF('Appliances Worksheet'!J129=\"\",\"\",'Appliances Worksheet'!J129)","v":""},null,null,null,{"$f":"IF('Appliances Worksheet'!M129=\"\",\"\",'Appliances Worksheet'!M129)","v":""},null,{"$f":"IF('Appliances Worksheet'!E129=\"\",\"\",'Appliances Worksheet'!E129)","v":""}]
[null,null,null,{"$f":"IF('Appliances Worksheet'!E130=\"\",NA(),INDEX('Appliances References'!$O$5:$O$35,MATCH(RIGHT('Appliance Calculations'!A112,8),'Appliances References'!$N$5:$N$35,0)))","v":{"$error":"#N/A"}},null,null,null,null,null,{"$f":"IF('Appliances Worksheet'!J130=\"\",\"\",'Appliances Worksheet'!J130)","v":""},null,null,null,{"$f":"IF('Appliances Worksheet'!M130=\"\",\"\",'Appliances Worksheet'!M130)","v":""},null,{"$f":"IF('Appliances Worksheet'!E130=\"\",\"\",'Appliances Worksheet'!E130)","v":""}]
[null,null,null,{"$f":"IF('Appliances Worksheet'!E131=\"\",NA(),INDEX('Appliances References'!$O$5:$O$35,MATCH(RIGHT('Appliance Calculations'!A113,8),'Appliances References'!$N$5:$N$35,0)))","v":{"$error":"#N/A"}},null,null,null,null,null,{"$f":"IF('Appliances Worksheet'!J131=\"\",\"\",'Appliances Worksheet'!J131)","v":""},null,null,null,{"$f":"IF('Appliances Worksheet'!M131=\"\",\"\",'Appliances Worksheet'!M131)","v":""},null,{"$f":"IF('Appliances Worksheet'!E131=\"\",\"\",'Appliances Worksheet'!E131)","v":""}]
[null,null,null,{"$f":"IF('Appliances Worksheet'!E132=\"\",NA(),INDEX('Appliances References'!$O$5:$O$35,MATCH(RIGHT('Appliance Calculations'!A114,8),'Appliances References'!$N$5:$N$35,0)))","v":{"$error":"#N/A"}},null,null,null,null,null,{"$f":"IF('Appliances Worksheet'!J132=\"\",\"\",'Appliances Worksheet'!J132)","v":""},null,null,null,{"$f":"IF('Appliances Worksheet'!M132=\"\",\"\",'Appliances Worksheet'!M132)","v":""},null,{"$f":"IF('Appliances Worksheet'!E132=\"\",\"\",'Appliances Worksheet'!E132)","v":""}]
[null,null,null,{"$f":"IF('Appliances Worksheet'!E133=\"\",NA(),INDEX('Appliances References'!$O$5:$O$35,MATCH(RIGHT('Appliance Calculations'!A115,8),'Appliances References'!$N$5:$N$35,0)))","v":{"$error":"#N/A"}},null,null,null,null,null,{"$f":"IF('Appliances Worksheet'!J133=\"\",\"\",'Appliances Worksheet'!J133)","v":""},null,null,null,{"$f":"IF('Appliances Worksheet'!M133=\"\",\"\",'Appliances Worksheet'!M133)","v":""},null,{"$f":"IF('Appliances Worksheet'!E133=\"\",\"\",'Appliances Worksheet'!E133)","v":""}]
[null,null,null,{"$f":"IF('Appliances Worksheet'!E134=\"\",NA(),INDEX('Appliances References'!$O$5:$O$35,MATCH(RIGHT('Appliance Calculations'!A116,8),'Appliances References'!$N$5:$N$35,0)))","v":{"$error":"#N/A"}},null,null,null,null,null,{"$f":"IF('Appliances Worksheet'!J134=\"\",\"\",'Appliances Worksheet'!J134)","v":""},null,null,null,{"$f":"IF('Appliances Worksheet'!M134=\"\",\"\",'Appliances Worksheet'!M134)","v":""},null,{"$f":"IF('Appliances Worksheet'!E134=\"\",\"\",'Appliances Worksheet'!E134)","v":""}]
[null,null,null,{"$f":"IF('Appliances Worksheet'!E135=\"\",NA(),INDEX('Appliances References'!$O$5:$O$35,MATCH(RIGHT('Appliance Calculations'!A117,8),'Appliances References'!$N$5:$N$35,0)))","v":{"$error":"#N/A"}},null,null,null,null,null,{"$f":"IF('Appliances Worksheet'!J135=\"\",\"\",'Appliances Worksheet'!J135)","v":""},null,null,null,{"$f":"IF('Appliances Worksheet'!M135=\"\",\"\",'Appliances Worksheet'!M135)","v":""},null,{"$f":"IF('Appliances Worksheet'!E135=\"\",\"\",'Appliances Worksheet'!E135)","v":""}]
[null,null,null,{"$f":"IF('Appliances Worksheet'!E136=\"\",NA(),INDEX('Appliances References'!$O$5:$O$35,MATCH(RIGHT('Appliance Calculations'!A118,8),'Appliances References'!$N$5:$N$35,0)))","v":{"$error":"#N/A"}},null,null,null,null,null,{"$f":"IF('Appliances Worksheet'!J136=\"\",\"\",'Appliances Worksheet'!J136)","v":""},null,null,null,{"$f":"IF('Appliances Worksheet'!M136=\"\",\"\",'Appliances Worksheet'!M136)","v":""},null,{"$f":"IF('Appliances Worksheet'!E136=\"\",\"\",'Appliances Worksheet'!E136)","v":""}]
[null,null,null,{"$f":"IF('Appliances Worksheet'!E137=\"\",NA(),INDEX('Appliances References'!$O$5:$O$35,MATCH(RIGHT('Appliance Calculations'!A119,8),'Appliances References'!$N$5:$N$35,0)))","v":{"$error":"#N/A"}},null,null,null,null,null,{"$f":"IF('Appliances Worksheet'!J137=\"\",\"\",'Appliances Worksheet'!J137)","v":""},null,null,null,{"$f":"IF('Appliances Worksheet'!M137=\"\",\"\",'Appliances Worksheet'!M137)","v":""},null,{"$f":"IF('Appliances Worksheet'!E137=\"\",\"\",'Appliances Worksheet'!E137)","v":""}]
[null,null,null,{"$f":"IF('Appliances Worksheet'!E138=\"\",NA(),INDEX('Appliances References'!$O$5:$O$35,MATCH(RIGHT('Appliance Calculations'!A120,8),'Appliances References'!$N$5:$N$35,0)))","v":{"$error":"#N/A"}},null,null,null,null,null,{"$f":"IF('Appliances Worksheet'!J138=\"\",\"\",'Appliances Worksheet'!J138)","v":" "},null,null,null,{"$f":"IF('Appliances Worksheet'!M138=\"\",\"\",'Appliances Worksheet'!M138)","v":""},null,{"$f":"IF('Appliances Worksheet'!E138=\"\",\"\",'Appliances Worksheet'!E138)","v":""}]
[null,null,null,{"$f":"IF('Appliances Worksheet'!E139=\"\",NA(),INDEX('Appliances References'!$O$5:$O$35,MATCH(RIGHT('Appliance Calculations'!A121,8),'Appliances References'!$N$5:$N$35,0)))","v":{"$error":"#N/A"}},null,null,null,null,null,{"$f":"IF('Appliances Worksheet'!M139=\"\",\"\",'Appliances Worksheet'!M139)","v":"Manufacturer"},null,null,null,{"$f":"IF('Appliances Worksheet'!P139=\"\",\"\",'Appliances Worksheet'!P139)","v":"Model Number"},null,{"$f":"IF('Appliances Worksheet'!E139=\"\",\"\",'Appliances Worksheet'!E139)","v":"Proposed Quantity"}]
[null,null,null,{"$f":"IF('Appliances Worksheet'!E140=\"\",NA(),INDEX('Appliances References'!$O$5:$O$35,MATCH(RIGHT('Appliance Calculations'!A122,8),'Appliances References'!$N$5:$N$35,0)))","v":{"$error":"#N/A"}},null,null,null,null,null,{"$f":"IF('Appliances Worksheet'!M140=\"\",\"\",'Appliances Worksheet'!M140)","v":""},null,null,null,{"$f":"IF('Appliances Worksheet'!P140=\"\",\"\",'Appliances Worksheet'!P140)","v":""},null,{"$f":"IF('Appliances Worksheet'!E140=\"\",\"\",'Appliances Worksheet'!E140)","v":""}]
[null,null,null,{"$f":"IF('Appliances Worksheet'!E141=\"\",NA(),INDEX('Appliances References'!$O$5:$O$35,MATCH(RIGHT('Appliance Calculations'!A123,8),'Appliances References'!$N$5:$N$35,0)))","v":{"$error":"#N/A"}},null,null,null,null,null,{"$f":"IF('Appliances Worksheet'!M141=\"\",\"\",'Appliances Worksheet'!M141)","v":""},null,null,null,{"$f":"IF('Appliances Worksheet'!P141=\"\",\"\",'Appliances Worksheet'!P141)","v":""},null,{"$f":"IF('Appliances Worksheet'!E141=\"\",\"\",'Appliances Worksheet'!E141)","v":""}]
[null,null,null,{"$f":"IF('Appliances Worksheet'!E142=\"\",NA(),INDEX('Appliances References'!$O$5:$O$35,MATCH(RIGHT('Appliance Calculations'!A124,8),'Appliances References'!$N$5:$N$35,0)))","v":{"$error":"#N/A"}},null,null,null,null,null,{"$f":"IF('Appliances Worksheet'!M142=\"\",\"\",'Appliances Worksheet'!M142)","v":""},null,null,null,{"$f":"IF('Appliances Worksheet'!P142=\"\",\"\",'Appliances Worksheet'!P142)","v":""},null,{"$f":"IF('Appliances Worksheet'!E142=\"\",\"\",'Appliances Worksheet'!E142)","v":""}]
[null,null,null,{"$f":"IF('Appliances Worksheet'!E143=\"\",NA(),INDEX('Appliances References'!$O$5:$O$35,MATCH(RIGHT('Appliance Calculations'!A125,8),'Appliances References'!$N$5:$N$35,0)))","v":{"$error":"#N/A"}},null,null,null,null,null,{"$f":"IF('Appliances Worksheet'!M143=\"\",\"\",'Appliances Worksheet'!M143)","v":""},null,null,null,{"$f":"IF('Appliances Worksheet'!P143=\"\",\"\",'Appliances Worksheet'!P143)","v":""},null,{"$f":"IF('Appliances Worksheet'!E143=\"\",\"\",'Appliances Worksheet'!E143)","v":""}]
[null,null,null,{"$f":"IF('Appliances Worksheet'!E144=\"\",NA(),INDEX('Appliances References'!$O$5:$O$35,MATCH(RIGHT('Appliance Calculations'!A126,8),'Appliances References'!$N$5:$N$35,0)))","v":{"$error":"#N/A"}},null,null,null,null,null,{"$f":"IF('Appliances Worksheet'!M144=\"\",\"\",'Appliances Worksheet'!M144)","v":""},null,null,null,{"$f":"IF('Appliances Worksheet'!P144=\"\",\"\",'Appliances Worksheet'!P144)","v":""},null,{"$f":"IF('Appliances Worksheet'!E144=\"\",\"\",'Appliances Worksheet'!E144)","v":""}]
[null,null,null,{"$f":"IF('Appliances Worksheet'!E145=\"\",NA(),INDEX('Appliances References'!$O$5:$O$35,MATCH(RIGHT('Appliance Calculations'!A127,8),'Appliances References'!$N$5:$N$35,0)))","v":{"$error":"#N/A"}},null,null,null,null,null,{"$f":"IF('Appliances Worksheet'!M145=\"\",\"\",'Appliances Worksheet'!M145)","v":""},null,null,null,{"$f":"IF('Appliances Worksheet'!P145=\"\",\"\",'Appliances Worksheet'!P145)","v":""},null,{"$f":"IF('Appliances Worksheet'!E145=\"\",\"\",'Appliances Worksheet'!E145)","v":""}]
[null,null,null,{"$f":"IF('Appliances Worksheet'!E146=\"\",NA(),INDEX('Appliances References'!$O$5:$O$35,MATCH(RIGHT('Appliance Calculations'!A128,8),'Appliances References'!$N$5:$N$35,0)))","v":{"$error":"#N/A"}},null,null,null,null,null,{"$f":"IF('Appliances Worksheet'!M146=\"\",\"\",'Appliances Worksheet'!M146)","v":""},null,null,null,{"$f":"IF('Appliances Worksheet'!P146=\"\",\"\",'Appliances Worksheet'!P146)","v":""},null,{"$f":"IF('Appliances Worksheet'!E146=\"\",\"\",'Appliances Worksheet'!E146)","v":""}]
[null,null,null,{"$f":"IF('Appliances Worksheet'!E147=\"\",NA(),INDEX('Appliances References'!$O$5:$O$35,MATCH(RIGHT('Appliance Calculations'!A129,8),'Appliances References'!$N$5:$N$35,0)))","v":{"$error":"#N/A"}},null,null,null,null,null,{"$f":"IF('Appliances Worksheet'!M147=\"\",\"\",'Appliances Worksheet'!M147)","v":""},null,null,null,{"$f":"IF('Appliances Worksheet'!P147=\"\",\"\",'Appliances Worksheet'!P147)","v":""},null,{"$f":"IF('Appliances Worksheet'!E147=\"\",\"\",'Appliances Worksheet'!E147)","v":""}]
[null,null,null,{"$f":"IF('Appliances Worksheet'!E148=\"\",NA(),INDEX('Appliances References'!$O$5:$O$35,MATCH(RIGHT('Appliance Calculations'!A130,8),'Appliances References'!$N$5:$N$35,0)))","v":{"$error":"#N/A"}},null,null,null,null,null,{"$f":"IF('Appliances Worksheet'!M148=\"\",\"\",'Appliances Worksheet'!M148)","v":""},null,null,null,{"$f":"IF('Appliances Worksheet'!P148=\"\",\"\",'Appliances Worksheet'!P148)","v":""},null,{"$f":"IF('Appliances Worksheet'!E148=\"\",\"\",'Appliances Worksheet'!E148)","v":""}]
[null,null,null,{"$f":"IF('Appliances Worksheet'!E149=\"\",NA(),INDEX('Appliances References'!$O$5:$O$35,MATCH(RIGHT('Appliance Calculations'!A131,8),'Appliances References'!$N$5:$N$35,0)))","v":{"$error":"#N/A"}},null,null,null,null,null,{"$f":"IF('Appliances Worksheet'!M149=\"\",\"\",'Appliances Worksheet'!M149)","v":""},null,null,null,{"$f":"IF('Appliances Worksheet'!P149=\"\",\"\",'Appliances Worksheet'!P149)","v":""},null,{"$f":"IF('Appliances Worksheet'!E149=\"\",\"\",'Appliances Worksheet'!E149)","v":""}]
[null,null,null,{"$f":"IF('Appliances Worksheet'!E150=\"\",NA(),INDEX('Appliances References'!$O$5:$O$35,MATCH(RIGHT('Appliance Calculations'!A132,8),'Appliances References'!$N$5:$N$35,0)))","v":{"$error":"#N/A"}},null,null,null,null,null,{"$f":"IF('Appliances Worksheet'!M150=\"\",\"\",'Appliances Worksheet'!M150)","v":""},null,null,null,{"$f":"IF('Appliances Worksheet'!P150=\"\",\"\",'Appliances Worksheet'!P150)","v":""},null,{"$f":"IF('Appliances Worksheet'!E150=\"\",\"\",'Appliances Worksheet'!E150)","v":""}]
[null,null,null,{"$f":"IF('Appliances Worksheet'!E151=\"\",NA(),INDEX('Appliances References'!$O$5:$O$35,MATCH(RIGHT('Appliance Calculations'!A133,8),'Appliances References'!$N$5:$N$35,0)))","v":{"$error":"#N/A"}},null,null,null,null,null,{"$f":"IF('Appliances Worksheet'!G151=\"\",\"\",'Appliances Worksheet'!G151)","v":"Manufacturer"},null,null,null,{"$f":"IF('Appliances Worksheet'!J151=\"\",\"\",'Appliances Worksheet'!J151)","v":"Model Number"},null,{"$f":"IF('Appliances Worksheet'!E151=\"\",\"\",'Appliances Worksheet'!E151)","v":"Proposed Quantity"}]
[null,null,null,{"$f":"IF('Appliances Worksheet'!E152=\"\",NA(),INDEX('Appliances References'!$O$5:$O$35,MATCH(RIGHT('Appliance Calculations'!A134,8),'Appliances References'!$N$5:$N$35,0)))","v":{"$error":"#N/A"}},null,null,null,null,null,{"$f":"IF('Appliances Worksheet'!G152=\"\",\"\",'Appliances Worksheet'!G152)","v":""},null,null,null,{"$f":"IF('Appliances Worksheet'!J152=\"\",\"\",'Appliances Worksheet'!J152)","v":""},null,{"$f":"IF('Appliances Worksheet'!E152=\"\",\"\",'Appliances Worksheet'!E152)","v":""}]
[null,null,null,{"$f":"IF('Appliances Worksheet'!E153=\"\",NA(),INDEX('Appliances References'!$O$5:$O$35,MATCH(RIGHT('Appliance Calculations'!A135,8),'Appliances References'!$N$5:$N$35,0)))","v":{"$error":"#N/A"}},null,null,null,null,null,{"$f":"IF('Appliances Worksheet'!G153=\"\",\"\",'Appliances Worksheet'!G153)","v":""},null,null,null,{"$f":"IF('Appliances Worksheet'!J153=\"\",\"\",'Appliances Worksheet'!J153)","v":""},null,{"$f":"IF('Appliances Worksheet'!E153=\"\",\"\",'Appliances Worksheet'!E153)","v":""}]
[null,null,null,{"$f":"IF('Appliances Worksheet'!E154=\"\",NA(),INDEX('Appliances References'!$O$5:$O$35,MATCH(RIGHT('Appliance Calculations'!A136,8),'Appliances References'!$N$5:$N$35,0)))","v":{"$error":"#N/A"}},null,null,null,null,null,{"$f":"IF('Appliances Worksheet'!G154=\"\",\"\",'Appliances Worksheet'!G154)","v":""},null,null,null,{"$f":"IF('Appliances Worksheet'!J154=\"\",\"\",'Appliances Worksheet'!J154)","v":""},null,{"$f":"IF('Appliances Worksheet'!E154=\"\",\"\",'Appliances Worksheet'!E154)","v":""}]
[null,null,null,{"$f":"IF('Appliances Worksheet'!E155=\"\",NA(),INDEX('Appliances References'!$O$5:$O$35,MATCH(RIGHT('Appliance Calculations'!A137,8),'Appliances References'!$N$5:$N$35,0)))","v":{"$error":"#N/A"}},null,null,null,null,null,{"$f":"IF('Appliances Worksheet'!G155=\"\",\"\",'Appliances Worksheet'!G155)","v":""},null,null,null,{"$f":"IF('Appliances Worksheet'!J155=\"\",\"\",'Appliances Worksheet'!J155)","v":""},null,{"$f":"IF('Appliances Worksheet'!E155=\"\",\"\",'Appliances Worksheet'!E155)","v":""}]
[null,null,null,{"$f":"IF('Appliances Worksheet'!E156=\"\",NA(),INDEX('Appliances References'!$O$5:$O$35,MATCH(RIGHT('Appliance Calculations'!A138,8),'Appliances References'!$N$5:$N$35,0)))","v":{"$error":"#N/A"}},null,null,null,null,null,{"$f":"IF('Appliances Worksheet'!J156=\"\",\"\",'Appliances Worksheet'!J156)","v":""},null,null,null,{"$f":"IF('Appliances Worksheet'!J156=\"\",\"\",'Appliances Worksheet'!J156)","v":""},null,{"$f":"IF('Appliances Worksheet'!E156=\"\",\"\",'Appliances Worksheet'!E156)","v":""}]
[null,null,null,{"$f":"IF('Appliances Worksheet'!E157=\"\",NA(),INDEX('Appliances References'!$O$5:$O$35,MATCH(RIGHT('Appliance Calculations'!A139,8),'Appliances References'!$N$5:$N$35,0)))","v":{"$error":"#N/A"}},null,null,null,null,null,{"$f":"IF('Appliances Worksheet'!J157=\"\",\"\",'Appliances Worksheet'!J157)","v":""},null,null,null,{"$f":"IF('Appliances Worksheet'!J157=\"\",\"\",'Appliances Worksheet'!J157)","v":""},null,{"$f":"IF('Appliances Worksheet'!E157=\"\",\"\",'Appliances Worksheet'!E157)","v":""}]
[null,null,null,{"$f":"IF('Appliances Worksheet'!E158=\"\",NA(),INDEX('Appliances References'!$O$5:$O$35,MATCH(RIGHT('Appliance Calculations'!A140,8),'Appliances References'!$N$5:$N$35,0)))","v":{"$error":"#N/A"}},null,null,null,null,null,{"$f":"IF('Appliances Worksheet'!J158=\"\",\"\",'Appliances Worksheet'!J158)","v":""},null,null,null,{"$f":"IF('Appliances Worksheet'!J158=\"\",\"\",'Appliances Worksheet'!J158)","v":""},null,{"$f":"IF('Appliances Worksheet'!E158=\"\",\"\",'Appliances Worksheet'!E158)","v":""}]
[null,null,null,{"$f":"IF('Appliances Worksheet'!E159=\"\",NA(),INDEX('Appliances References'!$O$5:$O$35,MATCH(RIGHT('Appliance Calculations'!A141,8),'Appliances References'!$N$5:$N$35,0)))","v":{"$error":"#N/A"}},null,null,null,null,null,{"$f":"IF('Appliances Worksheet'!J159=\"\",\"\",'Appliances Worksheet'!J159)","v":""},null,null,null,{"$f":"IF('Appliances Worksheet'!J159=\"\",\"\",'Appliances Worksheet'!J159)","v":""},null,{"$f":"IF('Appliances Worksheet'!E159=\"\",\"\",'Appliances Worksheet'!E159)","v":""}]
[null,null,null,{"$f":"IF('Appliances Worksheet'!E160=\"\",NA(),INDEX('Appliances References'!$O$5:$O$35,MATCH(RIGHT('Appliance Calculations'!A142,8),'Appliances References'!$N$5:$N$35,0)))","v":{"$error":"#N/A"}},null,null,null,null,null,{"$f":"IF('Appliances Worksheet'!J160=\"\",\"\",'Appliances Worksheet'!J160)","v":""},null,null,null,{"$f":"IF('Appliances Worksheet'!J160=\"\",\"\",'Appliances Worksheet'!J160)","v":""},null,{"$f":"IF('Appliances Worksheet'!E160=\"\",\"\",'Appliances Worksheet'!E160)","v":""}]
[null,null,null,{"$f":"IF('Appliances Worksheet'!E161=\"\",NA(),INDEX('Appliances References'!$O$5:$O$35,MATCH(RIGHT('Appliance Calculations'!A143,8),'Appliances References'!$N$5:$N$35,0)))","v":{"$error":"#N/A"}},null,null,null,null,null,{"$f":"IF('Appliances Worksheet'!J161=\"\",\"\",'Appliances Worksheet'!J161)","v":""},null,null,null,{"$f":"IF('Appliances Worksheet'!J161=\"\",\"\",'Appliances Worksheet'!J161)","v":""},null,{"$f":"IF('Appliances Worksheet'!E161=\"\",\"\",'Appliances Worksheet'!E161)","v":""}]
[null,null,null,{"$f":"IF('Appliances Worksheet'!E162=\"\",NA(),INDEX('Appliances References'!$O$5:$O$35,MATCH(RIGHT('Appliance Calculations'!A144,8),'Appliances References'!$N$5:$N$35,0)))","v":{"$error":"#N/A"}},null,null,null,null,null,{"$f":"IF('Appliances Worksheet'!J162=\"\",\"\",'Appliances Worksheet'!J162)","v":""},null,null,null,{"$f":"IF('Appliances Worksheet'!J162=\"\",\"\",'Appliances Worksheet'!J162)","v":""},null,{"$f":"IF('Appliances Worksheet'!E162=\"\",\"\",'Appliances Worksheet'!E162)","v":""}]
[null,null,null,{"$f":"IF('Appliances Worksheet'!E163=\"\",NA(),INDEX('Appliances References'!$O$5:$O$35,MATCH(RIGHT('Appliance Calculations'!A145,8),'Appliances References'!$N$5:$N$35,0)))","v":{"$error":"#N/A"}},null,null,null,null,null,{"$f":"IF('Appliances Worksheet'!G163=\"\",\"\",'Appliances Worksheet'!G163)","v":"Manufacturer"},null,null,null,{"$f":"IF('Appliances Worksheet'!J163=\"\",\"\",'Appliances Worksheet'!J163)","v":"Model Number"},null,{"$f":"IF('Appliances Worksheet'!E163=\"\",\"\",'Appliances Worksheet'!E163)","v":"Proposed Quantity"}]
[null,null,null,{"$f":"IF('Appliances Worksheet'!E164=\"\",NA(),INDEX('Appliances References'!$O$5:$O$35,MATCH(RIGHT('Appliance Calculations'!A146,8),'Appliances References'!$N$5:$N$35,0)))","v":{"$error":"#N/A"}},null,null,null,null,null,{"$f":"IF('Appliances Worksheet'!G164=\"\",\"\",'Appliances Worksheet'!G164)","v":""},null,null,null,{"$f":"IF('Appliances Worksheet'!J164=\"\",\"\",'Appliances Worksheet'!J164)","v":""},null,{"$f":"IF('Appliances Worksheet'!E164=\"\",\"\",'Appliances Worksheet'!E164)","v":""}]
[null,null,null,{"$f":"IF('Appliances Worksheet'!E165=\"\",NA(),INDEX('Appliances References'!$O$5:$O$35,MATCH(RIGHT('Appliance Calculations'!A147,8),'Appliances References'!$N$5:$N$35,0)))","v":{"$error":"#N/A"}},null,null,null,null,null,{"$f":"IF('Appliances Worksheet'!G165=\"\",\"\",'Appliances Worksheet'!G165)","v":""},null,null,null,{"$f":"IF('Appliances Worksheet'!J165=\"\",\"\",'Appliances Worksheet'!J165)","v":""},null,{"$f":"IF('Appliances Worksheet'!E165=\"\",\"\",'Appliances Worksheet'!E165)","v":""}]
[null,null,null,{"$f":"IF('Appliances Worksheet'!E166=\"\",NA(),INDEX('Appliances References'!$O$5:$O$35,MATCH(RIGHT('Appliance Calculations'!A148,8),'Appliances References'!$N$5:$N$35,0)))","v":{"$error":"#N/A"}},null,null,null,null,null,{"$f":"IF('Appliances Worksheet'!G166=\"\",\"\",'Appliances Worksheet'!G166)","v":""},null,null,null,{"$f":"IF('Appliances Worksheet'!J166=\"\",\"\",'Appliances Worksheet'!J166)","v":""},null,{"$f":"IF('Appliances Worksheet'!E166=\"\",\"\",'Appliances Worksheet'!E166)","v":""}]
[null,null,null,{"$f":"IF('Appliances Worksheet'!E167=\"\",NA(),INDEX('Appliances References'!$O$5:$O$35,MATCH(RIGHT('Appliance Calculations'!A149,8),'Appliances References'!$N$5:$N$35,0)))","v":{"$error":"#N/A"}},null,null,null,null,null,{"$f":"IF('Appliances Worksheet'!G167=\"\",\"\",'Appliances Worksheet'!G167)","v":""},null,null,null,{"$f":"IF('Appliances Worksheet'!J167=\"\",\"\",'Appliances Worksheet'!J167)","v":""},null,{"$f":"IF('Appliances Worksheet'!E167=\"\",\"\",'Appliances Worksheet'!E167)","v":""}]
[null,null,null,{"$f":"IF('Appliances Worksheet'!E168=\"\",NA(),INDEX('Appliances References'!$O$5:$O$35,MATCH(RIGHT('Appliance Calculations'!A150,8),'Appliances References'!$N$5:$N$35,0)))","v":{"$error":"#N/A"}},null,null,null,null,null,{"$f":"IF('Appliances Worksheet'!J168=\"\",\"\",'Appliances Worksheet'!J168)","v":""},null,null,null,{"$f":"IF('Appliances Worksheet'!J168=\"\",\"\",'Appliances Worksheet'!J168)","v":""},null,{"$f":"IF('Appliances Worksheet'!E168=\"\",\"\",'Appliances Worksheet'!E168)","v":""}]
[null,null,null,{"$f":"IF('Appliances Worksheet'!E169=\"\",NA(),INDEX('Appliances References'!$O$5:$O$35,MATCH(RIGHT('Appliance Calculations'!A151,8),'Appliances References'!$N$5:$N$35,0)))","v":{"$error":"#N/A"}},null,null,null,null,null,{"$f":"IF('Appliances Worksheet'!J169=\"\",\"\",'Appliances Worksheet'!J169)","v":""},null,null,null,{"$f":"IF('Appliances Worksheet'!J169=\"\",\"\",'Appliances Worksheet'!J169)","v":""},null,{"$f":"IF('Appliances Worksheet'!E169=\"\",\"\",'Appliances Worksheet'!E169)","v":""}]
[null,null,null,{"$f":"IF('Appliances Worksheet'!E170=\"\",NA(),INDEX('Appliances References'!$O$5:$O$35,MATCH(RIGHT('Appliance Calculations'!A152,8),'Appliances References'!$N$5:$N$35,0)))","v":{"$error":"#N/A"}},null,null,null,null,null,{"$f":"IF('Appliances Worksheet'!J170=\"\",\"\",'Appliances Worksheet'!J170)","v":""},null,null,null,{"$f":"IF('Appliances Worksheet'!J170=\"\",\"\",'Appliances Worksheet'!J170)","v":""},null,{"$f":"IF('Appliances Worksheet'!E170=\"\",\"\",'Appliances Worksheet'!E170)","v":""}]
[null,null,null,{"$f":"IF('Appliances Worksheet'!E171=\"\",NA(),INDEX('Appliances References'!$O$5:$O$35,MATCH(RIGHT('Appliance Calculations'!A153,8),'Appliances References'!$N$5:$N$35,0)))","v":{"$error":"#N/A"}},null,null,null,null,null,{"$f":"IF('Appliances Worksheet'!J171=\"\",\"\",'Appliances Worksheet'!J171)","v":""},null,null,null,{"$f":"IF('Appliances Worksheet'!J171=\"\",\"\",'Appliances Worksheet'!J171)","v":""},null,{"$f":"IF('Appliances Worksheet'!E171=\"\",\"\",'Appliances Worksheet'!E171)","v":""}]
[null,null,null,{"$f":"IF('Appliances Worksheet'!E172=\"\",NA(),INDEX('Appliances References'!$O$5:$O$35,MATCH(RIGHT('Appliance Calculations'!A154,8),'Appliances References'!$N$5:$N$35,0)))","v":{"$error":"#N/A"}},null,null,null,null,null,{"$f":"IF('Appliances Worksheet'!J172=\"\",\"\",'Appliances Worksheet'!J172)","v":""},null,null,null,{"$f":"IF('Appliances Worksheet'!J172=\"\",\"\",'Appliances Worksheet'!J172)","v":""},null,{"$f":"IF('Appliances Worksheet'!E172=\"\",\"\",'Appliances Worksheet'!E172)","v":""}]
[null,null,null,{"$f":"IF('Appliances Worksheet'!E173=\"\",NA(),INDEX('Appliances References'!$O$5:$O$35,MATCH(RIGHT('Appliance Calculations'!A155,8),'Appliances References'!$N$5:$N$35,0)))","v":{"$error":"#N/A"}},null,null,null,null,null,{"$f":"IF('Appliances Worksheet'!J173=\"\",\"\",'Appliances Worksheet'!J173)","v":""},null,null,null,{"$f":"IF('Appliances Worksheet'!J173=\"\",\"\",'Appliances Worksheet'!J173)","v":""},null,{"$f":"IF('Appliances Worksheet'!E173=\"\",\"\",'Appliances Worksheet'!E173)","v":""}]
[null,null,null,{"$f":"IF('Appliances Worksheet'!E174=\"\",NA(),INDEX('Appliances References'!$O$5:$O$35,MATCH(RIGHT('Appliance Calculations'!A156,8),'Appliances References'!$N$5:$N$35,0)))","v":{"$error":"#N/A"}},null,null,null,null,null,{"$f":"IF('Appliances Worksheet'!J174=\"\",\"\",'Appliances Worksheet'!J174)","v":""},null,null,null,{"$f":"IF('Appliances Worksheet'!J174=\"\",\"\",'Appliances Worksheet'!J174)","v":""},null,{"$f":"IF('Appliances Worksheet'!E174=\"\",\"\",'Appliances Worksheet'!E174)","v":""}]
[null,null,null,{"$f":"IF('Appliances Worksheet'!E175=\"\",NA(),INDEX('Appliances References'!$O$5:$O$35,MATCH(RIGHT('Appliance Calculations'!A157,8),'Appliances References'!$N$5:$N$35,0)))","v":{"$error":"#N/A"}},null,null,null,null,null,{"$f":"IF('Appliances Worksheet'!G175=\"\",\"\",'Appliances Worksheet'!G175)","v":"Manufacturer"},null,null,null,{"$f":"IF('Appliances Worksheet'!J175=\"\",\"\",'Appliances Worksheet'!J175)","v":"Model Number"},null,{"$f":"IF('Appliances Worksheet'!E175=\"\",\"\",'Appliances Worksheet'!E175)","v":"Proposed Quantity"}]
[null,null,null,{"$f":"IF('Appliances Worksheet'!E176=\"\",NA(),INDEX('Appliances References'!$O$5:$O$35,MATCH(RIGHT('Appliance Calculations'!A158,8),'Appliances References'!$N$5:$N$35,0)))","v":{"$error":"#N/A"}},null,null,null,null,null,{"$f":"IF('Appliances Worksheet'!G176=\"\",\"\",'Appliances Worksheet'!G176)","v":""},null,null,null,{"$f":"IF('Appliances Worksheet'!J176=\"\",\"\",'Appliances Worksheet'!J176)","v":""},null,{"$f":"IF('Appliances Worksheet'!E176=\"\",\"\",'Appliances Worksheet'!E176)","v":""}]
[null,null,null,{"$f":"IF('Appliances Worksheet'!E177=\"\",NA(),INDEX('Appliances References'!$O$5:$O$35,MATCH(RIGHT('Appliance Calculations'!A159,8),'Appliances References'!$N$5:$N$35,0)))","v":{"$error":"#N/A"}},null,null,null,null,null,{"$f":"IF('Appliances Worksheet'!G177=\"\",\"\",'Appliances Worksheet'!G177)","v":""},null,null,null,{"$f":"IF('Appliances Worksheet'!J177=\"\",\"\",'Appliances Worksheet'!J177)","v":""},null,{"$f":"IF('Appliances Worksheet'!E177=\"\",\"\",'Appliances Worksheet'!E177)","v":""}]
[null,null,null,{"$f":"IF('Appliances Worksheet'!E178=\"\",NA(),INDEX('Appliances References'!$O$5:$O$35,MATCH(RIGHT('Appliance Calculations'!A160,8),'Appliances References'!$N$5:$N$35,0)))","v":{"$error":"#N/A"}},null,null,null,null,null,{"$f":"IF('Appliances Worksheet'!G178=\"\",\"\",'Appliances Worksheet'!G178)","v":""},null,null,null,{"$f":"IF('Appliances Worksheet'!J178=\"\",\"\",'Appliances Worksheet'!J178)","v":""},null,{"$f":"IF('Appliances Worksheet'!E178=\"\",\"\",'Appliances Worksheet'!E178)","v":""}]
[null,null,null,{"$f":"IF('Appliances Worksheet'!E179=\"\",NA(),INDEX('Appliances References'!$O$5:$O$35,MATCH(RIGHT('Appliance Calculations'!A161,8),'Appliances References'!$N$5:$N$35,0)))","v":{"$error":"#N/A"}},null,null,null,null,null,{"$f":"IF('Appliances Worksheet'!G179=\"\",\"\",'Appliances Worksheet'!G179)","v":""},null,null,null,{"$f":"IF('Appliances Worksheet'!J179=\"\",\"\",'Appliances Worksheet'!J179)","v":""},null,{"$f":"IF('Appliances Worksheet'!E179=\"\",\"\",'Appliances Worksheet'!E179)","v":""}]
[null,null,null,{"$f":"IF('Appliances Worksheet'!E180=\"\",NA(),INDEX('Appliances References'!$O$5:$O$35,MATCH(RIGHT('Appliance Calculations'!A162,8),'Appliances References'!$N$5:$N$35,0)))","v":{"$error":"#N/A"}},null,null,null,null,null,{"$f":"IF('Appliances Worksheet'!J180=\"\",\"\",'Appliances Worksheet'!J180)","v":""},null,null,null,{"$f":"IF('Appliances Worksheet'!J180=\"\",\"\",'Appliances Worksheet'!J180)","v":""},null,{"$f":"IF('Appliances Worksheet'!E180=\"\",\"\",'Appliances Worksheet'!E180)","v":""}]
[null,null,null,{"$f":"IF('Appliances Worksheet'!E181=\"\",NA(),INDEX('Appliances References'!$O$5:$O$35,MATCH(RIGHT('Appliance Calculations'!A163,8),'Appliances References'!$N$5:$N$35,0)))","v":{"$error":"#N/A"}},null,null,null,null,null,{"$f":"IF('Appliances Worksheet'!J181=\"\",\"\",'Appliances Worksheet'!J181)","v":""},null,null,null,{"$f":"IF('Appliances Worksheet'!J181=\"\",\"\",'Appliances Worksheet'!J181)","v":""},null,{"$f":"IF('Appliances Worksheet'!E181=\"\",\"\",'Appliances Worksheet'!E181)","v":""}]
[null,null,null,{"$f":"IF('Appliances Worksheet'!E182=\"\",NA(),INDEX('Appliances References'!$O$5:$O$35,MATCH(RIGHT('Appliance Calculations'!A164,8),'Appliances References'!$N$5:$N$35,0)))","v":{"$error":"#N/A"}},null,null,null,null,null,{"$f":"IF('Appliances Worksheet'!J182=\"\",\"\",'Appliances Worksheet'!J182)","v":""},null,null,null,{"$f":"IF('Appliances Worksheet'!J182=\"\",\"\",'Appliances Worksheet'!J182)","v":""},null,{"$f":"IF('Appliances Worksheet'!E182=\"\",\"\",'Appliances Worksheet'!E182)","v":""}]
[null,null,null,{"$f":"IF('Appliances Worksheet'!E183=\"\",NA(),INDEX('Appliances References'!$O$5:$O$35,MATCH(RIGHT('Appliance Calculations'!A165,8),'Appliances References'!$N$5:$N$35,0)))","v":{"$error":"#N/A"}},null,null,null,null,null,{"$f":"IF('Appliances Worksheet'!J183=\"\",\"\",'Appliances Worksheet'!J183)","v":""},null,null,null,{"$f":"IF('Appliances Worksheet'!J183=\"\",\"\",'Appliances Worksheet'!J183)","v":""},null,{"$f":"IF('Appliances Worksheet'!E183=\"\",\"\",'Appliances Worksheet'!E183)","v":""}]
[null,null,null,{"$f":"IF('Appliances Worksheet'!E184=\"\",NA(),INDEX('Appliances References'!$O$5:$O$35,MATCH(RIGHT('Appliance Calculations'!A166,8),'Appliances References'!$N$5:$N$35,0)))","v":{"$error":"#N/A"}},null,null,null,null,null,{"$f":"IF('Appliances Worksheet'!J184=\"\",\"\",'Appliances Worksheet'!J184)","v":""},null,null,null,{"$f":"IF('Appliances Worksheet'!J184=\"\",\"\",'Appliances Worksheet'!J184)","v":""},null,{"$f":"IF('Appliances Worksheet'!E184=\"\",\"\",'Appliances Worksheet'!E184)","v":""}]
[null,null,null,{"$f":"IF('Appliances Worksheet'!E185=\"\",NA(),INDEX('Appliances References'!$O$5:$O$35,MATCH(RIGHT('Appliance Calculations'!A167,8),'Appliances References'!$N$5:$N$35,0)))","v":{"$error":"#N/A"}},null,null,null,null,null,{"$f":"IF('Appliances Worksheet'!J185=\"\",\"\",'Appliances Worksheet'!J185)","v":""},null,null,null,{"$f":"IF('Appliances Worksheet'!J185=\"\",\"\",'Appliances Worksheet'!J185)","v":""},null,{"$f":"IF('Appliances Worksheet'!E185=\"\",\"\",'Appliances Worksheet'!E185)","v":""}]
[null,null,null,{"$f":"IF('Appliances Worksheet'!E186=\"\",NA(),INDEX('Appliances References'!$O$5:$O$35,MATCH(RIGHT('Appliance Calculations'!A168,8),'Appliances References'!$N$5:$N$35,0)))","v":{"$error":"#N/A"}},null,null,null,null,null,{"$f":"IF('Appliances Worksheet'!J186=\"\",\"\",'Appliances Worksheet'!J186)","v":""},null,null,null,{"$f":"IF('Appliances Worksheet'!J186=\"\",\"\",'Appliances Worksheet'!J186)","v":""},null,{"$f":"IF('Appliances Worksheet'!E186=\"\",\"\",'Appliances Worksheet'!E186)","v":""}]
[null,null,null,{"$f":"IF('Appliances Worksheet'!E187=\"\",NA(),INDEX('Appliances References'!$O$5:$O$35,MATCH(RIGHT('Appliance Calculations'!A169,8),'Appliances References'!$N$5:$N$35,0)))","v":{"$error":"#N/A"}},null,null,null,null,null,{"$f":"IF('Appliances Worksheet'!G187=\"\",\"\",'Appliances Worksheet'!G187)","v":"Manufacturer"},null,null,null,{"$f":"IF('Appliances Worksheet'!J187=\"\",\"\",'Appliances Worksheet'!J187)","v":"Model Number"},null,{"$f":"IF('Appliances Worksheet'!E187=\"\",\"\",'Appliances Worksheet'!E187)","v":"Proposed Quantity"}]
[null,null,null,{"$f":"IF('Appliances Worksheet'!E188=\"\",NA(),INDEX('Appliances References'!$O$5:$O$35,MATCH(RIGHT('Appliance Calculations'!A170,8),'Appliances References'!$N$5:$N$35,0)))","v":{"$error":"#N/A"}},null,null,null,null,null,{"$f":"IF('Appliances Worksheet'!G188=\"\",\"\",'Appliances Worksheet'!G188)","v":""},null,null,null,{"$f":"IF('Appliances Worksheet'!J188=\"\",\"\",'Appliances Worksheet'!J188)","v":""},null,{"$f":"IF('Appliances Worksheet'!E188=\"\",\"\",'Appliances Worksheet'!E188)","v":""}]
[null,null,null,{"$f":"IF('Appliances Worksheet'!E189=\"\",NA(),INDEX('Appliances References'!$O$5:$O$35,MATCH(RIGHT('Appliance Calculations'!A171,8),'Appliances References'!$N$5:$N$35,0)))","v":{"$error":"#N/A"}},null,null,null,null,null,{"$f":"IF('Appliances Worksheet'!G189=\"\",\"\",'Appliances Worksheet'!G189)","v":""},null,null,null,{"$f":"IF('Appliances Worksheet'!J189=\"\",\"\",'Appliances Worksheet'!J189)","v":""},null,{"$f":"IF('Appliances Worksheet'!E189=\"\",\"\",'Appliances Worksheet'!E189)","v":""}]
[null,null,null,{"$f":"IF('Appliances Worksheet'!E190=\"\",NA(),INDEX('Appliances References'!$O$5:$O$35,MATCH(RIGHT('Appliance Calculations'!A172,8),'Appliances References'!$N$5:$N$35,0)))","v":{"$error":"#N/A"}},null,null,null,null,null,{"$f":"IF('Appliances Worksheet'!G190=\"\",\"\",'Appliances Worksheet'!G190)","v":""},null,null,null,{"$f":"IF('Appliances Worksheet'!J190=\"\",\"\",'Appliances Worksheet'!J190)","v":""},null,{"$f":"IF('Appliances Worksheet'!E190=\"\",\"\",'Appliances Worksheet'!E190)","v":""}]
[null,null,null,{"$f":"IF('Appliances Worksheet'!E191=\"\",NA(),INDEX('Appliances References'!$O$5:$O$35,MATCH(RIGHT('Appliance Calculations'!A173,8),'Appliances References'!$N$5:$N$35,0)))","v":{"$error":"#N/A"}},null,null,null,null,null,{"$f":"IF('Appliances Worksheet'!G191=\"\",\"\",'Appliances Worksheet'!G191)","v":""},null,null,null,{"$f":"IF('Appliances Worksheet'!J191=\"\",\"\",'Appliances Worksheet'!J191)","v":""},null,{"$f":"IF('Appliances Worksheet'!E191=\"\",\"\",'Appliances Worksheet'!E191)","v":""}]
[null,null,null,{"$f":"IF('Appliances Worksheet'!E192=\"\",NA(),INDEX('Appliances References'!$O$5:$O$35,MATCH(RIGHT('Appliance Calculations'!A174,8),'Appliances References'!$N$5:$N$35,0)))","v":{"$error":"#N/A"}},null,null,null,null,null,{"$f":"IF('Appliances Worksheet'!J192=\"\",\"\",'Appliances Worksheet'!J192)","v":""},null,null,null,{"$f":"IF('Appliances Worksheet'!J192=\"\",\"\",'Appliances Worksheet'!J192)","v":""},null,{"$f":"IF('Appliances Worksheet'!E192=\"\",\"\",'Appliances Worksheet'!E192)","v":""}]
[null,null,null,{"$f":"IF('Appliances Worksheet'!E193=\"\",NA(),INDEX('Appliances References'!$O$5:$O$35,MATCH(RIGHT('Appliance Calculations'!A175,8),'Appliances References'!$N$5:$N$35,0)))","v":{"$error":"#N/A"}},null,null,null,null,null,{"$f":"IF('Appliances Worksheet'!J193=\"\",\"\",'Appliances Worksheet'!J193)","v":""},null,null,null,{"$f":"IF('Appliances Worksheet'!J193=\"\",\"\",'Appliances Worksheet'!J193)","v":""},null,{"$f":"IF('Appliances Worksheet'!E193=\"\",\"\",'Appliances Worksheet'!E193)","v":""}]
[null,null,null,{"$f":"IF('Appliances Worksheet'!E194=\"\",NA(),INDEX('Appliances References'!$O$5:$O$35,MATCH(RIGHT('Appliance Calculations'!A176,8),'Appliances References'!$N$5:$N$35,0)))","v":{"$error":"#N/A"}},null,null,null,null,null,{"$f":"IF('Appliances Worksheet'!J194=\"\",\"\",'Appliances Worksheet'!J194)","v":""},null,null,null,{"$f":"IF('Appliances Worksheet'!J194=\"\",\"\",'Appliances Worksheet'!J194)","v":""},null,{"$f":"IF('Appliances Worksheet'!E194=\"\",\"\",'Appliances Worksheet'!E194)","v":""}]
[null,null,null,{"$f":"IF('Appliances Worksheet'!E195=\"\",NA(),INDEX('Appliances References'!$O$5:$O$35,MATCH(RIGHT('Appliance Calculations'!A177,8),'Appliances References'!$N$5:$N$35,0)))","v":{"$error":"#N/A"}},null,null,null,null,null,{"$f":"IF('Appliances Worksheet'!J195=\"\",\"\",'Appliances Worksheet'!J195)","v":""},null,null,null,{"$f":"IF('Appliances Worksheet'!J195=\"\",\"\",'Appliances Worksheet'!J195)","v":""},null,{"$f":"IF('Appliances Worksheet'!E195=\"\",\"\",'Appliances Worksheet'!E195)","v":""}]
[null,null,null,{"$f":"IF('Appliances Worksheet'!E196=\"\",NA(),INDEX('Appliances References'!$O$5:$O$35,MATCH(RIGHT('Appliance Calculations'!A178,8),'Appliances References'!$N$5:$N$35,0)))","v":{"$error":"#N/A"}},null,null,null,null,null,{"$f":"IF('Appliances Worksheet'!J196=\"\",\"\",'Appliances Worksheet'!J196)","v":""},null,null,null,{"$f":"IF('Appliances Worksheet'!J196=\"\",\"\",'Appliances Worksheet'!J196)","v":""},null,{"$f":"IF('Appliances Worksheet'!E196=\"\",\"\",'Appliances Worksheet'!E196)","v":""}]
[null,null,null,{"$f":"IF('Appliances Worksheet'!E197=\"\",NA(),INDEX('Appliances References'!$O$5:$O$35,MATCH(RIGHT('Appliance Calculations'!A179,8),'Appliances References'!$N$5:$N$35,0)))","v":{"$error":"#N/A"}},null,null,null,null,null,{"$f":"IF('Appliances Worksheet'!J197=\"\",\"\",'Appliances Worksheet'!J197)","v":""},null,null,null,{"$f":"IF('Appliances Worksheet'!J197=\"\",\"\",'Appliances Worksheet'!J197)","v":""},null,{"$f":"IF('Appliances Worksheet'!E197=\"\",\"\",'Appliances Worksheet'!E197)","v":""}]
[null,null,null,{"$f":"IF('Appliances Worksheet'!E198=\"\",NA(),INDEX('Appliances References'!$O$5:$O$35,MATCH(RIGHT('Appliance Calculations'!A180,8),'Appliances References'!$N$5:$N$35,0)))","v":{"$error":"#N/A"}},null,null,null,null,null,{"$f":"IF('Appliances Worksheet'!J198=\"\",\"\",'Appliances Worksheet'!J198)","v":""},null,null,null,{"$f":"IF('Appliances Worksheet'!J198=\"\",\"\",'Appliances Worksheet'!J198)","v":""},null,{"$f":"IF('Appliances Worksheet'!E198=\"\",\"\",'Appliances Worksheet'!E198)","v":""}]
[null,null,null,{"$f":"IF('Appliances Worksheet'!E199=\"\",NA(),INDEX('Appliances References'!$O$5:$O$35,MATCH(RIGHT('Appliance Calculations'!A181,8),'Appliances References'!$N$5:$N$35,0)))","v":{"$error":"#N/A"}},null,null,null,null,null,{"$f":"IF('Appliances Worksheet'!G199=\"\",\"\",'Appliances Worksheet'!G199)","v":"Manufacturer"},null,null,null,{"$f":"IF('Appliances Worksheet'!J199=\"\",\"\",'Appliances Worksheet'!J199)","v":"Model Number"},null,{"$f":"IF('Appliances Worksheet'!E199=\"\",\"\",'Appliances Worksheet'!E199)","v":"Proposed Quantity"}]
[null,null,null,{"$f":"IF('Appliances Worksheet'!E200=\"\",NA(),INDEX('Appliances References'!$O$5:$O$35,MATCH(RIGHT('Appliance Calculations'!A182,8),'Appliances References'!$N$5:$N$35,0)))","v":{"$error":"#N/A"}},null,null,null,null,null,{"$f":"IF('Appliances Worksheet'!G200=\"\",\"\",'Appliances Worksheet'!G200)","v":""},null,null,null,{"$f":"IF('Appliances Worksheet'!J200=\"\",\"\",'Appliances Worksheet'!J200)","v":""},null,{"$f":"IF('Appliances Worksheet'!E200=\"\",\"\",'Appliances Worksheet'!E200)","v":""}]
[null,null,null,{"$f":"IF('Appliances Worksheet'!E201=\"\",NA(),INDEX('Appliances References'!$O$5:$O$35,MATCH(RIGHT('Appliance Calculations'!A183,8),'Appliances References'!$N$5:$N$35,0)))","v":{"$error":"#N/A"}},null,null,null,null,null,{"$f":"IF('Appliances Worksheet'!G201=\"\",\"\",'Appliances Worksheet'!G201)","v":""},null,null,null,{"$f":"IF('Appliances Worksheet'!J201=\"\",\"\",'Appliances Worksheet'!J201)","v":""},null,{"$f":"IF('Appliances Worksheet'!E201=\"\",\"\",'Appliances Worksheet'!E201)","v":""}]
[null,null,null,{"$f":"IF('Appliances Worksheet'!E202=\"\",NA(),INDEX('Appliances References'!$O$5:$O$35,MATCH(RIGHT('Appliance Calculations'!A184,8),'Appliances References'!$N$5:$N$35,0)))","v":{"$error":"#N/A"}},null,null,null,null,null,{"$f":"IF('Appliances Worksheet'!G202=\"\",\"\",'Appliances Worksheet'!G202)","v":""},null,null,null,{"$f":"IF('Appliances Worksheet'!J202=\"\",\"\",'Appliances Worksheet'!J202)","v":""},null,{"$f":"IF('Appliances Worksheet'!E202=\"\",\"\",'Appliances Worksheet'!E202)","v":""}]
[null,null,null,{"$f":"IF('Appliances Worksheet'!E203=\"\",NA(),INDEX('Appliances References'!$O$5:$O$35,MATCH(RIGHT('Appliance Calculations'!A185,8),'Appliances References'!$N$5:$N$35,0)))","v":{"$error":"#N/A"}},null,null,null,null,null,{"$f":"IF('Appliances Worksheet'!G203=\"\",\"\",'Appliances Worksheet'!G203)","v":""},null,null,null,{"$f":"IF('Appliances Worksheet'!J203=\"\",\"\",'Appliances Worksheet'!J203)","v":""},null,{"$f":"IF('Appliances Worksheet'!E203=\"\",\"\",'Appliances Worksheet'!E203)","v":""}]
[null,null,null,{"$f":"IF('Appliances Worksheet'!E204=\"\",NA(),INDEX('Appliances References'!$O$5:$O$35,MATCH(RIGHT('Appliance Calculations'!A186,8),'Appliances References'!$N$5:$N$35,0)))","v":{"$error":"#N/A"}},null,null,null,null,null,{"$f":"IF('Appliances Worksheet'!G204=\"\",\"\",'Appliances Worksheet'!G204)","v":""},null,null,null,{"$f":"IF('Appliances Worksheet'!J204=\"\",\"\",'Appliances Worksheet'!J204)","v":""},null,{"$f":"IF('Appliances Worksheet'!E204=\"\",\"\",'Appliances Worksheet'!E204)","v":""}]
[null,null,null,{"$f":"IF('Appliances Worksheet'!E205=\"\",NA(),INDEX('Appliances References'!$O$5:$O$35,MATCH(RIGHT('Appliance Calculations'!A187,8),'Appliances References'!$N$5:$N$35,0)))","v":{"$error":"#N/A"}},null,null,null,null,null,{"$f":"IF('Appliances Worksheet'!G205=\"\",\"\",'Appliances Worksheet'!G205)","v":""},null,null,null,{"$f":"IF('Appliances Worksheet'!J205=\"\",\"\",'Appliances Worksheet'!J205)","v":""},null,{"$f":"IF('Appliances Worksheet'!E205=\"\",\"\",'Appliances Worksheet'!E205)","v":""}]
[null,null,null,{"$f":"IF('Appliances Worksheet'!E206=\"\",NA(),INDEX('Appliances References'!$O$5:$O$35,MATCH(RIGHT('Appliance Calculations'!A188,8),'Appliances References'!$N$5:$N$35,0)))","v":{"$error":"#N/A"}},null,null,null,null,null,{"$f":"IF('Appliances Worksheet'!G206=\"\",\"\",'Appliances Worksheet'!G206)","v":""},null,null,null,{"$f":"IF('Appliances Worksheet'!J206=\"\",\"\",'Appliances Worksheet'!J206)","v":""},null,{"$f":"IF('Appliances Worksheet'!E206=\"\",\"\",'Appliances Worksheet'!E206)","v":""}]
[null,null,null,{"$f":"IF('Appliances Worksheet'!E207=\"\",NA(),INDEX('Appliances References'!$O$5:$O$35,MATCH(RIGHT('Appliance Calculations'!A189,8),'Appliances References'!$N$5:$N$35,0)))","v":{"$error":"#N/A"}},null,null,null,null,null,{"$f":"IF('Appliances Worksheet'!G207=\"\",\"\",'Appliances Worksheet'!G207)","v":""},null,null,null,{"$f":"IF('Appliances Worksheet'!J207=\"\",\"\",'Appliances Worksheet'!J207)","v":""},null,{"$f":"IF('Appliances Worksheet'!E207=\"\",\"\",'Appliances Worksheet'!E207)","v":""}]
[null,null,null,{"$f":"IF('Appliances Worksheet'!E208=\"\",NA(),INDEX('Appliances References'!$O$5:$O$35,MATCH(RIGHT('Appliance Calculations'!A190,8),'Appliances References'!$N$5:$N$35,0)))","v":{"$error":"#N/A"}},null,null,null,null,null,{"$f":"IF('Appliances Worksheet'!G208=\"\",\"\",'Appliances Worksheet'!G208)","v":""},null,null,null,{"$f":"IF('Appliances Worksheet'!J208=\"\",\"\",'Appliances Worksheet'!J208)","v":""},null,{"$f":"IF('Appliances Worksheet'!E208=\"\",\"\",'Appliances Worksheet'!E208)","v":""}]
[null,null,null,{"$f":"IF('Appliances Worksheet'!E209=\"\",NA(),INDEX('Appliances References'!$O$5:$O$35,MATCH(RIGHT('Appliance Calculations'!A191,8),'Appliances References'!$N$5:$N$35,0)))","v":{"$error":"#N/A"}},null,null,null,null,null,{"$f":"IF('Appliances Worksheet'!G209=\"\",\"\",'Appliances Worksheet'!G209)","v":""},null,null,null,{"$f":"IF('Appliances Worksheet'!J209=\"\",\"\",'Appliances Worksheet'!J209)","v":""},null,{"$f":"IF('Appliances Worksheet'!E209=\"\",\"\",'Appliances Worksheet'!E209)","v":""}]
[null,null,null,{"$f":"IF('Appliances Worksheet'!E210=\"\",NA(),INDEX('Appliances References'!$O$5:$O$35,MATCH(RIGHT('Appliance Calculations'!A192,8),'Appliances References'!$N$5:$N$35,0)))","v":{"$error":"#N/A"}},null,null,null,null,null,{"$f":"IF('Appliances Worksheet'!G210=\"\",\"\",'Appliances Worksheet'!G210)","v":""},null,null,null,{"$f":"IF('Appliances Worksheet'!J210=\"\",\"\",'Appliances Worksheet'!J210)","v":""},null,{"$f":"IF('Appliances Worksheet'!E210=\"\",\"\",'Appliances Worksheet'!E210)","v":""}]
[null,null,null,{"$f":"IF('Appliances Worksheet'!E211=\"\",NA(),INDEX('Appliances References'!$O$5:$O$35,MATCH(RIGHT('Appliance Calculations'!A193,8),'Appliances References'!$N$5:$N$35,0)))","v":{"$error":"#N/A"}},null,null,null,null,null,{"$f":"IF('Appliances Worksheet'!J211=\"\",\"\",'Appliances Worksheet'!J211)","v":"Manufacturer"},null,null,null,{"$f":"IF('Appliances Worksheet'!M211=\"\",\"\",'Appliances Worksheet'!M211)","v":"Model Number"},null,{"$f":"IF('Appliances Worksheet'!E211=\"\",\"\",'Appliances Worksheet'!E211)","v":"Proposed Quantity"}]
[null,null,null,{"$f":"IF('Appliances Worksheet'!E212=\"\",NA(),INDEX('Appliances References'!$O$5:$O$35,MATCH(RIGHT('Appliance Calculations'!A194,8),'Appliances References'!$N$5:$N$35,0)))","v":{"$error":"#N/A"}},null,null,null,null,null,{"$f":"IF('Appliances Worksheet'!J212=\"\",\"\",'Appliances Worksheet'!J212)","v":""},null,null,null,{"$f":"IF('Appliances Worksheet'!M212=\"\",\"\",'Appliances Worksheet'!M212)","v":""},null,{"$f":"IF('Appliances Worksheet'!E212=\"\",\"\",'Appliances Worksheet'!E212)","v":""}]
[null,null,null,{"$f":"IF('Appliances Worksheet'!E213=\"\",NA(),INDEX('Appliances References'!$O$5:$O$35,MATCH(RIGHT('Appliance Calculations'!A195,8),'Appliances References'!$N$5:$N$35,0)))","v":{"$error":"#N/A"}},null,null,null,null,null,{"$f":"IF('Appliances Worksheet'!J213=\"\",\"\",'Appliances Worksheet'!J213)","v":""},null,null,null,{"$f":"IF('Appliances Worksheet'!M213=\"\",\"\",'Appliances Worksheet'!M213)","v":""},null,{"$f":"IF('Appliances Worksheet'!E213=\"\",\"\",'Appliances Worksheet'!E213)","v":""}]
[null,null,null,{"$f":"IF('Appliances Worksheet'!E214=\"\",NA(),INDEX('Appliances References'!$O$5:$O$35,MATCH(RIGHT('Appliance Calculations'!A196,8),'Appliances References'!$N$5:$N$35,0)))","v":{"$error":"#N/A"}},null,null,null,null,null,{"$f":"IF('Appliances Worksheet'!J214=\"\",\"\",'Appliances Worksheet'!J214)","v":""},null,null,null,{"$f":"IF('Appliances Worksheet'!M214=\"\",\"\",'Appliances Worksheet'!M214)","v":""},null,{"$f":"IF('Appliances Worksheet'!E214=\"\",\"\",'Appliances Worksheet'!E214)","v":""}]
[null,null,null,{"$f":"IF('Appliances Worksheet'!E215=\"\",NA(),INDEX('Appliances References'!$O$5:$O$35,MATCH(RIGHT('Appliance Calculations'!A197,8),'Appliances References'!$N$5:$N$35,0)))","v":{"$error":"#N/A"}},null,null,null,null,null,{"$f":"IF('Appliances Worksheet'!J215=\"\",\"\",'Appliances Worksheet'!J215)","v":""},null,null,null,{"$f":"IF('Appliances Worksheet'!M215=\"\",\"\",'Appliances Worksheet'!M215)","v":""},null,{"$f":"IF('Appliances Worksheet'!E215=\"\",\"\",'Appliances Worksheet'!E215)","v":""}]
[null,null,null,{"$f":"IF('Appliances Worksheet'!E216=\"\",NA(),INDEX('Appliances References'!$O$5:$O$35,MATCH(RIGHT('Appliance Calculations'!A198,8),'Appliances References'!$N$5:$N$35,0)))","v":{"$error":"#N/A"}},null,null,null,null,null,{"$f":"IF('Appliances Worksheet'!J216=\"\",\"\",'Appliances Worksheet'!J216)","v":""},null,null,null,{"$f":"IF('Appliances Worksheet'!M216=\"\",\"\",'Appliances Worksheet'!M216)","v":""},null,{"$f":"IF('Appliances Worksheet'!E216=\"\",\"\",'Appliances Worksheet'!E216)","v":""}]
[null,null,null,{"$f":"IF('Appliances Worksheet'!E217=\"\",NA(),INDEX('Appliances References'!$O$5:$O$35,MATCH(RIGHT('Appliance Calculations'!A199,8),'Appliances References'!$N$5:$N$35,0)))","v":{"$error":"#N/A"}},null,null,null,null,null,{"$f":"IF('Appliances Worksheet'!J217=\"\",\"\",'Appliances Worksheet'!J217)","v":""},null,null,null,{"$f":"IF('Appliances Worksheet'!M217=\"\",\"\",'Appliances Worksheet'!M217)","v":""},null,{"$f":"IF('Appliances Worksheet'!E217=\"\",\"\",'Appliances Worksheet'!E217)","v":""}]
[null,null,null,{"$f":"IF('Appliances Worksheet'!E218=\"\",NA(),INDEX('Appliances References'!$O$5:$O$35,MATCH(RIGHT('Appliance Calculations'!A200,8),'Appliances References'!$N$5:$N$35,0)))","v":{"$error":"#N/A"}},null,null,null,null,null,{"$f":"IF('Appliances Worksheet'!J218=\"\",\"\",'Appliances Worksheet'!J218)","v":""},null,null,null,{"$f":"IF('Appliances Worksheet'!M218=\"\",\"\",'Appliances Worksheet'!M218)","v":""},null,{"$f":"IF('Appliances Worksheet'!E218=\"\",\"\",'Appliances Worksheet'!E218)","v":""}]
[null,null,null,{"$f":"IF('Appliances Worksheet'!E219=\"\",NA(),INDEX('Appliances References'!$O$5:$O$35,MATCH(RIGHT('Appliance Calculations'!A201,8),'Appliances References'!$N$5:$N$35,0)))","v":{"$error":"#N/A"}},null,null,null,null,null,{"$f":"IF('Appliances Worksheet'!J219=\"\",\"\",'Appliances Worksheet'!J219)","v":""},null,null,null,{"$f":"IF('Appliances Worksheet'!M219=\"\",\"\",'Appliances Worksheet'!M219)","v":""},null,{"$f":"IF('Appliances Worksheet'!E219=\"\",\"\",'Appliances Worksheet'!E219)","v":""}]
[null,null,null,{"$f":"IF('Appliances Worksheet'!E220=\"\",NA(),INDEX('Appliances References'!$O$5:$O$35,MATCH(RIGHT('Appliance Calculations'!A202,8),'Appliances References'!$N$5:$N$35,0)))","v":{"$error":"#N/A"}},null,null,null,null,null,{"$f":"IF('Appliances Worksheet'!J220=\"\",\"\",'Appliances Worksheet'!J220)","v":""},null,null,null,{"$f":"IF('Appliances Worksheet'!M220=\"\",\"\",'Appliances Worksheet'!M220)","v":""},null,{"$f":"IF('Appliances Worksheet'!E220=\"\",\"\",'Appliances Worksheet'!E220)","v":""}]
[null,null,null,{"$f":"IF('Appliances Worksheet'!E221=\"\",NA(),INDEX('Appliances References'!$O$5:$O$35,MATCH(RIGHT('Appliance Calculations'!A203,8),'Appliances References'!$N$5:$N$35,0)))","v":{"$error":"#N/A"}},null,null,null,null,null,{"$f":"IF('Appliances Worksheet'!J221=\"\",\"\",'Appliances Worksheet'!J221)","v":""},null,null,null,{"$f":"IF('Appliances Worksheet'!M221=\"\",\"\",'Appliances Worksheet'!M221)","v":""},null,{"$f":"IF('Appliances Worksheet'!E221=\"\",\"\",'Appliances Worksheet'!E221)","v":""}]
[null,null,null,{"$f":"IF('Appliances Worksheet'!E222=\"\",NA(),INDEX('Appliances References'!$O$5:$O$35,MATCH(RIGHT('Appliance Calculations'!A204,8),'Appliances References'!$N$5:$N$35,0)))","v":{"$error":"#N/A"}},null,null,null,null,null,{"$f":"IF('Appliances Worksheet'!J222=\"\",\"\",'Appliances Worksheet'!J222)","v":""},null,null,null,{"$f":"IF('Appliances Worksheet'!M222=\"\",\"\",'Appliances Worksheet'!M222)","v":""},null,{"$f":"IF('Appliances Worksheet'!E222=\"\",\"\",'Appliances Worksheet'!E222)","v":""}]
[null,null,null,{"$f":"IF('Appliances Worksheet'!E223=\"\",NA(),INDEX('Appliances References'!$O$5:$O$35,MATCH(RIGHT('Appliance Calculations'!A205,8),'Appliances References'!$N$5:$N$35,0)))","v":{"$error":"#N/A"}},null,null,null,null,null,{"$f":"IF('Appliances Worksheet'!J223=\"\",\"\",'Appliances Worksheet'!J223)","v":"Manufacturer"},null,null,null,{"$f":"IF('Appliances Worksheet'!M223=\"\",\"\",'Appliances Worksheet'!M223)","v":"Model Number"},null,{"$f":"IF('Appliances Worksheet'!E223=\"\",\"\",'Appliances Worksheet'!E223)","v":"Proposed Quantity"}]
[null,null,null,{"$f":"IF('Appliances Worksheet'!E224=\"\",NA(),INDEX('Appliances References'!$O$5:$O$35,MATCH(RIGHT('Appliance Calculations'!A206,8),'Appliances References'!$N$5:$N$35,0)))","v":{"$error":"#N/A"}},null,null,null,null,null,{"$f":"IF('Appliances Worksheet'!J224=\"\",\"\",'Appliances Worksheet'!J224)","v":""},null,null,null,{"$f":"IF('Appliances Worksheet'!M224=\"\",\"\",'Appliances Worksheet'!M224)","v":""},null,{"$f":"IF('Appliances Worksheet'!E224=\"\",\"\",'Appliances Worksheet'!E224)","v":""}]
[null,null,null,{"$f":"IF('Appliances Worksheet'!E225=\"\",NA(),INDEX('Appliances References'!$O$5:$O$35,MATCH(RIGHT('Appliance Calculations'!A207,8),'Appliances References'!$N$5:$N$35,0)))","v":{"$error":"#N/A"}},null,null,null,null,null,{"$f":"IF('Appliances Worksheet'!J225=\"\",\"\",'Appliances Worksheet'!J225)","v":""},null,null,null,{"$f":"IF('Appliances Worksheet'!M225=\"\",\"\",'Appliances Worksheet'!M225)","v":""},null,{"$f":"IF('Appliances Worksheet'!E225=\"\",\"\",'Appliances Worksheet'!E225)","v":""}]
[null,null,null,{"$f":"IF('Appliances Worksheet'!E226=\"\",NA(),INDEX('Appliances References'!$O$5:$O$35,MATCH(RIGHT('Appliance Calculations'!A208,8),'Appliances References'!$N$5:$N$35,0)))","v":{"$error":"#N/A"}},null,null,null,null,null,{"$f":"IF('Appliances Worksheet'!J226=\"\",\"\",'Appliances Worksheet'!J226)","v":""},null,null,null,{"$f":"IF('Appliances Worksheet'!M226=\"\",\"\",'Appliances Worksheet'!M226)","v":""},null,{"$f":"IF('Appliances Worksheet'!E226=\"\",\"\",'Appliances Worksheet'!E226)","v":""}]
[null,null,null,{"$f":"IF('Appliances Worksheet'!E227=\"\",NA(),INDEX('Appliances References'!$O$5:$O$35,MATCH(RIGHT('Appliance Calculations'!A209,8),'Appliances References'!$N$5:$N$35,0)))","v":{"$error":"#N/A"}},null,null,null,null,null,{"$f":"IF('Appliances Worksheet'!J227=\"\",\"\",'Appliances Worksheet'!J227)","v":""},null,null,null,{"$f":"IF('Appliances Worksheet'!M227=\"\",\"\",'Appliances Worksheet'!M227)","v":""},null,{"$f":"IF('Appliances Worksheet'!E227=\"\",\"\",'Appliances Worksheet'!E227)","v":""}]
[null,null,null,{"$f":"IF('Appliances Worksheet'!E228=\"\",NA(),INDEX('Appliances References'!$O$5:$O$35,MATCH(RIGHT('Appliance Calculations'!A210,8),'Appliances References'!$N$5:$N$35,0)))","v":{"$error":"#N/A"}},null,null,null,null,null,{"$f":"IF('Appliances Worksheet'!J228=\"\",\"\",'Appliances Worksheet'!J228)","v":""},null,null,null,{"$f":"IF('Appliances Worksheet'!M228=\"\",\"\",'Appliances Worksheet'!M228)","v":""},null,{"$f":"IF('Appliances Worksheet'!E228=\"\",\"\",'Appliances Worksheet'!E228)","v":""}]
[null,null,null,{"$f":"IF('Appliances Worksheet'!E229=\"\",NA(),INDEX('Appliances References'!$O$5:$O$35,MATCH(RIGHT('Appliance Calculations'!A211,8),'Appliances References'!$N$5:$N$35,0)))","v":{"$error":"#N/A"}},null,null,null,null,null,{"$f":"IF('Appliances Worksheet'!J229=\"\",\"\",'Appliances Worksheet'!J229)","v":""},null,null,null,{"$f":"IF('Appliances Worksheet'!M229=\"\",\"\",'Appliances Worksheet'!M229)","v":""},null,{"$f":"IF('Appliances Worksheet'!E229=\"\",\"\",'Appliances Worksheet'!E229)","v":""}]
[null,null,null,{"$f":"IF('Appliances Worksheet'!E230=\"\",NA(),INDEX('Appliances References'!$O$5:$O$35,MATCH(RIGHT('Appliance Calculations'!A212,8),'Appliances References'!$N$5:$N$35,0)))","v":{"$error":"#N/A"}},null,null,null,null,null,{"$f":"IF('Appliances Worksheet'!J230=\"\",\"\",'Appliances Worksheet'!J230)","v":""},null,null,null,{"$f":"IF('Appliances Worksheet'!M230=\"\",\"\",'Appliances Worksheet'!M230)","v":""},null,{"$f":"IF('Appliances Worksheet'!E230=\"\",\"\",'Appliances Worksheet'!E230)","v":""}]
[null,null,null,{"$f":"IF('Appliances Worksheet'!E231=\"\",NA(),INDEX('Appliances References'!$O$5:$O$35,MATCH(RIGHT('Appliance Calculations'!A213,8),'Appliances References'!$N$5:$N$35,0)))","v":{"$error":"#N/A"}},null,null,null,null,null,{"$f":"IF('Appliances Worksheet'!J231=\"\",\"\",'Appliances Worksheet'!J231)","v":""},null,null,null,{"$f":"IF('Appliances Worksheet'!M231=\"\",\"\",'Appliances Worksheet'!M231)","v":""},null,{"$f":"IF('Appliances Worksheet'!E231=\"\",\"\",'Appliances Worksheet'!E231)","v":""}]
[null,null,null,{"$f":"IF('Appliances Worksheet'!E232=\"\",NA(),INDEX('Appliances References'!$O$5:$O$35,MATCH(RIGHT('Appliance Calculations'!A214,8),'Appliances References'!$N$5:$N$35,0)))","v":{"$error":"#N/A"}},null,null,null,null,null,{"$f":"IF('Appliances Worksheet'!J232=\"\",\"\",'Appliances Worksheet'!J232)","v":""},null,null,null,{"$f":"IF('Appliances Worksheet'!M232=\"\",\"\",'Appliances Worksheet'!M232)","v":""},null,{"$f":"IF('Appliances Worksheet'!E232=\"\",\"\",'Appliances Worksheet'!E232)","v":""}]
[null,null,null,{"$f":"IF('Appliances Worksheet'!E233=\"\",NA(),INDEX('Appliances References'!$O$5:$O$35,MATCH(RIGHT('Appliance Calculations'!A215,8),'Appliances References'!$N$5:$N$35,0)))","v":{"$error":"#N/A"}},null,null,null,null,null,{"$f":"IF('Appliances Worksheet'!J233=\"\",\"\",'Appliances Worksheet'!J233)","v":""},null,null,null,{"$f":"IF('Appliances Worksheet'!M233=\"\",\"\",'Appliances Worksheet'!M233)","v":""},null,{"$f":"IF('Appliances Worksheet'!E233=\"\",\"\",'Appliances Worksheet'!E233)","v":""}]
[null,null,null,{"$f":"IF('Appliances Worksheet'!E234=\"\",NA(),INDEX('Appliances References'!$O$5:$O$35,MATCH(RIGHT('Appliance Calculations'!A216,8),'Appliances References'!$N$5:$N$35,0)))","v":{"$error":"#N/A"}},null,null,null,null,null,{"$f":"IF('Appliances Worksheet'!J234=\"\",\"\",'Appliances Worksheet'!J234)","v":""},null,null,null,{"$f":"IF('Appliances Worksheet'!M234=\"\",\"\",'Appliances Worksheet'!M234)","v":""},null,{"$f":"IF('Appliances Worksheet'!E234=\"\",\"\",'Appliances Worksheet'!E234)","v":""}]
[null,null,null,{"$f":"IF('Appliances Worksheet'!E235=\"\",NA(),INDEX('Appliances References'!$O$5:$O$35,MATCH(RIGHT('Appliance Calculations'!A217,8),'Appliances References'!$N$5:$N$35,0)))","v":{"$error":"#N/A"}},null,null,null,null,null,{"$f":"IF('Appliances Worksheet'!J235=\"\",\"\",'Appliances Worksheet'!J235)","v":"Manufacturer"},null,null,null,{"$f":"IF('Appliances Worksheet'!M235=\"\",\"\",'Appliances Worksheet'!M235)","v":"Model Number"},null,{"$f":"IF('Appliances Worksheet'!E235=\"\",\"\",'Appliances Worksheet'!E235)","v":"Proposed Quantity"}]
[null,null,null,{"$f":"IF('Appliances Worksheet'!E236=\"\",NA(),INDEX('Appliances References'!$O$5:$O$35,MATCH(RIGHT('Appliance Calculations'!A218,8),'Appliances References'!$N$5:$N$35,0)))","v":{"$error":"#N/A"}},null,null,null,null,null,{"$f":"IF('Appliances Worksheet'!J236=\"\",\"\",'Appliances Worksheet'!J236)","v":""},null,null,null,{"$f":"IF('Appliances Worksheet'!M236=\"\",\"\",'Appliances Worksheet'!M236)","v":""},null,{"$f":"IF('Appliances Worksheet'!E236=\"\",\"\",'Appliances Worksheet'!E236)","v":""}]
[null,null,null,{"$f":"IF('Appliances Worksheet'!E237=\"\",NA(),INDEX('Appliances References'!$O$5:$O$35,MATCH(RIGHT('Appliance Calculations'!A219,8),'Appliances References'!$N$5:$N$35,0)))","v":{"$error":"#N/A"}},null,null,null,null,null,{"$f":"IF('Appliances Worksheet'!J237=\"\",\"\",'Appliances Worksheet'!J237)","v":""},null,null,null,{"$f":"IF('Appliances Worksheet'!M237=\"\",\"\",'Appliances Worksheet'!M237)","v":""},null,{"$f":"IF('Appliances Worksheet'!E237=\"\",\"\",'Appliances Worksheet'!E237)","v":""}]
[null,null,null,{"$f":"IF('Appliances Worksheet'!E238=\"\",NA(),INDEX('Appliances References'!$O$5:$O$35,MATCH(RIGHT('Appliance Calculations'!A220,8),'Appliances References'!$N$5:$N$35,0)))","v":{"$error":"#N/A"}},null,null,null,null,null,{"$f":"IF('Appliances Worksheet'!J238=\"\",\"\",'Appliances Worksheet'!J238)","v":""},null,null,null,{"$f":"IF('Appliances Worksheet'!M238=\"\",\"\",'Appliances Worksheet'!M238)","v":""},null,{"$f":"IF('Appliances Worksheet'!E238=\"\",\"\",'Appliances Worksheet'!E238)","v":""}]
[null,null,null,{"$f":"IF('Appliances Worksheet'!E239=\"\",NA(),INDEX('Appliances References'!$O$5:$O$35,MATCH(RIGHT('Appliance Calculations'!A221,8),'Appliances References'!$N$5:$N$35,0)))","v":{"$error":"#N/A"}},null,null,null,null,null,{"$f":"IF('Appliances Worksheet'!J239=\"\",\"\",'Appliances Worksheet'!J239)","v":""},null,null,null,{"$f":"IF('Appliances Worksheet'!M239=\"\",\"\",'Appliances Worksheet'!M239)","v":""},null,{"$f":"IF('Appliances Worksheet'!E239=\"\",\"\",'Appliances Worksheet'!E239)","v":""}]
[null,null,null,{"$f":"IF('Appliances Worksheet'!E240=\"\",NA(),INDEX('Appliances References'!$O$5:$O$35,MATCH(RIGHT('Appliance Calculations'!A222,8),'Appliances References'!$N$5:$N$35,0)))","v":{"$error":"#N/A"}},null,null,null,null,null,{"$f":"IF('Appliances Worksheet'!J240=\"\",\"\",'Appliances Worksheet'!J240)","v":""},null,null,null,{"$f":"IF('Appliances Worksheet'!M240=\"\",\"\",'Appliances Worksheet'!M240)","v":""},null,{"$f":"IF('Appliances Worksheet'!E240=\"\",\"\",'Appliances Worksheet'!E240)","v":""}]
[null,null,null,{"$f":"IF('Appliances Worksheet'!E241=\"\",NA(),INDEX('Appliances References'!$O$5:$O$35,MATCH(RIGHT('Appliance Calculations'!A223,8),'Appliances References'!$N$5:$N$35,0)))","v":{"$error":"#N/A"}},null,null,null,null,null,{"$f":"IF('Appliances Worksheet'!J241=\"\",\"\",'Appliances Worksheet'!J241)","v":""},null,null,null,{"$f":"IF('Appliances Worksheet'!M241=\"\",\"\",'Appliances Worksheet'!M241)","v":""},null,{"$f":"IF('Appliances Worksheet'!E241=\"\",\"\",'Appliances Worksheet'!E241)","v":""}]
[null,null,null,{"$f":"IF('Appliances Worksheet'!E242=\"\",NA(),INDEX('Appliances References'!$O$5:$O$35,MATCH(RIGHT('Appliance Calculations'!A224,8),'Appliances References'!$N$5:$N$35,0)))","v":{"$error":"#N/A"}},null,null,null,null,null,{"$f":"IF('Appliances Worksheet'!J242=\"\",\"\",'Appliances Worksheet'!J242)","v":""},null,null,null,{"$f":"IF('Appliances Worksheet'!M242=\"\",\"\",'Appliances Worksheet'!M242)","v":""},null,{"$f":"IF('Appliances Worksheet'!E242=\"\",\"\",'Appliances Worksheet'!E242)","v":""}]
[null,null,null,{"$f":"IF('Appliances Worksheet'!E243=\"\",NA(),INDEX('Appliances References'!$O$5:$O$35,MATCH(RIGHT('Appliance Calculations'!A225,8),'Appliances References'!$N$5:$N$35,0)))","v":{"$error":"#N/A"}},null,null,null,null,null,{"$f":"IF('Appliances Worksheet'!J243=\"\",\"\",'Appliances Worksheet'!J243)","v":""},null,null,null,{"$f":"IF('Appliances Worksheet'!M243=\"\",\"\",'Appliances Worksheet'!M243)","v":""},null,{"$f":"IF('Appliances Worksheet'!E243=\"\",\"\",'Appliances Worksheet'!E243)","v":""}]
[null,null,null,{"$f":"IF('Appliances Worksheet'!E244=\"\",NA(),INDEX('Appliances References'!$O$5:$O$35,MATCH(RIGHT('Appliance Calculations'!A226,8),'Appliances References'!$N$5:$N$35,0)))","v":{"$error":"#N/A"}},null,null,null,null,null,{"$f":"IF('Appliances Worksheet'!J244=\"\",\"\",'Appliances Worksheet'!J244)","v":""},null,null,null,{"$f":"IF('Appliances Worksheet'!M244=\"\",\"\",'Appliances Worksheet'!M244)","v":""},null,{"$f":"IF('Appliances Worksheet'!E244=\"\",\"\",'Appliances Worksheet'!E244)","v":""}]
[null,null,null,{"$f":"IF('Appliances Worksheet'!E245=\"\",NA(),INDEX('Appliances References'!$O$5:$O$35,MATCH(RIGHT('Appliance Calculations'!A227,8),'Appliances References'!$N$5:$N$35,0)))","v":{"$error":"#N/A"}},null,null,null,null,null,{"$f":"IF('Appliances Worksheet'!J245=\"\",\"\",'Appliances Worksheet'!J245)","v":""},null,null,null,{"$f":"IF('Appliances Worksheet'!M245=\"\",\"\",'Appliances Worksheet'!M245)","v":""},null,{"$f":"IF('Appliances Worksheet'!E245=\"\",\"\",'Appliances Worksheet'!E245)","v":""}]
[null,null,null,{"$f":"IF('Appliances Worksheet'!E246=\"\",NA(),INDEX('Appliances References'!$O$5:$O$35,MATCH(RIGHT('Appliance Calculations'!A228,8),'Appliances References'!$N$5:$N$35,0)))","v":{"$error":"#N/A"}},null,null,null,null,null,{"$f":"IF('Appliances Worksheet'!J246=\"\",\"\",'Appliances Worksheet'!J246)","v":""},null,null,null,{"$f":"IF('Appliances Worksheet'!M246=\"\",\"\",'Appliances Worksheet'!M246)","v":""},null,{"$f":"IF('Appliances Worksheet'!E246=\"\",\"\",'Appliances Worksheet'!E246)","v":""}]
[null,null,null,{"$f":"IF('Appliances Worksheet'!E247=\"\",NA(),INDEX('Appliances References'!$O$5:$O$35,MATCH(RIGHT('Appliance Calculations'!A229,8),'Appliances References'!$N$5:$N$35,0)))","v":{"$error":"#N/A"}},null,null,null,null,null,{"$f":"IF('Appliances Worksheet'!J247=\"\",\"\",'Appliances Worksheet'!J247)","v":"Manufacturer"},null,null,null,{"$f":"IF('Appliances Worksheet'!M247=\"\",\"\",'Appliances Worksheet'!M247)","v":"Model Number"},null,{"$f":"IF('Appliances Worksheet'!E247=\"\",\"\",'Appliances Worksheet'!E247)","v":"Proposed Quantity"}]
[null,null,null,{"$f":"IF('Appliances Worksheet'!E248=\"\",NA(),INDEX('Appliances References'!$O$5:$O$35,MATCH(RIGHT('Appliance Calculations'!A230,8),'Appliances References'!$N$5:$N$35,0)))","v":{"$error":"#N/A"}},null,null,null,null,null,{"$f":"IF('Appliances Worksheet'!J248=\"\",\"\",'Appliances Worksheet'!J248)","v":""},null,null,null,{"$f":"IF('Appliances Worksheet'!M248=\"\",\"\",'Appliances Worksheet'!M248)","v":""},null,{"$f":"IF('Appliances Worksheet'!E248=\"\",\"\",'Appliances Worksheet'!E248)","v":""}]
[null,null,null,{"$f":"IF('Appliances Worksheet'!E249=\"\",NA(),INDEX('Appliances References'!$O$5:$O$35,MATCH(RIGHT('Appliance Calculations'!A231,8),'Appliances References'!$N$5:$N$35,0)))","v":{"$error":"#N/A"}},null,null,null,null,null,{"$f":"IF('Appliances Worksheet'!J249=\"\",\"\",'Appliances Worksheet'!J249)","v":""},null,null,null,{"$f":"IF('Appliances Worksheet'!M249=\"\",\"\",'Appliances Worksheet'!M249)","v":""},null,{"$f":"IF('Appliances Worksheet'!E249=\"\",\"\",'Appliances Worksheet'!E249)","v":""}]
[null,null,null,{"$f":"IF('Appliances Worksheet'!E250=\"\",NA(),INDEX('Appliances References'!$O$5:$O$35,MATCH(RIGHT('Appliance Calculations'!A232,8),'Appliances References'!$N$5:$N$35,0)))","v":{"$error":"#N/A"}},null,null,null,null,null,{"$f":"IF('Appliances Worksheet'!J250=\"\",\"\",'Appliances Worksheet'!J250)","v":""},null,null,null,{"$f":"IF('Appliances Worksheet'!M250=\"\",\"\",'Appliances Worksheet'!M250)","v":""},null,{"$f":"IF('Appliances Worksheet'!E250=\"\",\"\",'Appliances Worksheet'!E250)","v":""}]
[null,null,null,{"$f":"IF('Appliances Worksheet'!E251=\"\",NA(),INDEX('Appliances References'!$O$5:$O$35,MATCH(RIGHT('Appliance Calculations'!A233,8),'Appliances References'!$N$5:$N$35,0)))","v":{"$error":"#N/A"}},null,null,null,null,null,{"$f":"IF('Appliances Worksheet'!J251=\"\",\"\",'Appliances Worksheet'!J251)","v":""},null,null,null,{"$f":"IF('Appliances Worksheet'!M251=\"\",\"\",'Appliances Worksheet'!M251)","v":""},null,{"$f":"IF('Appliances Worksheet'!E251=\"\",\"\",'Appliances Worksheet'!E251)","v":""}]
[null,null,null,{"$f":"IF('Appliances Worksheet'!E252=\"\",NA(),INDEX('Appliances References'!$O$5:$O$35,MATCH(RIGHT('Appliance Calculations'!A234,8),'Appliances References'!$N$5:$N$35,0)))","v":{"$error":"#N/A"}},null,null,null,null,null,{"$f":"IF('Appliances Worksheet'!J252=\"\",\"\",'Appliances Worksheet'!J252)","v":""},null,null,null,{"$f":"IF('Appliances Worksheet'!M252=\"\",\"\",'Appliances Worksheet'!M252)","v":""},null,{"$f":"IF('Appliances Worksheet'!E252=\"\",\"\",'Appliances Worksheet'!E252)","v":""}]
[null,null,null,{"$f":"IF('Appliances Worksheet'!E253=\"\",NA(),INDEX('Appliances References'!$O$5:$O$35,MATCH(RIGHT('Appliance Calculations'!A235,8),'Appliances References'!$N$5:$N$35,0)))","v":{"$error":"#N/A"}},null,null,null,null,null,{"$f":"IF('Appliances Worksheet'!J253=\"\",\"\",'Appliances Worksheet'!J253)","v":""},null,null,null,{"$f":"IF('Appliances Worksheet'!M253=\"\",\"\",'Appliances Worksheet'!M253)","v":""},null,{"$f":"IF('Appliances Worksheet'!E253=\"\",\"\",'Appliances Worksheet'!E253)","v":""}]
[null,null,null,{"$f":"IF('Appliances Worksheet'!E254=\"\",NA(),INDEX('Appliances References'!$O$5:$O$35,MATCH(RIGHT('Appliance Calculations'!A236,8),'Appliances References'!$N$5:$N$35,0)))","v":{"$error":"#N/A"}},null,null,null,null,null,{"$f":"IF('Appliances Worksheet'!J254=\"\",\"\",'Appliances Worksheet'!J254)","v":""},null,null,null,{"$f":"IF('Appliances Worksheet'!M254=\"\",\"\",'Appliances Worksheet'!M254)","v":""},null,{"$f":"IF('Appliances Worksheet'!E254=\"\",\"\",'Appliances Worksheet'!E254)","v":""}]
[null,null,null,{"$f":"IF('Appliances Worksheet'!E255=\"\",NA(),INDEX('Appliances References'!$O$5:$O$35,MATCH(RIGHT('Appliance Calculations'!A237,8),'Appliances References'!$N$5:$N$35,0)))","v":{"$error":"#N/A"}},null,null,null,null,null,{"$f":"IF('Appliances Worksheet'!J255=\"\",\"\",'Appliances Worksheet'!J255)","v":""},null,null,null,{"$f":"IF('Appliances Worksheet'!M255=\"\",\"\",'Appliances Worksheet'!M255)","v":""},null,{"$f":"IF('Appliances Worksheet'!E255=\"\",\"\",'Appliances Worksheet'!E255)","v":""}]
[null,null,null,{"$f":"IF('Appliances Worksheet'!E256=\"\",NA(),INDEX('Appliances References'!$O$5:$O$35,MATCH(RIGHT('Appliance Calculations'!A238,8),'Appliances References'!$N$5:$N$35,0)))","v":{"$error":"#N/A"}},null,null,null,null,null,{"$f":"IF('Appliances Worksheet'!J256=\"\",\"\",'Appliances Worksheet'!J256)","v":""},null,null,null,{"$f":"IF('Appliances Worksheet'!M256=\"\",\"\",'Appliances Worksheet'!M256)","v":""},null,{"$f":"IF('Appliances Worksheet'!E256=\"\",\"\",'Appliances Worksheet'!E256)","v":""}]
[null,null,null,{"$f":"IF('Appliances Worksheet'!E257=\"\",NA(),INDEX('Appliances References'!$O$5:$O$35,MATCH(RIGHT('Appliance Calculations'!A239,8),'Appliances References'!$N$5:$N$35,0)))","v":{"$error":"#N/A"}},null,null,null,null,null,{"$f":"IF('Appliances Worksheet'!J257=\"\",\"\",'Appliances Worksheet'!J257)","v":""},null,null,null,{"$f":"IF('Appliances Worksheet'!M257=\"\",\"\",'Appliances Worksheet'!M257)","v":""},null,{"$f":"IF('Appliances Worksheet'!E257=\"\",\"\",'Appliances Worksheet'!E257)","v":""}]
[null,null,null,{"$f":"IF('Appliances Worksheet'!E258=\"\",NA(),INDEX('Appliances References'!$O$5:$O$35,MATCH(RIGHT('Appliance Calculations'!A240,8),'Appliances References'!$N$5:$N$35,0)))","v":{"$error":"#N/A"}},null,null,null,null,null,{"$f":"IF('Appliances Worksheet'!J258=\"\",\"\",'Appliances Worksheet'!J258)","v":""},null,null,null,{"$f":"IF('Appliances Worksheet'!M258=\"\",\"\",'Appliances Worksheet'!M258)","v":""},null,{"$f":"IF('Appliances Worksheet'!E258=\"\",\"\",'Appliances Worksheet'!E258)","v":""}]
[null,null,null,{"$f":"IF('Appliances Worksheet'!E259=\"\",NA(),INDEX('Appliances References'!$O$5:$O$35,MATCH(RIGHT('Appliance Calculations'!A241,8),'Appliances References'!$N$5:$N$35,0)))","v":{"$error":"#N/A"}},null,null,null,null,null,{"$f":"IF('Appliances Worksheet'!J259=\"\",\"\",'Appliances Worksheet'!J259)","v":"Manufacturer"},null,null,null,{"$f":"IF('Appliances Worksheet'!M259=\"\",\"\",'Appliances Worksheet'!M259)","v":"Model Number"},null,{"$f":"IF('Appliances Worksheet'!E259=\"\",\"\",'Appliances Worksheet'!E259)","v":"Proposed Quantity"}]
[null,null,null,{"$f":"IF('Appliances Worksheet'!E260=\"\",NA(),INDEX('Appliances References'!$O$5:$O$35,MATCH(RIGHT('Appliance Calculations'!A242,8),'Appliances References'!$N$5:$N$35,0)))","v":{"$error":"#N/A"}},null,null,null,null,null,{"$f":"IF('Appliances Worksheet'!J260=\"\",\"\",'Appliances Worksheet'!J260)","v":""},null,null,null,{"$f":"IF('Appliances Worksheet'!M260=\"\",\"\",'Appliances Worksheet'!M260)","v":""},null,{"$f":"IF('Appliances Worksheet'!E260=\"\",\"\",'Appliances Worksheet'!E260)","v":""}]
[null,null,null,{"$f":"IF('Appliances Worksheet'!E261=\"\",NA(),INDEX('Appliances References'!$O$5:$O$35,MATCH(RIGHT('Appliance Calculations'!A243,8),'Appliances References'!$N$5:$N$35,0)))","v":{"$error":"#N/A"}},null,null,null,null,null,{"$f":"IF('Appliances Worksheet'!J261=\"\",\"\",'Appliances Worksheet'!J261)","v":""},null,null,null,{"$f":"IF('Appliances Worksheet'!M261=\"\",\"\",'Appliances Worksheet'!M261)","v":""},null,{"$f":"IF('Appliances Worksheet'!E261=\"\",\"\",'Appliances Worksheet'!E261)","v":""}]
[null,null,null,{"$f":"IF('Appliances Worksheet'!E262=\"\",NA(),INDEX('Appliances References'!$O$5:$O$35,MATCH(RIGHT('Appliance Calculations'!A244,8),'Appliances References'!$N$5:$N$35,0)))","v":{"$error":"#N/A"}},null,null,null,null,null,{"$f":"IF('Appliances Worksheet'!J262=\"\",\"\",'Appliances Worksheet'!J262)","v":""},null,null,null,{"$f":"IF('Appliances Worksheet'!M262=\"\",\"\",'Appliances Worksheet'!M262)","v":""},null,{"$f":"IF('Appliances Worksheet'!E262=\"\",\"\",'Appliances Worksheet'!E262)","v":""}]
[null,null,null,{"$f":"IF('Appliances Worksheet'!E263=\"\",NA(),INDEX('Appliances References'!$O$5:$O$35,MATCH(RIGHT('Appliance Calculations'!A245,8),'Appliances References'!$N$5:$N$35,0)))","v":{"$error":"#N/A"}},null,null,null,null,null,{"$f":"IF('Appliances Worksheet'!J263=\"\",\"\",'Appliances Worksheet'!J263)","v":""},null,null,null,{"$f":"IF('Appliances Worksheet'!M263=\"\",\"\",'Appliances Worksheet'!M263)","v":""},null,{"$f":"IF('Appliances Worksheet'!E263=\"\",\"\",'Appliances Worksheet'!E263)","v":""}]
[null,null,null,{"$f":"IF('Appliances Worksheet'!E264=\"\",NA(),INDEX('Appliances References'!$O$5:$O$35,MATCH(RIGHT('Appliance Calculations'!A246,8),'Appliances References'!$N$5:$N$35,0)))","v":{"$error":"#N/A"}},null,null,null,null,null,{"$f":"IF('Appliances Worksheet'!J264=\"\",\"\",'Appliances Worksheet'!J264)","v":""},null,null,null,{"$f":"IF('Appliances Worksheet'!M264=\"\",\"\",'Appliances Worksheet'!M264)","v":""},null,{"$f":"IF('Appliances Worksheet'!E264=\"\",\"\",'Appliances Worksheet'!E264)","v":""}]
[null,null,null,{"$f":"IF('Appliances Worksheet'!E265=\"\",NA(),INDEX('Appliances References'!$O$5:$O$35,MATCH(RIGHT('Appliance Calculations'!A247,8),'Appliances References'!$N$5:$N$35,0)))","v":{"$error":"#N/A"}},null,null,null,null,null,{"$f":"IF('Appliances Worksheet'!J265=\"\",\"\",'Appliances Worksheet'!J265)","v":""},null,null,null,{"$f":"IF('Appliances Worksheet'!M265=\"\",\"\",'Appliances Worksheet'!M265)","v":""},null,{"$f":"IF('Appliances Worksheet'!E265=\"\",\"\",'Appliances Worksheet'!E265)","v":""}]
[null,null,null,{"$f":"IF('Appliances Worksheet'!E266=\"\",NA(),INDEX('Appliances References'!$O$5:$O$35,MATCH(RIGHT('Appliance Calculations'!A248,8),'Appliances References'!$N$5:$N$35,0)))","v":{"$error":"#N/A"}},null,null,null,null,null,{"$f":"IF('Appliances Worksheet'!J266=\"\",\"\",'Appliances Worksheet'!J266)","v":""},null,null,null,{"$f":"IF('Appliances Worksheet'!M266=\"\",\"\",'Appliances Worksheet'!M266)","v":""},null,{"$f":"IF('Appliances Worksheet'!E266=\"\",\"\",'Appliances Worksheet'!E266)","v":""}]
[null,null,null,{"$f":"IF('Appliances Worksheet'!E267=\"\",NA(),INDEX('Appliances References'!$O$5:$O$35,MATCH(RIGHT('Appliance Calculations'!A249,8),'Appliances References'!$N$5:$N$35,0)))","v":{"$error":"#N/A"}},null,null,null,null,null,{"$f":"IF('Appliances Worksheet'!J267=\"\",\"\",'Appliances Worksheet'!J267)","v":""},null,null,null,{"$f":"IF('Appliances Worksheet'!M267=\"\",\"\",'Appliances Worksheet'!M267)","v":""},null,{"$f":"IF('Appliances Worksheet'!E267=\"\",\"\",'Appliances Worksheet'!E267)","v":""}]
[null,null,null,{"$f":"IF('Appliances Worksheet'!E268=\"\",NA(),INDEX('Appliances References'!$O$5:$O$35,MATCH(RIGHT('Appliance Calculations'!A250,8),'Appliances References'!$N$5:$N$35,0)))","v":{"$error":"#N/A"}},null,null,null,null,null,{"$f":"IF('Appliances Worksheet'!J268=\"\",\"\",'Appliances Worksheet'!J268)","v":""},null,null,null,{"$f":"IF('Appliances Worksheet'!M268=\"\",\"\",'Appliances Worksheet'!M268)","v":""},null,{"$f":"IF('Appliances Worksheet'!E268=\"\",\"\",'Appliances Worksheet'!E268)","v":""}]
[null,null,null,{"$f":"IF('Appliances Worksheet'!E269=\"\",NA(),INDEX('Appliances References'!$O$5:$O$35,MATCH(RIGHT('Appliance Calculations'!A251,8),'Appliances References'!$N$5:$N$35,0)))","v":{"$error":"#N/A"}},null,null,null,null,null,{"$f":"IF('Appliances Worksheet'!J269=\"\",\"\",'Appliances Worksheet'!J269)","v":""},null,null,null,{"$f":"IF('Appliances Worksheet'!M269=\"\",\"\",'Appliances Worksheet'!M269)","v":""},null,{"$f":"IF('Appliances Worksheet'!E269=\"\",\"\",'Appliances Worksheet'!E269)","v":""}]
[null,null,null,{"$f":"IF('Appliances Worksheet'!E270=\"\",NA(),INDEX('Appliances References'!$O$5:$O$35,MATCH(RIGHT('Appliance Calculations'!A252,8),'Appliances References'!$N$5:$N$35,0)))","v":{"$error":"#N/A"}},null,null,null,null,null,{"$f":"IF('Appliances Worksheet'!J270=\"\",\"\",'Appliances Worksheet'!J270)","v":""},null,null,null,{"$f":"IF('Appliances Worksheet'!M270=\"\",\"\",'Appliances Worksheet'!M270)","v":""},null,{"$f":"IF('Appliances Worksheet'!E270=\"\",\"\",'Appliances Worksheet'!E270)","v":""}]
[null,null,null,{"$f":"IF('Appliances Worksheet'!E271=\"\",NA(),INDEX('Appliances References'!$O$5:$O$35,MATCH(RIGHT('Appliance Calculations'!A253,8),'Appliances References'!$N$5:$N$35,0)))","v":{"$error":"#N/A"}},null,null,null,null,null,{"$f":"IF('Appliances Worksheet'!G271=\"\",\"\",'Appliances Worksheet'!G271)","v":"Manufacturer"},null,null,null,{"$f":"IF('Appliances Worksheet'!J271=\"\",\"\",'Appliances Worksheet'!J271)","v":"Model Number"},null,{"$f":"IF('Appliances Worksheet'!E271=\"\",\"\",'Appliances Worksheet'!E271)","v":"Proposed Quantity"}]
[null,null,null,{"$f":"IF('Appliances Worksheet'!E272=\"\",NA(),INDEX('Appliances References'!$O$5:$O$35,MATCH(RIGHT('Appliance Calculations'!A254,8),'Appliances References'!$N$5:$N$35,0)))","v":{"$error":"#N/A"}},null,null,null,null,null,{"$f":"IF('Appliances Worksheet'!G272=\"\",\"\",'Appliances Worksheet'!G272)","v":""},null,null,null,{"$f":"IF('Appliances Worksheet'!J272=\"\",\"\",'Appliances Worksheet'!J272)","v":""},null,{"$f":"IF('Appliances Worksheet'!E272=\"\",\"\",'Appliances Worksheet'!E272)","v":""}]
[null,null,null,{"$f":"IF('Appliances Worksheet'!E273=\"\",NA(),INDEX('Appliances References'!$O$5:$O$35,MATCH(RIGHT('Appliance Calculations'!A255,8),'Appliances References'!$N$5:$N$35,0)))","v":{"$error":"#N/A"}},null,null,null,null,null,{"$f":"IF('Appliances Worksheet'!G273=\"\",\"\",'Appliances Worksheet'!G273)","v":""},null,null,null,{"$f":"IF('Appliances Worksheet'!J273=\"\",\"\",'Appliances Worksheet'!J273)","v":""},null,{"$f":"IF('Appliances Worksheet'!E273=\"\",\"\",'Appliances Worksheet'!E273)","v":""}]
[null,null,null,{"$f":"IF('Appliances Worksheet'!E274=\"\",NA(),INDEX('Appliances References'!$O$5:$O$35,MATCH(RIGHT('Appliance Calculations'!A256,8),'Appliances References'!$N$5:$N$35,0)))","v":{"$error":"#N/A"}},null,null,null,null,null,{"$f":"IF('Appliances Worksheet'!G274=\"\",\"\",'Appliances Worksheet'!G274)","v":""},null,null,null,{"$f":"IF('Appliances Worksheet'!J274=\"\",\"\",'Appliances Worksheet'!J274)","v":""},null,{"$f":"IF('Appliances Worksheet'!E274=\"\",\"\",'Appliances Worksheet'!E274)","v":""}]
[null,null,null,{"$f":"IF('Appliances Worksheet'!E275=\"\",NA(),INDEX('Appliances References'!$O$5:$O$35,MATCH(RIGHT('Appliance Calculations'!A257,8),'Appliances References'!$N$5:$N$35,0)))","v":{"$error":"#N/A"}},null,null,null,null,null,{"$f":"IF('Appliances Worksheet'!G275=\"\",\"\",'Appliances Worksheet'!G275)","v":""},null,null,null,{"$f":"IF('Appliances Worksheet'!J275=\"\",\"\",'Appliances Worksheet'!J275)","v":""},null,{"$f":"IF('Appliances Worksheet'!E275=\"\",\"\",'Appliances Worksheet'!E275)","v":""}]
[null,null,null,{"$f":"IF('Appliances Worksheet'!E276=\"\",NA(),INDEX('Appliances References'!$O$5:$O$35,MATCH(RIGHT('Appliance Calculations'!A258,8),'Appliances References'!$N$5:$N$35,0)))","v":{"$error":"#N/A"}},null,null,null,null,null,{"$f":"IF('Appliances Worksheet'!G276=\"\",\"\",'Appliances Worksheet'!G276)","v":""},null,null,null,{"$f":"IF('Appliances Worksheet'!J276=\"\",\"\",'Appliances Worksheet'!J276)","v":""},null,{"$f":"IF('Appliances Worksheet'!E276=\"\",\"\",'Appliances Worksheet'!E276)","v":""}]
[null,null,null,{"$f":"IF('Appliances Worksheet'!E277=\"\",NA(),INDEX('Appliances References'!$O$5:$O$35,MATCH(RIGHT('Appliance Calculations'!A259,8),'Appliances References'!$N$5:$N$35,0)))","v":{"$error":"#N/A"}},null,null,null,null,null,{"$f":"IF('Appliances Worksheet'!G277=\"\",\"\",'Appliances Worksheet'!G277)","v":""},null,null,null,{"$f":"IF('Appliances Worksheet'!J277=\"\",\"\",'Appliances Worksheet'!J277)","v":""},null,{"$f":"IF('Appliances Worksheet'!E277=\"\",\"\",'Appliances Worksheet'!E277)","v":""}]
[null,null,null,{"$f":"IF('Appliances Worksheet'!E278=\"\",NA(),INDEX('Appliances References'!$O$5:$O$35,MATCH(RIGHT('Appliance Calculations'!A260,8),'Appliances References'!$N$5:$N$35,0)))","v":{"$error":"#N/A"}},null,null,null,null,null,{"$f":"IF('Appliances Worksheet'!G278=\"\",\"\",'Appliances Worksheet'!G278)","v":""},null,null,null,{"$f":"IF('Appliances Worksheet'!J278=\"\",\"\",'Appliances Worksheet'!J278)","v":""},null,{"$f":"IF('Appliances Worksheet'!E278=\"\",\"\",'Appliances Worksheet'!E278)","v":""}]
[null,null,null,{"$f":"IF('Appliances Worksheet'!E279=\"\",NA(),INDEX('Appliances References'!$O$5:$O$35,MATCH(RIGHT('Appliance Calculations'!A261,8),'Appliances References'!$N$5:$N$35,0)))","v":{"$error":"#N/A"}},null,null,null,null,null,{"$f":"IF('Appliances Worksheet'!G279=\"\",\"\",'Appliances Worksheet'!G279)","v":""},null,null,null,{"$f":"IF('Appliances Worksheet'!J279=\"\",\"\",'Appliances Worksheet'!J279)","v":""},null,{"$f":"IF('Appliances Worksheet'!E279=\"\",\"\",'Appliances Worksheet'!E279)","v":""}]
[null,null,null,{"$f":"IF('Appliances Worksheet'!E280=\"\",NA(),INDEX('Appliances References'!$O$5:$O$35,MATCH(RIGHT('Appliance Calculations'!A262,8),'Appliances References'!$N$5:$N$35,0)))","v":{"$error":"#N/A"}},null,null,null,null,null,{"$f":"IF('Appliances Worksheet'!G280=\"\",\"\",'Appliances Worksheet'!G280)","v":""},null,null,null,{"$f":"IF('Appliances Worksheet'!J280=\"\",\"\",'Appliances Worksheet'!J280)","v":""},null,{"$f":"IF('Appliances Worksheet'!E280=\"\",\"\",'Appliances Worksheet'!E280)","v":""}]
[null,null,null,{"$f":"IF('Appliances Worksheet'!E281=\"\",NA(),INDEX('Appliances References'!$O$5:$O$35,MATCH(RIGHT('Appliance Calculations'!A263,8),'Appliances References'!$N$5:$N$35,0)))","v":{"$error":"#N/A"}},null,null,null,null,null,{"$f":"IF('Appliances Worksheet'!G281=\"\",\"\",'Appliances Worksheet'!G281)","v":""},null,null,null,{"$f":"IF('Appliances Worksheet'!J281=\"\",\"\",'Appliances Worksheet'!J281)","v":""},null,{"$f":"IF('Appliances Worksheet'!E281=\"\",\"\",'Appliances Worksheet'!E281)","v":""}]
[null,null,null,{"$f":"IF('Appliances Worksheet'!E282=\"\",NA(),INDEX('Appliances References'!$O$5:$O$35,MATCH(RIGHT('Appliance Calculations'!A264,8),'Appliances References'!$N$5:$N$35,0)))","v":{"$error":"#N/A"}},null,null,null,null,null,{"$f":"IF('Appliances Worksheet'!G282=\"\",\"\",'Appliances Worksheet'!G282)","v":""},null,null,null,{"$f":"IF('Appliances Worksheet'!J282=\"\",\"\",'Appliances Worksheet'!J282)","v":""},null,{"$f":"IF('Appliances Worksheet'!E282=\"\",\"\",'Appliances Worksheet'!E282)","v":""}]
[null,null,null,{"$f":"IF('Appliances Worksheet'!E283=\"\",NA(),INDEX('Appliances References'!$O$5:$O$35,MATCH(RIGHT('Appliance Calculations'!A265,8),'Appliances References'!$N$5:$N$35,0)))","v":{"$error":"#N/A"}},null,null,null,null,null,{"$f":"IF('Appliances Worksheet'!G283=\"\",\"\",'Appliances Worksheet'!G283)","v":"Manufacturer"},null,null,null,{"$f":"IF('Appliances Worksheet'!J283=\"\",\"\",'Appliances Worksheet'!J283)","v":"Model Number"},null,{"$f":"IF('Appliances Worksheet'!E283=\"\",\"\",'Appliances Worksheet'!E283)","v":"Proposed Quantity"}]
[null,null,null,{"$f":"IF('Appliances Worksheet'!E284=\"\",NA(),INDEX('Appliances References'!$O$5:$O$35,MATCH(RIGHT('Appliance Calculations'!A266,8),'Appliances References'!$N$5:$N$35,0)))","v":{"$error":"#N/A"}},null,null,null,null,null,{"$f":"IF('Appliances Worksheet'!G284=\"\",\"\",'Appliances Worksheet'!G284)","v":""},null,null,null,{"$f":"IF('Appliances Worksheet'!J284=\"\",\"\",'Appliances Worksheet'!J284)","v":""},null,{"$f":"IF('Appliances Worksheet'!E284=\"\",\"\",'Appliances Worksheet'!E284)","v":""}]
[null,null,null,{"$f":"IF('Appliances Worksheet'!E285=\"\",NA(),INDEX('Appliances References'!$O$5:$O$35,MATCH(RIGHT('Appliance Calculations'!A267,8),'Appliances References'!$N$5:$N$35,0)))","v":{"$error":"#N/A"}},null,null,null,null,null,{"$f":"IF('Appliances Worksheet'!G285=\"\",\"\",'Appliances Worksheet'!G285)","v":""},null,null,null,{"$f":"IF('Appliances Worksheet'!J285=\"\",\"\",'Appliances Worksheet'!J285)","v":""},null,{"$f":"IF('Appliances Worksheet'!E285=\"\",\"\",'Appliances Worksheet'!E285)","v":""}]
[null,null,null,{"$f":"IF('Appliances Worksheet'!E286=\"\",NA(),INDEX('Appliances References'!$O$5:$O$35,MATCH(RIGHT('Appliance Calculations'!A268,8),'Appliances References'!$N$5:$N$35,0)))","v":{"$error":"#N/A"}},null,null,null,null,null,{"$f":"IF('Appliances Worksheet'!G286=\"\",\"\",'Appliances Worksheet'!G286)","v":""},null,null,null,{"$f":"IF('Appliances Worksheet'!J286=\"\",\"\",'Appliances Worksheet'!J286)","v":""},null,{"$f":"IF('Appliances Worksheet'!E286=\"\",\"\",'Appliances Worksheet'!E286)","v":""}]
[null,null,null,{"$f":"IF('Appliances Worksheet'!E291=\"\",NA(),INDEX('Appliances References'!$O$5:$O$35,MATCH(RIGHT('Appliance Calculations'!A269,8),'Appliances References'!$N$5:$N$35,0)))","v":{"$error":"#N/A"}},null,null,null,null,null,{"$f":"IF('Appliances Worksheet'!G291=\"\",\"\",'Appliances Worksheet'!G291)","v":""},null,null,null,{"$f":"IF('Appliances Worksheet'!J291=\"\",\"\",'Appliances Worksheet'!J291)","v":""},null,{"$f":"IF('Appliances Worksheet'!E291=\"\",\"\",'Appliances Worksheet'!E291)","v":""}]
[null,null,null,{"$f":"IF('Appliances Worksheet'!E298=\"\",NA(),INDEX('Appliances References'!$O$5:$O$35,MATCH(RIGHT('Appliance Calculations'!A279,8),'Appliances References'!$N$5:$N$35,0)))","v":{"$error":"#N/A"}},null,null,null,null,null,{"$f":"IF('Appliances Worksheet'!G298=\"\",\"\",'Appliances Worksheet'!G298)","v":""},null,null,null,{"$f":"IF('Appliances Worksheet'!J298=\"\",\"\",'Appliances Worksheet'!J298)","v":""},null,{"$f":"IF('Appliances Worksheet'!E298=\"\",\"\",'Appliances Worksheet'!E298)","v":""}]
[null,null,null,{"$f":"IF('Appliances Worksheet'!E299=\"\",NA(),INDEX('Appliances References'!$O$5:$O$35,MATCH(RIGHT('Appliance Calculations'!A280,8),'Appliances References'!$N$5:$N$35,0)))","v":{"$error":"#N/A"}},null,null,null,null,null,{"$f":"IF('Appliances Worksheet'!G299=\"\",\"\",'Appliances Worksheet'!G299)","v":""},null,null,null,{"$f":"IF('Appliances Worksheet'!J299=\"\",\"\",'Appliances Worksheet'!J299)","v":""},null,{"$f":"IF('Appliances Worksheet'!E299=\"\",\"\",'Appliances Worksheet'!E299)","v":""}]
[null,null,null,{"$f":"IF('Appliances Worksheet'!E300=\"\",NA(),INDEX('Appliances References'!$O$5:$O$35,MATCH(RIGHT('Appliance Calculations'!A281,8),'Appliances References'!$N$5:$N$35,0)))","v":{"$error":"#N/A"}},null,null,null,null,null,{"$f":"IF('Appliances Worksheet'!G300=\"\",\"\",'Appliances Worksheet'!G300)","v":""},null,null,null,{"$f":"IF('Appliances Worksheet'!J300=\"\",\"\",'Appliances Worksheet'!J300)","v":""},null,{"$f":"IF('Appliances Worksheet'!E300=\"\",\"\",'Appliances Worksheet'!E300)","v":""}]
[null,null,null,{"$f":"IF('Appliances Worksheet'!E303=\"\",NA(),INDEX('Appliances References'!$O$5:$O$35,MATCH(RIGHT('Appliance Calculations'!A285,8),'Appliances References'!$N$5:$N$35,0)))","v":{"$error":"#N/A"}},null,null,null,null,null,{"$f":"IF('Appliances Worksheet'!G303=\"\",\"\",'Appliances Worksheet'!G303)","v":""},null,null,null,{"$f":"IF('Appliances Worksheet'!J303=\"\",\"\",'Appliances Worksheet'!J303)","v":""},null,{"$f":"IF('Appliances Worksheet'!E303=\"\",\"\",'Appliances Worksheet'!E303)","v":""}]
[null,null,null,{"$f":"IF('Appliances Worksheet'!E304=\"\",NA(),INDEX('Appliances References'!$O$5:$O$35,MATCH(RIGHT('Appliance Calculations'!A286,8),'Appliances References'!$N$5:$N$35,0)))","v":{"$error":"#N/A"}},null,null,null,null,null,{"$f":"IF('Appliances Worksheet'!G304=\"\",\"\",'Appliances Worksheet'!G304)","v":""},null,null,null,{"$f":"IF('Appliances Worksheet'!J304=\"\",\"\",'Appliances Worksheet'!J304)","v":""},null,{"$f":"IF('Appliances Worksheet'!E304=\"\",\"\",'Appliances Worksheet'!E304)","v":""}]
[null,null,null,{"$f":"IF('Appliances Worksheet'!E305=\"\",NA(),INDEX('Appliances References'!$O$5:$O$35,MATCH(RIGHT('Appliance Calculations'!A287,8),'Appliances References'!$N$5:$N$35,0)))","v":{"$error":"#N/A"}},null,null,null,null,null,{"$f":"IF('Appliances Worksheet'!G305=\"\",\"\",'Appliances Worksheet'!G305)","v":""},null,null,null,{"$f":"IF('Appliances Worksheet'!J305=\"\",\"\",'Appliances Worksheet'!J305)","v":""},null,{"$f":"IF('Appliances Worksheet'!E305=\"\",\"\",'Appliances Worksheet'!E305)","v":""}]
[null,null,null,{"$f":"IF('Appliances Worksheet'!E306=\"\",NA(),INDEX('Appliances References'!$O$5:$O$35,MATCH(RIGHT('Appliance Calculations'!A288,8),'Appliances References'!$N$5:$N$35,0)))","v":{"$error":"#N/A"}},null,null,null,null,null,{"$f":"IF('Appliances Worksheet'!G306=\"\",\"\",'Appliances Worksheet'!G306)","v":""},null,null,null,{"$f":"IF('Appliances Worksheet'!J306=\"\",\"\",'Appliances Worksheet'!J306)","v":""},null,{"$f":"IF('Appliances Worksheet'!E306=\"\",\"\",'Appliances Worksheet'!E306)","v":""}]
[null,null,null,{"$f":"IF('Appliances Worksheet'!E307=\"\",NA(),INDEX('Appliances References'!$O$5:$O$35,MATCH(RIGHT('Appliance Calculations'!A289,8),'Appliances References'!$N$5:$N$35,0)))","v":{"$error":"#N/A"}},null,null,null,null,null,{"$f":"IF('Appliances Worksheet'!J307=\"\",\"\",'Appliances Worksheet'!J307)","v":"Manufacturer"},null,null,null,{"$f":"IF('Appliances Worksheet'!M307=\"\",\"\",'Appliances Worksheet'!M307)","v":"Model Number"},null,{"$f":"IF('Appliances Worksheet'!E307=\"\",\"\",'Appliances Worksheet'!E307)","v":"Proposed Quantity"}]
[null,null,null,{"$f":"IF('Appliances Worksheet'!E308=\"\",NA(),INDEX('Appliances References'!$O$5:$O$35,MATCH(RIGHT('Appliance Calculations'!A290,8),'Appliances References'!$N$5:$N$35,0)))","v":{"$error":"#N/A"}},null,null,null,null,null,{"$f":"IF('Appliances Worksheet'!J308=\"\",\"\",'Appliances Worksheet'!J308)","v":""},null,null,null,{"$f":"IF('Appliances Worksheet'!M308=\"\",\"\",'Appliances Worksheet'!M308)","v":""},null,{"$f":"IF('Appliances Worksheet'!E308=\"\",\"\",'Appliances Worksheet'!E308)","v":""}]
[null,null,null,{"$f":"IF('Appliances Worksheet'!E309=\"\",NA(),INDEX('Appliances References'!$O$5:$O$35,MATCH(RIGHT('Appliance Calculations'!A291,8),'Appliances References'!$N$5:$N$35,0)))","v":{"$error":"#N/A"}},null,null,null,null,null,{"$f":"IF('Appliances Worksheet'!J309=\"\",\"\",'Appliances Worksheet'!J309)","v":""},null,null,null,{"$f":"IF('Appliances Worksheet'!M309=\"\",\"\",'Appliances Worksheet'!M309)","v":""},null,{"$f":"IF('Appliances Worksheet'!E309=\"\",\"\",'Appliances Worksheet'!E309)","v":""}]
[null,null,null,{"$f":"IF('Appliances Worksheet'!E310=\"\",NA(),INDEX('Appliances References'!$O$5:$O$35,MATCH(RIGHT('Appliance Calculations'!A292,8),'Appliances References'!$N$5:$N$35,0)))","v":{"$error":"#N/A"}},null,null,null,null,null,{"$f":"IF('Appliances Worksheet'!J310=\"\",\"\",'Appliances Worksheet'!J310)","v":""},null,null,null,{"$f":"IF('Appliances Worksheet'!M310=\"\",\"\",'Appliances Worksheet'!M310)","v":""},null,{"$f":"IF('Appliances Worksheet'!E310=\"\",\"\",'Appliances Worksheet'!E310)","v":""}]
[null,null,null,{"$f":"IF('Appliances Worksheet'!E311=\"\",NA(),INDEX('Appliances References'!$O$5:$O$35,MATCH(RIGHT('Appliance Calculations'!A293,8),'Appliances References'!$N$5:$N$35,0)))","v":{"$error":"#N/A"}},null,null,null,null,null,{"$f":"IF('Appliances Worksheet'!J311=\"\",\"\",'Appliances Worksheet'!J311)","v":""},null,null,null,{"$f":"IF('Appliances Worksheet'!M311=\"\",\"\",'Appliances Worksheet'!M311)","v":""},null,{"$f":"IF('Appliances Worksheet'!E311=\"\",\"\",'Appliances Worksheet'!E311)","v":""}]
[null,null,null,{"$f":"IF('Appliances Worksheet'!E312=\"\",NA(),INDEX('Appliances References'!$O$5:$O$35,MATCH(RIGHT('Appliance Calculations'!A294,8),'Appliances References'!$N$5:$N$35,0)))","v":{"$error":"#N/A"}},null,null,null,null,null,{"$f":"IF('Appliances Worksheet'!J312=\"\",\"\",'Appliances Worksheet'!J312)","v":""},null,null,null,{"$f":"IF('Appliances Worksheet'!M312=\"\",\"\",'Appliances Worksheet'!M312)","v":""},null,{"$f":"IF('Appliances Worksheet'!E312=\"\",\"\",'Appliances Worksheet'!E312)","v":""}]
[null,null,null,{"$f":"IF('Appliances Worksheet'!E313=\"\",NA(),INDEX('Appliances References'!$O$5:$O$35,MATCH(RIGHT('Appliance Calculations'!A295,8),'Appliances References'!$N$5:$N$35,0)))","v":{"$error":"#N/A"}},null,null,null,null,null,{"$f":"IF('Appliances Worksheet'!J313=\"\",\"\",'Appliances Worksheet'!J313)","v":""},null,null,null,{"$f":"IF('Appliances Worksheet'!M313=\"\",\"\",'Appliances Worksheet'!M313)","v":""},null,{"$f":"IF('Appliances Worksheet'!E313=\"\",\"\",'Appliances Worksheet'!E313)","v":""}]
[null,null,null,{"$f":"IF('Appliances Worksheet'!E314=\"\",NA(),INDEX('Appliances References'!$O$5:$O$35,MATCH(RIGHT('Appliance Calculations'!A296,8),'Appliances References'!$N$5:$N$35,0)))","v":{"$error":"#N/A"}},null,null,null,null,null,{"$f":"IF('Appliances Worksheet'!J314=\"\",\"\",'Appliances Worksheet'!J314)","v":""},null,null,null,{"$f":"IF('Appliances Worksheet'!M314=\"\",\"\",'Appliances Worksheet'!M314)","v":""},null,{"$f":"IF('Appliances Worksheet'!E314=\"\",\"\",'Appliances Worksheet'!E314)","v":""}]
[null,null,null,{"$f":"IF('Appliances Worksheet'!E315=\"\",NA(),INDEX('Appliances References'!$O$5:$O$35,MATCH(RIGHT('Appliance Calculations'!A297,8),'Appliances References'!$N$5:$N$35,0)))","v":{"$error":"#N/A"}},null,null,null,null,null,{"$f":"IF('Appliances Worksheet'!J315=\"\",\"\",'Appliances Worksheet'!J315)","v":""},null,null,null,{"$f":"IF('Appliances Worksheet'!M315=\"\",\"\",'Appliances Worksheet'!M315)","v":""},null,{"$f":"IF('Appliances Worksheet'!E315=\"\",\"\",'Appliances Worksheet'!E315)","v":""}]
[null,null,null,{"$f":"IF('Appliances Worksheet'!E316=\"\",NA(),INDEX('Appliances References'!$O$5:$O$35,MATCH(RIGHT('Appliance Calculations'!A298,8),'Appliances References'!$N$5:$N$35,0)))","v":{"$error":"#N/A"}},null,null,null,null,null,{"$f":"IF('Appliances Worksheet'!J316=\"\",\"\",'Appliances Worksheet'!J316)","v":""},null,null,null,{"$f":"IF('Appliances Worksheet'!M316=\"\",\"\",'Appliances Worksheet'!M316)","v":""},null,{"$f":"IF('Appliances Worksheet'!E316=\"\",\"\",'Appliances Worksheet'!E316)","v":""}]
[null,null,null,{"$f":"IF('Appliances Worksheet'!E317=\"\",NA(),INDEX('Appliances References'!$O$5:$O$35,MATCH(RIGHT('Appliance Calculations'!A299,8),'Appliances References'!$N$5:$N$35,0)))","v":{"$error":"#N/A"}},null,null,null,null,null,{"$f":"IF('Appliances Worksheet'!J317=\"\",\"\",'Appliances Worksheet'!J317)","v":""},null,null,null,{"$f":"IF('Appliances Worksheet'!M317=\"\",\"\",'Appliances Worksheet'!M317)","v":""},null,{"$f":"IF('Appliances Worksheet'!E317=\"\",\"\",'Appliances Worksheet'!E317)","v":""}]
[null,null,null,{"$f":"IF('Appliances Worksheet'!E318=\"\",NA(),INDEX('Appliances References'!$O$5:$O$35,MATCH(RIGHT('Appliance Calculations'!A300,8),'Appliances References'!$N$5:$N$35,0)))","v":{"$error":"#N/A"}},null,null,null,null,null,{"$f":"IF('Appliances Worksheet'!J318=\"\",\"\",'Appliances Worksheet'!J318)","v":""},null,null,null,{"$f":"IF('Appliances Worksheet'!M318=\"\",\"\",'Appliances Worksheet'!M318)","v":""},null,{"$f":"IF('Appliances Worksheet'!E318=\"\",\"\",'Appliances Worksheet'!E318)","v":""}]
[null,null,null,{"$f":"IF('Appliances Worksheet'!E319=\"\",NA(),INDEX('Appliances References'!$O$5:$O$35,MATCH(RIGHT('Appliance Calculations'!A301,8),'Appliances References'!$N$5:$N$35,0)))","v":{"$error":"#N/A"}},null,null,null,null,null,{"$f":"IF('Appliances Worksheet'!J319=\"\",\"\",'Appliances Worksheet'!J319)","v":"Manufacturer"},null,null,null,{"$f":"IF('Appliances Worksheet'!M319=\"\",\"\",'Appliances Worksheet'!M319)","v":"Model Number"},null,{"$f":"IF('Appliances Worksheet'!E319=\"\",\"\",'Appliances Worksheet'!E319)","v":"Proposed Quantity"}]
[null,null,null,{"$f":"IF('Appliances Worksheet'!E320=\"\",NA(),INDEX('Appliances References'!$O$5:$O$35,MATCH(RIGHT('Appliance Calculations'!A302,8),'Appliances References'!$N$5:$N$35,0)))","v":{"$error":"#N/A"}},null,null,null,null,null,{"$f":"IF('Appliances Worksheet'!J320=\"\",\"\",'Appliances Worksheet'!J320)","v":""},null,null,null,{"$f":"IF('Appliances Worksheet'!M320=\"\",\"\",'Appliances Worksheet'!M320)","v":""},null,{"$f":"IF('Appliances Worksheet'!E320=\"\",\"\",'Appliances Worksheet'!E320)","v":""}]
[null,null,null,{"$f":"IF('Appliances Worksheet'!E321=\"\",NA(),INDEX('Appliances References'!$O$5:$O$35,MATCH(RIGHT('Appliance Calculations'!A303,8),'Appliances References'!$N$5:$N$35,0)))","v":{"$error":"#N/A"}},null,null,null,null,null,{"$f":"IF('Appliances Worksheet'!J321=\"\",\"\",'Appliances Worksheet'!J321)","v":""},null,null,null,{"$f":"IF('Appliances Worksheet'!M321=\"\",\"\",'Appliances Worksheet'!M321)","v":""},null,{"$f":"IF('Appliances Worksheet'!E321=\"\",\"\",'Appliances Worksheet'!E321)","v":""}]
[null,null,null,{"$f":"IF('Appliances Worksheet'!E322=\"\",NA(),INDEX('Appliances References'!$O$5:$O$35,MATCH(RIGHT('Appliance Calculations'!A304,8),'Appliances References'!$N$5:$N$35,0)))","v":{"$error":"#N/A"}},null,null,null,null,null,{"$f":"IF('Appliances Worksheet'!G322=\"\",\"\",'Appliances Worksheet'!G322)","v":""},null,null,null,{"$f":"IF('Appliances Worksheet'!M322=\"\",\"\",'Appliances Worksheet'!M322)","v":""},null,{"$f":"IF('Appliances Worksheet'!E322=\"\",\"\",'Appliances Worksheet'!E322)","v":""}]
[null,null,null,{"$f":"IF('Appliances Worksheet'!E323=\"\",NA(),INDEX('Appliances References'!$O$5:$O$35,MATCH(RIGHT('Appliance Calculations'!A305,8),'Appliances References'!$N$5:$N$35,0)))","v":{"$error":"#N/A"}},null,null,null,null,null,{"$f":"IF('Appliances Worksheet'!G323=\"\",\"\",'Appliances Worksheet'!G323)","v":""},null,null,null,{"$f":"IF('Appliances Worksheet'!M323=\"\",\"\",'Appliances Worksheet'!M323)","v":""},null,{"$f":"IF('Appliances Worksheet'!E323=\"\",\"\",'Appliances Worksheet'!E323)","v":""}]
[null,null,null,{"$f":"IF('Appliances Worksheet'!E324=\"\",NA(),INDEX('Appliances References'!$O$5:$O$35,MATCH(RIGHT('Appliance Calculations'!A306,8),'Appliances References'!$N$5:$N$35,0)))","v":{"$error":"#N/A"}},null,null,null,null,null,{"$f":"IF('Appliances Worksheet'!G324=\"\",\"\",'Appliances Worksheet'!G324)","v":""},null,null,null,{"$f":"IF('Appliances Worksheet'!M324=\"\",\"\",'Appliances Worksheet'!M324)","v":""},null,{"$f":"IF('Appliances Worksheet'!E324=\"\",\"\",'Appliances Worksheet'!E324)","v":""}]
[null,null,null,{"$f":"IF('Appliances Worksheet'!E325=\"\",NA(),INDEX('Appliances References'!$O$5:$O$35,MATCH(RIGHT('Appliance Calculations'!A307,8),'Appliances References'!$N$5:$N$35,0)))","v":{"$error":"#N/A"}},null,null,null,null,null,{"$f":"IF('Appliances Worksheet'!G325=\"\",\"\",'Appliances Worksheet'!G325)","v":""},null,null,null,{"$f":"IF('Appliances Worksheet'!M325=\"\",\"\",'Appliances Worksheet'!M325)","v":""},null,{"$f":"IF('Appliances Worksheet'!E325=\"\",\"\",'Appliances Worksheet'!E325)","v":""}]
[null,null,null,{"$f":"IF('Appliances Worksheet'!E326=\"\",NA(),INDEX('Appliances References'!$O$5:$O$35,MATCH(RIGHT('Appliance Calculations'!A308,8),'Appliances References'!$N$5:$N$35,0)))","v":{"$error":"#N/A"}},null,null,null,null,null,{"$f":"IF('Appliances Worksheet'!G326=\"\",\"\",'Appliances Worksheet'!G326)","v":""},null,null,null,{"$f":"IF('Appliances Worksheet'!M326=\"\",\"\",'Appliances Worksheet'!M326)","v":""},null,{"$f":"IF('Appliances Worksheet'!E356=\"\",\"\",'Appliances Worksheet'!E356)","v":""}]
[null,null,null,{"$f":"IF('Appliances Worksheet'!E327=\"\",NA(),INDEX('Appliances References'!$O$5:$O$35,MATCH(RIGHT('Appliance Calculations'!A309,8),'Appliances References'!$N$5:$N$35,0)))","v":{"$error":"#N/A"}},null,null,null,null,null,{"$f":"IF('Appliances Worksheet'!J357=\"\",\"\",'Appliances Worksheet'!J357)","v":""},null,null,null,{"$f":"IF('Appliances Worksheet'!M327=\"\",\"\",'Appliances Worksheet'!M327)","v":""},null,{"$f":"IF('Appliances Worksheet'!E357=\"\",\"\",'Appliances Worksheet'!E357)","v":""}]
[null,null,null,{"$f":"IF('Appliances Worksheet'!E328=\"\",NA(),INDEX('Appliances References'!$O$5:$O$35,MATCH(RIGHT('Appliance Calculations'!A310,8),'Appliances References'!$N$5:$N$35,0)))","v":{"$error":"#N/A"}},null,null,null,null,null,{"$f":"IF('Appliances Worksheet'!J358=\"\",\"\",'Appliances Worksheet'!J358)","v":""},null,null,null,{"$f":"IF('Appliances Worksheet'!M328=\"\",\"\",'Appliances Worksheet'!M328)","v":""},null,{"$f":"IF('Appliances Worksheet'!E358=\"\",\"\",'Appliances Worksheet'!E358)","v":""}]
[null,null,null,{"$f":"IF('Appliances Worksheet'!E329=\"\",NA(),INDEX('Appliances References'!$O$5:$O$35,MATCH(RIGHT('Appliance Calculations'!A311,8),'Appliances References'!$N$5:$N$35,0)))","v":{"$error":"#N/A"}},null,null,null,null,null,{"$f":"IF('Appliances Worksheet'!J359=\"\",\"\",'Appliances Worksheet'!J359)","v":""},null,null,null,{"$f":"IF('Appliances Worksheet'!M329=\"\",\"\",'Appliances Worksheet'!M329)","v":""},null,{"$f":"IF('Appliances Worksheet'!E359=\"\",\"\",'Appliances Worksheet'!E359)","v":""}]
[null,null,null,{"$f":"IF('Appliances Worksheet'!E330=\"\",NA(),INDEX('Appliances References'!$O$5:$O$35,MATCH(RIGHT('Appliance Calculations'!A312,8),'Appliances References'!$N$5:$N$35,0)))","v":{"$error":"#N/A"}},null,null,null,null,null,{"$f":"IF('Appliances Worksheet'!J360=\"\",\"\",'Appliances Worksheet'!J360)","v":""},null,null,null,{"$f":"IF('Appliances Worksheet'!J330=\"\",\"\",'Appliances Worksheet'!J330)","v":""},null,{"$f":"IF('Appliances Worksheet'!E360=\"\",\"\",'Appliances Worksheet'!E360)","v":""}]
[null,null,null,{"$f":"IF('Appliances Worksheet'!E331=\"\",NA(),INDEX('Appliances References'!$O$5:$O$35,MATCH(RIGHT('Appliance Calculations'!A313,8),'Appliances References'!$N$5:$N$35,0)))","v":{"$error":"#N/A"}},null,null,null,null,null,{"$f":"IF('Appliances Worksheet'!J361=\"\",\"\",'Appliances Worksheet'!J361)","v":""},null,null,null,{"$f":"IF('Appliances Worksheet'!J331=\"\",\"\",'Appliances Worksheet'!J331)","v":""},null,{"$f":"IF('Appliances Worksheet'!E361=\"\",\"\",'Appliances Worksheet'!E361)","v":""}]
[null,null,null,{"$f":"IF('Appliances Worksheet'!E332=\"\",NA(),INDEX('Appliances References'!$O$5:$O$35,MATCH(RIGHT('Appliance Calculations'!A314,8),'Appliances References'!$N$5:$N$35,0)))","v":{"$error":"#N/A"}},null,null,null,null,null,{"$f":"IF('Appliances Worksheet'!J362=\"\",\"\",'Appliances Worksheet'!J362)","v":""},null,null,null,{"$f":"IF('Appliances Worksheet'!J332=\"\",\"\",'Appliances Worksheet'!J332)","v":""},null,{"$f":"IF('Appliances Worksheet'!E362=\"\",\"\",'Appliances Worksheet'!E362)","v":""}]
[null,null,null,{"$f":"IF('Appliances Worksheet'!E333=\"\",NA(),INDEX('Appliances References'!$O$5:$O$35,MATCH(RIGHT('Appliance Calculations'!A315,8),'Appliances References'!$N$5:$N$35,0)))","v":{"$error":"#N/A"}},null,null,null,null,null,{"$f":"IF('Appliances Worksheet'!J363=\"\",\"\",'Appliances Worksheet'!J363)","v":""},null,null,null,{"$f":"IF('Appliances Worksheet'!J333=\"\",\"\",'Appliances Worksheet'!J333)","v":""},null,{"$f":"IF('Appliances Worksheet'!E363=\"\",\"\",'Appliances Worksheet'!E363)","v":""}]
[null,null,null,{"$f":"IF('Appliances Worksheet'!E334=\"\",NA(),INDEX('Appliances References'!$O$5:$O$35,MATCH(RIGHT('Appliance Calculations'!A316,8),'Appliances References'!$N$5:$N$35,0)))","v":{"$error":"#N/A"}},null,null,null,null,null,{"$f":"IF('Appliances Worksheet'!J364=\"\",\"\",'Appliances Worksheet'!J364)","v":""},null,null,null,{"$f":"IF('Appliances Worksheet'!J334=\"\",\"\",'Appliances Worksheet'!J334)","v":""},null,{"$f":"IF('Appliances Worksheet'!E364=\"\",\"\",'Appliances Worksheet'!E364)","v":""}]
[null,null,null,{"$f":"IF('Appliances Worksheet'!E335=\"\",NA(),INDEX('Appliances References'!$O$5:$O$35,MATCH(RIGHT('Appliance Calculations'!A317,8),'Appliances References'!$N$5:$N$35,0)))","v":{"$error":"#N/A"}},null,null,null,null,null,{"$f":"IF('Appliances Worksheet'!J365=\"\",\"\",'Appliances Worksheet'!J365)","v":""},null,null,null,{"$f":"IF('Appliances Worksheet'!J335=\"\",\"\",'Appliances Worksheet'!J335)","v":""},null,{"$f":"IF('Appliances Worksheet'!E365=\"\",\"\",'Appliances Worksheet'!E365)","v":""}]

{"sheet":"ASHP Equipment Information","index":15,"n_rows":197,"n_cols":6,"rows_kept":197,"cut":false,"hidden":true,"merged":[[7,1,7,5],[5,1,5,5],[9,2,9,6],[28,2,28,6],[47,2,47,6],[66,2,66,6],[180,2,180,6],[85,2,85,6],[104,2,104,6],[123,2,123,6],[142,2,142,6],[161,2,161,6]]}
[null,{"$f":"Development!$A$3&\" Residential Efficiency Program\"","v":"2023 Residential Efficiency Program"}]
[null,{"$f":"\"Air Source Heat Pump Worksheet, Version \"&Development!A2","v":"Air Source Heat Pump Worksheet, Version 1.0"}]
[]
[null,"Equipment Information Worksheet"]
[]
[]
[]
[]
[]
[null,null,"Heating and Cooling System 1"]
[null,1,"New Equipment Type:",null,null,"Existing Equipment Type"]
[]
[null,null,"Rating Method:",null,null,"AHRI Reference Number:"]
[]
[null,null,"Condenser Manufacturer:",null,null,"AHRI Cooling Capacity (BTUh):"]
[]
[null,null,"Condenser Model Number:",null,null,{"$f":"\"AHRI Heating Capacity (BTUh)*:\n*@17⁰F Rated\"","v":"AHRI Heating Capacity (BTUh)*:\n*@17⁰F Rated"}]
[]
[null,null,"Condenser Serial Number:",null,null,{"$f":"\"Heating Capacity (BTUh)*:\n*@17⁰F Maximum (NEEP)\"","v":"Heating Capacity (BTUh)*:\n*@17⁰F Maximum (NEEP)"}]
[]
[null,null,"Coil/Air Handler Manufacturer:",null,null,{"$f":"IF($D$13=\"SEER2/EER2/HSPF2\",\"SEER2:\",\"SEER:\")","v":"SEER:"}]
[]
[null,null,"Coil/Air Handler Model Number:",null,null,{"$f":"IF($D$13=\"SEER2/EER2/HSPF2\",\"EER2:\",\"EER:\")","v":"EER:"}]
[]
[null,null,"Coil/Air Handler Serial Number:",null,null,{"$f":"IF($D$13=\"SEER2/EER2/HSPF2\",\"HSPF2:\",\"HSPF:\")","v":"HSPF:"}]
[null,null,null,null,null,"*All Cold Climate systems must be NEEP listed"]
[]
[]
[null,null,"Heating and Cooling System 2"]
[null,2,"New Equipment Type:",null,null,"Existing Equipment Type:"]
[]
[null,null,"Rating Method:",null,null,"AHRI Reference Number:"]
[]
[null,null,"Condenser Manufacturer:",null,null,"AHRI Cooling Capacity (BTUh):"]
[]
[null,null,"Condenser Model Number:",null,null,{"$f":"\"AHRI Heating Capacity (BTUh)*:\n*@17⁰F Rated\"","v":"AHRI Heating Capacity (BTUh)*:\n*@17⁰F Rated"}]
[]
[null,null,"Condenser Serial Number:",null,null,{"$f":"\"Heating Capacity (BTUh)*:\n*@17⁰F Maximum (NEEP)\"","v":"Heating Capacity (BTUh)*:\n*@17⁰F Maximum (NEEP)"}]
[]
[null,null,"Coil/Air Handler Manufacturer:",null,null,{"$f":"IF($D$32=\"SEER2/EER2/HSPF2\",\"SEER2:\",\"SEER:\")","v":"SEER:"}]
[]
[null,null,"Coil/Air Handler Model Number:",null,null,{"$f":"IF($D$32=\"SEER2/EER2/HSPF2\",\"EER2:\",\"EER:\")","v":"EER:"}]
[]
[null,null,"Coil/Air Handler Serial Number:",null,null,{"$f":"IF($D$32=\"SEER2/EER2/HSPF2\",\"HSPF2:\",\"HSPF:\")","v":"HSPF:"}]
[null,null,null,null,null,"*All Cold Climate systems must be NEEP listed"]
[]
[]
[null,null,"Heating and Cooling System 3"]
[null,3,"New Equipment Type:",null,null,"Existing Equipment Type:"]
[]
[null,null,"Rating Method:",null,null,"AHRI Reference Number:"]
[]
[null,null,"Condenser Manufacturer:",null,null,"AHRI Cooling Capacity (BTUh):"]
[]
[null,null,"Condenser Model Number:",null,null,{"$f":"\"AHRI Heating Capacity (BTUh)*:\n*@17⁰F Rated\"","v":"AHRI Heating Capacity (BTUh)*:\n*@17⁰F Rated"}]
[]
[null,null,"Condenser Serial Number:",null,null,{"$f":"\"Heating Capacity (BTUh)*:\n*@17⁰F Maximum (NEEP)\"","v":"Heating Capacity (BTUh)*:\n*@17⁰F Maximum (NEEP)"}]
[]
[null,null,"Coil/Air Handler Manufacturer:",null,null,{"$f":"IF($D$51=\"SEER2/EER2/HSPF2\",\"SEER2:\",\"SEER:\")","v":"SEER:"}]
[]
[null,null,"Coil/Air Handler Model Number:",null,null,{"$f":"IF($D$51=\"SEER2/EER2/HSPF2\",\"EER2:\",\"EER:\")","v":"EER:"}]
[]
[null,null,"Coil/Air Handler Serial Number:",null,null,{"$f":"IF($D$51=\"SEER2/EER2/HSPF2\",\"HSPF2:\",\"HSPF:\")","v":"HSPF:"}]
[null,null,null,null,null,"*All Cold Climate systems must be NEEP listed"]
[]
[]
[null,null,"Heating and Cooling System 4"]
[null,4,"New Equipment Type:",null,null,"Existing Equipment Type:"]
[]
[null,null,"Rating Method:",null,null,"AHRI Reference Number:"]
[]
[null,null,"Condenser Manufacturer:",null,null,"AHRI Cooling Capacity (BTUh):"]
[]
[null,null,"Condenser Model Number:",null,null,{"$f":"\"AHRI Heating Capacity (BTUh)*:\n*@17⁰F Rated\"","v":"AHRI Heating Capacity (BTUh)*:\n*@17⁰F Rated"}]
[]
[null,null,"Condenser Serial Number:",null,null,{"$f":"\"Heating Capacity (BTUh)*:\n*@17⁰F Maximum (NEEP)\"","v":"Heating Capacity (BTUh)*:\n*@17⁰F Maximum (NEEP)"}]
[]
[null,null,"Coil/Air Handler Manufacturer:",null,null,{"$f":"IF($D$70=\"SEER2/EER2/HSPF2\",\"SEER2:\",\"SEER:\")","v":"SEER:"}]
[]
[null,null,"Coil/Air Handler Model Number:",null,null,{"$f":"IF($D$70=\"SEER2/EER2/HSPF2\",\"EER2:\",\"EER:\")","v":"EER:"}]
[]
[null,null,"Coil/Air Handler Serial Number:",null,null,{"$f":"IF($D$70=\"SEER2/EER2/HSPF2\",\"HSPF2:\",\"HSPF:\")","v":"HSPF:"}]
[null,null,null,null,null,"*All Cold Climate systems must be NEEP listed"]
[]
[]
[null,null,"Heating and Cooling System 5"]
[null,5,"New Equipment Type:",null,null,"Existing Equipment Type:"]
[]
[null,null,"Rating Method:",null,null,"AHRI Reference Number:"]
[]
[null,null,"Condenser Manufacturer:",null,null,"AHRI Cooling Capacity (BTUh):"]
[]
[null,null,"Condenser Model Number:",null,null,{"$f":"\"AHRI Heating Capacity (BTUh)*:\n*@17⁰F Rated\"","v":"AHRI Heating Capacity (BTUh)*:\n*@17⁰F Rated"}]
[]
[null,null,"Condenser Serial Number:",null,null,{"$f":"\"Heating Capacity (BTUh)*:\n*@17⁰F Maximum (NEEP)\"","v":"Heating Capacity (BTUh)*:\n*@17⁰F Maximum (NEEP)"}]
[]
[null,null,"Coil/Air Handler Manufacturer:",null,null,{"$f":"IF($D$89=\"SEER2/EER2/HSPF2\",\"SEER2:\",\"SEER:\")","v":"SEER:"}]
[]
[null,null,"Coil/Air Handler Model Number:",null,null,{"$f":"IF($D$89=\"SEER2/EER2/HSPF2\",\"EER2:\",\"EER:\")","v":"EER:"}]
[]
[null,null,"Coil/Air Handler Serial Number:",null,null,{"$f":"IF($D$89=\"SEER2/EER2/HSPF2\",\"HSPF2:\",\"HSPF:\")","v":"HSPF:"}]
[null,null,null,null,null,"*All Cold Climate systems must be NEEP listed"]
[]
[]
[null,null,"Heating and Cooling System 6"]
[null,6,"New Equipment Type:",null,null,"Existing Equipment Type:"]
[]
[null,null,"Rating Method:",null,null,"AHRI Reference Number:"]
[]
[null,null,"Condenser Manufacturer:",null,null,"AHRI Cooling Capacity (BTUh):"]
[]
[null,null,"Condenser Model Number:",null,null,{"$f":"\"AHRI Heating Capacity (BTUh)*:\n*@17⁰F Rated\"","v":"AHRI Heating Capacity (BTUh)*:\n*@17⁰F Rated"}]
[]
[null,null,"Condenser Serial Number:",null,null,{"$f":"\"Heating Capacity (BTUh)*:\n*@17⁰F Maximum (NEEP)\"","v":"Heating Capacity (BTUh)*:\n*@17⁰F Maximum (NEEP)"}]
[]
[null,null,"Coil/Air Handler Manufacturer:",null,null,{"$f":"IF($D$108=\"SEER2/EER2/HSPF2\",\"SEER2:\",\"SEER:\")","v":"SEER:"}]
[]
[null,null,"Coil/Air Handler Model Number:",null,null,{"$f":"IF($D$108=\"SEER2/EER2/HSPF2\",\"EER2:\",\"EER:\")","v":"EER:"}]
[]
[null,null,"Coil/Air Handler Serial Number:",null,null,{"$f":"IF($D$108=\"SEER2/EER2/HSPF2\",\"HSPF2:\",\"HSPF:\")","v":"HSPF:"}]
[null,null,null,null,null,"*All Cold Climate systems must be NEEP listed"]
[]
[]
[null,null,"Heating and Cooling System 7"]
[null,7,"New Equipment Type:",null,null,"Existing Equipment Type:"]
[]
[null,null,"Rating Method:",null,null,"AHRI Reference Number:"]
[]
[null,null,"Condenser Manufacturer:",null,null,"AHRI Cooling Capacity (BTUh):"]
[]
[null,null,"Condenser Model Number:",null,null,{"$f":"\"AHRI Heating Capacity (BTUh)*:\n*@17⁰F Rated\"","v":"AHRI Heating Capacity (BTUh)*:\n*@17⁰F Rated"}]
[]
[null,null,"Condenser Serial Number:",null,null,{"$f":"\"Heating Capacity (BTUh)*:\n*@17⁰F Maximum (NEEP)\"","v":"Heating Capacity (BTUh)*:\n*@17⁰F Maximum (NEEP)"}]
[]
[null,null,"Coil/Air Handler Manufacturer:",null,null,{"$f":"IF($D$127=\"SEER2/EER2/HSPF2\",\"SEER2:\",\"SEER:\")","v":"SEER:"}]
[]
[null,null,"Coil/Air Handler Model Number:",null,null,{"$f":"IF($D$127=\"SEER2/EER2/HSPF2\",\"EER2:\",\"EER:\")","v":"EER:"}]
[]
[null,null,"Coil/Air Handler Serial Number:",null,null,{"$f":"IF($D$127=\"SEER2/EER2/HSPF2\",\"HSPF2:\",\"HSPF:\")","v":"HSPF:"}]
[null,null,null,null,null,"*All Cold Climate systems must be NEEP listed"]
[]
[]
[null,null,"Heating and Cooling System 8"]
[null,8,"New Equipment Type:",null,null,"Existing Equipment Type:"]
[]
[null,null,"Rating Method:",null,null,"AHRI Reference Number:"]
[]
[null,null,"Condenser Manufacturer:",null,null,"AHRI Cooling Capacity (BTUh):"]
[]
[null,null,"Condenser Model Number:",null,null,{"$f":"\"AHRI Heating Capacity (BTUh)*:\n*@17⁰F Rated\"","v":"AHRI Heating Capacity (BTUh)*:\n*@17⁰F Rated"}]
[]
[null,null,"Condenser Serial Number:",null,null,{"$f":"\"Heating Capacity (BTUh)*:\n*@17⁰F Maximum (NEEP)\"","v":"Heating Capacity (BTUh)*:\n*@17⁰F Maximum (NEEP)"}]
[]
[null,null,"Coil/Air Handler Manufacturer:",null,null,{"$f":"IF($D$146=\"SEER2/EER2/HSPF2\",\"SEER2:\",\"SEER:\")","v":"SEER:"}]
[]
[null,null,"Coil/Air Handler Model Number:",null,null,{"$f":"IF($D$146=\"SEER2/EER2/HSPF2\",\"EER2:\",\"EER:\")","v":"EER:"}]
[]
[null,null,"Coil/Air Handler Serial Number:",null,null,{"$f":"IF($D$146=\"SEER2/EER2/HSPF2\",\"HSPF2:\",\"HSPF:\")","v":"HSPF:"}]
[null,null,null,null,null,"*All Cold Climate systems must be NEEP listed"]
[]
[]
[null,null,"Heating and Cooling System 9"]
[null,9,"New Equipment Type:",null,null,"Existing Equipment Type:"]
[]
[null,null,"Rating Method:",null,null,"AHRI Reference Number:"]
[]
[null,null,"Condenser Manufacturer:",null,null,"AHRI Cooling Capacity (BTUh):"]
[]
[null,null,"Condenser Model Number:",null,null,{"$f":"\"AHRI Heating Capacity (BTUh)*:\n*@17⁰F Rated\"","v":"AHRI Heating Capacity (BTUh)*:\n*@17⁰F Rated"}]
[]
[null,null,"Condenser Serial Number:",null,null,{"$f":"\"Heating Capacity (BTUh)*:\n*@17⁰F Maximum (NEEP)\"","v":"Heating Capacity (BTUh)*:\n*@17⁰F Maximum (NEEP)"}]
[]
[null,null,"Coil/Air Handler Manufacturer:",null,null,{"$f":"IF($D$165=\"SEER2/EER2/HSPF2\",\"SEER2:\",\"SEER:\")","v":"SEER:"}]
[]
[null,null,"Coil/Air Handler Model Number:",null,null,{"$f":"IF($D$165=\"SEER2/EER2/HSPF2\",\"EER2:\",\"EER:\")","v":"EER:"}]
[]
[null,null,"Coil/Air Handler Serial Number:",null,null,{"$f":"IF($D$165=\"SEER2/EER2/HSPF2\",\"HSPF2:\",\"HSPF:\")","v":"HSPF:"}]
[null,null,null,null,null,"*All Cold Climate systems must be NEEP listed"]
[]
[]
[null,null,"Heating and Cooling System 10"]
[null,10,"New Equipment Type:",null,null,"Existing Equipment Type:"]
[]
[null,null,"Rating Method:",null,null,"AHRI Reference Number:"]
[]
[null,null,"Condenser Manufacturer:",null,null,"AHRI Cooling Capacity (BTUh):"]
[]
[null,null,"Condenser Model Number:",null,null,{"$f":"\"AHRI Heating Capacity (BTUh)*:\n*@17⁰F Rated\"","v":"AHRI Heating Capacity (BTUh)*:\n*@17⁰F Rated"}]
[]
[null,null,"Condenser Serial Number:",null,null,{"$f":"\"Heating Capacity (BTUh)*:\n*@17⁰F Maximum (NEEP)\"","v":"Heating Capacity (BTUh)*:\n*@17⁰F Maximum (NEEP)"}]
[]
[null,null,"Coil/Air Handler Manufacturer:",null,null,{"$f":"IF($D$184=\"SEER2/EER2/HSPF2\",\"SEER2:\",\"SEER:\")","v":"SEER:"}]
[]
[null,null,"Coil/Air Handler Model Number:",null,null,{"$f":"IF($D$184=\"SEER2/EER2/HSPF2\",\"EER2:\",\"EER:\")","v":"EER:"}]
[]
[null,null,"Coil/Air Handler Serial Number:",null,null,{"$f":"IF($D$184=\"SEER2/EER2/HSPF2\",\"HSPF2:\",\"HSPF:\")","v":"HSPF:"}]
[null,null,null,null,null,"*All Cold Climate systems must be NEEP listed"]

{"sheet":"ASHP Load Calculations","index":16,"n_rows":137,"n_cols":9,"rows_kept":137,"cut":false,"hidden":true,"merged":[[23,2,23,3],[9,2,9,3],[10,2,10,3],[36,2,36,3],[49,2,49,3],[127,2,127,3],[62,2,62,3],[75,2,75,3],[88,2,88,3],[101,2,101,3],[114,2,114,3]]}
[null,{"$f":"Development!$A$3&\" Residential Efficiency Program\"","v":"2023 Residential Efficiency Program"}]
[null,{"$f":"\"Air Source Heat Pump Worksheet, Version \"&Development!A2","v":"Air Source Heat Pump Worksheet, Version 1.0"}]
[]
[null,"Load Calculations Worksheet"]
[]
[null,null,"Total Cooling Manual J",{"$f":"SUM(D15,D28,D41,D54,D67,D80,D93,D106,D119,D132)","v":0},null,"Total Equipment Rebate",{"$f":"SUM(G19,G32,G45,G58,G71,G84,G97,G110,G123,G136)","v":0}]
[]
[null,null,"Total Heating Manual J",{"$f":"SUM(D17,D30,D43,D56,D69,D82,D95,D108,D121,D134)","v":0},null,"Total Bonus Rebate",{"$f":"_xlfn.IFNA(SUM(Qualifying_Index!$AN$27:$AN$36),0)","v":0}]
[null,null,null,"*Please note rebates are calculated using the 17°F Rated Heating Capacity*"]
[]
[null,null,"Heating and Cooling System 1",null,null,null,null,null,{"$f":"IF(References!$A$15=TRUE,Qualifying_Index!BN27,Qualifying_Index!BO27)","v":"Missing Info"}]
[]
[null,null,"New Equipment Type:",{"$f":"IF('ASHP Equipment Information'!D11=\"\",\"\",'ASHP Equipment Information'!D11)","v":""},null,"Unit Controlled:\n(From Smart Thermostats Tab)","Unit 1"]
[]
[null,null,"Manual J Cooling Load (BTUh)*:\n*Sensible and Latent",null,null,"Smart Thermostat Type 1*:\n*Required for Cold Climate systems",{"$f":"IFERROR(INDEX('Smart T-Stats'!$B$21:$B$30,MATCH(References!$A$85,'Smart T-Stats'!$G$21:$G$30,0)),\"\")","v":""}]
[]
[null,null,"Manual J Heating Load (BTUh):",null,null,"Qualifying Tier:",{"$f":"IF(I11=\"Missing Info\",\"\",Qualifying_Index!AH27)","v":""}]
[]
[null,null,"Manual J Pass/Fail:",{"$f":"IF(AND(D15=\"\",D17=\"\",D13=\"\"),\"\",Qualifying_Index!AX27)","v":""},null,"Equipment Rebate:",{"$f":"IF('ASHP Equipment Information'!D11=\"\",\"\",IF('ASHP Equipment Information'!G11=\"\",\"\",IF(I11=\"Missing Info\",\"Missing Info\",IF(OR(G17=\"DNQ\",B21<>\"\"),\"DNQ\",IF('Heat Pump Costs'!AG5=\"\",\"  *Please enter cost on Heat Pump Costs tab*\",ROUND(Qualifying_Index!AJ27,0))))))","v":""}]
[null,null,null,null,null,null,{"$f":"IF(OR(G19=\"\",G19=\"   *Please enter cost on Heat Pump Cost Tab*\"),\"\",IF(G19<ROUND(Qualifying_Index!AJ27,0),\"*Please note this rebate has been capped at the cost*\",\"\"))","v":""}]
[]
[]
[]
[null,null,"Heating and Cooling System 2",null,null,null,null,null,{"$f":"IF(References!$A$15=TRUE,Qualifying_Index!BN28,Qualifying_Index!BO28)","v":"Missing Info"}]
[]
[null,null,"New Equipment Type:",{"$f":"IF('ASHP Equipment Information'!D30=\"\",\"\",'ASHP Equipment Information'!D30)","v":""},null,"Unit Controlled:\n(From Smart Thermostats Tab)","Unit 1"]
[]
[null,null,"Manual J Cooling Load (BTUh)*:\n*Sensible and Latent",null,null,"Smart Thermostat Type 2*:\n*Required for Cold Climate systems",{"$f":"IFERROR(INDEX('Smart T-Stats'!$B$21:$B$30,MATCH(References!$A$86,'Smart T-Stats'!$G$21:$G$30,0)),\"\")","v":""}]
[]
[null,null,"Manual J Heating Load (BTUh):",null,null,"Qualifying Tier:",{"$f":"IF(I24=\"Missing Info\",\"\",Qualifying_Index!AH28)","v":""}]
[]
[null,null,"Manual J Pass/Fail:",{"$f":"IF(AND(D28=\"\",D30=\"\",D26=\"\"),\"\",Qualifying_Index!AX28)","v":""},null,"Equipment Rebate:",{"$f":"IF('ASHP Equipment Information'!D30=\"\",\"\",IF('ASHP Equipment Information'!G30=\"\",\"\",IF(I24=\"Missing Info\",\"Missing Info\",IF(OR(G30=\"DNQ\",B34<>\"\"),\"DNQ\",IF('Heat Pump Costs'!AG6=\"\",\"  *Please enter cost on Heat Pump Costs tab*\",ROUND(Qualifying_Index!AJ28,0))))))","v":""}]
[null,null,null,null,null,null,{"$f":"IF(OR(G32=\"\",G32=\"   *Please enter cost on Heat Pump Cost Tab*\"),\"\",IF(G32<ROUND(Qualifying_Index!AJ28,0),\"*Please note this rebate has been capped at the cost*\",\"\"))","v":""}]
[]
[]
[]
[null,null,"Heating and Cooling System 3",null,null,null,null,null,{"$f":"IF(References!$A$15=TRUE,Qualifying_Index!BN29,Qualifying_Index!BO29)","v":"Missing Info"}]
[]
[null,null,"New Equipment Type:",{"$f":"IF('ASHP Equipment Information'!D49=\"\",\"\",'ASHP Equipment Information'!D49)","v":""},null,"Unit Controlled:\n(From Smart Thermostats Tab)","Unit 1"]
[]
[null,null,"Manual J Cooling Load (BTUh)*:\n*Sensible and Latent",null,null,"Smart Thermostat Type 3*:\n*Required for Cold Climate systems",{"$f":"IFERROR(INDEX('Smart T-Stats'!$B$21:$B$30,MATCH(References!$A$87,'Smart T-Stats'!$G$21:$G$30,0)),\"\")","v":""}]
[]
[null,null,"Manual J Heating Load (BTUh):",null,null,"Qualifying Tier:",{"$f":"IF(I37=\"Missing Info\",\"\",Qualifying_Index!AH29)","v":""}]
[]
[null,null,"Manual J Pass/Fail:",{"$f":"IF(AND(D41=\"\",D43=\"\",D39=\"\"),\"\",Qualifying_Index!AX29)","v":""},null,"Equipment Rebate:",{"$f":"IF('ASHP Equipment Information'!D49=\"\",\"\",IF('ASHP Equipment Information'!G49=\"\",\"\",IF(I37=\"Missing Info\",\"Missing Info\",IF(OR(G43=\"DNQ\",B47<>\"\"),\"DNQ\",IF('Heat Pump Costs'!AG7=\"\",\"  *Please enter cost on Heat Pump Costs tab*\",ROUND(Qualifying_Index!AJ29,0))))))","v":""}]
[null,null,null,null,null,null,{"$f":"IF(OR(G45=\"\",G45=\"   *Please enter cost on Heat Pump Cost Tab*\"),\"\",IF(G45<ROUND(Qualifying_Index!AJ29,0),\"*Please note this rebate has been capped at the cost*\",\"\"))","v":""}]
[]
[]
[]
[null,null,"Heating and Cooling System 4",null,null,null,null,null,{"$f":"IF(References!$A$15=TRUE,Qualifying_Index!BN30,Qualifying_Index!BO30)","v":"Missing Info"}]
[]
[null,null,"New Equipment Type:",{"$f":"IF('ASHP Equipment Information'!D68=\"\",\"\",'ASHP Equipment Information'!D68)","v":""},null,"Unit Controlled:\n(From Smart Thermostats Tab)","Unit 1"]
[]
[null,null,"Manual J Cooling Load (BTUh)*:\n*Sensible and Latent",null,null,"Smart Thermostat Type 4*:\n*Required for Cold Climate systems",{"$f":"IFERROR(INDEX('Smart T-Stats'!$B$21:$B$30,MATCH(References!$A$88,'Smart T-Stats'!$G$21:$G$30,0)),\"\")","v":""}]
[]
[null,null,"Manual J Heating Load (BTUh):",null,null,"Qualifying Tier:",{"$f":"IF(I50=\"Missing Info\",\"\",Qualifying_Index!AH30)","v":""}]
[]
[null,null,"Manual J Pass/Fail:",{"$f":"IF(AND(D54=\"\",D56=\"\",D52=\"\"),\"\",Qualifying_Index!AX30)","v":""},null,"Equipment Rebate:",{"$f":"IF('ASHP Equipment Information'!D68=\"\",\"\",IF('ASHP Equipment Information'!G68=\"\",\"\",IF(I50=\"Missing Info\",\"Missing Info\",IF(OR(G56=\"DNQ\",B60<>\"\"),\"DNQ\",IF('Heat Pump Costs'!AG8=\"\",\"  *Please enter cost on Heat Pump Costs tab*\",ROUND(Qualifying_Index!AJ30,0))))))","v":""}]
[null,null,null,null,null,null,{"$f":"IF(OR(G58=\"\",G58=\"   *Please enter cost on Heat Pump Cost Tab*\"),\"\",IF(G58<ROUND(Qualifying_Index!AJ30,0),\"*Please note this rebate has been capped at the cost*\",\"\"))","v":""}]
[]
[]
[]
[null,null,"Heating and Cooling System 5",null,null,null,null,null,{"$f":"IF(References!$A$15=TRUE,Qualifying_Index!BN31,Qualifying_Index!BO31)","v":"Missing Info"}]
[]
[null,null,"New Equipment Type:",{"$f":"IF('ASHP Equipment Information'!D87=\"\",\"\",'ASHP Equipment Information'!D87)","v":""},null,"Unit Controlled:\n(From Smart Thermostats Tab)","Unit 1"]
[]
[null,null,"Manual J Cooling Load (BTUh)*:\n*Sensible and Latent",null,null,"Smart Thermostat Type 5*:\n*Required for Cold Climate systems",{"$f":"IFERROR(INDEX('Smart T-Stats'!$B$21:$B$30,MATCH(References!$A$89,'Smart T-Stats'!$G$21:$G$30,0)),\"\")","v":""}]
[]
[null,null,"Manual J Heating Load (BTUh):",null,null,"Qualifying Tier:",{"$f":"IF(I63=\"Missing Info\",\"\",Qualifying_Index!AH31)","v":""}]
[]
[null,null,"Manual J Pass/Fail:",{"$f":"IF(AND(D67=\"\",D69=\"\",D65=\"\"),\"\",Qualifying_Index!AX31)","v":""},null,"Equipment Rebate:",{"$f":"IF('ASHP Equipment Information'!D87=\"\",\"\",IF('ASHP Equipment Information'!G87=\"\",\"\",IF(I63=\"Missing Info\",\"Missing Info\",IF(OR(G69=\"DNQ\",B73<>\"\"),\"DNQ\",IF('Heat Pump Costs'!AG9=\"\",\"  *Please enter cost on Heat Pump Costs tab*\",ROUND(Qualifying_Index!AJ31,0))))))","v":""}]
[null,null,null,null,null,null,{"$f":"IF(OR(G71=\"\",G71=\"   *Please enter cost on Heat Pump Cost Tab*\"),\"\",IF(G71<ROUND(Qualifying_Index!AJ31,0),\"*Please note this rebate has been capped at the cost*\",\"\"))","v":""}]
[]
[]
[]
[null,null,"Heating and Cooling System 6",null,null,null,null,null,{"$f":"IF(References!$A$15=TRUE,Qualifying_Index!BN32,Qualifying_Index!BO32)","v":"Missing Info"}]
[]
[null,null,"New Equipment Type:",{"$f":"IF('ASHP Equipment Information'!D106=\"\",\"\",'ASHP Equipment Information'!D106)","v":""},null,"Unit Controlled:\n(From Smart Thermostats Tab)","Unit 1"]
[]
[null,null,"Manual J Cooling Load (BTUh)*:\n*Sensible and Latent",null,null,"Smart Thermostat Type 6*:\n*Required for Cold Climate systems",{"$f":"IFERROR(INDEX('Smart T-Stats'!$B$21:$B$30,MATCH(References!$A$90,'Smart T-Stats'!$G$21:$G$30,0)),\"\")","v":""}]
[]
[null,null,"Manual J Heating Load (BTUh):",null,null,"Qualifying Tier:",{"$f":"IF(I76=\"Missing Info\",\"\",Qualifying_Index!AH32)","v":""}]
[]
[null,null,"Manual J Pass/Fail:",{"$f":"IF(AND(D80=\"\",D82=\"\",D78=\"\"),\"\",Qualifying_Index!AX32)","v":""},null,"Equipment Rebate:",{"$f":"IF('ASHP Equipment Information'!D106=\"\",\"\",IF('ASHP Equipment Information'!G106=\"\",\"\",IF(I76=\"Missing Info\",\"Missing Info\",IF(OR(G82=\"DNQ\",B86<>\"\"),\"DNQ\",IF('Heat Pump Costs'!AG10=\"\",\"  *Please enter cost on Heat Pump Costs tab*\",ROUND(Qualifying_Index!AJ32,0))))))","v":""}]
[null,null,null,null,null,null,{"$f":"IF(OR(G84=\"\",G84=\"   *Please enter cost on Heat Pump Cost Tab*\"),\"\",IF(G84<ROUND(Qualifying_Index!AJ32,0),\"*Please note this rebate has been capped at the cost*\",\"\"))","v":""}]
[]
[]
[]
[null,null,"Heating and Cooling System 7",null,null,null,null,null,{"$f":"IF(References!$A$15=TRUE,Qualifying_Index!BN33,Qualifying_Index!BO33)","v":"Missing Info"}]
[]
[null,null,"New Equipment Type:",{"$f":"IF('ASHP Equipment Information'!D125=\"\",\"\",'ASHP Equipment Information'!D125)","v":""},null,"Unit Controlled:\n(From Smart Thermostats Tab)","Unit 1"]
[]
[null,null,"Manual J Cooling Load (BTUh)*:\n*Sensible and Latent",null,null,"Smart Thermostat Type 7*:\n*Required for Cold Climate systems",{"$f":"IFERROR(INDEX('Smart T-Stats'!$B$21:$B$30,MATCH(References!$A$91,'Smart T-Stats'!$G$21:$G$30,0)),\"\")","v":""}]
[]
[null,null,"Manual J Heating Load (BTUh):",null,null,"Qualifying Tier:",{"$f":"IF(I89=\"Missing Info\",\"\",Qualifying_Index!AH33)","v":""}]
[]
[null,null,"Manual J Pass/Fail:",{"$f":"IF(AND(D93=\"\",D95=\"\",D91=\"\"),\"\",Qualifying_Index!AX33)","v":""},null,"Equipment Rebate:",{"$f":"IF('ASHP Equipment Information'!D125=\"\",\"\",IF('ASHP Equipment Information'!G125=\"\",\"\",IF(I89=\"Missing Info\",\"Missing Info\",IF(OR(G95=\"DNQ\",B99<>\"\"),\"DNQ\",IF('Heat Pump Costs'!AG11=\"\",\"  *Please enter cost on Heat Pump Costs tab*\",ROUND(Qualifying_Index!AJ33,0))))))","v":""}]
[null,null,null,null,null,null,{"$f":"IF(OR(G97=\"\",G97=\"   *Please enter cost on Heat Pump Cost Tab*\"),\"\",IF(G97<ROUND(Qualifying_Index!AJ33,0),\"*Please note this rebate has been capped at the cost*\",\"\"))","v":""}]
[]
[]
[]
[null,null,"Heating and Cooling System 8",null,null,null,null,null,{"$f":"IF(References!$A$15=TRUE,Qualifying_Index!BN34,Qualifying_Index!BO34)","v":"Missing Info"}]
[]
[null,null,"New Equipment Type:",{"$f":"IF('ASHP Equipment Information'!D144=\"\",\"\",'ASHP Equipment Information'!D144)","v":""},null,"Unit Controlled:\n(From Smart Thermostats Tab)","Unit 1"]
[]
[null,null,"Manual J Cooling Load (BTUh)*:\n*Sensible and Latent",null,null,"Smart Thermostat Type 8*:\n*Required for Cold Climate systems",{"$f":"IFERROR(INDEX('Smart T-Stats'!$B$21:$B$30,MATCH(References!$A$92,'Smart T-Stats'!$G$21:$G$30,0)),\"\")","v":""}]
[]
[null,null,"Manual J Heating Load (BTUh):",null,null,"Qualifying Tier:",{"$f":"IF(I102=\"Missing Info\",\"\",Qualifying_Index!AH34)","v":""}]
[]
[null,null,"Manual J Pass/Fail:",{"$f":"IF(AND(D106=\"\",D108=\"\",D104=\"\"),\"\",Qualifying_Index!AX34)","v":""},null,"Equipment Rebate:",{"$f":"IF('ASHP Equipment Information'!D144=\"\",\"\",IF('ASHP Equipment Information'!G144=\"\",\"\",IF(I102=\"Missing Info\",\"Missing Info\",IF(OR(G108=\"DNQ\",B112<>\"\"),\"DNQ\",IF('Heat Pump Costs'!AG12=\"\",\"  *Please enter cost on Heat Pump Costs tab*\",ROUND(Qualifying_Index!AJ34,0))))))","v":""}]
[null,null,null,null,null,null,{"$f":"IF(OR(G110=\"\",G110=\"   *Please enter cost on Heat Pump Cost Tab*\"),\"\",IF(G110<ROUND(Qualifying_Index!AJ34,0),\"*Please note this rebate has been capped at the cost*\",\"\"))","v":""}]
[]
[]
[]
[null,null,"Heating and Cooling System 9",null,null,null,null,null,{"$f":"IF(References!$A$15=TRUE,Qualifying_Index!BN35,Qualifying_Index!BO35)","v":"Missing Info"}]
[]
[null,null,"New Equipment Type:",{"$f":"IF('ASHP Equipment Information'!D163=\"\",\"\",'ASHP Equipment Information'!D163)","v":""},null,"Unit Controlled:\n(From Smart Thermostats Tab)","Unit 1"]
[]
[null,null,"Manual J Cooling Load (BTUh)*:\n*Sensible and Latent",null,null,"Smart Thermostat Type 9*:\n*Required for Cold Climate systems",{"$f":"IFERROR(INDEX('Smart T-Stats'!$B$21:$B$30,MATCH(References!$A$93,'Smart T-Stats'!$G$21:$G$30,0)),\"\")","v":""}]
[]
[null,null,"Manual J Heating Load (BTUh):",null,null,"Qualifying Tier:",{"$f":"IF(I115=\"Missing Info\",\"\",Qualifying_Index!AH35)","v":""}]
[]
[null,null,"Manual J Pass/Fail:",{"$f":"IF(AND(D119=\"\",D121=\"\",D117=\"\"),\"\",Qualifying_Index!AX35)","v":""},null,"Equipment Rebate:",{"$f":"IF('ASHP Equipment Information'!D163=\"\",\"\",IF('ASHP Equipment Information'!G163=\"\",\"\",IF(I115=\"Missing Info\",\"Missing Info\",IF(OR(G121=\"DNQ\",B125<>\"\"),\"DNQ\",IF('Heat Pump Costs'!AG13=\"\",\"  *Please enter cost on Heat Pump Costs tab*\",ROUND(Qualifying_Index!AJ35,0))))))","v":""}]
[null,null,null,null,null,null,{"$f":"IF(OR(G123=\"\",G123=\"   *Please enter cost on Heat Pump Cost Tab*\"),\"\",IF(G123<ROUND(Qualifying_Index!AJ35,0),\"*Please note this rebate has been capped at the cost*\",\"\"))","v":""}]
[]
[]
[]
[null,null,"Heating and Cooling System 10",null,null,null,null,null,{"$f":"IF(References!$A$15=TRUE,Qualifying_Index!BN36,Qualifying_Index!BO36)","v":"Missing Info"}]
[]
[null,null,"New Equipment Type:",{"$f":"IF('ASHP Equipment Information'!D182=\"\",\"\",'ASHP Equipment Information'!D182)","v":""},null,"Unit Controlled:\n(From Smart Thermostats Tab)","Unit 1"]
[]
[null,null,"Manual J Cooling Load (BTUh)*:\n*Sensible and Latent",null,null,"Smart Thermostat Type 10*:\n*Required for Cold Climate systems",{"$f":"IFERROR(INDEX('Smart T-Stats'!$B$21:$B$30,MATCH(References!$A$94,'Smart T-Stats'!$G$21:$G$30,0)),\"\")","v":""}]
[]
[null,null,"Manual J Heating Load (BTUh):",null,null,"Qualifying Tier:",{"$f":"IF(I128=\"Missing Info\",\"\",Qualifying_Index!AH36)","v":""}]
[]
[null,null,"Manual J Pass/Fail:",{"$f":"IF(AND(D132=\"\",D134=\"\",D130=\"\"),\"\",Qualifying_Index!AX36)","v":""},null,"Equipment Rebate:",{"$f":"IF('ASHP Equipment Information'!D182=\"\",\"\",IF('ASHP Equipment Information'!G182=\"\",\"\",IF(I128=\"Missing Info\",\"Missing Info\",IF(OR(G134=\"DNQ\",B138<>\"\"),\"DNQ\",IF('Heat Pump Costs'!AG14=\"\",\"  *Please enter cost on Heat Pump Costs tab*\",ROUND(Qualifying_Index!AJ36,0))))))","v":""}]
[null,null,null,null,null,null,{"$f":"IF(OR(G136=\"\",G136=\"   *Please enter cost on Heat Pump Cost Tab*\"),\"\",IF(G136<ROUND(Qualifying_Index!AJ36,0),\"*Please note this rebate has been capped at the cost*\",\"\"))","v":""}]

{"sheet":"Integrated Controls","index":17,"n_rows":38,"n_cols":12,"rows_kept":38,"cut":false,"hidden":true,"merged":[[15,2,15,3],[16,2,16,3],[17,2,17,3],[3,1,3,8],[5,2,5,5],[6,2,6,5],[8,2,9,5],[23,2,23,3],[24,2,24,3],[25,2,25,3],[18,2,18,3],[19,2,19,3],[20,2,20,3],[21,2,21,3],[22,2,22,3]]}
[]
[null,{"$f":"Development!$A$3&\" Residential Efficiency Program\"","v":"2023 Residential Efficiency Program"}]
[null,{"$f":"\"Integrated Controls and Dual Fuel Thermostat Worksheet, Version \"&Development!A2","v":"Integrated Controls and Dual Fuel Thermostat Worksheet, Version 1.0"}]
[null,"If the customer will have fossil fuel back up heat present after the proposed equipment is installed, Integrated Controls (Modulating or Fixed), Freeze Stats, or Dual Fuel Thermostats must be installed. For Ductless Systems , installation of integrated/modulating controls is required."]
[null,"Instructions:"]
[null,"1.","In the \"Technology Type\" drop-down, select Integrated Controls (Modulating or Fixed), Dual Fuel Thermostat, Freeze Stat,\n or No Fossil Fuel Heater"]
[null,"2.","If Dual Fuel Thermostat: Select Manufacturer, Approved Thermostat, Model Number and Serial Number",null,null,null,"Technology","Customer Incentive","Customer Incentive - Income Eligible"]
[null,"3.","If Integrated Controls (Modulating or Fixed): Manually enter Manufacturer, Approved Thermostat, Model Number, and Serial Number",null,null,null,"Integrated/Modulating Controls",500,750]
[null,null,"- Modulating Controls allow the backup fossil fuel system to modulate to meet the load without limiting the ASHP from delivering its maximum capacity\n- Fixed Controls allow the backup fossil fuel system (which is generally larger than the ASHP) to operate because the ASHP is not always able to deliver its maximum capacity",null,null,null,"Integrated/Fixed Controls",500,750]
[null,null,null,null,null,null,"Dual Fuel Thermostat",500,750]
[null,"4.","See NYSERDA's list of Qualified Integrated Controls for more information:",null,"NYSERDA Qualified Controls",null,"Freeze Stat",350,350]
[null,"5.","All Freeze Stats must have a setpoint of 32 degrees or less"]
[null,"*","All Serial Numbers entered must match invoice"]
[]
[]
[null,null,"Technology Type",null,"Manufacturer","Approved Thermostat","Model Number","Serial Number","Customer Incentive"]
[null,"Unit 1","No Fossil Fuel Heater",null,null,null,null,null,{"$f":"IF(OR(C17=\"\",E17=\"\",F17=\"\",G17=\"\",H17=\"\"),0,Qualifying_Index!S56)","v":0}]
[null,"Unit 2","No Fossil Fuel Heater",null,null,null,null,null,{"$f":"IF(OR(C18=\"\",E18=\"\",F18=\"\",G18=\"\",H18=\"\"),0,Qualifying_Index!S57)","v":0},null,null,{"$f":"IF(OR(C18=\"\",E18=\"\",G18=\"\",,#REF!=\"\",I18=\"\"),\"\",35)","v":{"$error":"#REF!"}}]
[null,"Unit 3","No Fossil Fuel Heater",null,null,null,null,null,{"$f":"IF(OR(C19=\"\",E19=\"\",F19=\"\",G19=\"\",H19=\"\"),0,Qualifying_Index!S58)","v":0},null,{"$f":"IF(OR(B19=\"\",D19=\"\",F19=\"\",,#REF!=\"\",H19=\"\"),\"\",35)","v":{"$error":"#REF!"}}]
[null,"Unit 4","No Fossil Fuel Heater",null,null,null,null,null,{"$f":"IF(OR(C20=\"\",E20=\"\",F20=\"\",G20=\"\",H20=\"\"),0,Qualifying_Index!S59)","v":0},null,{"$f":"IF(OR(B20=\"\",D20=\"\",F20=\"\",,#REF!=\"\",H20=\"\"),\"\",35)","v":{"$error":"#REF!"}}]
[null,"Unit 5","No Fossil Fuel Heater",null,null,null,null,null,{"$f":"IF(OR(C21=\"\",E21=\"\",F21=\"\",G21=\"\",H21=\"\"),0,Qualifying_Index!S60)","v":0},null,{"$f":"IF(OR(B21=\"\",D21=\"\",F21=\"\",,#REF!=\"\",H21=\"\"),\"\",35)","v":{"$error":"#REF!"}}]
[null,"Unit 6","No Fossil Fuel Heater",null,null,null,null,null,{"$f":"IF(OR(C22=\"\",E22=\"\",F22=\"\",G22=\"\",H22=\"\"),0,Qualifying_Index!S61)","v":0},null,{"$f":"IF(OR(B22=\"\",D22=\"\",F22=\"\",,#REF!=\"\",H22=\"\"),\"\",35)","v":{"$error":"#REF!"}}]
[null,"Unit 7","No Fossil Fuel Heater",null,null,null,null,null,{"$f":"IF(OR(C23=\"\",E23=\"\",F23=\"\",G23=\"\",H23=\"\"),0,Qualifying_Index!S62)","v":0},null,{"$f":"IF(OR(B23=\"\",D23=\"\",F23=\"\",,#REF!=\"\",H23=\"\"),\"\",35)","v":{"$error":"#REF!"}}]
[null,"Unit 8","No Fossil Fuel Heater",null,null,null,null,null,{"$f":"IF(OR(C24=\"\",E24=\"\",F24=\"\",G24=\"\",H24=\"\"),0,Qualifying_Index!S63)","v":0},null,{"$f":"IF(OR(B24=\"\",D24=\"\",F24=\"\",,#REF!=\"\",H24=\"\"),\"\",35)","v":{"$error":"#REF!"}}]
[null,"Unit 9","No Fossil Fuel Heater",null,null,null,null,null,{"$f":"IF(OR(C25=\"\",E25=\"\",F25=\"\",G25=\"\",H25=\"\"),0,Qualifying_Index!S64)","v":0},null,{"$f":"IF(OR(B25=\"\",D25=\"\",F25=\"\",,#REF!=\"\",H25=\"\"),\"\",35)","v":{"$error":"#REF!"}}]
[null,"Unit 10","No Fossil Fuel Heater",null,null,null,null,null,{"$f":"IF(OR(C26=\"\",E26=\"\",F26=\"\",G26=\"\",H26=\"\"),0,Qualifying_Index!S65)","v":0},null,{"$f":"IF(OR(B26=\"\",D26=\"\",F26=\"\",,#REF!=\"\",H26=\"\"),\"\",35)","v":{"$error":"#REF!"}}]
[]
[null,null,null,null,null,null,null,null,null,null,{"$f":"SUM(J17:J26)","v":0}]
[]
[]
[]
[]
[]
[]
[]
[]
[]
[null,"Application Version:",null,{"$f":"Development!$A$2","v":"1.0"},null,null,null,"Effective Date:",{"$f":"Development!$A$4","v":"1.1.23"}]

{"sheet":"Smart T-Stats","index":18,"n_rows":44,"n_cols":12,"rows_kept":44,"cut":false,"hidden":true,"merged":[[3,1,3,10],[19,1,19,2],[20,1,20,2],[21,1,21,2],[8,2,8,8],[27,1,27,2],[28,1,28,2],[29,1,29,2],[31,1,31,2],[22,1,22,2],[23,1,23,2],[24,1,24,2],[25,1,25,2],[26,1,26,2]]}
[]
[null,{"$f":"Development!$A$3&\" Residential Efficiency Program\"","v":"2023 Residential Efficiency Program"}]
[null,{"$f":"\"Smart Thermostat Eligibility Table & Worksheet, Version \"&Development!A2","v":"Smart Thermostat Eligibility Table & Worksheet, Version 1.0"}]
[null,"Smart thermostat incentives are limited to one thermostat per unit and cannot replace an existing Smart thermostat. Smart thermostat must control the installed unit in order to be eligible for an incentive. Thermostats must be installed by a QIV contractor or by a Home Performance with ENERGY STAR contractor."]
[]
[null,"Instructions:"]
[]
[null,"1.","Enter Manufacturer, Approved Thermostat, and Serial Number."]
[null,"2.","If new thermostat is to be connected to a unit identified on the Worksheet tab, please indicate the unit number from Column B. of the Worksheet tab in Column G under \"Unit Controlled\"."]
[null,"3.","If new thermostat is not a Connected or Learning Thermostat, please enter Thermostat data in \"Other Smart Thermostat\" section"]
[null,null,"- Please note, rebates are only vailable for Connected and Learning Thermostats"]
[]
[null,null,"Eligible Equipment","Customer Incentive (per unit)"]
[null,null,"Wi-Fi Enabled Smart Thermostat",100]
[null,null,"Learning Smart Thermostat",130]
[]
[]
[null,"In order to qualify for an incentive, Smart thermostats must be listed at. ",null,null,null,"https://enrollmythermostat.com/faqs/pseg-long-island-faq/"]
[]
[null,"Manufacturer",null,"Approved Thermostat","Model Number","Serial Number","Unit Controlled","Primary Cooling","Heating Type",null,"Customer Incentive","Bonus"]
["Unit 1",null,null,null,null,null,null,{"$f":"IF(G21=\"\",\"\",IF(INDEX(Qualifying_Index!$BU$27:$BU$36,MATCH(G21,Qualifying_Index!$A$27:$A$36,0))=\"\",INDEX('Space Heating Worksheet'!$C$33:$C$42,MATCH(G21,'Space Heating Worksheet'!$B$33:$B$42,0)),INDEX(Qualifying_Index!$BU$27:$BU$36,MATCH(G21,Qualifying_Index!$A$27:$A$36,0))))","v":""},{"$f":"IF(G21=\"\",\"\",IF(INDEX(Qualifying_Index!$BU$27:$BU$36,MATCH(G21,Qualifying_Index!$A$27:$A$36,0))=\"\",INDEX('Space Heating Worksheet'!$C$33:$C$42,MATCH(G21,'Space Heating Worksheet'!$B$33:$B$42,0)),INDEX(Qualifying_Index!$BU$27:$BU$36,MATCH(G21,Qualifying_Index!$A$27:$A$36,0))))","v":""},{"$f":"IF(H21=\"\",\"\",IF(References!$C$33=TRUE,\"HP Thermostat\",IF(OR(RIGHT(H21,2)=\"HP\",I21=\"Electric Heat\"),\"CH Thermostat Heating Cooling\",\"CH Thermostat Cooling\")))","v":""},{"$f":"IF(OR(B21=\"\",D21=\"\",F21=\"\",G21=\"\"),\"\",Qualifying_Index!W42)","v":""},{"$f":"IF(OR(B21=\"\",D21=\"\",F21=\"\",H21=\"\",I21=\"\"),\"\",Qualifying_Index!Y42)","v":""}]
["Unit 2",null,null,null,null,null,null,{"$f":"IF(G22=\"\",\"\",IF(INDEX(Qualifying_Index!$BU$27:$BU$36,MATCH(G22,Qualifying_Index!$A$27:$A$36,0))=\"\",INDEX('Space Heating Worksheet'!$C$33:$C$42,MATCH(G22,'Space Heating Worksheet'!$B$33:$B$42,0)),INDEX(Qualifying_Index!$BU$27:$BU$36,MATCH(G22,Qualifying_Index!$A$27:$A$36,0))))","v":""},{"$f":"IF(G22=\"\",\"\",IF(INDEX(Qualifying_Index!$BU$27:$BU$36,MATCH(G22,Qualifying_Index!$A$27:$A$36,0))=\"\",INDEX('Space Heating Worksheet'!$C$33:$C$42,MATCH(G22,'Space Heating Worksheet'!$B$33:$B$42,0)),INDEX(Qualifying_Index!$BU$27:$BU$36,MATCH(G22,Qualifying_Index!$A$27:$A$36,0))))","v":""},{"$f":"IF(H22=\"\",\"\",IF(References!$C$33=TRUE,\"HP Thermostat\",IF(OR(RIGHT(H22,2)=\"HP\",I22=\"Electric Heat\"),\"CH Thermostat Heating Cooling\",\"CH Thermostat Cooling\")))","v":""},{"$f":"IF(OR(B22=\"\",D22=\"\",F22=\"\",G22=\"\"),\"\",Qualifying_Index!W43)","v":""},{"$f":"IF(OR(B22=\"\",D22=\"\",F22=\"\",H22=\"\",I22=\"\"),\"\",Qualifying_Index!Y43)","v":""}]
["Unit 3",null,null,null,null,null,null,{"$f":"IF(G23=\"\",\"\",IF(INDEX(Qualifying_Index!$BU$27:$BU$36,MATCH(G23,Qualifying_Index!$A$27:$A$36,0))=\"\",INDEX('Space Heating Worksheet'!$C$33:$C$42,MATCH(G23,'Space Heating Worksheet'!$B$33:$B$42,0)),INDEX(Qualifying_Index!$BU$27:$BU$36,MATCH(G23,Qualifying_Index!$A$27:$A$36,0))))","v":""},{"$f":"IF(G23=\"\",\"\",IF(INDEX(Qualifying_Index!$BU$27:$BU$36,MATCH(G23,Qualifying_Index!$A$27:$A$36,0))=\"\",INDEX('Space Heating Worksheet'!$C$33:$C$42,MATCH(G23,'Space Heating Worksheet'!$B$33:$B$42,0)),INDEX(Qualifying_Index!$BU$27:$BU$36,MATCH(G23,Qualifying_Index!$A$27:$A$36,0))))","v":""},{"$f":"IF(H23=\"\",\"\",IF(References!$C$33=TRUE,\"HP Thermostat\",IF(OR(RIGHT(H23,2)=\"HP\",I23=\"Electric Heat\"),\"CH Thermostat Heating Cooling\",\"CH Thermostat Cooling\")))","v":""},{"$f":"IF(OR(B23=\"\",D23=\"\",F23=\"\",G23=\"\"),\"\",Qualifying_Index!W44)","v":""},{"$f":"IF(OR(B23=\"\",D23=\"\",F23=\"\",H23=\"\",I23=\"\"),\"\",Qualifying_Index!Y44)","v":""}]
["Unit 4",null,null,null,null,null,null,{"$f":"IF(G24=\"\",\"\",IF(INDEX(Qualifying_Index!$BU$27:$BU$36,MATCH(G24,Qualifying_Index!$A$27:$A$36,0))=\"\",INDEX('Space Heating Worksheet'!$C$33:$C$42,MATCH(G24,'Space Heating Worksheet'!$B$33:$B$42,0)),INDEX(Qualifying_Index!$BU$27:$BU$36,MATCH(G24,Qualifying_Index!$A$27:$A$36,0))))","v":""},{"$f":"IF(G24=\"\",\"\",IF(INDEX(Qualifying_Index!$BU$27:$BU$36,MATCH(G24,Qualifying_Index!$A$27:$A$36,0))=\"\",INDEX('Space Heating Worksheet'!$C$33:$C$42,MATCH(G24,'Space Heating Worksheet'!$B$33:$B$42,0)),INDEX(Qualifying_Index!$BU$27:$BU$36,MATCH(G24,Qualifying_Index!$A$27:$A$36,0))))","v":""},{"$f":"IF(H24=\"\",\"\",IF(References!$C$33=TRUE,\"HP Thermostat\",IF(OR(RIGHT(H24,2)=\"HP\",I24=\"Electric Heat\"),\"CH Thermostat Heating Cooling\",\"CH Thermostat Cooling\")))","v":""},{"$f":"IF(OR(B24=\"\",D24=\"\",F24=\"\",G24=\"\"),\"\",Qualifying_Index!W45)","v":""},{"$f":"IF(OR(B24=\"\",D24=\"\",F24=\"\",H24=\"\",I24=\"\"),\"\",Qualifying_Index!Y45)","v":""}]
["Unit 5",null,null,null,null,null,null,{"$f":"IF(G25=\"\",\"\",IF(INDEX(Qualifying_Index!$BU$27:$BU$36,MATCH(G25,Qualifying_Index!$A$27:$A$36,0))=\"\",INDEX('Space Heating Worksheet'!$C$33:$C$42,MATCH(G25,'Space Heating Worksheet'!$B$33:$B$42,0)),INDEX(Qualifying_Index!$BU$27:$BU$36,MATCH(G25,Qualifying_Index!$A$27:$A$36,0))))","v":""},{"$f":"IF(G25=\"\",\"\",IF(INDEX(Qualifying_Index!$BU$27:$BU$36,MATCH(G25,Qualifying_Index!$A$27:$A$36,0))=\"\",INDEX('Space Heating Worksheet'!$C$33:$C$42,MATCH(G25,'Space Heating Worksheet'!$B$33:$B$42,0)),INDEX(Qualifying_Index!$BU$27:$BU$36,MATCH(G25,Qualifying_Index!$A$27:$A$36,0))))","v":""},{"$f":"IF(H25=\"\",\"\",IF(References!$C$33=TRUE,\"HP Thermostat\",IF(OR(RIGHT(H25,2)=\"HP\",I25=\"Electric Heat\"),\"CH Thermostat Heating Cooling\",\"CH Thermostat Cooling\")))","v":""},{"$f":"IF(OR(B25=\"\",D25=\"\",F25=\"\",G25=\"\"),\"\",Qualifying_Index!W46)","v":""},{"$f":"IF(OR(B25=\"\",D25=\"\",F25=\"\",H25=\"\",I25=\"\"),\"\",Qualifying_Index!Y46)","v":""}]
["Unit 6",null,null,null,null,null,null,{"$f":"IF(G26=\"\",\"\",IF(INDEX(Qualifying_Index!$BU$27:$BU$36,MATCH(G26,Qualifying_Index!$A$27:$A$36,0))=\"\",INDEX('Space Heating Worksheet'!$C$33:$C$42,MATCH(G26,'Space Heating Worksheet'!$B$33:$B$42,0)),INDEX(Qualifying_Index!$BU$27:$BU$36,MATCH(G26,Qualifying_Index!$A$27:$A$36,0))))","v":""},{"$f":"IF(G26=\"\",\"\",IF(INDEX(Qualifying_Index!$BU$27:$BU$36,MATCH(G26,Qualifying_Index!$A$27:$A$36,0))=\"\",INDEX('Space Heating Worksheet'!$C$33:$C$42,MATCH(G26,'Space Heating Worksheet'!$B$33:$B$42,0)),INDEX(Qualifying_Index!$BU$27:$BU$36,MATCH(G26,Qualifying_Index!$A$27:$A$36,0))))","v":""},{"$f":"IF(H26=\"\",\"\",IF(References!$C$33=TRUE,\"HP Thermostat\",IF(OR(RIGHT(H26,2)=\"HP\",I26=\"Electric Heat\"),\"CH Thermostat Heating Cooling\",\"CH Thermostat Cooling\")))","v":""},{"$f":"IF(OR(B26=\"\",D26=\"\",F26=\"\",G26=\"\"),\"\",Qualifying_Index!W47)","v":""},{"$f":"IF(OR(B26=\"\",D26=\"\",F26=\"\",H26=\"\",I26=\"\"),\"\",Qualifying_Index!Y47)","v":""}]
["Unit 7",null,null,null,null,null,null,{"$f":"IF(G27=\"\",\"\",IF(INDEX(Qualifying_Index!$BU$27:$BU$36,MATCH(G27,Qualifying_Index!$A$27:$A$36,0))=\"\",INDEX('Space Heating Worksheet'!$C$33:$C$42,MATCH(G27,'Space Heating Worksheet'!$B$33:$B$42,0)),INDEX(Qualifying_Index!$BU$27:$BU$36,MATCH(G27,Qualifying_Index!$A$27:$A$36,0))))","v":""},{"$f":"IF(G27=\"\",\"\",IF(INDEX(Qualifying_Index!$BU$27:$BU$36,MATCH(G27,Qualifying_Index!$A$27:$A$36,0))=\"\",INDEX('Space Heating Worksheet'!$C$33:$C$42,MATCH(G27,'Space Heating Worksheet'!$B$33:$B$42,0)),INDEX(Qualifying_Index!$BU$27:$BU$36,MATCH(G27,Qualifying_Index!$A$27:$A$36,0))))","v":""},{"$f":"IF(H27=\"\",\"\",IF(References!$C$33=TRUE,\"HP Thermostat\",IF(OR(RIGHT(H27,2)=\"HP\",I27=\"Electric Heat\"),\"CH Thermostat Heating Cooling\",\"CH Thermostat Cooling\")))","v":""},{"$f":"IF(OR(B27=\"\",D27=\"\",F27=\"\",G27=\"\"),\"\",Qualifying_Index!W48)","v":""},{"$f":"IF(OR(B27=\"\",D27=\"\",F27=\"\",H27=\"\",I27=\"\"),\"\",Qualifying_Index!Y48)","v":""}]
["Unit 8",null,null,null,null,null,null,{"$f":"IF(G28=\"\",\"\",IF(INDEX(Qualifying_Index!$BU$27:$BU$36,MATCH(G28,Qualifying_Index!$A$27:$A$36,0))=\"\",INDEX('Space Heating Worksheet'!$C$33:$C$42,MATCH(G28,'Space Heating Worksheet'!$B$33:$B$42,0)),INDEX(Qualifying_Index!$BU$27:$BU$36,MATCH(G28,Qualifying_Index!$A$27:$A$36,0))))","v":""},{"$f":"IF(G28=\"\",\"\",IF(INDEX(Qualifying_Index!$BU$27:$BU$36,MATCH(G28,Qualifying_Index!$A$27:$A$36,0))=\"\",INDEX('Space Heating Worksheet'!$C$33:$C$42,MATCH(G28,'Space Heating Worksheet'!$B$33:$B$42,0)),INDEX(Qualifying_Index!$BU$27:$BU$36,MATCH(G28,Qualifying_Index!$A$27:$A$36,0))))","v":""},{"$f":"IF(H28=\"\",\"\",IF(References!$C$33=TRUE,\"HP Thermostat\",IF(OR(RIGHT(H28,2)=\"HP\",I28=\"Electric Heat\"),\"CH Thermostat Heating Cooling\",\"CH Thermostat Cooling\")))","v":""},{"$f":"IF(OR(B28=\"\",D28=\"\",F28=\"\",G28=\"\"),\"\",Qualifying_Index!W49)","v":""},{"$f":"IF(OR(B28=\"\",D28=\"\",F28=\"\",H28=\"\",I28=\"\"),\"\",Qualifying_Index!Y49)","v":""}]
["Unit 9",null,null,null,null,null,null,{"$f":"IF(G29=\"\",\"\",IF(INDEX(Qualifying_Index!$BU$27:$BU$36,MATCH(G29,Qualifying_Index!$A$27:$A$36,0))=\"\",INDEX('Space Heating Worksheet'!$C$33:$C$42,MATCH(G29,'Space Heating Worksheet'!$B$33:$B$42,0)),INDEX(Qualifying_Index!$BU$27:$BU$36,MATCH(G29,Qualifying_Index!$A$27:$A$36,0))))","v":""},{"$f":"IF(G29=\"\",\"\",IF(INDEX(Qualifying_Index!$BU$27:$BU$36,MATCH(G29,Qualifying_Index!$A$27:$A$36,0))=\"\",INDEX('Space Heating Worksheet'!$C$33:$C$42,MATCH(G29,'Space Heating Worksheet'!$B$33:$B$42,0)),INDEX(Qualifying_Index!$BU$27:$BU$36,MATCH(G29,Qualifying_Index!$A$27:$A$36,0))))","v":""},{"$f":"IF(H29=\"\",\"\",IF(References!$C$33=TRUE,\"HP Thermostat\",IF(OR(RIGHT(H29,2)=\"HP\",I29=\"Electric Heat\"),\"CH Thermostat Heating Cooling\",\"CH Thermostat Cooling\")))","v":""},{"$f":"IF(OR(B29=\"\",D29=\"\",F29=\"\",G29=\"\"),\"\",Qualifying_Index!W50)","v":""},{"$f":"IF(OR(B29=\"\",D29=\"\",F29=\"\",H29=\"\",I29=\"\"),\"\",Qualifying_Index!Y50)","v":""}]
["Unit 10",null,null,null,null,null,null,{"$f":"IF(G30=\"\",\"\",IF(INDEX(Qualifying_Index!$BU$27:$BU$36,MATCH(G30,Qualifying_Index!$A$27:$A$36,0))=\"\",INDEX('Space Heating Worksheet'!$C$33:$C$42,MATCH(G30,'Space Heating Worksheet'!$B$33:$B$42,0)),INDEX(Qualifying_Index!$BU$27:$BU$36,MATCH(G30,Qualifying_Index!$A$27:$A$36,0))))","v":""},{"$f":"IF(G30=\"\",\"\",IF(INDEX(Qualifying_Index!$BU$27:$BU$36,MATCH(G30,Qualifying_Index!$A$27:$A$36,0))=\"\",INDEX('Space Heating Worksheet'!$C$33:$C$42,MATCH(G30,'Space Heating Worksheet'!$B$33:$B$42,0)),INDEX(Qualifying_Index!$BU$27:$BU$36,MATCH(G30,Qualifying_Index!$A$27:$A$36,0))))","v":""},{"$f":"IF(H30=\"\",\"\",IF(References!$C$33=TRUE,\"HP Thermostat\",IF(OR(RIGHT(H30,2)=\"HP\",I30=\"Electric Heat\"),\"CH Thermostat Heating Cooling\",\"CH Thermostat Cooling\")))","v":""},{"$f":"IF(OR(B30=\"\",D30=\"\",F30=\"\",G30=\"\"),\"\",Qualifying_Index!W51)","v":""},{"$f":"IF(OR(B30=\"\",D30=\"\",F30=\"\",H30=\"\",I30=\"\"),\"\",Qualifying_Index!Y51)","v":""}]
[]
["Other Smart Control",null,null,null,null,null,null,null,null,{"$f":"IF(H32=\"\",\"\",IF(References!$C$33=TRUE,\"HP Thermostat\",IF(OR(RIGHT(H32,2)=\"HP\",I32=\"Electric Heat\"),\"CH Thermostat Heating Cooling\",\"CH Thermostat Cooling\")))","v":""},"N/A","N/A"]
[]
[null,null,null,null,null,null,"Smart Thermostat Rebate Amount:",null,null,null,{"$f":"SUM(K21:K30)","v":0}]
[]
[null,null,null,null,null,null,"Smart Thermostat Bonus Amount:",null,null,null,{"$f":"SUM(L21:L30)","v":0}]
[]
[]
[]
[]
[]
[]
[]
[null,"Application Version:",null,{"$f":"Development!$A$2","v":"1.0"},null,null,"Effective:",null,null,null,{"$f":"Development!$A$4","v":"1.1.23"}]

{"sheet":"AIRFLOW FORM","index":19,"n_rows":127,"n_cols":15,"rows_kept":127,"cut":false,"hidden":true,"merged":[[15,12,15,13],[5,7,5,8],[7,7,7,8],[30,2,30,11],[0,0,0,9],[15,4,15,5],[29,0,29,12],[18,0,18,3],[18,12,18,13],[1,0,1,9],[20,0,20,2],[22,4,22,5],[2,0,2,9],[118,13,119,13],[25,4,25,5],[18,4,18,5],[99,4,99,5],[18,6,18,7],[46,4,46,5],[39,8,39,9],[71,4,71,5],[100,0,101,1],[126,3,126,5],[126,6,126,8],[118,5,119,10],[118,12,119,12],[118,0,119,4]]}
[{"$f":"Development!$A$3&\" Residential Efficiency Program\"","v":"2023 Residential Efficiency Program"}]
["Post Installation/Airflow & Refrigerant Charge Form"]
["For Ducted Systems Only"]
["Equipment Data"]
[]
["Unit Number: ",{"$f":"IF('ASHP Equipment Information'!B11=\"\",\"\",'ASHP Equipment Information'!B11)","v":1},null,null,null,null,"Manufacturer",{"$f":"IF('ASHP Equipment Information'!D15=\"\",\"\",'ASHP Equipment Information'!D15)","v":""}]
[]
[null,null,null,null,null,null,"Model No.",{"$f":"IF('ASHP Equipment Information'!D17=\"\",\"\",'ASHP Equipment Information'!D17)","v":""}]
[]
[null,"Ducts Tested?",null,"Ducts Sealed?"]
[]
["Airflow"]
[]
["Please fill out all of the below fields as applicable for the installation"]
[]
["1. Rated Cooling Capacity (tons):",null,null,null,null,null,{"$f":"IF(OR(E16=\"\"),\"\",'Air Flow References'!C4)","v":""},null,null,null,null,"2. Target Airflow Volume (CFM) PER TON:",null,null,{"$f":"IF(OR(M16=\"\"),\"\",'Air Flow References'!C6)","v":""}]
[]
["Complete field 3a OR field 3b"]
["3a. Static pressure drop in inches of water column W.C. measures across evaporator coil if new installed:",null,null,null,null,null,{"$f":"IF(OR(E19=\"\"),\"\",'Air Flow References'!C5)","v":""},null,"OR",null,null,"3b. External static pressure for fan coil unit:",null,null,{"$f":"IF(OR(M19=\"\"),\"\",'Air Flow References'!C7)","v":""}]
[]
["4. Total Static measured with:"]
[]
["5. CFM Air Flow Estimated from Total Static Measurement:",null,null,null,null,null,{"$f":"IF(OR(E23=\"\"),\"\",'Air Flow References'!C9)","v":""}]
["*If this field contains data, leave True Flow CFM field below blank"]
[]
["6. True Flow CFM measured:",null,null,null,null,null,{"$f":"IF(OR(E26=\"\"),\"\",'Air Flow References'!C8)","v":""}]
["*If this field contains data, no data input is required for field 3a/3b and field 5"]
[]
[]
["Installations must have visible and accessible ports for airflow and temperature measurements. Ports must be sealed with contrasting color plugs. Please indicate"]
["location of test ports:"]
[]
["Notes: "]
["Convert Pascals to inches of WC by dividing pascals by 249.09"]
["Copy of table or graph supplied by manufacturer and used to estimate airflow must be attached to this form."]
[]
[]
["Refrigerant Charge Method"]
[]
["Charging Method Used:"]
[]
["Option 1: SUBCOOLING Notes: Preferred Method. Typical for most Thermal Expansion Valve systems when outdoor temperature is greater than OEM spec. (Typ. 60°F)"]
[]
["Inputs"]
["Refrigerant Type"]
[]
[]
[]
[]
[null,"Required Subcooling:",null,null,null,"°F",{"$f":"IF(OR(E50=\"\"),\"\",'Air Flow References'!C16)","v":""}]
[]
[null,"Outdoor Dry Bulb Temperature:",null,null,null,"°F",{"$f":"IF(OR(E52=\"\"),\"\",'Air Flow References'!C17)","v":""}]
[]
["Measurements"]
[]
["Liquid Line Pressure",null,null,null,null,"psig",{"$f":"IF(OR(E56=\"\"),\"\",'Air Flow References'!C18)","v":""}]
[]
["(F) Saturation temperature for measured pressure",null,null,null,null,"°F",{"$f":"IF(OR(E58=\"\"),\"\",'Air Flow References'!C19)","v":""}]
[]
["(G) Liquid Line temperature",null,null,null,null,"°F",{"$f":"IF(OR(E60=\"\"),\"\",'Air Flow References'!C20)","v":""}]
[]
["*Measured Subcooling (F minus G)",null,null,null,{"$f":"IF(OR(E58=\"\",E60=\"\"),\"\",E58-E60)","v":""},"°F",{"$f":"'Air Flow References'!C21","v":""}]
[]
["*Measured Subcooling must be within 3°F of the manufacturer specified Subcooling."]
[]
["Note: A copy of the documentation of the manufacturer's specified subcooling for the installed equipment must be attached to this form"]
["Option 2: SUPERHEAT Note: Can only be used for fixed orifice systems (Non-TXV) when outdoor temperature is greater than OEM spec. (Type 55°)"]
[]
["Inputs"]
["Refrigerant Type"]
[]
[]
[]
[]
[null,"Manufacturer Specified Superheat",null,null,null,"°F ",{"$f":"IF(OR(E75=\"\"),\"\",'Air Flow References'!C28)","v":""}]
[null,"(from manufacturer service guide or as per manufacturer's specification or cut sheet)"]
[]
[null,"Indoor Wet Bulb Temperature",null,null,null,"°F",{"$f":"IF(OR(E78=\"\"),\"\",'Air Flow References'!C29)","v":""}]
[]
[null,"Outdoor Dry Bulb Temperature",null,null,null,"°F",{"$f":"IF(OR(E80=\"\"),\"\",'Air Flow References'!C30)","v":""}]
[]
[]
["Measurements"]
[]
["Vapor (suction) pressure",null,null,null,null,"psig",{"$f":"IF(OR(E85=\"\"),\"\",'Air Flow References'!C31)","v":""}]
[]
["(D) Saturation temperature for measured pressure",null,null,null,null,"°F",{"$f":"IF(OR(E87=\"\"),\"\",'Air Flow References'!C32)","v":""}]
[]
["(E) Vapor (suction) line temperature near compressor",null,null,null,null,"°F",{"$f":"IF(OR(E89=\"\"),\"\",'Air Flow References'!C33)","v":""}]
[null,null,null,null,null,null,"  "]
["*Measured Superheat (E minus D)",null,null,null,{"$f":"IF(OR(E87=\"\",E89=\"\"),\"\",E89-E87)","v":""},"°F",{"$f":"'Air Flow References'!C34","v":""}]
[]
["*Measured Superheat must be within 5°F of the manufacturer specified Superheat."]
[]
["Note: A copy of the documentation of the manufacturer's specified superheat for the installed equipment must be attached to this form."]
["Option 3: Weigh In (can be used for any system ONLY when outdoor ambient temperature is below OEM specification.):"]
[]
["Refrigerant Type:"]
[]
[null,null,null,null,null,null,"(specify)"]
["Capacity of Refrigerant Shipped With Outdoor Unit:"]
[null,null,null,"lbs.",null,"oz."]
[]
[]
["Does this capacity include an allowance for an evaporator ?"]
[]
[]
["Does this capacity include an allowance for a line set?"]
[]
[]
["Allowed Line Set Length:",null,null,"feet"]
[]
["(A) Suction Line Outside Diameter",null,null,null,"inches","Net length*",null,"feet","x",null,"ounces/foot","=",null,"ounces"]
[]
["(B) Liquid Line Outside Diameter",null,null,null,"inches","Net length*",null,"feet","x",null,"ounces/foot","=",null,"ounces"]
[]
["(C) Driers, Accumulator, and Evaporator Capacities (if not included above):",null,null,null,null,null,null,null,null,null,null,null,null,"ounces"]
[]
["*Net Length = Measured Length Minus (-) Allowed Length",null,null,null,null,"Total charge weighed in (A) + (B) + (C)",null,null,null,null,null,null,{"$f":"IF(AND(M113=\"\",M115=\"\",M117=\"\"),\"\",M113+M115+M117)","v":""},"ounces"]
[]
[]
["Note: Copy of table or graph supplied by manufacturer and used to estimate charge must be attached to this form."]
[]
[]
[]
[]
["Application Version:",null,{"$f":"Development!$A$2","v":"1.0"},null,null,null,null,null,null,null,null,null,null,"Effective:",{"$f":"Development!$A$4","v":"1.1.23"}]

{"sheet":"Tune Up Worksheet","index":20,"n_rows":69,"n_cols":7,"rows_kept":69,"cut":false,"hidden":true,"merged":[[8,2,8,6],[7,2,7,4],[61,2,61,6],[12,2,12,3],[13,2,13,6],[25,2,25,6],[37,2,37,6],[49,2,49,6],[9,2,9,6],[10,2,10,6]]}
[null,{"$f":"Development!$A$3&\" Residential Efficiency Program\"","v":"2023 Residential Efficiency Program"}]
[null,{"$f":"\"HVAC Equipment Tune Up Worksheet, Version \"&Development!A2","v":"HVAC Equipment Tune Up Worksheet, Version 1.0"}]
[]
[null,"Equipment Worksheet"]
[]
[null,null,"Eligibility Requirements"]
[null,"*","Tune up must be on a Central Air Conditioner or Air Source Heat Pump"]
[null,"*","Each Tune up must include refrigerant charge level checks and adjustments, filter inspection and replacement (if necessary), blower and motor inspection, clean and inspect condensor (include all items on invoice)"]
[null,"*","For Air Source Heat Pumps, ducted equipment is eligible for a rebate only; ductless systems are not eligible"]
[null,"*","Systems 5 years and older are eligible for rebate; rebate are limited to once every 5 years"]
[null,"*","For the Test Results: Please enter the % difference in charge from the value that appears on the manifold and the manufacturers specification before system tune-up is conducted"]
[null,null,"Total Equipment Rebate",{"$f":"SUM(Qualifying_Index!T110:T114)","v":0}]
[]
[null,null,"HVAC Equipment Tune Up 1"]
[null,null,"Tune-Up Type:","Select…",null,"Manufacturer:"]
[]
[null,null,"Cooling Capacity (btu):",null,null,"Condenser Model Number:"]
[]
[null,null,"Heat Pump Heating Capacity (btu):",null,null,"Condenser Serial Number:"]
[]
[null,null," Test Results:\n(Pre Tune-Up Factory Charge)",null,null,"Rebate:",{"$f":"Qualifying_Index!T110","v":""}]
[]
[]
[]
[]
[null,null,"HVAC Equipment Tune Up 2"]
[null,null,"Tune-Up Type:","Select…",null,"Manufacturer:"]
[]
[null,null,"Cooling Capacity (btu):",null,null,"Condenser Model Number:"]
[]
[null,null,"Heat Pump Heating Capacity (btu):",null,null,"Condenser Serial Number:"]
[]
[null,null," Test Results:\n(Pre Tune-Up Factory Charge)",null,null,"Rebate:",{"$f":"Qualifying_Index!T111","v":""}]
[]
[]
[]
[]
[null,null,"HVAC Equipment Tune Up 3"]
[null,null,"Tune-Up Type:","Select…",null,"Manufacturer:"]
[]
[null,null,"Cooling Capacity (btu):",null,null,"Condenser Model Number:"]
[]
[null,null,"Heat Pump Heating Capacity (btu):",null,null,"Condenser Serial Number:"]
[]
[null,null," Test Results:\n(Pre Tune-Up Factory Charge)",null,null,"Rebate:",{"$f":"Qualifying_Index!T112","v":""}]
[]
[]
[]
[]
[null,null,"HVAC Equipment Tune Up 4"]
[null,null,"Tune-Up Type:","Select…",null,"Manufacturer:"]
[]
[null,null,"Cooling Capacity (btu):",null,null,"Condenser Model Number:"]
[]
[null,null,"Heat Pump Heating Capacity (btu):",null,null,"Condenser Serial Number:"]
[]
[null,null," Test Results:\n(Pre Tune-Up Factory Charge)",null,null,"Rebate:",{"$f":"Qualifying_Index!S113","v":""}]
[]
[]
[]
[]
[null,null,"HVAC Equipment Tune Up 5"]
[null,null,"Tune-Up Type:","Select…",null,"Manufacturer:"]
[]
[null,null,"Cooling Capacity (btu):",null,null,"Condenser Model Number:"]
[]
[null,null,"Heat Pump Heating Capacity (btu):",null,null,"Condenser Serial Number:"]
[]
[null,null," Test Results:\n(Pre Tune-Up Factory Charge)",null,null,"Rebate:",{"$f":"Qualifying_Index!T114","v":""}]

{"sheet":"Water Heating Worksheet","index":21,"n_rows":29,"n_cols":7,"rows_kept":29,"cut":false,"hidden":true,"merged":[[18,2,18,3],[19,2,19,6]]}
[null,{"$f":"Development!$A$3&\" Residential Efficiency Program\"","v":"2023 Residential Efficiency Program"}]
[null,{"$f":"\"Water Heating Worksheet, Version \"&Development!A2","v":"Water Heating Worksheet, Version 1.0"}]
[]
[null,"Equipment Worksheet"]
[]
[null,"Eligibility Requirements"]
["*","All Heat Pump Water Heaters must be ENERGY STAR Listed"]
[null,"- Limit 1 per year"]
["*","Tankless Water Heater must be electric tankless (instantaneous) water heater"]
[null,"- ENERGY STAR listed is not a requirement"]
[null,"- Underwriters Laboratory (UL) or Electrical Testing Laboratory (ETL) label required"]
[null,"- Limit 3 per year < 12 kW; Limit 1 per yer ≥ 12 kW"]
["*","Contractor incentive is per project and not per unit"]
[]
[null,null,"Total Equipment Rebate",{"$f":"IF(OR(D21=\"\",D23=\"\",D25=\"\",G21=\"\",G23=\"\",G25=\"\",G27=\"\",D29<>\"PASS\"),0,Qualifying_Index!$J$103)","v":0}]
[]
[null,null,"Total Contractor Rebate",{"$f":"IF(OR(D21=\"\",D23=\"\",D25=\"\",G21=\"\",G23=\"\",G25=\"\",G27=\"\",D29<>\"PASS\"),0,Qualifying_Index!$K$103)","v":0}]
[]
[]
[null,null,"Water Heating System 1"]
[null,null,"New Equipment Type:","Heat Pump Water Heater > 55 Gallons",null,"Existing Equipment Type:","Select…"]
[]
[null,null,"Proposed Efficiency (UEF):",1,null,"Invoice/Receipt Number:"]
[]
[null,null,"Manufacturer:",null,null,"Model Number:"]
[]
[null,null,"Quantity:",null,null,"Serial Number:"]
[]
[null,null,"Pass/Fail:",{"$f":"IF(OR(D21=\"\",D23=\"\",G21=\"\"),\"\",IF(D21=References!$N$203,IF(D23<2,\"FAIL\",\"PASS\"),IF(D21=References!$N$204,IF(D23<2.2,\"FAIL\",\"PASS\"),IF(D23<0.93,\"FAIL\",\"PASS\"))))","v":"FAIL"}]

{"sheet":"HPwES","index":22,"n_rows":184,"n_cols":11,"rows_kept":184,"cut":false,"hidden":true,"merged":[[146,10,147,12],[148,10,148,12],[117,2,118,2],[117,8,118,8],[3,1,3,12],[4,1,4,2],[15,2,15,3],[14,2,14,3],[54,10,56,12],[107,10,108,12]]}
[null,{"$f":"Development!A3&\" Residential Efficiency Program\"","v":"2023 Residential Efficiency Program"}]
[]
[null,"Home Performance with ENERGY STAR"]
[null,"Home Performance with ENERGY STAR (HPwES) market and income eligible rebates are available to all residential electric customers. It is recommended that all potential participants receive a free Home Energy Assessment before HPwES participation. Loans are available for HPwES projects. Speak to your HPwES Partner for more information."]
[null,"Instructions:"]
[null,"1)","If a new heat pump is installed through the Home Comfort program, enter \"Home Comfort Heat Pump\" as the Heating and Cooling System"]
[null,null,"a) The total capacity and average efficiencies from the new systems will be populated from the Equipment Information tab"]
[null,"2)","If ther are no new heat pumps installed during the project, select either \"Existing Primary System\" or \"Existing Secondary System\""]
[null,null,"a) Capacities and efficiencies will be populated from the Site Information tab"]
[null,"3)","Select Yes/No from \"Performed\" drop down"]
[null,"4)","Enter all data inputs fields for installed measures"]
[null,"5)","If only Heating & Cooling 1 and Cooling 2 require inputs, please enter 0% in the\" % of Heating Load\" field for Heating System 2"]
[]
[null,"Worksheet"]
[null,null,"Heating and Cooling Data"]
[null,null,"- Please Select -"]
[]
[null,null,"Heating System 1:",null,null,null,null,null,"Cooling System 1:"]
[]
[null,null,"Heating Source:",null,null,null,null,null,"Cooling Source:"]
[]
[null,null,"Heating Type:",{"$f":"IF(D20=\"\",\"\",IF(D20=References!$AZ$46,\"Electric Heat Pump\",IF(D20=References!$AZ$47,'Site Information'!C16,'Site Information'!C22)))","v":""},null,null,null,null,"Cooling Type:",{"$f":"IF(J20=\"\",\"\",IF(J20=References!$AZ$46,\"Electric Heat Pump\",IF(J20=References!$AZ$47,'Site Information'!C18,'Site Information'!C24)))","v":""}]
[]
[null,null,"Heating Capacity:",{"$f":"IF(D20=\"\",\"\",IF(D20=References!$AZ$46,Qualifying_Index!T37,IF(D20=References!$AZ$47,'Site Information'!C31,'Site Information'!C43)))","v":""},"(btu)",null,null,null,"Cooling Capacity:",{"$f":"IF(J20=\"\",\"\",IF(J20=References!$AZ$46,Qualifying_Index!S37,IF(J20=References!$AZ$47,'Site Information'!J31,'Site Information'!J43)))","v":""},"(btu)"]
[]
[null,null,"Efficiency:",{"$f":"IF(D20=\"\",\"\",IF(D20=References!$AZ$46,0,IF(D20=References!$AZ$47,'Site Information'!C37,'Site Information'!C49)))","v":""},null,null,null,null,"SEER:",{"$f":"IF(J20=\"\",\"\",IF(J20=References!$AZ$46,Qualifying_Index!U37,IF(J20=References!$AZ$47,'Site Information'!J33,'Site Information'!J45)))","v":""}]
[]
[null,null,"HSPF:",{"$f":"IF(D20=\"\",\"\",IF(D20=References!$AZ$46,Qualifying_Index!W37,IF(D20=References!$AZ$47,'Site Information'!C33,'Site Information'!C45)))","v":""},null,null,null,null,"EER:",{"$f":"IF(J20=\"\",\"\",IF(J20=References!$AZ$46,Qualifying_Index!V37,IF(J20=References!$AZ$47,'Site Information'!J35,'Site Information'!J47)))","v":""}]
[]
[null,null,"COP:",{"$f":"IF(D20=\"\",\"\",IF(D20=References!$AZ$46,0,IF(D20=References!$AZ$47,'Site Information'!C35,'Site Information'!C47)))","v":""},null,null,null,null,"% of Cooling Load"]
[]
[null,null,"% of Heating Load"]
[]
[]
[null,null,"Heating System 2:",null,null,null,null,null,"Cooling System 2:"]
[]
[null,null,"Heating Source:",null,null,null,null,null,"Cooling Source:"]
[]
[null,null,"Heating Type:",{"$f":"IF(D37=\"\",\"\",IF(D37=References!$AZ$46,\"Electric Heat Pump\",IF(D37=References!$AZ$47,'Site Information'!C16,'Site Information'!C22)))","v":""},null,null,null,null,"Cooling Type:",{"$f":"IF(J37=\"\",\"\",IF(J37=References!$AZ$46,\"Electric Heat Pump\",IF(J37=References!$AZ$47,'Site Information'!C18,'Site Information'!C24)))","v":""}]
[]
[null,null,"Heating Capacity:",{"$f":"IF(D37=\"\",\"\",IF(D37=References!$AZ$46,Qualifying_Index!T37,IF(D37=References!$AZ$47,'Site Information'!C31,'Site Information'!C43)))","v":""},"(btu)",null,null,null,"Cooling Capacity:",{"$f":"IF(J37=\"\",\"\",IF(J37=References!$AZ$46,Qualifying_Index!S37,IF(J37=References!$AZ$47,'Site Information'!J31,'Site Information'!J43)))","v":""},"(btu)"]
[]
[null,null,"Efficiency:",{"$f":"IF(D37=\"\",\"\",IF(D37=References!$AZ$46,0,IF(D37=References!$AZ$47,'Site Information'!C37,'Site Information'!C49)))","v":""},null,null,null,null,"SEER:",{"$f":"IF(J37=\"\",\"\",IF(J37=References!$AZ$46,Qualifying_Index!U37,IF(J37=References!$AZ$47,'Site Information'!J33,'Site Information'!J45)))","v":""}]
[]
[null,null,"HSPF:",{"$f":"IF(D37=\"\",\"\",IF(D37=References!$AZ$46,Qualifying_Index!W37,IF(D37=References!$AZ$47,'Site Information'!C33,'Site Information'!C45)))","v":""},null,null,null,null,"EER:",{"$f":"IF(J37=\"\",\"\",IF(J37=References!$AZ$46,Qualifying_Index!V37,IF(J37=References!$AZ$47,'Site Information'!J35,'Site Information'!J47)))","v":""}]
[]
[null,null,"COP:",{"$f":"IF(D37=\"\",\"\",IF(D37=References!$AZ$46,0,IF(D37=References!$AZ$47,'Site Information'!C35,'Site Information'!C47)))","v":""},null,null,null,null,"% of Cooling Load"]
[]
[null,null,"% of Heating Load"]
[]
[]
[]
[null,"Duct Sealing"]
[null,null,"Duct Sealing Performed:","Select…",null,null,null,null,"Total Cost:"]
[null,null,null,null,null,null,null,null,null,null,{"$f":"IF(J54=\"\",\"\",IF(J56<J54,\"\",\"*Please note the rebate cannot be higher than the cost of installation\"))","v":""}]
[null,null,"Total Ductwork:",null,"(linear feet)",null,null,null,"Rebate:",{"$f":"IF(OR(Qualifying_Index!AZ77=0,Qualifying_Index!AZ77=\"\"),0,Qualifying_Index!AZ77)","v":0}]
[null,null,"(Conditioned + Unconditioned)"]
[null,null,"Location 1:",null,null,null,null,null,"Location 2:"]
[]
[null,null,"Duct Location:",null,null,null,null,null,"Duct Location:"]
[]
[null,null,"Location Attribute:",null,null,null,null,null,"Location Attribute:"]
[]
[null,null,"Total Linear Footage\nof Ductwork:",null,null,null,null,null,"Total Linear Footage\nof Ductwork:"]
[]
[null,null,"R-Value Installed",null,null,null,null,null,"R-Value Installed:"]
[]
[null,null,"System Impacted:",null,null,null,null,null,"System Impacted:"]
[]
[null,null,"Location 3:"]
[]
[null,null,"Duct Location:"]
[]
[null,null,"Location Attribute:"]
[]
[null,null,"Total Linear Footage of Ductwork"]
[]
[null,null,"R-Value Installed"]
[]
[null,null,"System Impacted:"]
[]
[]
[]
[]
[]
[]
[]
[]
[]
[]
[]
[]
[]
[]
[]
[]
[]
[]
[]
[]
[]
[]
[]
[]
[]
[null,"Air Sealing"]
[null,null,"Air Sealing Perfomed:","Select…",null,null,null,null,"Total Cost:"]
[null,null,null,null,null,null,null,null,null,null,{"$f":"IF(J107=\"\",\"\",IF(J109<J107,\"\",\"*Please note the rebate cannot be higher than the cost of installation\"))","v":""}]
[null,null,null,null,null,null,null,null,"Rebate:",{"$f":"IF(OR(Qualifying_Index!AW83=0,Qualifying_Index!AW83=\"\"),0,Qualifying_Index!AW83)","v":0}]
[null,null,"Location 1:"]
[]
[null,null,"Conditioned Air Volume:",null,"(Cubic Feet)"]
[]
[null,null,"Pre CFM50:"]
[]
[null,null,"Post CFM50:"]
[]
[null,null,"Total Air Sealing Square Footage:"]
[]
[]
[]
[]
[]
[]
[]
[]
[]
[]
[]
[]
[]
[]
[]
[]
[]
[]
[]
[]
[]
[]
[]
[]
[]
[]
[null,"Insulation"]
[null,null,"Insulation Installed:","Select…",null,null,null,null,"Total Cost:"]
[null,null,null,null,null,null,null,null,null,null,{"$f":"IF(J146=\"\",\"\",IF(J148<J146,\"\",\"*Please note the rebate cannot be higher than the cost of installation\"))","v":""}]
[null,null,null,null,null,null,null,null,"Rebate:",{"$f":"IF(OR(Qualifying_Index!CI97=0,Qualifying_Index!CI97=\"\"),0,Qualifying_Index!CI97)","v":0}]
[]
[null,null,"Location 1:",null,null,null,null,null,"Location 2:"]
[]
[null,null,"Location:",null,null,null,null,null,"Location:"]
[]
[null,null,{"$f":"IF(OR(D152=\"Basement Ceiling\",D152=\"\"),\"Location Attribute:\",\"\")","v":"Location Attribute:"},null,null,null,null,null,{"$f":"IF(OR(J152=\"Basement Ceiling\",J152=\"\"),\"Location Attribute:\",\"\")","v":"Location Attribute:"}]
[]
[null,null,"Installed Square Footage:",null,null,null,null,null,"Installed Square Footage:"]
[]
[null,null,"Existing R-Value:",null,null,null,null,null,"Existing R-Value:"]
[]
[null,null,"R-Value Installed:",null,null,null,null,null,"R-Value Installed:"]
[]
[null,null,"Location 3:",null,null,null,null,null,"Location 4:"]
[]
[null,null,"Location:",null,null,null,null,null,"Location:"]
[]
[null,null,{"$f":"IF(OR(D164=\"Basement Ceiling\",D164=\"\"),\"Location Attribute:\",\"\")","v":"Location Attribute:"},null,null,null,null,null,{"$f":"IF(OR(J164=\"Basement Ceiling\",J164=\"\"),\"Location Attribute:\",\"\")","v":"Location Attribute:"}]
[]
[null,null,"Installed Square Footage:",null,null,null,null,null,"Installed Square Footage:"]
[]
[null,null,"Existing R-Value:",null,null,null,null,null,"Existing R-Value:"]
[]
[null,null,"R-Value Installed:",null,null,null,null,null,"R-Value Installed:"]
[]
[null,null,"Location 5:"]
[]
[null,null,"Location:"]
[]
[null,null,{"$f":"IF(OR(D176=\"Basement Ceiling\",D176=\"\"),\"Location Attribute:\",\"\")","v":"Location Attribute:"}]
[]
[null,null,"Installed Square Footage:"]
[]
[null,null,"Existing R-Value:"]
[]
[null,null,"R-Value Installed:"]

{"sheet":"HPwES H&S","index":23,"n_rows":78,"n_cols":14,"rows_kept":78,"cut":false,"hidden":true,"merged":[[70,10,70,12],[72,3,73,13],[75,5,75,13],[66,5,66,6],[66,8,66,9],[66,11,66,12],[67,5,67,6],[67,8,67,9],[67,11,67,12],[69,7,69,9],[69,10,69,12],[70,4,70,5],[63,3,63,4],[63,9,63,12],[64,3,64,6],[65,5,65,6],[65,8,65,9],[65,11,65,12],[60,3,60,4],[60,9,60,12],[61,3,61,4],[61,9,61,12],[62,3,62,4],[62,9,62,12],[53,4,53,5],[53,10,53,12],[55,3,56,13],[58,2,58,13],[59,3,59,4],[59,9,59,12],[50,5,50,6],[50,8,50,9],[50,11,50,12],[52,4,52,5],[52,7,52,9],[52,10,52,12],[47,3,47,6],[48,5,48,6],[48,8,48,9],[48,11,48,12],[49,5,49,6],[49,8,49,9],[49,11,49,12],[44,3,44,4],[44,9,44,12],[45,3,45,4],[45,9,45,12],[46,3,46,4],[46,9,46,12],[37,4,37,5],[37,10,37,12],[39,3,40,13],[42,2,42,13],[43,3,43,4],[43,9,43,12],[34,5,34,6],[34,8,34,9],[34,11,34,12],[36,4,36,5],[36,7,36,9],[36,10,36,12],[31,3,31,6],[32,5,32,6],[32,8,32,9],[32,11,32,12],[33,5,33,6],[33,8,33,9],[33,11,33,12],[28,3,28,4],[28,9,28,12],[29,3,29,4],[29,9,29,12],[30,3,30,4],[30,9,30,12],[19,2,19,3],[19,4,19,5],[23,3,24,11],[26,2,26,13],[27,3,27,4],[27,9,27,12],[7,2,7,5],[12,3,12,5],[13,3,14,11],[16,2,16,5],[18,2,18,3],[18,4,18,5]]}
[null,{"$f":"Development!A3&\" Residential Efficiency Program\"","v":"2023 Residential Efficiency Program"}]
[null,null,"Health & Safety: Heating and Air Conditioning"]
[]
[]
[null,null,"Project Number",""]
[null,null,"Date",""]
[]
[null,null,"CAZ Pressure Diagnostics"]
[null,null,null,null,null,null,null,"Test In",null,null,"Test Out"]
[null,null,"Baseline Pressure WRTO:",null,null,null,null,null,"Pa",null,null,"Pa"]
[null,null,"Worst Case Pressure WRTO:",null,null,null,null,null,"Pa",null,null,"Pa"]
[null,null,"Pressure Difference:",null,null,null,null,null,"Pa",null,null,"Pa"]
[]
[null,null,"Notes:"]
[]
[]
[null,null,"Combustion Safety test in (Tested at worst case)"]
[null,null,null,null,null,null,null,"Test In",null,null,"Test Out"]
[null,null,"CAZ Ambient CO:",null,null,null,null,null,"ppm",null,null,"ppm"]
[null,null,"Worst Case Pressure WRTO:",null,null,null,null,null,"ppm",null,null,"ppm"]
[]
[null,null,"Gas Leak:"]
[]
[null,null,"Notes:"]
[null,null,null,null,null,null,null,null,null,null,null,null," "]
[]
[null,null,"Combustion Appliance No. 1"]
[null,null,"Location:",null,null,null,null,null,"Detail:"]
[null,null,"Type:",null,null,null,null,null,"Venting:"]
[null,null,"B.T.U.:",null,null,null,null,null,"Distribution:"]
[null,null,"Fuel:",null,null,null,null,null,"Year of Mfg.:"]
[null,null,null,"Test In",null,null,null,null,null,null,"Test Out"]
[null,null,"CO Flue:",null,"ppm",null,null,null,null,null,"ppm"]
[null,null,"CO Ambient:",null,"ppm",null,null,null,null,null,"ppm"]
[null,null,"Draft:",null,"Pa",null,null,null,null,null,"Pa"]
[]
[null,null,null,null,"Test In",null,null,null,null,null,"Test Out"]
[null,null,null,"Spillage:"]
[]
[null,null,"Notes:"]
[]
[]
[null,null,"Combustion Appliance No. 2"]
[null,null,"Location:",null,null,null,null,null,"Detail:"]
[null,null,"Type:",null,null,null,null,null,"Venting:"]
[null,null,"B.T.U.:",null,null,null,null,null,"Distribution:"]
[null,null,"Fuel:",null,null,null,null,null,"Year of Mfg.:"]
[null,null,null,"Test In",null,null,null,null,null,null,"Test Out"]
[null,null,"CO Flue:",null,"ppm",null,null,null,null,null,"ppm"]
[null,null,"CO Ambient:",null,"ppm",null,null,null,null,null,"ppm"]
[null,null,"Draft:",null,"Pa",null,null,null,null,null,"Pa"]
[]
[null,null,null,null,"Test In",null,null,null,null,null,"Test Out"]
[null,null,null,"Spillage:"]
[]
[null,null,"Notes:"]
[]
[]
[null,null,"DHW"]
[null,null,"Location:",null,null,null,null,null,"Detail:"]
[null,null,"Type:",null,null,null,null,null,"Venting:"]
[null,null,"B.T.U.:",null,null,null,null,null,"Distribution:"]
[null,null,"Fuel:",null,null,null,null,null,"Year of Mfg.:"]
[null,null,"Size(gallons):",null,null,null,null,null,"Energy Factor:"]
[null,null,null,"Test In",null,null,null,null,null,null,"Test Out"]
[null,null,"CO Flue:",null,"ppm",null,null,null,null,null,"ppm"]
[null,null,"CO Ambient:",null,"ppm",null,null,null,null,null,"ppm"]
[null,null,"Draft:",null,"Pa",null,null,null,null,null,"Pa"]
[]
[null,null,null,null,"Test In",null,null,null,null,null,"Test Out"]
[null,null,null,"Spillage:"]
[]
[null,null,"Notes:"]
[]
[]
[]
[]
[null,"Application Version:",null,{"$f":"Development!A2","v":"1.0"},null,null,null,null,null,null,null,null,"Effective:",{"$f":"Development!A4","v":"1.1.23"}]

{"sheet":"Completion Information Form","index":24,"n_rows":63,"n_cols":11,"rows_kept":63,"cut":false,"hidden":true,"merged":[[59,0,59,2],[56,4,56,7],[59,4,59,7],[56,9,56,10],[59,9,59,10],[44,0,44,10],[46,0,47,10],[56,0,56,2],[38,0,39,10],[40,0,40,10],[41,0,42,10],[43,0,43,10],[50,1,50,2],[51,0,51,5],[31,0,31,11],[33,0,34,10],[36,0,36,10],[32,0,32,11],[23,0,24,10],[26,0,27,10],[29,0,29,1],[0,131,0,140],[0,21,0,30],[0,31,0,40],[0,41,0,50],[0,51,0,60],[0,61,0,70],[0,71,0,80],[0,81,0,90],[0,91,0,100],[0,101,0,110],[0,111,0,120],[0,121,0,130],[0,251,0,255],[0,141,0,150],[0,151,0,160],[0,161,0,170],[0,171,0,180],[0,181,0,190],[0,191,0,200],[0,201,0,210],[0,211,0,220],[0,221,0,230],[0,231,0,240],[0,241,0,250],[2,91,2,100],[2,101,2,110],[2,111,2,120],[2,121,2,130],[2,21,2,30],[2,31,2,40],[2,41,2,50],[2,51,2,60],[2,61,2,70],[2,251,2,255],[6,0,6,11],[2,191,2,200],[2,201,2,210],[2,211,2,220],[2,221,2,230],[2,231,2,240],[2,241,2,250],[2,131,2,140],[2,141,2,150],[2,151,2,160],[2,161,2,170],[2,171,2,180],[2,181,2,190],[2,71,2,80],[2,81,2,90],[12,0,13,10],[16,0,16,11],[21,0,21,11],[14,0,14,1],[18,0,19,10],[20,0,20,10],[4,0,5,11],[7,0,7,10],[8,0,8,10],[9,0,9,10],[10,0,10,10]]}
[{"$f":"Development!$A$3&\" Residential Efficiency Program\"","v":"2023 Residential Efficiency Program"}]
[]
["Certificate of Completion - Read and Sign after Work is Completed"]
[]
["Note to Customer: Please read the following statement before signing. By signing this document, you are attesting that all work has been completed pursuant to your contract. If any part of the work has not been completed, please indicate below. If you have any questions or concerns about any aspect of the work performed, you should resolve them with your contractor BEFORE signing this form. "]
[]
[]
["All work has been completed, with the exception of the following:"]
[]
[]
[]
[]
["Contractor agrees to complete these items and will notify PSEG Long Island upon their completion. Job will not be credited fully as a completed project until the Contractor and Customer sign a new Certificate of Completion that has no pending items."]
[]
["Contractor Intials"]
[]
["Warranty"]
[]
["Contractor warrants that the work and the equipment furnished in this installation job comply with the requirements as outlined in the Contractor Participation Agreement with PSEG Long Island. In the event that ant defect in workmanship or equipment is discovered within one (1) year after payment authorization, the Contractor will remedy, repair, correct, or cause to be remedied, repaired, corrected, or replaced at Contractor's expense such defect in equipment or workmanship. The foregoing warranty survives any inspection PSEG Long Island may elect to make."]
[]
[]
["Lien Waiver"]
[]
["WORK AND EQUIPMENT COVERED BY Home Performance with ENERGY STAR Program FINANCING OR ASSISTED HOME PERFORMANCE SUBSIDY: Contractor hereby waives and releases any and all lien or claim of, or right, to lien, under laws relating to mechanics liens with respect to and on the property referenced above."]
[]
[]
["WORK AND EQUIPMENT NOT COVERED BY HPwES FINANCING: Said waiver does not apply to any work and equipment furnished in this installation job that is not financed by the HPwES Loan or an Assisted Home Performance Subsidy. Any costs incurred by Customer exceeding the sum of the HPwES Loan and the Assisted Home Performance Subsidy, or financed by any means other than HPwES financing or an Assisted Home Performance Subsidy, are subject to a mechanics lien or claim under applicable laws relating to mechanics liens with respect to and on the property referenced above."]
[]
[]
["Customer Affirmation"]
[]
["Customer's Acceptance of Work Scope"]
[]
["The energy efficiency upgrades to be installed in the property as well as any applicable incentives, loan, and/or subsidy stated herein have been explained thoroughly by the Contractor, are satisfactory, and are hereby accepted. This worksheet accurately describes the work as agreed to through the contract between me and the Home Performance Contractor. The Home Performance Contractor is authorized to do the work as specified in the contract that has been provided to me by my contractor."]
[]
[]
["Program Quality Assurance and Evaluation"]
[]
["I agree to participate in program quality assurance and evaluation activities. The purposes of these activities are to provide the Program Administrators with an opportunity to ensure that the eligible measures are installed consistent with program standards, to assess energy savings and to evaluate program effectiveness. Program quality assurance and evaluation activities may include in-site visits, questionnaries and interviews."]
[]
[]
["As a value added service, the PSEG Long Island Home Performance with ENERGY STAR Program offers participants the option of having a post-completion inspection performed on their home. If you are interested in receiving this valuable, FREE service, please contact PSEG Long Island to schedule an appointment. Availability depends upon number of requests received."]
[]
[]
["Customer Statement"]
[]
["The undersigned hereby certifies personal ownership of the home specified above, that all materials and equipment included in the construction contract (work order, job order, bd summary, proposal, invoice, etc.) have been furnished and installed by the Contractor, and that the work has been completed pursuant to the contract. In addition, I have not obtained the benefit of and will not receive any cash payment, rebate, cash bonus, sales commission, or anything from the contractor as inducement to enter into the HPwES Agreement or proceed with work. If there is a HPwES Loan Agreement, I also agree to the terms specified in the HPwES Loan Agreement and authorize payment to the above Contractor."]
[]
[]
[]
["Loan Project ID:\n(if applicable)",{"$f":"IF('EFS Pre-Approval'!C14=\"\",\"\",'EFS Pre-Approval'!C14)","v":""}]
["I would like customer rebate: (Check One)"]
[]
[null,"(must complete a Rebate Assignment Form/This option may not be offered to all Contractors)"]
[]
[]
[]
["Homeowner's Name (Print)",null,null,null,"Signature",null,null,null,null,"Date"]
[]
[]
["Contractor's Business Name (Print)",null,null,null,"Signature",null,null,null,null,"Date"]
[]
["Application Version:",{"$f":"Development!$A$2","v":"1.0"},null,null,null,null,null,null,null,"Effective:",{"$f":"Development!$A$4","v":"1.1.23"}]

{"sheet":"Heat Pump Costs","index":25,"n_rows":30,"n_cols":33,"rows_kept":30,"cut":false,"hidden":true,"merged":[[29,0,37,30]]}
[1118]
[]
[null,"Cool Homes"]
["Air Source Heat Pumps","Equipment Type","Equipment Type",{"$f":"ProposedEquipment0!F1","v":"Measure Code"},{"$f":"ProposedEquipment0!G1","v":"Application ID"},{"$f":"ProposedEquipment0!BM1","v":"Baseline EER"},{"$f":"ProposedEquipment0!BN1","v":"Baseline SEER"},{"$f":"ProposedEquipment0!BO1","v":"Baseline HSPF"},{"$f":"ProposedEquipment0!BX1","v":"Cooling Btuh"},{"$f":"ProposedEquipment0!BR1","v":"Proposed/Installed EER"},{"$f":"ProposedEquipment0!BS1","v":"Proposed/Installed SEER"},{"$f":"ProposedEquipment0!BT1","v":"Proposed/Installed HSPF"},{"$f":"ProposedEquipment0!BU1","v":"Proposed/Installed COP"},{"$f":"ProposedEquipment0!AR1","v":"Elec Util Cust Incentive"},"Customer Incentive","Bonus Incentive",{"$f":"ProposedEquipment0!J1","v":"Gross kWh"},{"$f":"ProposedEquipment0!K1","v":"Gross Winter kW"},{"$f":"ProposedEquipment0!L1","v":"Gross BE kWh"},{"$f":"ProposedEquipment0!M1","v":"Delta Gross kWh"},{"$f":"ProposedEquipment0!Y1","v":"Net kW"},{"$f":"ProposedEquipment0!Z1","v":"Net kWh"},{"$f":"ProposedEquipment0!AA1","v":"Net Winter kW"},{"$f":"ProposedEquipment0!AB1","v":"Net BE kWh"},{"$f":"ProposedEquipment0!AC1","v":"Delta Net kWh"},{"$f":"ProposedEquipment0!AD1","v":"Total Net kW"},{"$f":"ProposedEquipment0!AE1","v":"Total Net kWh"},{"$f":"ProposedEquipment0!AF1","v":"Total Net Winter kW"},{"$f":"ProposedEquipment0!AG1","v":"Total Net BE kWh"},{"$f":"ProposedEquipment0!AH1","v":"Total Delta Net kWh"},"Total Cost","Heating System Size (per 12,000 btu)","Total Installed Cost Per System"]
["Unit 1",{"$f":"ProposedEquipment0!E2","v":""},{"$f":"IF('ASHP Equipment Information'!D11=\"\",\"\",'ASHP Equipment Information'!D11)","v":""},null,null,null,null,null,null,null,null,null,null,null,{"$f":"IF(ISNUMBER(Qualifying_Index!AJ27),MIN(Qualifying_Index!AJ27,'Heat Pump Costs'!AG5*References!C18),\"\")","v":""},{"$f":"'ASHP Load Calculations'!G8","v":0},null,null,null,null,null,null,null,null,null,null,null,null,null,null,null,{"$f":"IF('ASHP Equipment Information'!G19=\"\",\"\",'ASHP Equipment Information'!G19/12000)","v":""}]
["Unit 2",{"$f":"ProposedEquipment0!E3","v":""},{"$f":"IF('ASHP Equipment Information'!D30=\"\",\"\",'ASHP Equipment Information'!D30)","v":""},null,null,null,null,null,null,null,null,null,null,null,{"$f":"IF(ISNUMBER(Qualifying_Index!AJ28),MIN(Qualifying_Index!AJ28,'Heat Pump Costs'!AG6*References!C19),\"\")","v":""},null,null,null,null,null,null,null,null,null,null,null,null,null,null,null,null,{"$f":"IF('ASHP Equipment Information'!G38=\"\",\"\",'ASHP Equipment Information'!G38/12000)","v":""}]
["Unit 3",{"$f":"ProposedEquipment0!E4","v":""},{"$f":"IF('ASHP Equipment Information'!D49=\"\",\"\",'ASHP Equipment Information'!D49)","v":""},null,null,null,null,null,null,null,null,null,null,null,{"$f":"IF(ISNUMBER(Qualifying_Index!AJ29),MIN(Qualifying_Index!AJ29,'Heat Pump Costs'!AG7*References!C20),\"\")","v":""},null,null,null,null,null,null,null,null,null,null,null,null,null,null,null,null,{"$f":"IF('ASHP Equipment Information'!G57=\"\",\"\",'ASHP Equipment Information'!G57/12000)","v":""}]
["Unit 4",{"$f":"ProposedEquipment0!E5","v":""},{"$f":"IF('ASHP Equipment Information'!D68=\"\",\"\",'ASHP Equipment Information'!D68)","v":""},null,null,null,null,null,null,null,null,null,null,null,{"$f":"IF(ISNUMBER(Qualifying_Index!AJ30),MIN(Qualifying_Index!AJ30,'Heat Pump Costs'!AG8*References!C21),\"\")","v":""},null,null,null,null,null,null,null,null,null,null,null,null,null,null,null,null,{"$f":"IF('ASHP Equipment Information'!G76=\"\",\"\",'ASHP Equipment Information'!G76/12000)","v":""}]
["Unit 5",{"$f":"ProposedEquipment0!E6","v":""},{"$f":"IF('ASHP Equipment Information'!D87=\"\",\"\",'ASHP Equipment Information'!D87)","v":""},null,null,null,null,null,null,null,null,null,null,null,{"$f":"IF(ISNUMBER(Qualifying_Index!AJ31),MIN(Qualifying_Index!AJ31,'Heat Pump Costs'!AG9*References!C22),\"\")","v":""},null,null,null,null,null,null,null,null,null,null,null,null,null,null,null,null,{"$f":"IF('ASHP Equipment Information'!G95=\"\",\"\",'ASHP Equipment Information'!G95/12000)","v":""}]
["Unit 6",{"$f":"ProposedEquipment0!E7","v":""},{"$f":"IF('ASHP Equipment Information'!D106=\"\",\"\",'ASHP Equipment Information'!D106)","v":""},null,null,null,null,null,null,null,null,null,null,null,{"$f":"IF(ISNUMBER(Qualifying_Index!AJ32),MIN(Qualifying_Index!AJ32,'Heat Pump Costs'!AG10*References!C23),\"\")","v":""},null,null,null,null,null,null,null,null,null,null,null,null,null,null,null,null,{"$f":"IF('ASHP Equipment Information'!G114=\"\",\"\",'ASHP Equipment Information'!G114/12000)","v":""}]
["Unit 7",{"$f":"ProposedEquipment0!E8","v":""},{"$f":"IF('ASHP Equipment Information'!D125=\"\",\"\",'ASHP Equipment Information'!D125)","v":""},null,null,null,null,null,null,null,null,null,null,null,{"$f":"IF(ISNUMBER(Qualifying_Index!AJ33),MIN(Qualifying_Index!AJ33,'Heat Pump Costs'!AG11*References!C24),\"\")","v":""},null,null,null,null,null,null,null,null,null,null,null,null,null,null,null,null,{"$f":"IF('ASHP Equipment Information'!G133=\"\",\"\",'ASHP Equipment Information'!G133/12000)","v":""}]
["Unit 8",{"$f":"ProposedEquipment0!E9","v":""},{"$f":"IF('ASHP Equipment Information'!D144=\"\",\"\",'ASHP Equipment Information'!D144)","v":""},null,null,null,null,null,null,null,null,null,null,null,{"$f":"IF(ISNUMBER(Qualifying_Index!AJ34),MIN(Qualifying_Index!AJ34,'Heat Pump Costs'!AG12*References!C25),\"\")","v":""},null,null,null,null,null,null,null,null,null,null,null,null,null,null,null,null,{"$f":"IF('ASHP Equipment Information'!G152=\"\",\"\",'ASHP Equipment Information'!G152/12000)","v":""}]
["Unit 9",{"$f":"ProposedEquipment0!E10","v":""},{"$f":"IF('ASHP Equipment Information'!D163=\"\",\"\",'ASHP Equipment Information'!D163)","v":""},null,null,null,null,null,null,null,null,null,null,null,{"$f":"IF(ISNUMBER(Qualifying_Index!AJ35),MIN(Qualifying_Index!AJ35,'Heat Pump Costs'!AG13*References!C26),\"\")","v":""},null,null,null,null,null,null,null,null,null,null,null,null,null,null,null,null,{"$f":"IF('ASHP Equipment Information'!G171=\"\",\"\",'ASHP Equipment Information'!G171/12000)","v":""}]
["Unit 10",{"$f":"ProposedEquipment0!E11","v":""},{"$f":"IF('ASHP Equipment Information'!D182=\"\",\"\",'ASHP Equipment Information'!D182)","v":""},null,null,null,null,null,null,null,null,null,null,null,{"$f":"IF(ISNUMBER(Qualifying_Index!AJ36),MIN(Qualifying_Index!AJ36,'Heat Pump Costs'!AG14*References!C27),\"\")","v":""},null,null,null,null,null,null,null,null,null,null,null,null,null,null,null,null,{"$f":"IF('ASHP Equipment Information'!G190=\"\",\"\",'ASHP Equipment Information'!G190/12000)","v":""}]
["Smart Thermostat 1",{"$f":"ProposedEquipment0!E13","v":""},{"$f":"IF('Smart T-Stats'!D21=\"\",\"\",'Smart T-Stats'!D21)","v":""},{"$f":"ProposedEquipment0!F13","v":""},{"$f":"ProposedEquipment0!G13","v":""},null,null,null,null,null,null,null,null,{"$f":"ProposedEquipment0!AR13","v":""},{"$f":"'Smart T-Stats'!K21","v":""},{"$f":"'Smart T-Stats'!L21","v":""},{"$f":"ProposedEquipment0!J13","v":""},{"$f":"ProposedEquipment0!K13","v":0},{"$f":"ProposedEquipment0!L13","v":0},{"$f":"ProposedEquipment0!M13","v":0},{"$f":"ProposedEquipment0!Y13","v":""},{"$f":"ProposedEquipment0!Z13","v":""},{"$f":"ProposedEquipment0!AA13","v":""},{"$f":"ProposedEquipment0!AB13","v":""},{"$f":"ProposedEquipment0!AC13","v":""},{"$f":"ProposedEquipment0!AD13","v":""},{"$f":"ProposedEquipment0!AE13","v":""},{"$f":"ProposedEquipment0!AF13","v":""},{"$f":"ProposedEquipment0!AG13","v":""},{"$f":"ProposedEquipment0!AH13","v":""}]
["Smart Thermostat 2",{"$f":"ProposedEquipment0!E14","v":""},{"$f":"IF('Smart T-Stats'!D22=\"\",\"\",'Smart T-Stats'!D22)","v":""},{"$f":"ProposedEquipment0!F14","v":""},{"$f":"ProposedEquipment0!G14","v":""},null,null,null,null,null,null,null,null,{"$f":"ProposedEquipment0!AR14","v":""},{"$f":"'Smart T-Stats'!K22","v":""},{"$f":"'Smart T-Stats'!L22","v":""},{"$f":"ProposedEquipment0!J14","v":""},{"$f":"ProposedEquipment0!K14","v":0},{"$f":"ProposedEquipment0!L14","v":0},{"$f":"ProposedEquipment0!M14","v":0},{"$f":"ProposedEquipment0!Y14","v":""},{"$f":"ProposedEquipment0!Z14","v":""},{"$f":"ProposedEquipment0!AA14","v":""},{"$f":"ProposedEquipment0!AB14","v":""},{"$f":"ProposedEquipment0!AC14","v":""},{"$f":"ProposedEquipment0!AD14","v":""},{"$f":"ProposedEquipment0!AE14","v":""},{"$f":"ProposedEquipment0!AF14","v":""},{"$f":"ProposedEquipment0!AG14","v":""},{"$f":"ProposedEquipment0!AH14","v":""}]
["Smart Thermostat 3",{"$f":"ProposedEquipment0!E15","v":""},{"$f":"IF('Smart T-Stats'!D23=\"\",\"\",'Smart T-Stats'!D23)","v":""},{"$f":"ProposedEquipment0!F15","v":""},{"$f":"ProposedEquipment0!G15","v":""},null,null,null,null,null,null,null,null,{"$f":"ProposedEquipment0!AR15","v":""},{"$f":"'Smart T-Stats'!K23","v":""},{"$f":"'Smart T-Stats'!L23","v":""},{"$f":"ProposedEquipment0!J15","v":""},{"$f":"ProposedEquipment0!K15","v":0},{"$f":"ProposedEquipment0!L15","v":0},{"$f":"ProposedEquipment0!M15","v":0},{"$f":"ProposedEquipment0!Y15","v":""},{"$f":"ProposedEquipment0!Z15","v":""},{"$f":"ProposedEquipment0!AA15","v":""},{"$f":"ProposedEquipment0!AB15","v":""},{"$f":"ProposedEquipment0!AC15","v":""},{"$f":"ProposedEquipment0!AD15","v":""},{"$f":"ProposedEquipment0!AE15","v":""},{"$f":"ProposedEquipment0!AF15","v":""},{"$f":"ProposedEquipment0!AG15","v":""},{"$f":"ProposedEquipment0!AH15","v":""}]
["Smart Thermostat 4",{"$f":"ProposedEquipment0!E16","v":""},{"$f":"IF('Smart T-Stats'!D24=\"\",\"\",'Smart T-Stats'!D24)","v":""},{"$f":"ProposedEquipment0!F16","v":""},{"$f":"ProposedEquipment0!G16","v":""},null,null,null,null,null,null,null,null,{"$f":"ProposedEquipment0!AR16","v":""},{"$f":"'Smart T-Stats'!K24","v":""},{"$f":"'Smart T-Stats'!L24","v":""},{"$f":"ProposedEquipment0!J16","v":""},{"$f":"ProposedEquipment0!K16","v":0},{"$f":"ProposedEquipment0!L16","v":0},{"$f":"ProposedEquipment0!M16","v":0},{"$f":"ProposedEquipment0!Y16","v":""},{"$f":"ProposedEquipment0!Z16","v":""},{"$f":"ProposedEquipment0!AA16","v":""},{"$f":"ProposedEquipment0!AB16","v":""},{"$f":"ProposedEquipment0!AC16","v":""},{"$f":"ProposedEquipment0!AD16","v":""},{"$f":"ProposedEquipment0!AE16","v":""},{"$f":"ProposedEquipment0!AF16","v":""},{"$f":"ProposedEquipment0!AG16","v":""},{"$f":"ProposedEquipment0!AH16","v":""}]
["Smart Thermostat 5",{"$f":"ProposedEquipment0!E17","v":""},{"$f":"IF('Smart T-Stats'!D25=\"\",\"\",'Smart T-Stats'!D25)","v":""},{"$f":"ProposedEquipment0!F17","v":""},{"$f":"ProposedEquipment0!G17","v":""},null,null,null,null,null,null,null,null,{"$f":"ProposedEquipment0!AR17","v":""},{"$f":"'Smart T-Stats'!K25","v":""},{"$f":"'Smart T-Stats'!L25","v":""},{"$f":"ProposedEquipment0!J17","v":""},{"$f":"ProposedEquipment0!K17","v":0},{"$f":"ProposedEquipment0!L17","v":0},{"$f":"ProposedEquipment0!M17","v":0},{"$f":"ProposedEquipment0!Y17","v":""},{"$f":"ProposedEquipment0!Z17","v":""},{"$f":"ProposedEquipment0!AA17","v":""},{"$f":"ProposedEquipment0!AB17","v":""},{"$f":"ProposedEquipment0!AC17","v":""},{"$f":"ProposedEquipment0!AD17","v":""},{"$f":"ProposedEquipment0!AE17","v":""},{"$f":"ProposedEquipment0!AF17","v":""},{"$f":"ProposedEquipment0!AG17","v":""},{"$f":"ProposedEquipment0!AH17","v":""}]
["Smart Thermostat 6",{"$f":"ProposedEquipment0!E18","v":""},{"$f":"IF('Smart T-Stats'!D26=\"\",\"\",'Smart T-Stats'!D26)","v":""},{"$f":"ProposedEquipment0!F18","v":""},{"$f":"ProposedEquipment0!G18","v":""},null,null,null,null,null,null,null,null,{"$f":"ProposedEquipment0!AR18","v":""},{"$f":"'Smart T-Stats'!K26","v":""},{"$f":"'Smart T-Stats'!L26","v":""},{"$f":"ProposedEquipment0!J18","v":""},{"$f":"ProposedEquipment0!K18","v":0},{"$f":"ProposedEquipment0!L18","v":0},{"$f":"ProposedEquipment0!M18","v":0},{"$f":"ProposedEquipment0!Y18","v":""},{"$f":"ProposedEquipment0!Z18","v":""},{"$f":"ProposedEquipment0!AA18","v":""},{"$f":"ProposedEquipment0!AB18","v":""},{"$f":"ProposedEquipment0!AC18","v":""},{"$f":"ProposedEquipment0!AD18","v":""},{"$f":"ProposedEquipment0!AE18","v":""},{"$f":"ProposedEquipment0!AF18","v":""},{"$f":"ProposedEquipment0!AG18","v":""},{"$f":"ProposedEquipment0!AH18","v":""}]
["Smart Thermostat 7",{"$f":"ProposedEquipment0!E19","v":""},{"$f":"IF('Smart T-Stats'!D27=\"\",\"\",'Smart T-Stats'!D27)","v":""},{"$f":"ProposedEquipment0!F19","v":""},{"$f":"ProposedEquipment0!G19","v":""},null,null,null,null,null,null,null,null,{"$f":"ProposedEquipment0!AR19","v":""},{"$f":"'Smart T-Stats'!K27","v":""},{"$f":"'Smart T-Stats'!L27","v":""},{"$f":"ProposedEquipment0!J19","v":""},{"$f":"ProposedEquipment0!K19","v":0},{"$f":"ProposedEquipment0!L19","v":0},{"$f":"ProposedEquipment0!M19","v":0},{"$f":"ProposedEquipment0!Y19","v":""},{"$f":"ProposedEquipment0!Z19","v":""},{"$f":"ProposedEquipment0!AA19","v":""},{"$f":"ProposedEquipment0!AB19","v":""},{"$f":"ProposedEquipment0!AC19","v":""},{"$f":"ProposedEquipment0!AD19","v":""},{"$f":"ProposedEquipment0!AE19","v":""},{"$f":"ProposedEquipment0!AF19","v":""},{"$f":"ProposedEquipment0!AG19","v":""},{"$f":"ProposedEquipment0!AH19","v":""}]
["Smart Thermostat 8",{"$f":"ProposedEquipment0!E20","v":""},{"$f":"IF('Smart T-Stats'!D28=\"\",\"\",'Smart T-Stats'!D28)","v":""},{"$f":"ProposedEquipment0!F20","v":""},{"$f":"ProposedEquipment0!G20","v":""},null,null,null,null,null,null,null,null,{"$f":"ProposedEquipment0!AR20","v":""},{"$f":"'Smart T-Stats'!K28","v":""},{"$f":"'Smart T-Stats'!L28","v":""},{"$f":"ProposedEquipment0!J20","v":""},{"$f":"ProposedEquipment0!K20","v":0},{"$f":"ProposedEquipment0!L20","v":0},{"$f":"ProposedEquipment0!M20","v":0},{"$f":"ProposedEquipment0!Y20","v":""},{"$f":"ProposedEquipment0!Z20","v":""},{"$f":"ProposedEquipment0!AA20","v":""},{"$f":"ProposedEquipment0!AB20","v":""},{"$f":"ProposedEquipment0!AC20","v":""},{"$f":"ProposedEquipment0!AD20","v":""},{"$f":"ProposedEquipment0!AE20","v":""},{"$f":"ProposedEquipment0!AF20","v":""},{"$f":"ProposedEquipment0!AG20","v":""},{"$f":"ProposedEquipment0!AH20","v":""}]
["Smart Thermostat 9",{"$f":"ProposedEquipment0!E21","v":""},{"$f":"IF('Smart T-Stats'!D29=\"\",\"\",'Smart T-Stats'!D29)","v":""},{"$f":"ProposedEquipment0!F21","v":""},{"$f":"ProposedEquipment0!G21","v":""},null,null,null,null,null,null,null,null,{"$f":"ProposedEquipment0!AR21","v":""},{"$f":"'Smart T-Stats'!K29","v":""},{"$f":"'Smart T-Stats'!L29","v":""},{"$f":"ProposedEquipment0!J21","v":""},{"$f":"ProposedEquipment0!K21","v":0},{"$f":"ProposedEquipment0!L21","v":0},{"$f":"ProposedEquipment0!M21","v":0},{"$f":"ProposedEquipment0!Y21","v":""},{"$f":"ProposedEquipment0!Z21","v":""},{"$f":"ProposedEquipment0!AA21","v":""},{"$f":"ProposedEquipment0!AB21","v":""},{"$f":"ProposedEquipment0!AC21","v":""},{"$f":"ProposedEquipment0!AD21","v":""},{"$f":"ProposedEquipment0!AE21","v":""},{"$f":"ProposedEquipment0!AF21","v":""},{"$f":"ProposedEquipment0!AG21","v":""},{"$f":"ProposedEquipment0!AH21","v":""}]
["Smart Thermostat 10",{"$f":"ProposedEquipment0!E22","v":""},{"$f":"IF('Smart T-Stats'!D30=\"\",\"\",'Smart T-Stats'!D30)","v":""},{"$f":"ProposedEquipment0!F22","v":""},{"$f":"ProposedEquipment0!G22","v":""},null,null,null,null,null,null,null,null,{"$f":"ProposedEquipment0!AR22","v":""},{"$f":"'Smart T-Stats'!K30","v":""},{"$f":"'Smart T-Stats'!L30","v":""},{"$f":"ProposedEquipment0!J22","v":""},{"$f":"ProposedEquipment0!K22","v":0},{"$f":"ProposedEquipment0!L22","v":0},{"$f":"ProposedEquipment0!M22","v":0},{"$f":"ProposedEquipment0!Y22","v":""},{"$f":"ProposedEquipment0!Z22","v":""},{"$f":"ProposedEquipment0!AA22","v":""},{"$f":"ProposedEquipment0!AB22","v":""},{"$f":"ProposedEquipment0!AC22","v":""},{"$f":"ProposedEquipment0!AD22","v":""},{"$f":"ProposedEquipment0!AE22","v":""},{"$f":"ProposedEquipment0!AF22","v":""},{"$f":"ProposedEquipment0!AG22","v":""},{"$f":"ProposedEquipment0!AH22","v":""}]
["Other Smart Controls",{"$f":"ProposedEquipment0!E23","v":""},{"$f":"IF('Smart T-Stats'!D32=\"\",\"\",'Smart T-Stats'!D32)","v":""},{"$f":"ProposedEquipment0!F23","v":""},{"$f":"ProposedEquipment0!G23","v":""},null,null,null,null,null,null,null,null,{"$f":"ProposedEquipment0!AR23","v":""},"N/A","N/A",{"$f":"ProposedEquipment0!J23","v":""},{"$f":"ProposedEquipment0!K23","v":0},{"$f":"ProposedEquipment0!L23","v":0},{"$f":"ProposedEquipment0!M23","v":0},{"$f":"ProposedEquipment0!Y23","v":""},{"$f":"ProposedEquipment0!Z23","v":""},{"$f":"ProposedEquipment0!AA23","v":""},{"$f":"ProposedEquipment0!AB23","v":""},{"$f":"ProposedEquipment0!AC23","v":""},{"$f":"ProposedEquipment0!AD23","v":""},{"$f":"ProposedEquipment0!AE23","v":""},{"$f":"ProposedEquipment0!AF23","v":""},{"$f":"ProposedEquipment0!AG23","v":""},{"$f":"ProposedEquipment0!AH23","v":""}]
[null,{"$f":"ProposedEquipment0!E25","v":""},null,{"$f":"ProposedEquipment0!F25","v":""},{"$f":"ProposedEquipment0!G25","v":""},null,null,null,null,null,null,null,null,{"$f":"ProposedEquipment0!AR25","v":""},null,null,{"$f":"ProposedEquipment0!J25","v":""},{"$f":"ProposedEquipment0!K25","v":""},{"$f":"ProposedEquipment0!L25","v":""},{"$f":"ProposedEquipment0!M25","v":""},{"$f":"ProposedEquipment0!Y25","v":""},{"$f":"ProposedEquipment0!Z25","v":""},{"$f":"ProposedEquipment0!AA25","v":""},{"$f":"ProposedEquipment0!AB25","v":""},{"$f":"ProposedEquipment0!AC25","v":""},{"$f":"ProposedEquipment0!AD25","v":""},{"$f":"ProposedEquipment0!AE25","v":""},{"$f":"ProposedEquipment0!AF25","v":""},{"$f":"ProposedEquipment0!AG25","v":""},{"$f":"ProposedEquipment0!AH25","v":""}]
[]
[]
[]
["Please enter total installed cost per system in each row when there is more than one installed unit. Installed costs per system should include equipment, labor, ancillary work required for the installation, fees, taxes, etc. Please exclude any costs that are not associated with the project. Per System costs should also exclude the rebate."]

{"sheet":"Pre Inspection Form","index":26,"n_rows":73,"n_cols":13,"rows_kept":73,"cut":false,"hidden":true,"merged":[[70,3,70,6],[55,4,55,5],[56,4,56,5],[57,4,57,5],[58,4,58,5],[64,2,64,3],[64,4,64,5],[56,2,56,3],[57,2,57,3],[58,2,58,3],[64,6,64,7],[61,4,61,5],[61,6,61,7],[3,1,3,5],[54,2,54,3],[54,4,54,5],[54,6,54,7],[60,4,60,5],[55,2,55,3],[59,2,59,3],[29,2,29,5],[44,2,44,3],[44,4,44,5],[44,6,44,7],[27,2,27,5],[39,2,39,3],[59,4,59,5],[59,6,59,7],[55,6,55,7],[65,3,65,4],[65,5,65,6],[65,7,65,8],[57,6,57,7],[58,6,58,7],[61,2,61,3],[60,2,60,3],[62,2,62,3],[62,4,62,5],[62,6,62,7],[63,2,63,3],[63,4,63,5],[63,6,63,7],[5,2,5,5],[19,2,19,5],[21,2,21,5],[23,2,23,5],[5,9,5,12],[50,5,50,7],[38,10,38,11],[45,10,45,11],[46,10,46,11],[68,1,68,12],[39,8,39,9],[39,10,39,11],[44,8,44,9],[44,10,44,11],[40,2,40,3],[40,8,40,9],[40,10,40,11],[40,5,40,6],[65,9,65,10],[56,6,56,7],[60,6,60,7],[33,2,33,3],[21,9,21,12],[47,2,47,3],[47,4,47,5],[47,6,47,7],[33,7,33,8],[38,5,38,6],[39,5,39,6],[36,3,36,5],[36,8,36,10],[34,2,34,3],[35,2,35,3],[47,8,47,9],[47,10,47,11],[23,9,23,10],[72,3,72,6],[72,10,72,11],[70,10,70,11],[34,5,34,6],[33,5,33,6],[35,5,35,6],[46,2,46,4],[45,2,45,4],[45,5,45,8],[46,5,46,8],[34,7,34,8],[35,7,35,8],[38,2,38,3],[38,8,38,9],[66,2,66,12],[67,1,67,12]]}
[null,{"$f":"Development!$A$3&\" Residential Efficiency Program\"","v":"2023 Residential Efficiency Program"}]
[]
[]
[null,{"$f":"\"Pre-Inspection Form, Version \"&Development!A2","v":"Pre-Inspection Form, Version 1.0"}]
[]
[null,"Performed By:",null,null,null,null,null,null,"Account No:",{"$f":"IF('Customer Information'!C5=\"\",\"\",'Customer Information'!C5)","v":""}]
[]
[]
[]
[null,"Confirmation and Screening Questions"]
[null,"1. Have you or any family member traveled to a country for which the CDC has issued a Level 2 or 3 travel designation within the last 14 days?"]
[]
[null,"2. Have you or any family member traveled had contact with any Persons Under Investigation (PUIs) for COVID-19 within the last 14 days, OR with anyone with known COVID-19?"]
[]
[null,"3. Do you or any family member have any symptoms of a fever or respiratory infection (e.g., cough, sore throat, fever, or shortness of breath)?"]
[]
[null,"IF ANY QUESTION IS RESPONDED TO WITH A YES, YOU CANNOT PROCEED AND WILL NEED TO RESCHEDULE THE APPOINTMENT"]
[]
[null,"Customer Information"]
[null,"Customer Name:",{"$f":"IF('Customer Information'!C6=\"\",\"\",'Customer Information'!C6)","v":""},null,null,null,null,null,"Address:",{"$f":"IF('Customer Information'!C7=\"\",\"\",'Customer Information'!C7)","v":""}]
[]
[null,"Town:",{"$f":"IF('Customer Information'!I7=\"\",\"\",'Customer Information'!I7)","v":""},null,null,null,null,null,"Phone:",{"$f":"IF('Customer Information'!K9=\"\",\"\",'Customer Information'!K9)","v":""}]
[]
[null,"Inspector:",null,null,null,null,null,null,"Date:"]
[]
[]
[null,"Contractor Information"]
[null,"Company:",{"$f":"IF('Customer Information'!C19=\"\",\"\",'Customer Information'!C19)","v":""},null,null,null,null,null,"Contact Name:",{"$f":"IF('Customer Information'!C20=\"\",\"\",'Customer Information'!C20)","v":""}]
[]
[null,"Phone:",{"$f":"IF('Customer Information'!K21=\"\",\"\",'Customer Information'!K21)","v":""},null,null,null,null,null,"Application ID:",{"$f":"IF('Customer Information'!L48=\"\",\"\",'Customer Information'!L48)","v":""}]
[]
[null,"Existing Equipment Details"]
[null,"Space Heating Information"]
[null,null,"Heating Equipment",null,"AFUE","Equipment Tonnage",null,"Matching?"]
[null,"Primary:",{"$f":"IF(References!H13=\"New Construction\",\"New Construction\",'Site Information'!C16)","v":"Select…"},null,{"$f":"'Site Information'!C37","v":0},{"$f":"'Site Information'!C31/12000","v":0}]
[null,"Secondary:",{"$f":"IF(References!H13=\"New Construction\",\"New Construction\",'Site Information'!C22)","v":"Select…"},null,{"$f":"'Site Information'!C49","v":0},{"$f":"'Site Information'!C43/12000","v":0}]
[]
[null,"Space Cooling Information"]
[null,null,"Type",null,"Manufacturer","Model #",null,"Tonnage","Operating?",null,"Efficiency Rating",null,"Matching?"]
[null,"Primary:",{"$f":"IF('Site Information'!C18=\"\",\"\",'Site Information'!C18)","v":"Select…"},null,null,null,null,{"$f":"IF('Site Information'!J31=\"\",\"\",'Site Information'!J31/12000)","v":""},{"$f":"IF('ASHP Equipment Information'!O49=\"\",\"\",'ASHP Equipment Information'!O49)","v":""},null,{"$f":"IF(OR('Site Information'!C18=\"\",'Site Information'!C18=\"Select...\"),\"\",'Site Information'!J33&\" SEER/ \"&'Site Information'!J35&\" EER\")","v":" SEER/  EER"}]
[null,"Secondary:",{"$f":"IF('Site Information'!C24=\"\",\"\",'Site Information'!C24)","v":"Select…"},null,null,null,null,{"$f":"IF('Site Information'!J43=\"\",\"\",'Site Information'!J43/12000)","v":""},{"$f":"IF('ASHP Equipment Information'!O50=\"\",\"\",'ASHP Equipment Information'!O50)","v":""},null,{"$f":"IF(OR('Site Information'!C24=\"\",'Site Information'!C24=\"Select...\"),\"\",'Site Information'!J45&\" SEER/ \"&'Site Information'!J47&\" EER\")","v":" SEER/  EER"}]
[]
[]
[null,"Water Heating"]
[]
[null,null,"Heating Equipment",null,null,"Matching?"]
[null,"Primary:",{"$f":"IF(References!H26=\"New Construction\",\"New Construction\",'Water Heating Worksheet'!$G$21)","v":"Select…"}]
[]
[]
[null,"Inspection Analysis"]
[null,null,null,null,"Fail Reason*:"]
[]
[null,"ACCA Manual J (Total Tons):",null,""]
[]
[null,null,"ACCA Manual J (BTU)",null,"AHRI Certificate Number:",null,"AHRI Ratings:"]
[null,"Unit 1","",null,"",null,"",null,null,24]
[null,"Unit 2","",null,"",null,"",null,null,29]
[null,"Unit 3","",null,"",null,"",null,null,34]
[null,"Unit 4 ","",null,"",null,"",null,null,39]
[null,"Unit 5","",null,"",null,"",null,null,44]
[null,"Unit 6","",null,"",null,"",null,null,49]
[null,"Unit 7","",null,"",null,"",null,null,54]
[null,"Unit 8","",null,"",null,"",null,null,59]
[null,"Unit 9","",null,"",null,"",null,null,64]
[null,"Unit 10","",null,"",null,"",null,null,69]
[]
[null,"Notes:"]
[]
[]
[]
[null,"Customer Signature:",null,null,null,null,null,null,null,"Date:"]
[]
[null,"Inspector Signature:",null,null,null,null,null,null,null,"Date:"]

{"sheet":"Post Inspection Form","index":27,"n_rows":97,"n_cols":11,"rows_kept":97,"cut":false,"hidden":true,"merged":[[48,1,48,2],[50,1,50,2],[67,8,67,9],[67,10,67,11],[66,2,66,3],[64,10,64,11],[63,4,63,5],[63,6,63,7],[66,4,66,5],[66,6,66,7],[66,8,66,9],[66,10,66,11],[65,2,65,3],[65,4,65,5],[65,6,65,7],[65,8,65,9],[65,10,65,11],[64,6,64,7],[64,8,64,9],[63,8,63,9],[63,10,63,11],[58,8,58,9],[58,10,58,11],[59,8,59,9],[59,10,59,11],[60,8,60,9],[60,10,60,11],[61,2,61,3],[61,4,61,5],[61,6,61,7],[61,8,61,9],[61,10,61,11],[62,10,62,11],[80,2,80,3],[81,2,81,3],[82,2,82,3],[83,2,83,3],[88,6,88,7],[85,2,85,3],[85,4,85,5],[85,6,85,7],[67,2,67,3],[67,4,67,5],[67,6,67,7],[86,2,86,3],[45,8,45,9],[45,10,45,11],[89,3,89,4],[89,5,89,6],[89,7,89,8],[89,9,89,10],[80,6,80,7],[84,6,84,7],[84,2,84,3],[79,2,79,3],[81,6,81,7],[82,6,82,7],[74,5,74,7],[56,2,56,3],[56,4,56,5],[56,6,56,7],[78,2,78,3],[78,4,78,5],[78,6,78,7],[62,2,62,3],[79,4,79,5],[80,4,80,5],[81,4,81,5],[82,4,82,5],[63,2,63,3],[56,8,56,9],[56,10,56,11],[57,2,57,3],[57,4,57,5],[57,6,57,7],[42,8,42,9],[42,10,42,11],[43,10,43,11],[44,2,44,3],[44,4,44,5],[43,2,43,3],[43,4,43,5],[43,6,43,7],[43,8,43,9],[44,6,44,7],[44,8,44,9],[44,10,44,11],[57,8,57,9],[57,10,57,11],[62,4,62,5],[62,6,62,7],[62,8,62,9],[48,3,48,6],[40,2,40,3],[41,8,41,9],[37,2,37,3],[37,4,37,5],[37,6,37,7],[37,8,37,9],[37,10,37,11],[38,10,38,11],[38,8,38,9],[38,6,38,7],[38,4,38,5],[38,2,38,3],[6,2,6,5],[6,8,6,11],[20,2,20,5],[20,8,20,11],[22,2,22,5],[22,8,22,11],[24,2,24,5],[28,2,28,5],[28,8,28,11],[64,4,64,5],[30,2,30,5],[30,8,30,11],[24,8,24,9],[35,2,35,3],[35,4,35,5],[35,6,35,7],[35,8,35,9],[35,10,35,11],[36,2,36,3],[36,4,36,5],[36,6,36,7],[36,8,36,9],[36,10,36,11],[41,10,41,11],[39,2,39,3],[39,4,39,5],[39,6,39,7],[39,8,39,9],[39,10,39,11],[40,10,40,11],[40,8,40,9],[40,6,40,7],[40,4,40,5],[48,9,48,11],[83,4,83,5],[83,6,83,7],[79,6,79,7],[84,4,84,5],[41,2,41,3],[41,4,41,5],[41,6,41,7],[42,2,42,3],[42,4,42,5],[42,6,42,7],[45,2,45,3],[45,4,45,5],[45,6,45,7],[60,2,60,3],[60,4,60,5],[60,6,60,7],[59,2,59,3],[59,4,59,5],[59,6,59,7],[58,2,58,3],[58,4,58,5],[58,6,58,7],[64,2,64,3],[53,2,53,3],[53,4,53,5],[53,6,53,7],[53,8,53,9],[53,10,53,11],[51,2,51,3],[51,4,51,5],[51,6,51,7],[51,8,51,9],[51,10,51,11],[52,2,52,3],[52,4,52,5],[52,6,52,7],[52,8,52,9],[52,10,52,11],[96,3,96,6],[96,10,96,11],[70,4,70,5],[70,6,70,7],[70,8,70,9],[70,10,70,11],[71,4,71,5],[71,6,71,7],[71,8,71,9],[71,10,71,11],[70,1,70,3],[71,1,71,3],[86,4,86,5],[86,6,86,7],[87,2,87,3],[87,4,87,5],[87,6,87,7],[94,3,94,6],[91,1,91,11],[92,1,92,11],[90,2,90,11],[94,10,94,11],[88,2,88,3],[88,4,88,5]]}
[null,{"$f":"Development!$A$3&\" Residential Efficiency Program\"","v":"2023 Residential Efficiency Program"}]
[]
[]
[null,{"$f":"\"Post-Inspection Form, Version \"&Development!A2","v":"Post-Inspection Form, Version 1.0"}]
[]
[]
[null,"Performed By:",null,null,null,null,null,"Account No:",{"$f":"IF('Customer Information'!C5=\"\",\"\",'Customer Information'!C5)","v":""}]
[]
[]
[]
[null,"Confirmation and Screening Questions"]
[null,"1. Have you or any family member traveled to a country for which the CDC has issued a Level 2 or 3 travel designation within the last 14 days?"]
[]
[null,"2. Have you or any family member traveled had contact with any Persons Under Investigation (PUIs) for COVID-19 within the last 14 days, OR with anyone with known COVID-19?"]
[]
[null,"3. Do you or any family member have any symptoms of a fever or respiratory infection (e.g., cough, sore throat, fever, or shortness of breath)?"]
[]
[null,"IF ANY QUESTION IS RESPONDED TO WITH A YES, YOU CANNOT PROCEED AND WILL NEED TO RESCHEDULE THE APPOINTMENT"]
[]
[null,"Customer Information"]
[null,"Account Holder Name:",{"$f":"IF('Customer Information'!C6=\"\",\"\",'Customer Information'!C6)","v":""},null,null,null,null,"Address:",{"$f":"IF('Customer Information'!C8=\"\",\"\",'Customer Information'!C8)","v":""}]
[]
[null,"Town:",{"$f":"IF('Customer Information'!I7=\"\",\"\",'Customer Information'!I7)","v":""},null,null,null,null,"Phone:",{"$f":"IF('Customer Information'!K9=\"\",\"\",'Customer Information'!K9)","v":""}]
[]
[null,"Inspector:",null,null,null,null,null,"Date:"]
[]
[]
[null,"Contractor Information"]
[null,"Company:",{"$f":"IF('Customer Information'!C19=\"\",\"\",'Customer Information'!C19)","v":""},null,null,null,null,"Contact Name:",{"$f":"IF('Customer Information'!C20=\"\",\"\",'Customer Information'!C20)","v":""}]
[]
[null,"Phone:",{"$f":"IF('Customer Information'!K21=\"\",\"\",'Customer Information'!K21)","v":""},null,null,null,null,"Application ID:",{"$f":"IF('Customer Information'!L48=\"\",\"\",'Customer Information'!L48)","v":""}]
[]
[null,"New Equipment Details"]
[]
[null,"Heat Pump Units"]
[null,"Unit #","Type",null,"Manufacturer",null,"Model #",null,"Serial #",null,"Matches \nInvoice"]
[null,1,{"$f":"IF('ASHP Equipment Information'!$D$11=\"\",\"\",'ASHP Equipment Information'!$D$11)","v":""},null,{"$f":"IF('ASHP Equipment Information'!$D$15=\"\",\"\",'ASHP Equipment Information'!$D$15)","v":""},null,{"$f":"IF('ASHP Equipment Information'!$D$17=\"\",\"\",'ASHP Equipment Information'!$D$17)","v":""},null,{"$f":"IF('ASHP Equipment Information'!$D$19=\"\",\"\",'ASHP Equipment Information'!$D$19)","v":""}]
[null,{"$f":"B37+1","v":2},{"$f":"IF('ASHP Equipment Information'!$D$30=\"\",\"\",'ASHP Equipment Information'!$D$30)","v":""},null,{"$f":"IF('ASHP Equipment Information'!$D$34=\"\",\"\",'ASHP Equipment Information'!$D$34)","v":""},null,{"$f":"IF('ASHP Equipment Information'!$D$36=\"\",\"\",'ASHP Equipment Information'!$D$36)","v":""},null,{"$f":"IF('ASHP Equipment Information'!$D$38=\"\",\"\",'ASHP Equipment Information'!$D$38)","v":""}]
[null,{"$f":"B38+1","v":3},{"$f":"IF('ASHP Equipment Information'!$D$49=\"\",\"\",'ASHP Equipment Information'!$D$49)","v":""},null,{"$f":"IF('ASHP Equipment Information'!$D$53=\"\",\"\",'ASHP Equipment Information'!$D$53)","v":""},null,{"$f":"IF('ASHP Equipment Information'!$D$55=\"\",\"\",'ASHP Equipment Information'!$D$55)","v":""},null,{"$f":"IF('ASHP Equipment Information'!$D$57=\"\",\"\",'ASHP Equipment Information'!$D$57)","v":""}]
[null,4,{"$f":"IF('ASHP Equipment Information'!$D$68=\"\",\"\",'ASHP Equipment Information'!$D$68)","v":""},null,{"$f":"IF('ASHP Equipment Information'!$D$72=\"\",\"\",'ASHP Equipment Information'!$D$72)","v":""},null,{"$f":"IF('ASHP Equipment Information'!$D$74=\"\",\"\",'ASHP Equipment Information'!$D$74)","v":""},null,{"$f":"IF('ASHP Equipment Information'!$D$76=\"\",\"\",'ASHP Equipment Information'!$D$76)","v":""}]
[null,5,{"$f":"IF('ASHP Equipment Information'!$D$87=\"\",\"\",'ASHP Equipment Information'!$D$87)","v":""},null,{"$f":"IF('ASHP Equipment Information'!$D$91=\"\",\"\",'ASHP Equipment Information'!$D$91)","v":""},null,{"$f":"IF('ASHP Equipment Information'!$D$93=\"\",\"\",'ASHP Equipment Information'!$D$93)","v":""},null,{"$f":"IF('ASHP Equipment Information'!$D$95=\"\",\"\",'ASHP Equipment Information'!$D$95)","v":""}]
[null,6,{"$f":"IF('ASHP Equipment Information'!$D$106=\"\",\"\",'ASHP Equipment Information'!$D$106)","v":""},null,{"$f":"IF('ASHP Equipment Information'!$D$110=\"\",\"\",'ASHP Equipment Information'!$D$110)","v":""},null,{"$f":"IF('ASHP Equipment Information'!$D$112=\"\",\"\",'ASHP Equipment Information'!$D$112)","v":""},null,{"$f":"IF('ASHP Equipment Information'!$D$114=\"\",\"\",'ASHP Equipment Information'!$D$114)","v":""}]
[null,7,{"$f":"IF('ASHP Equipment Information'!$D$125=\"\",\"\",'ASHP Equipment Information'!$D$125)","v":""},null,{"$f":"IF('ASHP Equipment Information'!$D$129=\"\",\"\",'ASHP Equipment Information'!$D$129)","v":""},null,{"$f":"IF('ASHP Equipment Information'!$D$131=\"\",\"\",'ASHP Equipment Information'!$D$131)","v":""},null,{"$f":"IF('ASHP Equipment Information'!$D$133=\"\",\"\",'ASHP Equipment Information'!$D$133)","v":""}]
[null,8,{"$f":"IF('ASHP Equipment Information'!$D$144=\"\",\"\",'ASHP Equipment Information'!$D$144)","v":""},null,{"$f":"IF('ASHP Equipment Information'!$D$148=\"\",\"\",'ASHP Equipment Information'!$D$148)","v":""},null,{"$f":"IF('ASHP Equipment Information'!$D$150=\"\",\"\",'ASHP Equipment Information'!$D$150)","v":""},null,{"$f":"IF('ASHP Equipment Information'!$D$152=\"\",\"\",'ASHP Equipment Information'!$D$152)","v":""}]
[null,9,{"$f":"IF('ASHP Equipment Information'!$D$163=\"\",\"\",'ASHP Equipment Information'!$D$163)","v":""},null,{"$f":"IF('ASHP Equipment Information'!$D$167=\"\",\"\",'ASHP Equipment Information'!$D$167)","v":""},null,{"$f":"IF('ASHP Equipment Information'!$D$169=\"\",\"\",'ASHP Equipment Information'!$D$169)","v":""},null,{"$f":"IF('ASHP Equipment Information'!$D$171=\"\",\"\",'ASHP Equipment Information'!$D$171)","v":""}]
[null,10,{"$f":"IF('ASHP Equipment Information'!$D$182=\"\",\"\",'ASHP Equipment Information'!$D$182)","v":""},null,{"$f":"IF('ASHP Equipment Information'!$D$186=\"\",\"\",'ASHP Equipment Information'!$D$186)","v":""},null,{"$f":"IF('ASHP Equipment Information'!$D$188=\"\",\"\",'ASHP Equipment Information'!$D$188)","v":""},null,{"$f":"IF('ASHP Equipment Information'!$D$190=\"\",\"\",'ASHP Equipment Information'!$D$190)","v":""}]
[]
[]
[null,"Secondary Heating Source"]
[]
[null,"Integrated Controls"]
[null,"Unit #","Type",null,"Manufacturer",null,"Model #",null,"Serial #",null,"Matches \nInvoice"]
[null,1,{"$f":"IF('Integrated Controls'!C17=\"\",\"\",'Integrated Controls'!C17)","v":"No Fossil Fuel Heater"},null,{"$f":"IF('Integrated Controls'!E17=\"\",\"\",'Integrated Controls'!E17)","v":""},null,{"$f":"IF('Integrated Controls'!F17=\"\",\"\",'Integrated Controls'!F17)","v":""},null,{"$f":"IF('Integrated Controls'!G17=\"\",\"\",'Integrated Controls'!G17)","v":""}]
[null,2,{"$f":"IF('Integrated Controls'!C18=\"\",\"\",'Integrated Controls'!C18)","v":"No Fossil Fuel Heater"},null,{"$f":"IF('Integrated Controls'!E18=\"\",\"\",'Integrated Controls'!E18)","v":""},null,{"$f":"IF('Integrated Controls'!F18=\"\",\"\",'Integrated Controls'!F18)","v":""},null,{"$f":"IF('Integrated Controls'!G18=\"\",\"\",'Integrated Controls'!G18)","v":""}]
[]
[null,"Smart Thermostats"]
[null,"Unit #","Type",null,"Manufacturer",null,"Model #",null,"Serial #",null,"Matches \nInvoice"]
[null,1,{"$f":"IF('Smart T-Stats'!K21<>\"\",\"Smart Thermostat\",\"\")","v":""},null,{"$f":"IF($C58=\"\",\"\",'Smart T-Stats'!B21)","v":""},null,{"$f":"IF($C58=\"\",\"\",'Smart T-Stats'!D21)","v":""},null,{"$f":"IF($C58=\"\",\"\",'Smart T-Stats'!F21)","v":""}]
[null,{"$f":"B58+1","v":2},{"$f":"IF('Smart T-Stats'!K22<>\"\",\"Smart Thermostat\",\"\")","v":""},null,{"$f":"IF($C59=\"\",\"\",'Smart T-Stats'!B22)","v":""},null,{"$f":"IF($C59=\"\",\"\",'Smart T-Stats'!D22)","v":""},null,{"$f":"IF($C59=\"\",\"\",'Smart T-Stats'!F22)","v":""}]
[null,{"$f":"B59+1","v":3},{"$f":"IF('Smart T-Stats'!K23<>\"\",\"Smart Thermostat\",\"\")","v":""},null,{"$f":"IF($C60=\"\",\"\",'Smart T-Stats'!B23)","v":""},null,{"$f":"IF($C60=\"\",\"\",'Smart T-Stats'!D23)","v":""},null,{"$f":"IF($C60=\"\",\"\",'Smart T-Stats'!F23)","v":""}]
[null,4,{"$f":"IF('Smart T-Stats'!K24<>\"\",\"Smart Thermostat\",\"\")","v":""},null,{"$f":"IF($C61=\"\",\"\",'Smart T-Stats'!B24)","v":""},null,{"$f":"IF($C61=\"\",\"\",'Smart T-Stats'!D24)","v":""},null,{"$f":"IF($C61=\"\",\"\",'Smart T-Stats'!F24)","v":""}]
[null,5,{"$f":"IF('Smart T-Stats'!K25<>\"\",\"Smart Thermostat\",\"\")","v":""},null,{"$f":"IF($C62=\"\",\"\",'Smart T-Stats'!B25)","v":""},null,{"$f":"IF($C62=\"\",\"\",'Smart T-Stats'!D25)","v":""},null,{"$f":"IF($C62=\"\",\"\",'Smart T-Stats'!F25)","v":""}]
[null,6,{"$f":"IF('Smart T-Stats'!K26<>\"\",\"Smart Thermostat\",\"\")","v":""},null,{"$f":"IF($C63=\"\",\"\",'Smart T-Stats'!B26)","v":""},null,{"$f":"IF($C63=\"\",\"\",'Smart T-Stats'!D26)","v":""},null,{"$f":"IF($C63=\"\",\"\",'Smart T-Stats'!F26)","v":""}]
[null,7,{"$f":"IF('Smart T-Stats'!K27<>\"\",\"Smart Thermostat\",\"\")","v":""},null,{"$f":"IF($C64=\"\",\"\",'Smart T-Stats'!B27)","v":""},null,{"$f":"IF($C64=\"\",\"\",'Smart T-Stats'!D27)","v":""},null,{"$f":"IF($C64=\"\",\"\",'Smart T-Stats'!F27)","v":""}]
[null,8,{"$f":"IF('Smart T-Stats'!K28<>\"\",\"Smart Thermostat\",\"\")","v":""},null,{"$f":"IF($C65=\"\",\"\",'Smart T-Stats'!B28)","v":""},null,{"$f":"IF($C65=\"\",\"\",'Smart T-Stats'!D28)","v":""},null,{"$f":"IF($C65=\"\",\"\",'Smart T-Stats'!F28)","v":""}]
[null,9,{"$f":"IF('Smart T-Stats'!K29<>\"\",\"Smart Thermostat\",\"\")","v":""},null,{"$f":"IF($C66=\"\",\"\",'Smart T-Stats'!B29)","v":""},null,{"$f":"IF($C66=\"\",\"\",'Smart T-Stats'!D29)","v":""},null,{"$f":"IF($C66=\"\",\"\",'Smart T-Stats'!F29)","v":""}]
[null,10,{"$f":"IF('Smart T-Stats'!K30<>\"\",\"Smart Thermostat\",\"\")","v":""},null,{"$f":"IF($C67=\"\",\"\",'Smart T-Stats'!B30)","v":""},null,{"$f":"IF($C67=\"\",\"\",'Smart T-Stats'!D30)","v":""},null,{"$f":"IF($C67=\"\",\"\",'Smart T-Stats'!F30)","v":""}]
[null,11,{"$f":"IF('Smart T-Stats'!B32<>\"\",\"Other Control\",\"\")","v":""},null,{"$f":"IF($C68=\"\",\"\",'Smart T-Stats'!B32)","v":""},null,{"$f":"IF($C68=\"\",\"\",'Smart T-Stats'!D32)","v":""},null,{"$f":"IF($C68=\"\",\"\",'Smart T-Stats'!F32)","v":""}]
[]
[null,"Water Heating"]
[null,"Type",null,null,"Manufacturer",null,"Model #",null,"Serial #",null,"Matches \nInvoice"]
[null,{"$f":"IF('Water Heating Worksheet'!$D$21=\"\",\"\",'Water Heating Worksheet'!$D$21)","v":"Heat Pump Water Heater > 55 Gallons"},null,null,{"$f":"IF('Water Heating Worksheet'!$D$25=\"\",\"\",'Water Heating Worksheet'!$D$25)","v":""},null,{"$f":"IF('Water Heating Worksheet'!$G$25=\"\",\"\",'Water Heating Worksheet'!$G$25)","v":""},null,{"$f":"IF('Water Heating Worksheet'!$G$27=\"\",\"\",'Water Heating Worksheet'!$G$27)","v":""}]
[]
[null,"Inspection Analysis"]
[null,null,null,null,"Fail Reason*:"]
[]
[null,"ACCA Manual J (Total Tons):",null,{"$f":"IF(References!A15,IF(SUM(C80:D89)<=0,\"\",SUM(C80:D89)/12000),\"N/A\")","v":""}]
[]
[null,null,"ACCA Manual J (BTU)",null,"AHRI Certificate Number:",null,"AHRI Ratings:"]
[null,"Unit 1",{"$f":"IF(OR(References!$A$15,'ASHP Load Calculations'!D13=\"\"),IF('ASHP Load Calculations'!D17=\"\",\"\",'ASHP Load Calculations'!D17),\"N/A\")","v":""},null,{"$f":"IF('ASHP Equipment Information'!G15=\"\",\"\",'ASHP Equipment Information'!G15)","v":""},null,{"$f":"IF('ASHP Equipment Information'!D11=\"\",\"\",IF('ASHP Equipment Information'!G25=\"\",'ASHP Equipment Information'!G21&\" SEER / \"&'ASHP Equipment Information'!G23&\" EER\",IF('ASHP Equipment Information'!D11=\"Packaged Terminal Heat Pump\",'ASHP Equipment Information'!G21&\" SEER / \"&'ASHP Equipment Information'!G23&\" EER / \"&'ASHP Equipment Information'!G25&\" COP\",'ASHP Equipment Information'!G21&\" SEER / \"&'ASHP Equipment Information'!G23&\" EER / \"&'ASHP Equipment Information'!G25&\" HSPF\")))","v":""},null,null,{"$f":"((MID(B80,SEARCH(\" \",B80,1)+1,LEN(B80)-SEARCH(\" \",B80,1))-1)*5+ROW('ASHP Equipment Information'!$B$10))","v":10}]
[null,"Unit 2",{"$f":"IF(OR(References!$A$15,'ASHP Load Calculations'!D26=\"\"),IF('ASHP Load Calculations'!D30=\"\",\"\",'ASHP Load Calculations'!D30),\"N/A\")","v":""},null,{"$f":"IF('ASHP Equipment Information'!G34=\"\",\"\",'ASHP Equipment Information'!G34)","v":""},null,{"$f":"IF('ASHP Equipment Information'!D30=\"\",\"\",IF('ASHP Equipment Information'!G44=\"\",'ASHP Equipment Information'!G40&\" SEER / \"&'ASHP Equipment Information'!G42&\" EER\",IF('ASHP Equipment Information'!D30=\"Packaged Terminal Heat Pump\",'ASHP Equipment Information'!G40&\" SEER / \"&'ASHP Equipment Information'!G42&\" EER / \"&'ASHP Equipment Information'!G44&\" COP\",'ASHP Equipment Information'!G40&\" SEER / \"&'ASHP Equipment Information'!G42&\" EER / \"&'ASHP Equipment Information'!G44&\" HSPF\")))","v":""},null,null,{"$f":"((MID(B81,SEARCH(\" \",B81,1)+1,LEN(B81)-SEARCH(\" \",B81,1))-1)*5+ROW('ASHP Equipment Information'!$B$10))","v":15}]
[null,"Unit 3",{"$f":"IF(OR(References!$A$15,'ASHP Load Calculations'!D39=\"\"),IF('ASHP Load Calculations'!D43=\"\",\"\",'ASHP Load Calculations'!D43),\"N/A\")","v":""},null,{"$f":"IF('ASHP Equipment Information'!G53=\"\",\"\",'ASHP Equipment Information'!G53)","v":""},null,{"$f":"IF('ASHP Equipment Information'!D49=\"\",\"\",IF('ASHP Equipment Information'!G63=\"\",'ASHP Equipment Information'!G59&\" SEER / \"&'ASHP Equipment Information'!G61&\" EER\",IF('ASHP Equipment Information'!D49=\"Packaged Terminal Heat Pump\",'ASHP Equipment Information'!G59&\" SEER / \"&'ASHP Equipment Information'!G61&\" EER / \"&'ASHP Equipment Information'!G63&\" COP\",'ASHP Equipment Information'!G59&\" SEER / \"&'ASHP Equipment Information'!G61&\" EER / \"&'ASHP Equipment Information'!G63&\" HSPF\")))","v":""},null,null,{"$f":"((MID(B82,SEARCH(\" \",B82,1)+1,LEN(B82)-SEARCH(\" \",B82,1))-1)*5+ROW('ASHP Equipment Information'!$B$10))","v":20}]
[null,"Unit 4 ",{"$f":"IF(OR(References!$A$15,'ASHP Load Calculations'!D52=\"\"),IF('ASHP Load Calculations'!D56=\"\",\"\",'ASHP Load Calculations'!D56),\"N/A\")","v":""},null,{"$f":"IF('ASHP Equipment Information'!G72=\"\",\"\",'ASHP Equipment Information'!G72)","v":""},null,{"$f":"IF('ASHP Equipment Information'!D68=\"\",\"\",IF('ASHP Equipment Information'!G82=\"\",'ASHP Equipment Information'!G78&\" SEER / \"&'ASHP Equipment Information'!G80&\" EER\",IF('ASHP Equipment Information'!D68=\"Packaged Terminal Heat Pump\",'ASHP Equipment Information'!G78&\" SEER / \"&'ASHP Equipment Information'!G80&\" EER / \"&'ASHP Equipment Information'!G82&\" COP\",'ASHP Equipment Information'!G78&\" SEER / \"&'ASHP Equipment Information'!G80&\" EER / \"&'ASHP Equipment Information'!G82&\" HSPF\")))","v":""},null,null,{"$f":"((MID(B83,SEARCH(\" \",B83,1)+1,LEN(B83)-SEARCH(\" \",B83,1))-1)*5+ROW('ASHP Equipment Information'!$B$10))","v":25}]
[null,"Unit 5",{"$f":"IF(OR(References!$A$15,'ASHP Load Calculations'!D65=\"\"),IF('ASHP Load Calculations'!D69=\"\",\"\",'ASHP Load Calculations'!D69),\"N/A\")","v":""},null,{"$f":"IF('ASHP Equipment Information'!G91=\"\",\"\",'ASHP Equipment Information'!G91)","v":""},null,{"$f":"IF('ASHP Equipment Information'!D87=\"\",\"\",IF('ASHP Equipment Information'!G101=\"\",'ASHP Equipment Information'!G97&\" SEER / \"&'ASHP Equipment Information'!G99&\" EER\",IF('ASHP Equipment Information'!D87=\"Packaged Terminal Heat Pump\",'ASHP Equipment Information'!G97&\" SEER / \"&'ASHP Equipment Information'!G99&\" EER / \"&'ASHP Equipment Information'!G101&\" COP\",'ASHP Equipment Information'!G97&\" SEER / \"&'ASHP Equipment Information'!G99&\" EER / \"&'ASHP Equipment Information'!G101&\" HSPF\")))","v":""},null,null,{"$f":"((MID(B84,SEARCH(\" \",B84,1)+1,LEN(B84)-SEARCH(\" \",B84,1))-1)*5+ROW('ASHP Equipment Information'!$B$10))","v":30}]
[null,"Unit 6",{"$f":"IF(OR(References!$A$15,'ASHP Load Calculations'!D78=\"\"),IF('ASHP Load Calculations'!D82=\"\",\"\",'ASHP Load Calculations'!D82),\"N/A\")","v":""},null,{"$f":"IF('ASHP Equipment Information'!G110=\"\",\"\",'ASHP Equipment Information'!G110)","v":""},null,{"$f":"IF('ASHP Equipment Information'!D106=\"\",\"\",IF('ASHP Equipment Information'!G120=\"\",'ASHP Equipment Information'!G116&\" SEER / \"&'ASHP Equipment Information'!G118&\" EER\",IF('ASHP Equipment Information'!D106=\"Packaged Terminal Heat Pump\",'ASHP Equipment Information'!G116&\" SEER / \"&'ASHP Equipment Information'!G118&\" EER / \"&'ASHP Equipment Information'!G120&\" COP\",'ASHP Equipment Information'!G116&\" SEER / \"&'ASHP Equipment Information'!G118&\" EER / \"&'ASHP Equipment Information'!G120&\" HSPF\")))","v":""},null,null,{"$f":"((MID(B85,SEARCH(\" \",B85,1)+1,LEN(B85)-SEARCH(\" \",B85,1))-1)*5+ROW('ASHP Equipment Information'!$B$10))","v":35}]
[null,"Unit 7",{"$f":"IF(OR(References!$A$15,'ASHP Load Calculations'!D91=\"\"),IF('ASHP Load Calculations'!D95=\"\",\"\",'ASHP Load Calculations'!D95),\"N/A\")","v":""},null,{"$f":"IF('ASHP Equipment Information'!G129=\"\",\"\",'ASHP Equipment Information'!G129)","v":""},null,{"$f":"IF('ASHP Equipment Information'!D125=\"\",\"\",IF('ASHP Equipment Information'!G139=\"\",'ASHP Equipment Information'!G135&\" SEER / \"&'ASHP Equipment Information'!G137&\" EER\",IF('ASHP Equipment Information'!D125=\"Packaged Terminal Heat Pump\",'ASHP Equipment Information'!G135&\" SEER / \"&'ASHP Equipment Information'!G137&\" EER / \"&'ASHP Equipment Information'!G139&\" COP\",'ASHP Equipment Information'!G135&\" SEER / \"&'ASHP Equipment Information'!G137&\" EER / \"&'ASHP Equipment Information'!G139&\" HSPF\")))","v":""},null,null,{"$f":"((MID(B86,SEARCH(\" \",B86,1)+1,LEN(B86)-SEARCH(\" \",B86,1))-1)*5+ROW('ASHP Equipment Information'!$B$10))","v":40}]
[null,"Unit 8",{"$f":"IF(OR(References!$A$15,'ASHP Load Calculations'!D104=\"\"),IF('ASHP Load Calculations'!D108=\"\",\"\",'ASHP Load Calculations'!D108),\"N/A\")","v":""},null,{"$f":"IF('ASHP Equipment Information'!G148=\"\",\"\",'ASHP Equipment Information'!G148)","v":""},null,{"$f":"IF('ASHP Equipment Information'!D144=\"\",\"\",IF('ASHP Equipment Information'!G158=\"\",'ASHP Equipment Information'!G154&\" SEER / \"&'ASHP Equipment Information'!G156&\" EER\",IF('ASHP Equipment Information'!D144=\"Packaged Terminal Heat Pump\",'ASHP Equipment Information'!G154&\" SEER / \"&'ASHP Equipment Information'!G156&\" EER / \"&'ASHP Equipment Information'!G158&\" COP\",'ASHP Equipment Information'!G154&\" SEER / \"&'ASHP Equipment Information'!G156&\" EER / \"&'ASHP Equipment Information'!G158&\" HSPF\")))","v":""},null,null,{"$f":"((MID(B87,SEARCH(\" \",B87,1)+1,LEN(B87)-SEARCH(\" \",B87,1))-1)*5+ROW('ASHP Equipment Information'!$B$10))","v":45}]
[null,"Unit 9",{"$f":"IF(OR(References!$A$15,'ASHP Load Calculations'!D117=\"\"),IF('ASHP Load Calculations'!D121=\"\",\"\",'ASHP Load Calculations'!D121),\"N/A\")","v":""},null,{"$f":"IF('ASHP Equipment Information'!G167=\"\",\"\",'ASHP Equipment Information'!G167)","v":""},null,{"$f":"IF('ASHP Equipment Information'!D163=\"\",\"\",IF('ASHP Equipment Information'!G177=\"\",'ASHP Equipment Information'!G173&\" SEER / \"&'ASHP Equipment Information'!G175&\" EER\",IF('ASHP Equipment Information'!D163=\"Packaged Terminal Heat Pump\",'ASHP Equipment Information'!G173&\" SEER / \"&'ASHP Equipment Information'!G175&\" EER / \"&'ASHP Equipment Information'!G177&\" COP\",'ASHP Equipment Information'!G173&\" SEER / \"&'ASHP Equipment Information'!G175&\" EER / \"&'ASHP Equipment Information'!G177&\" HSPF\")))","v":""},null,null,{"$f":"((MID(B88,SEARCH(\" \",B88,1)+1,LEN(B88)-SEARCH(\" \",B88,1))-1)*5+ROW('ASHP Equipment Information'!$B$10))","v":50}]
[null,"Unit 10",{"$f":"IF(OR(References!$A$15,'ASHP Load Calculations'!D130=\"\"),IF('ASHP Load Calculations'!D134=\"\",\"\",'ASHP Load Calculations'!D134),\"N/A\")","v":""},null,{"$f":"IF('ASHP Equipment Information'!G186=\"\",\"\",'ASHP Equipment Information'!G186)","v":""},null,{"$f":"IF('ASHP Equipment Information'!D182=\"\",\"\",IF('ASHP Equipment Information'!G196=\"\",'ASHP Equipment Information'!G192&\" SEER / \"&'ASHP Equipment Information'!G194&\" EER\",IF('ASHP Equipment Information'!D182=\"Packaged Terminal Heat Pump\",'ASHP Equipment Information'!G192&\" SEER / \"&'ASHP Equipment Information'!G194&\" EER / \"&'ASHP Equipment Information'!G196&\" COP\",'ASHP Equipment Information'!G192&\" SEER / \"&'ASHP Equipment Information'!G194&\" EER / \"&'ASHP Equipment Information'!G196&\" HSPF\")))","v":""},null,null,{"$f":"((MID(B89,SEARCH(\" \",B89,1)+1,LEN(B89)-SEARCH(\" \",B89,1))-1)*5+ROW('ASHP Equipment Information'!$B$10))","v":55}]
[]
[null,"Notes:"]
[]
[]
[]
[null,"Customer Signature:",null,null,null,null,null,null,null,"Date:"]
[]
[null,"Inspector Signature:",null,null,null,null,null,null,null,"Date:"]

{"sheet":"Qualifying_Index","index":28,"n_rows":174,"n_cols":92,"rows_kept":174,"cut":false,"hidden":true,"merged":[[24,3,25,3],[24,18,25,18],[24,20,24,22],[74,29,74,30],[78,46,79,46],[24,37,24,38],[24,41,25,41],[24,42,25,42],[24,46,24,49],[25,37,25,38],[25,43,25,44],[25,45,25,46],[41,2,41,3],[42,2,42,3],[43,2,43,3],[24,23,24,25],[78,48,79,48],[68,42,69,42],[78,42,79,42],[78,43,79,43],[78,45,79,45],[78,44,79,44],[68,43,69,43],[78,25,78,38],[24,19,25,19],[24,26,24,27],[24,28,24,29],[24,30,24,32],[71,29,71,30],[72,29,72,30],[24,39,25,39],[24,76,25,76],[24,78,24,91],[24,66,24,70],[24,72,25,72],[24,73,25,73],[24,75,25,75],[68,47,69,47],[68,46,69,46],[45,2,45,3],[46,2,46,3],[47,2,47,3],[48,2,48,3],[44,2,44,3],[68,51,69,51],[69,29,69,30],[56,2,56,3],[49,2,49,3],[50,2,50,3],[68,49,69,49],[68,50,69,50],[68,48,69,48],[68,44,69,44],[68,45,69,45],[55,2,55,3],[68,1,68,20],[68,22,69,22],[57,2,57,3],[58,2,58,3],[59,2,59,3],[60,2,60,3],[61,2,61,3],[62,2,62,3],[118,0,119,0],[118,1,118,2],[118,3,118,4],[118,5,118,6],[118,7,118,8],[118,13,118,16],[84,22,85,22],[113,1,113,3],[109,1,109,3],[108,1,108,3],[110,1,110,3],[111,1,111,3],[112,1,112,3],[101,1,101,3],[102,1,102,3],[103,1,103,3],[134,10,135,10],[134,12,135,12],[136,1,136,2],[136,3,136,4],[136,5,136,6],[136,7,136,8],[134,0,135,0],[134,1,135,2],[134,3,135,4],[134,5,135,6],[134,7,135,8],[137,1,137,2],[137,3,137,4],[137,5,137,6],[137,7,137,8],[138,1,138,2],[138,3,138,4],[138,5,138,6],[138,7,138,8],[134,9,135,9],[141,7,141,8],[142,1,142,2],[142,3,142,4],[142,5,142,6],[142,7,142,8],[139,1,139,2],[139,3,139,4],[139,5,139,6],[139,7,139,8],[140,1,140,2],[140,3,140,4],[140,5,140,6],[140,7,140,8],[162,16,162,26],[163,25,173,25],[149,41,149,42],[149,44,149,50],[149,52,149,54],[149,56,149,58],[149,60,149,70],[149,16,149,20],[149,21,149,25],[149,26,149,27],[149,28,149,32],[149,33,149,37],[134,13,134,15],[150,69,160,69],[84,23,85,23],[73,29,73,30],[78,47,79,47],[78,22,79,22],[78,1,78,20],[84,1,84,20],[145,1,145,2],[145,3,145,4],[145,5,145,6],[145,7,145,8],[149,9,149,15],[143,1,143,2],[143,3,143,4],[143,5,143,6],[143,7,143,8],[144,1,144,2],[144,3,144,4],[144,5,144,6],[144,7,144,8],[141,1,141,2],[141,3,141,4],[141,5,141,6],[63,2,63,3],[64,2,64,3],[118,25,118,29],[118,31,118,32],[119,19,119,20],[119,21,119,22],[119,23,119,24],[75,29,75,30],[70,29,70,30],[118,9,118,10],[118,12,119,12],[118,18,119,18],[118,19,118,24]]}
[]
[]
[]
[]
[]
[]
[]
[]
[]
[]
[]
[]
[]
[]
[]
[]
[]
[]
[]
[]
[]
[]
[]
["Worksheet tab- ASHP"]
[null,"Cold Climate ","New or Retrofit","Whole House Scenario?","New Equipment + Tier",null,"Baseline",null,null,null,null,null,null,null,null,null,null,null,"AHRI Cooling","AHRI Heating","Proposed",null,null,"SEER",null,null,"EER",null,"COP/HSPF",null,"Tier Requirements",null,null,null,"Incentives",null,null,"Contractor Incentive",null,"AEH Bonus ",null,"Manual J Btu Cooling","Manual J Btu Heating","Manual J btu Range",null,null,"Pass/Fail",null,null,null,null,null,"Actual Sizing","TRM Sizing",null,null,null,null,null,null,null,null,null,null,"Missing Info Look Ups",null,"QI Savings Calculations",null,null,null,null,null,"Named range","Conditional Formatting",null,"Cooling Hours","Heating Hours",null,"Savings and Beneficial Electrification Calculation"]
["Unit Number","Lookup",null,null,null,null,"Cooling Type","Heating Type","EER","SEER","F HSPF","COPseason, baseline","AFUE","EE Saving %","BE Savings %","Displacement","CO2 Baseline",null,null,null,"SEER","EER","HSPF","Tier I","Tier II","Tier III","Tier I","Tier II","Tier I","Tier II","SEER","EER","COP/HSPF",null,"LMI Y/N","Customer ","Contractor ","Logic",null,null,null,null,null,"Cooling",null,"Heating",null,"Cooling","Heating","Final",null,"Integrated Control","Ratio","Ratio","Look Up type","a","b","c","d","EER season,ee","COP season,ee","F load cooling","F load heating",null,"PTHP","QIV","EO","kW C&A","kW RS","Cooling kWh","Heating kWh",null,null,null,null,null,null,null,"Cooling kW Savings","Cooling kWh Savings","Cooling MMBTU Savings","Cooling CO2 savings (lbs)","Heating kW Savings","Heating kWh Savings","Heating BE kW","Heating BE kWh","Heating MMBTU Savings (kWh)","Heating MMBTU Savings (fuel)","Heating MMBTU Savings Total","Heating kWh CO2 Savings (lbs)","Heating ff CO2 Savings (lbs)","Heating CO2 Savings (lbs)"]
[1,{"$f":"IF(OR('ASHP Equipment Information'!D11=\"Ducted ccASHP\",'ASHP Equipment Information'!D11=\"Ductless Mini Split - ccASHP\",'ASHP Equipment Information'!D11=\"Ductless Multi Split - ccASHP\"),\"Cold Climate\",\"\")","v":""},{"$f":"IF(References!$C$21=TRUE,\"Whole House\",IF(RIGHT(References!$H$36,2)=\"HP\",\"Retrofit\",\"New\"))","v":"New"},{"$f":"IF(References!$C$21<>TRUE,\"\",IF(References!$A$21=2,1,IF(AND('Site Information'!$C$18<>\"Central Air Conditioner\",'Site Information'!$C$18<>\"Ducted Air Source HP\",LEFT(H27,3)=\"Oil\"),2,3)))","v":""},{"$f":"C27&\" \"&'ASHP Equipment Information'!D11&\" \"&'ASHP Load Calculations'!G17&D27","v":"New  "},null,{"$f":"IF(References!$A$21=2,\"New Construction\",IF('ASHP Equipment Information'!G11=References!$Q$86,IF(OR('Site Information'!$C$24=\"\",'Site Information'!$C$24=\"Select…\"),\"None\",'Site Information'!$C$24),IF(OR('Site Information'!$C$18=\"\",'Site Information'!$C$18=\"Select…\"),\"None\",'Site Information'!$C$18)))","v":"None"},{"$f":"IF(References!$A$21=2,\"New Construction\",IF('ASHP Equipment Information'!G11=References!$Q$86,IF(OR('Site Information'!$C$22=\"\",'Site Information'!$C$22=\"Select…\"),\"None\",'Site Information'!$C$22),IF(OR('Site Information'!$C$16=\"\",'Site Information'!$C$16=\"Select…\"),\"None\",'Site Information'!$C$16)))","v":"None"},{"$f":"IF(G27=0,0,IF(OR(G27=\"None\",G27=\"New Construction\"),INDEX(References!$K$8:$K$16,MATCH(G27,References!$J$8:$J$16,0)),IF('ASHP Equipment Information'!$G11=References!$Q$86,IF('Site Information'!$J$47=\"\",INDEX(References!$K$8:$K$16,MATCH(G27,References!$J$8:$J$16,0)),'Site Information'!$J$47),IF('Site Information'!$J$35=\"\",INDEX(References!$K$8:$K$16,MATCH(G27,References!$J$8:$J$16,0)),'Site Information'!$J$35))))","v":12.3},{"$f":"IF(G27=0,0,IF(OR(G27=\"None\",G27=\"New Construction\"),INDEX(References!$L$8:$L$16,MATCH(G27,References!$J$8:$J$16,0)),IF('ASHP Equipment Information'!$G11=References!$Q$86,IF('Site Information'!$J$45=\"\",INDEX(References!$L$8:$L$16,MATCH(G27,References!$J$8:$J$16,0)),'Site Information'!$J$45),IF('Site Information'!$J$33=\"\",INDEX(References!$L$8:$L$16,MATCH(G27,References!$J$8:$J$16,0)),'Site Information'!$J$33))))","v":15},{"$f":"IF(H27=\"Electric ASHP\",IF('ASHP Equipment Information'!$G11=References!$Q$86,IF('Site Information'!$C$45<8.5,References!$I$51,References!$I$52),IF('Site Information'!$C$33<8.5,References!$I$51,References!$I$52)),0)","v":0},{"$f":"IF(H27=0,0,IF(OR(H27=\"None\",H27=\"New Construction\"),INDEX(References!$L$20:$L$36,MATCH(H27,References!$H$20:$H$36,0)),IF('ASHP Equipment Information'!G11=References!$Q$86,IF(AND('Site Information'!$C$45=\"\",'Site Information'!$C$47=\"\"),INDEX(References!$L$20:$L$36,MATCH(H27,References!$H$20:$H$36,0)),IF(H27=\"Electric ASHP\",'Site Information'!$C$45*K27/3.412,'Site Information'!$C$47)),IF(AND('Site Information'!$C$33,'Site Information'!$C$35=\"\"),INDEX(References!$L$20:$L$36,MATCH(H27,References!$H$20:$H$36,0)),IF(H27=\"Electric ASHP\",'Site Information'!$C$33*K27/3.412,'Site Information'!$C$35)))))","v":0},{"$f":"IF(H27=0,0,IF(OR(H27=\"None\",H27=\"New Construction\"),INDEX(References!$M$20:$M$36,MATCH(H27,References!$H$20:$H$36,0)),IF('ASHP Equipment Information'!G11=References!$Q$86,IF('Site Information'!$C$49=\"\",INDEX(References!$M$20:$M$36,MATCH(H27,References!$H$20:$H$36,0)),'Site Information'!$C$49),IF('Site Information'!$C$37=\"\",INDEX(References!$M$20:$M$36,MATCH(H27,References!$H$20:$H$36,0)),'Site Information'!$C$37))))","v":0},{"$f":"IF(H27=0,0,INDEX(References!$I$20:$I$36,MATCH(H27,References!$H$20:$H$36,0)))","v":0.03},{"$f":"IF(H27=0,0,INDEX(References!$J$20:$J$36,MATCH(H27,References!$H$20:$H$36,0)))","v":0.97},{"$f":"IF(H27=0,0,INDEX(References!$N$20:$N$36,MATCH(H27,References!$H$20:$H$36,0)))","v":0.8},{"$f":"IF(H27=0,0,INDEX(References!$O$20:$O$36,MATCH(H27,References!$H$20:$H$36,0)))","v":0},null,{"$f":"IF('ASHP Equipment Information'!G15=\"\",\"\",'ASHP Equipment Information'!G15)","v":""},{"$f":"IF('ASHP Equipment Information'!G17=\"\",\"\",'ASHP Equipment Information'!G17)","v":""},{"$f":"IF('ASHP Equipment Information'!G21=\"\",\"\",IF('ASHP Equipment Information'!F21=\"SEER:\",'ASHP Equipment Information'!G21,ROUND(1.2476*'ASHP Equipment Information'!G21-2.867,1)))","v":""},{"$f":"IF('ASHP Equipment Information'!G23=\"\",\"\",IF('ASHP Equipment Information'!F23=\"EER:\",'ASHP Equipment Information'!G23,ROUND(1.0578*'ASHP Equipment Information'!G23-0.1769,1)))","v":""},{"$f":"IF('ASHP Equipment Information'!G25=\"\",\"\",IF('ASHP Equipment Information'!F25=\"HSPF:\",'ASHP Equipment Information'!G25,ROUND(1.1702*'ASHP Equipment Information'!G25+0.07,1)))","v":""},{"$f":"IF('ASHP Equipment Information'!D11=\"\",\"\",INDEX(References!$T$7:$T$19,MATCH('ASHP Equipment Information'!$D11,References!$S$7:$S$19,0)))","v":""},{"$f":"IF('ASHP Equipment Information'!D11=\"\",\"\",INDEX(References!$U$7:$U$19,MATCH('ASHP Equipment Information'!$D11,References!$S$7:$S$19,0)))","v":""},{"$f":"IF('ASHP Equipment Information'!D11=\"\",\"\",INDEX(References!$V$7:$V$19,MATCH('ASHP Equipment Information'!$D11,References!$S$7:$S$19,0)))","v":""},{"$f":"IF('ASHP Equipment Information'!D11=\"\",\"\",INDEX(References!$Y$7:$Y$19,MATCH('ASHP Equipment Information'!$D11,References!$S$7:$S$19,0)))","v":""},{"$f":"IF('ASHP Equipment Information'!D11=\"\",\"\",INDEX(References!$Z$7:$Z$19,MATCH('ASHP Equipment Information'!$D11,References!$S$7:$S$19,0)))","v":""},{"$f":"IF('ASHP Equipment Information'!D11=\"\",\"\",INDEX(References!$W$7:$W$19,MATCH('ASHP Equipment Information'!$D11,References!$S$7:$S$19,0)))","v":""},{"$f":"IF('ASHP Equipment Information'!D11=\"\",\"\",INDEX(References!$X$7:$X$19,MATCH('ASHP Equipment Information'!$D11,References!$S$7:$S$19,0)))","v":""},{"$f":"IF(OR(U27=\"\",BU27=\"PTHP\"),\"\",IF(AND(U27<X27,U27<Y27),\"DNQ\",IF(U27>=Z27,\"Tier III\",IF(U27>=Y27,\"Tier II\",\"Tier I\"))))","v":""},{"$f":"IF(V27=\"\",\"\",IF(AND(BU27=\"PTHP\",V27<AA27),\"DNQ\",AE27))","v":""},{"$f":"IF('ASHP Equipment Information'!G25=\"\",\"\",IF(AC27=0,\"\",IF(AND(W27<AC27,W27<AD27),\"DNQ\",IF(W27>=AD27,\"Tier II\",\"Tier I\"))))","v":""},{"$f":"IF(OR(AE27=\"DNQ\",AF27=\"DNQ\",AG27=\"DNQ\",'ASHP Load Calculations'!D19=\"FAIL\"),\"DNQ\",IF(OR(AE27=\"Tier I\",AG27=\"Tier I\"),\"Tier I\",IF(OR(AE27=\"Tier II\",AG27=\"Tier II\"),\"Tier II\",\"Tier III\")))","v":"Tier III"},{"$f":"References!$C$15","v":""},{"$f":"IF('ASHP Equipment Information'!D11=\"\",\"\",IF(AH27=\"DNQ\",\"DNQ\",INDEX(IF(AI27=\"Income Eligible \",References!$AK$3:$AK$36,References!$AJ$3:$AJ$36),MATCH(E27,References!$AE$3:$AE$36,0))*('ASHP Equipment Information'!G19/12000)))","v":""},{"$f":"IF('ASHP Equipment Information'!D11=\"\",\"\",IF(AJ27=\"DNQ\",0,INDEX(References!$AL$3:$AL$36,MATCH(Qualifying_Index!E27,References!$AE$3:$AE$36,0))))","v":""},{"$f":"IF(AND(AK27>0,AK27<>\"\"),1,2)","v":2},{"$f":"AK27","v":""},{"$f":"IF(AJ27=\"\",\"\",AJ27*References!$BX$23)","v":""},null,{"$f":"'ASHP Load Calculations'!D15","v":0},{"$f":"'ASHP Load Calculations'!D17","v":0},{"$f":"(('ASHP Equipment Information'!G15*0.65))","v":0},{"$f":"(('ASHP Equipment Information'!G15*1.35))","v":0},{"$f":"IF(T27=\"\",0,IF(References!$C$21=TRUE,(AQ27*0.9),T27*0.65))","v":0},{"$f":"IF(T27=\"\",0,IF(References!$C$21=TRUE,(AQ27*1.2),T27*1.35))","v":0},{"$f":"IF(AND('ASHP Load Calculations'!D15>=Qualifying_Index!AR27,'ASHP Load Calculations'!D15<=Qualifying_Index!AS27),\"PASS\",\"FAIL\")","v":"PASS"},{"$f":"IF(OR(AT27=0,AU27=0),\"FAIL\",IF(AND(IF(References!$C$21=TRUE,T27,AQ27)>=AT27,IF(References!$C$21=TRUE,T27,AQ27)<=AU27),\"PASS\",\"FAIL\"))","v":"FAIL"},{"$f":"IF(References!$C$21=TRUE,IF(AND('ASHP Load Calculations'!D15=\"\",'ASHP Load Calculations'!D17=\"\"),\"Missing Info\",IF(AW27=\"PASS\",\"PASS\",\"FAIL\")),IF(AND('ASHP Load Calculations'!D15=\"\",'ASHP Load Calculations'!D17=\"\",LEFT('ASHP Equipment Information'!D11,6)=\"Ducted\",B27=\"Cold Climate\"),\"Missing Info\",IF(OR(AV27=\"PASS\",AW27=\"PASS\",AND(LEFT('ASHP Equipment Information'!D11,6)<>\"Ducted\",B27<>\"Cold Climate\")),\"PASS\",\"FAIL\")))","v":"PASS"},null,{"$f":"IF(B27=\"\",\"\",IF(B27=\"Cold Climate\",_xlfn.IFNA(IF(INDEX('Integrated Controls'!$C$17:$C$18,MATCH('ASHP Load Calculations'!$G$13,'Integrated Controls'!$B$17:$B$18,0))=0,\"Separate Control\",INDEX('Integrated Controls'!$C$17:$C$18,MATCH('ASHP Load Calculations'!$G$13,'Integrated Controls'!$B$17:$B$18,0))),\"Separate Control\"),\"\"))","v":""},{"$f":"IF(AQ27=0,\"\",T27/AQ27)","v":""},{"$f":"IF(AZ27=\"\",\"\",IF(AZ27=\"No Fossil Fuel Heater\",1,IF(AZ27=\"Integrated/Modulating Control\",IF(ROUND(BA27,1)>1,1,ROUND(BA27,1)),IF(LEFT('ASHP Equipment Information'!D11,6)=\"Ducted\",0.9,IF(BA27>=0.65,0.7,IF(BA27>=0.55,0.6,IF(BA27>=0.45,0.5,IF(BA27>=0.35,0.4,0.3))))))))","v":""},{"$f":"IF(B27=\"\",\"\",IF(B27=\"Cold Climate\",'ASHP Equipment Information'!D11&\" \"&AZ27&\" \"&BB27,\"\"))","v":""},{"$f":"IF($BC27=\"\",\"\",INDEX(References!AJ$74:AJ$129,MATCH($BC27,References!$AH$74:$AH$129,0)))","v":""},{"$f":"IF($BC27=\"\",\"\",INDEX(References!AK$74:AK$129,MATCH($BC27,References!$AH$74:$AH$129,0)))","v":""},{"$f":"IF($BC27=\"\",\"\",INDEX(References!AL$74:AL$129,MATCH($BC27,References!$AH$74:$AH$129,0)))","v":""},{"$f":"IF($BC27=\"\",\"\",INDEX(References!AM$74:AM$129,MATCH($BC27,References!$AH$74:$AH$129,0)))","v":""},{"$f":"IF(BC27=\"\",\"\",BF27+BG27*U27)","v":""},{"$f":"IF(BC27=\"\",\"\",BD27+BE27*W27/References!$E$12)","v":""},{"$f":"IF($BC27=\"\",\"\",INDEX(References!AN$74:AN$129,MATCH($BC27,References!$AH$74:$AH$129,0)))","v":""},{"$f":"IF($BC27=\"\",\"\",INDEX(References!AO$74:AO$129,MATCH($BC27,References!$AH$74:$AH$129,0)))","v":""},null,{"$f":"IF(OR('ASHP Equipment Information'!G17=\"\",'ASHP Equipment Information'!G15=\"\",'ASHP Equipment Information'!G23=\"\",'ASHP Equipment Information'!G25=\"\",'ASHP Equipment Information'!D15=\"\",'ASHP Equipment Information'!D17=\"\",'ASHP Equipment Information'!D19=\"\",'ASHP Equipment Information'!D21=\"\",'ASHP Equipment Information'!D23=\"\",'ASHP Equipment Information'!D25=\"\"),\"Missing Info\",\"\")","v":"Missing Info"},{"$f":"IF(AND(BV27=1,'ASHP Equipment Information'!G25=\"\"),\"Missing Info\",IF(BU27=\"PTHP\",BM27,IF(OR('ASHP Equipment Information'!G17=\"\",'ASHP Equipment Information'!G15=\"\",'ASHP Equipment Information'!G21=\"\",'ASHP Equipment Information'!G23=\"\",'ASHP Equipment Information'!D15=\"\",'ASHP Equipment Information'!D17=\"\",'ASHP Equipment Information'!D19=\"\",'ASHP Equipment Information'!D23=\"\",'ASHP Equipment Information'!D25=\"\",AX27=\"Missing Info\"),\"Missing Info\",\"\")))","v":"Missing Info"},{"$f":"IF(AND(BV27=1,'ASHP Equipment Information'!G25=\"\"),\"Missing Info\",IF(BU27=\"PTHP\",BM27,IF(OR('ASHP Equipment Information'!D15=\"\",'ASHP Equipment Information'!D17=\"\",'ASHP Equipment Information'!D19=\"\",'ASHP Equipment Information'!D23=\"\",'ASHP Equipment Information'!D25=\"\",'ASHP Equipment Information'!G17=\"\",'ASHP Equipment Information'!G15=\"\",'ASHP Equipment Information'!G21=\"\"),\"Missing Info\",\"\")))","v":"Missing Info"},{"$f":"IF(OR('ASHP Load Calculations'!G19=\"\",'ASHP Equipment Information'!G23=\"\"),\"\",IF(OR('ASHP Equipment Information'!D11=\"Ducted ASHP\",'ASHP Equipment Information'!D11=\"Ducted ccASHP\"),BR27*HP_kW_CA,0))","v":""},{"$f":"IF('ASHP Equipment Information'!G23=\"\",\"\",IF(OR('ASHP Load Calculations'!G19=\"\"),\"\",'ASHP Equipment Information'!G17*(12/'ASHP Equipment Information'!G23)*kW_RS))","v":""},{"$f":"IF(OR('ASHP Load Calculations'!G19=\"\",'ASHP Equipment Information'!G21=\"\",'ASHP Equipment Information'!G23=\"\"),\"\",IF(OR('ASHP Equipment Information'!D11=\"Ducted ASHP\",'ASHP Equipment Information'!D11=\"Ducted ccASHP\"),'ASHP Equipment Information'!G17/12000*(12/'ASHP Equipment Information'!G21*FLH_Cool)*QI_kWh,0))","v":""},{"$f":"IF(OR('ASHP Load Calculations'!G19=\"\",'ASHP Equipment Information'!G21=\"\",'ASHP Equipment Information'!G23=\"\"),\"\",IF(OR('ASHP Equipment Information'!D11=\"Ducted ASHP\",'ASHP Equipment Information'!D11=\"Ducted ccASHP\"),'ASHP Equipment Information'!G19/12000*(12/'ASHP Equipment Information'!G25*FLH_Heat)*QI_kWh,0))","v":""},null,{"$f":"IF('ASHP Equipment Information'!D11=\"\",\"\",INDEX(References!$AB$7:$AB$19,MATCH('ASHP Equipment Information'!D11,Equipment_Type,0)))","v":""},{"$f":"IF('ASHP Equipment Information'!D11=\"\",\"\",INDEX(References!$AA$7:$AA$19,MATCH('ASHP Equipment Information'!D11,Equipment_Type,0)))","v":""},null,{"$f":"IF(B27=\"\",References!$D$25,IF(References!$H$13=\"New Construction\",FLH_Cool,IF(References!$H$13=\"\",0,References!$C$25)))","v":649},{"$f":"IF(B27=\"\",References!$D$26,IF(References!$H$13=\"New Construction\",FLH_Heat,IF(References!$H$13=\"\",0,References!$C$26)))","v":788},null,{"$f":"IF(OR($AX27=\"FAIL\",'ASHP Equipment Information'!G17=\"\",AX27=\"Missing Info\",AH27=\"DNQ\"),0,IF(B27=\"Cold Climate\",((AP27/1000)*((1/I27)-(1/V27))*BJ27)+SUM(BP27:BQ27),((S27/12000)*((12/I27)-(12/V27)))+SUM(BP27:BQ27)))","v":0},{"$f":"IF(OR($AX27=\"FAIL\",'ASHP Equipment Information'!G17=\"\",AX27=\"Missing Info\",AH27=\"DNQ\"),0,IF(B27=\"Cold Climate\",((AP27/1000)*((1/J27)-(1/BH27))*BX27*BJ27)+BR27,IF(BU27=\"PTHP\",((S27/12000)*(12/I27-12/V27)*BX27),((('ASHP Equipment Information'!G17/12000)*((12/J27)-(12/U27))*BX27))+BR27)))","v":0},{"$f":"IF(OR($AX27=\"FAIL\",'ASHP Equipment Information'!G17=\"\",AX27=\"Missing Info\",AH27=\"DNQ\"),0,CB27*References!$E$12/1000)","v":0},{"$f":"CB27*References!$A$12","v":0},{"$f":"IF(OR($AX27=\"FAIL\",T27=\"\",AX27=\"Missing Info\",AH27=\"DNQ\"),0,IF(N27=0,SUM(BP27:BQ27),IF(B27=\"Cold Climate\",((AQ27/1000)*((1/L27)-(1/(W27/3.412)))*(1/References!$E$12)+SUM(BP27:BQ27))*N27,((T27/12000)*((1/(L27))-(1/(W27/3.412)))+SUM(BP27:BQ27))*N27)))","v":0},{"$f":"IF(OR($AX27=\"FAIL\",T27=\"\",AX27=\"Missing Info\",AH27=\"DNQ\"),0,IF(N27=0,SUM(BS27),IF(B27=\"Cold Climate\",((AQ27/1000)*((1/L27)-(1/BI27))*(1/References!$E$12)*BY27*BK27*N27+BS27),((T27/12000)*((12/L27)-(12/W27))*BY27*N27+BS27))))","v":0},{"$f":"IF(OR($AX27=\"FAIL\",'ASHP Equipment Information'!G19=\"\",AX27=\"Missing Info\",AH27=\"DNQ\"),0,IF(B27=\"Cold Climate\",-((AQ27/1000)*(1/(W27/3.412))*(1/References!$E$12))*O27,-((T27/12000)*(1/(W27/3.412)))*O27))","v":0},{"$f":"IF(OR($AX27=\"FAIL\",'ASHP Equipment Information'!G19=\"\",AX27=\"Missing Info\",AH27=\"DNQ\"),0,IF(B27=\"Cold Climate\",((AQ27/1000)*(1/BI27)*(1/References!$E$12)*BY27*BK27)*O27,(((T27/12000)*(12/W27)*BY27)-(T27*BY27/1000000)*P27)*O27))","v":0},{"$f":"IF(OR($AX27=\"FAIL\",AX27=\"Missing Info\",'ASHP Equipment Information'!D11=\"\"),0,IF(References!$I$36=TRUE,CF27*References!$E$12/1000,((CF27-CH27)*References!$E$12/1000)))","v":0},{"$f":"IF(OR($AX27=\"FAIL\",AX27=\"Missing Info\",'ASHP Equipment Information'!D11=\"\"),0,IF(O27<>0,IF(B27=\"Cold Climate\",((AQ27*BY27/M27)/1000000)*O27,((T27*BY27/M27)/1000000)*O27*P27),0))","v":0},{"$f":"CI27+CJ27","v":0},{"$f":"(CF27-CH27)*References!$A$12","v":0},{"$f":"CJ27*Q27*References!$D$4","v":0},{"$f":"CL27+CM27","v":0}]
[{"$f":"A27+1","v":2},{"$f":"IF(OR('ASHP Equipment Information'!D30=\"Ducted ccASHP\",'ASHP Equipment Information'!D30=\"Ductless Mini Split - ccASHP\",'ASHP Equipment Information'!D30=\"Ductless Multi Split - ccASHP\"),\"Cold Climate\",\"\")","v":""},{"$f":"IF(References!$C$21=TRUE,\"Whole House\",IF(RIGHT(References!$H$36,2)=\"HP\",\"Retrofit\",\"New\"))","v":"New"},{"$f":"IF(References!$C$21<>TRUE,\"\",IF(References!$A$21=2,1,IF(AND('Site Information'!$C$18<>\"Central Air Conditioner\",'Site Information'!$C$18<>\"Ducted Air Source HP\",LEFT(H28,3)=\"Oil\"),2,3)))","v":""},{"$f":"C28&\" \"&'ASHP Equipment Information'!D30&\" \"&'ASHP Load Calculations'!G30&D28","v":"New  "},null,{"$f":"IF(References!$A$21=2,\"New Construction\",IF('ASHP Equipment Information'!G30=References!$Q$86,IF(OR('Site Information'!$C$24=\"\",'Site Information'!$C$24=\"Select…\"),\"None\",'Site Information'!$C$24),IF(OR('Site Information'!$C$18=\"\",'Site Information'!$C$18=\"Select…\"),\"None\",'Site Information'!$C$18)))","v":"None"},{"$f":"IF(References!$A$21=2,\"New Construction\",IF('ASHP Equipment Information'!G30=References!$Q$86,IF(OR('Site Information'!$C$22=\"\",'Site Information'!$C$22=\"Select…\"),\"None\",'Site Information'!$C$22),IF(OR('Site Information'!$C$16=\"\",'Site Information'!$C$16=\"Select…\"),\"None\",'Site Information'!$C$16)))","v":"None"},{"$f":"IF(G28=0,0,IF(OR(G28=\"None\",G28=\"New Construction\"),INDEX(References!$K$8:$K$16,MATCH(G28,References!$J$8:$J$16,0)),IF('ASHP Equipment Information'!$G30=References!$Q$86,IF('Site Information'!$J$47=\"\",INDEX(References!$K$8:$K$16,MATCH(G28,References!$J$8:$J$16,0)),'Site Information'!$J$47),IF('Site Information'!$J$35=\"\",INDEX(References!$K$8:$K$16,MATCH(G28,References!$J$8:$J$16,0)),'Site Information'!$J$35))))","v":12.3},{"$f":"IF(G28=0,0,IF(OR(G28=\"None\",G28=\"New Construction\"),INDEX(References!$L$8:$L$16,MATCH(G28,References!$J$8:$J$16,0)),IF('ASHP Equipment Information'!G30=References!$Q$86,IF('Site Information'!$J$45=\"\",INDEX(References!$L$8:$L$16,MATCH(G28,References!$J$8:$J$16,0)),'Site Information'!$J$45),IF('Site Information'!$J$33=\"\",INDEX(References!$L$8:$L$16,MATCH(G28,References!$J$8:$J$16,0)),'Site Information'!$J$33))))","v":15},{"$f":"IF(H28=\"Electric ASHP\",IF('ASHP Equipment Information'!G30=References!$Q$86,IF('Site Information'!$C$45<8.5,References!$I$51,References!$I$52),IF('Site Information'!$C$33<8.5,References!$I$51,References!$I$52)),0)","v":0},{"$f":"IF(H28=0,0,IF(OR(H28=\"None\",H28=\"New Construction\"),INDEX(References!$L$20:$L$36,MATCH(H28,References!$H$20:$H$36,0)),IF('ASHP Equipment Information'!G30=References!$Q$86,IF(AND('Site Information'!$C$45=\"\",'Site Information'!$C$47=\"\"),INDEX(References!$L$20:$L$36,MATCH(H28,References!$H$20:$H$36,0)),IF(H28=\"Electric ASHP\",'Site Information'!$C$45*K28/3.412,'Site Information'!$C$47)),IF(AND('Site Information'!$C$33,'Site Information'!$C$35=\"\"),INDEX(References!$L$20:$L$36,MATCH(H28,References!$H$20:$H$36,0)),IF(H28=\"Electric ASHP\",'Site Information'!$C$33*K28/3.412,'Site Information'!$C$35)))))","v":0},{"$f":"IF(H28=0,0,IF(OR(H28=\"None\",H28=\"New Construction\"),INDEX(References!$M$20:$M$36,MATCH(H28,References!$H$20:$H$36,0)),IF('ASHP Equipment Information'!G30=References!$Q$86,IF('Site Information'!$C$49=\"\",INDEX(References!$M$20:$M$36,MATCH(H28,References!$H$20:$H$36,0)),'Site Information'!$C$49),IF('Site Information'!$C$37=\"\",INDEX(References!$M$20:$M$36,MATCH(H28,References!$H$20:$H$36,0)),'Site Information'!$C$37))))","v":0},{"$f":"IF(H28=0,0,INDEX(References!$I$20:$I$36,MATCH(H28,References!$H$20:$H$36,0)))","v":0.03},{"$f":"IF(H28=0,0,INDEX(References!$J$20:$J$36,MATCH(H28,References!$H$20:$H$36,0)))","v":0.97},{"$f":"IF(H28=0,0,INDEX(References!$N$20:$N$36,MATCH(H28,References!$H$20:$H$36,0)))","v":0.8},{"$f":"IF(H28=0,0,INDEX(References!$O$20:$O$36,MATCH(H28,References!$H$20:$H$36,0)))","v":0},null,{"$f":"IF('ASHP Equipment Information'!G34=\"\",\"\",'ASHP Equipment Information'!G34)","v":""},{"$f":"IF('ASHP Equipment Information'!G36=\"\",\"\",'ASHP Equipment Information'!G36)","v":""},{"$f":"IF('ASHP Equipment Information'!G40=\"\",\"\",IF('ASHP Equipment Information'!F40=\"SEER:\",'ASHP Equipment Information'!G40,ROUND(1.2476*'ASHP Equipment Information'!G40-2.8674,1)))","v":""},{"$f":"IF('ASHP Equipment Information'!G42=\"\",\"\",IF('ASHP Equipment Information'!F42=\"EER:\",'ASHP Equipment Information'!G42,ROUND(1.0578*'ASHP Equipment Information'!G42-0.1769,1)))","v":""},{"$f":"IF('ASHP Equipment Information'!G44=\"\",\"\",IF('ASHP Equipment Information'!F44=\"HSPF:\",'ASHP Equipment Information'!G44,ROUND(1.1702*'ASHP Equipment Information'!G44+0.07,1)))","v":""},{"$f":"IF('ASHP Equipment Information'!D12=\"\",\"\",INDEX(References!$T$7:$T$19,MATCH('ASHP Equipment Information'!$D12,References!$S$7:$S$19,0)))","v":""},{"$f":"IF('ASHP Equipment Information'!D30=\"\",\"\",INDEX(References!$U$7:$U$19,MATCH('ASHP Equipment Information'!$D30,References!$S$7:$S$19,0)))","v":""},{"$f":"IF('ASHP Equipment Information'!D30=\"\",\"\",INDEX(References!$V$7:$V$19,MATCH('ASHP Equipment Information'!$D30,References!$S$7:$S$19,0)))","v":""},{"$f":"IF('ASHP Equipment Information'!D30=\"\",\"\",INDEX(References!$Y$7:$Y$19,MATCH('ASHP Equipment Information'!$D30,References!$S$7:$S$19,0)))","v":""},{"$f":"IF('ASHP Equipment Information'!D30=\"\",\"\",INDEX(References!$Z$7:$Z$19,MATCH('ASHP Equipment Information'!$D30,References!$S$7:$S$19,0)))","v":""},{"$f":"IF('ASHP Equipment Information'!D30=\"\",\"\",INDEX(References!$W$7:$W$19,MATCH('ASHP Equipment Information'!$D30,References!$S$7:$S$19,0)))","v":""},{"$f":"IF('ASHP Equipment Information'!D30=\"\",\"\",INDEX(References!$X$7:$X$19,MATCH('ASHP Equipment Information'!$D30,References!$S$7:$S$19,0)))","v":""},"","",{"$f":"IF('ASHP Equipment Information'!G44=\"\",\"\",IF(AC28=0,\"\",IF(AND(W28<AC28,W28<AD28),\"DNQ\",IF(W28>=AD28,\"Tier II\",\"Tier I\"))))","v":""},{"$f":"IF(OR(AE28=\"DNQ\",AF28=\"DNQ\",AG28=\"DNQ\",'ASHP Load Calculations'!D32=\"FAIL\"),\"DNQ\",IF(OR(AE28=\"Tier I\",AG28=\"Tier I\"),\"Tier I\",IF(OR(AE28=\"Tier II\",AG28=\"Tier II\"),\"Tier II\",\"Tier III\")))","v":"Tier III"},{"$f":"References!$C$15","v":""},{"$f":"IF('ASHP Equipment Information'!D30=\"\",\"\",IF(AH28=\"DNQ\",\"DNQ\",INDEX(IF(AI28=\"Income Eligible \",References!$AK$3:$AK$36,References!$AJ$3:$AJ$36),MATCH(E28,References!$AE$3:$AE$36,0))*('ASHP Equipment Information'!G38/12000)))","v":""},{"$f":"IF('ASHP Equipment Information'!D30=\"\",\"\",IF(AJ28=\"DNQ\",0,INDEX(References!$AL$3:$AL$36,MATCH(Qualifying_Index!E28,References!$AE$3:$AE$36,0))))","v":""},{"$f":"IF(AND(AK28>0,AK28<>\"\"),1,2)","v":2},{"$f":"IF(COUNTIF(AL27,1),0,AK28)","v":""},{"$f":"IF(AJ28=\"\",\"\",AJ28*References!$BX$23)","v":""},null,{"$f":"'ASHP Load Calculations'!D28","v":0},{"$f":"'ASHP Load Calculations'!D30","v":0},{"$f":"(('ASHP Equipment Information'!G34*0.65))","v":0},{"$f":"(('ASHP Equipment Information'!G34*1.35))","v":0},{"$f":"IF(T28=\"\",0,IF(References!$C$21=TRUE,(AQ28*0.9),T28*0.65))","v":0},{"$f":"IF(T28=\"\",0,IF(References!$C$21=TRUE,(AQ28*1.2),T28*1.35))","v":0},{"$f":"IF(AND('ASHP Load Calculations'!D28>=Qualifying_Index!AR28,'ASHP Load Calculations'!D28<=Qualifying_Index!AS28),\"PASS\",\"FAIL\")","v":"PASS"},{"$f":"IF(OR(AT28=0,AU28=0),\"FAIL\",IF(AND(IF(References!$C$21=TRUE,T28,AQ28)>=AT28,IF(References!$C$21=TRUE,T28,AQ28)<=AU28),\"PASS\",\"FAIL\"))","v":"FAIL"},{"$f":"IF(References!$C$21=TRUE,IF(AND('ASHP Load Calculations'!D28=\"\",'ASHP Load Calculations'!D30=\"\"),\"Missing Info\",IF(AW28=\"PASS\",\"PASS\",\"FAIL\")),IF(AND('ASHP Load Calculations'!D28=\"\",'ASHP Load Calculations'!D30=\"\",LEFT('ASHP Equipment Information'!D30,6)=\"Ducted\",B28=\"Cold Climate\"),\"Missing Info\",IF(OR(AV28=\"PASS\",AW28=\"PASS\",AND(LEFT('ASHP Equipment Information'!D30,6)<>\"Ducted\",B28<>\"Cold Climate\")),\"PASS\",\"FAIL\")))","v":"PASS"},null,{"$f":"IF(B28=\"\",\"\",IF(B28=\"Cold Climate\",_xlfn.IFNA(IF(INDEX('Integrated Controls'!$C$17:$C$18,MATCH('ASHP Load Calculations'!$G$26,'Integrated Controls'!$B$17:$B$18,0))=0,\"Separate Control\",INDEX('Integrated Controls'!$C$17:$C$18,MATCH('ASHP Load Calculations'!$G$26,'Integrated Controls'!$B$17:$B$18,0))),\"Separate Control\"),\"\"))","v":""},"",{"$f":"IF(AZ28=\"\",\"\",IF(AZ28=\"No Fossil Fuel Heater\",1,IF(AZ28=\"Integrated/Modulating Control\",IF(ROUND(BA28,1)>1,1,ROUND(BA28,1)),IF(LEFT('ASHP Equipment Information'!D30,6)=\"Ducted\",0.9,IF(BA28>=0.65,0.7,IF(BA28>=0.55,0.6,IF(BA28>=0.45,0.5,IF(BA28>=0.35,0.4,0.3))))))))","v":""},{"$f":"IF(B28=\"\",\"\",IF(B28=\"Cold Climate\",'ASHP Equipment Information'!D30&\" \"&AZ28&\" \"&BB28,\"\"))","v":""},{"$f":"IF($BC28=\"\",\"\",INDEX(References!AJ$74:AJ$129,MATCH($BC28,References!$AH$74:$AH$129,0)))","v":""},{"$f":"IF($BC28=\"\",\"\",INDEX(References!AK$74:AK$129,MATCH($BC28,References!$AH$74:$AH$129,0)))","v":""},{"$f":"IF($BC28=\"\",\"\",INDEX(References!AL$74:AL$129,MATCH($BC28,References!$AH$74:$AH$129,0)))","v":""},{"$f":"IF($BC28=\"\",\"\",INDEX(References!AM$74:AM$129,MATCH($BC28,References!$AH$74:$AH$129,0)))","v":""},"",{"$f":"IF(BC28=\"\",\"\",BD28+BE28*W28/References!$E$12)","v":""},{"$f":"IF($BC28=\"\",\"\",INDEX(References!AN$74:AN$129,MATCH($BC28,References!$AH$74:$AH$129,0)))","v":""},{"$f":"IF($BC28=\"\",\"\",INDEX(References!AO$74:AO$129,MATCH($BC28,References!$AH$74:$AH$129,0)))","v":""},null,{"$f":"IF(OR('ASHP Equipment Information'!G36=\"\",'ASHP Equipment Information'!G34=\"\",'ASHP Equipment Information'!G42=\"\",'ASHP Equipment Information'!G44=\"\",'ASHP Equipment Information'!D34=\"\",'ASHP Equipment Information'!D36=\"\",'ASHP Equipment Information'!D38=\"\",'ASHP Equipment Information'!D40=\"\",'ASHP Equipment Information'!D42=\"\",'ASHP Equipment Information'!D44=\"\"),\"Missing Info\",\"\")","v":"Missing Info"},{"$f":"IF(AND(BV28=1,'ASHP Equipment Information'!G44=\"\"),\"Missing Info\",IF(BU28=\"PTHP\",BM28,IF(OR('ASHP Equipment Information'!G36=\"\",'ASHP Equipment Information'!G34=\"\",'ASHP Equipment Information'!G40=\"\",'ASHP Equipment Information'!G42=\"\",'ASHP Equipment Information'!D34=\"\",'ASHP Equipment Information'!D36=\"\",'ASHP Equipment Information'!D38=\"\",'ASHP Equipment Information'!D42=\"\",'ASHP Equipment Information'!D44=\"\",AX28=\"Missing Info\"),\"Missing Info\",\"\")))","v":"Missing Info"},{"$f":"IF(AND(BV28=1,'ASHP Equipment Information'!G44=\"\"),\"Missing Info\",IF(BU28=\"PTHP\",BM28,IF(OR('ASHP Equipment Information'!D34=\"\",'ASHP Equipment Information'!D36=\"\",'ASHP Equipment Information'!D38=\"\",'ASHP Equipment Information'!D42=\"\",'ASHP Equipment Information'!D44=\"\",'ASHP Equipment Information'!G36=\"\",'ASHP Equipment Information'!G34=\"\",'ASHP Equipment Information'!G40=\"\"),\"Missing Info\",\"\")))","v":"Missing Info"},{"$f":"IF(OR('ASHP Load Calculations'!G32=\"\",'ASHP Equipment Information'!G42=\"\"),\"\",IF(OR('ASHP Equipment Information'!D30=\"Ducted ASHP\",'ASHP Equipment Information'!D30=\"Ducted ccASHP\"),BR28*HP_kW_CA,0))","v":""},{"$f":"IF('ASHP Equipment Information'!G42=\"\",\"\",IF(OR('ASHP Load Calculations'!G32=\"\"),\"\",'ASHP Equipment Information'!G36*(12/'ASHP Equipment Information'!G42)*kW_RS))","v":""},{"$f":"IF(OR('ASHP Load Calculations'!G32=\"\",'ASHP Equipment Information'!G40=\"\",'ASHP Equipment Information'!G42=\"\"),\"\",IF(OR('ASHP Equipment Information'!D30=\"Ducted ASHP\",'ASHP Equipment Information'!D30=\"Ducted ccASHP\"),'ASHP Equipment Information'!G36/12000*(12/'ASHP Equipment Information'!G40*FLH_Cool)*QI_kWh,0))","v":""},{"$f":"IF(OR('ASHP Load Calculations'!G32=\"\",'ASHP Equipment Information'!G40=\"\",'ASHP Equipment Information'!G42=\"\"),\"\",IF(OR('ASHP Equipment Information'!D30=\"Ducted ASHP\",'ASHP Equipment Information'!D30=\"Ducted ccASHP\"),'ASHP Equipment Information'!G38/12000*(12/'ASHP Equipment Information'!G44*FLH_Heat)*QI_kWh,0))","v":""},null,{"$f":"IF('ASHP Equipment Information'!D30=\"\",\"\",INDEX(References!$AB$7:$AB$19,MATCH('ASHP Equipment Information'!D30,Equipment_Type,0)))","v":""},{"$f":"IF('ASHP Equipment Information'!D30=\"\",\"\",INDEX(References!$AA$7:$AA$19,MATCH('ASHP Equipment Information'!D30,Equipment_Type,0)))","v":""},null,{"$f":"IF(B28=\"\",References!$D$25,IF(References!$H$13=\"New Construction\",FLH_Cool,IF(References!$H$13=\"\",0,References!$C$25)))","v":649},{"$f":"IF(B28=\"\",References!$D$26,IF(References!$H$13=\"New Construction\",FLH_Heat,IF(References!$H$13=\"\",0,References!$C$26)))","v":788},null,{"$f":"IF(OR($AX28=\"FAIL\",'ASHP Equipment Information'!G36=\"\",AX28=\"Missing Info\",AH28=\"DNQ\"),0,IF(B28=\"Cold Climate\",((AP28/1000)*((1/I28)-(1/V28))*BJ28)+SUM(BP28:BQ28),((S28/12000)*((12/I28)-(12/V28)))+SUM(BP28:BQ28)))","v":0},{"$f":"IF(OR($AX28=\"FAIL\",'ASHP Equipment Information'!G36=\"\",AX28=\"Missing Info\",AH28=\"DNQ\"),0,IF(B28=\"Cold Climate\",((AP28/1000)*((1/J28)-(1/BH28))*BX28*BJ28)+BR28,IF(BU28=\"PTHP\",((S28/12000)*(12/I28-12/V28)*BX28),((('ASHP Equipment Information'!G36/12000)*((12/J28)-(12/U28))*BX28))+BR28)))","v":0},{"$f":"IF(OR($AX28=\"FAIL\",'ASHP Equipment Information'!G36=\"\",AX28=\"Missing Info\",AH28=\"DNQ\"),0,CB28*References!$E$12/1000)","v":0},{"$f":"CB28*References!$A$12","v":0},{"$f":"IF(OR($AX28=\"FAIL\",T28=\"\",AX28=\"Missing Info\",AH28=\"DNQ\"),0,IF(N28=0,SUM(BP28:BQ28),IF(B28=\"Cold Climate\",((AQ28/1000)*((1/L28)-(1/(W28/3.412)))*(1/References!$E$12)+SUM(BP28:BQ28))*N28,((T28/12000)*((1/(L28))-(1/(W28/3.412)))+SUM(BP28:BQ28))*N28)))","v":0},{"$f":"IF(OR($AX28=\"FAIL\",T28=\"\",AX28=\"Missing Info\",AH28=\"DNQ\"),0,IF(N28=0,SUM(BS28),IF(B28=\"Cold Climate\",((AQ28/1000)*((1/L28)-(1/BI28))*(1/References!$E$12)*BY28*BK28*N28+BS28),((T28/12000)*((12/L28)-(12/W28))*BY28*N28+BS28))))","v":0},{"$f":"IF(OR($AX28=\"FAIL\",'ASHP Equipment Information'!G38=\"\",AX28=\"Missing Info\",AH28=\"DNQ\"),0,IF(B28=\"Cold Climate\",-((AQ28/1000)*(1/(W28/3.412))*(1/References!$E$12))*O28,-((T28/12000)*(1/(W28/3.412)))*O28))","v":0},{"$f":"IF(OR($AX28=\"FAIL\",'ASHP Equipment Information'!G38=\"\",AX28=\"Missing Info\",AH28=\"DNQ\"),0,IF(B28=\"Cold Climate\",((AQ28/1000)*(1/BI28)*(1/References!$E$12)*BY28*BK28)*O28,(((T28/12000)*(12/W28)*BY28)-(T28*BY28/1000000)*P28)*O28))","v":0},{"$f":"IF(OR($AX28=\"FAIL\",AX28=\"Missing Info\",'ASHP Equipment Information'!D30=\"\"),0,IF(References!$I$36=TRUE,CF28*References!$E$12/1000,((CF28-CH28)*References!$E$12/1000)))","v":0},{"$f":"IF(OR($AX28=\"FAIL\",AX28=\"Missing Info\",'ASHP Equipment Information'!D30=\"\"),0,IF(O28<>0,IF(B28=\"Cold Climate\",((AQ28*BY28/M28)/1000000)*O28,((T28*BY28/M28)/1000000)*O28*P28),0))","v":0},{"$f":"CI28+CJ28","v":0},{"$f":"(CF28-CH28)*References!$A$12","v":0},{"$f":"CJ28*Q28*References!$D$4","v":0},{"$f":"CL28+CM28","v":0}]
[{"$f":"A28+1","v":3},{"$f":"IF(OR('ASHP Equipment Information'!D49=\"Ducted ccASHP\",'ASHP Equipment Information'!D49=\"Ductless Mini Split - ccASHP\",'ASHP Equipment Information'!D49=\"Ductless Multi Split - ccASHP\"),\"Cold Climate\",\"\")","v":""},{"$f":"IF(References!$C$21=TRUE,\"Whole House\",IF(RIGHT(References!$H$36,2)=\"HP\",\"Retrofit\",\"New\"))","v":"New"},{"$f":"IF(References!$C$21<>TRUE,\"\",IF(References!$A$21=2,1,IF(AND('Site Information'!$C$18<>\"Central Air Conditioner\",'Site Information'!$C$18<>\"Ducted Air Source HP\",LEFT(H29,3)=\"Oil\"),2,3)))","v":""},{"$f":"C29&\" \"&'ASHP Equipment Information'!D49&\" \"&'ASHP Load Calculations'!G43&D29","v":"New  "},null,{"$f":"IF(References!$A$21=2,\"New Construction\",IF('ASHP Equipment Information'!G49=References!$Q$86,IF(OR('Site Information'!$C$24=\"\",'Site Information'!$C$24=\"Select…\"),\"None\",'Site Information'!$C$24),IF(OR('Site Information'!$C$18=\"\",'Site Information'!$C$18=\"Select…\"),\"None\",'Site Information'!$C$18)))","v":"None"},{"$f":"IF(References!$A$21=2,\"New Construction\",IF('ASHP Equipment Information'!G49=References!$Q$86,IF(OR('Site Information'!$C$22=\"\",'Site Information'!$C$22=\"Select…\"),\"None\",'Site Information'!$C$22),IF(OR('Site Information'!$C$16=\"\",'Site Information'!$C$16=\"Select…\"),\"None\",'Site Information'!$C$16)))","v":"None"},{"$f":"IF(G29=0,0,IF(OR(G29=\"None\",G29=\"New Construction\"),INDEX(References!$K$8:$K$16,MATCH(G29,References!$J$8:$J$16,0)),IF('ASHP Equipment Information'!$G49=References!$Q$86,IF('Site Information'!$J$47=\"\",INDEX(References!$K$8:$K$16,MATCH(G29,References!$J$8:$J$16,0)),'Site Information'!$J$47),IF('Site Information'!$J$35=\"\",INDEX(References!$K$8:$K$16,MATCH(G29,References!$J$8:$J$16,0)),'Site Information'!$J$35))))","v":12.3},{"$f":"IF(G29=0,0,IF(OR(G29=\"None\",G29=\"New Construction\"),INDEX(References!$L$8:$L$16,MATCH(G29,References!$J$8:$J$16,0)),IF('ASHP Equipment Information'!G49=References!$Q$86,IF('Site Information'!$J$45=\"\",INDEX(References!$L$8:$L$16,MATCH(G29,References!$J$8:$J$16,0)),'Site Information'!$J$45),IF('Site Information'!$J$33=\"\",INDEX(References!$L$8:$L$16,MATCH(G29,References!$J$8:$J$16,0)),'Site Information'!$J$33))))","v":15},{"$f":"IF(H29=\"Electric ASHP\",IF('ASHP Equipment Information'!G49=References!$Q$86,IF('Site Information'!$C$45<8.5,References!$I$51,References!$I$52),IF('Site Information'!$C$33<8.5,References!$I$51,References!$I$52)),0)","v":0},{"$f":"IF(H29=0,0,IF(OR(H29=\"None\",H29=\"New Construction\"),INDEX(References!$L$20:$L$36,MATCH(H29,References!$H$20:$H$36,0)),IF('ASHP Equipment Information'!G49=References!$Q$86,IF(AND('Site Information'!$C$45=\"\",'Site Information'!$C$47=\"\"),INDEX(References!$L$20:$L$36,MATCH(H29,References!$H$20:$H$36,0)),IF(H29=\"Electric ASHP\",'Site Information'!$C$45*K29/3.412,'Site Information'!$C$47)),IF(AND('Site Information'!$C$33,'Site Information'!$C$35=\"\"),INDEX(References!$L$20:$L$36,MATCH(H29,References!$H$20:$H$36,0)),IF(H29=\"Electric ASHP\",'Site Information'!$C$33*K29/3.412,'Site Information'!$C$35)))))","v":0},{"$f":"IF(H29=0,0,IF(OR(H29=\"None\",H29=\"New Construction\"),INDEX(References!$M$20:$M$36,MATCH(H29,References!$H$20:$H$36,0)),IF('ASHP Equipment Information'!G49=References!$Q$86,IF('Site Information'!$C$49=\"\",INDEX(References!$M$20:$M$36,MATCH(H29,References!$H$20:$H$36,0)),'Site Information'!$C$49),IF('Site Information'!$C$37=\"\",INDEX(References!$M$20:$M$36,MATCH(H29,References!$H$20:$H$36,0)),'Site Information'!$C$37))))","v":0},{"$f":"IF(H29=0,0,INDEX(References!$I$20:$I$36,MATCH(H29,References!$H$20:$H$36,0)))","v":0.03},{"$f":"IF(H29=0,0,INDEX(References!$J$20:$J$36,MATCH(H29,References!$H$20:$H$36,0)))","v":0.97},{"$f":"IF(H29=0,0,INDEX(References!$N$20:$N$36,MATCH(H29,References!$H$20:$H$36,0)))","v":0.8},{"$f":"IF(H29=0,0,INDEX(References!$O$20:$O$36,MATCH(H29,References!$H$20:$H$36,0)))","v":0},null,{"$f":"IF('ASHP Equipment Information'!G53=\"\",\"\",'ASHP Equipment Information'!G53)","v":""},{"$f":"IF('ASHP Equipment Information'!G55=\"\",\"\",'ASHP Equipment Information'!G55)","v":""},{"$f":"IF('ASHP Equipment Information'!G59=\"\",\"\",IF('ASHP Equipment Information'!F59=\"SEER:\",'ASHP Equipment Information'!G59,ROUND(1.2476*'ASHP Equipment Information'!G59-2.8674,1)))","v":""},{"$f":"IF('ASHP Equipment Information'!G61=\"\",\"\",IF('ASHP Equipment Information'!F61=\"EER:\",'ASHP Equipment Information'!G61,ROUND(1.0578*'ASHP Equipment Information'!G61-0.1769,1)))","v":""},{"$f":"IF('ASHP Equipment Information'!G63=\"\",\"\",IF('ASHP Equipment Information'!F63=\"HSPF:\",'ASHP Equipment Information'!G63,ROUND(1.1702*'ASHP Equipment Information'!G63+0.07,1)))","v":""},{"$f":"IF('ASHP Equipment Information'!D15=\"\",\"\",INDEX(References!$T$7:$T$19,MATCH('ASHP Equipment Information'!$D15,References!$S$7:$S$19,0)))","v":""},{"$f":"IF('ASHP Equipment Information'!D49=\"\",\"\",INDEX(References!$U$7:$U$19,MATCH('ASHP Equipment Information'!$D49,References!$S$7:$S$19,0)))","v":""},{"$f":"IF('ASHP Equipment Information'!D49=\"\",\"\",INDEX(References!$V$7:$V$19,MATCH('ASHP Equipment Information'!$D49,References!$S$7:$S$19,0)))","v":""},{"$f":"IF('ASHP Equipment Information'!D49=\"\",\"\",INDEX(References!$Y$7:$Y$19,MATCH('ASHP Equipment Information'!$D49,References!$S$7:$S$19,0)))","v":""},{"$f":"IF('ASHP Equipment Information'!D49=\"\",\"\",INDEX(References!$Z$7:$Z$19,MATCH('ASHP Equipment Information'!$D49,References!$S$7:$S$19,0)))","v":""},{"$f":"IF('ASHP Equipment Information'!D49=\"\",\"\",INDEX(References!$W$7:$W$19,MATCH('ASHP Equipment Information'!$D49,References!$S$7:$S$19,0)))","v":""},{"$f":"IF('ASHP Equipment Information'!D49=\"\",\"\",INDEX(References!$X$7:$X$19,MATCH('ASHP Equipment Information'!$D49,References!$S$7:$S$19,0)))","v":""},"","",{"$f":"IF('ASHP Equipment Information'!G63=\"\",\"\",IF(AC29=0,\"\",IF(AND(W29<AC29,W29<AD29),\"DNQ\",IF(W29>=AD29,\"Tier II\",\"Tier I\"))))","v":""},{"$f":"IF(OR(AE29=\"DNQ\",AF29=\"DNQ\",AG29=\"DNQ\",'ASHP Load Calculations'!D45=\"FAIL\"),\"DNQ\",IF(OR(AE29=\"Tier I\",AG29=\"Tier I\"),\"Tier I\",IF(OR(AE29=\"Tier II\",AG29=\"Tier II\"),\"Tier II\",\"Tier III\")))","v":"Tier III"},{"$f":"References!$C$15","v":""},{"$f":"IF('ASHP Equipment Information'!D49=\"\",\"\",IF(AH29=\"DNQ\",\"DNQ\",INDEX(IF(AI29=\"Income Eligible \",References!$AK$3:$AK$36,References!$AJ$3:$AJ$36),MATCH(E29,References!$AE$3:$AE$36,0))*('ASHP Equipment Information'!G57/12000)))","v":""},{"$f":"IF('ASHP Equipment Information'!D49=\"\",\"\",IF(AJ29=\"DNQ\",0,INDEX(References!$AL$3:$AL$36,MATCH(Qualifying_Index!E29,References!$AE$3:$AE$36,0))))","v":""},2,{"$f":"IF(COUNTIF(AL27:AL28,1),0,AK29)","v":""},{"$f":"IF(AJ29=\"\",\"\",AJ29*References!$BX$23)","v":""},null,{"$f":"'ASHP Load Calculations'!D41","v":0},{"$f":"'ASHP Load Calculations'!D43","v":0},{"$f":"(('ASHP Equipment Information'!G53*0.65))","v":0},{"$f":"(('ASHP Equipment Information'!G53*1.35))","v":0},{"$f":"IF(T29=\"\",0,IF(References!$C$21=TRUE,(AQ29*0.9),T29*0.65))","v":0},{"$f":"IF(T29=\"\",0,IF(References!$C$21=TRUE,(AQ29*1.2),T29*1.35))","v":0},{"$f":"IF(AND('ASHP Load Calculations'!D41>=Qualifying_Index!AR29,'ASHP Load Calculations'!D41<=Qualifying_Index!AS29),\"PASS\",\"FAIL\")","v":"PASS"},{"$f":"IF(OR(AT29=0,AU29=0),\"FAIL\",IF(AND(IF(References!$C$21=TRUE,T29,AQ29)>=AT29,IF(References!$C$21=TRUE,T29,AQ29)<=AU29),\"PASS\",\"FAIL\"))","v":"FAIL"},{"$f":"IF(References!$C$21=TRUE,IF(AND('ASHP Load Calculations'!D41=\"\",'ASHP Load Calculations'!D43=\"\"),\"Missing Info\",IF(AW29=\"PASS\",\"PASS\",\"FAIL\")),IF(AND('ASHP Load Calculations'!D41=\"\",'ASHP Load Calculations'!D43=\"\",LEFT('ASHP Equipment Information'!D49,6)=\"Ducted\",B29=\"Cold Climate\"),\"Missing Info\",IF(OR(AV29=\"PASS\",AW29=\"PASS\",AND(LEFT('ASHP Equipment Information'!D49,6)<>\"Ducted\",B29<>\"Cold Climate\")),\"PASS\",\"FAIL\")))","v":"PASS"},null,{"$f":"IF(B29=\"\",\"\",IF(B29=\"Cold Climate\",_xlfn.IFNA(IF(INDEX('Integrated Controls'!$C$17:$C$18,MATCH('ASHP Load Calculations'!$G$39,'Integrated Controls'!$B$17:$B$18,0))=0,\"Separate Control\",INDEX('Integrated Controls'!$C$17:$C$18,MATCH('ASHP Load Calculations'!$G$39,'Integrated Controls'!$B$17:$B$18,0))),\"Separate Control\"),\"\"))","v":""},"",{"$f":"IF(AZ29=\"\",\"\",IF(AZ29=\"No Fossil Fuel Heater\",1,IF(AZ29=\"Integrated/Modulating Control\",IF(ROUND(BA29,1)>1,1,ROUND(BA29,1)),IF(LEFT('ASHP Equipment Information'!D49,6)=\"Ducted\",0.9,IF(BA29>=0.65,0.7,IF(BA29>=0.55,0.6,IF(BA29>=0.45,0.5,IF(BA29>=0.35,0.4,0.3))))))))","v":""},{"$f":"IF(B29=\"\",\"\",IF(B29=\"Cold Climate\",'ASHP Equipment Information'!D49&\" \"&AZ29&\" \"&BB29,\"\"))","v":""},{"$f":"IF($BC29=\"\",\"\",INDEX(References!AJ$74:AJ$129,MATCH($BC29,References!$AH$74:$AH$129,0)))","v":""},{"$f":"IF($BC29=\"\",\"\",INDEX(References!AK$74:AK$129,MATCH($BC29,References!$AH$74:$AH$129,0)))","v":""},{"$f":"IF($BC29=\"\",\"\",INDEX(References!AL$74:AL$129,MATCH($BC29,References!$AH$74:$AH$129,0)))","v":""},{"$f":"IF($BC29=\"\",\"\",INDEX(References!AM$74:AM$129,MATCH($BC29,References!$AH$74:$AH$129,0)))","v":""},"",{"$f":"IF(BC29=\"\",\"\",BD29+BE29*W29/References!$E$12)","v":""},{"$f":"IF($BC29=\"\",\"\",INDEX(References!AN$74:AN$129,MATCH($BC29,References!$AH$74:$AH$129,0)))","v":""},{"$f":"IF($BC29=\"\",\"\",INDEX(References!AO$74:AO$129,MATCH($BC29,References!$AH$74:$AH$129,0)))","v":""},null,{"$f":"IF(OR('ASHP Equipment Information'!G55=\"\",'ASHP Equipment Information'!G53=\"\",'ASHP Equipment Information'!G61=\"\",'ASHP Equipment Information'!G63=\"\",'ASHP Equipment Information'!D53=\"\",'ASHP Equipment Information'!D55=\"\",'ASHP Equipment Information'!D57=\"\",'ASHP Equipment Information'!D59=\"\",'ASHP Equipment Information'!D61=\"\",'ASHP Equipment Information'!D63=\"\"),\"Missing Info\",\"\")","v":"Missing Info"},{"$f":"IF(AND(BV29=1,'ASHP Equipment Information'!G63=\"\"),\"Missing Info\",IF(BU29=\"PTHP\",BM29,IF(OR('ASHP Equipment Information'!G55=\"\",'ASHP Equipment Information'!G53=\"\",'ASHP Equipment Information'!G59=\"\",'ASHP Equipment Information'!G61=\"\",'ASHP Equipment Information'!D53=\"\",'ASHP Equipment Information'!D55=\"\",'ASHP Equipment Information'!D57=\"\",'ASHP Equipment Information'!D61=\"\",'ASHP Equipment Information'!D63=\"\",AX29=\"Missing Info\"),\"Missing Info\",\"\")))","v":"Missing Info"},{"$f":"IF(AND(BV29=1,'ASHP Equipment Information'!G63=\"\"),\"Missing Info\",IF(BU29=\"PTHP\",BM29,IF(OR('ASHP Equipment Information'!D53=\"\",'ASHP Equipment Information'!D55=\"\",'ASHP Equipment Information'!D57=\"\",'ASHP Equipment Information'!D61=\"\",'ASHP Equipment Information'!D63=\"\",'ASHP Equipment Information'!G55=\"\",'ASHP Equipment Information'!G53=\"\",'ASHP Equipment Information'!G59=\"\"),\"Missing Info\",\"\")))","v":"Missing Info"},{"$f":"IF(OR('ASHP Load Calculations'!G45=\"\",'ASHP Equipment Information'!G61=\"\"),\"\",IF(OR('ASHP Equipment Information'!D49=\"Ducted ASHP\",'ASHP Equipment Information'!D49=\"Ducted ccASHP\"),BR29*HP_kW_CA,0))","v":""},{"$f":"IF('ASHP Equipment Information'!G61=\"\",\"\",IF(OR('ASHP Load Calculations'!G45=\"\"),\"\",'ASHP Equipment Information'!G55*(12/'ASHP Equipment Information'!G61)*kW_RS))","v":""},{"$f":"IF(OR('ASHP Load Calculations'!G45=\"\",'ASHP Equipment Information'!G59=\"\",'ASHP Equipment Information'!G61=\"\"),\"\",IF(OR('ASHP Equipment Information'!D49=\"Ducted ASHP\",'ASHP Equipment Information'!D49=\"Ducted ccASHP\"),'ASHP Equipment Information'!G55/12000*(12/'ASHP Equipment Information'!G59*FLH_Cool)*QI_kWh,0))","v":""},{"$f":"IF(OR('ASHP Load Calculations'!G45=\"\",'ASHP Equipment Information'!G59=\"\",'ASHP Equipment Information'!G61=\"\"),\"\",IF(OR('ASHP Equipment Information'!D49=\"Ducted ASHP\",'ASHP Equipment Information'!D49=\"Ducted ccASHP\"),'ASHP Equipment Information'!G57/12000*(12/'ASHP Equipment Information'!G63*FLH_Heat)*QI_kWh,0))","v":""},null,{"$f":"IF('ASHP Equipment Information'!D49=\"\",\"\",INDEX(References!$AB$7:$AB$19,MATCH('ASHP Equipment Information'!D49,Equipment_Type,0)))","v":""},{"$f":"IF('ASHP Equipment Information'!D49=\"\",\"\",INDEX(References!$AA$7:$AA$19,MATCH('ASHP Equipment Information'!D49,Equipment_Type,0)))","v":""},null,{"$f":"IF(B29=\"\",References!$D$25,IF(References!$H$13=\"New Construction\",FLH_Cool,IF(References!$H$13=\"\",0,References!$C$25)))","v":649},{"$f":"IF(B29=\"\",References!$D$26,IF(References!$H$13=\"New Construction\",FLH_Heat,IF(References!$H$13=\"\",0,References!$C$26)))","v":788},null,{"$f":"IF(OR($AX29=\"FAIL\",'ASHP Equipment Information'!G55=\"\",AX29=\"Missing Info\",AH29=\"DNQ\"),0,IF(B29=\"Cold Climate\",((AP29/1000)*((1/I29)-(1/V29))*BJ29)+SUM(BP29:BQ29),((S29/12000)*((12/I29)-(12/V29)))+SUM(BP29:BQ29)))","v":0},{"$f":"IF(OR($AX29=\"FAIL\",'ASHP Equipment Information'!G55=\"\",AX29=\"Missing Info\",AH29=\"DNQ\"),0,IF(B29=\"Cold Climate\",((AP29/1000)*((1/J29)-(1/BH29))*BX29*BJ29)+BR29,IF(BU29=\"PTHP\",((S29/12000)*(12/I29-12/V29)*BX29),((('ASHP Equipment Information'!G55/12000)*((12/J29)-(12/U29))*BX29))+BR29)))","v":0},{"$f":"IF(OR($AX29=\"FAIL\",'ASHP Equipment Information'!G55=\"\",AX29=\"Missing Info\",AH29=\"DNQ\"),0,CB29*References!$E$12/1000)","v":0},{"$f":"CB29*References!$A$12","v":0},{"$f":"IF(OR($AX29=\"FAIL\",T29=\"\",AX29=\"Missing Info\",AH29=\"DNQ\"),0,IF(N29=0,SUM(BP29:BQ29),IF(B29=\"Cold Climate\",((AQ29/1000)*((1/L29)-(1/(W29/3.412)))*(1/References!$E$12)+SUM(BP29:BQ29))*N29,((T29/12000)*((1/(L29))-(1/(W29/3.412)))+SUM(BP29:BQ29))*N29)))","v":0},{"$f":"IF(OR($AX29=\"FAIL\",T29=\"\",AX29=\"Missing Info\",AH29=\"DNQ\"),0,IF(N29=0,SUM(BS29),IF(B29=\"Cold Climate\",((AQ29/1000)*((1/L29)-(1/BI29))*(1/References!$E$12)*BY29*BK29*N29+BS29),((T29/12000)*((12/L29)-(12/W29))*BY29*N29+BS29))))","v":0},{"$f":"IF(OR($AX29=\"FAIL\",'ASHP Equipment Information'!G57=\"\",AX29=\"Missing Info\",AH29=\"DNQ\"),0,IF(B29=\"Cold Climate\",-((AQ29/1000)*(1/(W29/3.412))*(1/References!$E$12))*O29,-((T29/12000)*(1/(W29/3.412)))*O29))","v":0},{"$f":"IF(OR($AX29=\"FAIL\",'ASHP Equipment Information'!G57=\"\",AX29=\"Missing Info\",AH29=\"DNQ\"),0,IF(B29=\"Cold Climate\",((AQ29/1000)*(1/BI29)*(1/References!$E$12)*BY29*BK29)*O29,(((T29/12000)*(12/W29)*BY29)-(T29*BY29/1000000)*P29)*O29))","v":0},{"$f":"IF(OR($AX29=\"FAIL\",AX29=\"Missing Info\",'ASHP Equipment Information'!D49=\"\"),0,IF(References!$I$36=TRUE,CF29*References!$E$12/1000,((CF29-CH29)*References!$E$12/1000)))","v":0},{"$f":"IF(OR($AX29=\"FAIL\",AX29=\"Missing Info\",'ASHP Equipment Information'!D49=\"\"),0,IF(O29<>0,IF(B29=\"Cold Climate\",((AQ29*BY29/M29)/1000000)*O29,((T29*BY29/M29)/1000000)*O29*P29),0))","v":0},0,{"$f":"(CF29-CH29)*References!$A$12","v":0},{"$f":"CJ29*Q29*References!$D$4","v":0},0]
[4,{"$f":"IF(OR('ASHP Equipment Information'!D68=\"Ducted ccASHP\",'ASHP Equipment Information'!D68=\"Ductless Mini Split - ccASHP\",'ASHP Equipment Information'!D68=\"Ductless Multi Split - ccASHP\"),\"Cold Climate\",\"\")","v":""},{"$f":"IF(References!$C$21=TRUE,\"Whole House\",IF(RIGHT(References!$H$36,2)=\"HP\",\"Retrofit\",\"New\"))","v":"New"},{"$f":"IF(References!$C$21<>TRUE,\"\",IF(References!$A$21=2,1,IF(AND('Site Information'!$C$18<>\"Central Air Conditioner\",'Site Information'!$C$18<>\"Ducted Air Source HP\",LEFT(H30,3)=\"Oil\"),2,3)))","v":""},{"$f":"C30&\" \"&'ASHP Equipment Information'!D68&\" \"&'ASHP Load Calculations'!G56&D30","v":"New  "},null,{"$f":"IF(References!$A$21=2,\"New Construction\",IF('ASHP Equipment Information'!G68=References!$Q$86,IF(OR('Site Information'!$C$24=\"\",'Site Information'!$C$24=\"Select…\"),\"None\",'Site Information'!$C$24),IF(OR('Site Information'!$C$18=\"\",'Site Information'!$C$18=\"Select…\"),\"None\",'Site Information'!$C$18)))","v":"None"},{"$f":"IF(References!$A$21=2,\"New Construction\",IF('ASHP Equipment Information'!G68=References!$Q$86,IF(OR('Site Information'!$C$22=\"\",'Site Information'!$C$22=\"Select…\"),\"None\",'Site Information'!$C$22),IF(OR('Site Information'!$C$16=\"\",'Site Information'!$C$16=\"Select…\"),\"None\",'Site Information'!$C$16)))","v":"None"},{"$f":"IF(G30=0,0,IF(OR(G30=\"None\",G30=\"New Construction\"),INDEX(References!$K$8:$K$16,MATCH(G30,References!$J$8:$J$16,0)),IF('ASHP Equipment Information'!$G68=References!$Q$86,IF('Site Information'!$J$47=\"\",INDEX(References!$K$8:$K$16,MATCH(G30,References!$J$8:$J$16,0)),'Site Information'!$J$47),IF('Site Information'!$J$35=\"\",INDEX(References!$K$8:$K$16,MATCH(G30,References!$J$8:$J$16,0)),'Site Information'!$J$35))))","v":12.3},{"$f":"IF(G30=0,0,IF(OR(G30=\"None\",G30=\"New Construction\"),INDEX(References!$L$8:$L$16,MATCH(G30,References!$J$8:$J$16,0)),IF('ASHP Equipment Information'!G68=References!$Q$86,IF('Site Information'!$J$45=\"\",INDEX(References!$L$8:$L$16,MATCH(G30,References!$J$8:$J$16,0)),'Site Information'!$J$45),IF('Site Information'!$J$33=\"\",INDEX(References!$L$8:$L$16,MATCH(G30,References!$J$8:$J$16,0)),'Site Information'!$J$33))))","v":15},{"$f":"IF(H30=\"Electric ASHP\",IF('ASHP Equipment Information'!G68=References!$Q$86,IF('Site Information'!$C$45<8.5,References!$I$51,References!$I$52),IF('Site Information'!$C$33<8.5,References!$I$51,References!$I$52)),0)","v":0},{"$f":"IF(H30=0,0,IF(OR(H30=\"None\",H30=\"New Construction\"),INDEX(References!$L$20:$L$36,MATCH(H30,References!$H$20:$H$36,0)),IF('ASHP Equipment Information'!G68=References!$Q$86,IF(AND('Site Information'!$C$45=\"\",'Site Information'!$C$47=\"\"),INDEX(References!$L$20:$L$36,MATCH(H30,References!$H$20:$H$36,0)),IF(H30=\"Electric ASHP\",'Site Information'!$C$45*K30/3.412,'Site Information'!$C$47)),IF(AND('Site Information'!$C$33,'Site Information'!$C$35=\"\"),INDEX(References!$L$20:$L$36,MATCH(H30,References!$H$20:$H$36,0)),IF(H30=\"Electric ASHP\",'Site Information'!$C$33*K30/3.412,'Site Information'!$C$35)))))","v":0},{"$f":"IF(H30=0,0,IF(OR(H30=\"None\",H30=\"New Construction\"),INDEX(References!$M$20:$M$36,MATCH(H30,References!$H$20:$H$36,0)),IF('ASHP Equipment Information'!G68=References!$Q$86,IF('Site Information'!$C$49=\"\",INDEX(References!$M$20:$M$36,MATCH(H30,References!$H$20:$H$36,0)),'Site Information'!$C$49),IF('Site Information'!$C$37=\"\",INDEX(References!$M$20:$M$36,MATCH(H30,References!$H$20:$H$36,0)),'Site Information'!$C$37))))","v":0},{"$f":"IF(H30=0,0,INDEX(References!$I$20:$I$36,MATCH(H30,References!$H$20:$H$36,0)))","v":0.03},{"$f":"IF(H30=0,0,INDEX(References!$J$20:$J$36,MATCH(H30,References!$H$20:$H$36,0)))","v":0.97},{"$f":"IF(H30=0,0,INDEX(References!$N$20:$N$36,MATCH(H30,References!$H$20:$H$36,0)))","v":0.8},{"$f":"IF(H30=0,0,INDEX(References!$O$20:$O$36,MATCH(H30,References!$H$20:$H$36,0)))","v":0},null,{"$f":"IF('ASHP Equipment Information'!G72=\"\",\"\",'ASHP Equipment Information'!G72)","v":""},{"$f":"IF('ASHP Equipment Information'!G74=\"\",\"\",'ASHP Equipment Information'!G74)","v":""},{"$f":"IF('ASHP Equipment Information'!G78=\"\",\"\",IF('ASHP Equipment Information'!F78=\"SEER:\",'ASHP Equipment Information'!G78,ROUND(1.2476*'ASHP Equipment Information'!G78-2.8674,1)))","v":""},{"$f":"IF('ASHP Equipment Information'!G80=\"\",\"\",IF('ASHP Equipment Information'!F80=\"EER:\",'ASHP Equipment Information'!G80,ROUND(1.0578*'ASHP Equipment Information'!G80-0.1769,1)))","v":""},{"$f":"IF('ASHP Equipment Information'!G82=\"\",\"\",IF('ASHP Equipment Information'!F82=\"HSPF:\",'ASHP Equipment Information'!G82,ROUND(1.1702*'ASHP Equipment Information'!G82+0.07,1)))","v":""},{"$f":"IF('ASHP Equipment Information'!D16=\"\",\"\",INDEX(References!$T$7:$T$19,MATCH('ASHP Equipment Information'!$D16,References!$S$7:$S$19,0)))","v":""},{"$f":"IF('ASHP Equipment Information'!D68=\"\",\"\",INDEX(References!$U$7:$U$19,MATCH('ASHP Equipment Information'!$D68,References!$S$7:$S$19,0)))","v":""},{"$f":"IF('ASHP Equipment Information'!D68=\"\",\"\",INDEX(References!$V$7:$V$19,MATCH('ASHP Equipment Information'!$D68,References!$S$7:$S$19,0)))","v":""},{"$f":"IF('ASHP Equipment Information'!D68=\"\",\"\",INDEX(References!$Y$7:$Y$19,MATCH('ASHP Equipment Information'!$D68,References!$S$7:$S$19,0)))","v":""},{"$f":"IF('ASHP Equipment Information'!D68=\"\",\"\",INDEX(References!$Z$7:$Z$19,MATCH('ASHP Equipment Information'!$D68,References!$S$7:$S$19,0)))","v":""},{"$f":"IF('ASHP Equipment Information'!D68=\"\",\"\",INDEX(References!$W$7:$W$19,MATCH('ASHP Equipment Information'!$D68,References!$S$7:$S$19,0)))","v":""},{"$f":"IF('ASHP Equipment Information'!D68=\"\",\"\",INDEX(References!$X$7:$X$19,MATCH('ASHP Equipment Information'!$D68,References!$S$7:$S$19,0)))","v":""},"","",{"$f":"IF('ASHP Equipment Information'!G82=\"\",\"\",IF(AC30=0,\"\",IF(AND(W30<AC30,W30<AD30),\"DNQ\",IF(W30>=AD30,\"Tier II\",\"Tier I\"))))","v":""},{"$f":"IF(OR(AE30=\"DNQ\",AF30=\"DNQ\",AG30=\"DNQ\",'ASHP Load Calculations'!D58=\"FAIL\"),\"DNQ\",IF(OR(AE30=\"Tier I\",AG30=\"Tier I\"),\"Tier I\",IF(OR(AE30=\"Tier II\",AG30=\"Tier II\"),\"Tier II\",\"Tier III\")))","v":"Tier III"},{"$f":"References!$C$15","v":""},{"$f":"IF('ASHP Equipment Information'!D68=\"\",\"\",IF(AH30=\"DNQ\",\"DNQ\",INDEX(IF(AI30=\"Income Eligible \",References!$AK$3:$AK$36,References!$AJ$3:$AJ$36),MATCH(E30,References!$AE$3:$AE$36,0))*('ASHP Equipment Information'!G76/12000)))","v":""},{"$f":"IF('ASHP Equipment Information'!D68=\"\",\"\",IF(AJ30=\"DNQ\",0,INDEX(References!$AL$3:$AL$36,MATCH(Qualifying_Index!E30,References!$AE$3:$AE$36,0))))","v":""},2,{"$f":"IF(COUNTIF(AL27:AL29,1),0,AK30)","v":""},{"$f":"IF(AJ30=\"\",\"\",AJ30*References!$BX$23)","v":""},null,{"$f":"'ASHP Load Calculations'!D54","v":0},{"$f":"'ASHP Load Calculations'!D56","v":0},{"$f":"(('ASHP Equipment Information'!G72*0.65))","v":0},{"$f":"(('ASHP Equipment Information'!G72*1.35))","v":0},{"$f":"IF(T30=\"\",0,IF(References!$C$21=TRUE,(AQ30*0.9),T30*0.65))","v":0},{"$f":"IF(T30=\"\",0,IF(References!$C$21=TRUE,(AQ30*1.2),T30*1.35))","v":0},{"$f":"IF(AND('ASHP Load Calculations'!D54>=Qualifying_Index!AR30,'ASHP Load Calculations'!D54<=Qualifying_Index!AS30),\"PASS\",\"FAIL\")","v":"PASS"},{"$f":"IF(OR(AT30=0,AU30=0),\"FAIL\",IF(AND(IF(References!$C$21=TRUE,T30,AQ30)>=AT30,IF(References!$C$21=TRUE,T30,AQ30)<=AU30),\"PASS\",\"FAIL\"))","v":"FAIL"},{"$f":"IF(References!$C$21=TRUE,IF(AND('ASHP Load Calculations'!D54=\"\",'ASHP Load Calculations'!D56=\"\"),\"Missing Info\",IF(AW30=\"PASS\",\"PASS\",\"FAIL\")),IF(AND('ASHP Load Calculations'!D54=\"\",'ASHP Load Calculations'!D56=\"\",LEFT('ASHP Equipment Information'!D68,6)=\"Ducted\",B30=\"Cold Climate\"),\"Missing Info\",IF(OR(AV30=\"PASS\",AW30=\"PASS\",AND(LEFT('ASHP Equipment Information'!D68,6)<>\"Ducted\",B30<>\"Cold Climate\")),\"PASS\",\"FAIL\")))","v":"PASS"},null,{"$f":"IF(B30=\"\",\"\",IF(B30=\"Cold Climate\",_xlfn.IFNA(IF(INDEX('Integrated Controls'!$C$17:$C$18,MATCH('ASHP Load Calculations'!$G$52,'Integrated Controls'!$B$17:$B$18,0))=0,\"Separate Control\",INDEX('Integrated Controls'!$C$17:$C$18,MATCH('ASHP Load Calculations'!$G$52,'Integrated Controls'!$B$17:$B$18,0))),\"Separate Control\"),\"\"))","v":""},"",{"$f":"IF(AZ30=\"\",\"\",IF(AZ30=\"No Fossil Fuel Heater\",1,IF(AZ30=\"Integrated/Modulating Control\",IF(ROUND(BA30,1)>1,1,ROUND(BA30,1)),IF(LEFT('ASHP Equipment Information'!D68,6)=\"Ducted\",0.9,IF(BA30>=0.65,0.7,IF(BA30>=0.55,0.6,IF(BA30>=0.45,0.5,IF(BA30>=0.35,0.4,0.3))))))))","v":""},{"$f":"IF(B30=\"\",\"\",IF(B30=\"Cold Climate\",'ASHP Equipment Information'!D68&\" \"&AZ30&\" \"&BB30,\"\"))","v":""},{"$f":"IF($BC30=\"\",\"\",INDEX(References!AJ$74:AJ$129,MATCH($BC30,References!$AH$74:$AH$129,0)))","v":""},{"$f":"IF($BC30=\"\",\"\",INDEX(References!AK$74:AK$129,MATCH($BC30,References!$AH$74:$AH$129,0)))","v":""},{"$f":"IF($BC30=\"\",\"\",INDEX(References!AL$74:AL$129,MATCH($BC30,References!$AH$74:$AH$129,0)))","v":""},{"$f":"IF($BC30=\"\",\"\",INDEX(References!AM$74:AM$129,MATCH($BC30,References!$AH$74:$AH$129,0)))","v":""},"",{"$f":"IF(BC30=\"\",\"\",BD30+BE30*W30/References!$E$12)","v":""},{"$f":"IF($BC30=\"\",\"\",INDEX(References!AN$74:AN$129,MATCH($BC30,References!$AH$74:$AH$129,0)))","v":""},{"$f":"IF($BC30=\"\",\"\",INDEX(References!AO$74:AO$129,MATCH($BC30,References!$AH$74:$AH$129,0)))","v":""},null,{"$f":"IF(OR('ASHP Equipment Information'!G74=\"\",'ASHP Equipment Information'!G72=\"\",'ASHP Equipment Information'!G80=\"\",'ASHP Equipment Information'!G82=\"\",'ASHP Equipment Information'!D72=\"\",'ASHP Equipment Information'!D74=\"\",'ASHP Equipment Information'!D76=\"\",'ASHP Equipment Information'!D78=\"\",'ASHP Equipment Information'!D80=\"\",'ASHP Equipment Information'!D82=\"\"),\"Missing Info\",\"\")","v":"Missing Info"},{"$f":"IF(AND(BV30=1,'ASHP Equipment Information'!G82=\"\"),\"Missing Info\",IF(BU30=\"PTHP\",BM30,IF(OR('ASHP Equipment Information'!G74=\"\",'ASHP Equipment Information'!G72=\"\",'ASHP Equipment Information'!G78=\"\",'ASHP Equipment Information'!G80=\"\",'ASHP Equipment Information'!D72=\"\",'ASHP Equipment Information'!D74=\"\",'ASHP Equipment Information'!D76=\"\",'ASHP Equipment Information'!D80=\"\",'ASHP Equipment Information'!D82=\"\",AX30=\"Missing Info\"),\"Missing Info\",\"\")))","v":"Missing Info"},{"$f":"IF(AND(BV30=1,'ASHP Equipment Information'!G82=\"\"),\"Missing Info\",IF(BU30=\"PTHP\",BM30,IF(OR('ASHP Equipment Information'!D72=\"\",'ASHP Equipment Information'!D74=\"\",'ASHP Equipment Information'!D76=\"\",'ASHP Equipment Information'!D80=\"\",'ASHP Equipment Information'!D82=\"\",'ASHP Equipment Information'!G74=\"\",'ASHP Equipment Information'!G72=\"\",'ASHP Equipment Information'!G78=\"\"),\"Missing Info\",\"\")))","v":"Missing Info"},{"$f":"IF(OR('ASHP Load Calculations'!G58=\"\",'ASHP Equipment Information'!G80=\"\"),\"\",IF(OR('ASHP Equipment Information'!D68=\"Ducted ASHP\",'ASHP Equipment Information'!D68=\"Ducted ccASHP\"),BR30*HP_kW_CA,0))","v":""},{"$f":"IF('ASHP Equipment Information'!G80=\"\",\"\",IF(OR('ASHP Load Calculations'!G58=\"\"),\"\",'ASHP Equipment Information'!G74*(12/'ASHP Equipment Information'!G80)*kW_RS))","v":""},{"$f":"IF(OR('ASHP Load Calculations'!G58=\"\",'ASHP Equipment Information'!G78=\"\",'ASHP Equipment Information'!G80=\"\"),\"\",IF(OR('ASHP Equipment Information'!D68=\"Ducted ASHP\",'ASHP Equipment Information'!D68=\"Ducted ccASHP\"),'ASHP Equipment Information'!G74/12000*(12/'ASHP Equipment Information'!G78*FLH_Cool)*QI_kWh,0))","v":""},{"$f":"IF(OR('ASHP Load Calculations'!G58=\"\",'ASHP Equipment Information'!G78=\"\",'ASHP Equipment Information'!G93=\"\"),\"\",IF(OR('ASHP Equipment Information'!D68=\"Ducted ASHP\",'ASHP Equipment Information'!D68=\"Ducted ccASHP\"),'ASHP Equipment Information'!G76/12000*(12/'ASHP Equipment Information'!G82*FLH_Heat)*QI_kWh,0))","v":""},null,{"$f":"IF('ASHP Equipment Information'!D68=\"\",\"\",INDEX(References!$AB$7:$AB$19,MATCH('ASHP Equipment Information'!D68,Equipment_Type,0)))","v":""},{"$f":"IF('ASHP Equipment Information'!D68=\"\",\"\",INDEX(References!$AA$7:$AA$19,MATCH('ASHP Equipment Information'!D68,Equipment_Type,0)))","v":""},null,{"$f":"IF(B30=\"\",References!$D$25,IF(References!$H$13=\"New Construction\",FLH_Cool,IF(References!$H$13=\"\",0,References!$C$25)))","v":649},{"$f":"IF(B30=\"\",References!$D$26,IF(References!$H$13=\"New Construction\",FLH_Heat,IF(References!$H$13=\"\",0,References!$C$26)))","v":788},null,{"$f":"IF(OR($AX30=\"FAIL\",'ASHP Equipment Information'!G74=\"\",AX30=\"Missing Info\",AH30=\"DNQ\"),0,IF(B30=\"Cold Climate\",((AP30/1000)*((1/I30)-(1/V30))*BJ30)+SUM(BP30:BQ30),((S30/12000)*((12/I30)-(12/V30)))+SUM(BP30:BQ30)))","v":0},{"$f":"IF(OR($AX30=\"FAIL\",'ASHP Equipment Information'!G74=\"\",AX30=\"Missing Info\",AH30=\"DNQ\"),0,IF(B30=\"Cold Climate\",((AP30/1000)*((1/J30)-(1/BH30))*BX30*BJ30)+BR30,IF(BU30=\"PTHP\",((S30/12000)*(12/I30-12/V30)*BX30),((('ASHP Equipment Information'!G74/12000)*((12/J30)-(12/U30))*BX30))+BR30)))","v":0},{"$f":"IF(OR($AX30=\"FAIL\",'ASHP Equipment Information'!G74=\"\",AX30=\"Missing Info\",AH30=\"DNQ\"),0,CB30*References!$E$12/1000)","v":0},{"$f":"CB30*References!$A$12","v":0},{"$f":"IF(OR($AX30=\"FAIL\",T30=\"\",AX30=\"Missing Info\",AH30=\"DNQ\"),0,IF(N30=0,SUM(BP30:BQ30),IF(B30=\"Cold Climate\",((AQ30/1000)*((1/L30)-(1/(W30/3.412)))*(1/References!$E$12)+SUM(BP30:BQ30))*N30,((T30/12000)*((1/(L30))-(1/(W30/3.412)))+SUM(BP30:BQ30))*N30)))","v":0},{"$f":"IF(OR($AX30=\"FAIL\",T30=\"\",AX30=\"Missing Info\",AH30=\"DNQ\"),0,IF(N30=0,SUM(BS30),IF(B30=\"Cold Climate\",((AQ30/1000)*((1/L30)-(1/BI30))*(1/References!$E$12)*BY30*BK30*N30+BS30),((T30/12000)*((12/L30)-(12/W30))*BY30*N30+BS30))))","v":0},{"$f":"IF(OR($AX30=\"FAIL\",'ASHP Equipment Information'!G76=\"\",AX30=\"Missing Info\",AH30=\"DNQ\"),0,IF(B30=\"Cold Climate\",-((AQ30/1000)*(1/(W30/3.412))*(1/References!$E$12))*O30,-((T30/12000)*(1/(W30/3.412)))*O30))","v":0},{"$f":"IF(OR($AX30=\"FAIL\",'ASHP Equipment Information'!G76=\"\",AX30=\"Missing Info\",AH30=\"DNQ\"),0,IF(B30=\"Cold Climate\",((AQ30/1000)*(1/BI30)*(1/References!$E$12)*BY30*BK30)*O30,(((T30/12000)*(12/W30)*BY30)-(T30*BY30/1000000)*P30)*O30))","v":0},{"$f":"IF(OR($AX30=\"FAIL\",AX30=\"Missing Info\",'ASHP Equipment Information'!D68=\"\"),0,IF(References!$I$36=TRUE,CF30*References!$E$12/1000,((CF30-CH30)*References!$E$12/1000)))","v":0},{"$f":"IF(OR($AX30=\"FAIL\",AX30=\"Missing Info\",'ASHP Equipment Information'!D68=\"\"),0,IF(O30<>0,IF(B30=\"Cold Climate\",((AQ30*BY30/M30)/1000000)*O30,((T30*BY30/M30)/1000000)*O30*P30),0))","v":0},0,{"$f":"(CF30-CH30)*References!$A$12","v":0},{"$f":"CJ30*Q30*References!$D$4","v":0},0]
[5,{"$f":"IF(OR('ASHP Equipment Information'!D87=\"Ducted ccASHP\",'ASHP Equipment Information'!D87=\"Ductless Mini Split - ccASHP\",'ASHP Equipment Information'!D87=\"Ductless Multi Split - ccASHP\"),\"Cold Climate\",\"\")","v":""},{"$f":"IF(References!$C$21=TRUE,\"Whole House\",IF(RIGHT(References!$H$36,2)=\"HP\",\"Retrofit\",\"New\"))","v":"New"},{"$f":"IF(References!$C$21<>TRUE,\"\",IF(References!$A$21=2,1,IF(AND('Site Information'!$C$18<>\"Central Air Conditioner\",'Site Information'!$C$18<>\"Ducted Air Source HP\",LEFT(H31,3)=\"Oil\"),2,3)))","v":""},{"$f":"C31&\" \"&'ASHP Equipment Information'!D87&\" \"&'ASHP Load Calculations'!G69&D31","v":"New  "},null,{"$f":"IF(References!$A$21=2,\"New Construction\",IF('ASHP Equipment Information'!G87=References!$Q$86,IF(OR('Site Information'!$C$24=\"\",'Site Information'!$C$24=\"Select…\"),\"None\",'Site Information'!$C$24),IF(OR('Site Information'!$C$18=\"\",'Site Information'!$C$18=\"Select…\"),\"None\",'Site Information'!$C$18)))","v":"None"},{"$f":"IF(References!$A$21=2,\"New Construction\",IF('ASHP Equipment Information'!G87=References!$Q$86,IF(OR('Site Information'!$C$22=\"\",'Site Information'!$C$22=\"Select…\"),\"None\",'Site Information'!$C$22),IF(OR('Site Information'!$C$16=\"\",'Site Information'!$C$16=\"Select…\"),\"None\",'Site Information'!$C$16)))","v":"None"},{"$f":"IF(G31=0,0,IF(OR(G31=\"None\",G31=\"New Construction\"),INDEX(References!$K$8:$K$16,MATCH(G31,References!$J$8:$J$16,0)),IF('ASHP Equipment Information'!$G87=References!$Q$86,IF('Site Information'!$J$47=\"\",INDEX(References!$K$8:$K$16,MATCH(G31,References!$J$8:$J$16,0)),'Site Information'!$J$47),IF('Site Information'!$J$35=\"\",INDEX(References!$K$8:$K$16,MATCH(G31,References!$J$8:$J$16,0)),'Site Information'!$J$35))))","v":12.3},{"$f":"IF(G31=0,0,IF(OR(G31=\"None\",G31=\"New Construction\"),INDEX(References!$L$8:$L$16,MATCH(G31,References!$J$8:$J$16,0)),IF('ASHP Equipment Information'!G87=References!$Q$86,IF('Site Information'!$J$45=\"\",INDEX(References!$L$8:$L$16,MATCH(G31,References!$J$8:$J$16,0)),'Site Information'!$J$45),IF('Site Information'!$J$33=\"\",INDEX(References!$L$8:$L$16,MATCH(G31,References!$J$8:$J$16,0)),'Site Information'!$J$33))))","v":15},{"$f":"IF(H31=\"Electric ASHP\",IF('ASHP Equipment Information'!G87=References!$Q$86,IF('Site Information'!$C$45<8.5,References!$I$51,References!$I$52),IF('Site Information'!$C$33<8.5,References!$I$51,References!$I$52)),0)","v":0},{"$f":"IF(H31=0,0,IF(OR(H31=\"None\",H31=\"New Construction\"),INDEX(References!$L$20:$L$36,MATCH(H31,References!$H$20:$H$36,0)),IF('ASHP Equipment Information'!G87=References!$Q$86,IF(AND('Site Information'!$C$45=\"\",'Site Information'!$C$47=\"\"),INDEX(References!$L$20:$L$36,MATCH(H31,References!$H$20:$H$36,0)),IF(H31=\"Electric ASHP\",'Site Information'!$C$45*K31/3.412,'Site Information'!$C$47)),IF(AND('Site Information'!$C$33,'Site Information'!$C$35=\"\"),INDEX(References!$L$20:$L$36,MATCH(H31,References!$H$20:$H$36,0)),IF(H31=\"Electric ASHP\",'Site Information'!$C$33*K31/3.412,'Site Information'!$C$35)))))","v":0},{"$f":"IF(H31=0,0,IF(OR(H31=\"None\",H31=\"New Construction\"),INDEX(References!$M$20:$M$36,MATCH(H31,References!$H$20:$H$36,0)),IF('ASHP Equipment Information'!G87=References!$Q$86,IF('Site Information'!$C$49=\"\",INDEX(References!$M$20:$M$36,MATCH(H31,References!$H$20:$H$36,0)),'Site Information'!$C$49),IF('Site Information'!$C$37=\"\",INDEX(References!$M$20:$M$36,MATCH(H31,References!$H$20:$H$36,0)),'Site Information'!$C$37))))","v":0},{"$f":"IF(H31=0,0,INDEX(References!$I$20:$I$36,MATCH(H31,References!$H$20:$H$36,0)))","v":0.03},{"$f":"IF(H31=0,0,INDEX(References!$J$20:$J$36,MATCH(H31,References!$H$20:$H$36,0)))","v":0.97},{"$f":"IF(H31=0,0,INDEX(References!$N$20:$N$36,MATCH(H31,References!$H$20:$H$36,0)))","v":0.8},{"$f":"IF(H31=0,0,INDEX(References!$O$20:$O$36,MATCH(H31,References!$H$20:$H$36,0)))","v":0},null,{"$f":"IF('ASHP Equipment Information'!G91=\"\",\"\",'ASHP Equipment Information'!G91)","v":""},{"$f":"IF('ASHP Equipment Information'!G93=\"\",\"\",'ASHP Equipment Information'!G93)","v":""},{"$f":"IF('ASHP Equipment Information'!G97=\"\",\"\",IF('ASHP Equipment Information'!F97=\"SEER:\",'ASHP Equipment Information'!G97,ROUND(1.2476*'ASHP Equipment Information'!G97-2.8674,1)))","v":""},{"$f":"IF('ASHP Equipment Information'!G99=\"\",\"\",IF('ASHP Equipment Information'!F99=\"EER:\",'ASHP Equipment Information'!G99,ROUND(1.0578*'ASHP Equipment Information'!G99-0.1769,1)))","v":""},{"$f":"IF('ASHP Equipment Information'!G101=\"\",\"\",IF('ASHP Equipment Information'!F101=\"HSPF:\",'ASHP Equipment Information'!G101,ROUND(1.1702*'ASHP Equipment Information'!G101+0.07,1)))","v":""},{"$f":"IF('ASHP Equipment Information'!D17=\"\",\"\",INDEX(References!$T$7:$T$19,MATCH('ASHP Equipment Information'!$D17,References!$S$7:$S$19,0)))","v":""},{"$f":"IF('ASHP Equipment Information'!D87=\"\",\"\",INDEX(References!$U$7:$U$19,MATCH('ASHP Equipment Information'!$D87,References!$S$7:$S$19,0)))","v":""},{"$f":"IF('ASHP Equipment Information'!D87=\"\",\"\",INDEX(References!$V$7:$V$19,MATCH('ASHP Equipment Information'!$D87,References!$S$7:$S$19,0)))","v":""},{"$f":"IF('ASHP Equipment Information'!D87=\"\",\"\",INDEX(References!$Y$7:$Y$19,MATCH('ASHP Equipment Information'!$D87,References!$S$7:$S$19,0)))","v":""},{"$f":"IF('ASHP Equipment Information'!D87=\"\",\"\",INDEX(References!$Z$7:$Z$19,MATCH('ASHP Equipment Information'!$D87,References!$S$7:$S$19,0)))","v":""},{"$f":"IF('ASHP Equipment Information'!D87=\"\",\"\",INDEX(References!$W$7:$W$19,MATCH('ASHP Equipment Information'!$D87,References!$S$7:$S$19,0)))","v":""},{"$f":"IF('ASHP Equipment Information'!D87=\"\",\"\",INDEX(References!$X$7:$X$19,MATCH('ASHP Equipment Information'!$D87,References!$S$7:$S$19,0)))","v":""},"","",{"$f":"IF('ASHP Equipment Information'!G101=\"\",\"\",IF(AC31=0,\"\",IF(AND(W31<AC31,W31<AD31),\"DNQ\",IF(W31>=AD31,\"Tier II\",\"Tier I\"))))","v":""},{"$f":"IF(OR(AE31=\"DNQ\",AF31=\"DNQ\",AG31=\"DNQ\",'ASHP Load Calculations'!D71=\"FAIL\"),\"DNQ\",IF(OR(AE31=\"Tier I\",AG31=\"Tier I\"),\"Tier I\",IF(OR(AE31=\"Tier II\",AG31=\"Tier II\"),\"Tier II\",\"Tier III\")))","v":"Tier III"},{"$f":"References!$C$15","v":""},{"$f":"IF('ASHP Equipment Information'!D87=\"\",\"\",IF(AH31=\"DNQ\",\"DNQ\",INDEX(IF(AI31=\"Income Eligible \",References!$AK$3:$AK$36,References!$AJ$3:$AJ$36),MATCH(E31,References!$AE$3:$AE$36,0))*('ASHP Equipment Information'!G95/12000)))","v":""},{"$f":"IF('ASHP Equipment Information'!D87=\"\",\"\",IF(AJ31=\"DNQ\",0,INDEX(References!$AL$3:$AL$36,MATCH(Qualifying_Index!E31,References!$AE$3:$AE$36,0))))","v":""},2,{"$f":"IF(COUNTIF(AL27:AL30,1),0,AK31)","v":""},{"$f":"IF(AJ31=\"\",\"\",AJ31*References!$BX$23)","v":""},null,{"$f":"'ASHP Load Calculations'!D67","v":0},{"$f":"'ASHP Load Calculations'!D69","v":0},{"$f":"(('ASHP Equipment Information'!G91*0.65))","v":0},{"$f":"(('ASHP Equipment Information'!G91*1.35))","v":0},{"$f":"IF(T31=\"\",0,IF(References!$C$21=TRUE,(AQ31*0.9),T31*0.65))","v":0},{"$f":"IF(T31=\"\",0,IF(References!$C$21=TRUE,(AQ31*1.2),T31*1.35))","v":0},{"$f":"IF(AND('ASHP Load Calculations'!D67>=Qualifying_Index!AR31,'ASHP Load Calculations'!D67<=Qualifying_Index!AS31),\"PASS\",\"FAIL\")","v":"PASS"},{"$f":"IF(OR(AT31=0,AU31=0),\"FAIL\",IF(AND(IF(References!$C$21=TRUE,T31,AQ31)>=AT31,IF(References!$C$21=TRUE,T31,AQ31)<=AU31),\"PASS\",\"FAIL\"))","v":"FAIL"},{"$f":"IF(References!$C$21=TRUE,IF(AND('ASHP Load Calculations'!D67=\"\",'ASHP Load Calculations'!D69=\"\"),\"Missing Info\",IF(AW31=\"PASS\",\"PASS\",\"FAIL\")),IF(AND('ASHP Load Calculations'!D67=\"\",'ASHP Load Calculations'!D69=\"\",LEFT('ASHP Equipment Information'!D87,6)=\"Ducted\",B31=\"Cold Climate\"),\"Missing Info\",IF(OR(AV31=\"PASS\",AW31=\"PASS\",AND(LEFT('ASHP Equipment Information'!D87,6)<>\"Ducted\",B31<>\"Cold Climate\")),\"PASS\",\"FAIL\")))","v":"PASS"},null,{"$f":"IF(B31=\"\",\"\",IF(B31=\"Cold Climate\",_xlfn.IFNA(IF(INDEX('Integrated Controls'!$C$17:$C$18,MATCH('ASHP Load Calculations'!$G$65,'Integrated Controls'!$B$17:$B$18,0))=0,\"Separate Control\",INDEX('Integrated Controls'!$C$17:$C$18,MATCH('ASHP Load Calculations'!$G$65,'Integrated Controls'!$B$17:$B$18,0))),\"Separate Control\"),\"\"))","v":""},"",{"$f":"IF(AZ31=\"\",\"\",IF(AZ31=\"No Fossil Fuel Heater\",1,IF(AZ31=\"Integrated/Modulating Control\",IF(ROUND(BA31,1)>1,1,ROUND(BA31,1)),IF(LEFT('ASHP Equipment Information'!D87,6)=\"Ducted\",0.9,IF(BA31>=0.65,0.7,IF(BA31>=0.55,0.6,IF(BA31>=0.45,0.5,IF(BA31>=0.35,0.4,0.3))))))))","v":""},{"$f":"IF(B31=\"\",\"\",IF(B31=\"Cold Climate\",'ASHP Equipment Information'!D87&\" \"&AZ31&\" \"&BB31,\"\"))","v":""},{"$f":"IF($BC31=\"\",\"\",INDEX(References!AJ$74:AJ$129,MATCH($BC31,References!$AH$74:$AH$129,0)))","v":""},{"$f":"IF($BC31=\"\",\"\",INDEX(References!AK$74:AK$129,MATCH($BC31,References!$AH$74:$AH$129,0)))","v":""},{"$f":"IF($BC31=\"\",\"\",INDEX(References!AL$74:AL$129,MATCH($BC31,References!$AH$74:$AH$129,0)))","v":""},{"$f":"IF($BC31=\"\",\"\",INDEX(References!AM$74:AM$129,MATCH($BC31,References!$AH$74:$AH$129,0)))","v":""},"",{"$f":"IF(BC31=\"\",\"\",BD31+BE31*W31/References!$E$12)","v":""},{"$f":"IF($BC31=\"\",\"\",INDEX(References!AN$74:AN$129,MATCH($BC31,References!$AH$74:$AH$129,0)))","v":""},{"$f":"IF($BC31=\"\",\"\",INDEX(References!AO$74:AO$129,MATCH($BC31,References!$AH$74:$AH$129,0)))","v":""},null,{"$f":"IF(OR('ASHP Equipment Information'!G93=\"\",'ASHP Equipment Information'!G91=\"\",'ASHP Equipment Information'!G99=\"\",'ASHP Equipment Information'!G101=\"\",'ASHP Equipment Information'!D91=\"\",'ASHP Equipment Information'!D93=\"\",'ASHP Equipment Information'!D95=\"\",'ASHP Equipment Information'!D97=\"\",'ASHP Equipment Information'!D99=\"\",'ASHP Equipment Information'!D101=\"\"),\"Missing Info\",\"\")","v":"Missing Info"},{"$f":"IF(AND(BV31=1,'ASHP Equipment Information'!G101=\"\"),\"Missing Info\",IF(BU31=\"PTHP\",BM31,IF(OR('ASHP Equipment Information'!G93=\"\",'ASHP Equipment Information'!G91=\"\",'ASHP Equipment Information'!G97=\"\",'ASHP Equipment Information'!G99=\"\",'ASHP Equipment Information'!D91=\"\",'ASHP Equipment Information'!D93=\"\",'ASHP Equipment Information'!D95=\"\",'ASHP Equipment Information'!D99=\"\",'ASHP Equipment Information'!D101=\"\",AX31=\"Missing Info\"),\"Missing Info\",\"\")))","v":"Missing Info"},{"$f":"IF(AND(BV31=1,'ASHP Equipment Information'!G101=\"\"),\"Missing Info\",IF(BU31=\"PTHP\",BM31,IF(OR('ASHP Equipment Information'!D91=\"\",'ASHP Equipment Information'!D93=\"\",'ASHP Equipment Information'!D95=\"\",'ASHP Equipment Information'!D99=\"\",'ASHP Equipment Information'!D101=\"\",'ASHP Equipment Information'!G93=\"\",'ASHP Equipment Information'!G91=\"\",'ASHP Equipment Information'!G97=\"\"),\"Missing Info\",\"\")))","v":"Missing Info"},{"$f":"IF(OR('ASHP Load Calculations'!G71=\"\",'ASHP Equipment Information'!G99=\"\"),\"\",IF(OR('ASHP Equipment Information'!D87=\"Ducted ASHP\",'ASHP Equipment Information'!D87=\"Ducted ccASHP\"),BR31*HP_kW_CA,0))","v":""},{"$f":"IF('ASHP Equipment Information'!G99=\"\",\"\",IF(OR('ASHP Load Calculations'!G71=\"\"),\"\",'ASHP Equipment Information'!G93*(12/'ASHP Equipment Information'!G99)*kW_RS))","v":""},{"$f":"IF(OR('ASHP Load Calculations'!G71=\"\",'ASHP Equipment Information'!G97=\"\",'ASHP Equipment Information'!G99=\"\"),\"\",IF(OR('ASHP Equipment Information'!D87=\"Ducted ASHP\",'ASHP Equipment Information'!D87=\"Ducted ccASHP\"),'ASHP Equipment Information'!G93/12000*(12/'ASHP Equipment Information'!G97*FLH_Cool)*QI_kWh,0))","v":""},{"$f":"IF(OR('ASHP Load Calculations'!G71=\"\",'ASHP Equipment Information'!G97=\"\",'ASHP Equipment Information'!G99=\"\"),\"\",IF(OR('ASHP Equipment Information'!D87=\"Ducted ASHP\",'ASHP Equipment Information'!D87=\"Ducted ccASHP\"),'ASHP Equipment Information'!G95/12000*(12/'ASHP Equipment Information'!G101*FLH_Heat)*QI_kWh,0))","v":""},null,{"$f":"IF('ASHP Equipment Information'!D87=\"\",\"\",INDEX(References!$AB$7:$AB$19,MATCH('ASHP Equipment Information'!D87,Equipment_Type,0)))","v":""},{"$f":"IF('ASHP Equipment Information'!D87=\"\",\"\",INDEX(References!$AA$7:$AA$19,MATCH('ASHP Equipment Information'!D87,Equipment_Type,0)))","v":""},null,{"$f":"IF(B31=\"\",References!$D$25,IF(References!$H$13=\"New Construction\",FLH_Cool,IF(References!$H$13=\"\",0,References!$C$25)))","v":649},{"$f":"IF(B31=\"\",References!$D$26,IF(References!$H$13=\"New Construction\",FLH_Heat,IF(References!$H$13=\"\",0,References!$C$26)))","v":788},null,{"$f":"IF(OR($AX31=\"FAIL\",'ASHP Equipment Information'!G93=\"\",AX31=\"Missing Info\",AH31=\"DNQ\"),0,IF(B31=\"Cold Climate\",((AP31/1000)*((1/I31)-(1/V31))*BJ31)+SUM(BP31:BQ31),((S31/12000)*((12/I31)-(12/V31)))+SUM(BP31:BQ31)))","v":0},{"$f":"IF(OR($AX31=\"FAIL\",'ASHP Equipment Information'!G93=\"\",AX31=\"Missing Info\",AH31=\"DNQ\"),0,IF(B31=\"Cold Climate\",((AP31/1000)*((1/J31)-(1/BH31))*BX31*BJ31)+BR31,IF(BU31=\"PTHP\",((S31/12000)*(12/I31-12/V31)*BX31),((('ASHP Equipment Information'!G93/12000)*((12/J31)-(12/U31))*BX31))+BR31)))","v":0},{"$f":"IF(OR($AX31=\"FAIL\",'ASHP Equipment Information'!G93=\"\",AX31=\"Missing Info\",AH31=\"DNQ\"),0,CB31*References!$E$12/1000)","v":0},{"$f":"CB31*References!$A$12","v":0},{"$f":"IF(OR($AX31=\"FAIL\",T31=\"\",AX31=\"Missing Info\",AH31=\"DNQ\"),0,IF(N31=0,SUM(BP31:BQ31),IF(B31=\"Cold Climate\",((AQ31/1000)*((1/L31)-(1/(W31/3.412)))*(1/References!$E$12)+SUM(BP31:BQ31))*N31,((T31/12000)*((1/(L31))-(1/(W31/3.412)))+SUM(BP31:BQ31))*N31)))","v":0},{"$f":"IF(OR($AX31=\"FAIL\",T31=\"\",AX31=\"Missing Info\",AH31=\"DNQ\"),0,IF(N31=0,SUM(BS31),IF(B31=\"Cold Climate\",((AQ31/1000)*((1/L31)-(1/BI31))*(1/References!$E$12)*BY31*BK31*N31+BS31),((T31/12000)*((12/L31)-(12/W31))*BY31*N31+BS31))))","v":0},{"$f":"IF(OR($AX31=\"FAIL\",'ASHP Equipment Information'!G95=\"\",AX31=\"Missing Info\",AH31=\"DNQ\"),0,IF(B31=\"Cold Climate\",-((AQ31/1000)*(1/(W31/3.412))*(1/References!$E$12))*O31,-((T31/12000)*(1/(W31/3.412)))*O31))","v":0},{"$f":"IF(OR($AX31=\"FAIL\",'ASHP Equipment Information'!G95=\"\",AX31=\"Missing Info\",AH31=\"DNQ\"),0,IF(B31=\"Cold Climate\",((AQ31/1000)*(1/BI31)*(1/References!$E$12)*BY31*BK31)*O31,(((T31/12000)*(12/W31)*BY31)-(T31*BY31/1000000)*P31)*O31))","v":0},{"$f":"IF(OR($AX31=\"FAIL\",AX31=\"Missing Info\",'ASHP Equipment Information'!D87=\"\"),0,IF(References!$I$36=TRUE,CF31*References!$E$12/1000,((CF31-CH31)*References!$E$12/1000)))","v":0},{"$f":"IF(OR($AX31=\"FAIL\",AX31=\"Missing Info\",'ASHP Equipment Information'!D87=\"\"),0,IF(O31<>0,IF(B31=\"Cold Climate\",((AQ31*BY31/M31)/1000000)*O31,((T31*BY31/M31)/1000000)*O31*P31),0))","v":0},0,{"$f":"(CF31-CH31)*References!$A$12","v":0},{"$f":"CJ31*Q31*References!$D$4","v":0},0]
[6,{"$f":"IF(OR('ASHP Equipment Information'!D106=\"Ducted ccASHP\",'ASHP Equipment Information'!D106=\"Ductless Mini Split - ccASHP\",'ASHP Equipment Information'!D106=\"Ductless Multi Split - ccASHP\"),\"Cold Climate\",\"\")","v":""},{"$f":"IF(References!$C$21=TRUE,\"Whole House\",IF(RIGHT(References!$H$36,2)=\"HP\",\"Retrofit\",\"New\"))","v":"New"},{"$f":"IF(References!$C$21<>TRUE,\"\",IF(References!$A$21=2,1,IF(AND('Site Information'!$C$18<>\"Central Air Conditioner\",'Site Information'!$C$18<>\"Ducted Air Source HP\",LEFT(H32,3)=\"Oil\"),2,3)))","v":""},{"$f":"C32&\" \"&'ASHP Equipment Information'!D106&\" \"&'ASHP Load Calculations'!G82&D32","v":"New  "},null,{"$f":"IF(References!$A$21=2,\"New Construction\",IF('ASHP Equipment Information'!G106=References!$Q$86,IF(OR('Site Information'!$C$24=\"\",'Site Information'!$C$24=\"Select…\"),\"None\",'Site Information'!$C$24),IF(OR('Site Information'!$C$18=\"\",'Site Information'!$C$18=\"Select…\"),\"None\",'Site Information'!$C$18)))","v":"None"},{"$f":"IF(References!$A$21=2,\"New Construction\",IF('ASHP Equipment Information'!G106=References!$Q$86,IF(OR('Site Information'!$C$22=\"\",'Site Information'!$C$22=\"Select…\"),\"None\",'Site Information'!$C$22),IF(OR('Site Information'!$C$16=\"\",'Site Information'!$C$16=\"Select…\"),\"None\",'Site Information'!$C$16)))","v":"None"},{"$f":"IF(G32=0,0,IF(OR(G32=\"None\",G32=\"New Construction\"),INDEX(References!$K$8:$K$16,MATCH(G32,References!$J$8:$J$16,0)),IF('ASHP Equipment Information'!$G106=References!$Q$86,IF('Site Information'!$J$47=\"\",INDEX(References!$K$8:$K$16,MATCH(G32,References!$J$8:$J$16,0)),'Site Information'!$J$47),IF('Site Information'!$J$35=\"\",INDEX(References!$K$8:$K$16,MATCH(G32,References!$J$8:$J$16,0)),'Site Information'!$J$35))))","v":12.3},{"$f":"IF(G32=0,0,IF(OR(G32=\"None\",G32=\"New Construction\"),INDEX(References!$L$8:$L$16,MATCH(G32,References!$J$8:$J$16,0)),IF('ASHP Equipment Information'!G106=References!$Q$86,IF('Site Information'!$J$45=\"\",INDEX(References!$L$8:$L$16,MATCH(G32,References!$J$8:$J$16,0)),'Site Information'!$J$45),IF('Site Information'!$J$33=\"\",INDEX(References!$L$8:$L$16,MATCH(G32,References!$J$8:$J$16,0)),'Site Information'!$J$33))))","v":15},{"$f":"IF(H32=\"Electric ASHP\",IF('ASHP Equipment Information'!G106=References!$Q$86,IF('Site Information'!$C$45<8.5,References!$I$51,References!$I$52),IF('Site Information'!$C$33<8.5,References!$I$51,References!$I$52)),0)","v":0},{"$f":"IF(H32=0,0,IF(OR(H32=\"None\",H32=\"New Construction\"),INDEX(References!$L$20:$L$36,MATCH(H32,References!$H$20:$H$36,0)),IF('ASHP Equipment Information'!G106=References!$Q$86,IF(AND('Site Information'!$C$45=\"\",'Site Information'!$C$47=\"\"),INDEX(References!$L$20:$L$36,MATCH(H32,References!$H$20:$H$36,0)),IF(H32=\"Electric ASHP\",'Site Information'!$C$45*K32/3.412,'Site Information'!$C$47)),IF(AND('Site Information'!$C$33,'Site Information'!$C$35=\"\"),INDEX(References!$L$20:$L$36,MATCH(H32,References!$H$20:$H$36,0)),IF(H32=\"Electric ASHP\",'Site Information'!$C$33*K32/3.412,'Site Information'!$C$35)))))","v":0},{"$f":"IF(H32=0,0,IF(OR(H32=\"None\",H32=\"New Construction\"),INDEX(References!$M$20:$M$36,MATCH(H32,References!$H$20:$H$36,0)),IF('ASHP Equipment Information'!G106=References!$Q$86,IF('Site Information'!$C$49=\"\",INDEX(References!$M$20:$M$36,MATCH(H32,References!$H$20:$H$36,0)),'Site Information'!$C$49),IF('Site Information'!$C$37=\"\",INDEX(References!$M$20:$M$36,MATCH(H32,References!$H$20:$H$36,0)),'Site Information'!$C$37))))","v":0},{"$f":"IF(H32=0,0,INDEX(References!$I$20:$I$36,MATCH(H32,References!$H$20:$H$36,0)))","v":0.03},{"$f":"IF(H32=0,0,INDEX(References!$J$20:$J$36,MATCH(H32,References!$H$20:$H$36,0)))","v":0.97},{"$f":"IF(H32=0,0,INDEX(References!$N$20:$N$36,MATCH(H32,References!$H$20:$H$36,0)))","v":0.8},{"$f":"IF(H32=0,0,INDEX(References!$O$20:$O$36,MATCH(H32,References!$H$20:$H$36,0)))","v":0},null,{"$f":"IF('ASHP Equipment Information'!G110=\"\",\"\",'ASHP Equipment Information'!G110)","v":""},{"$f":"IF('ASHP Equipment Information'!G112=\"\",\"\",'ASHP Equipment Information'!G112)","v":""},{"$f":"IF('ASHP Equipment Information'!G116=\"\",\"\",IF('ASHP Equipment Information'!F116=\"SEER:\",'ASHP Equipment Information'!G116,ROUND(1.2476*'ASHP Equipment Information'!G116-2.8674,1)))","v":""},{"$f":"IF('ASHP Equipment Information'!G118=\"\",\"\",IF('ASHP Equipment Information'!F118=\"EER:\",'ASHP Equipment Information'!G118,ROUND(1.0578*'ASHP Equipment Information'!G118-0.1769,1)))","v":""},{"$f":"IF('ASHP Equipment Information'!G120=\"\",\"\",IF('ASHP Equipment Information'!F120=\"HSPF:\",'ASHP Equipment Information'!G120,ROUND(1.1702*'ASHP Equipment Information'!G120+0.07,1)))","v":""},{"$f":"IF('ASHP Equipment Information'!D18=\"\",\"\",INDEX(References!$T$7:$T$19,MATCH('ASHP Equipment Information'!$D18,References!$S$7:$S$19,0)))","v":""},{"$f":"IF('ASHP Equipment Information'!D106=\"\",\"\",INDEX(References!$U$7:$U$19,MATCH('ASHP Equipment Information'!$D106,References!$S$7:$S$19,0)))","v":""},{"$f":"IF('ASHP Equipment Information'!D106=\"\",\"\",INDEX(References!$V$7:$V$19,MATCH('ASHP Equipment Information'!$D106,References!$S$7:$S$19,0)))","v":""},{"$f":"IF('ASHP Equipment Information'!D106=\"\",\"\",INDEX(References!$Y$7:$Y$19,MATCH('ASHP Equipment Information'!$D106,References!$S$7:$S$19,0)))","v":""},{"$f":"IF('ASHP Equipment Information'!D106=\"\",\"\",INDEX(References!$Z$7:$Z$19,MATCH('ASHP Equipment Information'!$D106,References!$S$7:$S$19,0)))","v":""},{"$f":"IF('ASHP Equipment Information'!D106=\"\",\"\",INDEX(References!$W$7:$W$19,MATCH('ASHP Equipment Information'!$D106,References!$S$7:$S$19,0)))","v":""},{"$f":"IF('ASHP Equipment Information'!D106=\"\",\"\",INDEX(References!$X$7:$X$19,MATCH('ASHP Equipment Information'!$D106,References!$S$7:$S$19,0)))","v":""},"","",{"$f":"IF('ASHP Equipment Information'!G120=\"\",\"\",IF(AC32=0,\"\",IF(AND(W32<AC32,W32<AD32),\"DNQ\",IF(W32>=AD32,\"Tier II\",\"Tier I\"))))","v":""},{"$f":"IF(OR(AE32=\"DNQ\",AF32=\"DNQ\",AG32=\"DNQ\",'ASHP Load Calculations'!D84=\"FAIL\"),\"DNQ\",IF(OR(AE32=\"Tier I\",AG32=\"Tier I\"),\"Tier I\",IF(OR(AE32=\"Tier II\",AG32=\"Tier II\"),\"Tier II\",\"Tier III\")))","v":"Tier III"},{"$f":"References!$C$15","v":""},{"$f":"IF('ASHP Equipment Information'!D106=\"\",\"\",IF(AH32=\"DNQ\",\"DNQ\",INDEX(IF(AI32=\"Income Eligible \",References!$AK$3:$AK$36,References!$AJ$3:$AJ$36),MATCH(E32,References!$AE$3:$AE$36,0))*('ASHP Equipment Information'!G114/12000)))","v":""},{"$f":"IF('ASHP Equipment Information'!D106=\"\",\"\",IF(AJ32=\"DNQ\",0,INDEX(References!$AL$3:$AL$36,MATCH(Qualifying_Index!E32,References!$AE$3:$AE$36,0))))","v":""},2,{"$f":"IF(COUNTIF(AL27:AL31,1),0,AK32)","v":""},{"$f":"IF(AJ32=\"\",\"\",AJ32*References!$BX$23)","v":""},null,{"$f":"'ASHP Load Calculations'!D80","v":0},{"$f":"'ASHP Load Calculations'!D82","v":0},{"$f":"(('ASHP Equipment Information'!G110*0.65))","v":0},{"$f":"(('ASHP Equipment Information'!G110*1.35))","v":0},{"$f":"IF(T32=\"\",0,IF(References!$C$21=TRUE,(AQ32*0.9),T32*0.65))","v":0},{"$f":"IF(T32=\"\",0,IF(References!$C$21=TRUE,(AQ32*1.2),T32*1.35))","v":0},{"$f":"IF(AND('ASHP Load Calculations'!D80>=Qualifying_Index!AR32,'ASHP Load Calculations'!D80<=Qualifying_Index!AS32),\"PASS\",\"FAIL\")","v":"PASS"},{"$f":"IF(OR(AT32=0,AU32=0),\"FAIL\",IF(AND(IF(References!$C$21=TRUE,T32,AQ32)>=AT32,IF(References!$C$21=TRUE,T32,AQ32)<=AU32),\"PASS\",\"FAIL\"))","v":"FAIL"},{"$f":"IF(References!$C$21=TRUE,IF(AND('ASHP Load Calculations'!D80=\"\",'ASHP Load Calculations'!D82=\"\"),\"Missing Info\",IF(AW32=\"PASS\",\"PASS\",\"FAIL\")),IF(AND('ASHP Load Calculations'!D80=\"\",'ASHP Load Calculations'!D82=\"\",LEFT('ASHP Equipment Information'!D106,6)=\"Ducted\",B32=\"Cold Climate\"),\"Missing Info\",IF(OR(AV32=\"PASS\",AW32=\"PASS\",AND(LEFT('ASHP Equipment Information'!D106,6)<>\"Ducted\",B32<>\"Cold Climate\")),\"PASS\",\"FAIL\")))","v":"PASS"},null,{"$f":"IF(B32=\"\",\"\",IF(B32=\"Cold Climate\",_xlfn.IFNA(IF(INDEX('Integrated Controls'!$C$17:$C$18,MATCH('ASHP Load Calculations'!$G$78,'Integrated Controls'!$B$17:$B$18,0))=0,\"Separate Control\",INDEX('Integrated Controls'!$C$17:$C$18,MATCH('ASHP Load Calculations'!$G$78,'Integrated Controls'!$B$17:$B$18,0))),\"Separate Control\"),\"\"))","v":""},"",{"$f":"IF(AZ32=\"\",\"\",IF(AZ32=\"No Fossil Fuel Heater\",1,IF(AZ32=\"Integrated/Modulating Control\",IF(ROUND(BA32,1)>1,1,ROUND(BA32,1)),IF(LEFT('ASHP Equipment Information'!D106,6)=\"Ducted\",0.9,IF(BA32>=0.65,0.7,IF(BA32>=0.55,0.6,IF(BA32>=0.45,0.5,IF(BA32>=0.35,0.4,0.3))))))))","v":""},{"$f":"IF(B32=\"\",\"\",IF(B32=\"Cold Climate\",'ASHP Equipment Information'!D106&\" \"&AZ32&\" \"&BB32,\"\"))","v":""},{"$f":"IF($BC32=\"\",\"\",INDEX(References!AJ$74:AJ$129,MATCH($BC32,References!$AH$74:$AH$129,0)))","v":""},{"$f":"IF($BC32=\"\",\"\",INDEX(References!AK$74:AK$129,MATCH($BC32,References!$AH$74:$AH$129,0)))","v":""},{"$f":"IF($BC32=\"\",\"\",INDEX(References!AL$74:AL$129,MATCH($BC32,References!$AH$74:$AH$129,0)))","v":""},{"$f":"IF($BC32=\"\",\"\",INDEX(References!AM$74:AM$129,MATCH($BC32,References!$AH$74:$AH$129,0)))","v":""},"",{"$f":"IF(BC32=\"\",\"\",BD32+BE32*W32/References!$E$12)","v":""},{"$f":"IF($BC32=\"\",\"\",INDEX(References!AN$74:AN$129,MATCH($BC32,References!$AH$74:$AH$129,0)))","v":""},{"$f":"IF($BC32=\"\",\"\",INDEX(References!AO$74:AO$129,MATCH($BC32,References!$AH$74:$AH$129,0)))","v":""},null,{"$f":"IF(OR('ASHP Equipment Information'!G112=\"\",'ASHP Equipment Information'!G110=\"\",'ASHP Equipment Information'!G118=\"\",'ASHP Equipment Information'!G120=\"\",'ASHP Equipment Information'!D110=\"\",'ASHP Equipment Information'!D112=\"\",'ASHP Equipment Information'!D114=\"\",'ASHP Equipment Information'!D116=\"\",'ASHP Equipment Information'!D118=\"\",'ASHP Equipment Information'!D120=\"\"),\"Missing Info\",\"\")","v":"Missing Info"},{"$f":"IF(AND(BV32=1,'ASHP Equipment Information'!G120=\"\"),\"Missing Info\",IF(BU32=\"PTHP\",BM32,IF(OR('ASHP Equipment Information'!G112=\"\",'ASHP Equipment Information'!G110=\"\",'ASHP Equipment Information'!G116=\"\",'ASHP Equipment Information'!G118=\"\",'ASHP Equipment Information'!D110=\"\",'ASHP Equipment Information'!D112=\"\",'ASHP Equipment Information'!D114=\"\",'ASHP Equipment Information'!D118=\"\",'ASHP Equipment Information'!D120=\"\",AX32=\"Missing Info\"),\"Missing Info\",\"\")))","v":"Missing Info"},{"$f":"IF(AND(BV32=1,'ASHP Equipment Information'!G120=\"\"),\"Missing Info\",IF(BU32=\"PTHP\",BM32,IF(OR('ASHP Equipment Information'!D110=\"\",'ASHP Equipment Information'!D112=\"\",'ASHP Equipment Information'!D114=\"\",'ASHP Equipment Information'!D118=\"\",'ASHP Equipment Information'!D120=\"\",'ASHP Equipment Information'!G112=\"\",'ASHP Equipment Information'!G110=\"\",'ASHP Equipment Information'!G116=\"\"),\"Missing Info\",\"\")))","v":"Missing Info"},{"$f":"IF(OR('ASHP Load Calculations'!G84=\"\",'ASHP Equipment Information'!G118),\"\",IF(OR('ASHP Equipment Information'!D106=\"Ducted ASHP\",'ASHP Equipment Information'!D106=\"Ducted ccASHP\"),BR32*HP_kW_CA,0))","v":""},{"$f":"IF('ASHP Equipment Information'!G118=\"\",\"\",IF(OR('ASHP Load Calculations'!G84=\"\"),\"\",'ASHP Equipment Information'!G112*(12/'ASHP Equipment Information'!G118)*kW_RS))","v":""},{"$f":"IF(OR('ASHP Load Calculations'!G84=\"\",'ASHP Equipment Information'!G116=\"\",'ASHP Equipment Information'!G118=\"\"),\"\",IF(OR('ASHP Equipment Information'!D106=\"Ducted ASHP\",'ASHP Equipment Information'!D106=\"Ducted ccASHP\"),'ASHP Equipment Information'!G112/12000*(12/'ASHP Equipment Information'!G116*FLH_Cool)*QI_kWh,0))","v":""},{"$f":"IF(OR('ASHP Load Calculations'!G84=\"\",'ASHP Equipment Information'!G116=\"\",'ASHP Equipment Information'!G118=\"\"),\"\",IF(OR('ASHP Equipment Information'!D106=\"Ducted ASHP\",'ASHP Equipment Information'!D106=\"Ducted ccASHP\"),'ASHP Equipment Information'!G114/12000*(12/'ASHP Equipment Information'!G120*FLH_Heat)*QI_kWh,0))","v":""},null,{"$f":"IF('ASHP Equipment Information'!D106=\"\",\"\",INDEX(References!$AB$7:$AB$19,MATCH('ASHP Equipment Information'!D106,Equipment_Type,0)))","v":""},{"$f":"IF('ASHP Equipment Information'!D106=\"\",\"\",INDEX(References!$AA$7:$AA$19,MATCH('ASHP Equipment Information'!D106,Equipment_Type,0)))","v":""},null,{"$f":"IF(B32=\"\",References!$D$25,IF(References!$H$13=\"New Construction\",FLH_Cool,IF(References!$H$13=\"\",0,References!$C$25)))","v":649},{"$f":"IF(B32=\"\",References!$D$26,IF(References!$H$13=\"New Construction\",FLH_Heat,IF(References!$H$13=\"\",0,References!$C$26)))","v":788},null,{"$f":"IF(OR($AX32=\"FAIL\",'ASHP Equipment Information'!G112=\"\",AX32=\"Missing Info\",AH32=\"DNQ\"),0,IF(B32=\"Cold Climate\",((AP32/1000)*((1/I32)-(1/V32))*BJ32)+SUM(BP32:BQ32),((S32/12000)*((12/I32)-(12/V32)))+SUM(BP32:BQ32)))","v":0},{"$f":"IF(OR($AX32=\"FAIL\",'ASHP Equipment Information'!G112=\"\",AX32=\"Missing Info\",AH32=\"DNQ\"),0,IF(B32=\"Cold Climate\",((AP32/1000)*((1/J32)-(1/BH32))*BX32*BJ32)+BR32,IF(BU32=\"PTHP\",((S32/12000)*(12/I32-12/V32)*BX32),((('ASHP Equipment Information'!G112/12000)*((12/J32)-(12/U32))*BX32))+BR32)))","v":0},{"$f":"IF(OR($AX32=\"FAIL\",'ASHP Equipment Information'!G112=\"\",AX32=\"Missing Info\",AH32=\"DNQ\"),0,CB32*References!$E$12/1000)","v":0},{"$f":"CB32*References!$A$12","v":0},{"$f":"IF(OR($AX32=\"FAIL\",T32=\"\",AX32=\"Missing Info\",AH32=\"DNQ\"),0,IF(N32=0,SUM(BP32:BQ32),IF(B32=\"Cold Climate\",((AQ32/1000)*((1/L32)-(1/(W32/3.412)))*(1/References!$E$12)+SUM(BP32:BQ32))*N32,((T32/12000)*((1/(L32))-(1/(W32/3.412)))+SUM(BP32:BQ32))*N32)))","v":0},{"$f":"IF(OR($AX32=\"FAIL\",T32=\"\",AX32=\"Missing Info\",AH32=\"DNQ\"),0,IF(N32=0,SUM(BS32),IF(B32=\"Cold Climate\",((AQ32/1000)*((1/L32)-(1/BI32))*(1/References!$E$12)*BY32*BK32*N32+BS32),((T32/12000)*((12/L32)-(12/W32))*BY32*N32+BS32))))","v":0},{"$f":"IF(OR($AX32=\"FAIL\",'ASHP Equipment Information'!G114=\"\",AX32=\"Missing Info\",AH32=\"DNQ\"),0,IF(B32=\"Cold Climate\",-((AQ32/1000)*(1/(W32/3.412))*(1/References!$E$12))*O32,-((T32/12000)*(1/(W32/3.412)))*O32))","v":0},{"$f":"IF(OR($AX32=\"FAIL\",'ASHP Equipment Information'!G114=\"\",AX32=\"Missing Info\",AH32=\"DNQ\"),0,IF(B32=\"Cold Climate\",((AQ32/1000)*(1/BI32)*(1/References!$E$12)*BY32*BK32)*O32,(((T32/12000)*(12/W32)*BY32)-(T32*BY32/1000000)*P32)*O32))","v":0},{"$f":"IF(OR($AX32=\"FAIL\",AX32=\"Missing Info\",'ASHP Equipment Information'!D106=\"\"),0,IF(References!$I$36=TRUE,CF32*References!$E$12/1000,((CF32-CH32)*References!$E$12/1000)))","v":0},{"$f":"IF(OR($AX32=\"FAIL\",AX32=\"Missing Info\",'ASHP Equipment Information'!D106=\"\"),0,IF(O32<>0,IF(B32=\"Cold Climate\",((AQ32*BY32/M32)/1000000)*O32,((T32*BY32/M32)/1000000)*O32*P32),0))","v":0},0,{"$f":"(CF32-CH32)*References!$A$12","v":0},{"$f":"CJ32*Q32*References!$D$4","v":0},0]
[7,{"$f":"IF(OR('ASHP Equipment Information'!D125=\"Ducted ccASHP\",'ASHP Equipment Information'!D125=\"Ductless Mini Split - ccASHP\",'ASHP Equipment Information'!D125=\"Ductless Multi Split - ccASHP\"),\"Cold Climate\",\"\")","v":""},{"$f":"IF(References!$C$21=TRUE,\"Whole House\",IF(RIGHT(References!$H$36,2)=\"HP\",\"Retrofit\",\"New\"))","v":"New"},{"$f":"IF(References!$C$21<>TRUE,\"\",IF(References!$A$21=2,1,IF(AND('Site Information'!$C$18<>\"Central Air Conditioner\",'Site Information'!$C$18<>\"Ducted Air Source HP\",LEFT(H33,3)=\"Oil\"),2,3)))","v":""},{"$f":"C33&\" \"&'ASHP Equipment Information'!D125&\" \"&'ASHP Load Calculations'!G95&D33","v":"New  "},null,{"$f":"IF(References!$A$21=2,\"New Construction\",IF('ASHP Equipment Information'!G125=References!$Q$86,IF(OR('Site Information'!$C$24=\"\",'Site Information'!$C$24=\"Select…\"),\"None\",'Site Information'!$C$24),IF(OR('Site Information'!$C$18=\"\",'Site Information'!$C$18=\"Select…\"),\"None\",'Site Information'!$C$18)))","v":"None"},{"$f":"IF(References!$A$21=2,\"New Construction\",IF('ASHP Equipment Information'!G125=References!$Q$86,IF(OR('Site Information'!$C$22=\"\",'Site Information'!$C$22=\"Select…\"),\"None\",'Site Information'!$C$22),IF(OR('Site Information'!$C$16=\"\",'Site Information'!$C$16=\"Select…\"),\"None\",'Site Information'!$C$16)))","v":"None"},{"$f":"IF(G33=0,0,IF(OR(G33=\"None\",G33=\"New Construction\"),INDEX(References!$K$8:$K$16,MATCH(G33,References!$J$8:$J$16,0)),IF('ASHP Equipment Information'!$G125=References!$Q$86,IF('Site Information'!$J$47=\"\",INDEX(References!$K$8:$K$16,MATCH(G33,References!$J$8:$J$16,0)),'Site Information'!$J$47),IF('Site Information'!$J$35=\"\",INDEX(References!$K$8:$K$16,MATCH(G33,References!$J$8:$J$16,0)),'Site Information'!$J$35))))","v":12.3},{"$f":"IF(G33=0,0,IF(OR(G33=\"None\",G33=\"New Construction\"),INDEX(References!$L$8:$L$16,MATCH(G33,References!$J$8:$J$16,0)),IF('ASHP Equipment Information'!G125=References!$Q$86,IF('Site Information'!$J$45=\"\",INDEX(References!$L$8:$L$16,MATCH(G33,References!$J$8:$J$16,0)),'Site Information'!$J$45),IF('Site Information'!$J$33=\"\",INDEX(References!$L$8:$L$16,MATCH(G33,References!$J$8:$J$16,0)),'Site Information'!$J$33))))","v":15},{"$f":"IF(H33=\"Electric ASHP\",IF('ASHP Equipment Information'!G125=References!$Q$86,IF('Site Information'!$C$45<8.5,References!$I$51,References!$I$52),IF('Site Information'!$C$33<8.5,References!$I$51,References!$I$52)),0)","v":0},{"$f":"IF(H33=0,0,IF(OR(H33=\"None\",H33=\"New Construction\"),INDEX(References!$L$20:$L$36,MATCH(H33,References!$H$20:$H$36,0)),IF('ASHP Equipment Information'!G125=References!$Q$86,IF(AND('Site Information'!$C$45=\"\",'Site Information'!$C$47=\"\"),INDEX(References!$L$20:$L$36,MATCH(H33,References!$H$20:$H$36,0)),IF(H33=\"Electric ASHP\",'Site Information'!$C$45*K33/3.412,'Site Information'!$C$47)),IF(AND('Site Information'!$C$33,'Site Information'!$C$35=\"\"),INDEX(References!$L$20:$L$36,MATCH(H33,References!$H$20:$H$36,0)),IF(H33=\"Electric ASHP\",'Site Information'!$C$33*K33/3.412,'Site Information'!$C$35)))))","v":0},{"$f":"IF(H33=0,0,IF(OR(H33=\"None\",H33=\"New Construction\"),INDEX(References!$M$20:$M$36,MATCH(H33,References!$H$20:$H$36,0)),IF('ASHP Equipment Information'!G125=References!$Q$86,IF('Site Information'!$C$49=\"\",INDEX(References!$M$20:$M$36,MATCH(H33,References!$H$20:$H$36,0)),'Site Information'!$C$49),IF('Site Information'!$C$37=\"\",INDEX(References!$M$20:$M$36,MATCH(H33,References!$H$20:$H$36,0)),'Site Information'!$C$37))))","v":0},{"$f":"IF(H33=0,0,INDEX(References!$I$20:$I$36,MATCH(H33,References!$H$20:$H$36,0)))","v":0.03},{"$f":"IF(H33=0,0,INDEX(References!$J$20:$J$36,MATCH(H33,References!$H$20:$H$36,0)))","v":0.97},{"$f":"IF(H33=0,0,INDEX(References!$N$20:$N$36,MATCH(H33,References!$H$20:$H$36,0)))","v":0.8},{"$f":"IF(H33=0,0,INDEX(References!$O$20:$O$36,MATCH(H33,References!$H$20:$H$36,0)))","v":0},null,{"$f":"IF('ASHP Equipment Information'!G129=\"\",\"\",'ASHP Equipment Information'!G129)","v":""},{"$f":"IF('ASHP Equipment Information'!G131=\"\",\"\",'ASHP Equipment Information'!G131)","v":""},{"$f":"IF('ASHP Equipment Information'!G135=\"\",\"\",IF('ASHP Equipment Information'!F135=\"SEER:\",'ASHP Equipment Information'!G135,ROUND(1.2476*'ASHP Equipment Information'!G135-2.8674,1)))","v":""},{"$f":"IF('ASHP Equipment Information'!G137=\"\",\"\",IF('ASHP Equipment Information'!F137=\"EER:\",'ASHP Equipment Information'!G137,ROUND(1.0578*'ASHP Equipment Information'!G137-0.1769,1)))","v":""},{"$f":"IF('ASHP Equipment Information'!G139=\"\",\"\",IF('ASHP Equipment Information'!F139=\"HSPF:\",'ASHP Equipment Information'!G139,ROUND(1.1702*'ASHP Equipment Information'!G139+0.07,1)))","v":""},{"$f":"IF('ASHP Equipment Information'!D19=\"\",\"\",INDEX(References!$T$7:$T$19,MATCH('ASHP Equipment Information'!$D19,References!$S$7:$S$19,0)))","v":""},{"$f":"IF('ASHP Equipment Information'!D125=\"\",\"\",INDEX(References!$U$7:$U$19,MATCH('ASHP Equipment Information'!$D125,References!$S$7:$S$19,0)))","v":""},{"$f":"IF('ASHP Equipment Information'!D125=\"\",\"\",INDEX(References!$V$7:$V$19,MATCH('ASHP Equipment Information'!$D125,References!$S$7:$S$19,0)))","v":""},{"$f":"IF('ASHP Equipment Information'!D125=\"\",\"\",INDEX(References!$Y$7:$Y$19,MATCH('ASHP Equipment Information'!$D125,References!$S$7:$S$19,0)))","v":""},{"$f":"IF('ASHP Equipment Information'!D125=\"\",\"\",INDEX(References!$Z$7:$Z$19,MATCH('ASHP Equipment Information'!$D125,References!$S$7:$S$19,0)))","v":""},{"$f":"IF('ASHP Equipment Information'!D125=\"\",\"\",INDEX(References!$W$7:$W$19,MATCH('ASHP Equipment Information'!$D125,References!$S$7:$S$19,0)))","v":""},{"$f":"IF('ASHP Equipment Information'!D125=\"\",\"\",INDEX(References!$X$7:$X$19,MATCH('ASHP Equipment Information'!$D125,References!$S$7:$S$19,0)))","v":""},"","",{"$f":"IF('ASHP Equipment Information'!G139=\"\",\"\",IF(AC33=0,\"\",IF(AND(W33<AC33,W33<AD33),\"DNQ\",IF(W33>=AD33,\"Tier II\",\"Tier I\"))))","v":""},{"$f":"IF(OR(AE33=\"DNQ\",AF33=\"DNQ\",AG33=\"DNQ\",'ASHP Load Calculations'!D97=\"FAIL\"),\"DNQ\",IF(OR(AE33=\"Tier I\",AG33=\"Tier I\"),\"Tier I\",IF(OR(AE33=\"Tier II\",AG33=\"Tier II\"),\"Tier II\",\"Tier III\")))","v":"Tier III"},{"$f":"References!$C$15","v":""},{"$f":"IF('ASHP Equipment Information'!D125=\"\",\"\",IF(AH33=\"DNQ\",\"DNQ\",INDEX(IF(AI33=\"Income Eligible \",References!$AK$3:$AK$36,References!$AJ$3:$AJ$36),MATCH(E33,References!$AE$3:$AE$36,0))*('ASHP Equipment Information'!G133/12000)))","v":""},{"$f":"IF('ASHP Equipment Information'!D125=\"\",\"\",IF(AJ33=\"DNQ\",0,INDEX(References!$AL$3:$AL$36,MATCH(Qualifying_Index!E33,References!$AE$3:$AE$36,0))))","v":""},2,{"$f":"IF(COUNTIF(AL27:AL32,1),0,AK33)","v":""},{"$f":"IF(AJ33=\"\",\"\",AJ33*References!$BX$23)","v":""},null,{"$f":"'ASHP Load Calculations'!D93","v":0},{"$f":"'ASHP Load Calculations'!D95","v":0},{"$f":"(('ASHP Equipment Information'!G129*0.65))","v":0},{"$f":"(('ASHP Equipment Information'!G129*1.35))","v":0},{"$f":"IF(T33=\"\",0,IF(References!$C$21=TRUE,(AQ33*0.9),T33*0.65))","v":0},{"$f":"IF(T33=\"\",0,IF(References!$C$21=TRUE,(AQ33*1.2),T33*1.35))","v":0},{"$f":"IF(AND('ASHP Load Calculations'!D93>=Qualifying_Index!AR33,'ASHP Load Calculations'!D93<=Qualifying_Index!AS33),\"PASS\",\"FAIL\")","v":"PASS"},{"$f":"IF(OR(AT33=0,AU33=0),\"FAIL\",IF(AND(IF(References!$C$21=TRUE,T33,AQ33)>=AT33,IF(References!$C$21=TRUE,T33,AQ33)<=AU33),\"PASS\",\"FAIL\"))","v":"FAIL"},{"$f":"IF(References!$C$21=TRUE,IF(AND('ASHP Load Calculations'!D93=\"\",'ASHP Load Calculations'!D95=\"\"),\"Missing Info\",IF(AW33=\"PASS\",\"PASS\",\"FAIL\")),IF(AND('ASHP Load Calculations'!D93=\"\",'ASHP Load Calculations'!D95=\"\",LEFT('ASHP Equipment Information'!D125,6)=\"Ducted\",B33=\"Cold Climate\"),\"Missing Info\",IF(OR(AV33=\"PASS\",AW33=\"PASS\",AND(LEFT('ASHP Equipment Information'!D125,6)<>\"Ducted\",B33<>\"Cold Climate\")),\"PASS\",\"FAIL\")))","v":"PASS"},null,{"$f":"IF(B33=\"\",\"\",IF(B33=\"Cold Climate\",_xlfn.IFNA(IF(INDEX('Integrated Controls'!$C$17:$C$18,MATCH('ASHP Load Calculations'!$G$91,'Integrated Controls'!$B$17:$B$18,0))=0,\"Separate Control\",INDEX('Integrated Controls'!$C$17:$C$18,MATCH('ASHP Load Calculations'!$G$91,'Integrated Controls'!$B$17:$B$18,0))),\"Separate Control\"),\"\"))","v":""},"",{"$f":"IF(AZ33=\"\",\"\",IF(AZ33=\"No Fossil Fuel Heater\",1,IF(AZ33=\"Integrated/Modulating Control\",IF(ROUND(BA33,1)>1,1,ROUND(BA33,1)),IF(LEFT('ASHP Equipment Information'!D125,6)=\"Ducted\",0.9,IF(BA33>=0.65,0.7,IF(BA33>=0.55,0.6,IF(BA33>=0.45,0.5,IF(BA33>=0.35,0.4,0.3))))))))","v":""},{"$f":"IF(B33=\"\",\"\",IF(B33=\"Cold Climate\",'ASHP Equipment Information'!D125&\" \"&AZ33&\" \"&BB33,\"\"))","v":""},{"$f":"IF($BC33=\"\",\"\",INDEX(References!AJ$74:AJ$129,MATCH($BC33,References!$AH$74:$AH$129,0)))","v":""},{"$f":"IF($BC33=\"\",\"\",INDEX(References!AK$74:AK$129,MATCH($BC33,References!$AH$74:$AH$129,0)))","v":""},{"$f":"IF($BC33=\"\",\"\",INDEX(References!AL$74:AL$129,MATCH($BC33,References!$AH$74:$AH$129,0)))","v":""},{"$f":"IF($BC33=\"\",\"\",INDEX(References!AM$74:AM$129,MATCH($BC33,References!$AH$74:$AH$129,0)))","v":""},"",{"$f":"IF(BC33=\"\",\"\",BD33+BE33*W33/References!$E$12)","v":""},{"$f":"IF($BC33=\"\",\"\",INDEX(References!AN$74:AN$129,MATCH($BC33,References!$AH$74:$AH$129,0)))","v":""},{"$f":"IF($BC33=\"\",\"\",INDEX(References!AO$74:AO$129,MATCH($BC33,References!$AH$74:$AH$129,0)))","v":""},null,{"$f":"IF(OR('ASHP Equipment Information'!G131=\"\",'ASHP Equipment Information'!G129=\"\",'ASHP Equipment Information'!G137=\"\",'ASHP Equipment Information'!G139=\"\",'ASHP Equipment Information'!D129=\"\",'ASHP Equipment Information'!D131=\"\",'ASHP Equipment Information'!D133=\"\",'ASHP Equipment Information'!D135=\"\",'ASHP Equipment Information'!D137=\"\",'ASHP Equipment Information'!D139=\"\"),\"Missing Info\",\"\")","v":"Missing Info"},{"$f":"IF(AND(BV33=1,'ASHP Equipment Information'!G139=\"\"),\"Missing Info\",IF(BU33=\"PTHP\",BM33,IF(OR('ASHP Equipment Information'!G131=\"\",'ASHP Equipment Information'!G129=\"\",'ASHP Equipment Information'!G135=\"\",'ASHP Equipment Information'!G137=\"\",'ASHP Equipment Information'!D129=\"\",'ASHP Equipment Information'!D131=\"\",'ASHP Equipment Information'!D133=\"\",'ASHP Equipment Information'!D137=\"\",'ASHP Equipment Information'!D139=\"\",AX33=\"Missing Info\"),\"Missing Info\",\"\")))","v":"Missing Info"},{"$f":"IF(AND(BV33=1,'ASHP Equipment Information'!G139=\"\"),\"Missing Info\",IF(BU33=\"PTHP\",BM33,IF(OR('ASHP Equipment Information'!D129=\"\",'ASHP Equipment Information'!D131=\"\",'ASHP Equipment Information'!D133=\"\",'ASHP Equipment Information'!D137=\"\",'ASHP Equipment Information'!D139=\"\",'ASHP Equipment Information'!G131=\"\",'ASHP Equipment Information'!G129=\"\",'ASHP Equipment Information'!G135=\"\"),\"Missing Info\",\"\")))","v":"Missing Info"},{"$f":"IF(OR('ASHP Load Calculations'!G97=\"\",'ASHP Equipment Information'!G137=\"\"),\"\",IF(OR('ASHP Equipment Information'!D125=\"Ducted ASHP\",'ASHP Equipment Information'!D125=\"Ducted ccASHP\"),BR33*HP_kW_CA,0))","v":""},{"$f":"IF('ASHP Equipment Information'!G137=\"\",\"\",IF(OR('ASHP Load Calculations'!G97=\"\"),\"\",'ASHP Equipment Information'!G131*(12/'ASHP Equipment Information'!G137)*kW_RS))","v":""},{"$f":"IF(OR('ASHP Load Calculations'!G97=\"\",'ASHP Equipment Information'!G135=\"\",'ASHP Equipment Information'!G137=\"\"),\"\",IF(OR('ASHP Equipment Information'!D125=\"Ducted ASHP\",'ASHP Equipment Information'!D125=\"Ducted ccASHP\"),'ASHP Equipment Information'!G131/12000*(12/'ASHP Equipment Information'!G135*FLH_Cool)*QI_kWh,0))","v":""},{"$f":"IF(OR('ASHP Load Calculations'!G97=\"\",'ASHP Equipment Information'!G135=\"\",'ASHP Equipment Information'!G137=\"\"),\"\",IF(OR('ASHP Equipment Information'!D125=\"Ducted ASHP\",'ASHP Equipment Information'!D125=\"Ducted ccASHP\"),'ASHP Equipment Information'!G133/12000*(12/'ASHP Equipment Information'!G139*FLH_Heat)*QI_kWh,0))","v":""},null,{"$f":"IF('ASHP Equipment Information'!D125=\"\",\"\",INDEX(References!$AB$7:$AB$19,MATCH('ASHP Equipment Information'!D125,Equipment_Type,0)))","v":""},{"$f":"IF('ASHP Equipment Information'!D125=\"\",\"\",INDEX(References!$AA$7:$AA$19,MATCH('ASHP Equipment Information'!D125,Equipment_Type,0)))","v":""},null,{"$f":"IF(B33=\"\",References!$D$25,IF(References!$H$13=\"New Construction\",FLH_Cool,IF(References!$H$13=\"\",0,References!$C$25)))","v":649},{"$f":"IF(B33=\"\",References!$D$26,IF(References!$H$13=\"New Construction\",FLH_Heat,IF(References!$H$13=\"\",0,References!$C$26)))","v":788},null,{"$f":"IF(OR($AX33=\"FAIL\",'ASHP Equipment Information'!G131=\"\",AX33=\"Missing Info\",AH33=\"DNQ\"),0,IF(B33=\"Cold Climate\",((AP33/1000)*((1/I33)-(1/V33))*BJ33)+SUM(BP33:BQ33),((S33/12000)*((12/I33)-(12/V33)))+SUM(BP33:BQ33)))","v":0},{"$f":"IF(OR($AX33=\"FAIL\",'ASHP Equipment Information'!G131=\"\",AX33=\"Missing Info\",AH33=\"DNQ\"),0,IF(B33=\"Cold Climate\",((AP33/1000)*((1/J33)-(1/BH33))*BX33*BJ33)+BR33,IF(BU33=\"PTHP\",((S33/12000)*(12/I33-12/V33)*BX33),((('ASHP Equipment Information'!G131/12000)*((12/J33)-(12/U33))*BX33))+BR33)))","v":0},{"$f":"IF(OR($AX33=\"FAIL\",'ASHP Equipment Information'!G131=\"\",AX33=\"Missing Info\",AH33=\"DNQ\"),0,CB33*References!$E$12/1000)","v":0},{"$f":"CB33*References!$A$12","v":0},{"$f":"IF(OR($AX33=\"FAIL\",T33=\"\",AX33=\"Missing Info\",AH33=\"DNQ\"),0,IF(N33=0,SUM(BP33:BQ33),IF(B33=\"Cold Climate\",((AQ33/1000)*((1/L33)-(1/(W33/3.412)))*(1/References!$E$12)+SUM(BP33:BQ33))*N33,((T33/12000)*((1/(L33))-(1/(W33/3.412)))+SUM(BP33:BQ33))*N33)))","v":0},{"$f":"IF(OR($AX33=\"FAIL\",T33=\"\",AX33=\"Missing Info\",AH33=\"DNQ\"),0,IF(N33=0,SUM(BS33),IF(B33=\"Cold Climate\",((AQ33/1000)*((1/L33)-(1/BI33))*(1/References!$E$12)*BY33*BK33*N33+BS33),((T33/12000)*((12/L33)-(12/W33))*BY33*N33+BS33))))","v":0},{"$f":"IF(OR($AX33=\"FAIL\",'ASHP Equipment Information'!G133=\"\",AX33=\"Missing Info\",AH33=\"DNQ\"),0,IF(B33=\"Cold Climate\",-((AQ33/1000)*(1/(W33/3.412))*(1/References!$E$12))*O33,-((T33/12000)*(1/(W33/3.412)))*O33))","v":0},{"$f":"IF(OR($AX33=\"FAIL\",'ASHP Equipment Information'!G133=\"\",AX33=\"Missing Info\",AH33=\"DNQ\"),0,IF(B33=\"Cold Climate\",((AQ33/1000)*(1/BI33)*(1/References!$E$12)*BY33*BK33)*O33,(((T33/12000)*(12/W33)*BY33)-(T33*BY33/1000000)*P33)*O33))","v":0},{"$f":"IF(OR($AX33=\"FAIL\",AX33=\"Missing Info\",'ASHP Equipment Information'!D125=\"\"),0,IF(References!$I$36=TRUE,CF33*References!$E$12/1000,((CF33-CH33)*References!$E$12/1000)))","v":0},{"$f":"IF(OR($AX33=\"FAIL\",AX33=\"Missing Info\",'ASHP Equipment Information'!D125=\"\"),0,IF(O33<>0,IF(B33=\"Cold Climate\",((AQ33*BY33/M33)/1000000)*O33,((T33*BY33/M33)/1000000)*O33*P33),0))","v":0},0,{"$f":"(CF33-CH33)*References!$A$12","v":0},{"$f":"CJ33*Q33*References!$D$4","v":0},0]
[8,{"$f":"IF(OR('ASHP Equipment Information'!D144=\"Ducted ccASHP\",'ASHP Equipment Information'!D144=\"Ductless Mini Split - ccASHP\",'ASHP Equipment Information'!D144=\"Ductless Multi Split - ccASHP\"),\"Cold Climate\",\"\")","v":""},{"$f":"IF(References!$C$21=TRUE,\"Whole House\",IF(RIGHT(References!$H$36,2)=\"HP\",\"Retrofit\",\"New\"))","v":"New"},{"$f":"IF(References!$C$21<>TRUE,\"\",IF(References!$A$21=2,1,IF(AND('Site Information'!$C$18<>\"Central Air Conditioner\",'Site Information'!$C$18<>\"Ducted Air Source HP\",LEFT(H34,3)=\"Oil\"),2,3)))","v":""},{"$f":"C34&\" \"&'ASHP Equipment Information'!D144&\" \"&'ASHP Load Calculations'!G108&D34","v":"New  "},null,{"$f":"IF(References!$A$21=2,\"New Construction\",IF('ASHP Equipment Information'!G144=References!$Q$86,IF(OR('Site Information'!$C$24=\"\",'Site Information'!$C$24=\"Select…\"),\"None\",'Site Information'!$C$24),IF(OR('Site Information'!$C$18=\"\",'Site Information'!$C$18=\"Select…\"),\"None\",'Site Information'!$C$18)))","v":"None"},{"$f":"IF(References!$A$21=2,\"New Construction\",IF('ASHP Equipment Information'!G144=References!$Q$86,IF(OR('Site Information'!$C$22=\"\",'Site Information'!$C$22=\"Select…\"),\"None\",'Site Information'!$C$22),IF(OR('Site Information'!$C$16=\"\",'Site Information'!$C$16=\"Select…\"),\"None\",'Site Information'!$C$16)))","v":"None"},{"$f":"IF(G34=0,0,IF(OR(G34=\"None\",G34=\"New Construction\"),INDEX(References!$K$8:$K$16,MATCH(G34,References!$J$8:$J$16,0)),IF('ASHP Equipment Information'!$G144=References!$Q$86,IF('Site Information'!$J$47=\"\",INDEX(References!$K$8:$K$16,MATCH(G34,References!$J$8:$J$16,0)),'Site Information'!$J$47),IF('Site Information'!$J$35=\"\",INDEX(References!$K$8:$K$16,MATCH(G34,References!$J$8:$J$16,0)),'Site Information'!$J$35))))","v":12.3},{"$f":"IF(G34=0,0,IF(OR(G34=\"None\",G34=\"New Construction\"),INDEX(References!$L$8:$L$16,MATCH(G34,References!$J$8:$J$16,0)),IF('ASHP Equipment Information'!G144=References!$Q$86,IF('Site Information'!$J$45=\"\",INDEX(References!$L$8:$L$16,MATCH(G34,References!$J$8:$J$16,0)),'Site Information'!$J$45),IF('Site Information'!$J$33=\"\",INDEX(References!$L$8:$L$16,MATCH(G34,References!$J$8:$J$16,0)),'Site Information'!$J$33))))","v":15},{"$f":"IF(H34=\"Electric ASHP\",IF('ASHP Equipment Information'!G144=References!$Q$86,IF('Site Information'!$C$45<8.5,References!$I$51,References!$I$52),IF('Site Information'!$C$33<8.5,References!$I$51,References!$I$52)),0)","v":0},{"$f":"IF(H34=0,0,IF(OR(H34=\"None\",H34=\"New Construction\"),INDEX(References!$L$20:$L$36,MATCH(H34,References!$H$20:$H$36,0)),IF('ASHP Equipment Information'!G144=References!$Q$86,IF(AND('Site Information'!$C$45=\"\",'Site Information'!$C$47=\"\"),INDEX(References!$L$20:$L$36,MATCH(H34,References!$H$20:$H$36,0)),IF(H34=\"Electric ASHP\",'Site Information'!$C$45*K34/3.412,'Site Information'!$C$47)),IF(AND('Site Information'!$C$33,'Site Information'!$C$35=\"\"),INDEX(References!$L$20:$L$36,MATCH(H34,References!$H$20:$H$36,0)),IF(H34=\"Electric ASHP\",'Site Information'!$C$33*K34/3.412,'Site Information'!$C$35)))))","v":0},{"$f":"IF(H34=0,0,IF(OR(H34=\"None\",H34=\"New Construction\"),INDEX(References!$M$20:$M$36,MATCH(H34,References!$H$20:$H$36,0)),IF('ASHP Equipment Information'!G144=References!$Q$86,IF('Site Information'!$C$49=\"\",INDEX(References!$M$20:$M$36,MATCH(H34,References!$H$20:$H$36,0)),'Site Information'!$C$49),IF('Site Information'!$C$37=\"\",INDEX(References!$M$20:$M$36,MATCH(H34,References!$H$20:$H$36,0)),'Site Information'!$C$37))))","v":0},{"$f":"IF(H34=0,0,INDEX(References!$I$20:$I$36,MATCH(H34,References!$H$20:$H$36,0)))","v":0.03},{"$f":"IF(H34=0,0,INDEX(References!$J$20:$J$36,MATCH(H34,References!$H$20:$H$36,0)))","v":0.97},{"$f":"IF(H34=0,0,INDEX(References!$N$20:$N$36,MATCH(H34,References!$H$20:$H$36,0)))","v":0.8},{"$f":"IF(H34=0,0,INDEX(References!$O$20:$O$36,MATCH(H34,References!$H$20:$H$36,0)))","v":0},null,{"$f":"IF('ASHP Equipment Information'!G148=\"\",\"\",'ASHP Equipment Information'!G148)","v":""},{"$f":"IF('ASHP Equipment Information'!G150=\"\",\"\",'ASHP Equipment Information'!G150)","v":""},{"$f":"IF('ASHP Equipment Information'!G154=\"\",\"\",IF('ASHP Equipment Information'!F154=\"SEER:\",'ASHP Equipment Information'!G154,ROUND(1.2476*'ASHP Equipment Information'!G154-2.8674,1)))","v":""},{"$f":"IF('ASHP Equipment Information'!G156=\"\",\"\",IF('ASHP Equipment Information'!F156=\"EER:\",'ASHP Equipment Information'!G156,ROUND(1.0578*'ASHP Equipment Information'!G156-0.1769,1)))","v":""},{"$f":"IF('ASHP Equipment Information'!G158=\"\",\"\",IF('ASHP Equipment Information'!F158=\"HSPF:\",'ASHP Equipment Information'!G158,ROUND(1.1702*'ASHP Equipment Information'!G158+0.07,1)))","v":""},{"$f":"IF('ASHP Equipment Information'!D20=\"\",\"\",INDEX(References!$T$7:$T$19,MATCH('ASHP Equipment Information'!$D20,References!$S$7:$S$19,0)))","v":""},{"$f":"IF('ASHP Equipment Information'!D144=\"\",\"\",INDEX(References!$U$7:$U$19,MATCH('ASHP Equipment Information'!$D144,References!$S$7:$S$19,0)))","v":""},{"$f":"IF('ASHP Equipment Information'!D144=\"\",\"\",INDEX(References!$V$7:$V$19,MATCH('ASHP Equipment Information'!$D144,References!$S$7:$S$19,0)))","v":""},{"$f":"IF('ASHP Equipment Information'!D144=\"\",\"\",INDEX(References!$Y$7:$Y$19,MATCH('ASHP Equipment Information'!$D144,References!$S$7:$S$19,0)))","v":""},{"$f":"IF('ASHP Equipment Information'!D144=\"\",\"\",INDEX(References!$Z$7:$Z$19,MATCH('ASHP Equipment Information'!$D144,References!$S$7:$S$19,0)))","v":""},{"$f":"IF('ASHP Equipment Information'!D144=\"\",\"\",INDEX(References!$W$7:$W$19,MATCH('ASHP Equipment Information'!$D144,References!$S$7:$S$19,0)))","v":""},{"$f":"IF('ASHP Equipment Information'!D144=\"\",\"\",INDEX(References!$X$7:$X$19,MATCH('ASHP Equipment Information'!$D144,References!$S$7:$S$19,0)))","v":""},"","",{"$f":"IF('ASHP Equipment Information'!G158=\"\",\"\",IF(AC34=0,\"\",IF(AND(W34<AC34,W34<AD34),\"DNQ\",IF(W34>=AD34,\"Tier II\",\"Tier I\"))))","v":""},{"$f":"IF(OR(AE34=\"DNQ\",AF34=\"DNQ\",AG34=\"DNQ\",'ASHP Load Calculations'!D110=\"FAIL\"),\"DNQ\",IF(OR(AE34=\"Tier I\",AG34=\"Tier I\"),\"Tier I\",IF(OR(AE34=\"Tier II\",AG34=\"Tier II\"),\"Tier II\",\"Tier III\")))","v":"Tier III"},{"$f":"References!$C$15","v":""},{"$f":"IF('ASHP Equipment Information'!D144=\"\",\"\",IF(AH34=\"DNQ\",\"DNQ\",INDEX(IF(AI34=\"Income Eligible \",References!$AK$3:$AK$36,References!$AJ$3:$AJ$36),MATCH(E34,References!$AE$3:$AE$36,0))*('ASHP Equipment Information'!G152/12000)))","v":""},{"$f":"IF('ASHP Equipment Information'!D144=\"\",\"\",IF(AJ34=\"DNQ\",0,INDEX(References!$AL$3:$AL$36,MATCH(Qualifying_Index!E34,References!$AE$3:$AE$36,0))))","v":""},2,{"$f":"IF(COUNTIF(AL27:AL33,1),0,AK34)","v":""},{"$f":"IF(AJ34=\"\",\"\",AJ34*References!$BX$23)","v":""},null,{"$f":"'ASHP Load Calculations'!D106","v":0},{"$f":"'ASHP Load Calculations'!D108","v":0},{"$f":"(('ASHP Equipment Information'!G148*0.65))","v":0},{"$f":"(('ASHP Equipment Information'!G148*1.35))","v":0},{"$f":"IF(T34=\"\",0,IF(References!$C$21=TRUE,(AQ34*0.9),T34*0.65))","v":0},{"$f":"IF(T34=\"\",0,IF(References!$C$21=TRUE,(AQ34*1.2),T34*1.35))","v":0},{"$f":"IF(AND('ASHP Load Calculations'!D106>=Qualifying_Index!AR34,'ASHP Load Calculations'!D106<=Qualifying_Index!AS34),\"PASS\",\"FAIL\")","v":"PASS"},{"$f":"IF(OR(AT34=0,AU34=0),\"FAIL\",IF(AND(IF(References!$C$21=TRUE,T34,AQ34)>=AT34,IF(References!$C$21=TRUE,T34,AQ34)<=AU34),\"PASS\",\"FAIL\"))","v":"FAIL"},{"$f":"IF(References!$C$21=TRUE,IF(AND('ASHP Load Calculations'!D106=\"\",'ASHP Load Calculations'!D108=\"\"),\"Missing Info\",IF(AW34=\"PASS\",\"PASS\",\"FAIL\")),IF(AND('ASHP Load Calculations'!D106=\"\",'ASHP Load Calculations'!D108=\"\",LEFT('ASHP Equipment Information'!D144,6)=\"Ducted\",B34=\"Cold Climate\"),\"Missing Info\",IF(OR(AV34=\"PASS\",AW34=\"PASS\",AND(LEFT('ASHP Equipment Information'!D144,6)<>\"Ducted\",B34<>\"Cold Climate\")),\"PASS\",\"FAIL\")))","v":"PASS"},null,{"$f":"IF(B34=\"\",\"\",IF(B34=\"Cold Climate\",_xlfn.IFNA(IF(INDEX('Integrated Controls'!$C$17:$C$18,MATCH('ASHP Load Calculations'!$G$104,'Integrated Controls'!$B$17:$B$18,0))=0,\"Separate Control\",INDEX('Integrated Controls'!$C$17:$C$18,MATCH('ASHP Load Calculations'!$G$104,'Integrated Controls'!$B$17:$B$18,0))),\"Separate Control\"),\"\"))","v":""},"",{"$f":"IF(AZ34=\"\",\"\",IF(AZ34=\"No Fossil Fuel Heater\",1,IF(AZ34=\"Integrated/Modulating Control\",IF(ROUND(BA34,1)>1,1,ROUND(BA34,1)),IF(LEFT('ASHP Equipment Information'!D144,6)=\"Ducted\",0.9,IF(BA34>=0.65,0.7,IF(BA34>=0.55,0.6,IF(BA34>=0.45,0.5,IF(BA34>=0.35,0.4,0.3))))))))","v":""},{"$f":"IF(B34=\"\",\"\",IF(B34=\"Cold Climate\",'ASHP Equipment Information'!D144&\" \"&AZ34&\" \"&BB34,\"\"))","v":""},{"$f":"IF($BC34=\"\",\"\",INDEX(References!AJ$74:AJ$129,MATCH($BC34,References!$AH$74:$AH$129,0)))","v":""},{"$f":"IF($BC34=\"\",\"\",INDEX(References!AK$74:AK$129,MATCH($BC34,References!$AH$74:$AH$129,0)))","v":""},{"$f":"IF($BC34=\"\",\"\",INDEX(References!AL$74:AL$129,MATCH($BC34,References!$AH$74:$AH$129,0)))","v":""},{"$f":"IF($BC34=\"\",\"\",INDEX(References!AM$74:AM$129,MATCH($BC34,References!$AH$74:$AH$129,0)))","v":""},"",{"$f":"IF(BC34=\"\",\"\",BD34+BE34*W34/References!$E$12)","v":""},{"$f":"IF($BC34=\"\",\"\",INDEX(References!AN$74:AN$129,MATCH($BC34,References!$AH$74:$AH$129,0)))","v":""},{"$f":"IF($BC34=\"\",\"\",INDEX(References!AO$74:AO$129,MATCH($BC34,References!$AH$74:$AH$129,0)))","v":""},null,{"$f":"IF(OR('ASHP Equipment Information'!G150=\"\",'ASHP Equipment Information'!G148=\"\",'ASHP Equipment Information'!G156=\"\",'ASHP Equipment Information'!G158=\"\",'ASHP Equipment Information'!D148=\"\",'ASHP Equipment Information'!D150=\"\",'ASHP Equipment Information'!D152=\"\",'ASHP Equipment Information'!D154=\"\",'ASHP Equipment Information'!D156=\"\",'ASHP Equipment Information'!D158=\"\"),\"Missing Info\",\"\")","v":"Missing Info"},{"$f":"IF(AND(BV34=1,'ASHP Equipment Information'!G158=\"\"),\"Missing Info\",IF(BU34=\"PTHP\",BM34,IF(OR('ASHP Equipment Information'!G150=\"\",'ASHP Equipment Information'!G148=\"\",'ASHP Equipment Information'!G154=\"\",'ASHP Equipment Information'!G156=\"\",'ASHP Equipment Information'!D148=\"\",'ASHP Equipment Information'!D150=\"\",'ASHP Equipment Information'!D152=\"\",'ASHP Equipment Information'!D156=\"\",'ASHP Equipment Information'!D158=\"\",AX34=\"Missing Info\"),\"Missing Info\",\"\")))","v":"Missing Info"},{"$f":"IF(AND(BV34=1,'ASHP Equipment Information'!G158=\"\"),\"Missing Info\",IF(BU34=\"PTHP\",BM34,IF(OR('ASHP Equipment Information'!D148=\"\",'ASHP Equipment Information'!D150=\"\",'ASHP Equipment Information'!D152=\"\",'ASHP Equipment Information'!D156=\"\",'ASHP Equipment Information'!D158=\"\",'ASHP Equipment Information'!G150=\"\",'ASHP Equipment Information'!G148=\"\",'ASHP Equipment Information'!G156=\"\"),\"Missing Info\",\"\")))","v":"Missing Info"},{"$f":"IF(OR('ASHP Load Calculations'!G110=\"\",'ASHP Equipment Information'!G156=\"\"),\"\",IF(OR('ASHP Equipment Information'!D144=\"Ducted ASHP\",'ASHP Equipment Information'!D144=\"Ducted ccASHP\"),BR34*HP_kW_CA,0))","v":""},{"$f":"IF('ASHP Equipment Information'!G156=\"\",\"\",IF(OR('ASHP Load Calculations'!G110=\"\"),\"\",'ASHP Equipment Information'!G150*(12/'ASHP Equipment Information'!G156)*kW_RS))","v":""},{"$f":"IF(OR('ASHP Load Calculations'!G110=\"\",'ASHP Equipment Information'!G154=\"\",'ASHP Equipment Information'!G156=\"\"),\"\",IF(OR('ASHP Equipment Information'!D144=\"Ducted ASHP\",'ASHP Equipment Information'!D144=\"Ducted ccASHP\"),'ASHP Equipment Information'!G150/12000*(12/'ASHP Equipment Information'!G154*FLH_Cool)*QI_kWh,0))","v":""},{"$f":"IF(OR('ASHP Load Calculations'!G110=\"\",'ASHP Equipment Information'!G154=\"\",'ASHP Equipment Information'!G156=\"\"),\"\",IF(OR('ASHP Equipment Information'!D144=\"Ducted ASHP\",'ASHP Equipment Information'!D144=\"Ducted ccASHP\"),'ASHP Equipment Information'!G152/12000*(12/'ASHP Equipment Information'!G158*FLH_Heat)*QI_kWh,0))","v":""},null,{"$f":"IF('ASHP Equipment Information'!D144=\"\",\"\",INDEX(References!$AB$7:$AB$19,MATCH('ASHP Equipment Information'!D144,Equipment_Type,0)))","v":""},{"$f":"IF('ASHP Equipment Information'!D144=\"\",\"\",INDEX(References!$AA$7:$AA$19,MATCH('ASHP Equipment Information'!D144,Equipment_Type,0)))","v":""},null,{"$f":"IF(B34=\"\",References!$D$25,IF(References!$H$13=\"New Construction\",FLH_Cool,IF(References!$H$13=\"\",0,References!$C$25)))","v":649},{"$f":"IF(B34=\"\",References!$D$26,IF(References!$H$13=\"New Construction\",FLH_Heat,IF(References!$H$13=\"\",0,References!$C$26)))","v":788},null,{"$f":"IF(OR($AX34=\"FAIL\",'ASHP Equipment Information'!G150=\"\",AX34=\"Missing Info\",AH34=\"DNQ\"),0,IF(B34=\"Cold Climate\",((AP34/1000)*((1/I34)-(1/V34))*BJ34)+SUM(BP34:BQ34),((S34/12000)*((12/I34)-(12/V34)))+SUM(BP34:BQ34)))","v":0},{"$f":"IF(OR($AX34=\"FAIL\",'ASHP Equipment Information'!G150=\"\",AX34=\"Missing Info\",AH34=\"DNQ\"),0,IF(B34=\"Cold Climate\",((AP34/1000)*((1/J34)-(1/BH34))*BX34*BJ34)+BR34,IF(BU34=\"PTHP\",((S34/12000)*(12/I34-12/V34)*BX34),((('ASHP Equipment Information'!G150/12000)*((12/J34)-(12/U34))*BX34))+BR34)))","v":0},{"$f":"IF(OR($AX34=\"FAIL\",'ASHP Equipment Information'!G150=\"\",AX34=\"Missing Info\",AH34=\"DNQ\"),0,CB34*References!$E$12/1000)","v":0},{"$f":"CB34*References!$A$12","v":0},{"$f":"IF(OR($AX34=\"FAIL\",T34=\"\",AX34=\"Missing Info\",AH34=\"DNQ\"),0,IF(N34=0,SUM(BP34:BQ34),IF(B34=\"Cold Climate\",((AQ34/1000)*((1/L34)-(1/(W34/3.412)))*(1/References!$E$12)+SUM(BP34:BQ34))*N34,((T34/12000)*((1/(L34))-(1/(W34/3.412)))+SUM(BP34:BQ34))*N34)))","v":0},{"$f":"IF(OR($AX34=\"FAIL\",T34=\"\",AX34=\"Missing Info\",AH34=\"DNQ\"),0,IF(N34=0,SUM(BS34),IF(B34=\"Cold Climate\",((AQ34/1000)*((1/L34)-(1/BI34))*(1/References!$E$12)*BY34*BK34*N34+BS34),((T34/12000)*((12/L34)-(12/W34))*BY34*N34+BS34))))","v":0},{"$f":"IF(OR($AX34=\"FAIL\",'ASHP Equipment Information'!G152=\"\",AX34=\"Missing Info\",AH34=\"DNQ\"),0,IF(B34=\"Cold Climate\",-((AQ34/1000)*(1/(W34/3.412))*(1/References!$E$12))*O34,-((T34/12000)*(1/(W34/3.412)))*O34))","v":0},{"$f":"IF(OR($AX34=\"FAIL\",'ASHP Equipment Information'!G152=\"\",AX34=\"Missing Info\",AH34=\"DNQ\"),0,IF(B34=\"Cold Climate\",((AQ34/1000)*(1/BI34)*(1/References!$E$12)*BY34*BK34)*O34,(((T34/12000)*(12/W34)*BY34)-(T34*BY34/1000000)*P34)*O34))","v":0},{"$f":"IF(OR($AX34=\"FAIL\",AX34=\"Missing Info\",'ASHP Equipment Information'!D144=\"\"),0,IF(References!$I$36=TRUE,CF34*References!$E$12/1000,((CF34-CH34)*References!$E$12/1000)))","v":0},{"$f":"IF(OR($AX34=\"FAIL\",AX34=\"Missing Info\",'ASHP Equipment Information'!D144=\"\"),0,IF(O34<>0,IF(B29=\"Cold Climate\",((AQ34*BY34/M34)/1000000)*O34,((T34*BY34/M34)/1000000)*O34*P34),0))","v":0},0,{"$f":"(CF34-CH34)*References!$A$12","v":0},{"$f":"CJ34*Q34*References!$D$4","v":0},0]
[9,{"$f":"IF(OR('ASHP Equipment Information'!D163=\"Ducted ccASHP\",'ASHP Equipment Information'!D163=\"Ductless Mini Split - ccASHP\",'ASHP Equipment Information'!D163=\"Ductless Multi Split - ccASHP\"),\"Cold Climate\",\"\")","v":""},{"$f":"IF(References!$C$21=TRUE,\"Whole House\",IF(RIGHT(References!$H$36,2)=\"HP\",\"Retrofit\",\"New\"))","v":"New"},{"$f":"IF(References!$C$21<>TRUE,\"\",IF(References!$A$21=2,1,IF(AND('Site Information'!$C$18<>\"Central Air Conditioner\",'Site Information'!$C$18<>\"Ducted Air Source HP\",LEFT(H35,3)=\"Oil\"),2,3)))","v":""},{"$f":"C35&\" \"&'ASHP Equipment Information'!D163&\" \"&'ASHP Load Calculations'!G121&D35","v":"New  "},null,{"$f":"IF(References!$A$21=2,\"New Construction\",IF('ASHP Equipment Information'!G163=References!$Q$86,IF(OR('Site Information'!$C$24=\"\",'Site Information'!$C$24=\"Select…\"),\"None\",'Site Information'!$C$24),IF(OR('Site Information'!$C$18=\"\",'Site Information'!$C$18=\"Select…\"),\"None\",'Site Information'!$C$18)))","v":"None"},{"$f":"IF(References!$A$21=2,\"New Construction\",IF('ASHP Equipment Information'!G163=References!$Q$86,IF(OR('Site Information'!$C$22=\"\",'Site Information'!$C$22=\"Select…\"),\"None\",'Site Information'!$C$22),IF(OR('Site Information'!$C$16=\"\",'Site Information'!$C$16=\"Select…\"),\"None\",'Site Information'!$C$16)))","v":"None"},{"$f":"IF(G35=0,0,IF(OR(G35=\"None\",G35=\"New Construction\"),INDEX(References!$K$8:$K$16,MATCH(G35,References!$J$8:$J$16,0)),IF('ASHP Equipment Information'!$G163=References!$Q$86,IF('Site Information'!$J$47=\"\",INDEX(References!$K$8:$K$16,MATCH(G35,References!$J$8:$J$16,0)),'Site Information'!$J$47),IF('Site Information'!$J$35=\"\",INDEX(References!$K$8:$K$16,MATCH(G35,References!$J$8:$J$16,0)),'Site Information'!$J$35))))","v":12.3},{"$f":"IF(G35=0,0,IF(OR(G35=\"None\",G35=\"New Construction\"),INDEX(References!$L$8:$L$16,MATCH(G35,References!$J$8:$J$16,0)),IF('ASHP Equipment Information'!G163=References!$Q$86,IF('Site Information'!$J$45=\"\",INDEX(References!$L$8:$L$16,MATCH(G35,References!$J$8:$J$16,0)),'Site Information'!$J$45),IF('Site Information'!$J$33=\"\",INDEX(References!$L$8:$L$16,MATCH(G35,References!$J$8:$J$16,0)),'Site Information'!$J$33))))","v":15},{"$f":"IF(H35=\"Electric ASHP\",IF('ASHP Equipment Information'!G163=References!$Q$86,IF('Site Information'!$C$45<8.5,References!$I$51,References!$I$52),IF('Site Information'!$C$33<8.5,References!$I$51,References!$I$52)),0)","v":0},{"$f":"IF(H35=0,0,IF(OR(H35=\"None\",H35=\"New Construction\"),INDEX(References!$L$20:$L$36,MATCH(H35,References!$H$20:$H$36,0)),IF('ASHP Equipment Information'!G163=References!$Q$86,IF(AND('Site Information'!$C$45=\"\",'Site Information'!$C$47=\"\"),INDEX(References!$L$20:$L$36,MATCH(H35,References!$H$20:$H$36,0)),IF(H35=\"Electric ASHP\",'Site Information'!$C$45*K35/3.412,'Site Information'!$C$47)),IF(AND('Site Information'!$C$33,'Site Information'!$C$35=\"\"),INDEX(References!$L$20:$L$36,MATCH(H35,References!$H$20:$H$36,0)),IF(H35=\"Electric ASHP\",'Site Information'!$C$33*K35/3.412,'Site Information'!$C$35)))))","v":0},{"$f":"IF(H35=0,0,IF(OR(H35=\"None\",H35=\"New Construction\"),INDEX(References!$M$20:$M$36,MATCH(H35,References!$H$20:$H$36,0)),IF('ASHP Equipment Information'!G163=References!$Q$86,IF('Site Information'!$C$49=\"\",INDEX(References!$M$20:$M$36,MATCH(H35,References!$H$20:$H$36,0)),'Site Information'!$C$49),IF('Site Information'!$C$37=\"\",INDEX(References!$M$20:$M$36,MATCH(H35,References!$H$20:$H$36,0)),'Site Information'!$C$37))))","v":0},{"$f":"IF(H35=0,0,INDEX(References!$I$20:$I$36,MATCH(H35,References!$H$20:$H$36,0)))","v":0.03},{"$f":"IF(H35=0,0,INDEX(References!$J$20:$J$36,MATCH(H35,References!$H$20:$H$36,0)))","v":0.97},{"$f":"IF(H35=0,0,INDEX(References!$N$20:$N$36,MATCH(H35,References!$H$20:$H$36,0)))","v":0.8},{"$f":"IF(H35=0,0,INDEX(References!$O$20:$O$36,MATCH(H35,References!$H$20:$H$36,0)))","v":0},null,{"$f":"IF('ASHP Equipment Information'!G167=\"\",\"\",'ASHP Equipment Information'!G167)","v":""},{"$f":"IF('ASHP Equipment Information'!G169=\"\",\"\",'ASHP Equipment Information'!G169)","v":""},{"$f":"IF('ASHP Equipment Information'!G173=\"\",\"\",IF('ASHP Equipment Information'!F173=\"SEER:\",'ASHP Equipment Information'!G173,ROUND(1.2476*'ASHP Equipment Information'!G173-2.8674,1)))","v":""},{"$f":"IF('ASHP Equipment Information'!G175=\"\",\"\",IF('ASHP Equipment Information'!F175=\"EER:\",'ASHP Equipment Information'!G175,ROUND(1.0578*'ASHP Equipment Information'!G175-0.1769,1)))","v":""},{"$f":"IF('ASHP Equipment Information'!G177=\"\",\"\",IF('ASHP Equipment Information'!F177=\"HSPF:\",'ASHP Equipment Information'!G177,ROUND(1.1702*'ASHP Equipment Information'!G177+0.07,1)))","v":""},{"$f":"IF('ASHP Equipment Information'!D21=\"\",\"\",INDEX(References!$T$7:$T$19,MATCH('ASHP Equipment Information'!$D21,References!$S$7:$S$19,0)))","v":""},{"$f":"IF('ASHP Equipment Information'!D163=\"\",\"\",INDEX(References!$U$7:$U$19,MATCH('ASHP Equipment Information'!$D163,References!$S$7:$S$19,0)))","v":""},{"$f":"IF('ASHP Equipment Information'!D163=\"\",\"\",INDEX(References!$V$7:$V$19,MATCH('ASHP Equipment Information'!$D163,References!$S$7:$S$19,0)))","v":""},{"$f":"IF('ASHP Equipment Information'!D163=\"\",\"\",INDEX(References!$Y$7:$Y$19,MATCH('ASHP Equipment Information'!$D163,References!$S$7:$S$19,0)))","v":""},{"$f":"IF('ASHP Equipment Information'!D163=\"\",\"\",INDEX(References!$Z$7:$Z$19,MATCH('ASHP Equipment Information'!$D163,References!$S$7:$S$19,0)))","v":""},{"$f":"IF('ASHP Equipment Information'!D163=\"\",\"\",INDEX(References!$W$7:$W$19,MATCH('ASHP Equipment Information'!$D163,References!$S$7:$S$19,0)))","v":""},{"$f":"IF('ASHP Equipment Information'!D163=\"\",\"\",INDEX(References!$X$7:$X$19,MATCH('ASHP Equipment Information'!$D163,References!$S$7:$S$19,0)))","v":""},"","",{"$f":"IF('ASHP Equipment Information'!G177=\"\",\"\",IF(AC35=0,\"\",IF(AND(W35<AC35,W35<AD35),\"DNQ\",IF(W35>=AD35,\"Tier II\",\"Tier I\"))))","v":""},{"$f":"IF(OR(AE35=\"DNQ\",AF35=\"DNQ\",AG35=\"DNQ\",'ASHP Load Calculations'!D123=\"FAIL\"),\"DNQ\",IF(OR(AE35=\"Tier I\",AG35=\"Tier I\"),\"Tier I\",IF(OR(AE35=\"Tier II\",AG35=\"Tier II\"),\"Tier II\",\"Tier III\")))","v":"Tier III"},{"$f":"References!$C$15","v":""},{"$f":"IF('ASHP Equipment Information'!D163=\"\",\"\",IF(AH35=\"DNQ\",\"DNQ\",INDEX(IF(AI35=\"Income Eligible \",References!$AK$3:$AK$36,References!$AJ$3:$AJ$36),MATCH(E35,References!$AE$3:$AE$36,0))*('ASHP Equipment Information'!G171/12000)))","v":""},{"$f":"IF('ASHP Equipment Information'!D163=\"\",\"\",IF(AJ35=\"DNQ\",0,INDEX(References!$AL$3:$AL$36,MATCH(Qualifying_Index!E35,References!$AE$3:$AE$36,0))))","v":""},2,{"$f":"IF(COUNTIF(AL27:AL34,1),0,AK35)","v":""},{"$f":"IF(AJ35=\"\",\"\",AJ35*References!$BX$23)","v":""},null,{"$f":"'ASHP Load Calculations'!D119","v":0},{"$f":"'ASHP Load Calculations'!D121","v":0},{"$f":"(('ASHP Equipment Information'!G167*0.65))","v":0},{"$f":"(('ASHP Equipment Information'!G167*1.35))","v":0},{"$f":"IF(T35=\"\",0,IF(References!$C$21=TRUE,(AQ35*0.9),T35*0.65))","v":0},{"$f":"IF(T35=\"\",0,IF(References!$C$21=TRUE,(AQ35*1.2),T35*1.35))","v":0},{"$f":"IF(AND('ASHP Load Calculations'!D119>=Qualifying_Index!AR35,'ASHP Load Calculations'!D119<=Qualifying_Index!AS35),\"PASS\",\"FAIL\")","v":"PASS"},{"$f":"IF(OR(AT35=0,AU35=0),\"FAIL\",IF(AND(IF(References!$C$21=TRUE,T35,AQ35)>=AT35,IF(References!$C$21=TRUE,T35,AQ35)<=AU35),\"PASS\",\"FAIL\"))","v":"FAIL"},{"$f":"IF(References!$C$21=TRUE,IF(AND('ASHP Load Calculations'!D119=\"\",'ASHP Load Calculations'!D121=\"\"),\"Missing Info\",IF(AW35=\"PASS\",\"PASS\",\"FAIL\")),IF(AND('ASHP Load Calculations'!D119=\"\",'ASHP Load Calculations'!D121=\"\",LEFT('ASHP Equipment Information'!D163,6)=\"Ducted\",B35=\"Cold Climate\"),\"Missing Info\",IF(OR(AV35=\"PASS\",AW35=\"PASS\",AND(LEFT('ASHP Equipment Information'!D163,6)<>\"Ducted\",B35<>\"Cold Climate\")),\"PASS\",\"FAIL\")))","v":"PASS"},null,{"$f":"IF(B35=\"\",\"\",IF(B35=\"Cold Climate\",_xlfn.IFNA(IF(INDEX('Integrated Controls'!$C$17:$C$18,MATCH('ASHP Load Calculations'!$G$117,'Integrated Controls'!$B$17:$B$18,0))=0,\"Separate Control\",INDEX('Integrated Controls'!$C$17:$C$18,MATCH('ASHP Load Calculations'!$G$117,'Integrated Controls'!$B$17:$B$18,0))),\"Separate Control\"),\"\"))","v":""},"",{"$f":"IF(AZ35=\"\",\"\",IF(AZ35=\"No Fossil Fuel Heater\",1,IF(AZ35=\"Integrated/Modulating Control\",IF(ROUND(BA35,1)>1,1,ROUND(BA35,1)),IF(LEFT('ASHP Equipment Information'!D163,6)=\"Ducted\",0.9,IF(BA35>=0.65,0.7,IF(BA35>=0.55,0.6,IF(BA35>=0.45,0.5,IF(BA35>=0.35,0.4,0.3))))))))","v":""},{"$f":"IF(B35=\"\",\"\",IF(B35=\"Cold Climate\",'ASHP Equipment Information'!D163&\" \"&AZ35&\" \"&BB35,\"\"))","v":""},{"$f":"IF($BC35=\"\",\"\",INDEX(References!AJ$74:AJ$129,MATCH($BC35,References!$AH$74:$AH$129,0)))","v":""},{"$f":"IF($BC35=\"\",\"\",INDEX(References!AK$74:AK$129,MATCH($BC35,References!$AH$74:$AH$129,0)))","v":""},{"$f":"IF($BC35=\"\",\"\",INDEX(References!AL$74:AL$129,MATCH($BC35,References!$AH$74:$AH$129,0)))","v":""},{"$f":"IF($BC35=\"\",\"\",INDEX(References!AM$74:AM$129,MATCH($BC35,References!$AH$74:$AH$129,0)))","v":""},"",{"$f":"IF(BC35=\"\",\"\",BD35+BE35*W35/References!$E$12)","v":""},{"$f":"IF($BC35=\"\",\"\",INDEX(References!AN$74:AN$129,MATCH($BC35,References!$AH$74:$AH$129,0)))","v":""},{"$f":"IF($BC35=\"\",\"\",INDEX(References!AO$74:AO$129,MATCH($BC35,References!$AH$74:$AH$129,0)))","v":""},null,{"$f":"IF(OR('ASHP Equipment Information'!G169=\"\",'ASHP Equipment Information'!G167=\"\",'ASHP Equipment Information'!G175=\"\",'ASHP Equipment Information'!G177=\"\",'ASHP Equipment Information'!D167=\"\",'ASHP Equipment Information'!D169=\"\",'ASHP Equipment Information'!D171=\"\",'ASHP Equipment Information'!D173=\"\",'ASHP Equipment Information'!D175=\"\",'ASHP Equipment Information'!D177=\"\"),\"Missing Info\",\"\")","v":"Missing Info"},{"$f":"IF(AND(BV35=1,'ASHP Equipment Information'!G177=\"\"),\"Missing Info\",IF(BU35=\"PTHP\",BM35,IF(OR('ASHP Equipment Information'!G169=\"\",'ASHP Equipment Information'!G167=\"\",'ASHP Equipment Information'!G173=\"\",'ASHP Equipment Information'!G175=\"\",'ASHP Equipment Information'!D167=\"\",'ASHP Equipment Information'!D169=\"\",'ASHP Equipment Information'!D171=\"\",'ASHP Equipment Information'!D175=\"\",'ASHP Equipment Information'!D177=\"\",AX35=\"Missing Info\"),\"Missing Info\",\"\")))","v":"Missing Info"},{"$f":"IF(AND(BV35=1,'ASHP Equipment Information'!G177=\"\"),\"Missing Info\",IF(BU35=\"PTHP\",BM35,IF(OR('ASHP Equipment Information'!D167=\"\",'ASHP Equipment Information'!D169=\"\",'ASHP Equipment Information'!D171=\"\",'ASHP Equipment Information'!D175=\"\",'ASHP Equipment Information'!D177=\"\",'ASHP Equipment Information'!G169=\"\",'ASHP Equipment Information'!G167=\"\",'ASHP Equipment Information'!G173=\"\"),\"Missing Info\",\"\")))","v":"Missing Info"},{"$f":"IF(OR('ASHP Load Calculations'!G123=\"\",'ASHP Equipment Information'!G175=\"\"),\"\",IF(OR('ASHP Equipment Information'!D163=\"Ducted ASHP\",'ASHP Equipment Information'!D163=\"Ducted ccASHP\"),BR35*HP_kW_CA,0))","v":""},{"$f":"IF('ASHP Equipment Information'!G175=\"\",\"\",IF(OR('ASHP Load Calculations'!G123=\"\"),\"\",'ASHP Equipment Information'!G169*(12/'ASHP Equipment Information'!G175)*kW_RS))","v":""},{"$f":"IF(OR('ASHP Load Calculations'!G123=\"\",'ASHP Equipment Information'!G173=\"\",'ASHP Equipment Information'!G175=\"\"),\"\",IF(OR('ASHP Equipment Information'!D163=\"Ducted ASHP\",'ASHP Equipment Information'!D163=\"Ducted ccASHP\"),'ASHP Equipment Information'!G169/12000*(12/'ASHP Equipment Information'!G173*FLH_Cool)*QI_kWh,0))","v":""},{"$f":"IF(OR('ASHP Load Calculations'!G123=\"\",'ASHP Equipment Information'!G173=\"\",'ASHP Equipment Information'!G175=\"\"),\"\",IF(OR('ASHP Equipment Information'!D163=\"Ducted ASHP\",'ASHP Equipment Information'!D163=\"Ducted ccASHP\"),'ASHP Equipment Information'!G171/12000*(12/'ASHP Equipment Information'!G177*FLH_Heat)*QI_kWh,0))","v":""},null,{"$f":"IF('ASHP Equipment Information'!D163=\"\",\"\",INDEX(References!$AB$7:$AB$19,MATCH('ASHP Equipment Information'!D163,Equipment_Type,0)))","v":""},{"$f":"IF('ASHP Equipment Information'!D163=\"\",\"\",INDEX(References!$AA$7:$AA$19,MATCH('ASHP Equipment Information'!D163,Equipment_Type,0)))","v":""},null,{"$f":"IF(B35=\"\",References!$D$25,IF(References!$H$13=\"New Construction\",FLH_Cool,IF(References!$H$13=\"\",0,References!$C$25)))","v":649},{"$f":"IF(B35=\"\",References!$D$26,IF(References!$H$13=\"New Construction\",FLH_Heat,IF(References!$H$13=\"\",0,References!$C$26)))","v":788},null,{"$f":"IF(OR($AX35=\"FAIL\",'ASHP Equipment Information'!G169=\"\",AX35=\"Missing Info\",AH35=\"DNQ\"),0,IF(B35=\"Cold Climate\",((AP35/1000)*((1/I35)-(1/V35))*BJ35)+SUM(BP35:BQ35),((S35/12000)*((12/I35)-(12/V35)))+SUM(BP35:BQ35)))","v":0},{"$f":"IF(OR($AX35=\"FAIL\",'ASHP Equipment Information'!G169=\"\",AX35=\"Missing Info\",AH35=\"DNQ\"),0,IF(B35=\"Cold Climate\",((AP35/1000)*((1/J35)-(1/BH35))*BX35*BJ35)+BR35,IF(BU35=\"PTHP\",((S35/12000)*(12/I35-12/V35)*BX35),((('ASHP Equipment Information'!G169/12000)*((12/J35)-(12/U35))*BX35))+BR35)))","v":0},{"$f":"IF(OR($AX35=\"FAIL\",'ASHP Equipment Information'!G169=\"\",AX35=\"Missing Info\",AH35=\"DNQ\"),0,CB35*References!$E$12/1000)","v":0},{"$f":"CB35*References!$A$12","v":0},{"$f":"IF(OR($AX35=\"FAIL\",T35=\"\",AX35=\"Missing Info\",AH35=\"DNQ\"),0,IF(N35=0,SUM(BP35:BQ35),IF(B35=\"Cold Climate\",((AQ35/1000)*((1/L35)-(1/(W35/3.412)))*(1/References!$E$12)+SUM(BP35:BQ35))*N35,((T35/12000)*((1/(L35))-(1/(W35/3.412)))+SUM(BP35:BQ35))*N35)))","v":0},{"$f":"IF(OR($AX35=\"FAIL\",T35=\"\",AX35=\"Missing Info\",AH35=\"DNQ\"),0,IF(N35=0,SUM(BS35),IF(B35=\"Cold Climate\",((AQ35/1000)*((1/L35)-(1/BI35))*(1/References!$E$12)*BY35*BK35*N35+BS35),((T35/12000)*((12/L35)-(12/W35))*BY35*N35+BS35))))","v":0},{"$f":"IF(OR($AX35=\"FAIL\",'ASHP Equipment Information'!G171=\"\",AX35=\"Missing Info\",AH35=\"DNQ\"),0,IF(B35=\"Cold Climate\",-((AQ35/1000)*(1/(W35/3.412))*(1/References!$E$12))*O35,-((T35/12000)*(1/(W35/3.412)))*O35))","v":0},{"$f":"IF(OR($AX35=\"FAIL\",'ASHP Equipment Information'!G171=\"\",AX35=\"Missing Info\",AH35=\"DNQ\"),0,IF(B35=\"Cold Climate\",((AQ35/1000)*(1/BI35)*(1/References!$E$12)*BY35*BK35)*O35,(((T35/12000)*(12/W35)*BY35)-(T35*BY35/1000000)*P35)*O35))","v":0},{"$f":"IF(OR($AX35=\"FAIL\",AX35=\"Missing Info\",'ASHP Equipment Information'!D163=\"\"),0,IF(References!$I$36=TRUE,CF35*References!$E$12/1000,((CF35-CH35)*References!$E$12/1000)))","v":0},{"$f":"IF(OR($AX35=\"FAIL\",AX35=\"Missing Info\",'ASHP Equipment Information'!D163=\"\"),0,IF(O35<>0,IF(B35=\"Cold Climate\",((AQ35*BY35/M35)/1000000)*O35,((T35*BY35/M35)/1000000)*O35*P35),0))","v":0},0,{"$f":"(CF35-CH35)*References!$A$12","v":0},{"$f":"CJ35*Q35*References!$D$4","v":0},0]
[10,{"$f":"IF(OR('ASHP Equipment Information'!D182=\"Ducted ccASHP\",'ASHP Equipment Information'!D182=\"Ductless Mini Split - ccASHP\",'ASHP Equipment Information'!D182=\"Ductless Multi Split - ccASHP\"),\"Cold Climate\",\"\")","v":""},{"$f":"IF(References!$C$21=TRUE,\"Whole House\",IF(RIGHT(References!$H$36,2)=\"HP\",\"Retrofit\",\"New\"))","v":"New"},{"$f":"IF(References!$C$21<>TRUE,\"\",IF(References!$A$21=2,1,IF(AND('Site Information'!$C$18<>\"Central Air Conditioner\",'Site Information'!$C$18<>\"Ducted Air Source HP\",LEFT(H36,3)=\"Oil\"),2,3)))","v":""},{"$f":"C36&\" \"&'ASHP Equipment Information'!D182&\" \"&'ASHP Load Calculations'!G134&D36","v":"New  "},null,{"$f":"IF(References!$A$21=2,\"New Construction\",IF('ASHP Equipment Information'!G182=References!$Q$86,IF(OR('Site Information'!$C$24=\"\",'Site Information'!$C$24=\"Select…\"),\"None\",'Site Information'!$C$24),IF(OR('Site Information'!$C$18=\"\",'Site Information'!$C$18=\"Select…\"),\"None\",'Site Information'!$C$18)))","v":"None"},{"$f":"IF(References!$A$21=2,\"New Construction\",IF('ASHP Equipment Information'!G182=References!$Q$86,IF(OR('Site Information'!$C$22=\"\",'Site Information'!$C$22=\"Select…\"),\"None\",'Site Information'!$C$22),IF(OR('Site Information'!$C$16=\"\",'Site Information'!$C$16=\"Select…\"),\"None\",'Site Information'!$C$16)))","v":"None"},{"$f":"IF(G36=0,0,IF(OR(G36=\"None\",G36=\"New Construction\"),INDEX(References!$K$8:$K$16,MATCH(G36,References!$J$8:$J$16,0)),IF('ASHP Equipment Information'!$G182=References!$Q$86,IF('Site Information'!$J$47=\"\",INDEX(References!$K$8:$K$16,MATCH(G36,References!$J$8:$J$16,0)),'Site Information'!$J$47),IF('Site Information'!$J$35=\"\",INDEX(References!$K$8:$K$16,MATCH(G36,References!$J$8:$J$16,0)),'Site Information'!$J$35))))","v":12.3},{"$f":"IF(G36=0,0,IF(OR(G36=\"None\",G36=\"New Construction\"),INDEX(References!$L$8:$L$16,MATCH(G36,References!$J$8:$J$16,0)),IF('ASHP Equipment Information'!G182=References!$Q$86,IF('Site Information'!$J$45=\"\",INDEX(References!$L$8:$L$16,MATCH(G36,References!$J$8:$J$16,0)),'Site Information'!$J$45),IF('Site Information'!$J$33=\"\",INDEX(References!$L$8:$L$16,MATCH(G36,References!$J$8:$J$16,0)),'Site Information'!$J$33))))","v":15},{"$f":"IF(H36=\"Electric ASHP\",IF('ASHP Equipment Information'!G182=References!$Q$86,IF('Site Information'!$C$45<8.5,References!$I$51,References!$I$52),IF('Site Information'!$C$33<8.5,References!$I$51,References!$I$52)),0)","v":0},{"$f":"IF(H36=0,0,IF(OR(H36=\"None\",H36=\"New Construction\"),INDEX(References!$L$20:$L$36,MATCH(H36,References!$H$20:$H$36,0)),IF('ASHP Equipment Information'!G182=References!$Q$86,IF(AND('Site Information'!$C$45=\"\",'Site Information'!$C$47=\"\"),INDEX(References!$L$20:$L$36,MATCH(H36,References!$H$20:$H$36,0)),IF(H36=\"Electric ASHP\",'Site Information'!$C$45*K36/3.412,'Site Information'!$C$47)),IF(AND('Site Information'!$C$33,'Site Information'!$C$35=\"\"),INDEX(References!$L$20:$L$36,MATCH(H36,References!$H$20:$H$36,0)),IF(H36=\"Electric ASHP\",'Site Information'!$C$33*K36/3.412,'Site Information'!$C$35)))))","v":0},{"$f":"IF(H36=0,0,IF(OR(H36=\"None\",H36=\"New Construction\"),INDEX(References!$M$20:$M$36,MATCH(H36,References!$H$20:$H$36,0)),IF('ASHP Equipment Information'!G182=References!$Q$86,IF('Site Information'!$C$49=\"\",INDEX(References!$M$20:$M$36,MATCH(H36,References!$H$20:$H$36,0)),'Site Information'!$C$49),IF('Site Information'!$C$37=\"\",INDEX(References!$M$20:$M$36,MATCH(H36,References!$H$20:$H$36,0)),'Site Information'!$C$37))))","v":0},{"$f":"IF(H36=0,0,INDEX(References!$I$20:$I$36,MATCH(H36,References!$H$20:$H$36,0)))","v":0.03},{"$f":"IF(H36=0,0,INDEX(References!$J$20:$J$36,MATCH(H36,References!$H$20:$H$36,0)))","v":0.97},{"$f":"IF(H36=0,0,INDEX(References!$N$20:$N$36,MATCH(H36,References!$H$20:$H$36,0)))","v":0.8},{"$f":"IF(H36=0,0,INDEX(References!$O$20:$O$36,MATCH(H36,References!$H$20:$H$36,0)))","v":0},null,{"$f":"IF('ASHP Equipment Information'!G186=\"\",\"\",'ASHP Equipment Information'!G186)","v":""},{"$f":"IF('ASHP Equipment Information'!G188=\"\",\"\",'ASHP Equipment Information'!G188)","v":""},{"$f":"IF('ASHP Equipment Information'!G192=\"\",\"\",IF('ASHP Equipment Information'!F192=\"SEER:\",'ASHP Equipment Information'!G192,ROUND(1.2476*'ASHP Equipment Information'!G192-2.8674,1)))","v":""},{"$f":"IF('ASHP Equipment Information'!G194=\"\",\"\",IF('ASHP Equipment Information'!F194=\"EER:\",'ASHP Equipment Information'!G194,ROUND(1.0578*'ASHP Equipment Information'!G194-0.1769,1)))","v":""},{"$f":"IF('ASHP Equipment Information'!G196=\"\",\"\",IF('ASHP Equipment Information'!F196=\"HSPF:\",'ASHP Equipment Information'!G196,ROUND(1.1702*'ASHP Equipment Information'!G196+0.07,1)))","v":""},{"$f":"IF('ASHP Equipment Information'!D22=\"\",\"\",INDEX(References!$T$7:$T$19,MATCH('ASHP Equipment Information'!$D22,References!$S$7:$S$19,0)))","v":""},{"$f":"IF('ASHP Equipment Information'!D182=\"\",\"\",INDEX(References!$U$7:$U$19,MATCH('ASHP Equipment Information'!$D182,References!$S$7:$S$19,0)))","v":""},{"$f":"IF('ASHP Equipment Information'!D182=\"\",\"\",INDEX(References!$V$7:$V$19,MATCH('ASHP Equipment Information'!$D182,References!$S$7:$S$19,0)))","v":""},{"$f":"IF('ASHP Equipment Information'!D182=\"\",\"\",INDEX(References!$Y$7:$Y$19,MATCH('ASHP Equipment Information'!$D182,References!$S$7:$S$19,0)))","v":""},{"$f":"IF('ASHP Equipment Information'!D182=\"\",\"\",INDEX(References!$Z$7:$Z$19,MATCH('ASHP Equipment Information'!$D182,References!$S$7:$S$19,0)))","v":""},{"$f":"IF('ASHP Equipment Information'!D182=\"\",\"\",INDEX(References!$W$7:$W$19,MATCH('ASHP Equipment Information'!$D182,References!$S$7:$S$19,0)))","v":""},{"$f":"IF('ASHP Equipment Information'!D182=\"\",\"\",INDEX(References!$X$7:$X$19,MATCH('ASHP Equipment Information'!$D182,References!$S$7:$S$19,0)))","v":""},"","",{"$f":"IF('ASHP Equipment Information'!G196=\"\",\"\",IF(AC36=0,\"\",IF(AND(W36<AC36,W36<AD36),\"DNQ\",IF(W36>=AD36,\"Tier II\",\"Tier I\"))))","v":""},{"$f":"IF(OR(AE36=\"DNQ\",AF36=\"DNQ\",AG36=\"DNQ\",'ASHP Load Calculations'!D136=\"FAIL\"),\"DNQ\",IF(OR(AE36=\"Tier I\",AG36=\"Tier I\"),\"Tier I\",IF(OR(AE36=\"Tier II\",AG36=\"Tier II\"),\"Tier II\",\"Tier III\")))","v":"Tier III"},{"$f":"References!$C$15","v":""},{"$f":"IF('ASHP Equipment Information'!D182=\"\",\"\",IF(AH36=\"DNQ\",\"DNQ\",INDEX(IF(AI36=\"Income Eligible \",References!$AK$3:$AK$36,References!$AJ$3:$AJ$36),MATCH(E36,References!$AE$3:$AE$36,0))*('ASHP Equipment Information'!G190/12000)))","v":""},{"$f":"IF('ASHP Equipment Information'!D182=\"\",\"\",IF(AJ36=\"DNQ\",0,INDEX(References!$AL$3:$AL$36,MATCH(Qualifying_Index!E36,References!$AE$3:$AE$36,0))))","v":""},2,{"$f":"IF(COUNTIF(AL27:AL35,1),0,AK36)","v":""},{"$f":"IF(AJ36=\"\",\"\",AJ36*References!$BX$23)","v":""},null,{"$f":"'ASHP Load Calculations'!D132","v":0},{"$f":"'ASHP Load Calculations'!D134","v":0},{"$f":"(('ASHP Equipment Information'!G186*0.65))","v":0},{"$f":"(('ASHP Equipment Information'!G186*1.35))","v":0},{"$f":"IF(T36=\"\",0,IF(References!$C$21=TRUE,(AQ36*0.9),T36*0.65))","v":0},{"$f":"IF(T36=\"\",0,IF(References!$C$21=TRUE,(AQ36*1.2),T36*1.35))","v":0},{"$f":"IF(AND('ASHP Load Calculations'!D132>=Qualifying_Index!AR36,'ASHP Load Calculations'!D132<=Qualifying_Index!AS36),\"PASS\",\"FAIL\")","v":"PASS"},{"$f":"IF(OR(AT36=0,AU36=0),\"FAIL\",IF(AND(IF(References!$C$21=TRUE,T36,AQ36)>=AT36,IF(References!$C$21=TRUE,T36,AQ36)<=AU36),\"PASS\",\"FAIL\"))","v":"FAIL"},{"$f":"IF(References!$C$21=TRUE,IF(AND('ASHP Load Calculations'!D132=\"\",'ASHP Load Calculations'!D134=\"\"),\"Missing Info\",IF(AW36=\"PASS\",\"PASS\",\"FAIL\")),IF(AND('ASHP Load Calculations'!D132=\"\",'ASHP Load Calculations'!D134=\"\",LEFT('ASHP Equipment Information'!D182,6)=\"Ducted\",B36=\"Cold Climate\"),\"Missing Info\",IF(OR(AV36=\"PASS\",AW36=\"PASS\",AND(LEFT('ASHP Equipment Information'!D182,6)<>\"Ducted\",B36<>\"Cold Climate\")),\"PASS\",\"FAIL\")))","v":"PASS"},null,{"$f":"IF(B36=\"\",\"\",IF(B36=\"Cold Climate\",_xlfn.IFNA(IF(INDEX('Integrated Controls'!$C$17:$C$18,MATCH('ASHP Load Calculations'!$G$130,'Integrated Controls'!$B$17:$B$18,0))=0,\"Separate Control\",INDEX('Integrated Controls'!$C$17:$C$18,MATCH('ASHP Load Calculations'!$G$130,'Integrated Controls'!$B$17:$B$18,0))),\"Separate Control\"),\"\"))","v":""},"",{"$f":"IF(AZ36=\"\",\"\",IF(AZ36=\"No Fossil Fuel Heater\",1,IF(AZ36=\"Integrated/Modulating Control\",IF(ROUND(BA36,1)>1,1,ROUND(BA36,1)),IF(LEFT('ASHP Equipment Information'!D182,6)=\"Ducted\",0.9,IF(BA36>=0.65,0.7,IF(BA36>=0.55,0.6,IF(BA36>=0.45,0.5,IF(BA36>=0.35,0.4,0.3))))))))","v":""},{"$f":"IF(B36=\"\",\"\",IF(B36=\"Cold Climate\",'ASHP Equipment Information'!D182&\" \"&AZ36&\" \"&BB36,\"\"))","v":""},{"$f":"IF($BC36=\"\",\"\",INDEX(References!AJ$74:AJ$129,MATCH($BC36,References!$AH$74:$AH$129,0)))","v":""},{"$f":"IF($BC36=\"\",\"\",INDEX(References!AK$74:AK$129,MATCH($BC36,References!$AH$74:$AH$129,0)))","v":""},{"$f":"IF($BC36=\"\",\"\",INDEX(References!AL$74:AL$129,MATCH($BC36,References!$AH$74:$AH$129,0)))","v":""},{"$f":"IF($BC36=\"\",\"\",INDEX(References!AM$74:AM$129,MATCH($BC36,References!$AH$74:$AH$129,0)))","v":""},"",{"$f":"IF(BC36=\"\",\"\",BD36+BE36*W36/References!$E$12)","v":""},{"$f":"IF($BC36=\"\",\"\",INDEX(References!AN$74:AN$129,MATCH($BC36,References!$AH$74:$AH$129,0)))","v":""},{"$f":"IF($BC36=\"\",\"\",INDEX(References!AO$74:AO$129,MATCH($BC36,References!$AH$74:$AH$129,0)))","v":""},null,{"$f":"IF(OR('ASHP Equipment Information'!G188=\"\",'ASHP Equipment Information'!G186=\"\",'ASHP Equipment Information'!G194=\"\",'ASHP Equipment Information'!G196=\"\",'ASHP Equipment Information'!D186=\"\",'ASHP Equipment Information'!D188=\"\",'ASHP Equipment Information'!D190=\"\",'ASHP Equipment Information'!D192=\"\",'ASHP Equipment Information'!D194=\"\",'ASHP Equipment Information'!D196=\"\"),\"Missing Info\",\"\")","v":"Missing Info"},{"$f":"IF(AND(BV36=1,'ASHP Equipment Information'!G196=\"\"),\"Missing Info\",IF(BU36=\"PTHP\",BM36,IF(OR('ASHP Equipment Information'!G188=\"\",'ASHP Equipment Information'!G186=\"\",'ASHP Equipment Information'!G192=\"\",'ASHP Equipment Information'!G194=\"\",'ASHP Equipment Information'!D186=\"\",'ASHP Equipment Information'!D188=\"\",'ASHP Equipment Information'!D190=\"\",'ASHP Equipment Information'!D194=\"\",'ASHP Equipment Information'!D196=\"\",AX36=\"Missing Info\"),\"Missing Info\",\"\")))","v":"Missing Info"},{"$f":"IF(AND(BV36=1,'ASHP Equipment Information'!G196=\"\"),\"Missing Info\",IF(BU36=\"PTHP\",BM36,IF(OR('ASHP Equipment Information'!D186=\"\",'ASHP Equipment Information'!D188=\"\",'ASHP Equipment Information'!D190=\"\",'ASHP Equipment Information'!D194=\"\",'ASHP Equipment Information'!D196=\"\",'ASHP Equipment Information'!G188=\"\",'ASHP Equipment Information'!G186=\"\",'ASHP Equipment Information'!G192=\"\"),\"Missing Info\",\"\")))","v":"Missing Info"},{"$f":"IF(OR('ASHP Load Calculations'!G136=\"\",'ASHP Equipment Information'!G194=\"\"),\"\",IF(OR('ASHP Equipment Information'!D182=\"Ducted ASHP\",'ASHP Equipment Information'!D182=\"Ducted ccASHP\"),BR36*HP_kW_CA,0))","v":""},{"$f":"IF('ASHP Equipment Information'!G194=\"\",\"\",IF(OR('ASHP Load Calculations'!G136=\"\"),\"\",'ASHP Equipment Information'!G188*(12/'ASHP Equipment Information'!G194)*kW_RS))","v":""},{"$f":"IF(OR('ASHP Load Calculations'!G136=\"\",'ASHP Equipment Information'!G192=\"\",'ASHP Equipment Information'!G194=\"\"),\"\",IF(OR('ASHP Equipment Information'!D182=\"Ducted ASHP\",'ASHP Equipment Information'!D182=\"Ducted ccASHP\"),'ASHP Equipment Information'!G188/12000*(12/'ASHP Equipment Information'!G192*FLH_Cool)*QI_kWh,0))","v":""},{"$f":"IF(OR('ASHP Load Calculations'!G136=\"\",'ASHP Equipment Information'!G192=\"\",'ASHP Equipment Information'!G194=\"\"),\"\",IF(OR('ASHP Equipment Information'!D182=\"Ducted ASHP\",'ASHP Equipment Information'!D182=\"Ducted ccASHP\"),'ASHP Equipment Information'!G190/12000*(12/'ASHP Equipment Information'!G196*FLH_Heat)*QI_kWh,0))","v":""},null,{"$f":"IF('ASHP Equipment Information'!D182=\"\",\"\",INDEX(References!$AB$7:$AB$19,MATCH('ASHP Equipment Information'!D182,Equipment_Type,0)))","v":""},{"$f":"IF('ASHP Equipment Information'!D182=\"\",\"\",INDEX(References!$AA$7:$AA$19,MATCH('ASHP Equipment Information'!D182,Equipment_Type,0)))","v":""},null,{"$f":"IF(B36=\"\",References!$D$25,IF(References!$H$13=\"New Construction\",FLH_Cool,IF(References!$H$13=\"\",0,References!$C$25)))","v":649},{"$f":"IF(B36=\"\",References!$D$26,IF(References!$H$13=\"New Construction\",FLH_Heat,IF(References!$H$13=\"\",0,References!$C$26)))","v":788},null,{"$f":"IF(OR($AX36=\"FAIL\",'ASHP Equipment Information'!G188=\"\",AX36=\"Missing Info\",AH36=\"DNQ\"),0,IF(B36=\"Cold Climate\",((AP36/1000)*((1/I36)-(1/V36))*BJ36)+SUM(BP36:BQ36),((S36/12000)*((12/I36)-(12/V36)))+SUM(BP36:BQ36)))","v":0},{"$f":"IF(OR($AX36=\"FAIL\",'ASHP Equipment Information'!G188=\"\",AX36=\"Missing Info\",AH36=\"DNQ\"),0,IF(B36=\"Cold Climate\",((AP36/1000)*((1/J36)-(1/BH36))*BX36*BJ36)+BR36,IF(BU36=\"PTHP\",((S36/12000)*(12/I36-12/V36)*BX36),((('ASHP Equipment Information'!G188/12000)*((12/J36)-(12/U36))*BX36))+BR36)))","v":0},{"$f":"IF(OR($AX36=\"FAIL\",'ASHP Equipment Information'!G188=\"\",AX36=\"Missing Info\",AH36=\"DNQ\"),0,CB36*References!$E$12/1000)","v":0},{"$f":"CB36*References!$A$12","v":0},{"$f":"IF(OR($AX36=\"FAIL\",T36=\"\",AX36=\"Missing Info\",AH36=\"DNQ\"),0,IF(N36=0,SUM(BP36:BQ36),IF(B36=\"Cold Climate\",((AQ36/1000)*((1/L36)-(1/(W36/3.412)))*(1/References!$E$12)+SUM(BP36:BQ36))*N36,((T36/12000)*((1/(L36))-(1/(W36/3.412)))+SUM(BP36:BQ36))*N36)))","v":0},{"$f":"IF(OR($AX36=\"FAIL\",T36=\"\",AX36=\"Missing Info\",AH36=\"DNQ\"),0,IF(N36=0,SUM(BS36),IF(B36=\"Cold Climate\",((AQ36/1000)*((1/L36)-(1/BI36))*(1/References!$E$12)*BY36*BK36*N36+BS36),((T36/12000)*((12/L36)-(12/W36))*BY36*N36+BS36))))","v":0},{"$f":"IF(OR($AX36=\"FAIL\",'ASHP Equipment Information'!G190=\"\",AX36=\"Missing Info\",AH36=\"DNQ\"),0,IF(B36=\"Cold Climate\",-((AQ36/1000)*(1/(W36/3.412))*(1/References!$E$12))*O36,-((T36/12000)*(1/(W36/3.412)))*O36))","v":0},{"$f":"IF(OR($AX36=\"FAIL\",'ASHP Equipment Information'!G190=\"\",AX36=\"Missing Info\",AH36=\"DNQ\"),0,IF(B36=\"Cold Climate\",((AQ36/1000)*(1/BI36)*(1/References!$E$12)*BY36*BK36)*O36,(((T36/12000)*(12/W36)*BY36)-(T36*BY36/1000000)*P36)*O36))","v":0},{"$f":"IF(OR($AX36=\"FAIL\",AX36=\"Missing Info\",'ASHP Equipment Information'!D182=\"\"),0,IF(References!$I$36=TRUE,CF36*References!$E$12/1000,((CF36-CH36)*References!$E$12/1000)))","v":0},{"$f":"IF(OR($AX36=\"FAIL\",AX36=\"Missing Info\",'ASHP Equipment Information'!D182=\"\"),0,IF(O36<>0,IF(B36=\"Cold Climate\",((AQ36*BY36/M36)/1000000)*O36,((T36*BY36/M36)/1000000)*O36*P36),0))","v":0},0,{"$f":"(CF36-CH36)*References!$A$12","v":0},{"$f":"CJ36*Q36*References!$D$4","v":0},0]
[null,"Done",null,null,null,null,"*** Need to add second cooling type","***Need to add second heating type",null,null,null,null,null,null,null,null,null,null,{"$f":"SUM(S27:S36)","v":0},{"$f":"SUM(T27:T36)","v":0},{"$f":"AVERAGE(U27:U36)","v":{"$error":"#DIV/0!"}},{"$f":"AVERAGE(V27:V36)","v":{"$error":"#DIV/0!"}},{"$error":"#DIV/0!"}]
[]
["Smart T-Stats tab- Thermostats"]
[]
["Unit Number","Model","Learning vs. Connected",null,"Controlled Unit","Cooling BTUH","Heating BTUH","SEER","HSPF","Cooling Hours","Heating Hours","Cooling ESF","Heating ESF","kWh Savings","MMBTU savings","CO2 savings (lbs)",null,null,null,null,null,null,"Rebate","kW","Bonus"]
[1,{"$f":"'Smart T-Stats'!D21","v":0},{"$f":"IF(B42<>0,INDEX(References!$C$82:$D$118,MATCH(B42,References!$C$82:$C$118,0),2),\"\")","v":""},null,{"$f":"'Smart T-Stats'!G21","v":0},{"$f":"IF(Qualifying_Index!B42=0,0,IF(OR(E42=0,AND(INDEX($S$27:$S$36,MATCH(E42,$A$27:$A$36,0))=\"\",INDEX('Space Heating Worksheet'!$M$33:$M$42,MATCH(E42,$A$121:$A$130,0))=\"\")),36000,IF(INDEX($S$27:$S$36,MATCH(E42,$A$27:$A$36,0))=\"\",INDEX('Space Heating Worksheet'!$M$33:$M$42,MATCH(E42,$A$121:$A$130,0)),INDEX($S$27:$S$36,MATCH(E42,$A$27:$A$36,0)))))","v":0},{"$f":"IF(Qualifying_Index!B42=0,0,IF(OR(E42=0,AND(INDEX($T$27:$T$36,MATCH(E42,$A$27:$A$36,0))=\"\",INDEX('Space Heating Worksheet'!$N$33:$N$42,MATCH(E42,$A$121:$A$130,0))=\"\")),36000,IF(INDEX($T$27:$T$36,MATCH(E42,$A$27:$A$36,0))=\"\",INDEX('Space Heating Worksheet'!$N$33:$N$42,MATCH(E42,$A$121:$A$130,0)),INDEX($T$27:$T$36,MATCH(E42,$A$27:$A$36,0)))))","v":0},{"$f":"IF(Qualifying_Index!B42=0,0,IF(OR(E42=0,AND(INDEX($U$27:$U$36,MATCH(E42,$A$27:$A$36,0))=\"\",INDEX($AY$152:$AY$161,MATCH(E42,$A$121:$A$130,0))=\"\")),References!$L$8,IF(INDEX($U$27:$U$36,MATCH(E42,$A$27:$A$36,0))=\"\",INDEX($AY$152:$AY$161,MATCH(E42,$A$121:$A$130,0)),INDEX($U$27:$U$36,MATCH(E42,$A$27:$A$36,0)))))","v":0},{"$f":"IF(Qualifying_Index!B42=0,0,IF(OR(E42=0,AND(INDEX($W$27:$W$36,MATCH(E42,$A$27:$A$36,0))=\"\",INDEX($P$152:$P$161,MATCH(E42,$A$121:$A$130,0))=\"\")),8.2,IF(INDEX($W$27:$W$36,MATCH(E42,$A$27:$A$36,0))=\"\",INDEX($P$152:$P$161,MATCH(E42,$A$121:$A$130,0))*References!$E$12,INDEX($W$27:$W$36,MATCH(E42,$A$27:$A$36,0)))))","v":0},{"$f":"BX27","v":649},{"$f":"BY27","v":788},{"$f":"IF(C42<>\"\",IF(C42=\"Learning\",References!$D$47,References!$D$49),0)","v":0},{"$f":"IF(C42<>\"\",IF(C42=\"Learning\",References!$D$48,References!$D$50),0)","v":0},{"$f":"IF(C42<>\"\",((F42/12000)*(12/H42)*J42*References!$D$47)+((G42/12000)*(12/I42)*K42*References!$D$48),0)","v":0},{"$f":"N42*References!$E$12/1000","v":0},{"$f":"N42*References!$A$12","v":0},{"$f":"IF('Smart T-Stats'!H21=\"\",\"\",IF(References!$C$33=TRUE,\"HP Thermostat\",IF(OR(RIGHT('Smart T-Stats'!H21,2)=\"HP\",'Smart T-Stats'!I21=\"Electric Heat\"),\"CH Thermostat Heating Cooling\",\"CH Thermostat Cooling\")))","v":""},null,null,{"$f":"IF(Q42=\"\",\"\",IF(LEFT(Q42)=\"HP\",Q42,IF(RIGHT(Q42,9)=\"t Cooling\",IF(C42=\"Learning\",\"Learning for Cooling\",\"Connected for Cooling\"),IF(C42=\"Learning\",\"Learning for Heating and Cooling\",\"Connected for Heating and Cooling\"))))","v":""},null,null,{"$f":"IF(T42=\"\",\"\",INDEX(References!$AJ$33:$AJ$44,MATCH(T42,References!$AE$33:$AE$46,0)))","v":""},{"$f":"IF(C42=\"\",\"\",IF(C42=\"Learning\",0,INDEX(References!$D$42:$D$44,MATCH('Smart T-Stats'!J21,References!$C$42:$C$44,0))))","v":""},{"$f":"IF(T42=\"\",\"\",W42*References!$BX$23)","v":""}]
[2,{"$f":"'Smart T-Stats'!D22","v":0},{"$f":"IF(B43<>0,INDEX(References!$C$82:$D$118,MATCH(B43,References!$C$82:$C$118,0),2),\"\")","v":""},null,{"$f":"'Smart T-Stats'!G22","v":0},{"$f":"IF(Qualifying_Index!B43=0,0,IF(OR(E43=0,AND(INDEX($S$27:$S$36,MATCH(E43,$A$27:$A$36,0))=\"\",INDEX('Space Heating Worksheet'!$M$33:$M$42,MATCH(E43,$A$121:$A$130,0))=\"\")),36000,IF(INDEX($S$27:$S$36,MATCH(E43,$A$27:$A$36,0))=\"\",INDEX('Space Heating Worksheet'!$M$33:$M$42,MATCH(E43,$A$121:$A$130,0)),INDEX($S$27:$S$36,MATCH(E43,$A$27:$A$36,0)))))","v":0},{"$f":"IF(Qualifying_Index!B43=0,0,IF(OR(E43=0,AND(INDEX($T$27:$T$36,MATCH(E43,$A$27:$A$36,0))=\"\",INDEX('Space Heating Worksheet'!$N$33:$N$42,MATCH(E43,$A$121:$A$130,0))=\"\")),36000,IF(INDEX($T$27:$T$36,MATCH(E43,$A$27:$A$36,0))=\"\",INDEX('Space Heating Worksheet'!$N$33:$N$42,MATCH(E43,$A$121:$A$130,0)),INDEX($T$27:$T$36,MATCH(E43,$A$27:$A$36,0)))))","v":0},{"$f":"IF(Qualifying_Index!B43=0,0,IF(OR(E43=0,AND(INDEX($U$27:$U$36,MATCH(E43,$A$27:$A$36,0))=\"\",INDEX($AY$152:$AY$161,MATCH(E43,$A$121:$A$130,0))=\"\")),References!$L$8,IF(INDEX($U$27:$U$36,MATCH(E43,$A$27:$A$36,0))=\"\",INDEX($AY$152:$AY$161,MATCH(E43,$A$121:$A$130,0)),INDEX($U$27:$U$36,MATCH(E43,$A$27:$A$36,0)))))","v":0},{"$f":"IF(Qualifying_Index!B43=0,0,IF(OR(E43=0,AND(INDEX($W$27:$W$36,MATCH(E43,$A$27:$A$36,0))=\"\",INDEX($P$152:$P$161,MATCH(E43,$A$121:$A$130,0))=\"\")),8.2,IF(INDEX($W$27:$W$36,MATCH(E43,$A$27:$A$36,0))=\"\",INDEX($P$152:$P$161,MATCH(E43,$A$121:$A$130,0))*References!$E$12,INDEX($W$27:$W$36,MATCH(E43,$A$27:$A$36,0)))))","v":0},649,788,{"$f":"IF(C43<>\"\",IF(C43=\"Learning\",References!$D$47,References!$D$49),0)","v":0},{"$f":"IF(C43<>\"\",IF(C43=\"Learning\",References!$D$48,References!$D$50),0)","v":0},{"$f":"IF(C43<>\"\",((F43/12000)*(12/H43)*J43*References!$D$47)+((G43/12000)*(12/I43)*K43*References!$D$48),0)","v":0},{"$f":"N43*References!$E$12/1000","v":0},{"$f":"N43*References!$A$12","v":0},{"$f":"IF('Smart T-Stats'!H22=\"\",\"\",IF(References!$C$33=TRUE,\"HP Thermostat\",IF(OR(RIGHT('Smart T-Stats'!H22,2)=\"HP\",'Smart T-Stats'!I22=\"Electric Heat\"),\"CH Thermostat Heating Cooling\",\"CH Thermostat Cooling\")))","v":""},null,null,"",null,null,{"$f":"IF(T43=\"\",\"\",INDEX(References!$AJ$33:$AJ$44,MATCH(T43,References!$AE$33:$AE$46,0)))","v":""},{"$f":"IF(C43=\"\",\"\",IF(C43=\"Learning\",0,INDEX(References!$D$42:$D$44,MATCH('Smart T-Stats'!J22,References!$C$42:$C$44,0))))","v":""},{"$f":"IF(T43=\"\",\"\",W43*References!$BX$23)","v":""}]
[3,{"$f":"'Smart T-Stats'!D23","v":0},{"$f":"IF(B44<>0,INDEX(References!$C$82:$D$118,MATCH(B44,References!$C$82:$C$118,0),2),\"\")","v":""},null,{"$f":"'Smart T-Stats'!G23","v":0},{"$f":"IF(Qualifying_Index!B44=0,0,IF(OR(E44=0,AND(INDEX($S$27:$S$36,MATCH(E44,$A$27:$A$36,0))=\"\",INDEX('Space Heating Worksheet'!$M$33:$M$42,MATCH(E44,$A$121:$A$130,0))=\"\")),36000,IF(INDEX($S$27:$S$36,MATCH(E44,$A$27:$A$36,0))=\"\",INDEX('Space Heating Worksheet'!$M$33:$M$42,MATCH(E44,$A$121:$A$130,0)),INDEX($S$27:$S$36,MATCH(E44,$A$27:$A$36,0)))))","v":0},{"$f":"IF(Qualifying_Index!B44=0,0,IF(OR(E44=0,AND(INDEX($T$27:$T$36,MATCH(E44,$A$27:$A$36,0))=\"\",INDEX('Space Heating Worksheet'!$N$33:$N$42,MATCH(E44,$A$121:$A$130,0))=\"\")),36000,IF(INDEX($T$27:$T$36,MATCH(E44,$A$27:$A$36,0))=\"\",INDEX('Space Heating Worksheet'!$N$33:$N$42,MATCH(E44,$A$121:$A$130,0)),INDEX($T$27:$T$36,MATCH(E44,$A$27:$A$36,0)))))","v":0},{"$f":"IF(Qualifying_Index!B44=0,0,IF(OR(E44=0,AND(INDEX($U$27:$U$36,MATCH(E44,$A$27:$A$36,0))=\"\",INDEX($AY$152:$AY$161,MATCH(E44,$A$121:$A$130,0))=\"\")),References!$L$8,IF(INDEX($U$27:$U$36,MATCH(E44,$A$27:$A$36,0))=\"\",INDEX($AY$152:$AY$161,MATCH(E44,$A$121:$A$130,0)),INDEX($U$27:$U$36,MATCH(E44,$A$27:$A$36,0)))))","v":0},{"$f":"IF(Qualifying_Index!B44=0,0,IF(OR(E44=0,AND(INDEX($W$27:$W$36,MATCH(E44,$A$27:$A$36,0))=\"\",INDEX($P$152:$P$161,MATCH(E44,$A$121:$A$130,0))=\"\")),8.2,IF(INDEX($W$27:$W$36,MATCH(E44,$A$27:$A$36,0))=\"\",INDEX($P$152:$P$161,MATCH(E44,$A$121:$A$130,0))*References!$E$12,INDEX($W$27:$W$36,MATCH(E44,$A$27:$A$36,0)))))","v":0},649,788,{"$f":"IF(C44<>\"\",IF(C44=\"Learning\",References!$D$47,References!$D$49),0)","v":0},{"$f":"IF(C44<>\"\",IF(C44=\"Learning\",References!$D$48,References!$D$50),0)","v":0},{"$f":"IF(C44<>\"\",((F44/12000)*(12/H44)*J44*References!$D$47)+((G44/12000)*(12/I44)*K44*References!$D$48),0)","v":0},{"$f":"N44*References!$E$12/1000","v":0},{"$f":"N44*References!$A$12","v":0},{"$f":"IF('Smart T-Stats'!H23=\"\",\"\",IF(References!$C$33=TRUE,\"HP Thermostat\",IF(OR(RIGHT('Smart T-Stats'!H23,2)=\"HP\",'Smart T-Stats'!I23=\"Electric Heat\"),\"CH Thermostat Heating Cooling\",\"CH Thermostat Cooling\")))","v":""},null,null,"",null,null,{"$f":"IF(T44=\"\",\"\",INDEX(References!$AJ$33:$AJ$44,MATCH(T44,References!$AE$33:$AE$46,0)))","v":""},{"$f":"IF(C44=\"\",\"\",IF(C44=\"Learning\",0,INDEX(References!$D$42:$D$44,MATCH('Smart T-Stats'!J23,References!$C$42:$C$44,0))))","v":""},{"$f":"IF(T44=\"\",\"\",W44*References!$BX$23)","v":""}]
[4,{"$f":"'Smart T-Stats'!D24","v":0},{"$f":"IF(B45<>0,INDEX(References!$C$82:$D$118,MATCH(B45,References!$C$82:$C$118,0),2),\"\")","v":""},null,{"$f":"'Smart T-Stats'!G24","v":0},{"$f":"IF(Qualifying_Index!B45=0,0,IF(OR(E45=0,AND(INDEX($S$27:$S$36,MATCH(E45,$A$27:$A$36,0))=\"\",INDEX('Space Heating Worksheet'!$M$33:$M$42,MATCH(E45,$A$121:$A$130,0))=\"\")),36000,IF(INDEX($S$27:$S$36,MATCH(E45,$A$27:$A$36,0))=\"\",INDEX('Space Heating Worksheet'!$M$33:$M$42,MATCH(E45,$A$121:$A$130,0)),INDEX($S$27:$S$36,MATCH(E45,$A$27:$A$36,0)))))","v":0},{"$f":"IF(Qualifying_Index!B45=0,0,IF(OR(E45=0,AND(INDEX($T$27:$T$36,MATCH(E45,$A$27:$A$36,0))=\"\",INDEX('Space Heating Worksheet'!$N$33:$N$42,MATCH(E45,$A$121:$A$130,0))=\"\")),36000,IF(INDEX($T$27:$T$36,MATCH(E45,$A$27:$A$36,0))=\"\",INDEX('Space Heating Worksheet'!$N$33:$N$42,MATCH(E45,$A$121:$A$130,0)),INDEX($T$27:$T$36,MATCH(E45,$A$27:$A$36,0)))))","v":0},{"$f":"IF(Qualifying_Index!B45=0,0,IF(OR(E45=0,AND(INDEX($U$27:$U$36,MATCH(E45,$A$27:$A$36,0))=\"\",INDEX($AY$152:$AY$161,MATCH(E45,$A$121:$A$130,0))=\"\")),References!$L$8,IF(INDEX($U$27:$U$36,MATCH(E45,$A$27:$A$36,0))=\"\",INDEX($AY$152:$AY$161,MATCH(E45,$A$121:$A$130,0)),INDEX($U$27:$U$36,MATCH(E45,$A$27:$A$36,0)))))","v":0},{"$f":"IF(Qualifying_Index!B45=0,0,IF(OR(E45=0,AND(INDEX($W$27:$W$36,MATCH(E45,$A$27:$A$36,0))=\"\",INDEX($P$152:$P$161,MATCH(E45,$A$121:$A$130,0))=\"\")),8.2,IF(INDEX($W$27:$W$36,MATCH(E45,$A$27:$A$36,0))=\"\",INDEX($P$152:$P$161,MATCH(E45,$A$121:$A$130,0))*References!$E$12,INDEX($W$27:$W$36,MATCH(E45,$A$27:$A$36,0)))))","v":0},649,788,{"$f":"IF(C45<>\"\",IF(C45=\"Learning\",References!$D$47,References!$D$49),0)","v":0},{"$f":"IF(C45<>\"\",IF(C45=\"Learning\",References!$D$48,References!$D$50),0)","v":0},{"$f":"IF(C45<>\"\",((F45/12000)*(12/H45)*J45*References!$D$47)+((G45/12000)*(12/I45)*K45*References!$D$48),0)","v":0},{"$f":"N45*References!$E$12/1000","v":0},{"$f":"N45*References!$A$12","v":0},{"$f":"IF('Smart T-Stats'!H24=\"\",\"\",IF(References!$C$33=TRUE,\"HP Thermostat\",IF(OR(RIGHT('Smart T-Stats'!H24,2)=\"HP\",'Smart T-Stats'!I24=\"Electric Heat\"),\"CH Thermostat Heating Cooling\",\"CH Thermostat Cooling\")))","v":""},null,null,"",null,null,{"$f":"IF(T45=\"\",\"\",INDEX(References!$AJ$33:$AJ$44,MATCH(T45,References!$AE$33:$AE$46,0)))","v":""},{"$f":"IF(C45=\"\",\"\",IF(C45=\"Learning\",0,INDEX(References!$D$42:$D$44,MATCH('Smart T-Stats'!J24,References!$C$42:$C$44,0))))","v":""},{"$f":"IF(T45=\"\",\"\",W45*References!$BX$23)","v":""}]
[5,{"$f":"'Smart T-Stats'!D25","v":0},{"$f":"IF(B46<>0,INDEX(References!$C$82:$D$118,MATCH(B46,References!$C$82:$C$118,0),2),\"\")","v":""},null,{"$f":"'Smart T-Stats'!G25","v":0},{"$f":"IF(Qualifying_Index!B46=0,0,IF(OR(E46=0,AND(INDEX($S$27:$S$36,MATCH(E46,$A$27:$A$36,0))=\"\",INDEX('Space Heating Worksheet'!$M$33:$M$42,MATCH(E46,$A$121:$A$130,0))=\"\")),36000,IF(INDEX($S$27:$S$36,MATCH(E46,$A$27:$A$36,0))=\"\",INDEX('Space Heating Worksheet'!$M$33:$M$42,MATCH(E46,$A$121:$A$130,0)),INDEX($S$27:$S$36,MATCH(E46,$A$27:$A$36,0)))))","v":0},{"$f":"IF(Qualifying_Index!B46=0,0,IF(OR(E46=0,AND(INDEX($T$27:$T$36,MATCH(E46,$A$27:$A$36,0))=\"\",INDEX('Space Heating Worksheet'!$N$33:$N$42,MATCH(E46,$A$121:$A$130,0))=\"\")),36000,IF(INDEX($T$27:$T$36,MATCH(E46,$A$27:$A$36,0))=\"\",INDEX('Space Heating Worksheet'!$N$33:$N$42,MATCH(E46,$A$121:$A$130,0)),INDEX($T$27:$T$36,MATCH(E46,$A$27:$A$36,0)))))","v":0},{"$f":"IF(Qualifying_Index!B46=0,0,IF(OR(E46=0,AND(INDEX($U$27:$U$36,MATCH(E46,$A$27:$A$36,0))=\"\",INDEX($AY$152:$AY$161,MATCH(E46,$A$121:$A$130,0))=\"\")),References!$L$8,IF(INDEX($U$27:$U$36,MATCH(E46,$A$27:$A$36,0))=\"\",INDEX($AY$152:$AY$161,MATCH(E46,$A$121:$A$130,0)),INDEX($U$27:$U$36,MATCH(E46,$A$27:$A$36,0)))))","v":0},{"$f":"IF(Qualifying_Index!B46=0,0,IF(OR(E46=0,AND(INDEX($W$27:$W$36,MATCH(E46,$A$27:$A$36,0))=\"\",INDEX($P$152:$P$161,MATCH(E46,$A$121:$A$130,0))=\"\")),8.2,IF(INDEX($W$27:$W$36,MATCH(E46,$A$27:$A$36,0))=\"\",INDEX($P$152:$P$161,MATCH(E46,$A$121:$A$130,0))*References!$E$12,INDEX($W$27:$W$36,MATCH(E46,$A$27:$A$36,0)))))","v":0},649,788,{"$f":"IF(C46<>\"\",IF(C46=\"Learning\",References!$D$47,References!$D$49),0)","v":0},{"$f":"IF(C46<>\"\",IF(C46=\"Learning\",References!$D$48,References!$D$50),0)","v":0},{"$f":"IF(C46<>\"\",((F46/12000)*(12/H46)*J46*References!$D$47)+((G46/12000)*(12/I46)*K46*References!$D$48),0)","v":0},{"$f":"N46*References!$E$12/1000","v":0},{"$f":"N46*References!$A$12","v":0},{"$f":"IF('Smart T-Stats'!H25=\"\",\"\",IF(References!$C$33=TRUE,\"HP Thermostat\",IF(OR(RIGHT('Smart T-Stats'!H25,2)=\"HP\",'Smart T-Stats'!I25=\"Electric Heat\"),\"CH Thermostat Heating Cooling\",\"CH Thermostat Cooling\")))","v":""},null,null,"",null,null,{"$f":"IF(T46=\"\",\"\",INDEX(References!$AJ$33:$AJ$44,MATCH(T46,References!$AE$33:$AE$46,0)))","v":""},{"$f":"IF(C46=\"\",\"\",IF(C46=\"Learning\",0,INDEX(References!$D$42:$D$44,MATCH('Smart T-Stats'!J25,References!$C$42:$C$44,0))))","v":""},{"$f":"IF(T46=\"\",\"\",W46*References!$BX$23)","v":""}]
[6,{"$f":"'Smart T-Stats'!D26","v":0},{"$f":"IF(B47<>0,INDEX(References!$C$82:$D$118,MATCH(B47,References!$C$82:$C$118,0),2),\"\")","v":""},null,{"$f":"'Smart T-Stats'!G26","v":0},{"$f":"IF(Qualifying_Index!B47=0,0,IF(OR(E47=0,AND(INDEX($S$27:$S$36,MATCH(E47,$A$27:$A$36,0))=\"\",INDEX('Space Heating Worksheet'!$M$33:$M$42,MATCH(E47,$A$121:$A$130,0))=\"\")),36000,IF(INDEX($S$27:$S$36,MATCH(E47,$A$27:$A$36,0))=\"\",INDEX('Space Heating Worksheet'!$M$33:$M$42,MATCH(E47,$A$121:$A$130,0)),INDEX($S$27:$S$36,MATCH(E47,$A$27:$A$36,0)))))","v":0},{"$f":"IF(Qualifying_Index!B47=0,0,IF(OR(E47=0,AND(INDEX($T$27:$T$36,MATCH(E47,$A$27:$A$36,0))=\"\",INDEX('Space Heating Worksheet'!$N$33:$N$42,MATCH(E47,$A$121:$A$130,0))=\"\")),36000,IF(INDEX($T$27:$T$36,MATCH(E47,$A$27:$A$36,0))=\"\",INDEX('Space Heating Worksheet'!$N$33:$N$42,MATCH(E47,$A$121:$A$130,0)),INDEX($T$27:$T$36,MATCH(E47,$A$27:$A$36,0)))))","v":0},{"$f":"IF(Qualifying_Index!B47=0,0,IF(OR(E47=0,AND(INDEX($U$27:$U$36,MATCH(E47,$A$27:$A$36,0))=\"\",INDEX($AY$152:$AY$161,MATCH(E47,$A$121:$A$130,0))=\"\")),References!$L$8,IF(INDEX($U$27:$U$36,MATCH(E47,$A$27:$A$36,0))=\"\",INDEX($AY$152:$AY$161,MATCH(E47,$A$121:$A$130,0)),INDEX($U$27:$U$36,MATCH(E47,$A$27:$A$36,0)))))","v":0},{"$f":"IF(Qualifying_Index!B47=0,0,IF(OR(E47=0,AND(INDEX($W$27:$W$36,MATCH(E47,$A$27:$A$36,0))=\"\",INDEX($P$152:$P$161,MATCH(E47,$A$121:$A$130,0))=\"\")),8.2,IF(INDEX($W$27:$W$36,MATCH(E47,$A$27:$A$36,0))=\"\",INDEX($P$152:$P$161,MATCH(E47,$A$121:$A$130,0))*References!$E$12,INDEX($W$27:$W$36,MATCH(E47,$A$27:$A$36,0)))))","v":0},649,788,{"$f":"IF(C47<>\"\",IF(C47=\"Learning\",References!$D$47,References!$D$49),0)","v":0},{"$f":"IF(C47<>\"\",IF(C47=\"Learning\",References!$D$48,References!$D$50),0)","v":0},{"$f":"IF(C47<>\"\",((F47/12000)*(12/H47)*J47*References!$D$47)+((G47/12000)*(12/I47)*K47*References!$D$48),0)","v":0},{"$f":"N47*References!$E$12/1000","v":0},{"$f":"N47*References!$A$12","v":0},{"$f":"IF('Smart T-Stats'!H26=\"\",\"\",IF(References!$C$33=TRUE,\"HP Thermostat\",IF(OR(RIGHT('Smart T-Stats'!H26,2)=\"HP\",'Smart T-Stats'!I26=\"Electric Heat\"),\"CH Thermostat Heating Cooling\",\"CH Thermostat Cooling\")))","v":""},null,null,"",null,null,{"$f":"IF(T47=\"\",\"\",INDEX(References!$AJ$33:$AJ$44,MATCH(T47,References!$AE$33:$AE$46,0)))","v":""},{"$f":"IF(C47=\"\",\"\",IF(C47=\"Learning\",0,INDEX(References!$D$42:$D$44,MATCH('Smart T-Stats'!J26,References!$C$42:$C$44,0))))","v":""},{"$f":"IF(T47=\"\",\"\",W47*References!$BX$23)","v":""}]
[7,{"$f":"'Smart T-Stats'!D27","v":0},{"$f":"IF(B48<>0,INDEX(References!$C$82:$D$118,MATCH(B48,References!$C$82:$C$118,0),2),\"\")","v":""},null,{"$f":"'Smart T-Stats'!G27","v":0},{"$f":"IF(Qualifying_Index!B48=0,0,IF(OR(E48=0,AND(INDEX($S$27:$S$36,MATCH(E48,$A$27:$A$36,0))=\"\",INDEX('Space Heating Worksheet'!$M$33:$M$42,MATCH(E48,$A$121:$A$130,0))=\"\")),36000,IF(INDEX($S$27:$S$36,MATCH(E48,$A$27:$A$36,0))=\"\",INDEX('Space Heating Worksheet'!$M$33:$M$42,MATCH(E48,$A$121:$A$130,0)),INDEX($S$27:$S$36,MATCH(E48,$A$27:$A$36,0)))))","v":0},{"$f":"IF(Qualifying_Index!B48=0,0,IF(OR(E48=0,AND(INDEX($T$27:$T$36,MATCH(E48,$A$27:$A$36,0))=\"\",INDEX('Space Heating Worksheet'!$N$33:$N$42,MATCH(E48,$A$121:$A$130,0))=\"\")),36000,IF(INDEX($T$27:$T$36,MATCH(E48,$A$27:$A$36,0))=\"\",INDEX('Space Heating Worksheet'!$N$33:$N$42,MATCH(E48,$A$121:$A$130,0)),INDEX($T$27:$T$36,MATCH(E48,$A$27:$A$36,0)))))","v":0},{"$f":"IF(Qualifying_Index!B48=0,0,IF(OR(E48=0,AND(INDEX($U$27:$U$36,MATCH(E48,$A$27:$A$36,0))=\"\",INDEX($AY$152:$AY$161,MATCH(E48,$A$121:$A$130,0))=\"\")),References!$L$8,IF(INDEX($U$27:$U$36,MATCH(E48,$A$27:$A$36,0))=\"\",INDEX($AY$152:$AY$161,MATCH(E48,$A$121:$A$130,0)),INDEX($U$27:$U$36,MATCH(E48,$A$27:$A$36,0)))))","v":0},{"$f":"IF(Qualifying_Index!B48=0,0,IF(OR(E48=0,AND(INDEX($W$27:$W$36,MATCH(E48,$A$27:$A$36,0))=\"\",INDEX($P$152:$P$161,MATCH(E48,$A$121:$A$130,0))=\"\")),8.2,IF(INDEX($W$27:$W$36,MATCH(E48,$A$27:$A$36,0))=\"\",INDEX($P$152:$P$161,MATCH(E48,$A$121:$A$130,0))*References!$E$12,INDEX($W$27:$W$36,MATCH(E48,$A$27:$A$36,0)))))","v":0},649,788,{"$f":"IF(C48<>\"\",IF(C48=\"Learning\",References!$D$47,References!$D$49),0)","v":0},{"$f":"IF(C48<>\"\",IF(C48=\"Learning\",References!$D$48,References!$D$50),0)","v":0},{"$f":"IF(C48<>\"\",((F48/12000)*(12/H48)*J48*References!$D$47)+((G48/12000)*(12/I48)*K48*References!$D$48),0)","v":0},{"$f":"N48*References!$E$12/1000","v":0},{"$f":"N48*References!$A$12","v":0},{"$f":"IF('Smart T-Stats'!H27=\"\",\"\",IF(References!$C$33=TRUE,\"HP Thermostat\",IF(OR(RIGHT('Smart T-Stats'!H27,2)=\"HP\",'Smart T-Stats'!I27=\"Electric Heat\"),\"CH Thermostat Heating Cooling\",\"CH Thermostat Cooling\")))","v":""},null,null,"",null,null,{"$f":"IF(T48=\"\",\"\",INDEX(References!$AJ$33:$AJ$44,MATCH(T48,References!$AE$33:$AE$46,0)))","v":""},{"$f":"IF(C48=\"\",\"\",IF(C48=\"Learning\",0,INDEX(References!$D$42:$D$44,MATCH('Smart T-Stats'!J27,References!$C$42:$C$44,0))))","v":""},{"$f":"IF(T48=\"\",\"\",W48*References!$BX$23)","v":""}]
[8,{"$f":"'Smart T-Stats'!D28","v":0},{"$f":"IF(B49<>0,INDEX(References!$C$82:$D$118,MATCH(B49,References!$C$82:$C$118,0),2),\"\")","v":""},null,{"$f":"'Smart T-Stats'!G28","v":0},{"$f":"IF(Qualifying_Index!B49=0,0,IF(OR(E49=0,AND(INDEX($S$27:$S$36,MATCH(E49,$A$27:$A$36,0))=\"\",INDEX('Space Heating Worksheet'!$M$33:$M$42,MATCH(E49,$A$121:$A$130,0))=\"\")),36000,IF(INDEX($S$27:$S$36,MATCH(E49,$A$27:$A$36,0))=\"\",INDEX('Space Heating Worksheet'!$M$33:$M$42,MATCH(E49,$A$121:$A$130,0)),INDEX($S$27:$S$36,MATCH(E49,$A$27:$A$36,0)))))","v":0},{"$f":"IF(Qualifying_Index!B49=0,0,IF(OR(E49=0,AND(INDEX($T$27:$T$36,MATCH(E49,$A$27:$A$36,0))=\"\",INDEX('Space Heating Worksheet'!$N$33:$N$42,MATCH(E49,$A$121:$A$130,0))=\"\")),36000,IF(INDEX($T$27:$T$36,MATCH(E49,$A$27:$A$36,0))=\"\",INDEX('Space Heating Worksheet'!$N$33:$N$42,MATCH(E49,$A$121:$A$130,0)),INDEX($T$27:$T$36,MATCH(E49,$A$27:$A$36,0)))))","v":0},{"$f":"IF(Qualifying_Index!B49=0,0,IF(OR(E49=0,AND(INDEX($U$27:$U$36,MATCH(E49,$A$27:$A$36,0))=\"\",INDEX($AY$152:$AY$161,MATCH(E49,$A$121:$A$130,0))=\"\")),References!$L$8,IF(INDEX($U$27:$U$36,MATCH(E49,$A$27:$A$36,0))=\"\",INDEX($AY$152:$AY$161,MATCH(E49,$A$121:$A$130,0)),INDEX($U$27:$U$36,MATCH(E49,$A$27:$A$36,0)))))","v":0},{"$f":"IF(Qualifying_Index!B49=0,0,IF(OR(E49=0,AND(INDEX($W$27:$W$36,MATCH(E49,$A$27:$A$36,0))=\"\",INDEX($P$152:$P$161,MATCH(E49,$A$121:$A$130,0))=\"\")),8.2,IF(INDEX($W$27:$W$36,MATCH(E49,$A$27:$A$36,0))=\"\",INDEX($P$152:$P$161,MATCH(E49,$A$121:$A$130,0))*References!$E$12,INDEX($W$27:$W$36,MATCH(E49,$A$27:$A$36,0)))))","v":0},649,788,{"$f":"IF(C49<>\"\",IF(C49=\"Learning\",References!$D$47,References!$D$49),0)","v":0},{"$f":"IF(C49<>\"\",IF(C49=\"Learning\",References!$D$48,References!$D$50),0)","v":0},{"$f":"IF(C49<>\"\",((F49/12000)*(12/H49)*J49*References!$D$47)+((G49/12000)*(12/I49)*K49*References!$D$48),0)","v":0},{"$f":"N49*References!$E$12/1000","v":0},{"$f":"N49*References!$A$12","v":0},{"$f":"IF('Smart T-Stats'!H28=\"\",\"\",IF(References!$C$33=TRUE,\"HP Thermostat\",IF(OR(RIGHT('Smart T-Stats'!H28,2)=\"HP\",'Smart T-Stats'!I28=\"Electric Heat\"),\"CH Thermostat Heating Cooling\",\"CH Thermostat Cooling\")))","v":""},null,null,"",null,null,{"$f":"IF(T49=\"\",\"\",INDEX(References!$AJ$33:$AJ$44,MATCH(T49,References!$AE$33:$AE$46,0)))","v":""},{"$f":"IF(C49=\"\",\"\",IF(C49=\"Learning\",0,INDEX(References!$D$42:$D$44,MATCH('Smart T-Stats'!J28,References!$C$42:$C$44,0))))","v":""},{"$f":"IF(T49=\"\",\"\",W49*References!$BX$23)","v":""}]
[9,{"$f":"'Smart T-Stats'!D29","v":0},{"$f":"IF(B50<>0,INDEX(References!$C$82:$D$118,MATCH(B50,References!$C$82:$C$118,0),2),\"\")","v":""},null,{"$f":"'Smart T-Stats'!G29","v":0},{"$f":"IF(Qualifying_Index!B50=0,0,IF(OR(E50=0,AND(INDEX($S$27:$S$36,MATCH(E50,$A$27:$A$36,0))=\"\",INDEX('Space Heating Worksheet'!$M$33:$M$42,MATCH(E50,$A$121:$A$130,0))=\"\")),36000,IF(INDEX($S$27:$S$36,MATCH(E50,$A$27:$A$36,0))=\"\",INDEX('Space Heating Worksheet'!$M$33:$M$42,MATCH(E50,$A$121:$A$130,0)),INDEX($S$27:$S$36,MATCH(E50,$A$27:$A$36,0)))))","v":0},{"$f":"IF(Qualifying_Index!B50=0,0,IF(OR(E50=0,AND(INDEX($T$27:$T$36,MATCH(E50,$A$27:$A$36,0))=\"\",INDEX('Space Heating Worksheet'!$N$33:$N$42,MATCH(E50,$A$121:$A$130,0))=\"\")),36000,IF(INDEX($T$27:$T$36,MATCH(E50,$A$27:$A$36,0))=\"\",INDEX('Space Heating Worksheet'!$N$33:$N$42,MATCH(E50,$A$121:$A$130,0)),INDEX($T$27:$T$36,MATCH(E50,$A$27:$A$36,0)))))","v":0},{"$f":"IF(Qualifying_Index!B50=0,0,IF(OR(E50=0,AND(INDEX($U$27:$U$36,MATCH(E50,$A$27:$A$36,0))=\"\",INDEX($AY$152:$AY$161,MATCH(E50,$A$121:$A$130,0))=\"\")),References!$L$8,IF(INDEX($U$27:$U$36,MATCH(E50,$A$27:$A$36,0))=\"\",INDEX($AY$152:$AY$161,MATCH(E50,$A$121:$A$130,0)),INDEX($U$27:$U$36,MATCH(E50,$A$27:$A$36,0)))))","v":0},{"$f":"IF(Qualifying_Index!B50=0,0,IF(OR(E50=0,AND(INDEX($W$27:$W$36,MATCH(E50,$A$27:$A$36,0))=\"\",INDEX($P$152:$P$161,MATCH(E50,$A$121:$A$130,0))=\"\")),8.2,IF(INDEX($W$27:$W$36,MATCH(E50,$A$27:$A$36,0))=\"\",INDEX($P$152:$P$161,MATCH(E50,$A$121:$A$130,0))*References!$E$12,INDEX($W$27:$W$36,MATCH(E50,$A$27:$A$36,0)))))","v":0},649,788,{"$f":"IF(C50<>\"\",IF(C50=\"Learning\",References!$D$47,References!$D$49),0)","v":0},{"$f":"IF(C50<>\"\",IF(C50=\"Learning\",References!$D$48,References!$D$50),0)","v":0},{"$f":"IF(C50<>\"\",((F50/12000)*(12/H50)*J50*References!$D$47)+((G50/12000)*(12/I50)*K50*References!$D$48),0)","v":0},{"$f":"N50*References!$E$12/1000","v":0},{"$f":"N50*References!$A$12","v":0},{"$f":"IF('Smart T-Stats'!H29=\"\",\"\",IF(References!$C$33=TRUE,\"HP Thermostat\",IF(OR(RIGHT('Smart T-Stats'!H29,2)=\"HP\",'Smart T-Stats'!I29=\"Electric Heat\"),\"CH Thermostat Heating Cooling\",\"CH Thermostat Cooling\")))","v":""},null,null,"",null,null,{"$f":"IF(T50=\"\",\"\",INDEX(References!$AJ$33:$AJ$44,MATCH(T50,References!$AE$33:$AE$46,0)))","v":""},{"$f":"IF(C50=\"\",\"\",IF(C50=\"Learning\",0,INDEX(References!$D$42:$D$44,MATCH('Smart T-Stats'!J29,References!$C$42:$C$44,0))))","v":""},{"$f":"IF(T50=\"\",\"\",W50*References!$BX$23)","v":""}]
[10,{"$f":"'Smart T-Stats'!D30","v":0},{"$f":"IF(B51<>0,INDEX(References!$C$82:$D$118,MATCH(B51,References!$C$82:$C$118,0),2),\"\")","v":""},null,{"$f":"'Smart T-Stats'!G30","v":0},{"$f":"IF(Qualifying_Index!B51=0,0,IF(OR(E51=0,AND(INDEX($S$27:$S$36,MATCH(E51,$A$27:$A$36,0))=\"\",INDEX('Space Heating Worksheet'!$M$33:$M$42,MATCH(E51,$A$121:$A$130,0))=\"\")),36000,IF(INDEX($S$27:$S$36,MATCH(E51,$A$27:$A$36,0))=\"\",INDEX('Space Heating Worksheet'!$M$33:$M$42,MATCH(E51,$A$121:$A$130,0)),INDEX($S$27:$S$36,MATCH(E51,$A$27:$A$36,0)))))","v":0},{"$f":"IF(Qualifying_Index!B51=0,0,IF(OR(E51=0,AND(INDEX($T$27:$T$36,MATCH(E51,$A$27:$A$36,0))=\"\",INDEX('Space Heating Worksheet'!$N$33:$N$42,MATCH(E51,$A$121:$A$130,0))=\"\")),36000,IF(INDEX($T$27:$T$36,MATCH(E51,$A$27:$A$36,0))=\"\",INDEX('Space Heating Worksheet'!$N$33:$N$42,MATCH(E51,$A$121:$A$130,0)),INDEX($T$27:$T$36,MATCH(E51,$A$27:$A$36,0)))))","v":0},{"$f":"IF(Qualifying_Index!B51=0,0,IF(OR(E51=0,AND(INDEX($U$27:$U$36,MATCH(E51,$A$27:$A$36,0))=\"\",INDEX($AY$152:$AY$161,MATCH(E51,$A$121:$A$130,0))=\"\")),References!$L$8,IF(INDEX($U$27:$U$36,MATCH(E51,$A$27:$A$36,0))=\"\",INDEX($AY$152:$AY$161,MATCH(E51,$A$121:$A$130,0)),INDEX($U$27:$U$36,MATCH(E51,$A$27:$A$36,0)))))","v":0},{"$f":"IF(Qualifying_Index!B51=0,0,IF(OR(E51=0,AND(INDEX($W$27:$W$36,MATCH(E51,$A$27:$A$36,0))=\"\",INDEX($P$152:$P$161,MATCH(E51,$A$121:$A$130,0))=\"\")),8.2,IF(INDEX($W$27:$W$36,MATCH(E51,$A$27:$A$36,0))=\"\",INDEX($P$152:$P$161,MATCH(E51,$A$121:$A$130,0))*References!$E$12,INDEX($W$27:$W$36,MATCH(E51,$A$27:$A$36,0)))))","v":0},649,788,{"$f":"IF(C51<>\"\",IF(C51=\"Learning\",References!$D$47,References!$D$49),0)","v":0},{"$f":"IF(C51<>\"\",IF(C51=\"Learning\",References!$D$48,References!$D$50),0)","v":0},{"$f":"IF(C51<>\"\",((F51/12000)*(12/H51)*J51*References!$D$47)+((G51/12000)*(12/I51)*K51*References!$D$48),0)","v":0},{"$f":"N51*References!$E$12/1000","v":0},{"$f":"N51*References!$A$12","v":0},{"$f":"IF('Smart T-Stats'!H30=\"\",\"\",IF(References!$C$33=TRUE,\"HP Thermostat\",IF(OR(RIGHT('Smart T-Stats'!H30,2)=\"HP\",'Smart T-Stats'!I30=\"Electric Heat\"),\"CH Thermostat Heating Cooling\",\"CH Thermostat Cooling\")))","v":""},null,null,"",null,null,{"$f":"IF(T51=\"\",\"\",INDEX(References!$AJ$33:$AJ$44,MATCH(T51,References!$AE$33:$AE$46,0)))","v":""},{"$f":"IF(C51=\"\",\"\",IF(C51=\"Learning\",0,INDEX(References!$D$42:$D$44,MATCH('Smart T-Stats'!J30,References!$C$42:$C$44,0))))","v":""},{"$f":"IF(T51=\"\",\"\",W51*References!$BX$23)","v":""}]
[]
["Integrated Controls"]
[]
["Unit Number","Model","Dual Fuel vs. Kit",null,"Controlled Unit","Cooling BTUH","Heating BTUH","SEER","HSPF","Cooling Hours","Heating Hours","kWh Savings","MMBTU savings","CO2 savings (lbs)",null,null,null,null,"Rebate"]
[1,{"$f":"'Integrated Controls'!G17","v":0},{"$f":"IF('Integrated Controls'!$C17=\"\",\"\",'Integrated Controls'!$C17)","v":"No Fossil Fuel Heater"},null,null,null,null,null,null,null,null,null,null,null,null,null,null,null,{"$f":"_xlfn.IFNA(INDEX(IF(References!$C$14=FALSE,References!$AJ$38:$AJ$41,References!$AK$38:$AK$41),MATCH(C56,References!$AE$38:$AE$41,0)),0)","v":0}]
[2,{"$f":"'Integrated Controls'!G18","v":0},{"$f":"IF('Integrated Controls'!$C18=\"\",\"\",'Integrated Controls'!$C18)","v":"No Fossil Fuel Heater"},null,null,null,null,null,null,null,null,null,null,null,null,null,null,null,{"$f":"_xlfn.IFNA(INDEX(IF(References!$C$14=FALSE,References!$AJ$38:$AJ$41,References!$AK$38:$AK$41),MATCH(C57,References!$AE$38:$AE$41,0)),0)","v":0}]
[3,{"$f":"'Integrated Controls'!G19","v":0},{"$f":"IF('Integrated Controls'!$C19=\"\",\"\",'Integrated Controls'!$C19)","v":"No Fossil Fuel Heater"},null,null,null,null,null,null,null,null,null,null,null,null,null,null,null,{"$f":"_xlfn.IFNA(INDEX(IF(References!$C$14=FALSE,References!$AJ$38:$AJ$41,References!$AK$38:$AK$41),MATCH(C58,References!$AE$38:$AE$41,0)),0)","v":0}]
[4,{"$f":"'Integrated Controls'!G20","v":0},{"$f":"IF('Integrated Controls'!$C20=\"\",\"\",'Integrated Controls'!$C20)","v":"No Fossil Fuel Heater"},null,null,null,null,null,null,null,null,null,null,null,null,null,null,null,{"$f":"_xlfn.IFNA(INDEX(IF(References!$C$14=FALSE,References!$AJ$38:$AJ$41,References!$AK$38:$AK$41),MATCH(C59,References!$AE$38:$AE$41,0)),0)","v":0}]
[5,{"$f":"'Integrated Controls'!G21","v":0},{"$f":"IF('Integrated Controls'!$C21=\"\",\"\",'Integrated Controls'!$C21)","v":"No Fossil Fuel Heater"},null,null,null,null,null,null,null,null,null,null,null,null,null,null,null,{"$f":"_xlfn.IFNA(INDEX(IF(References!$C$14=FALSE,References!$AJ$38:$AJ$41,References!$AK$38:$AK$41),MATCH(C60,References!$AE$38:$AE$41,0)),0)","v":0}]
[6,{"$f":"'Integrated Controls'!G22","v":0},{"$f":"IF('Integrated Controls'!$C22=\"\",\"\",'Integrated Controls'!$C22)","v":"No Fossil Fuel Heater"},null,null,null,null,null,null,null,null,null,null,null,null,null,null,null,{"$f":"_xlfn.IFNA(INDEX(IF(References!$C$14=FALSE,References!$AJ$38:$AJ$41,References!$AK$38:$AK$41),MATCH(C61,References!$AE$38:$AE$41,0)),0)","v":0}]
[7,{"$f":"'Integrated Controls'!G23","v":0},{"$f":"IF('Integrated Controls'!$C23=\"\",\"\",'Integrated Controls'!$C23)","v":"No Fossil Fuel Heater"},null,null,null,null,null,null,null,null,null,null,null,null,null,null,null,{"$f":"_xlfn.IFNA(INDEX(IF(References!$C$14=FALSE,References!$AJ$38:$AJ$41,References!$AK$38:$AK$41),MATCH(C62,References!$AE$38:$AE$41,0)),0)","v":0}]
[8,{"$f":"'Integrated Controls'!G24","v":0},{"$f":"IF('Integrated Controls'!$C24=\"\",\"\",'Integrated Controls'!$C24)","v":"No Fossil Fuel Heater"},null,null,null,null,null,null,null,null,null,null,null,null,null,null,null,{"$f":"_xlfn.IFNA(INDEX(IF(References!$C$14=FALSE,References!$AJ$38:$AJ$41,References!$AK$38:$AK$41),MATCH(C63,References!$AE$38:$AE$41,0)),0)","v":0}]
[9,{"$f":"'Integrated Controls'!G25","v":0},{"$f":"IF('Integrated Controls'!$C25=\"\",\"\",'Integrated Controls'!$C25)","v":"No Fossil Fuel Heater"},null,null,null,null,null,null,null,null,null,null,null,null,null,null,null,{"$f":"_xlfn.IFNA(INDEX(IF(References!$C$14=FALSE,References!$AJ$38:$AJ$41,References!$AK$38:$AK$41),MATCH(C64,References!$AE$38:$AE$41,0)),0)","v":0}]
[10,{"$f":"'Integrated Controls'!G26","v":0},{"$f":"IF('Integrated Controls'!$C26=\"\",\"\",'Integrated Controls'!$C26)","v":"No Fossil Fuel Heater"},null,null,null,null,null,null,null,null,null,null,null,null,null,null,null,{"$f":"_xlfn.IFNA(INDEX(IF(References!$C$14=FALSE,References!$AJ$38:$AJ$41,References!$AK$38:$AK$41),MATCH(C65,References!$AE$38:$AE$41,0)),0)","v":0}]
[null,null,null,null,null,null,null,null,null,null,null,null,null,null,null,null,null,null,{"$f":"_xlfn.IFNA(INDEX(IF(References!$C$14=FALSE,References!$AJ$38:$AJ$41,References!$AK$38:$AK$41),MATCH(C66,References!$AE$38:$AE$41,0)),0)","v":0}]
[]
["HPwES tab - Duct Sealing"]
[null,"HVAC Info",null,null,null,null,null,null,null,null,null,null,null,null,null,null,null,null,null,null,null,null,"EFLH Heating","Displacement Factor",null,"Duct Information",null,null,null,null,null,null,null,null,null,null,null,null,null,null,null,null,"Measure Codes","kW Savings Cooling","kW Savings Heating","kWh Savings Cooling","MMBTU Savings Cooling","kWh Savings Heating","MMBTU Savings Heating (kWh)","MMBTU Savings Heating (FF)","Total kWh Savings","Total MMBTU Savings"]
["Unit Number","Cooling 1 Capacity","Cooling 1 EER","Cooling 1 SEER","Cooling 1 %","Cooling 2 Capacity","Cooling 2 EER","Cooling 2 SEER","Cooling 2 %","Heating 1 Capacity","Heating 1 HSPF","Heating 1 COP","Heating 1 Efficiency","Heating 1\nFuel","Heating 1 %","Heating 2 Capacity","Heating 2 HSPF","Heating 2 COP","Heating 2 Efficiency","Heating 2\nFuel","Heating 2 %","EFLH Cooling",null,null,null,"Duct  Location","Additional Attribute","Duct Info","Unconditioned Duct Length","Total Duct Length",null,"Thermal Regain Factor cooling","Thermal Regain Factor heating","Cooling Distribution Efficiency Baseline","Heating Distribution Efficiency Baseline","Cooling Distribution Efficiency ee","Heating Distribution Efficiency ee","HVAC System","HVAC Cooling Load","HVAC Electric Heating Load","HVAC FF Heating Load"]
[1,{"$f":"HPwES!$J$24","v":""},{"$f":"HPwES!$J$28","v":""},{"$f":"HPwES!$J$26","v":""},{"$f":"HPwES!$J$30","v":0},{"$f":"HPwES!$J$41","v":""},{"$f":"HPwES!$J$45","v":""},{"$f":"HPwES!$J$43","v":""},{"$f":"HPwES!$J$47","v":0},{"$f":"HPwES!$D$24","v":""},{"$f":"IF(HPwES!$D$28=\"\",HPwES!$D$30*3.412,HPwES!$D$28)","v":{"$error":"#VALUE!"}},{"$f":"IF(OR(HPwES!$D$30=\"\",HPwES!$D$30=0),HPwES!$D$28/3.412,HPwES!$D$30)","v":{"$error":"#VALUE!"}},{"$f":"HPwES!$D$26","v":""},{"$f":"HPwES!$D$22","v":""},{"$f":"HPwES!$D$32","v":0},{"$f":"HPwES!$D$41","v":""},{"$f":"IF(HPwES!$D$45=\"\",HPwES!$D$47*3.412,HPwES!$D$45)","v":{"$error":"#VALUE!"}},{"$f":"IF(OR(HPwES!$D$47=\"\",HPwES!$D$47=0),HPwES!$D$45/3.412,HPwES!$D$47)","v":{"$error":"#VALUE!"}},{"$f":"HPwES!$D$43","v":""},{"$f":"HPwES!$D$39","v":""},{"$f":"HPwES!$D$49","v":0},{"$f":"$BX$27","v":649},{"$f":"$BY$27","v":788},null,null,{"$f":"HPwES!$D$60","v":0},{"$f":"IF(OR(HPwES!$D$62=\"\",RIGHT(HPwES!$D$60,5)=\"Attic\",RIGHT(HPwES!$D$60,6)=\"Garage\"),\"\",HPwES!$D$62)","v":""},{"$f":"Z71&\" \"&AA71","v":"0 "},{"$f":"HPwES!D64","v":0},{"$f":"HPwES!$D$56","v":0},null,{"$f":"IF(OR($Z71=\"\",$Z71=0),0,INDEX(References!$AX$75:$AZ$82,MATCH($AB71,References!$AX$75:$AX$82,0),2))","v":0},{"$f":"IF(OR($Z71=\"\",$Z71=0),0,INDEX(References!$AX$75:$AZ$82,MATCH($AB71,References!$AX$75:$AX$82,0),3))","v":0},{"$f":"IF(OR($Z71=\"\",$Z71=0),\"\",INDEX(References!BA$75:BA$80,MATCH($AB71,References!$AX$75:$AX$81,0)))","v":""},{"$f":"IF(OR($Z71=\"\",$Z71=0),\"\",INDEX(References!BB$75:BB$80,MATCH($AB71,References!$AX$75:$AX$81,0)))","v":""},{"$f":"IF(OR($Z71=\"\",$Z71=0),\"\",INDEX(References!BC$75:BC$80,MATCH($AB71,References!$AX$75:$AX$81,0)))","v":""},{"$f":"IF(OR($Z71=\"\",$Z71=0),\"\",INDEX(References!BD$75:BD$80,MATCH($AB71,References!$AX$75:$AX$81,0)))","v":""},{"$f":"HPwES!$D$68","v":0},{"$f":"IF(OR(AL71=\"Heating (1)\",AL71=\"Heating (2)\",AL71=\"Heating (1&2)\",AL71=\"\"),0,IF(OR(AL71=\"Heating & Cooling (1)\",AL71=\"Cooling (1)\"),(B71/1000)*(1/D71)*V71,IF(OR(AL71=\"Heating & Cooling (2)\",AL71=\"Cooling (2)\"),(F71/1000)*(1/H71)*V71,(B71/1000)*(1/D71)*V71*E71+(F71/1000)*(1/H71)*V71*I71)))","v":{"$error":"#VALUE!"}},{"$f":"IF(OR(AL71=\"Cooling (1)\",AL71=\"Cooling (2)\",AL71=\"\"),0,IF(AND(OR(AL71=\"Heating & Cooling (1)\",AL71=\"Heating (1)\"),LEFT(N71,8)=\"Electric\"),(J71/1000)*(1/K71)*W71,IF(AND(OR(AL71=\"Heating & Cooling (2)\",AL71=\"Heating (2)\"),LEFT(T71,8)=\"Electric\"),(P71/1000)*(1/Q71)*W71,IF(OR(AL71=\"Heating & Cooling (1&2)\",AL71=\"Heating (1&2)\"),IF(AND(LEFT(N71,8)=\"Electric\",LEFT(T71,8)=\"Electric\"),(J71/1000)*(1/K71)*W71*O71+(P71/1000)*(1/Q71)*W71*U71,IF(LEFT(N71,8)=\"Electric\",(J71/1000)*(1/K71)*W71*O71,IF(LEFT(T71,8)=\"Electric\",(P71/1000)*(1/Q71)*W71*U71,0))),0))))","v":0},{"$f":"IF(OR(AL71=\"Cooling (1)\",AL71=\"Cooling (2)\",AL71=\"\"),0,IF(AND(OR(AL71=\"Heating & Cooling (1)\",AL71=\"Heating (1)\"),LEFT(N71,8)<>\"Electric\"),(J71/1000)*(1/M71)*W71,IF(AND(OR(AL71=\"Heating & Cooling (2)\",AL71=\"Heating (2)\"),LEFT(T71,8)<>\"Electric\"),(P71/1000)*(1/S71)*W71,IF(OR(AL71=\"Heating & Cooling (1&2)\",AL71=\"Heating (1&2)\"),IF(AND(LEFT(N71,8)<>\"Electric\",LEFT(T71,8)<>\"Electric\"),(J71/1000)*(1/M71)*W71*O71+(P71/1000)*(1/S71)*W71*U71,IF(LEFT(N71,8)<>\"Electric\",(J71/1000)*(1/M71)*W71*O71,IF(LEFT(T71,8)<>\"Electric\",(P71/1000)*(1/S71)*W71*U71,0))),0))))","v":0},null,{"$f":"IF(OR(Z71=\"\",AC71=\"\",AC71=0,AD71=\"\",AD71=0,AL71=0,AL71=\"- Please Select -\"),\"\",INDEX(References!$BI$15:$BI$19,MATCH(Z71,References!$BH$15:$BH$19,0)))","v":""},{"$f":"IF(OR(AL71=0,LEFT(AL71,9)=\"Heating (\"),0,IF(OR(AL71=\"Cooling (1)\",AL71=\"Heating & Cooling (1)\"),(AC71/AD71)*((B71/1000)*(1/C71)),IF(OR(AL71=\"Cooling (2)\",AL71=\"Heating & Cooling (2)\"),(AC71/AD71)*(F71/1000)*(1/G71),(AC71/AD71)*((B71/1000)*(1/C71)*E71+(F71/1000)*(1/G71)*I71))))*(1-(AH71/AJ71))*(1-AF71)","v":{"$error":"#VALUE!"}},{"$f":"IF(OR(AL71=0,AN71=0),0,IF(OR(AL71=\"Heating (1)\",AL71=\"Heating & Cooling (1)\"),(AC71/AD71)*((J71/1000)*(1/L71)),IF(OR(AL71=\"Heating (2)\",AL71=\"Heating & Cooling (2)\"),(AC71/AD71)*(P71/1000)*(1/R71),(AC71/AD71)*((J71/1000)*(1/L71)*O71+(P71/1000)*(1/R71)*U71))))*(1-(AH71/AJ71))*(1-AF71)","v":{"$error":"#VALUE!"}},{"$f":"(AC71/AD71)*AM71*(1-(AH71/AJ71))*(1-AF71)","v":{"$error":"#DIV/0!"}},{"$f":"AT71*References!$D$12","v":{"$error":"#DIV/0!"}},{"$f":"(AC71/AD71)*AN71*(1-(AI71/AK71))*(1-AG71)","v":{"$error":"#DIV/0!"}},{"$f":"AV71*References!$D$12","v":{"$error":"#DIV/0!"}},{"$f":"((AC71/AD71)*AO71*(1-(AI71/AK71))*(1-AG71))/10","v":{"$error":"#DIV/0!"}},{"$f":"AT71+AV71","v":{"$error":"#DIV/0!"}},{"$f":"AU71+AW71+AX71","v":{"$error":"#DIV/0!"}}]
[{"$f":"A71+1","v":2},{"$f":"HPwES!$J$24","v":""},{"$f":"HPwES!$J$28","v":""},{"$f":"HPwES!$J$26","v":""},{"$f":"HPwES!$J$30","v":0},{"$f":"HPwES!$J$41","v":""},{"$f":"HPwES!$J$45","v":""},{"$f":"HPwES!$J$43","v":""},{"$f":"HPwES!$J$47","v":0},{"$f":"HPwES!$D$24","v":""},{"$f":"IF(HPwES!$D$28=\"\",HPwES!$D$30*3.412,HPwES!$D$28)","v":{"$error":"#VALUE!"}},{"$f":"IF(OR(HPwES!$D$30=\"\",HPwES!$D$30=0),HPwES!$D$28/3.412,HPwES!$D$30)","v":{"$error":"#VALUE!"}},{"$f":"HPwES!$D$26","v":""},{"$f":"HPwES!$D$22","v":""},{"$f":"HPwES!$D$32","v":0},{"$f":"HPwES!$D$41","v":""},{"$f":"IF(HPwES!$D$45=\"\",HPwES!$D$47*3.412,HPwES!$D$45)","v":{"$error":"#VALUE!"}},{"$f":"IF(OR(HPwES!$D$47=\"\",HPwES!$D$47=0),HPwES!$D$45/3.412,HPwES!$D$47)","v":{"$error":"#VALUE!"}},{"$f":"HPwES!$D$43","v":""},{"$f":"HPwES!$D$39","v":""},{"$f":"HPwES!$D$49","v":0},{"$f":"$BX$27","v":649},{"$f":"$BY$27","v":788},null,null,{"$f":"HPwES!$J$60","v":0},{"$f":"IF(OR(HPwES!J62=\"\",RIGHT(HPwES!J60,5)=\"Attic\",RIGHT(HPwES!J60,6)=\"Garage\"),\"\",HPwES!$J$62)","v":""},{"$f":"Z72&\" \"&AA72","v":"0 "},{"$f":"HPwES!J64","v":0},{"$f":"HPwES!$D$56","v":0},null,{"$f":"IF(OR($Z72=\"\",$Z72=0),0,INDEX(References!$AX$75:$AZ$82,MATCH($AB72,References!$AX$75:$AX$82,0),2))","v":0},{"$f":"IF(OR($Z72=\"\",$Z72=0),0,INDEX(References!$AX$75:$AZ$82,MATCH($AB72,References!$AX$75:$AX$82,0),3))","v":0},{"$f":"IF(OR($Z72=\"\",$Z72=0),\"\",INDEX(References!BA$75:BA$80,MATCH($AB72,References!$AX$75:$AX$81,0)))","v":""},{"$f":"IF(OR($Z72=\"\",$Z72=0),\"\",INDEX(References!BB$75:BB$80,MATCH($AB72,References!$AX$75:$AX$81,0)))","v":""},{"$f":"IF(OR($Z72=\"\",$Z72=0),\"\",INDEX(References!BC$75:BC$80,MATCH($AB72,References!$AX$75:$AX$81,0)))","v":""},{"$f":"IF(OR($Z72=\"\",$Z72=0),\"\",INDEX(References!BD$75:BD$80,MATCH($AB72,References!$AX$75:$AX$81,0)))","v":""},{"$f":"HPwES!$J$68","v":0},{"$f":"IF(OR(AL72=\"Heating (1)\",AL72=\"Heating (2)\",AL72=\"Heating (1&2)\",AL72=\"\"),0,IF(OR(AL72=\"Heating & Cooling (1)\",AL72=\"Cooling (1)\"),(B72/1000)*(1/D72)*V72,IF(OR(AL72=\"Heating & Cooling (2)\",AL72=\"Cooling (2)\"),(F72/1000)*(1/H72)*V72,(B72/1000)*(1/D72)*V72*E72+(F72/1000)*(1/H72)*V72*I72)))","v":{"$error":"#VALUE!"}},{"$f":"IF(OR(AL72=\"Cooling (1)\",AL72=\"Cooling (2)\",AL72=\"\"),0,IF(AND(OR(AL72=\"Heating & Cooling (1)\",AL72=\"Heating (1)\"),LEFT(N72,8)=\"Electric\"),(J72/1000)*(1/K72)*W72,IF(AND(OR(AL72=\"Heating & Cooling (2)\",AL72=\"Heating (2)\"),LEFT(T72,8)=\"Electric\"),(P72/1000)*(1/Q72)*W72,IF(OR(AL72=\"Heating & Cooling (1&2)\",AL72=\"Heating (1&2)\"),IF(AND(LEFT(N72,8)=\"Electric\",LEFT(T72,8)=\"Electric\"),(J72/1000)*(1/K72)*W72*O72+(P72/1000)*(1/Q72)*W72*U72,IF(LEFT(N72,8)=\"Electric\",(J72/1000)*(1/K72)*W72*O72,IF(LEFT(T72,8)=\"Electric\",(P72/1000)*(1/Q72)*W72*U72,0))),0))))","v":0},{"$f":"IF(OR(AL72=\"Cooling (1)\",AL72=\"Cooling (2)\",AL72=\"\"),0,IF(AND(OR(AL72=\"Heating & Cooling (1)\",AL72=\"Heating (1)\"),LEFT(N72,8)<>\"Electric\"),(J72/1000)*(1/M72)*W72,IF(AND(OR(AL72=\"Heating & Cooling (2)\",AL72=\"Heating (2)\"),LEFT(T72,8)<>\"Electric\"),(P72/1000)*(1/S72)*W72,IF(OR(AL72=\"Heating & Cooling (1&2)\",AL72=\"Heating (1&2)\"),IF(AND(LEFT(N72,8)<>\"Electric\",LEFT(T72,8)<>\"Electric\"),(J72/1000)*(1/M72)*W72*O72+(P72/1000)*(1/S72)*W72*U72,IF(LEFT(N72,8)<>\"Electric\",(J72/1000)*(1/M72)*W72*O72,IF(LEFT(T72,8)<>\"Electric\",(P72/1000)*(1/S72)*W72*U72,0))),0))))","v":0},null,{"$f":"IF(OR(Z72=\"\",AC72=\"\",AC72=0,AD72=\"\",AD72=0,AL72=0,AL72=\"- Please Select -\"),\"\",INDEX(References!$BI$15:$BI$19,MATCH(Z72,References!$BH$15:$BH$19,0)))","v":""},{"$f":"IF(OR(AL72=0,LEFT(AL72,9)=\"Heating (\"),0,IF(OR(AL72=\"Cooling (1)\",AL72=\"Heating & Cooling (1)\"),(AC72/AD72)*((B72/1000)*(1/C72)),IF(OR(AL72=\"Cooling (2)\",AL72=\"Heating & Cooling (2)\"),(AC72/AD72)*(F72/1000)*(1/G72),(AC72/AD72)*((B72/1000)*(1/C72)*E72+(F72/1000)*(1/G72)*I72))))*(1-(AH72/AJ72))*(1-AF72)","v":{"$error":"#VALUE!"}},{"$f":"IF(OR(AL72=0,AN72=0),0,IF(OR(AL72=\"Heating (1)\",AL72=\"Heating & Cooling (1)\"),(AC72/AD72)*((J72/1000)*(1/L72)),IF(OR(AL72=\"Heating (2)\",AL72=\"Heating & Cooling (2)\"),(AC72/AD72)*(P72/1000)*(1/R72),(AC72/AD72)*((J72/1000)*(1/L72)*O72+(P72/1000)*(1/R72)*U72))))*(1-(AH72/AJ72))*(1-AF72)","v":{"$error":"#VALUE!"}},{"$f":"(AC72/AD72)*AM72*(1-(AH72/AJ72))*(1-AF72)","v":{"$error":"#DIV/0!"}},{"$f":"AT72*References!$D$12","v":{"$error":"#DIV/0!"}},{"$f":"(AC72/AD72)*AN72*(1-(AI72/AK72))*(1-AG72)","v":{"$error":"#DIV/0!"}},{"$f":"AV72*References!$D$12","v":{"$error":"#DIV/0!"}},{"$f":"((AC72/AD72)*AO72*(1-(AI72/AK72))*(1-AG72))/10","v":{"$error":"#DIV/0!"}},{"$f":"AT72+AV72","v":{"$error":"#DIV/0!"}},{"$f":"AU72+AW72+AX72","v":{"$error":"#DIV/0!"}}]
[{"$f":"A72+1","v":3},{"$f":"HPwES!$J$24","v":""},{"$f":"HPwES!$J$28","v":""},{"$f":"HPwES!$J$26","v":""},{"$f":"HPwES!$J$30","v":0},{"$f":"HPwES!$J$41","v":""},{"$f":"HPwES!$J$45","v":""},{"$f":"HPwES!$J$43","v":""},{"$f":"HPwES!$J$47","v":0},{"$f":"HPwES!$D$24","v":""},{"$f":"IF(HPwES!$D$28=\"\",HPwES!$D$30*3.412,HPwES!$D$28)","v":{"$error":"#VALUE!"}},{"$f":"IF(OR(HPwES!$D$30=\"\",HPwES!$D$30=0),HPwES!$D$28/3.412,HPwES!$D$30)","v":{"$error":"#VALUE!"}},{"$f":"HPwES!$D$26","v":""},{"$f":"HPwES!$D$22","v":""},{"$f":"HPwES!$D$32","v":0},{"$f":"HPwES!$D$41","v":""},{"$f":"IF(HPwES!$D$45=\"\",HPwES!$D$47*3.412,HPwES!$D$45)","v":{"$error":"#VALUE!"}},{"$f":"IF(OR(HPwES!$D$47=\"\",HPwES!$D$47=0),HPwES!$D$45/3.412,HPwES!$D$47)","v":{"$error":"#VALUE!"}},{"$f":"HPwES!$D$43","v":""},{"$f":"HPwES!$D$39","v":""},{"$f":"HPwES!$D$49","v":0},{"$f":"$BX$27","v":649},{"$f":"$BY$27","v":788},null,null,{"$f":"HPwES!$D$72","v":0},{"$f":"IF(OR(HPwES!D74=\"\",RIGHT(HPwES!$D$72,5)=\"Attic\",RIGHT(HPwES!$D$72,6)=\"Garage\"),\"\",HPwES!$D$74)","v":""},{"$f":"Z73&\" \"&AA73","v":"0 "},{"$f":"HPwES!D76","v":0},{"$f":"HPwES!$D$56","v":0},null,{"$f":"IF(OR($Z73=\"\",$Z73=0),0,INDEX(References!$AX$75:$AZ$82,MATCH($AB73,References!$AX$75:$AX$82,0),2))","v":0},{"$f":"IF(OR($Z73=\"\",$Z73=0),0,INDEX(References!$AX$75:$AZ$82,MATCH($AB73,References!$AX$75:$AX$82,0),3))","v":0},{"$f":"IF(OR($Z73=\"\",$Z73=0),\"\",INDEX(References!BA$75:BA$80,MATCH($AB73,References!$AX$75:$AX$81,0)))","v":""},{"$f":"IF(OR($Z73=\"\",$Z73=0),\"\",INDEX(References!BB$75:BB$80,MATCH($AB73,References!$AX$75:$AX$81,0)))","v":""},{"$f":"IF(OR($Z73=\"\",$Z73=0),\"\",INDEX(References!BC$75:BC$80,MATCH($AB73,References!$AX$75:$AX$81,0)))","v":""},{"$f":"IF(OR($Z73=\"\",$Z73=0),\"\",INDEX(References!BD$75:BD$80,MATCH($AB73,References!$AX$75:$AX$81,0)))","v":""},{"$f":"HPwES!$D$80","v":0},{"$error":"#VALUE!"},0,0,null,{"$f":"IF(OR(Z73=\"\",AC73=\"\",AC73=0,AD73=\"\",AD73=0,AL73=0,AL73=\"- Please Select -\"),\"\",INDEX(References!$BI$15:$BI$19,MATCH(Z73,References!$BH$15:$BH$19,0)))","v":""},{"$f":"IF(OR(AL73=0,LEFT(AL73,9)=\"Heating (\"),0,IF(OR(AL73=\"Cooling (1)\",AL73=\"Heating & Cooling (1)\"),(AC73/AD73)*((B73/1000)*(1/C73)),IF(OR(AL73=\"Cooling (2)\",AL73=\"Heating & Cooling (2)\"),(AC73/AD73)*(F73/1000)*(1/G73),(AC73/AD73)*((B73/1000)*(1/C73)*E73+(F73/1000)*(1/G73)*I73))))*(1-(AH73/AJ73))*(1-AF73)","v":{"$error":"#VALUE!"}},{"$f":"IF(OR(AL73=0,AN73=0),0,IF(OR(AL73=\"Heating (1)\",AL73=\"Heating & Cooling (1)\"),(AC73/AD73)*((J73/1000)*(1/L73)),IF(OR(AL73=\"Heating (2)\",AL73=\"Heating & Cooling (2)\"),(AC73/AD73)*(P73/1000)*(1/R73),(AC73/AD73)*((J73/1000)*(1/L73)*O73+(P73/1000)*(1/R73)*U73))))*(1-(AH73/AJ73))*(1-AF73)","v":{"$error":"#VALUE!"}},{"$f":"(AC73/AD73)*AM73*(1-(AH73/AJ73))*(1-AF73)","v":{"$error":"#DIV/0!"}},{"$f":"AT73*References!$D$12","v":{"$error":"#DIV/0!"}},{"$f":"(AC73/AD73)*AN73*(1-(AI73/AK73))*(1-AG73)","v":{"$error":"#DIV/0!"}},{"$f":"AV73*References!$D$12","v":{"$error":"#DIV/0!"}},{"$f":"((AC73/AD73)*AO73*(1-(AI73/AK73))*(1-AG73))/10","v":{"$error":"#DIV/0!"}},{"$error":"#DIV/0!"},{"$error":"#DIV/0!"}]
[4,null,null,null,null,null,null,null,null,null,null,null,null,null,null,null,null,null,null,null,null,null,null,null,null,null,{"$f":"IF(OR(HPwES!$D$62=\"\",RIGHT(HPwES!$D$60,5)<>\"Space\",RIGHT(HPwES!$D$60,8)<>\"Basement\"),\"\",HPwES!$D$62)","v":""}]
[5,null,null,null,null,null,null,null,null,null,null,null,null,null,null,null,null,null,null,null,null,null,null,null,null,null,{"$f":"IF(OR(HPwES!$D$62=\"\",RIGHT(HPwES!$D$60,5)<>\"Space\",RIGHT(HPwES!$D$60,8)<>\"Basement\"),\"\",HPwES!$D$62)","v":""}]
[6,null,null,null,null,null,null,null,null,null,null,null,null,null,null,null,null,null,null,null,null,null,null,null,null,null,{"$f":"IF(OR(HPwES!$D$62=\"\",RIGHT(HPwES!$D$60,5)<>\"Space\",RIGHT(HPwES!$D$60,8)<>\"Basement\"),\"\",HPwES!$D$62)","v":""}]
[null,null,null,null,null,null,null,null,null,null,null,null,null,null,null,null,null,null,null,null,null,null,null,null,null,null,null,null,null,null,null,null,null,null,null,null,null,null,null,null,null,null,null,null,null,null,null,null,null,null,"Rebate:",{"$f":"IF(OR(HPwES!J54=\"\",AND(AQ71=\"\",AQ72=\"\",AQ73=\"\")),0,IF(References!$C$14=TRUE,MIN(References!$BJ$5,HPwES!$J$54),MIN(References!$BI$5,HPwES!$J$54)))","v":0}]
["HPwES tab - Air Sealing"]
[null,"HVAC Info",null,null,null,null,null,null,null,null,null,null,null,null,null,null,null,null,null,null,null,null,"EFLH Heating","Displacement Factor",null,"Air Sealing Information",null,null,null,null,null,null,null,null,null,null,null,null,null,null,null,null,"Measure Codes","kW Savings Cooling","kW Savings Heating","kWh Savings","MMBTU (kWh) Savings","MMBTU (FF) Savings","Total MMBTU Savings"]
["Unit Number","Cooling 1 Capacity","Cooling 1 EER","Cooling 1 SEER","Cooling 1 %","Cooling 2 Capacity","Cooling 2 EER","Cooling 2 SEER","Cooling 2 %","Heating 1 Capacity","Heating 1 HSPF","Heating 1 COP","Heating 1 Efficiency","Heating 1\nFuel","Heating 1 %","Heating 2 Capacity","Heating 2 HSPF","Heating 2 COP","Heating 2 Efficiency","Heating 2\nFuel","Heating 2 %","EFLH Cooling",null,null,null,"Pre CFM50","Post CFM50","Delta CFM50","Fh","Fn","Cooling Heating Combo 1","Cooling Heating Combo 2",null,"Delta kWh/CFM 1","Delta kWh/CFM 2","Delta kW/CFM 1","Delta kW/CFM 2","Delta therm/CFM 1","Delta therm/CFM 2"]
[1,{"$f":"HPwES!$J$24","v":""},{"$f":"HPwES!$J$28","v":""},{"$f":"HPwES!$J$26","v":""},{"$f":"HPwES!$J$30","v":0},{"$f":"HPwES!$J$41","v":""},{"$f":"HPwES!$J$45","v":""},{"$f":"HPwES!$J$43","v":""},{"$f":"HPwES!$J$47","v":0},{"$f":"HPwES!$D$24","v":""},{"$f":"HPwES!$D$28","v":""},{"$f":"HPwES!$D$30","v":""},{"$f":"HPwES!$D$26","v":""},{"$f":"HPwES!$D$22","v":""},{"$f":"HPwES!$D$32","v":0},{"$f":"HPwES!$D$41","v":""},{"$f":"HPwES!$D$45","v":""},{"$f":"HPwES!$D$47","v":""},{"$f":"HPwES!$D$43","v":""},{"$f":"HPwES!$D$39","v":""},{"$f":"HPwES!$D$49","v":0},{"$f":"$BX$27","v":649},{"$f":"$BY$27","v":788},null,null,{"$f":"HPwES!D114","v":0},{"$f":"HPwES!D116","v":0},{"$f":"Z81-AA81","v":0},{"$f":"References!$BD$87","v":0.9},{"$f":"References!$BD$86","v":19},{"$f":"IF(AND(B81=\"\",J81=\"\"),\"\",IF(B81=\"\",IF(LEFT(N81,8)=\"Electric\",\"Electric Only\",\"Fossil Fuel Only\"),IF(LEFT(N81,8)=\"Electric\",IF(RIGHT(N81,4)=\"Pump\",\"Heat Pump\",\"AC Electric Heat\"),\"AC Fossil Fuel Heat\")))","v":""},{"$f":"IF(AND(F81=\"\",P81=\"\"),\"\",IF(F81=\"\",IF(LEFT(T81,8)=\"Electric\",\"Electric Only\",\"Fossil Fuel Only\"),IF(LEFT(T81,8)=\"Electric\",IF(RIGHT(T81,4)=\"Pump\",\"Heat Pump\",\"AC Electric Heat\"),\"AC Fossil Fuel Heat\")))","v":""},null,{"$f":"INDEX(References!$AY$87:$AY$91,MATCH(AE81,References!$AX$87:$AX$91,0))","v":{"$error":"#N/A"}},{"$f":"IF(AF81=\"\",0,INDEX(References!$AY$87:$AY$91,MATCH(AF81,References!$AX$87:$AX$91,0)))","v":0},{"$f":"INDEX(References!$AZ$87:$AZ$91,MATCH(AE81,References!$AX$87:$AX$91,0))","v":{"$error":"#N/A"}},{"$f":"IF(AF81=\"\",0,INDEX(References!$AZ$87:$AZ$91,MATCH(AF81,References!$AX$87:$AX$91,0)))","v":0},{"$f":"INDEX(References!$BA$87:$BA$91,MATCH(AE81,References!$AX$87:$AX$91,0))","v":{"$error":"#N/A"}},{"$f":"IF(AF81=\"\",0,INDEX(References!$BA$87:$BA$91,MATCH(AF81,References!$AX$87:$AX$91,0)))","v":0},null,null,null,{"$f":"IF(OR(Z81=\"\",AA81=\"\",Z81=0,AA81=0,HPwES!$C$16=\"\",HPwES!$C$16=\"- Please Select -\"),\"\",References!$BI$20)","v":""},{"$f":"(AB81/(AC81*AD81))*(AJ81*E81+AK81*I81)","v":{"$error":"#N/A"}},{"$f":"(AB81/(AC81*AD81))*(IF(RIGHT(AE81,4)=\"Only\",0,AJ81*O81)+IF(RIGHT(AF81,4)=\"Only\",0,AK81*U81))","v":{"$error":"#N/A"}},{"$f":"(AB81/(AC81*AD81))*(IF(LEFT(AE81,4)=\"Only\",0,AH81*O81)+IF(LEFT(AF81,4)=\"Only\",0,AI81*U81))","v":{"$error":"#N/A"}},{"$f":"AT81*References!$D$12","v":{"$error":"#N/A"}},{"$f":"(AB81/(AC81*AD81))*(AL81*E81+AM81*U81)/10","v":{"$error":"#N/A"}},{"$f":"AU81+AV81","v":{"$error":"#N/A"}}]
[{"$f":"A81+1","v":2}]
[null,null,null,null,null,null,null,null,null,null,null,null,null,null,null,null,null,null,null,null,null,null,null,null,null,null,null,null,null,null,null,null,null,null,null,null,null,null,null,null,null,null,null,null,null,null,null,"Rebate:",{"$f":"IF(OR(HPwES!J107=\"\",AQ81=\"\"),0,IF(References!$C$14=TRUE,MIN(References!$BJ$6,HPwES!$J$107),MIN(References!$BI$6,HPwES!$J$107)))","v":0}]
["HPwES tab - Insulation"]
[null,"HVAC Info",null,null,null,null,null,null,null,null,null,null,null,null,null,null,null,null,null,null,null,null,"EFLH Heating","Displacement Factor"]
["Unit Number","Cooling 1 Capacity","Cooling 1 EER","Cooling 1 SEER","Cooling 1 %","Cooling 2 Capacity","Cooling 2 EER","Cooling 2 SEER","Cooling 2 %","Heating 1 Capacity","Heating 1 HSPF","Heating 1 COP","Heating 1 Efficiency","Heating 1\nFuel","Heating 1 %","Heating 2 Capacity","Heating 2 HSPF","Heating 2 COP","Heating 2 Efficiency","Heating 2\nFuel","Heating 2 %","EFLH Cooling",null,null,null,"Existing R-Value","Installed R-Value","Square Foot of Insulation Installed","Location","Second Location","Adjusted Existing R-Value","Adjusted Installed R-Value","CDD","HDD","F,framing",null,null,null,null,null,"kW Cooling1","kW Cooling 2","kWh Cooling 1","kWh Cooling 2","kWh Heating 1","kWh Heating 2","FF MMBTU Heating 1","FF MMBTU Heating 2",null,"Measure Code","Summer kW Savings","Winter kW Savings Heating","kWh Savings ","MMBTU (kWh) Savings","MMBTU (FF) Savings","Total MMBTU Savings"]
[1,{"$f":"HPwES!$J$24","v":""},{"$f":"HPwES!$J$28","v":""},{"$f":"HPwES!$J$26","v":""},{"$f":"HPwES!$J$30","v":0},{"$f":"HPwES!$J$41","v":""},{"$f":"HPwES!$J$45","v":""},{"$f":"HPwES!$J$43","v":""},{"$f":"HPwES!$J$47","v":0},{"$f":"HPwES!$D$24","v":""},{"$f":"HPwES!$D$28","v":""},{"$f":"HPwES!$D$30","v":""},{"$f":"HPwES!$D$26","v":""},{"$f":"HPwES!$D$22","v":""},{"$f":"HPwES!$D$32","v":0},{"$f":"HPwES!$D$41","v":""},{"$f":"HPwES!$D$45","v":""},{"$f":"HPwES!$D$47","v":""},{"$f":"HPwES!$D$43","v":""},{"$f":"HPwES!$D$39","v":""},{"$f":"HPwES!$D$49","v":0},{"$f":"$BX$27","v":649},{"$f":"$BY$27","v":788},null,null,{"$f":"HPwES!D158","v":0},{"$f":"IF(AND(AC87=\"Exterior Walls\",HPwES!D160>References!$BJ$84),References!$BJ$84,IF(HPwES!D160>References!$BJ$88,References!$BJ$88,HPwES!D160))","v":0},{"$f":"HPwES!D156","v":0},{"$f":"HPwES!D152","v":0},{"$f":"HPwES!D154","v":0},{"$f":"IF(OR($AC$87=\"Attic\",$AC$87=\"Attic 2\",$AC$87=\"Garage/Overhang\"),IF(Z87=0,References!$AY$501,Qualifying_Index!Z87),IF(Qualifying_Index!$Z$87=\"Basement\",IF(Qualifying_Index!Z87=0,References!$AY$503,Qualifying_Index!Z87),IF(Qualifying_Index!Z87=0,References!$AY$502,Qualifying_Index!Z87)))","v":4},{"$f":"IF(OR($AC$87=\"Attic\",$AC$87=\"Attic 2\"),AA87,IF($AC$87=\"Basement\",AA87,AA87))","v":0},{"$f":"IF(AB87=\"\",\"\",References!$AY$499)","v":825.52},{"$f":"IF(AC87=\"\",\"\",References!$AY$500)","v":5358.6},{"$f":"IF(AC87=0,0,INDEX(References!$AY$507:$AY$511,MATCH(Qualifying_Index!AC87,References!$AX$507:$AX$511,0)))","v":0},{"$f":"IF(AB87=\"\",\"\",References!$AY$520)","v":0.64},{"$f":"IF(AB87=\"\",\"\",References!$AY$521)","v":0.28299999999999997},{"$f":"IF(AB87=\"\",\"\",References!$AY$522)","v":0.251},{"$f":"IF(AD87=0,1,IF(AD87=\"Above Grade\",References!$AY$523,IF(Qualifying_Index!AD87=\"Mixed Grade\",References!$AY$524,References!$AY$525)))","v":1},null,{"$f":"IF(OR(C87=\"\",C87=0,AF87=0),0,((1/AE87)-(1/AF87))*AG87*AB87*AM87*(1/(C87*1000)))","v":0},{"$f":"IF(OR(G87=\"\",G87=0,AF87=0),0,((1/AE87)-(1/AF87))*AG87*AB87*AM87*(1/(G87*1000)))","v":0},{"$f":"IF(OR(D87=\"\",D87=0,AF87=0),0,((1/AE87)-(1/AF87))*AB87*(1-AI87)*AG87*24*(1/(D87*1000)))","v":0},{"$f":"IF(OR(H87=\"\",H87=0,AF87=0),0,((1/AE87)-(1/AF87))*AB87*(1-AI87)*AG87*24*(1/(H87*1000)))","v":0},{"$f":"IF(OR(K87=\"\",K87=0,AF87=0),0,((1/AE87)-(1/AF87))*AB87*(1-AI87)*AH87*24*(1/(K87*1000)))","v":0},{"$f":"IF(OR(Q87=\"\",Q87=0,AF87=0),0,((1/AE87)-(1/AF87))*AB87*(1-AI87)*AG87*24*(1/(Q87*1000)))","v":0},{"$f":"IF(OR(M87=\"\",M87=0,AF87=0),0,((1/AE87)-(1/AF87))*AB87*(1-AI87)*AH87*24*(1/(M87*1000000)))","v":0},{"$f":"IF(OR(S87=\"\",S87=0,AF87=0),0,((1/AE87)-(1/AF87))*AB87*(1-AI87)*AH87*24*(1/(S87*1000000)))","v":0},null,{"$f":"IF(OR(Z87=\"\",AA87=\"\",AB87=\"\",AC87=0,AC87=\"\"),\"\",INDEX(References!$BI$21:$BI$24,MATCH(IF(AC87=\"Attic 2\",\"Attic\",AC87),References!$BH$21:$BH$24,0)))","v":""},{"$f":"AO87*E87+AP87*I87","v":0},{"$f":"AO87*$AB87/1000","v":0},{"$f":"AQ87*E87+AR87*I87+AS87*O87+AT87*U87","v":0},{"$f":"BA87*References!$D$12","v":0},{"$f":"AU87*O87+AV87*U87","v":0},{"$f":"BB87+BC87","v":0}]
[{"$f":"A87+1","v":2},{"$f":"HPwES!$J$24","v":""},{"$f":"HPwES!$J$28","v":""},{"$f":"HPwES!$J$26","v":""},{"$f":"HPwES!$J$30","v":0},{"$f":"HPwES!$J$41","v":""},{"$f":"HPwES!$J$45","v":""},{"$f":"HPwES!$J$43","v":""},{"$f":"HPwES!$J$47","v":0},{"$f":"HPwES!$D$24","v":""},{"$f":"HPwES!$D$28","v":""},{"$f":"HPwES!$D$30","v":""},{"$f":"HPwES!$D$26","v":""},{"$f":"HPwES!$D$22","v":""},{"$f":"HPwES!$D$32","v":0},{"$f":"HPwES!$D$41","v":""},{"$f":"HPwES!$D$45","v":""},{"$f":"HPwES!$D$47","v":""},{"$f":"HPwES!$D$43","v":""},{"$f":"HPwES!$D$39","v":""},{"$f":"HPwES!$D$49","v":0},{"$f":"$BX$27","v":649},{"$f":"$BY$27","v":788},null,null,{"$f":"HPwES!J158","v":0},{"$f":"IF(AND(AC88=\"Exterior Walls\",HPwES!J160>References!$BJ$84),References!$BJ$84,IF(HPwES!J160>References!$BJ$88,References!$BJ$88,HPwES!J160))","v":0},{"$f":"HPwES!J156","v":0},{"$f":"HPwES!J152","v":0},{"$f":"HPwES!J154","v":0},{"$f":"IF(OR($AC$87=\"Attic\",$AC$87=\"Attic 2\",$AC$87=\"Garage/Overhang\"),IF(Z88=0,References!$AY$501,Qualifying_Index!Z88),IF(Qualifying_Index!$Z$87=\"Basement\",IF(Qualifying_Index!Z88=0,References!$AY$503,Qualifying_Index!Z88),IF(Qualifying_Index!Z88=0,References!$AY$502,Qualifying_Index!Z88)))","v":4},{"$f":"IF(OR($AC$87=\"Attic\",$AC$87=\"Attic 2\"),AA88,IF($AC$87=\"Basement\",AA88,AA88))","v":0},{"$f":"IF(AB88=\"\",\"\",References!$AY$499)","v":825.52},{"$f":"IF(AC88=\"\",\"\",References!$AY$500)","v":5358.6},{"$f":"IF(AC88=0,0,INDEX(References!$AY$507:$AY$511,MATCH(Qualifying_Index!AC88,References!$AX$507:$AX$511,0)))","v":0},{"$f":"IF(AB88=\"\",\"\",References!$AY$520)","v":0.64},{"$f":"IF(AB88=\"\",\"\",References!$AY$521)","v":0.28299999999999997},{"$f":"IF(AB88=\"\",\"\",References!$AY$522)","v":0.251},{"$f":"IF(AD88=0,1,IF(AD88=\"Above Grade\",References!$AY$523,IF(Qualifying_Index!AD88=\"Mixed Grade\",References!$AY$524,References!$AY$525)))","v":1},null,{"$f":"IF(OR(C88=\"\",C88=0,AF88=0),0,((1/AE88)-(1/AF88))*AG88*AB88*AM88*(1/(C88*1000)))","v":0},{"$f":"IF(OR(G88=\"\",G88=0,AF88=0),0,((1/AE88)-(1/AF88))*AG88*AB88*AM88*(1/(G88*1000)))","v":0},{"$f":"IF(OR(D88=\"\",D88=0,AF88=0),0,((1/AE88)-(1/AF88))*AB88*(1-AI88)*AG88*24*(1/(D88*1000)))","v":0},{"$f":"IF(OR(H88=\"\",H88=0,AF88=0),0,((1/AE88)-(1/AF88))*AB88*(1-AI88)*AG88*24*(1/(H88*1000)))","v":0},{"$f":"IF(OR(K88=\"\",K88=0,AF88=0),0,((1/AE88)-(1/AF88))*AB88*(1-AI88)*AH88*24*(1/(K88*1000)))","v":0},{"$f":"IF(OR(Q88=\"\",Q88=0,AF88=0),0,((1/AE88)-(1/AF88))*AB88*(1-AI88)*AG88*24*(1/(Q88*1000)))","v":0},{"$f":"IF(OR(M88=\"\",M88=0,AF88=0),0,((1/AE88)-(1/AF88))*AB88*(1-AI88)*AH88*24*(1/(M88*1000000)))","v":0},{"$f":"IF(OR(S88=\"\",S88=0,AF88=0),0,((1/AE88)-(1/AF88))*AB88*(1-AI88)*AH88*24*(1/(S88*1000000)))","v":0},null,{"$f":"IF(OR(Z88=\"\",AA88=\"\",AB88=\"\",AC88=0,AC88=\"\"),\"\",INDEX(References!$BI$21:$BI$24,MATCH(IF(AC88=\"Attic 2\",\"Attic\",AC88),References!$BH$21:$BH$24,0)))","v":""},{"$f":"AO88*E88+AP88*I88","v":0},{"$f":"AO88*$AB88/1000","v":0},{"$f":"AQ88*E88+AR88*I88+AS88*O88+AT88*U88","v":0},{"$f":"BA88*References!$D$12","v":0},{"$f":"AU88*O88+AV88*U88","v":0},{"$f":"BB88+BC88","v":0}]
[{"$f":"A88+1","v":3},{"$f":"HPwES!$J$24","v":""},{"$f":"HPwES!$J$28","v":""},{"$f":"HPwES!$J$26","v":""},{"$f":"HPwES!$J$30","v":0},{"$f":"HPwES!$J$41","v":""},{"$f":"HPwES!$J$45","v":""},{"$f":"HPwES!$J$43","v":""},{"$f":"HPwES!$J$47","v":0},{"$f":"HPwES!$D$24","v":""},{"$f":"HPwES!$D$28","v":""},{"$f":"HPwES!$D$30","v":""},{"$f":"HPwES!$D$26","v":""},{"$f":"HPwES!$D$22","v":""},{"$f":"HPwES!$D$32","v":0},{"$f":"HPwES!$D$41","v":""},{"$f":"HPwES!$D$45","v":""},{"$f":"HPwES!$D$47","v":""},{"$f":"HPwES!$D$43","v":""},{"$f":"HPwES!$D$39","v":""},{"$f":"HPwES!$D$49","v":0},{"$f":"$BX$27","v":649},{"$f":"$BY$27","v":788},null,null,{"$f":"HPwES!D170","v":0},{"$f":"IF(AND(AC89=\"Exterior Walls\",HPwES!D172>References!$BJ$84),References!$BJ$84,IF(HPwES!D172>References!$BJ$88,References!$BJ$88,HPwES!D172))","v":0},{"$f":"HPwES!D168","v":0},{"$f":"HPwES!D164","v":0},{"$f":"HPwES!D166","v":0},{"$f":"IF(OR($AC$87=\"Attic\",$AC$87=\"Attic 2\",$AC$87=\"Garage/Overhang\"),IF(Z89=0,References!$AY$501,Qualifying_Index!Z89),IF(Qualifying_Index!$Z$87=\"Basement\",IF(Qualifying_Index!Z89=0,References!$AY$503,Qualifying_Index!Z89),IF(Qualifying_Index!Z89=0,References!$AY$502,Qualifying_Index!Z89)))","v":4},0,{"$f":"IF(AB89=\"\",\"\",References!$AY$499)","v":825.52},{"$f":"IF(AC89=\"\",\"\",References!$AY$500)","v":5358.6},{"$f":"IF(AC89=0,0,INDEX(References!$AY$507:$AY$511,MATCH(Qualifying_Index!AC89,References!$AX$507:$AX$511,0)))","v":0},{"$f":"IF(AB89=\"\",\"\",References!$AY$520)","v":0.64},{"$f":"IF(AB89=\"\",\"\",References!$AY$521)","v":0.28299999999999997},{"$f":"IF(AB89=\"\",\"\",References!$AY$522)","v":0.251},{"$f":"IF(AD89=0,1,IF(AD89=\"Above Grade\",References!$AY$523,IF(Qualifying_Index!AD89=\"Mixed Grade\",References!$AY$524,References!$AY$525)))","v":1},null,0,0,0,0,0,0,0,0,null,{"$f":"IF(OR(Z89=\"\",AA89=\"\",AB89=\"\",AC89=0,AC89=\"\"),\"\",INDEX(References!$BI$21:$BI$24,MATCH(IF(AC89=\"Attic 2\",\"Attic\",AC89),References!$BH$21:$BH$24,0)))","v":""},0,0,0,{"$f":"BA89*References!$D$12","v":0},0,0]
[4,{"$f":"HPwES!$J$24","v":""},{"$f":"HPwES!$J$28","v":""},{"$f":"HPwES!$J$26","v":""},{"$f":"HPwES!$J$30","v":0},{"$f":"HPwES!$J$41","v":""},{"$f":"HPwES!$J$45","v":""},{"$f":"HPwES!$J$43","v":""},{"$f":"HPwES!$J$47","v":0},{"$f":"HPwES!$D$24","v":""},{"$f":"HPwES!$D$28","v":""},{"$f":"HPwES!$D$30","v":""},{"$f":"HPwES!$D$26","v":""},{"$f":"HPwES!$D$22","v":""},{"$f":"HPwES!$D$32","v":0},{"$f":"HPwES!$D$41","v":""},{"$f":"HPwES!$D$45","v":""},{"$f":"HPwES!$D$47","v":""},{"$f":"HPwES!$D$43","v":""},{"$f":"HPwES!$D$39","v":""},{"$f":"HPwES!$D$49","v":0},{"$f":"$BX$27","v":649},{"$f":"$BY$27","v":788},null,null,{"$f":"HPwES!J170","v":0},{"$f":"IF(AND(AC90=\"Exterior Walls\",HPwES!J172>References!$BJ$84),References!$BJ$84,IF(HPwES!J172>References!$BJ$88,References!$BJ$88,HPwES!J172))","v":0},{"$f":"HPwES!J168","v":0},{"$f":"HPwES!J164","v":0},{"$f":"HPwES!J166","v":0},{"$f":"IF(OR($AC$87=\"Attic\",$AC$87=\"Attic 2\",$AC$87=\"Garage/Overhang\"),IF(Z90=0,References!$AY$501,Qualifying_Index!Z90),IF(Qualifying_Index!$Z$87=\"Basement\",IF(Qualifying_Index!Z90=0,References!$AY$503,Qualifying_Index!Z90),IF(Qualifying_Index!Z90=0,References!$AY$502,Qualifying_Index!Z90)))","v":4},0,{"$f":"IF(AB90=\"\",\"\",References!$AY$499)","v":825.52},{"$f":"IF(AC90=\"\",\"\",References!$AY$500)","v":5358.6},{"$f":"IF(AC90=0,0,INDEX(References!$AY$507:$AY$511,MATCH(Qualifying_Index!AC90,References!$AX$507:$AX$511,0)))","v":0},{"$f":"IF(AB90=\"\",\"\",References!$AY$520)","v":0.64},{"$f":"IF(AB90=\"\",\"\",References!$AY$521)","v":0.28299999999999997},{"$f":"IF(AB90=\"\",\"\",References!$AY$522)","v":0.251},{"$f":"IF(AD90=0,1,IF(AD90=\"Above Grade\",References!$AY$523,IF(Qualifying_Index!AD90=\"Mixed Grade\",References!$AY$524,References!$AY$525)))","v":1},null,0,0,0,0,0,0,0,0,null,{"$f":"IF(OR(Z90=\"\",AA90=\"\",AB90=\"\",AC90=0,AC90=\"\"),\"\",INDEX(References!$BI$21:$BI$24,MATCH(IF(AC90=\"Attic 2\",\"Attic\",AC90),References!$BH$21:$BH$24,0)))","v":""},0,0,0,{"$f":"BA90*References!$D$12","v":0},0,0]
[5,{"$f":"HPwES!$J$24","v":""},{"$f":"HPwES!$J$28","v":""},{"$f":"HPwES!$J$26","v":""},{"$f":"HPwES!$J$30","v":0},{"$f":"HPwES!$J$41","v":""},{"$f":"HPwES!$J$45","v":""},{"$f":"HPwES!$J$43","v":""},{"$f":"HPwES!$J$47","v":0},{"$f":"HPwES!$D$24","v":""},{"$f":"HPwES!$D$28","v":""},{"$f":"HPwES!$D$30","v":""},{"$f":"HPwES!$D$26","v":""},{"$f":"HPwES!$D$22","v":""},{"$f":"HPwES!$D$32","v":0},{"$f":"HPwES!$D$41","v":""},{"$f":"HPwES!$D$45","v":""},{"$f":"HPwES!$D$47","v":""},{"$f":"HPwES!$D$43","v":""},{"$f":"HPwES!$D$39","v":""},{"$f":"HPwES!$D$49","v":0},{"$f":"$BX$27","v":649},{"$f":"$BY$27","v":788},null,null,{"$f":"HPwES!D182","v":0},{"$f":"IF(AND(AC91=\"Exterior Walls\",HPwES!D184>References!$BJ$84),References!$BJ$84,IF(HPwES!D184>References!$BJ$88,References!$BJ$88,HPwES!D184))","v":0},{"$f":"HPwES!D180","v":0},{"$f":"HPwES!D176","v":0},{"$f":"HPwES!D178","v":0},{"$f":"IF(OR($AC$87=\"Attic\",$AC$87=\"Attic 2\",$AC$87=\"Garage/Overhang\"),IF(Z91=0,References!$AY$501,Qualifying_Index!Z91),IF(Qualifying_Index!$Z$87=\"Basement\",IF(Qualifying_Index!Z91=0,References!$AY$503,Qualifying_Index!Z91),IF(Qualifying_Index!Z91=0,References!$AY$502,Qualifying_Index!Z91)))","v":4},0,{"$f":"IF(AB91=\"\",\"\",References!$AY$499)","v":825.52},{"$f":"IF(AC91=\"\",\"\",References!$AY$500)","v":5358.6},{"$f":"IF(AC91=0,0,INDEX(References!$AY$507:$AY$511,MATCH(Qualifying_Index!AC91,References!$AX$507:$AX$511,0)))","v":0},{"$f":"IF(AB91=\"\",\"\",References!$AY$520)","v":0.64},{"$f":"IF(AB91=\"\",\"\",References!$AY$521)","v":0.28299999999999997},{"$f":"IF(AB91=\"\",\"\",References!$AY$522)","v":0.251},{"$f":"IF(AD91=0,1,IF(AD91=\"Above Grade\",References!$AY$523,IF(Qualifying_Index!AD91=\"Mixed Grade\",References!$AY$524,References!$AY$525)))","v":1},null,0,0,0,0,0,0,0,0,null,{"$f":"IF(OR(Z91=\"\",AA91=\"\",AB91=\"\",AC91=0,AC91=\"\"),\"\",INDEX(References!$BI$21:$BI$24,MATCH(IF(AC91=\"Attic 2\",\"Attic\",AC91),References!$BH$21:$BH$24,0)))","v":""},0,0,0,{"$f":"BA91*References!$D$12","v":0},0,0]
[6,null,null,null,null,null,null,null,null,null,null,null,null,null,null,null,null,null,null,null,null,null,null,null,null,null,null,null,null,null,null,null,null,{"$f":"IF(AC92=\"\",\"\",References!$AY$500)","v":""}]
[7]
[8]
[9]
[10]
[null,null,null,null,null,null,null,null,null,null,null,null,null,null,null,null,null,null,null,null,null,null,null,null,null,null,null,null,null,null,null,null,null,null,null,null,null,null,null,null,null,null,null,null,null,null,null,null,null,null,null,null,null,null,"Rebate:",{"$f":"IF(OR(HPwES!J146=\"\",AND(Qualifying_Index!AX87=\"\",Qualifying_Index!AX88=\"\",Qualifying_Index!AX89=\"\",Qualifying_Index!AX90=\"\",Qualifying_Index!AX91=\"\")),0,IF(References!$C$14=TRUE,MIN(References!$BJ$7,HPwES!$J$146),MIN(References!$BI$7,HPwES!$J$146)))","v":0},null,null,null,null,null,null,null,null,null,null,null,null,null,null,null,null,null,null,null,null,null,null,null,null,null,null,null,null,null,"Rebate:",{"$f":"IF(OR(HPwES!J146=\"\",AND(AX87=\"\",AX88=\"\",AX89=\"\",AX90=\"\",AX91=\"\")),0,IF(References!$C$14=TRUE,MIN(References!$BJ$7,HPwES!$J$146),MIN(References!$BI$7,HPwES!$J$146)))","v":0}]
[]
[]
["Water Heating"]
[]
[null,"New Equipment Type",null,null,"Existing Equipment Type","Proposed Efficiency",null,"Quantity","Rebate per unit","Total Rebate","Total Incentive",null,"Measure Code","Summer kW Savings","kW Savings Winter","kWh Savings ","BE kWh Savings ","EE MMBTU Savings","BE MMBTU Savings","Total MMBTU Savings"]
[null,{"$f":"IF(OR('Water Heating Worksheet'!D21=\"\",'Water Heating Worksheet'!D21=\"Select…\"),\"\",'Water Heating Worksheet'!D21)","v":"Heat Pump Water Heater > 55 Gallons"},null,null,{"$f":"IF(OR('Water Heating Worksheet'!G21=\"\",'Water Heating Worksheet'!G21=\"Select…\"),\"\",'Water Heating Worksheet'!G21)","v":""},{"$f":"IF('Water Heating Worksheet'!D23=\"\",\"\",'Water Heating Worksheet'!D23)","v":1},null,{"$f":"IF(OR(B103=\"\",E103=\"\",F103=\"\"),\"\",IF(B103<>\"Tankless Water Heater < 12 kW\",1,'Water Heating Worksheet'!D27))","v":""},{"$f":"IF(OR(B103=\"\",E103=\"\",F103=\"\"),\"\",INDEX(References!$AG$203:$AG$206,MATCH(B103,References!$N$203:$N$206,0)))","v":""},{"$f":"IF(OR(H103=\"\",I103=\"\"),\"\",H103*I103)","v":""},{"$f":"IF(OR(B103=\"\",E103=\"\",F103=\"\"),\"\",INDEX(References!$AH$203:$AH$206,MATCH(B103,References!$N$203:$N$206,0)))","v":""},null,{"$f":"IF(OR(B103=\"\",E103=\"\",F103=\"\"),\"\",INDEX(References!M$203:M$206,MATCH(B103,References!$N$203:$N$206,0)))","v":""},{"$f":"IF($M103=\"\",\"\",INDEX(References!Q$203:Q$206,MATCH($M103,References!$M$203:$M$206,0)))","v":""},{"$f":"IF($M103=\"\",\"\",INDEX(References!S$203:S$206,MATCH($M103,References!$M$203:$M$206,0)))","v":""},{"$f":"IF($M103=\"\",\"\",INDEX(References!R$203:R$206,MATCH($M103,References!$M$203:$M$206,0)))","v":""},{"$f":"IF($M103=\"\",\"\",INDEX(References!T$203:T$206,MATCH($M103,References!$M$203:$M$206,0)))","v":""},{"$f":"IF($M103=\"\",\"\",INDEX(References!U$203:U$206,MATCH($M103,References!$M$203:$M$206,0)))","v":""},{"$f":"IF($M103=\"\",\"\",INDEX(References!V$203:V$206,MATCH($M103,References!$M$203:$M$206,0)))","v":""},{"$f":"IF($M103=\"\",\"\",R103+S103)","v":""}]
[null,null,null,null,null,null,null,null,null,null,null,null,""]
[]
[]
["ASHP & CAC Tune Ups"]
[]
[null,"Tune Up Type",null,null,"Cooling Capacity","Heating Capacity","Pre-Tune Up Charge","Nameplate SEER","Nameplate EER","Nameplate HSPF","Normalized Efficiency","Pre-SEER","Pre-EER","Pre-HSPF","Cooling EFLH","Heating EFLH",null,"Quantity","Rebate per unit","Total Rebate","Total Incentive",null,"Measure Code","Summer kW Savings","kW Savings Winter","kWh Savings ","BE kWh Savings ","EE MMBTU Savings","BE MMBTU Savings","Total MMBTU Savings","EE CO2 Savings","BE CO2 Savings"]
[null,{"$f":"IF(OR('Tune Up Worksheet'!D15=\"\",'Tune Up Worksheet'!D15=\"Select…\"),\"\",'Tune Up Worksheet'!D15)","v":""},null,null,{"$f":"IF('Tune Up Worksheet'!D17=\"\",\"\",'Tune Up Worksheet'!D17)","v":""},{"$f":"IF('Tune Up Worksheet'!D19=\"\",\"\",'Tune Up Worksheet'!D19)","v":""},{"$f":"IF('Tune Up Worksheet'!D21=\"\",\"\",'Tune Up Worksheet'!D21)","v":""},{"$f":"IF(B110=\"\",\"\",IF(B110=\"Central Air Conditioner\",References!$B$331,References!$B$347))","v":""},{"$f":"IF(B110=\"\",\"\",IF(B110=\"Central Air Conditioner\",References!$B$332,References!$B$348))","v":""},{"$f":"IF(B110=\"\",\"\",IF(B110=\"Central Air Conditioner\",0,References!$B$349))","v":""},{"$f":"IF(G110=\"\",\"\",INDEX(References!$G$324:$G$394,MATCH(MIN(ABS(References!$E$324:$E$394-G110)),ABS(References!$E$324:$E$394-G110),-1)))","v":""},{"$f":"IF(OR(H110=\"\",$K110=\"\"),\"\",H110*$K110)","v":""},{"$f":"IF(OR(I110=\"\",$K110=\"\"),\"\",I110*$K110)","v":""},"",{"$f":"IF(OR(B110=\"\",E110=\"\"),\"\",References!$D$25)","v":""},{"$f":"IF(OR(B110=\"\",F110=\"\"),\"\",References!$D$26)","v":""},null,{"$f":"IF(W110=\"\",\"\",1)","v":""},{"$f":"IF(W110=\"\",\"\",INDEX(References!$AG$207:$AG$208,MATCH(W110,References!$M$207:$M$208,0)))","v":""},{"$f":"IF(OR(R110=\"\",S110=\"\"),\"\",R110*S110)","v":""},{"$f":"IF(W110=\"\",\"\",INDEX(References!$AH$207:$AH$208,MATCH(W110,References!$M$207:$M$208,0)))","v":""},null,{"$f":"IF(OR(B110=\"\",E110=\"\",IF(B110=\"Air Source Heat Pump\",F110=\"\"),G110=\"\"),\"\",INDEX(References!$M$207:$M$208,MATCH(B110,References!$L$207:$L$208,0)))","v":""},{"$f":"IF($W110=\"\",\"\",(E110/12000)*((12/M110)*(12/I110)))","v":""},{"$f":"IF($W110=\"\",\"\",IF($B110=\"Central Air Conditioner\",0,(F110/1000)*((1/N110)-(1/J110))))","v":""},{"$f":"IF($W110=\"\",\"\",IF($B110=\"Central Air Conditioner\",(E110/12000)*((12/L110)-(12/H110))*O110,(E110/12000)*((12/L110)-(12/H110))*O110+(F110/1000)*((1/N110)-(1/J110))*P110))","v":""},{"$f":"IF($W110=\"\",\"\",0)","v":""},{"$f":"IF($W110=\"\",\"\",Z110*References!$D$12)","v":""},{"$f":"IF($W110=\"\",\"\",0)","v":""},{"$f":"IF(W110=\"\",\"\",AB110+AC110)","v":""},{"$f":"IF($W110=\"\",\"\",Z110*References!$A$12)","v":""},{"$f":"IF($W110=\"\",\"\",0)","v":""}]
[null,{"$f":"IF(OR('Tune Up Worksheet'!D27=\"\",'Tune Up Worksheet'!D27=\"Select…\"),\"\",'Tune Up Worksheet'!D27)","v":""},null,null,{"$f":"IF('Tune Up Worksheet'!D29=\"\",\"\",'Tune Up Worksheet'!D29)","v":""},{"$f":"IF('Tune Up Worksheet'!D31=\"\",\"\",'Tune Up Worksheet'!D31)","v":""},{"$f":"IF('Tune Up Worksheet'!D33=\"\",\"\",'Tune Up Worksheet'!D33)","v":""},{"$f":"IF(B111=\"\",\"\",IF(B111=\"Central Air Conditioner\",References!$B$331,References!$B$347))","v":""},{"$f":"IF(B111=\"\",\"\",IF(B111=\"Central Air Conditioner\",References!$B$332,References!$B$348))","v":""},{"$f":"IF(B111=\"\",\"\",IF(B111=\"Central Air Conditioner\",0,References!$B$349))","v":""},{"$f":"IF(G111=\"\",\"\",INDEX(References!$G$324:$G$394,MATCH(MIN(ABS(References!$E$324:$E$394-G111)),ABS(References!$E$324:$E$394-G111),-1)))","v":""},{"$f":"IF(OR(H111=\"\",$K111=\"\"),\"\",H111*$K111)","v":""},"","",{"$f":"IF(OR(B111=\"\",E111=\"\"),\"\",References!$D$25)","v":""},{"$f":"IF(OR(B111=\"\",F111=\"\"),\"\",References!$D$26)","v":""},null,{"$f":"IF(W111=\"\",\"\",1)","v":""},{"$f":"IF(W111=\"\",\"\",INDEX(References!$AG$207:$AG$208,MATCH(W111,References!$M$207:$M$208,0)))","v":""},{"$f":"IF(OR(R111=\"\",S111=\"\"),\"\",R111*S111)","v":""},{"$f":"IF(W111=\"\",\"\",INDEX(References!$AH$207:$AH$208,MATCH(W111,References!$M$207:$M$208,0)))","v":""},null,{"$f":"IF(OR(B111=\"\",E111=\"\",IF(B111=\"Air Source Heat Pump\",F111=\"\"),G111=\"\"),\"\",INDEX(References!$M$207:$M$208,MATCH(B111,References!$L$207:$L$208,0)))","v":""},{"$f":"IF($W111=\"\",\"\",(E111/12000)*((12/M111)*(12/I111)))","v":""},{"$f":"IF($W111=\"\",\"\",IF($B111=\"Central Air Conditioner\",0,(F111/1000)*((1/N111)-(1/J111))))","v":""},{"$f":"IF($W111=\"\",\"\",IF($B111=\"Central Air Conditioner\",(E111/12000)*((12/L111)-(12/H111))*O111,(E111/12000)*((12/L111)-(12/H111))*O111+(F111/1000)*((1/N111)-(1/J111))*P111))","v":""},{"$f":"IF($W111=\"\",\"\",0)","v":""},{"$f":"IF($W111=\"\",\"\",Z111*References!$D$12)","v":""},{"$f":"IF($W111=\"\",\"\",0)","v":""},{"$f":"IF(W111=\"\",\"\",AB111+AC111)","v":""},{"$f":"IF($W111=\"\",\"\",Z111*References!$A$12)","v":""},{"$f":"IF($W111=\"\",\"\",0)","v":""}]
[null,{"$f":"IF(OR('Tune Up Worksheet'!D39=\"\",'Tune Up Worksheet'!D39=\"Select…\"),\"\",'Tune Up Worksheet'!D39)","v":""},null,null,{"$f":"IF('Tune Up Worksheet'!D41=\"\",\"\",'Tune Up Worksheet'!D41)","v":""},{"$f":"IF('Tune Up Worksheet'!D43=\"\",\"\",'Tune Up Worksheet'!D43)","v":""},{"$f":"IF('Tune Up Worksheet'!D45=\"\",\"\",'Tune Up Worksheet'!D45)","v":""},{"$f":"IF(B112=\"\",\"\",IF(B112=\"Central Air Conditioner\",References!$B$331,References!$B$347))","v":""},{"$f":"IF(B112=\"\",\"\",IF(B112=\"Central Air Conditioner\",References!$B$332,References!$B$348))","v":""},{"$f":"IF(B112=\"\",\"\",IF(B112=\"Central Air Conditioner\",0,References!$B$349))","v":""},{"$f":"IF(G112=\"\",\"\",INDEX(References!$G$324:$G$394,MATCH(MIN(ABS(References!$E$324:$E$394-G112)),ABS(References!$E$324:$E$394-G112),-1)))","v":""},"","","",{"$f":"IF(OR(B112=\"\",E112=\"\"),\"\",References!$D$25)","v":""},{"$f":"IF(OR(B112=\"\",F112=\"\"),\"\",References!$D$26)","v":""},null,"",{"$f":"IF(W112=\"\",\"\",INDEX(References!$AG$207:$AG$208,MATCH(W112,References!$M$207:$M$208,0)))","v":""},"",{"$f":"IF(W112=\"\",\"\",INDEX(References!$AH$207:$AH$208,MATCH(W112,References!$M$207:$M$208,0)))","v":""},null,{"$f":"IF(OR(B112=\"\",E112=\"\",IF(B112=\"Air Source Heat Pump\",F112=\"\"),G112=\"\"),\"\",INDEX(References!$M$207:$M$208,MATCH(B112,References!$L$207:$L$208,0)))","v":""},"","","","",{"$f":"IF($W112=\"\",\"\",Z112*References!$D$12)","v":""},"","",{"$f":"IF($W112=\"\",\"\",Z112*References!$A$12)","v":""},""]
[null,{"$f":"IF(OR('Tune Up Worksheet'!D51=\"\",'Tune Up Worksheet'!D51=\"Select…\"),\"\",'Tune Up Worksheet'!D51)","v":""},null,null,{"$f":"IF('Tune Up Worksheet'!D53=\"\",\"\",'Tune Up Worksheet'!D53)","v":""},{"$f":"IF('Tune Up Worksheet'!D55=\"\",\"\",'Tune Up Worksheet'!D55)","v":""},{"$f":"IF('Tune Up Worksheet'!D57=\"\",\"\",'Tune Up Worksheet'!D57)","v":""},{"$f":"IF(B113=\"\",\"\",IF(B113=\"Central Air Conditioner\",References!$B$331,References!$B$347))","v":""},{"$f":"IF(B113=\"\",\"\",IF(B113=\"Central Air Conditioner\",References!$B$332,References!$B$348))","v":""},{"$f":"IF(B113=\"\",\"\",IF(B113=\"Central Air Conditioner\",0,References!$B$349))","v":""},{"$f":"IF(G113=\"\",\"\",INDEX(References!$G$324:$G$394,MATCH(MIN(ABS(References!$E$324:$E$394-G113)),ABS(References!$E$324:$E$394-G113),-1)))","v":""},"","","",{"$f":"IF(OR(B113=\"\",E113=\"\"),\"\",References!$D$25)","v":""},{"$f":"IF(OR(B113=\"\",F113=\"\"),\"\",References!$D$26)","v":""},null,"",{"$f":"IF(W113=\"\",\"\",INDEX(References!$AG$207:$AG$208,MATCH(W113,References!$M$207:$M$208,0)))","v":""},"",{"$f":"IF(W113=\"\",\"\",INDEX(References!$AH$207:$AH$208,MATCH(W113,References!$M$207:$M$208,0)))","v":""},null,{"$f":"IF(OR(B113=\"\",E113=\"\",IF(B113=\"Air Source Heat Pump\",F113=\"\"),G113=\"\"),\"\",INDEX(References!$M$207:$M$208,MATCH(B113,References!$L$207:$L$208,0)))","v":""},"","","","",{"$f":"IF($W113=\"\",\"\",Z113*References!$D$12)","v":""},"","",{"$f":"IF($W113=\"\",\"\",Z113*References!$A$12)","v":""},""]
[null,{"$f":"IF(OR('Tune Up Worksheet'!D63=\"\",'Tune Up Worksheet'!D63=\"Select…\"),\"\",'Tune Up Worksheet'!D63)","v":""},null,null,{"$f":"IF('Tune Up Worksheet'!D65=\"\",\"\",'Tune Up Worksheet'!D65)","v":""},{"$f":"IF('Tune Up Worksheet'!D67=\"\",\"\",'Tune Up Worksheet'!D67)","v":""},{"$f":"IF('Tune Up Worksheet'!D69=\"\",\"\",'Tune Up Worksheet'!D69)","v":""},{"$f":"IF(B114=\"\",\"\",IF(B114=\"Central Air Conditioner\",References!$B$331,References!$B$347))","v":""},{"$f":"IF(B114=\"\",\"\",IF(B114=\"Central Air Conditioner\",References!$B$332,References!$B$348))","v":""},{"$f":"IF(B114=\"\",\"\",IF(B114=\"Central Air Conditioner\",0,References!$B$349))","v":""},{"$f":"IF(G114=\"\",\"\",INDEX(References!$G$324:$G$394,MATCH(MIN(ABS(References!$E$324:$E$394-G114)),ABS(References!$E$324:$E$394-G114),-1)))","v":""},"","","",{"$f":"IF(OR(B114=\"\",E114=\"\"),\"\",References!$D$25)","v":""},{"$f":"IF(OR(B114=\"\",F114=\"\"),\"\",References!$D$26)","v":""},null,"",{"$f":"IF(W114=\"\",\"\",INDEX(References!$AG$207:$AG$208,MATCH(W114,References!$M$207:$M$208,0)))","v":""},"",{"$f":"IF(W114=\"\",\"\",INDEX(References!$AH$207:$AH$208,MATCH(W114,References!$M$207:$M$208,0)))","v":""},null,{"$f":"IF(OR(B114=\"\",E114=\"\",IF(B114=\"Air Source Heat Pump\",F114=\"\"),G114=\"\"),\"\",INDEX(References!$M$207:$M$208,MATCH(B114,References!$L$207:$L$208,0)))","v":""},"","","","",{"$f":"IF($W114=\"\",\"\",Z114*References!$D$12)","v":""},"","",{"$f":"IF($W114=\"\",\"\",Z114*References!$A$12)","v":""},""]
[]
["Geothermal"]
["Qualifying Index"]
[]
["Unit Number","Full Load Efficiency",null,"SEER",null,"EER",null,"COP/HSPF",null,"Qualifying Tier",null,null,"Qualifying Tier","Incentives",null,null,null,null,"Equipment Sized in Accordance with Manual S?",{"$f":"IF(References!$CC$26=\"Residential\",\"Manual J Btu Range\",\"Manual N Btu Range\")","v":"Manual J Btu Range"},null,null,null,null,null,"Pass/Fail",null,null,null,null,null,"Missing Info Lookups",null,"Missing Info (Selected Sector)"]
["Unit Number","EER","COP","Tier I","Tier II","Tier I","Tier II","Tier I","Tier II","EER","COP/HSPF",null,null,"Customer ","Desuperheater","Contractor ","AEH Bonus",null,null,"Cooling Full Load",null,"Heating Full Load",null,"Cooling Part Load",null,"Cooling Full Load","Cooling Part Load","Cooling","Heating","Final",null,"Commercial","Residential",{"$f":"Customer_Sector","v":"Residential"}]
[1,{"$f":"IF('Space Heating Worksheet'!R33=\"\",\"\",IF(OR('Space Heating Worksheet'!H33=\"Single Stage\",NOT(ISNUMBER('Space Heating Worksheet'!T33))),'Space Heating Worksheet'!R33,'Space Heating Worksheet'!R33*0.5+'Space Heating Worksheet'!T33*0.5))","v":""},{"$f":"IF('Space Heating Worksheet'!H33=\"\",\"\",IF(OR('Space Heating Worksheet'!H33=\"Single Stage\",NOT(ISNUMBER('Space Heating Worksheet'!U33))),'Space Heating Worksheet'!S33,'Space Heating Worksheet'!S33*0.5+'Space Heating Worksheet'!U33*0.5))","v":""},{"$f":"IF('Space Heating Worksheet'!$F33=\"\",\"\",INDEX(References!CB$13:CB$21,MATCH('Space Heating Worksheet'!$F33,References!$CA$13:$CA$21,0)))","v":""},{"$f":"IF('Space Heating Worksheet'!$F33=\"\",\"\",INDEX(References!CC$13:CC$21,MATCH('Space Heating Worksheet'!$F33,References!$CA$13:$CA$21,0)))","v":""},{"$f":"IF('Space Heating Worksheet'!$F33=\"\",\"\",INDEX(References!CD$13:CD$21,MATCH('Space Heating Worksheet'!$F33,References!$CA$13:$CA$21,0)))","v":""},{"$f":"IF('Space Heating Worksheet'!$F33=\"\",\"\",INDEX(References!CE$13:CE$21,MATCH('Space Heating Worksheet'!$F33,References!$CA$13:$CA$21,0)))","v":""},{"$f":"IF('Space Heating Worksheet'!$F33=\"\",\"\",INDEX(References!CF$13:CF$21,MATCH('Space Heating Worksheet'!$F33,References!$CA$13:$CA$21,0)))","v":""},{"$f":"IF('Space Heating Worksheet'!$F33=\"\",\"\",INDEX(References!CG$13:CG$21,MATCH('Space Heating Worksheet'!$F33,References!$CA$13:$CA$21,0)))","v":""},{"$f":"IF(B121=\"\",\"\",IF(B121<F121,\"DNQ\",IF(B121>=G121,\"Tier II\",\"Tier I\")))","v":""},{"$f":"IF(C121=\"\",\"\",IF(C121<H121,\"DNQ\",IF(C121>=I121,\"Tier II\",\"Tier I\")))","v":""},null,{"$f":"IF(OR(J121=\"\",K121=\"\"),\"\",IF(OR(J121=\"DNQ\",K121=\"DNQ\",AD121=\"FAIL\"),\"DNQ\",IF(OR(J121=\"Tier I\",K121=\"Tier I\"),\"Tier I\",\"Tier II\")))","v":""},{"$f":"IF(M121=\"\",\"\",IF(M121=\"DNQ\",\"DNQ\",INDEX(References!$CO$3:$CO$22,MATCH('Space Heating Worksheet'!L33,References!$CN$3:$CN$22,0))*('Space Heating Worksheet'!M33/12000)))","v":""},{"$f":"IF(M121=\"\",\"\",0)","v":""},{"$f":"IF(N121=\"\",\"\",IF(N121=\"DNQ\",\"DNQ\",INDEX(References!$CP$3:$CP$22,MATCH('Space Heating Worksheet'!L33,References!$CN$3:$CN$22,0))))","v":""},{"$f":"IF(M121=\"\",\"\",IF(M121=\"DNQ\",\"DNQ\",IF('Site Information'!$C$6=\"New Construction\",800,1000)*('Space Heating Worksheet'!M33/12000)*References!$BX$23))","v":""},{"$f":"IF(COUNTIF(R120,200),100,200)","v":200},{"$f":"IF('Space Heating Worksheet'!U52=\"\",\"\",'Space Heating Worksheet'!U52)","v":""},{"$f":"IF('Space Heating Worksheet'!M33=\"\",\"\",'Space Heating Worksheet'!M33*0.75)","v":""},{"$f":"IF('Space Heating Worksheet'!M33=\"\",\"\",'Space Heating Worksheet'!M33*1.25)","v":""},{"$f":"IF('Space Heating Worksheet'!N33=\"\",\"\",'Space Heating Worksheet'!N33*0.75)","v":""},{"$f":"IF('Space Heating Worksheet'!N33=\"\",\"\",'Space Heating Worksheet'!N33*1.25)","v":""},{"$f":"IF('Space Heating Worksheet'!O33=\"\",\"\",IF(ISNUMBER('Space Heating Worksheet'!O33),'Space Heating Worksheet'!O33*0.75,0))","v":""},{"$f":"IF('Space Heating Worksheet'!O33=\"\",\"\",IF(ISNUMBER('Space Heating Worksheet'!O33),'Space Heating Worksheet'!O33*1.25,0))","v":""},{"$f":"IF(AND(T121=\"\",U121=\"\"),\"\",IF(AND('Space Heating Worksheet'!AH52>=T121,'Space Heating Worksheet'!AH52<=U121),\"PASS\",\"FAIL\"))","v":""},{"$f":"IF(AND(X121=\"\",Y121=\"\"),\"\",IF(AND('Space Heating Worksheet'!AH52>=X121,'Space Heating Worksheet'!AH52<=Y121),\"PASS\",\"FAIL\"))","v":""},{"$f":"IF(Z121=\"FAIL\",AA121,Z121)","v":""},{"$f":"IF(AND(V121=\"\",W121=\"\"),\"\",IF(AND('Space Heating Worksheet'!AI52>=V121,'Space Heating Worksheet'!AI52<=W121),\"PASS\",\"FAIL\"))","v":""},{"$f":"IF(AND(AB121=\"\",AC121=\"\"),\"\",IF(AND(S121<>\"YES\",Customer_Sector=\"Residential\"),\"FAIL\",IF(Z121=\"PASS\",\"PASS\",IF(AND(AA121=\"PASS\",AC121=\"PASS\"),\"PASS\",\"FAIL\"))))","v":""},null,{"$f":"IF(AND('Space Heating Worksheet'!C52=\"\",'Space Heating Worksheet'!F52=\"\",'Space Heating Worksheet'!H52=\"\",'Space Heating Worksheet'!M52=\"\",'Space Heating Worksheet'!O52=\"\",'Space Heating Worksheet'!Q52=\"\",'Space Heating Worksheet'!AH52=\"\"),\"\",IF(OR('Space Heating Worksheet'!C52=\"\",'Space Heating Worksheet'!F52=\"\",'Space Heating Worksheet'!H52=\"\",'Space Heating Worksheet'!M52=\"\",'Space Heating Worksheet'!O52=\"\",'Space Heating Worksheet'!Q52=\"\",'Space Heating Worksheet'!AH52=\"\"),\"Missing Info\",\"\"))","v":""},{"$f":"IF(AND('Space Heating Worksheet'!C52=\"\",'Space Heating Worksheet'!F52=\"\",'Space Heating Worksheet'!H52=\"\",'Space Heating Worksheet'!M52=\"\",'Space Heating Worksheet'!O52=\"\",'Space Heating Worksheet'!Q52=\"\",'Space Heating Worksheet'!AH52=\"\"),\"\",IF(OR('Space Heating Worksheet'!C52=\"\",'Space Heating Worksheet'!F52=\"\",'Space Heating Worksheet'!H52=\"\",'Space Heating Worksheet'!M52=\"\",'Space Heating Worksheet'!O52=\"\",'Space Heating Worksheet'!Q52=\"\",'Space Heating Worksheet'!AH52=\"\"),\"Missing Info\",\"\"))","v":""},{"$f":"IF(Customer_Sector=\"Commercial\",Qualifying_Index!AF121,Qualifying_Index!AG121)","v":""}]
[{"$f":"A121+1","v":2},{"$f":"IF('Space Heating Worksheet'!R34=\"\",\"\",IF(OR('Space Heating Worksheet'!H34=\"Single Stage\",NOT(ISNUMBER('Space Heating Worksheet'!T34))),'Space Heating Worksheet'!R34,'Space Heating Worksheet'!R34*0.5+'Space Heating Worksheet'!T34*0.5))","v":""},{"$f":"IF('Space Heating Worksheet'!H34=\"\",\"\",IF(OR('Space Heating Worksheet'!H34=\"Single Stage\",NOT(ISNUMBER('Space Heating Worksheet'!U34))),'Space Heating Worksheet'!S34,'Space Heating Worksheet'!S34*0.5+'Space Heating Worksheet'!U34*0.5))","v":""},{"$f":"IF('Space Heating Worksheet'!$F34=\"\",\"\",INDEX(References!CB$13:CB$21,MATCH('Space Heating Worksheet'!$F34,References!$CA$13:$CA$21,0)))","v":""},{"$f":"IF('Space Heating Worksheet'!$F34=\"\",\"\",INDEX(References!CC$13:CC$21,MATCH('Space Heating Worksheet'!$F34,References!$CA$13:$CA$21,0)))","v":""},{"$f":"IF('Space Heating Worksheet'!$F34=\"\",\"\",INDEX(References!CD$13:CD$21,MATCH('Space Heating Worksheet'!$F34,References!$CA$13:$CA$21,0)))","v":""},{"$f":"IF('Space Heating Worksheet'!$F34=\"\",\"\",INDEX(References!CE$13:CE$21,MATCH('Space Heating Worksheet'!$F34,References!$CA$13:$CA$21,0)))","v":""},{"$f":"IF('Space Heating Worksheet'!$F34=\"\",\"\",INDEX(References!CF$13:CF$21,MATCH('Space Heating Worksheet'!$F34,References!$CA$13:$CA$21,0)))","v":""},{"$f":"IF('Space Heating Worksheet'!$F34=\"\",\"\",INDEX(References!CG$13:CG$21,MATCH('Space Heating Worksheet'!$F34,References!$CA$13:$CA$21,0)))","v":""},"","",null,"",{"$f":"IF(M122=\"\",\"\",IF(M122=\"DNQ\",\"DNQ\",INDEX(References!$CO$3:$CO$22,MATCH('Space Heating Worksheet'!L34,References!$CN$3:$CN$22,0))*('Space Heating Worksheet'!M34/12000)))","v":""},{"$f":"IF(M122=\"\",\"\",0)","v":""},{"$f":"IF(N122=\"\",\"\",IF(N122=\"DNQ\",\"DNQ\",INDEX(References!$CP$3:$CP$22,MATCH('Space Heating Worksheet'!L34,References!$CN$3:$CN$22,0))))","v":""},{"$f":"IF(M122=\"\",\"\",IF(M122=\"DNQ\",\"DNQ\",IF('Site Information'!$C$6=\"New Construction\",800,1000)*('Space Heating Worksheet'!M34/12000)*References!$BX$23))","v":""},{"$f":"IF(COUNTIF(R121,200),100,200)","v":100},{"$f":"IF('Space Heating Worksheet'!U53=\"\",\"\",'Space Heating Worksheet'!U53)","v":""},{"$f":"IF('Space Heating Worksheet'!M34=\"\",\"\",'Space Heating Worksheet'!M34*0.75)","v":""},{"$f":"IF('Space Heating Worksheet'!M34=\"\",\"\",'Space Heating Worksheet'!M34*1.25)","v":""},{"$f":"IF('Space Heating Worksheet'!N34=\"\",\"\",'Space Heating Worksheet'!N34*0.75)","v":""},{"$f":"IF('Space Heating Worksheet'!N34=\"\",\"\",'Space Heating Worksheet'!N34*1.25)","v":""},{"$f":"IF('Space Heating Worksheet'!O34=\"\",\"\",IF(ISNUMBER('Space Heating Worksheet'!O34),'Space Heating Worksheet'!O34*0.75,0))","v":""},{"$f":"IF('Space Heating Worksheet'!O34=\"\",\"\",IF(ISNUMBER('Space Heating Worksheet'!O34),'Space Heating Worksheet'!O34*1.25,0))","v":""},{"$f":"IF(AND(T122=\"\",U122=\"\"),\"\",IF(AND('Space Heating Worksheet'!AH53>=T122,'Space Heating Worksheet'!AH53<=U122),\"PASS\",\"FAIL\"))","v":""},{"$f":"IF(AND(X122=\"\",Y122=\"\"),\"\",IF(AND('Space Heating Worksheet'!AH53>=X122,'Space Heating Worksheet'!AH53<=Y122),\"PASS\",\"FAIL\"))","v":""},"",{"$f":"IF(AND(V122=\"\",W122=\"\"),\"\",IF(AND('Space Heating Worksheet'!AI53>=V122,'Space Heating Worksheet'!AI53<=W122),\"PASS\",\"FAIL\"))","v":""},"",null,{"$f":"IF(AND('Space Heating Worksheet'!C53=\"\",'Space Heating Worksheet'!F53=\"\",'Space Heating Worksheet'!H53=\"\",'Space Heating Worksheet'!M53=\"\",'Space Heating Worksheet'!O53=\"\",'Space Heating Worksheet'!Q53=\"\",'Space Heating Worksheet'!AH53=\"\"),\"\",IF(OR('Space Heating Worksheet'!C53=\"\",'Space Heating Worksheet'!F53=\"\",'Space Heating Worksheet'!H53=\"\",'Space Heating Worksheet'!M53=\"\",'Space Heating Worksheet'!O53=\"\",'Space Heating Worksheet'!Q53=\"\",'Space Heating Worksheet'!AH53=\"\"),\"Missing Info\",\"\"))","v":""},{"$f":"IF(AND('Space Heating Worksheet'!C53=\"\",'Space Heating Worksheet'!F53=\"\",'Space Heating Worksheet'!H53=\"\",'Space Heating Worksheet'!M53=\"\",'Space Heating Worksheet'!O53=\"\",'Space Heating Worksheet'!Q53=\"\",'Space Heating Worksheet'!AH53=\"\"),\"\",IF(OR('Space Heating Worksheet'!C53=\"\",'Space Heating Worksheet'!F53=\"\",'Space Heating Worksheet'!H53=\"\",'Space Heating Worksheet'!M53=\"\",'Space Heating Worksheet'!O53=\"\",'Space Heating Worksheet'!Q53=\"\",'Space Heating Worksheet'!AH53=\"\"),\"Missing Info\",\"\"))","v":""},{"$f":"IF(Customer_Sector=\"Commercial\",Qualifying_Index!AF122,Qualifying_Index!AG122)","v":""}]
[3,{"$f":"IF('Space Heating Worksheet'!R35=\"\",\"\",IF(OR('Space Heating Worksheet'!H35=\"Single Stage\",NOT(ISNUMBER('Space Heating Worksheet'!T35))),'Space Heating Worksheet'!R35,'Space Heating Worksheet'!R35*0.5+'Space Heating Worksheet'!T35*0.5))","v":""},{"$f":"IF('Space Heating Worksheet'!H35=\"\",\"\",IF(OR('Space Heating Worksheet'!H35=\"Single Stage\",NOT(ISNUMBER('Space Heating Worksheet'!U35))),'Space Heating Worksheet'!S35,'Space Heating Worksheet'!S35*0.5+'Space Heating Worksheet'!U35*0.5))","v":""},{"$f":"IF('Space Heating Worksheet'!$F35=\"\",\"\",INDEX(References!CB$13:CB$21,MATCH('Space Heating Worksheet'!$F35,References!$CA$13:$CA$21,0)))","v":""},{"$f":"IF('Space Heating Worksheet'!$F35=\"\",\"\",INDEX(References!CC$13:CC$21,MATCH('Space Heating Worksheet'!$F35,References!$CA$13:$CA$21,0)))","v":""},{"$f":"IF('Space Heating Worksheet'!$F35=\"\",\"\",INDEX(References!CD$13:CD$21,MATCH('Space Heating Worksheet'!$F35,References!$CA$13:$CA$21,0)))","v":""},{"$f":"IF('Space Heating Worksheet'!$F35=\"\",\"\",INDEX(References!CE$13:CE$21,MATCH('Space Heating Worksheet'!$F35,References!$CA$13:$CA$21,0)))","v":""},{"$f":"IF('Space Heating Worksheet'!$F35=\"\",\"\",INDEX(References!CF$13:CF$21,MATCH('Space Heating Worksheet'!$F35,References!$CA$13:$CA$21,0)))","v":""},{"$f":"IF('Space Heating Worksheet'!$F35=\"\",\"\",INDEX(References!CG$13:CG$21,MATCH('Space Heating Worksheet'!$F35,References!$CA$13:$CA$21,0)))","v":""},"","",null,"",{"$f":"IF(M123=\"\",\"\",IF(M123=\"DNQ\",\"DNQ\",INDEX(References!$CO$3:$CO$22,MATCH('Space Heating Worksheet'!L35,References!$CN$3:$CN$22,0))*('Space Heating Worksheet'!M35/12000)))","v":""},"",{"$f":"IF(N123=\"\",\"\",IF(N123=\"DNQ\",\"DNQ\",INDEX(References!$CP$3:$CP$22,MATCH('Space Heating Worksheet'!L35,References!$CN$3:$CN$22,0))))","v":""},{"$f":"IF(M123=\"\",\"\",IF(M123=\"DNQ\",\"DNQ\",IF('Site Information'!$C$6=\"New Construction\",800,1000)*('Space Heating Worksheet'!M35/12000)*References!$BX$23))","v":""},{"$f":"IF(COUNTIF($R$121:R122,200),100,200)","v":100},{"$f":"IF('Space Heating Worksheet'!U54=\"\",\"\",'Space Heating Worksheet'!U54)","v":""},{"$f":"IF('Space Heating Worksheet'!M35=\"\",\"\",'Space Heating Worksheet'!M35*0.75)","v":""},{"$f":"IF('Space Heating Worksheet'!M35=\"\",\"\",'Space Heating Worksheet'!M35*1.25)","v":""},{"$f":"IF('Space Heating Worksheet'!N35=\"\",\"\",'Space Heating Worksheet'!N35*0.75)","v":""},{"$f":"IF('Space Heating Worksheet'!N35=\"\",\"\",'Space Heating Worksheet'!N35*1.25)","v":""},{"$f":"IF('Space Heating Worksheet'!O35=\"\",\"\",IF(ISNUMBER('Space Heating Worksheet'!O35),'Space Heating Worksheet'!O35*0.75,0))","v":""},{"$f":"IF('Space Heating Worksheet'!O35=\"\",\"\",IF(ISNUMBER('Space Heating Worksheet'!O35),'Space Heating Worksheet'!O35*1.25,0))","v":""},{"$f":"IF(AND(T123=\"\",U123=\"\"),\"\",IF(AND('Space Heating Worksheet'!AH54>=T123,'Space Heating Worksheet'!AH54<=U123),\"PASS\",\"FAIL\"))","v":""},{"$f":"IF(AND(X123=\"\",Y123=\"\"),\"\",IF(AND('Space Heating Worksheet'!AH54>=X123,'Space Heating Worksheet'!AH54<=Y123),\"PASS\",\"FAIL\"))","v":""},"",{"$f":"IF(AND(V123=\"\",W123=\"\"),\"\",IF(AND('Space Heating Worksheet'!AI54>=V123,'Space Heating Worksheet'!AI54<=W123),\"PASS\",\"FAIL\"))","v":""},"",null,{"$f":"IF(AND('Space Heating Worksheet'!C54=\"\",'Space Heating Worksheet'!F54=\"\",'Space Heating Worksheet'!H54=\"\",'Space Heating Worksheet'!M54=\"\",'Space Heating Worksheet'!O54=\"\",'Space Heating Worksheet'!Q54=\"\",'Space Heating Worksheet'!AH54=\"\"),\"\",IF(OR('Space Heating Worksheet'!C54=\"\",'Space Heating Worksheet'!F54=\"\",'Space Heating Worksheet'!H54=\"\",'Space Heating Worksheet'!M54=\"\",'Space Heating Worksheet'!O54=\"\",'Space Heating Worksheet'!Q54=\"\",'Space Heating Worksheet'!AH54=\"\"),\"Missing Info\",\"\"))","v":""},{"$f":"IF(AND('Space Heating Worksheet'!C54=\"\",'Space Heating Worksheet'!F54=\"\",'Space Heating Worksheet'!H54=\"\",'Space Heating Worksheet'!M54=\"\",'Space Heating Worksheet'!O54=\"\",'Space Heating Worksheet'!Q54=\"\",'Space Heating Worksheet'!AH54=\"\"),\"\",IF(OR('Space Heating Worksheet'!C54=\"\",'Space Heating Worksheet'!F54=\"\",'Space Heating Worksheet'!H54=\"\",'Space Heating Worksheet'!M54=\"\",'Space Heating Worksheet'!O54=\"\",'Space Heating Worksheet'!Q54=\"\",'Space Heating Worksheet'!AH54=\"\"),\"Missing Info\",\"\"))","v":""},{"$f":"IF(Customer_Sector=\"Commercial\",Qualifying_Index!AF123,Qualifying_Index!AG123)","v":""}]
[4,{"$f":"IF('Space Heating Worksheet'!R36=\"\",\"\",IF(OR('Space Heating Worksheet'!H36=\"Single Stage\",NOT(ISNUMBER('Space Heating Worksheet'!T36))),'Space Heating Worksheet'!R36,'Space Heating Worksheet'!R36*0.5+'Space Heating Worksheet'!T36*0.5))","v":""},{"$f":"IF('Space Heating Worksheet'!H36=\"\",\"\",IF(OR('Space Heating Worksheet'!H36=\"Single Stage\",NOT(ISNUMBER('Space Heating Worksheet'!U36))),'Space Heating Worksheet'!S36,'Space Heating Worksheet'!S36*0.5+'Space Heating Worksheet'!U36*0.5))","v":""},{"$f":"IF('Space Heating Worksheet'!$F36=\"\",\"\",INDEX(References!CB$13:CB$21,MATCH('Space Heating Worksheet'!$F36,References!$CA$13:$CA$21,0)))","v":""},{"$f":"IF('Space Heating Worksheet'!$F36=\"\",\"\",INDEX(References!CC$13:CC$21,MATCH('Space Heating Worksheet'!$F36,References!$CA$13:$CA$21,0)))","v":""},{"$f":"IF('Space Heating Worksheet'!$F36=\"\",\"\",INDEX(References!CD$13:CD$21,MATCH('Space Heating Worksheet'!$F36,References!$CA$13:$CA$21,0)))","v":""},{"$f":"IF('Space Heating Worksheet'!$F36=\"\",\"\",INDEX(References!CE$13:CE$21,MATCH('Space Heating Worksheet'!$F36,References!$CA$13:$CA$21,0)))","v":""},{"$f":"IF('Space Heating Worksheet'!$F36=\"\",\"\",INDEX(References!CF$13:CF$21,MATCH('Space Heating Worksheet'!$F36,References!$CA$13:$CA$21,0)))","v":""},{"$f":"IF('Space Heating Worksheet'!$F36=\"\",\"\",INDEX(References!CG$13:CG$21,MATCH('Space Heating Worksheet'!$F36,References!$CA$13:$CA$21,0)))","v":""},"","",null,"",{"$f":"IF(M124=\"\",\"\",IF(M124=\"DNQ\",\"DNQ\",INDEX(References!$CO$3:$CO$22,MATCH('Space Heating Worksheet'!L36,References!$CN$3:$CN$22,0))*('Space Heating Worksheet'!M36/12000)))","v":""},"",{"$f":"IF(N124=\"\",\"\",IF(N124=\"DNQ\",\"DNQ\",INDEX(References!$CP$3:$CP$22,MATCH('Space Heating Worksheet'!L36,References!$CN$3:$CN$22,0))))","v":""},{"$f":"IF(M124=\"\",\"\",IF(M124=\"DNQ\",\"DNQ\",IF('Site Information'!$C$6=\"New Construction\",800,1000)*('Space Heating Worksheet'!M36/12000)*References!$BX$23))","v":""},{"$f":"IF(COUNTIF($R$121:R123,200),100,200)","v":100},{"$f":"IF('Space Heating Worksheet'!U55=\"\",\"\",'Space Heating Worksheet'!U55)","v":""},{"$f":"IF('Space Heating Worksheet'!M36=\"\",\"\",'Space Heating Worksheet'!M36*0.75)","v":""},{"$f":"IF('Space Heating Worksheet'!M36=\"\",\"\",'Space Heating Worksheet'!M36*1.25)","v":""},{"$f":"IF('Space Heating Worksheet'!N36=\"\",\"\",'Space Heating Worksheet'!N36*0.75)","v":""},{"$f":"IF('Space Heating Worksheet'!N36=\"\",\"\",'Space Heating Worksheet'!N36*1.25)","v":""},{"$f":"IF('Space Heating Worksheet'!O36=\"\",\"\",IF(ISNUMBER('Space Heating Worksheet'!O36),'Space Heating Worksheet'!O36*0.75,0))","v":""},{"$f":"IF('Space Heating Worksheet'!O36=\"\",\"\",IF(ISNUMBER('Space Heating Worksheet'!O36),'Space Heating Worksheet'!O36*1.25,0))","v":""},{"$f":"IF(AND(T124=\"\",U124=\"\"),\"\",IF(AND('Space Heating Worksheet'!AH55>=T124,'Space Heating Worksheet'!AH55<=U124),\"PASS\",\"FAIL\"))","v":""},{"$f":"IF(AND(X124=\"\",Y124=\"\"),\"\",IF(AND('Space Heating Worksheet'!AH55>=X124,'Space Heating Worksheet'!AH55<=Y124),\"PASS\",\"FAIL\"))","v":""},"",{"$f":"IF(AND(V124=\"\",W124=\"\"),\"\",IF(AND('Space Heating Worksheet'!AI55>=V124,'Space Heating Worksheet'!AI55<=W124),\"PASS\",\"FAIL\"))","v":""},"",null,{"$f":"IF(AND('Space Heating Worksheet'!C55=\"\",'Space Heating Worksheet'!F55=\"\",'Space Heating Worksheet'!H55=\"\",'Space Heating Worksheet'!M55=\"\",'Space Heating Worksheet'!O55=\"\",'Space Heating Worksheet'!Q55=\"\",'Space Heating Worksheet'!AH55=\"\"),\"\",IF(OR('Space Heating Worksheet'!C55=\"\",'Space Heating Worksheet'!F55=\"\",'Space Heating Worksheet'!H55=\"\",'Space Heating Worksheet'!M55=\"\",'Space Heating Worksheet'!O55=\"\",'Space Heating Worksheet'!Q55=\"\",'Space Heating Worksheet'!AH55=\"\"),\"Missing Info\",\"\"))","v":""},{"$f":"IF(AND('Space Heating Worksheet'!C55=\"\",'Space Heating Worksheet'!F55=\"\",'Space Heating Worksheet'!H55=\"\",'Space Heating Worksheet'!M55=\"\",'Space Heating Worksheet'!O55=\"\",'Space Heating Worksheet'!Q55=\"\",'Space Heating Worksheet'!AH55=\"\"),\"\",IF(OR('Space Heating Worksheet'!C55=\"\",'Space Heating Worksheet'!F55=\"\",'Space Heating Worksheet'!H55=\"\",'Space Heating Worksheet'!M55=\"\",'Space Heating Worksheet'!O55=\"\",'Space Heating Worksheet'!Q55=\"\",'Space Heating Worksheet'!AH55=\"\"),\"Missing Info\",\"\"))","v":""},{"$f":"IF(Customer_Sector=\"Commercial\",Qualifying_Index!AF124,Qualifying_Index!AG124)","v":""}]
[5,{"$f":"IF('Space Heating Worksheet'!R37=\"\",\"\",IF(OR('Space Heating Worksheet'!H37=\"Single Stage\",NOT(ISNUMBER('Space Heating Worksheet'!T37))),'Space Heating Worksheet'!R37,'Space Heating Worksheet'!R37*0.5+'Space Heating Worksheet'!T37*0.5))","v":""},{"$f":"IF('Space Heating Worksheet'!H37=\"\",\"\",IF(OR('Space Heating Worksheet'!H37=\"Single Stage\",NOT(ISNUMBER('Space Heating Worksheet'!U37))),'Space Heating Worksheet'!S37,'Space Heating Worksheet'!S37*0.5+'Space Heating Worksheet'!U37*0.5))","v":""},{"$f":"IF('Space Heating Worksheet'!$F37=\"\",\"\",INDEX(References!CB$13:CB$21,MATCH('Space Heating Worksheet'!$F37,References!$CA$13:$CA$21,0)))","v":""},{"$f":"IF('Space Heating Worksheet'!$F37=\"\",\"\",INDEX(References!CC$13:CC$21,MATCH('Space Heating Worksheet'!$F37,References!$CA$13:$CA$21,0)))","v":""},{"$f":"IF('Space Heating Worksheet'!$F37=\"\",\"\",INDEX(References!CD$13:CD$21,MATCH('Space Heating Worksheet'!$F37,References!$CA$13:$CA$21,0)))","v":""},{"$f":"IF('Space Heating Worksheet'!$F37=\"\",\"\",INDEX(References!CE$13:CE$21,MATCH('Space Heating Worksheet'!$F37,References!$CA$13:$CA$21,0)))","v":""},{"$f":"IF('Space Heating Worksheet'!$F37=\"\",\"\",INDEX(References!CF$13:CF$21,MATCH('Space Heating Worksheet'!$F37,References!$CA$13:$CA$21,0)))","v":""},{"$f":"IF('Space Heating Worksheet'!$F37=\"\",\"\",INDEX(References!CG$13:CG$21,MATCH('Space Heating Worksheet'!$F37,References!$CA$13:$CA$21,0)))","v":""},"","",null,"",{"$f":"IF(M125=\"\",\"\",IF(M125=\"DNQ\",\"DNQ\",INDEX(References!$CO$3:$CO$22,MATCH('Space Heating Worksheet'!L37,References!$CN$3:$CN$22,0))*('Space Heating Worksheet'!M37/12000)))","v":""},"",{"$f":"IF(N125=\"\",\"\",IF(N125=\"DNQ\",\"DNQ\",INDEX(References!$CP$3:$CP$22,MATCH('Space Heating Worksheet'!L37,References!$CN$3:$CN$22,0))))","v":""},{"$f":"IF(M125=\"\",\"\",IF(M125=\"DNQ\",\"DNQ\",IF('Site Information'!$C$6=\"New Construction\",800,1000)*('Space Heating Worksheet'!M37/12000)*References!$BX$23))","v":""},{"$f":"IF(COUNTIF($R$121:R124,200),100,200)","v":100},{"$f":"IF('Space Heating Worksheet'!U56=\"\",\"\",'Space Heating Worksheet'!U56)","v":""},{"$f":"IF('Space Heating Worksheet'!M37=\"\",\"\",'Space Heating Worksheet'!M37*0.75)","v":""},{"$f":"IF('Space Heating Worksheet'!M37=\"\",\"\",'Space Heating Worksheet'!M37*1.25)","v":""},{"$f":"IF('Space Heating Worksheet'!N37=\"\",\"\",'Space Heating Worksheet'!N37*0.75)","v":""},{"$f":"IF('Space Heating Worksheet'!N37=\"\",\"\",'Space Heating Worksheet'!N37*1.25)","v":""},{"$f":"IF('Space Heating Worksheet'!O37=\"\",\"\",IF(ISNUMBER('Space Heating Worksheet'!O37),'Space Heating Worksheet'!O37*0.75,0))","v":""},{"$f":"IF('Space Heating Worksheet'!O37=\"\",\"\",IF(ISNUMBER('Space Heating Worksheet'!O37),'Space Heating Worksheet'!O37*1.25,0))","v":""},{"$f":"IF(AND(T125=\"\",U125=\"\"),\"\",IF(AND('Space Heating Worksheet'!AH56>=T125,'Space Heating Worksheet'!AH56<=U125),\"PASS\",\"FAIL\"))","v":""},{"$f":"IF(AND(X125=\"\",Y125=\"\"),\"\",IF(AND('Space Heating Worksheet'!AH56>=X125,'Space Heating Worksheet'!AH56<=Y125),\"PASS\",\"FAIL\"))","v":""},"",{"$f":"IF(AND(V125=\"\",W125=\"\"),\"\",IF(AND('Space Heating Worksheet'!AI56>=V125,'Space Heating Worksheet'!AI56<=W125),\"PASS\",\"FAIL\"))","v":""},"",null,{"$f":"IF(AND('Space Heating Worksheet'!C56=\"\",'Space Heating Worksheet'!F56=\"\",'Space Heating Worksheet'!H56=\"\",'Space Heating Worksheet'!M56=\"\",'Space Heating Worksheet'!O56=\"\",'Space Heating Worksheet'!Q56=\"\",'Space Heating Worksheet'!AH56=\"\"),\"\",IF(OR('Space Heating Worksheet'!C56=\"\",'Space Heating Worksheet'!F56=\"\",'Space Heating Worksheet'!H56=\"\",'Space Heating Worksheet'!M56=\"\",'Space Heating Worksheet'!O56=\"\",'Space Heating Worksheet'!Q56=\"\",'Space Heating Worksheet'!AH56=\"\"),\"Missing Info\",\"\"))","v":""},{"$f":"IF(AND('Space Heating Worksheet'!C56=\"\",'Space Heating Worksheet'!F56=\"\",'Space Heating Worksheet'!H56=\"\",'Space Heating Worksheet'!M56=\"\",'Space Heating Worksheet'!O56=\"\",'Space Heating Worksheet'!Q56=\"\",'Space Heating Worksheet'!AH56=\"\"),\"\",IF(OR('Space Heating Worksheet'!C56=\"\",'Space Heating Worksheet'!F56=\"\",'Space Heating Worksheet'!H56=\"\",'Space Heating Worksheet'!M56=\"\",'Space Heating Worksheet'!O56=\"\",'Space Heating Worksheet'!Q56=\"\",'Space Heating Worksheet'!AH56=\"\"),\"Missing Info\",\"\"))","v":""},{"$f":"IF(Customer_Sector=\"Commercial\",Qualifying_Index!AF125,Qualifying_Index!AG125)","v":""}]
[6,{"$f":"IF('Space Heating Worksheet'!R38=\"\",\"\",IF(OR('Space Heating Worksheet'!H38=\"Single Stage\",NOT(ISNUMBER('Space Heating Worksheet'!T38))),'Space Heating Worksheet'!R38,'Space Heating Worksheet'!R38*0.5+'Space Heating Worksheet'!T38*0.5))","v":""},{"$f":"IF('Space Heating Worksheet'!H38=\"\",\"\",IF(OR('Space Heating Worksheet'!H38=\"Single Stage\",NOT(ISNUMBER('Space Heating Worksheet'!U38))),'Space Heating Worksheet'!S38,'Space Heating Worksheet'!S38*0.5+'Space Heating Worksheet'!U38*0.5))","v":""},{"$f":"IF('Space Heating Worksheet'!$F38=\"\",\"\",INDEX(References!CB$13:CB$21,MATCH('Space Heating Worksheet'!$F38,References!$CA$13:$CA$21,0)))","v":""},{"$f":"IF('Space Heating Worksheet'!$F38=\"\",\"\",INDEX(References!CC$13:CC$21,MATCH('Space Heating Worksheet'!$F38,References!$CA$13:$CA$21,0)))","v":""},{"$f":"IF('Space Heating Worksheet'!$F38=\"\",\"\",INDEX(References!CD$13:CD$21,MATCH('Space Heating Worksheet'!$F38,References!$CA$13:$CA$21,0)))","v":""},{"$f":"IF('Space Heating Worksheet'!$F38=\"\",\"\",INDEX(References!CE$13:CE$21,MATCH('Space Heating Worksheet'!$F38,References!$CA$13:$CA$21,0)))","v":""},{"$f":"IF('Space Heating Worksheet'!$F38=\"\",\"\",INDEX(References!CF$13:CF$21,MATCH('Space Heating Worksheet'!$F38,References!$CA$13:$CA$21,0)))","v":""},{"$f":"IF('Space Heating Worksheet'!$F38=\"\",\"\",INDEX(References!CG$13:CG$21,MATCH('Space Heating Worksheet'!$F38,References!$CA$13:$CA$21,0)))","v":""},"","",null,"",{"$f":"IF(M126=\"\",\"\",IF(M126=\"DNQ\",\"DNQ\",INDEX(References!$CO$3:$CO$22,MATCH('Space Heating Worksheet'!L38,References!$CN$3:$CN$22,0))*('Space Heating Worksheet'!M38/12000)))","v":""},"",{"$f":"IF(N126=\"\",\"\",IF(N126=\"DNQ\",\"DNQ\",INDEX(References!$CP$3:$CP$22,MATCH('Space Heating Worksheet'!L38,References!$CN$3:$CN$22,0))))","v":""},{"$f":"IF(M126=\"\",\"\",IF(M126=\"DNQ\",\"DNQ\",IF('Site Information'!$C$6=\"New Construction\",800,1000)*('Space Heating Worksheet'!M38/12000)*References!$BX$23))","v":""},{"$f":"IF(COUNTIF($R$121:R125,200),100,200)","v":100},{"$f":"IF('Space Heating Worksheet'!U57=\"\",\"\",'Space Heating Worksheet'!U57)","v":""},{"$f":"IF('Space Heating Worksheet'!M38=\"\",\"\",'Space Heating Worksheet'!M38*0.75)","v":""},{"$f":"IF('Space Heating Worksheet'!M38=\"\",\"\",'Space Heating Worksheet'!M38*1.25)","v":""},{"$f":"IF('Space Heating Worksheet'!N38=\"\",\"\",'Space Heating Worksheet'!N38*0.75)","v":""},{"$f":"IF('Space Heating Worksheet'!N38=\"\",\"\",'Space Heating Worksheet'!N38*1.25)","v":""},{"$f":"IF('Space Heating Worksheet'!O38=\"\",\"\",IF(ISNUMBER('Space Heating Worksheet'!O38),'Space Heating Worksheet'!O38*0.75,0))","v":""},{"$f":"IF('Space Heating Worksheet'!O38=\"\",\"\",IF(ISNUMBER('Space Heating Worksheet'!O38),'Space Heating Worksheet'!O38*1.25,0))","v":""},{"$f":"IF(AND(T126=\"\",U126=\"\"),\"\",IF(AND('Space Heating Worksheet'!AH57>=T126,'Space Heating Worksheet'!AH57<=U126),\"PASS\",\"FAIL\"))","v":""},{"$f":"IF(AND(X126=\"\",Y126=\"\"),\"\",IF(AND('Space Heating Worksheet'!AH57>=X126,'Space Heating Worksheet'!AH57<=Y126),\"PASS\",\"FAIL\"))","v":""},"",{"$f":"IF(AND(V126=\"\",W126=\"\"),\"\",IF(AND('Space Heating Worksheet'!AI57>=V126,'Space Heating Worksheet'!AI57<=W126),\"PASS\",\"FAIL\"))","v":""},"",null,{"$f":"IF(AND('Space Heating Worksheet'!C57=\"\",'Space Heating Worksheet'!F57=\"\",'Space Heating Worksheet'!H57=\"\",'Space Heating Worksheet'!M57=\"\",'Space Heating Worksheet'!O57=\"\",'Space Heating Worksheet'!Q57=\"\",'Space Heating Worksheet'!AH57=\"\"),\"\",IF(OR('Space Heating Worksheet'!C57=\"\",'Space Heating Worksheet'!F57=\"\",'Space Heating Worksheet'!H57=\"\",'Space Heating Worksheet'!M57=\"\",'Space Heating Worksheet'!O57=\"\",'Space Heating Worksheet'!Q57=\"\",'Space Heating Worksheet'!AH57=\"\"),\"Missing Info\",\"\"))","v":""},{"$f":"IF(AND('Space Heating Worksheet'!C57=\"\",'Space Heating Worksheet'!F57=\"\",'Space Heating Worksheet'!H57=\"\",'Space Heating Worksheet'!M57=\"\",'Space Heating Worksheet'!O57=\"\",'Space Heating Worksheet'!Q57=\"\",'Space Heating Worksheet'!AH57=\"\"),\"\",IF(OR('Space Heating Worksheet'!C57=\"\",'Space Heating Worksheet'!F57=\"\",'Space Heating Worksheet'!H57=\"\",'Space Heating Worksheet'!M57=\"\",'Space Heating Worksheet'!O57=\"\",'Space Heating Worksheet'!Q57=\"\",'Space Heating Worksheet'!AH57=\"\"),\"Missing Info\",\"\"))","v":""},{"$f":"IF(Customer_Sector=\"Commercial\",Qualifying_Index!AF126,Qualifying_Index!AG126)","v":""}]
[7,{"$f":"IF('Space Heating Worksheet'!R39=\"\",\"\",IF(OR('Space Heating Worksheet'!H39=\"Single Stage\",NOT(ISNUMBER('Space Heating Worksheet'!T39))),'Space Heating Worksheet'!R39,'Space Heating Worksheet'!R39*0.5+'Space Heating Worksheet'!T39*0.5))","v":""},{"$f":"IF('Space Heating Worksheet'!H39=\"\",\"\",IF(OR('Space Heating Worksheet'!H39=\"Single Stage\",NOT(ISNUMBER('Space Heating Worksheet'!U39))),'Space Heating Worksheet'!S39,'Space Heating Worksheet'!S39*0.5+'Space Heating Worksheet'!U39*0.5))","v":""},{"$f":"IF('Space Heating Worksheet'!$F39=\"\",\"\",INDEX(References!CB$13:CB$21,MATCH('Space Heating Worksheet'!$F39,References!$CA$13:$CA$21,0)))","v":""},{"$f":"IF('Space Heating Worksheet'!$F39=\"\",\"\",INDEX(References!CC$13:CC$21,MATCH('Space Heating Worksheet'!$F39,References!$CA$13:$CA$21,0)))","v":""},{"$f":"IF('Space Heating Worksheet'!$F39=\"\",\"\",INDEX(References!CD$13:CD$21,MATCH('Space Heating Worksheet'!$F39,References!$CA$13:$CA$21,0)))","v":""},{"$f":"IF('Space Heating Worksheet'!$F39=\"\",\"\",INDEX(References!CE$13:CE$21,MATCH('Space Heating Worksheet'!$F39,References!$CA$13:$CA$21,0)))","v":""},{"$f":"IF('Space Heating Worksheet'!$F39=\"\",\"\",INDEX(References!CF$13:CF$21,MATCH('Space Heating Worksheet'!$F39,References!$CA$13:$CA$21,0)))","v":""},{"$f":"IF('Space Heating Worksheet'!$F39=\"\",\"\",INDEX(References!CG$13:CG$21,MATCH('Space Heating Worksheet'!$F39,References!$CA$13:$CA$21,0)))","v":""},"","",null,"",{"$f":"IF(M127=\"\",\"\",IF(M127=\"DNQ\",\"DNQ\",INDEX(References!$CO$3:$CO$22,MATCH('Space Heating Worksheet'!L39,References!$CN$3:$CN$22,0))*('Space Heating Worksheet'!M39/12000)))","v":""},"",{"$f":"IF(N127=\"\",\"\",IF(N127=\"DNQ\",\"DNQ\",INDEX(References!$CP$3:$CP$22,MATCH('Space Heating Worksheet'!L39,References!$CN$3:$CN$22,0))))","v":""},{"$f":"IF(M127=\"\",\"\",IF(M127=\"DNQ\",\"DNQ\",IF('Site Information'!$C$6=\"New Construction\",800,1000)*('Space Heating Worksheet'!M39/12000)*References!$BX$23))","v":""},{"$f":"IF(COUNTIF($R$121:R126,200),100,200)","v":100},{"$f":"IF('Space Heating Worksheet'!U58=\"\",\"\",'Space Heating Worksheet'!U58)","v":""},{"$f":"IF('Space Heating Worksheet'!M39=\"\",\"\",'Space Heating Worksheet'!M39*0.75)","v":""},{"$f":"IF('Space Heating Worksheet'!M39=\"\",\"\",'Space Heating Worksheet'!M39*1.25)","v":""},{"$f":"IF('Space Heating Worksheet'!N39=\"\",\"\",'Space Heating Worksheet'!N39*0.75)","v":""},{"$f":"IF('Space Heating Worksheet'!N39=\"\",\"\",'Space Heating Worksheet'!N39*1.25)","v":""},{"$f":"IF('Space Heating Worksheet'!O39=\"\",\"\",IF(ISNUMBER('Space Heating Worksheet'!O39),'Space Heating Worksheet'!O39*0.75,0))","v":""},{"$f":"IF('Space Heating Worksheet'!O39=\"\",\"\",IF(ISNUMBER('Space Heating Worksheet'!O39),'Space Heating Worksheet'!O39*1.25,0))","v":""},{"$f":"IF(AND(T127=\"\",U127=\"\"),\"\",IF(AND('Space Heating Worksheet'!AH58>=T127,'Space Heating Worksheet'!AH58<=U127),\"PASS\",\"FAIL\"))","v":""},{"$f":"IF(AND(X127=\"\",Y127=\"\"),\"\",IF(AND('Space Heating Worksheet'!AH58>=X127,'Space Heating Worksheet'!AH58<=Y127),\"PASS\",\"FAIL\"))","v":""},"",{"$f":"IF(AND(V127=\"\",W127=\"\"),\"\",IF(AND('Space Heating Worksheet'!AI58>=V127,'Space Heating Worksheet'!AI58<=W127),\"PASS\",\"FAIL\"))","v":""},"",null,{"$f":"IF(AND('Space Heating Worksheet'!C58=\"\",'Space Heating Worksheet'!F58=\"\",'Space Heating Worksheet'!H58=\"\",'Space Heating Worksheet'!M58=\"\",'Space Heating Worksheet'!O58=\"\",'Space Heating Worksheet'!Q58=\"\",'Space Heating Worksheet'!AH58=\"\"),\"\",IF(OR('Space Heating Worksheet'!C58=\"\",'Space Heating Worksheet'!F58=\"\",'Space Heating Worksheet'!H58=\"\",'Space Heating Worksheet'!M58=\"\",'Space Heating Worksheet'!O58=\"\",'Space Heating Worksheet'!Q58=\"\",'Space Heating Worksheet'!AH58=\"\"),\"Missing Info\",\"\"))","v":""},{"$f":"IF(AND('Space Heating Worksheet'!C58=\"\",'Space Heating Worksheet'!F58=\"\",'Space Heating Worksheet'!H58=\"\",'Space Heating Worksheet'!M58=\"\",'Space Heating Worksheet'!O58=\"\",'Space Heating Worksheet'!Q58=\"\",'Space Heating Worksheet'!AH58=\"\"),\"\",IF(OR('Space Heating Worksheet'!C58=\"\",'Space Heating Worksheet'!F58=\"\",'Space Heating Worksheet'!H58=\"\",'Space Heating Worksheet'!M58=\"\",'Space Heating Worksheet'!O58=\"\",'Space Heating Worksheet'!Q58=\"\",'Space Heating Worksheet'!AH58=\"\"),\"Missing Info\",\"\"))","v":""},{"$f":"IF(Customer_Sector=\"Commercial\",Qualifying_Index!AF127,Qualifying_Index!AG127)","v":""}]
[8,{"$f":"IF('Space Heating Worksheet'!R40=\"\",\"\",IF(OR('Space Heating Worksheet'!H40=\"Single Stage\",NOT(ISNUMBER('Space Heating Worksheet'!T40))),'Space Heating Worksheet'!R40,'Space Heating Worksheet'!R40*0.5+'Space Heating Worksheet'!T40*0.5))","v":""},{"$f":"IF('Space Heating Worksheet'!H40=\"\",\"\",IF(OR('Space Heating Worksheet'!H40=\"Single Stage\",NOT(ISNUMBER('Space Heating Worksheet'!U40))),'Space Heating Worksheet'!S40,'Space Heating Worksheet'!S40*0.5+'Space Heating Worksheet'!U40*0.5))","v":""},{"$f":"IF('Space Heating Worksheet'!$F40=\"\",\"\",INDEX(References!CB$13:CB$21,MATCH('Space Heating Worksheet'!$F40,References!$CA$13:$CA$21,0)))","v":""},{"$f":"IF('Space Heating Worksheet'!$F40=\"\",\"\",INDEX(References!CC$13:CC$21,MATCH('Space Heating Worksheet'!$F40,References!$CA$13:$CA$21,0)))","v":""},{"$f":"IF('Space Heating Worksheet'!$F40=\"\",\"\",INDEX(References!CD$13:CD$21,MATCH('Space Heating Worksheet'!$F40,References!$CA$13:$CA$21,0)))","v":""},{"$f":"IF('Space Heating Worksheet'!$F40=\"\",\"\",INDEX(References!CE$13:CE$21,MATCH('Space Heating Worksheet'!$F40,References!$CA$13:$CA$21,0)))","v":""},{"$f":"IF('Space Heating Worksheet'!$F40=\"\",\"\",INDEX(References!CF$13:CF$21,MATCH('Space Heating Worksheet'!$F40,References!$CA$13:$CA$21,0)))","v":""},{"$f":"IF('Space Heating Worksheet'!$F40=\"\",\"\",INDEX(References!CG$13:CG$21,MATCH('Space Heating Worksheet'!$F40,References!$CA$13:$CA$21,0)))","v":""},"","",null,"",{"$f":"IF(M128=\"\",\"\",IF(M128=\"DNQ\",\"DNQ\",INDEX(References!$CO$3:$CO$22,MATCH('Space Heating Worksheet'!L40,References!$CN$3:$CN$22,0))*('Space Heating Worksheet'!M40/12000)))","v":""},"",{"$f":"IF(N128=\"\",\"\",IF(N128=\"DNQ\",\"DNQ\",INDEX(References!$CP$3:$CP$22,MATCH('Space Heating Worksheet'!L40,References!$CN$3:$CN$22,0))))","v":""},{"$f":"IF(M128=\"\",\"\",IF(M128=\"DNQ\",\"DNQ\",IF('Site Information'!$C$6=\"New Construction\",800,1000)*('Space Heating Worksheet'!M40/12000)*References!$BX$23))","v":""},{"$f":"IF(COUNTIF($R$121:R127,200),100,200)","v":100},{"$f":"IF('Space Heating Worksheet'!U59=\"\",\"\",'Space Heating Worksheet'!U59)","v":""},{"$f":"IF('Space Heating Worksheet'!M40=\"\",\"\",'Space Heating Worksheet'!M40*0.75)","v":""},{"$f":"IF('Space Heating Worksheet'!M40=\"\",\"\",'Space Heating Worksheet'!M40*1.25)","v":""},{"$f":"IF('Space Heating Worksheet'!N40=\"\",\"\",'Space Heating Worksheet'!N40*0.75)","v":""},{"$f":"IF('Space Heating Worksheet'!N40=\"\",\"\",'Space Heating Worksheet'!N40*1.25)","v":""},{"$f":"IF('Space Heating Worksheet'!O40=\"\",\"\",IF(ISNUMBER('Space Heating Worksheet'!O40),'Space Heating Worksheet'!O40*0.75,0))","v":""},{"$f":"IF('Space Heating Worksheet'!O40=\"\",\"\",IF(ISNUMBER('Space Heating Worksheet'!O40),'Space Heating Worksheet'!O40*1.25,0))","v":""},{"$f":"IF(AND(T128=\"\",U128=\"\"),\"\",IF(AND('Space Heating Worksheet'!AH59>=T128,'Space Heating Worksheet'!AH59<=U128),\"PASS\",\"FAIL\"))","v":""},{"$f":"IF(AND(X128=\"\",Y128=\"\"),\"\",IF(AND('Space Heating Worksheet'!AH59>=X128,'Space Heating Worksheet'!AH59<=Y128),\"PASS\",\"FAIL\"))","v":""},"",{"$f":"IF(AND(V128=\"\",W128=\"\"),\"\",IF(AND('Space Heating Worksheet'!AI59>=V128,'Space Heating Worksheet'!AI59<=W128),\"PASS\",\"FAIL\"))","v":""},"",null,{"$f":"IF(AND('Space Heating Worksheet'!C59=\"\",'Space Heating Worksheet'!F59=\"\",'Space Heating Worksheet'!H59=\"\",'Space Heating Worksheet'!M59=\"\",'Space Heating Worksheet'!O59=\"\",'Space Heating Worksheet'!Q59=\"\",'Space Heating Worksheet'!AH59=\"\"),\"\",IF(OR('Space Heating Worksheet'!C59=\"\",'Space Heating Worksheet'!F59=\"\",'Space Heating Worksheet'!H59=\"\",'Space Heating Worksheet'!M59=\"\",'Space Heating Worksheet'!O59=\"\",'Space Heating Worksheet'!Q59=\"\",'Space Heating Worksheet'!AH59=\"\"),\"Missing Info\",\"\"))","v":""},{"$f":"IF(AND('Space Heating Worksheet'!C59=\"\",'Space Heating Worksheet'!F59=\"\",'Space Heating Worksheet'!H59=\"\",'Space Heating Worksheet'!M59=\"\",'Space Heating Worksheet'!O59=\"\",'Space Heating Worksheet'!Q59=\"\",'Space Heating Worksheet'!AH59=\"\"),\"\",IF(OR('Space Heating Worksheet'!C59=\"\",'Space Heating Worksheet'!F59=\"\",'Space Heating Worksheet'!H59=\"\",'Space Heating Worksheet'!M59=\"\",'Space Heating Worksheet'!O59=\"\",'Space Heating Worksheet'!Q59=\"\",'Space Heating Worksheet'!AH59=\"\"),\"Missing Info\",\"\"))","v":""},{"$f":"IF(Customer_Sector=\"Commercial\",Qualifying_Index!AF128,Qualifying_Index!AG128)","v":""}]
[9,{"$f":"IF('Space Heating Worksheet'!R41=\"\",\"\",IF(OR('Space Heating Worksheet'!H41=\"Single Stage\",NOT(ISNUMBER('Space Heating Worksheet'!T41))),'Space Heating Worksheet'!R41,'Space Heating Worksheet'!R41*0.5+'Space Heating Worksheet'!T41*0.5))","v":""},{"$f":"IF('Space Heating Worksheet'!H41=\"\",\"\",IF(OR('Space Heating Worksheet'!H41=\"Single Stage\",NOT(ISNUMBER('Space Heating Worksheet'!U41))),'Space Heating Worksheet'!S41,'Space Heating Worksheet'!S41*0.5+'Space Heating Worksheet'!U41*0.5))","v":""},{"$f":"IF('Space Heating Worksheet'!$F41=\"\",\"\",INDEX(References!CB$13:CB$21,MATCH('Space Heating Worksheet'!$F41,References!$CA$13:$CA$21,0)))","v":""},{"$f":"IF('Space Heating Worksheet'!$F41=\"\",\"\",INDEX(References!CC$13:CC$21,MATCH('Space Heating Worksheet'!$F41,References!$CA$13:$CA$21,0)))","v":""},{"$f":"IF('Space Heating Worksheet'!$F41=\"\",\"\",INDEX(References!CD$13:CD$21,MATCH('Space Heating Worksheet'!$F41,References!$CA$13:$CA$21,0)))","v":""},{"$f":"IF('Space Heating Worksheet'!$F41=\"\",\"\",INDEX(References!CE$13:CE$21,MATCH('Space Heating Worksheet'!$F41,References!$CA$13:$CA$21,0)))","v":""},{"$f":"IF('Space Heating Worksheet'!$F41=\"\",\"\",INDEX(References!CF$13:CF$21,MATCH('Space Heating Worksheet'!$F41,References!$CA$13:$CA$21,0)))","v":""},{"$f":"IF('Space Heating Worksheet'!$F41=\"\",\"\",INDEX(References!CG$13:CG$21,MATCH('Space Heating Worksheet'!$F41,References!$CA$13:$CA$21,0)))","v":""},"","",null,"",{"$f":"IF(M129=\"\",\"\",IF(M129=\"DNQ\",\"DNQ\",INDEX(References!$CO$3:$CO$22,MATCH('Space Heating Worksheet'!L41,References!$CN$3:$CN$22,0))*('Space Heating Worksheet'!M41/12000)))","v":""},"",{"$f":"IF(N129=\"\",\"\",IF(N129=\"DNQ\",\"DNQ\",INDEX(References!$CP$3:$CP$22,MATCH('Space Heating Worksheet'!L41,References!$CN$3:$CN$22,0))))","v":""},{"$f":"IF(M129=\"\",\"\",IF(M129=\"DNQ\",\"DNQ\",IF('Site Information'!$C$6=\"New Construction\",800,1000)*('Space Heating Worksheet'!M41/12000)*References!$BX$23))","v":""},{"$f":"IF(COUNTIF($R$121:R128,200),100,200)","v":100},{"$f":"IF('Space Heating Worksheet'!U60=\"\",\"\",'Space Heating Worksheet'!U60)","v":""},{"$f":"IF('Space Heating Worksheet'!M41=\"\",\"\",'Space Heating Worksheet'!M41*0.75)","v":""},{"$f":"IF('Space Heating Worksheet'!M41=\"\",\"\",'Space Heating Worksheet'!M41*1.25)","v":""},{"$f":"IF('Space Heating Worksheet'!N41=\"\",\"\",'Space Heating Worksheet'!N41*0.75)","v":""},{"$f":"IF('Space Heating Worksheet'!N41=\"\",\"\",'Space Heating Worksheet'!N41*1.25)","v":""},{"$f":"IF('Space Heating Worksheet'!O41=\"\",\"\",IF(ISNUMBER('Space Heating Worksheet'!O41),'Space Heating Worksheet'!O41*0.75,0))","v":""},{"$f":"IF('Space Heating Worksheet'!O41=\"\",\"\",IF(ISNUMBER('Space Heating Worksheet'!O41),'Space Heating Worksheet'!O41*1.25,0))","v":""},{"$f":"IF(AND(T129=\"\",U129=\"\"),\"\",IF(AND('Space Heating Worksheet'!AH60>=T129,'Space Heating Worksheet'!AH60<=U129),\"PASS\",\"FAIL\"))","v":""},{"$f":"IF(AND(X129=\"\",Y129=\"\"),\"\",IF(AND('Space Heating Worksheet'!AH60>=X129,'Space Heating Worksheet'!AH60<=Y129),\"PASS\",\"FAIL\"))","v":""},"",{"$f":"IF(AND(V129=\"\",W129=\"\"),\"\",IF(AND('Space Heating Worksheet'!AI60>=V129,'Space Heating Worksheet'!AI60<=W129),\"PASS\",\"FAIL\"))","v":""},"",null,{"$f":"IF(AND('Space Heating Worksheet'!C60=\"\",'Space Heating Worksheet'!F60=\"\",'Space Heating Worksheet'!H60=\"\",'Space Heating Worksheet'!M60=\"\",'Space Heating Worksheet'!O60=\"\",'Space Heating Worksheet'!Q60=\"\",'Space Heating Worksheet'!AH60=\"\"),\"\",IF(OR('Space Heating Worksheet'!C60=\"\",'Space Heating Worksheet'!F60=\"\",'Space Heating Worksheet'!H60=\"\",'Space Heating Worksheet'!M60=\"\",'Space Heating Worksheet'!O60=\"\",'Space Heating Worksheet'!Q60=\"\",'Space Heating Worksheet'!AH60=\"\"),\"Missing Info\",\"\"))","v":""},{"$f":"IF(AND('Space Heating Worksheet'!C60=\"\",'Space Heating Worksheet'!F60=\"\",'Space Heating Worksheet'!H60=\"\",'Space Heating Worksheet'!M60=\"\",'Space Heating Worksheet'!O60=\"\",'Space Heating Worksheet'!Q60=\"\",'Space Heating Worksheet'!AH60=\"\"),\"\",IF(OR('Space Heating Worksheet'!C60=\"\",'Space Heating Worksheet'!F60=\"\",'Space Heating Worksheet'!H60=\"\",'Space Heating Worksheet'!M60=\"\",'Space Heating Worksheet'!O60=\"\",'Space Heating Worksheet'!Q60=\"\",'Space Heating Worksheet'!AH60=\"\"),\"Missing Info\",\"\"))","v":""},{"$f":"IF(Customer_Sector=\"Commercial\",Qualifying_Index!AF129,Qualifying_Index!AG129)","v":""}]
[10,{"$f":"IF('Space Heating Worksheet'!R42=\"\",\"\",IF(OR('Space Heating Worksheet'!H42=\"Single Stage\",NOT(ISNUMBER('Space Heating Worksheet'!T42))),'Space Heating Worksheet'!R42,'Space Heating Worksheet'!R42*0.5+'Space Heating Worksheet'!T42*0.5))","v":""},{"$f":"IF('Space Heating Worksheet'!H42=\"\",\"\",IF(OR('Space Heating Worksheet'!H42=\"Single Stage\",NOT(ISNUMBER('Space Heating Worksheet'!U42))),'Space Heating Worksheet'!S42,'Space Heating Worksheet'!S42*0.5+'Space Heating Worksheet'!U42*0.5))","v":""},{"$f":"IF('Space Heating Worksheet'!$F42=\"\",\"\",INDEX(References!CB$13:CB$21,MATCH('Space Heating Worksheet'!$F42,References!$CA$13:$CA$21,0)))","v":""},{"$f":"IF('Space Heating Worksheet'!$F42=\"\",\"\",INDEX(References!CC$13:CC$21,MATCH('Space Heating Worksheet'!$F42,References!$CA$13:$CA$21,0)))","v":""},{"$f":"IF('Space Heating Worksheet'!$F42=\"\",\"\",INDEX(References!CD$13:CD$21,MATCH('Space Heating Worksheet'!$F42,References!$CA$13:$CA$21,0)))","v":""},{"$f":"IF('Space Heating Worksheet'!$F42=\"\",\"\",INDEX(References!CE$13:CE$21,MATCH('Space Heating Worksheet'!$F42,References!$CA$13:$CA$21,0)))","v":""},{"$f":"IF('Space Heating Worksheet'!$F42=\"\",\"\",INDEX(References!CF$13:CF$21,MATCH('Space Heating Worksheet'!$F42,References!$CA$13:$CA$21,0)))","v":""},{"$f":"IF('Space Heating Worksheet'!$F42=\"\",\"\",INDEX(References!CG$13:CG$21,MATCH('Space Heating Worksheet'!$F42,References!$CA$13:$CA$21,0)))","v":""},"","",null,"",{"$f":"IF(M130=\"\",\"\",IF(M130=\"DNQ\",\"DNQ\",INDEX(References!$CO$3:$CO$22,MATCH('Space Heating Worksheet'!L42,References!$CN$3:$CN$22,0))*('Space Heating Worksheet'!M42/12000)))","v":""},"",{"$f":"IF(N130=\"\",\"\",IF(N130=\"DNQ\",\"DNQ\",INDEX(References!$CP$3:$CP$22,MATCH('Space Heating Worksheet'!L42,References!$CN$3:$CN$22,0))))","v":""},{"$f":"IF(M130=\"\",\"\",IF(M130=\"DNQ\",\"DNQ\",IF('Site Information'!$C$6=\"New Construction\",800,1000)*('Space Heating Worksheet'!M42/12000)*References!$BX$23))","v":""},{"$f":"IF(COUNTIF($R$121:R129,200),100,200)","v":100},{"$f":"IF('Space Heating Worksheet'!U61=\"\",\"\",'Space Heating Worksheet'!U61)","v":""},{"$f":"IF('Space Heating Worksheet'!M42=\"\",\"\",'Space Heating Worksheet'!M42*0.75)","v":""},{"$f":"IF('Space Heating Worksheet'!M42=\"\",\"\",'Space Heating Worksheet'!M42*1.25)","v":""},{"$f":"IF('Space Heating Worksheet'!N42=\"\",\"\",'Space Heating Worksheet'!N42*0.75)","v":""},{"$f":"IF('Space Heating Worksheet'!N42=\"\",\"\",'Space Heating Worksheet'!N42*1.25)","v":""},{"$f":"IF('Space Heating Worksheet'!O42=\"\",\"\",IF(ISNUMBER('Space Heating Worksheet'!O42),'Space Heating Worksheet'!O42*0.75,0))","v":""},{"$f":"IF('Space Heating Worksheet'!O42=\"\",\"\",IF(ISNUMBER('Space Heating Worksheet'!O42),'Space Heating Worksheet'!O42*1.25,0))","v":""},{"$f":"IF(AND(T130=\"\",U130=\"\"),\"\",IF(AND('Space Heating Worksheet'!AH61>=T130,'Space Heating Worksheet'!AH61<=U130),\"PASS\",\"FAIL\"))","v":""},{"$f":"IF(AND(X130=\"\",Y130=\"\"),\"\",IF(AND('Space Heating Worksheet'!AH61>=X130,'Space Heating Worksheet'!AH61<=Y130),\"PASS\",\"FAIL\"))","v":""},"",{"$f":"IF(AND(V130=\"\",W130=\"\"),\"\",IF(AND('Space Heating Worksheet'!AI61>=V130,'Space Heating Worksheet'!AI61<=W130),\"PASS\",\"FAIL\"))","v":""},"",null,{"$f":"IF(AND('Space Heating Worksheet'!C61=\"\",'Space Heating Worksheet'!F61=\"\",'Space Heating Worksheet'!H61=\"\",'Space Heating Worksheet'!M61=\"\",'Space Heating Worksheet'!O61=\"\",'Space Heating Worksheet'!Q61=\"\",'Space Heating Worksheet'!AH61=\"\"),\"\",IF(OR('Space Heating Worksheet'!C61=\"\",'Space Heating Worksheet'!F61=\"\",'Space Heating Worksheet'!H61=\"\",'Space Heating Worksheet'!M61=\"\",'Space Heating Worksheet'!O61=\"\",'Space Heating Worksheet'!Q61=\"\",'Space Heating Worksheet'!AH61=\"\"),\"Missing Info\",\"\"))","v":""},{"$f":"IF(AND('Space Heating Worksheet'!C61=\"\",'Space Heating Worksheet'!F61=\"\",'Space Heating Worksheet'!H61=\"\",'Space Heating Worksheet'!M61=\"\",'Space Heating Worksheet'!O61=\"\",'Space Heating Worksheet'!Q61=\"\",'Space Heating Worksheet'!AH61=\"\"),\"\",IF(OR('Space Heating Worksheet'!C61=\"\",'Space Heating Worksheet'!F61=\"\",'Space Heating Worksheet'!H61=\"\",'Space Heating Worksheet'!M61=\"\",'Space Heating Worksheet'!O61=\"\",'Space Heating Worksheet'!Q61=\"\",'Space Heating Worksheet'!AH61=\"\"),\"Missing Info\",\"\"))","v":""},{"$f":"IF(Customer_Sector=\"Commercial\",Qualifying_Index!AF130,Qualifying_Index!AG130)","v":""}]
[]
[]
[]
[]
["Unit Number","Application Type",null,"System Type",null,"Configuration",null,"Look Up",null,"COP","Qualifying COP",null,"Qualifying Tier","Incentives"]
["Unit Number",null,null,null,null,null,null,null,null,null,null,null,null,"Customer ","Contractor ","AEH Bonus"]
[1,{"$f":"IF('Dedicated Water Heating'!C30=\"\",\"\",'Dedicated Water Heating'!C30)","v":""},null,{"$f":"IF(B137=\"\",\"\",\"Water Heater\")","v":""},null,{"$f":"IF('Dedicated Water Heating'!F30=\"\",\"\",'Dedicated Water Heating'!F30)","v":""},null,{"$f":"B137&\" \"&D137&\" \"&F137","v":"  "},null,{"$f":"IF('Dedicated Water Heating'!M30=\"\",\"\",'Dedicated Water Heating'!M30)","v":""},{"$f":"IF(F137=\"\",\"\",INDEX(References!$CO$58:$CO$59,MATCH(F137,References!$CN$58:$CN$59,0)))","v":""},null,{"$f":"IF(OR(B137=\"\",F137=\"\",J137=\"\",K137=\"\"),\"\",IF(J137>=K137,\"Tier I\",\"DNQ\"))","v":""},{"$f":"IF($M137=\"\",\"\",INDEX(References!CO$3:CO$26,MATCH($H137,References!$CN$3:$CN$26,0)))","v":""},{"$f":"IF($H137=\"  \",\"\",INDEX(References!CP$3:CP$26,MATCH($H137,References!$CN$3:$CN$26,0)))","v":""},{"$f":"IF($M137=\"\",\"\",600*References!$BX$23)","v":""}]
[2,{"$f":"IF('Dedicated Water Heating'!C31=\"\",\"\",'Dedicated Water Heating'!C31)","v":""},null,"",null,{"$f":"IF('Dedicated Water Heating'!F31=\"\",\"\",'Dedicated Water Heating'!F31)","v":""},null,"  ",null,{"$f":"IF('Dedicated Water Heating'!M31=\"\",\"\",'Dedicated Water Heating'!M31)","v":""},{"$f":"IF(F138=\"\",\"\",INDEX(References!$CO$58:$CO$59,MATCH(F138,References!$CN$58:$CN$59,0)))","v":""},null,"",{"$f":"IF($M138=\"\",\"\",INDEX(References!CO$3:CO$26,MATCH($H138,References!$CN$3:$CN$26,0)))","v":""},{"$f":"IF($H138=\"  \",\"\",INDEX(References!CP$3:CP$26,MATCH($H138,References!$CN$3:$CN$26,0)))","v":""},{"$f":"IF($M138=\"\",\"\",600*References!$BX$23)","v":""}]
[{"$f":"A138+1","v":3},{"$f":"IF('Dedicated Water Heating'!C32=\"\",\"\",'Dedicated Water Heating'!C32)","v":""},null,"",null,{"$f":"IF('Dedicated Water Heating'!F32=\"\",\"\",'Dedicated Water Heating'!F32)","v":""},null,"  ",null,{"$f":"IF('Dedicated Water Heating'!M32=\"\",\"\",'Dedicated Water Heating'!M32)","v":""},{"$f":"IF(F139=\"\",\"\",INDEX(References!$CO$58:$CO$59,MATCH(F139,References!$CN$58:$CN$59,0)))","v":""},null,"",{"$f":"IF($M139=\"\",\"\",INDEX(References!CO$3:CO$26,MATCH($H139,References!$CN$3:$CN$26,0)))","v":""},{"$f":"IF($H139=\"  \",\"\",INDEX(References!CP$3:CP$26,MATCH($H139,References!$CN$3:$CN$26,0)))","v":""},{"$f":"IF($M139=\"\",\"\",600*References!$BX$23)","v":""}]
[4,{"$f":"IF('Dedicated Water Heating'!C33=\"\",\"\",'Dedicated Water Heating'!C33)","v":""},null,"",null,{"$f":"IF('Dedicated Water Heating'!F33=\"\",\"\",'Dedicated Water Heating'!F33)","v":""},null,"  ",null,{"$f":"IF('Dedicated Water Heating'!M33=\"\",\"\",'Dedicated Water Heating'!M33)","v":""},{"$f":"IF(F140=\"\",\"\",INDEX(References!$CO$58:$CO$59,MATCH(F140,References!$CN$58:$CN$59,0)))","v":""},null,"",{"$f":"IF($M140=\"\",\"\",INDEX(References!CO$3:CO$26,MATCH($H140,References!$CN$3:$CN$26,0)))","v":""},{"$f":"IF($H140=\"  \",\"\",INDEX(References!CP$3:CP$26,MATCH($H140,References!$CN$3:$CN$26,0)))","v":""},{"$f":"IF($M140=\"\",\"\",600*References!$BX$23)","v":""}]
[5,{"$f":"IF('Dedicated Water Heating'!C34=\"\",\"\",'Dedicated Water Heating'!C34)","v":""},null,"",null,{"$f":"IF('Dedicated Water Heating'!F34=\"\",\"\",'Dedicated Water Heating'!F34)","v":""},null,"  ",null,{"$f":"IF('Dedicated Water Heating'!M34=\"\",\"\",'Dedicated Water Heating'!M34)","v":""},{"$f":"IF(F141=\"\",\"\",INDEX(References!$CO$58:$CO$59,MATCH(F141,References!$CN$58:$CN$59,0)))","v":""},null,"",{"$f":"IF($M141=\"\",\"\",INDEX(References!CO$3:CO$26,MATCH($H141,References!$CN$3:$CN$26,0)))","v":""},{"$f":"IF($H141=\"  \",\"\",INDEX(References!CP$3:CP$26,MATCH($H141,References!$CN$3:$CN$26,0)))","v":""},{"$f":"IF($M141=\"\",\"\",600*References!$BX$23)","v":""}]
[6,{"$f":"IF('Dedicated Water Heating'!C35=\"\",\"\",'Dedicated Water Heating'!C35)","v":""},null,"",null,{"$f":"IF('Dedicated Water Heating'!F35=\"\",\"\",'Dedicated Water Heating'!F35)","v":""},null,"  ",null,{"$f":"IF('Dedicated Water Heating'!M35=\"\",\"\",'Dedicated Water Heating'!M35)","v":""},{"$f":"IF(F142=\"\",\"\",INDEX(References!$CO$58:$CO$59,MATCH(F142,References!$CN$58:$CN$59,0)))","v":""},null,"",{"$f":"IF($M142=\"\",\"\",INDEX(References!CO$3:CO$26,MATCH($H142,References!$CN$3:$CN$26,0)))","v":""},{"$f":"IF($H142=\"  \",\"\",INDEX(References!CP$3:CP$26,MATCH($H142,References!$CN$3:$CN$26,0)))","v":""},{"$f":"IF($M142=\"\",\"\",600*References!$BX$23)","v":""}]
[7,{"$f":"IF('Dedicated Water Heating'!C36=\"\",\"\",'Dedicated Water Heating'!C36)","v":""},null,"",null,{"$f":"IF('Dedicated Water Heating'!F36=\"\",\"\",'Dedicated Water Heating'!F36)","v":""},null,"  ",null,{"$f":"IF('Dedicated Water Heating'!M36=\"\",\"\",'Dedicated Water Heating'!M36)","v":""},{"$f":"IF(F143=\"\",\"\",INDEX(References!$CO$58:$CO$59,MATCH(F143,References!$CN$58:$CN$59,0)))","v":""},null,"",{"$f":"IF($M143=\"\",\"\",INDEX(References!CO$3:CO$26,MATCH($H143,References!$CN$3:$CN$26,0)))","v":""},{"$f":"IF($H143=\"  \",\"\",INDEX(References!CP$3:CP$26,MATCH($H143,References!$CN$3:$CN$26,0)))","v":""},{"$f":"IF($M143=\"\",\"\",600*References!$BX$23)","v":""}]
[8,{"$f":"IF('Dedicated Water Heating'!C37=\"\",\"\",'Dedicated Water Heating'!C37)","v":""},null,"",null,{"$f":"IF('Dedicated Water Heating'!F37=\"\",\"\",'Dedicated Water Heating'!F37)","v":""},null,"  ",null,{"$f":"IF('Dedicated Water Heating'!M37=\"\",\"\",'Dedicated Water Heating'!M37)","v":""},{"$f":"IF(F144=\"\",\"\",INDEX(References!$CO$58:$CO$59,MATCH(F144,References!$CN$58:$CN$59,0)))","v":""},null,"",{"$f":"IF($M144=\"\",\"\",INDEX(References!CO$3:CO$26,MATCH($H144,References!$CN$3:$CN$26,0)))","v":""},{"$f":"IF($H144=\"  \",\"\",INDEX(References!CP$3:CP$26,MATCH($H144,References!$CN$3:$CN$26,0)))","v":""},{"$f":"IF($M144=\"\",\"\",600*References!$BX$23)","v":""}]
[9,{"$f":"IF('Dedicated Water Heating'!C38=\"\",\"\",'Dedicated Water Heating'!C38)","v":""},null,"",null,{"$f":"IF('Dedicated Water Heating'!F38=\"\",\"\",'Dedicated Water Heating'!F38)","v":""},null,"  ",null,{"$f":"IF('Dedicated Water Heating'!M38=\"\",\"\",'Dedicated Water Heating'!M38)","v":""},{"$f":"IF(F145=\"\",\"\",INDEX(References!$CO$58:$CO$59,MATCH(F145,References!$CN$58:$CN$59,0)))","v":""},null,"",{"$f":"IF($M145=\"\",\"\",INDEX(References!CO$3:CO$26,MATCH($H145,References!$CN$3:$CN$26,0)))","v":""},{"$f":"IF($H145=\"  \",\"\",INDEX(References!CP$3:CP$26,MATCH($H145,References!$CN$3:$CN$26,0)))","v":""},{"$f":"IF($M145=\"\",\"\",600*References!$BX$23)","v":""}]
[10,{"$f":"IF('Dedicated Water Heating'!C39=\"\",\"\",'Dedicated Water Heating'!C39)","v":""},null,"",null,{"$f":"IF('Dedicated Water Heating'!F39=\"\",\"\",'Dedicated Water Heating'!F39)","v":""},null,"  ",null,{"$f":"IF('Dedicated Water Heating'!M39=\"\",\"\",'Dedicated Water Heating'!M39)","v":""},{"$f":"IF(F146=\"\",\"\",INDEX(References!$CO$58:$CO$59,MATCH(F146,References!$CN$58:$CN$59,0)))","v":""},null,"",{"$f":"IF($M146=\"\",\"\",INDEX(References!CO$3:CO$26,MATCH($H146,References!$CN$3:$CN$26,0)))","v":""},{"$f":"IF($H146=\"  \",\"\",INDEX(References!CP$3:CP$26,MATCH($H146,References!$CN$3:$CN$26,0)))","v":""},{"$f":"IF($M146=\"\",\"\",600*References!$BX$23)","v":""}]
[]
["Calculations"]
[null,null,null,"Select…"]
[null,"Space Heating",null,null,null,null,null,null,null,"Proposed Heating Efficiency",null,null,null,null,null,null,"Baseline Heating Usage",null,null,null,null,"Proposed Heating Usage",null,null,null,null,"Heating Savings Electric",null,"Heating Savings MMBTU",null,null,null,null,"Heating Savings ton/CO2",null,null,null,null,null,null,null,"Baseline Full-Load Efficiency",null,"Baseline kWh","Proposed Efficiency",null,null,null,null,null,null,"Proposed kWh","Cooling Savings",null,null,null,"Water Heating Savings",null,null,null,"Total Savings"]
[null,"Heating Fuel","Baseline Cooling","Baseline Heating","Goethermal Heating Load (Btuh)","FLHH","Baseline AFUE","Baseline COP","Baseline HSPF","Loop Type","Full Load","Part Load","Fdist,h","Fpump,full","Fpump,part","Seasonal COP","Natural Gas (Therms)","Gallons of Oil","Gallons of LP","kWh","kW","Natural Gas (Therms)","Gallons of Oil","Gallons of LP","kWh","kW","Winter kW","kWh","Natural Gas","Oil","LP","Electric","Total","Natural Gas","Oil","LP","Electric","Total",null,"Geothermal Cooling Load (Btuh)","FLCH","SEER","EER","Cooling Usage","Loop Type","Full-Load EER","Part-Load EER","Fdist,c","Fpump,full","Fpump,part","Seasonal EER","Cooling Usage","kW","kWh","MMBtu",null,"Includes a Desuperheater?","kWh","MMBtu",null,"Summer Peak kW","Winter kW","Gross EE kWh","Gross BE kWh","Gross EE MMBtu","Gross BE MMBtu","Gross EE ton/CO2","Gross BE ton/CO2","Fossil MMBtu","OR","Total Savings in MMBtu",null,"Measure Code"]
[1,{"$f":"IF(OR(D152=\"\",D152=\"Select…\"),\"\",INDEX(References!$CR$29:$CR$48,MATCH(Qualifying_Index!D152,References!$CS$29:$CS$48,0)))","v":""},{"$f":"IF(AND('Space Heating Worksheet'!Y33=0,'Space Heating Worksheet'!C33<>\"\"),\"\",IF('Site Information'!$C$6=\"New Construction\",\"None\",IF('Space Heating Worksheet'!Y33=\"Primary Existing System\",'Site Information'!$C$18,'Site Information'!$C$24)))","v":"Select…"},{"$f":"IF(AND('Space Heating Worksheet'!X33=0,'Space Heating Worksheet'!C33<>\"\"),\"\",IF('Site Information'!$C$6=\"New Construction\",\"None\",IF('Space Heating Worksheet'!X33=\"Primary Existing System\",'Site Information'!$C$16,'Site Information'!$C$22)))","v":"Select…"},{"$f":"IF(AND('Space Heating Worksheet'!AI52=\"\",'Space Heating Worksheet'!N33=\"\"),\"\",'Space Heating Worksheet'!AI52)","v":""},{"$f":"IF($B152=\"\",\"\",IF(Existing_Heating_Source=\"Existing Building\",INDEX(References!$CE$40:$CF$41,MATCH(Customer_Sector,References!$CB$40:$CB$41,0),MATCH(F$151,References!$CE$39:$CF$39,0)),INDEX(References!$CC$40:$CD$41,MATCH(Customer_Sector,References!$CB$40:$CB$41,0),MATCH(F$151,References!$CC$39:$CD$39,0))))","v":""},{"$f":"IF('Space Heating Worksheet'!$C33=\"\",\"\",IF(OR('Space Heating Worksheet'!$AB33=0,$D152=\"None\"),INDEX(References!CT$29:CT$48,MATCH($D152,References!$CS$29:$CS$48,0)),'Space Heating Worksheet'!$AB33))","v":""},{"$f":"IF('Space Heating Worksheet'!$C33=\"\",\"\",IF(OR('Space Heating Worksheet'!$AB33=0,$D152=\"None\"),INDEX(References!CU$29:CU$48,MATCH($D152,References!$CS$29:$CS$48,0)),'Space Heating Worksheet'!$AB33))","v":""},{"$f":"IF('Space Heating Worksheet'!$C33=\"\",\"\",IF(OR('Space Heating Worksheet'!$AB33=0,$D152=\"None\"),INDEX(References!CV$29:CV$48,MATCH($D152,References!$CS$29:$CS$48,0)),'Space Heating Worksheet'!$AB33))","v":""},{"$f":"IF(OR('Space Heating Worksheet'!F33=\"\",'Space Heating Worksheet'!F33=0),\"\",INDEX(References!$CJ$30:$CJ$34,MATCH('Space Heating Worksheet'!F33,References!$CI$30:$CI$34,0)))","v":""},{"$f":"IF('Space Heating Worksheet'!S33=\"\",\"\",'Space Heating Worksheet'!S33)","v":""},{"$f":"IF('Space Heating Worksheet'!U33=\"\",\"\",'Space Heating Worksheet'!U33)","v":""},{"$f":"IF(OR(C152=\"\",C152=0),\"\",IF(C152=\"CAC\",References!$CP$47,References!$CP$48))","v":0.97},{"$f":"IF(OR(K152=\"\",K152=0),\"\",INDEX(References!$CF$72:$CF$74,MATCH('Space Heating Worksheet'!I33,References!$CB$72:$CB$74,0)))","v":""},{"$f":"IF(OR(K152=\"\",K152=0),\"\",INDEX(References!$CF$75:$CF$77,MATCH('Space Heating Worksheet'!I33,References!$CB$75:$CB$77,0)))","v":""},{"$f":"IF(K152=\"\",\"\",IF(OR('Space Heating Worksheet'!H33=\"Single Stage\",NOT(ISNUMBER('Space Heating Worksheet'!U33))),IF(J152=\"Open Loop/Well\",K152*N152,K152*N152*References!$CP$44),IF(J152=\"Open Loop/Well\",((K152*References!$CS$50*N152)+(L152*References!$CS$51*O152))*M152,((K152*References!$CS$50*N152)+(L152*References!$CS$51*O152))*References!$CP$44*M152)))","v":""},{"$f":"IF(E152=\"\",\"\",IF(B152=\"None\",E152*(1/100000)*(1/G152)*F152*References!$CW$51*References!$CW$53,IF(B152=\"NG\",E152*(1/100000)*(1/G152)*F152,0)))","v":""},{"$f":"IF(E152=\"\",\"\",IF(B152=\"None\",E152*(1/(References!$CL$51*1000000))*(1/G152)*F152*References!$CW$52*References!$CW$53,IF(B152=\"Oil\",E152*(1/(References!$CL$51*1000000))*(1/G152)*F152,0)))","v":""},{"$f":"IF(E152=\"\",\"\",IF(B152=\"LP\",E152*(1/(References!$CL$52*1000000))*(1/G152)*F152,0))","v":""},{"$f":"IF(E152=\"\",\"\",IF(B152=\"None\",E152*(1/H152)*F152/3412*References!$CW$54,IF(B152=\"Electric\",E152*(1/H152)*F152/3412,0)))","v":""},{"$f":"IF(E152=\"\",\"\",IF(B152=\"None\",E152*(1/H152)/3412*References!$CW$54,IF(B152=\"Electric\",E152*(1/H152)/3412,0)))","v":""},{"$f":"IF($E152=\"\",\"\",0)","v":""},{"$f":"IF($E152=\"\",\"\",0)","v":""},{"$f":"IF($E152=\"\",\"\",0)","v":""},{"$f":"IF(E152=\"\",\"\",E152*(1/P152)*F152/3412)","v":""},{"$f":"IF(E152=\"\",\"\",E152*(1/P152)/3412)","v":""},{"$f":"IF(E152=\"\",\"\",U152-Z152)","v":""},{"$f":"IF(E152=\"\",\"\",T152-Y152)","v":""},{"$f":"IF(E152=\"\",\"\",(Q152-V152)*References!$CL$53)","v":""},{"$f":"IF(E152=\"\",\"\",(R152-W152)*References!$CL$51)","v":""},{"$f":"IF(E152=\"\",\"\",(S152-X152)*References!$CL$52)","v":""},{"$f":"IF(E152=\"\",\"\",(T152-Y152)*References!$CJ$47)","v":""},{"$f":"IF(E152=\"\",\"\",SUM(AC152:AF152))","v":""},{"$f":"IF(E152=\"\",\"\",AC152*References!$CK$53)","v":""},{"$f":"IF(E152=\"\",\"\",AD152*References!$CK$51)","v":""},{"$f":"IF(E152=\"\",\"\",AE152*References!$CK$52)","v":""},{"$f":"IF(E152=\"\",\"\",(AB152/1000)*References!$CK$43)","v":""},{"$f":"IF(G152=\"\",\"\",SUM(AH152:AK152))","v":""},null,{"$f":"IF(AND('Space Heating Worksheet'!AH52=\"\",'Space Heating Worksheet'!M33=\"\"),\"\",'Space Heating Worksheet'!AH52)","v":""},{"$f":"IF($B152=\"\",\"\",IF(Existing_Heating_Source=\"Existing Building\",INDEX(References!$CE$40:$CF$41,MATCH(Customer_Sector,References!$CB$40:$CB$41,0),MATCH(AO$151,References!$CE$39:$CF$39,0)),INDEX(References!$CC$40:$CD$41,MATCH(Customer_Sector,References!$CB$40:$CB$41,0),MATCH(AO$151,References!$CC$39:$CD$39,0))))","v":""},{"$f":"IF('Space Heating Worksheet'!$C33=\"\",\"\",IF(OR('Space Heating Worksheet'!Z33=0,$C152=\"None\"),INDEX(References!CT$19:CT$25,MATCH($C152,References!$CS$19:$CS$25,0)),'Space Heating Worksheet'!Z33))","v":""},{"$f":"IF('Space Heating Worksheet'!$C33=\"\",\"\",IF(OR('Space Heating Worksheet'!AA33=0,$C152=\"None\"),INDEX(References!CU$19:CU$25,MATCH($C152,References!$CS$19:$CS$25,0)),'Space Heating Worksheet'!AA33))","v":""},{"$f":"IF(E152=\"\",\"\",AN152/1000*(1/AP152)*AO152)","v":""},{"$f":"IF(OR('Space Heating Worksheet'!F33=\"\",'Space Heating Worksheet'!F33=0),\"\",INDEX(References!$CJ$30:$CJ$34,MATCH('Space Heating Worksheet'!F33,References!$CI$30:$CI$34,0)))","v":""},{"$f":"IF('Space Heating Worksheet'!R33=\"\",\"\",'Space Heating Worksheet'!R33)","v":""},{"$f":"IF('Space Heating Worksheet'!T33=\"\",\"\",'Space Heating Worksheet'!T33)","v":""},{"$f":"IF(OR(C152=\"\",C152=0),\"\",References!$CP$46)","v":0.95},{"$f":"IF(OR('Space Heating Worksheet'!C33=\"\",'Space Heating Worksheet'!C33=0),\"\",INDEX(References!$CE$72:$CE$74,MATCH('Space Heating Worksheet'!I33,References!$CB$72:$CB$74,0)))","v":""},{"$f":"IF(OR(K152=\"\",K152=0),\"\",INDEX(References!$CE$75:$CE$77,MATCH('Space Heating Worksheet'!I33,References!$CB$75:$CB$77,0)))","v":""},{"$f":"IF(AT152=\"\",\"\",IF(OR('Space Heating Worksheet'!H33=\"Single Stage\",NOT(ISNUMBER('Space Heating Worksheet'!U33))),IF(J152=\"Open Loop/Well\",AT152*AW152,AT152*AW152*References!$CP$43),IF(J152=\"Open Loop/Well\",((AT152*References!$CS$50*AW152)+(AU152*References!$CS$51*AX152))*References!$CP$43*AV152,((AT152*References!$CS$50*References!$CP$43*AW152)+(AU152*References!$CS$51*AX152))*AV152)))","v":""},{"$f":"IF(E152=\"\",\"\",AN152/1000*(1/AY152)*AO152)","v":""},{"$f":"IF(E152=\"\",\"\",AN152/1000*((1/AQ152)-(1/AY152)))","v":""},{"$f":"IF(E152=\"\",\"\",AR152-AZ152)","v":""},{"$f":"IF(E152=\"\",\"\",BB152*References!$CJ$47)","v":""},null,{"$f":"IF(B152=\"\",\"\",'Space Heating Worksheet'!S52)","v":""},{"$f":"IF(B152=\"\",\"\",IF(AND(BE152=\"Yes\",Customer_Sector=\"Residential\"),0,0))","v":""},{"$f":"IF(B152=\"\",\"\",BF152*References!$CJ$47)","v":""},null,{"$f":"IF(B152=\"\",\"\",BA152)","v":""},{"$f":"IF(B152=\"\",\"\",AA152)","v":""},{"$f":"IF(E152=\"\",\"\",IF(AB152>0,AB152,0)+BB152+BF152)","v":""},{"$f":"IF(B152=\"\",\"\",IF(AB152>0,0,AB152*-1))","v":""},{"$f":"IF(E152=\"\",\"\",IF(AF152>0,AF152,0)+BC152+BG152)","v":""},{"$f":"IF(B152=\"\",\"\",IF(AB152>0,0,AF152)+SUM(AC152:AE152))","v":""},{"$f":"IF(E152=\"\",\"\",(BK152/1000)*References!$CK$43)","v":""},{"$f":"IF(B152=\"\",\"\",IF(AB152>0,0,AK152)+SUM(AH152:AJ152))","v":""},{"$f":"IF(B152=\"\",\"\",SUM(AC152:AE152))","v":""},null,{"$f":"IF(E152=\"\",\"\",BC152+AG152+BG152)","v":""},null,{"$f":"IF(OR('Space Heating Worksheet'!AH33=\"\",'Space Heating Worksheet'!AH33=\"DNQ\",'Space Heating Worksheet'!AH33=\"Missing Info\"),\"\",INDEX(References!$CX$3:$CX$26,MATCH('Space Heating Worksheet'!L33&'Space Heating Worksheet'!L52,References!$CY$3:$CY$26,0)))","v":""}]
[{"$f":"A152+1","v":2},{"$f":"IF(OR(D153=\"\",D153=\"Select…\"),\"\",INDEX(References!$CR$29:$CR$48,MATCH(Qualifying_Index!D153,References!$CS$29:$CS$48,0)))","v":""},{"$f":"IF(AND('Space Heating Worksheet'!Y34=0,'Space Heating Worksheet'!C34<>\"\"),\"\",IF('Site Information'!$C$6=\"New Construction\",\"None\",IF('Space Heating Worksheet'!Y34=\"Primary Existing System\",'Site Information'!$C$18,'Site Information'!$C$24)))","v":"Select…"},{"$f":"IF(AND('Space Heating Worksheet'!X34=0,'Space Heating Worksheet'!C34<>\"\"),\"\",IF('Site Information'!$C$6=\"New Construction\",\"None\",IF('Space Heating Worksheet'!X34=\"Primary Existing System\",'Site Information'!$C$16,'Site Information'!$C$22)))","v":"Select…"},{"$f":"IF(AND('Space Heating Worksheet'!AI53=\"\",'Space Heating Worksheet'!N34=\"\"),\"\",'Space Heating Worksheet'!AI53)","v":""},{"$f":"IF($B153=\"\",\"\",IF(Existing_Heating_Source=\"Existing Building\",INDEX(References!$CE$40:$CF$41,MATCH(Customer_Sector,References!$CB$40:$CB$41,0),MATCH(F$151,References!$CE$39:$CF$39,0)),INDEX(References!$CC$40:$CD$41,MATCH(Customer_Sector,References!$CB$40:$CB$41,0),MATCH(F$151,References!$CC$39:$CD$39,0))))","v":""},{"$f":"IF('Space Heating Worksheet'!$C34=\"\",\"\",IF(OR('Space Heating Worksheet'!$AB34=0,$D153=\"None\"),INDEX(References!CT$29:CT$48,MATCH($D153,References!$CS$29:$CS$48,0)),'Space Heating Worksheet'!$AB34))","v":""},{"$f":"IF('Space Heating Worksheet'!$C34=\"\",\"\",IF(OR('Space Heating Worksheet'!$AB34=0,$D153=\"None\"),INDEX(References!CU$29:CU$48,MATCH($D153,References!$CS$29:$CS$48,0)),'Space Heating Worksheet'!$AB34))","v":""},{"$f":"IF('Space Heating Worksheet'!$C34=\"\",\"\",IF(OR('Space Heating Worksheet'!$AB34=0,$D153=\"None\"),INDEX(References!CV$29:CV$48,MATCH($D153,References!$CS$29:$CS$48,0)),'Space Heating Worksheet'!$AB34))","v":""},{"$f":"IF(OR('Space Heating Worksheet'!F34=\"\",'Space Heating Worksheet'!F34=0),\"\",INDEX(References!$CJ$30:$CJ$34,MATCH('Space Heating Worksheet'!F34,References!$CI$30:$CI$34,0)))","v":""},{"$f":"IF('Space Heating Worksheet'!S34=\"\",\"\",'Space Heating Worksheet'!S34)","v":""},{"$f":"IF('Space Heating Worksheet'!U34=\"\",\"\",'Space Heating Worksheet'!U34)","v":""},{"$f":"IF(OR(C153=\"\",C153=0),\"\",IF(C153=\"CAC\",References!$CP$47,References!$CP$48))","v":0.97},{"$f":"IF(OR(K153=\"\",K153=0),\"\",INDEX(References!$CF$72:$CF$74,MATCH('Space Heating Worksheet'!I34,References!$CB$72:$CB$74,0)))","v":""},{"$f":"IF(OR(K153=\"\",K153=0),\"\",INDEX(References!$CF$75:$CF$77,MATCH('Space Heating Worksheet'!I34,References!$CB$75:$CB$77,0)))","v":""},{"$f":"IF(K153=\"\",\"\",IF(OR('Space Heating Worksheet'!H34=\"Single Stage\",NOT(ISNUMBER('Space Heating Worksheet'!U34))),IF(J153=\"Open Loop/Well\",K153*N153,K153*N153*References!$CP$44),IF(J153=\"Open Loop/Well\",((K153*References!$CS$50*N153)+(L153*References!$CS$51*O153))*M153,((K153*References!$CS$50*N153)+(L153*References!$CS$51*O153))*References!$CP$44*M153)))","v":""},{"$f":"IF(E153=\"\",\"\",IF(B153=\"None\",E153*(1/100000)*(1/G153)*F153*References!$CW$51*References!$CW$53,IF(B153=\"NG\",E153*(1/100000)*(1/G153)*F153,0)))","v":""},{"$f":"IF(E153=\"\",\"\",IF(B153=\"None\",E153*(1/(References!$CL$51*1000000))*(1/G153)*F153*References!$CW$52*References!$CW$53,IF(B153=\"Oil\",E153*(1/(References!$CL$51*1000000))*(1/G153)*F153,0)))","v":""},{"$f":"IF(E153=\"\",\"\",IF(B153=\"LP\",E153*(1/(References!$CL$52*1000000))*(1/G153)*F153,0))","v":""},{"$f":"IF(E153=\"\",\"\",IF(B153=\"None\",E153*(1/H153)*F153/3412*References!$CW$54,IF(B153=\"Electric\",E153*(1/H153)*F153/3412,0)))","v":""},{"$f":"IF(E153=\"\",\"\",IF(B153=\"None\",E153*(1/H153)/3412*References!$CW$54,IF(B153=\"Electric\",E153*(1/H153)/3412,0)))","v":""},{"$f":"IF($E153=\"\",\"\",0)","v":""},"","",{"$f":"IF(E153=\"\",\"\",E153*(1/P153)*F153/3412)","v":""},{"$f":"IF(E153=\"\",\"\",E153*(1/P153)/3412)","v":""},{"$f":"IF(E153=\"\",\"\",U153-Z153)","v":""},{"$f":"IF(E153=\"\",\"\",T153-Y153)","v":""},{"$f":"IF(E153=\"\",\"\",(Q153-V153)*References!$CL$53)","v":""},{"$f":"IF(E153=\"\",\"\",(R153-W153)*References!$CL$51)","v":""},{"$f":"IF(E153=\"\",\"\",(S153-X153)*References!$CL$52)","v":""},{"$f":"IF(E153=\"\",\"\",(T153-Y153)*References!$CJ$47)","v":""},{"$f":"IF(E153=\"\",\"\",SUM(AC153:AF153))","v":""},{"$f":"IF(E153=\"\",\"\",AC153*References!$CK$53)","v":""},{"$f":"IF(E153=\"\",\"\",AD153*References!$CK$51)","v":""},{"$f":"IF(E153=\"\",\"\",AE153*References!$CK$52)","v":""},{"$f":"IF(E153=\"\",\"\",(AB153/1000)*References!$CK$43)","v":""},"",null,{"$f":"IF(AND('Space Heating Worksheet'!AH53=\"\",'Space Heating Worksheet'!M34=\"\"),\"\",'Space Heating Worksheet'!AH53)","v":""},{"$f":"IF($B153=\"\",\"\",IF(Existing_Heating_Source=\"Existing Building\",INDEX(References!$CE$40:$CF$41,MATCH(Customer_Sector,References!$CB$40:$CB$41,0),MATCH(AO$151,References!$CE$39:$CF$39,0)),INDEX(References!$CC$40:$CD$41,MATCH(Customer_Sector,References!$CB$40:$CB$41,0),MATCH(AO$151,References!$CC$39:$CD$39,0))))","v":""},{"$f":"IF('Space Heating Worksheet'!$C34=\"\",\"\",IF(OR('Space Heating Worksheet'!Z34=0,$C153=\"None\"),INDEX(References!CT$19:CT$25,MATCH($C153,References!$CS$19:$CS$25,0)),'Space Heating Worksheet'!Z34))","v":""},{"$f":"IF('Space Heating Worksheet'!$C34=\"\",\"\",IF(OR('Space Heating Worksheet'!AA34=0,$C153=\"None\"),INDEX(References!CU$19:CU$25,MATCH($C153,References!$CS$19:$CS$25,0)),'Space Heating Worksheet'!AA34))","v":""},{"$f":"IF(E153=\"\",\"\",AN153/1000*(1/AP153)*AO153)","v":""},{"$f":"IF(OR('Space Heating Worksheet'!F34=\"\",'Space Heating Worksheet'!F34=0),\"\",INDEX(References!$CJ$30:$CJ$34,MATCH('Space Heating Worksheet'!F34,References!$CI$30:$CI$34,0)))","v":""},{"$f":"IF('Space Heating Worksheet'!R34=\"\",\"\",'Space Heating Worksheet'!R34)","v":""},{"$f":"IF('Space Heating Worksheet'!T34=\"\",\"\",'Space Heating Worksheet'!T34)","v":""},{"$f":"IF(OR(C153=\"\",C153=0),\"\",References!$CP$46)","v":0.95},{"$f":"IF(OR('Space Heating Worksheet'!C34=\"\",'Space Heating Worksheet'!C34=0),\"\",INDEX(References!$CE$72:$CE$74,MATCH('Space Heating Worksheet'!I34,References!$CB$72:$CB$74,0)))","v":""},{"$f":"IF(OR(K153=\"\",K153=0),\"\",INDEX(References!$CE$75:$CE$77,MATCH('Space Heating Worksheet'!I34,References!$CB$75:$CB$77,0)))","v":""},{"$f":"IF(AT153=\"\",\"\",IF(OR('Space Heating Worksheet'!H34=\"Single Stage\",NOT(ISNUMBER('Space Heating Worksheet'!U34))),IF(J153=\"Open Loop/Well\",AT153*AW153,AT153*AW153*References!$CP$43),IF(J153=\"Open Loop/Well\",((AT153*References!$CS$50*AW153)+(AU153*References!$CS$51*AX153))*References!$CP$43*AV153,((AT153*References!$CS$50*References!$CP$43*AW153)+(AU153*References!$CS$51*AX153))*AV153)))","v":""},{"$f":"IF(E153=\"\",\"\",AN153/1000*(1/AY153)*AO153)","v":""},{"$f":"IF(E153=\"\",\"\",AN153/1000*((1/AQ153)-(1/AY153)))","v":""},{"$f":"IF(E153=\"\",\"\",AR153-AZ153)","v":""},{"$f":"IF(E153=\"\",\"\",BB153*References!$CJ$47)","v":""},null,{"$f":"IF(B153=\"\",\"\",'Space Heating Worksheet'!S53)","v":""},"",{"$f":"IF(B153=\"\",\"\",BF153*References!$CJ$47)","v":""},null,"","",{"$f":"IF(E153=\"\",\"\",IF(AB153>0,AB153,0)+BB153+BF153)","v":""},"",{"$f":"IF(E153=\"\",\"\",IF(AF153>0,AF153,0)+BC153+BG153)","v":""},"",{"$f":"IF(E153=\"\",\"\",(BK153/1000)*References!$CK$43)","v":""},"","",null,{"$f":"IF(E153=\"\",\"\",BC153+AG153+BG153)","v":""},null,{"$f":"IF(OR('Space Heating Worksheet'!AH34=\"\",'Space Heating Worksheet'!AH34=\"DNQ\",'Space Heating Worksheet'!AH34=\"Missing Info\"),\"\",INDEX(References!$CX$3:$CX$26,MATCH('Space Heating Worksheet'!L34&'Space Heating Worksheet'!L53,References!$CY$3:$CY$26,0)))","v":""}]
[3,{"$f":"IF(OR(D154=\"\",D154=\"Select…\"),\"\",INDEX(References!$CR$29:$CR$48,MATCH(Qualifying_Index!D154,References!$CS$29:$CS$48,0)))","v":""},{"$f":"IF(AND('Space Heating Worksheet'!Y35=0,'Space Heating Worksheet'!C35<>\"\"),\"\",IF('Site Information'!$C$6=\"New Construction\",\"None\",IF('Space Heating Worksheet'!Y35=\"Primary Existing System\",'Site Information'!$C$18,'Site Information'!$C$24)))","v":"Select…"},{"$f":"IF(AND('Space Heating Worksheet'!X35=0,'Space Heating Worksheet'!C35<>\"\"),\"\",IF('Site Information'!$C$6=\"New Construction\",\"None\",IF('Space Heating Worksheet'!X35=\"Primary Existing System\",'Site Information'!$C$16,'Site Information'!$C$22)))","v":"Select…"},{"$f":"IF(AND('Space Heating Worksheet'!AI54=\"\",'Space Heating Worksheet'!N35=\"\"),\"\",'Space Heating Worksheet'!AI54)","v":""},{"$f":"IF($B154=\"\",\"\",IF(Existing_Heating_Source=\"Existing Building\",INDEX(References!$CE$40:$CF$41,MATCH(Customer_Sector,References!$CB$40:$CB$41,0),MATCH(F$151,References!$CE$39:$CF$39,0)),INDEX(References!$CC$40:$CD$41,MATCH(Customer_Sector,References!$CB$40:$CB$41,0),MATCH(F$151,References!$CC$39:$CD$39,0))))","v":""},{"$f":"IF('Space Heating Worksheet'!$C35=\"\",\"\",IF(OR('Space Heating Worksheet'!$AB35=0,$D154=\"None\"),INDEX(References!CT$29:CT$48,MATCH($D154,References!$CS$29:$CS$48,0)),'Space Heating Worksheet'!$AB35))","v":""},{"$f":"IF('Space Heating Worksheet'!$C35=\"\",\"\",IF(OR('Space Heating Worksheet'!$AB35=0,$D154=\"None\"),INDEX(References!CU$29:CU$48,MATCH($D154,References!$CS$29:$CS$48,0)),'Space Heating Worksheet'!$AB35))","v":""},{"$f":"IF('Space Heating Worksheet'!$C35=\"\",\"\",IF(OR('Space Heating Worksheet'!$AB35=0,$D154=\"None\"),INDEX(References!CV$29:CV$48,MATCH($D154,References!$CS$29:$CS$48,0)),'Space Heating Worksheet'!$AB35))","v":""},{"$f":"IF(OR('Space Heating Worksheet'!F35=\"\",'Space Heating Worksheet'!F35=0),\"\",INDEX(References!$CJ$30:$CJ$34,MATCH('Space Heating Worksheet'!F35,References!$CI$30:$CI$34,0)))","v":""},{"$f":"IF('Space Heating Worksheet'!S35=\"\",\"\",'Space Heating Worksheet'!S35)","v":""},{"$f":"IF('Space Heating Worksheet'!U35=\"\",\"\",'Space Heating Worksheet'!U35)","v":""},{"$f":"IF(OR(C154=\"\",C154=0),\"\",IF(C154=\"CAC\",References!$CP$47,References!$CP$48))","v":0.97},{"$f":"IF(OR(K154=\"\",K154=0),\"\",INDEX(References!$CF$72:$CF$74,MATCH('Space Heating Worksheet'!I35,References!$CB$72:$CB$74,0)))","v":""},{"$f":"IF(OR(K154=\"\",K154=0),\"\",INDEX(References!$CF$75:$CF$77,MATCH('Space Heating Worksheet'!I35,References!$CB$75:$CB$77,0)))","v":""},{"$f":"IF(K154=\"\",\"\",IF(OR('Space Heating Worksheet'!H35=\"Single Stage\",NOT(ISNUMBER('Space Heating Worksheet'!U35))),IF(J154=\"Open Loop/Well\",K154*N154,K154*N154*References!$CP$44),IF(J154=\"Open Loop/Well\",((K154*References!$CS$50*N154)+(L154*References!$CS$51*O154))*M154,((K154*References!$CS$50*N154)+(L154*References!$CS$51*O154))*References!$CP$44*M154)))","v":""},{"$f":"IF(E154=\"\",\"\",IF(B154=\"None\",E154*(1/100000)*(1/G154)*F154*References!$CW$51*References!$CW$53,IF(B154=\"NG\",E154*(1/100000)*(1/G154)*F154,0)))","v":""},{"$f":"IF(E154=\"\",\"\",IF(B154=\"None\",E154*(1/(References!$CL$51*1000000))*(1/G154)*F154*References!$CW$52*References!$CW$53,IF(B154=\"Oil\",E154*(1/(References!$CL$51*1000000))*(1/G154)*F154,0)))","v":""},{"$f":"IF(E154=\"\",\"\",IF(B154=\"LP\",E154*(1/(References!$CL$52*1000000))*(1/G154)*F154,0))","v":""},{"$f":"IF(E154=\"\",\"\",IF(B154=\"None\",E154*(1/H154)*F154/3412*References!$CW$54,IF(B154=\"Electric\",E154*(1/H154)*F154/3412,0)))","v":""},{"$f":"IF(E154=\"\",\"\",IF(B154=\"None\",E154*(1/H154)/3412*References!$CW$54,IF(B154=\"Electric\",E154*(1/H154)/3412,0)))","v":""},"","","","","","","",{"$f":"IF(E154=\"\",\"\",(Q154-V154)*References!$CL$53)","v":""},{"$f":"IF(E154=\"\",\"\",(R154-W154)*References!$CL$51)","v":""},{"$f":"IF(E154=\"\",\"\",(S154-X154)*References!$CL$52)","v":""},{"$f":"IF(E154=\"\",\"\",(T154-Y154)*References!$CJ$47)","v":""},"",{"$f":"IF(E154=\"\",\"\",AC154*References!$CK$53)","v":""},{"$f":"IF(E154=\"\",\"\",AD154*References!$CK$51)","v":""},{"$f":"IF(E154=\"\",\"\",AE154*References!$CK$52)","v":""},{"$f":"IF(E154=\"\",\"\",(AB154/1000)*References!$CK$43)","v":""},"",null,{"$f":"IF(AND('Space Heating Worksheet'!AH54=\"\",'Space Heating Worksheet'!M35=\"\"),\"\",'Space Heating Worksheet'!AH54)","v":""},{"$f":"IF($B154=\"\",\"\",IF(Existing_Heating_Source=\"Existing Building\",INDEX(References!$CE$40:$CF$41,MATCH(Customer_Sector,References!$CB$40:$CB$41,0),MATCH(AO$151,References!$CE$39:$CF$39,0)),INDEX(References!$CC$40:$CD$41,MATCH(Customer_Sector,References!$CB$40:$CB$41,0),MATCH(AO$151,References!$CC$39:$CD$39,0))))","v":""},{"$f":"IF('Space Heating Worksheet'!$C35=\"\",\"\",IF(OR('Space Heating Worksheet'!Z35=0,$C154=\"None\"),INDEX(References!CT$19:CT$25,MATCH($C154,References!$CS$19:$CS$25,0)),'Space Heating Worksheet'!Z35))","v":""},{"$f":"IF('Space Heating Worksheet'!$C35=\"\",\"\",IF(OR('Space Heating Worksheet'!AA35=0,$C154=\"None\"),INDEX(References!CU$19:CU$25,MATCH($C154,References!$CS$19:$CS$25,0)),'Space Heating Worksheet'!AA35))","v":""},"",{"$f":"IF(OR('Space Heating Worksheet'!F35=\"\",'Space Heating Worksheet'!F35=0),\"\",INDEX(References!$CJ$30:$CJ$34,MATCH('Space Heating Worksheet'!F35,References!$CI$30:$CI$34,0)))","v":""},{"$f":"IF('Space Heating Worksheet'!R35=\"\",\"\",'Space Heating Worksheet'!R35)","v":""},{"$f":"IF('Space Heating Worksheet'!T35=\"\",\"\",'Space Heating Worksheet'!T35)","v":""},{"$f":"IF(OR(C154=\"\",C154=0),\"\",References!$CP$46)","v":0.95},{"$f":"IF(OR('Space Heating Worksheet'!C35=\"\",'Space Heating Worksheet'!C35=0),\"\",INDEX(References!$CE$72:$CE$74,MATCH('Space Heating Worksheet'!I35,References!$CB$72:$CB$74,0)))","v":""},{"$f":"IF(OR(K154=\"\",K154=0),\"\",INDEX(References!$CE$75:$CE$77,MATCH('Space Heating Worksheet'!I35,References!$CB$75:$CB$77,0)))","v":""},{"$f":"IF(AT154=\"\",\"\",IF(OR('Space Heating Worksheet'!H35=\"Single Stage\",NOT(ISNUMBER('Space Heating Worksheet'!U35))),IF(J154=\"Open Loop/Well\",AT154*AW154,AT154*AW154*References!$CP$43),IF(J154=\"Open Loop/Well\",((AT154*References!$CS$50*AW154)+(AU154*References!$CS$51*AX154))*References!$CP$43*AV154,((AT154*References!$CS$50*References!$CP$43*AW154)+(AU154*References!$CS$51*AX154))*AV154)))","v":""},"","","",{"$f":"IF(E154=\"\",\"\",BB154*References!$CJ$47)","v":""},null,{"$f":"IF(B154=\"\",\"\",'Space Heating Worksheet'!S54)","v":""},"",{"$f":"IF(B154=\"\",\"\",BF154*References!$CJ$47)","v":""},null,"","","","","","",{"$f":"IF(E154=\"\",\"\",(BK154/1000)*References!$CK$43)","v":""},"","",null,"",null,{"$f":"IF(OR('Space Heating Worksheet'!AH35=\"\",'Space Heating Worksheet'!AH35=\"DNQ\",'Space Heating Worksheet'!AH35=\"Missing Info\"),\"\",INDEX(References!$CX$3:$CX$26,MATCH('Space Heating Worksheet'!L35&'Space Heating Worksheet'!L54,References!$CY$3:$CY$26,0)))","v":""}]
[4,{"$f":"IF(OR(D155=\"\",D155=\"Select…\"),\"\",INDEX(References!$CR$29:$CR$48,MATCH(Qualifying_Index!D155,References!$CS$29:$CS$48,0)))","v":""},{"$f":"IF(AND('Space Heating Worksheet'!Y36=0,'Space Heating Worksheet'!C36<>\"\"),\"\",IF('Site Information'!$C$6=\"New Construction\",\"None\",IF('Space Heating Worksheet'!Y36=\"Primary Existing System\",'Site Information'!$C$18,'Site Information'!$C$24)))","v":"Select…"},{"$f":"IF(AND('Space Heating Worksheet'!X36=0,'Space Heating Worksheet'!C36<>\"\"),\"\",IF('Site Information'!$C$6=\"New Construction\",\"None\",IF('Space Heating Worksheet'!X36=\"Primary Existing System\",'Site Information'!$C$16,'Site Information'!$C$22)))","v":"Select…"},{"$f":"IF(AND('Space Heating Worksheet'!AI55=\"\",'Space Heating Worksheet'!N36=\"\"),\"\",'Space Heating Worksheet'!AI55)","v":""},{"$f":"IF($B155=\"\",\"\",IF(Existing_Heating_Source=\"Existing Building\",INDEX(References!$CE$40:$CF$41,MATCH(Customer_Sector,References!$CB$40:$CB$41,0),MATCH(F$151,References!$CE$39:$CF$39,0)),INDEX(References!$CC$40:$CD$41,MATCH(Customer_Sector,References!$CB$40:$CB$41,0),MATCH(F$151,References!$CC$39:$CD$39,0))))","v":""},{"$f":"IF('Space Heating Worksheet'!$C36=\"\",\"\",IF(OR('Space Heating Worksheet'!$AB36=0,$D155=\"None\"),INDEX(References!CT$29:CT$48,MATCH($D155,References!$CS$29:$CS$48,0)),'Space Heating Worksheet'!$AB36))","v":""},{"$f":"IF('Space Heating Worksheet'!$C36=\"\",\"\",IF(OR('Space Heating Worksheet'!$AB36=0,$D155=\"None\"),INDEX(References!CU$29:CU$48,MATCH($D155,References!$CS$29:$CS$48,0)),'Space Heating Worksheet'!$AB36))","v":""},{"$f":"IF('Space Heating Worksheet'!$C36=\"\",\"\",IF(OR('Space Heating Worksheet'!$AB36=0,$D155=\"None\"),INDEX(References!CV$29:CV$48,MATCH($D155,References!$CS$29:$CS$48,0)),'Space Heating Worksheet'!$AB36))","v":""},{"$f":"IF(OR('Space Heating Worksheet'!F36=\"\",'Space Heating Worksheet'!F36=0),\"\",INDEX(References!$CJ$30:$CJ$34,MATCH('Space Heating Worksheet'!F36,References!$CI$30:$CI$34,0)))","v":""},{"$f":"IF('Space Heating Worksheet'!S36=\"\",\"\",'Space Heating Worksheet'!S36)","v":""},{"$f":"IF('Space Heating Worksheet'!U36=\"\",\"\",'Space Heating Worksheet'!U36)","v":""},{"$f":"IF(OR(C155=\"\",C155=0),\"\",IF(C155=\"CAC\",References!$CP$47,References!$CP$48))","v":0.97},{"$f":"IF(OR(K155=\"\",K155=0),\"\",INDEX(References!$CF$72:$CF$74,MATCH('Space Heating Worksheet'!I36,References!$CB$72:$CB$74,0)))","v":""},{"$f":"IF(OR(K155=\"\",K155=0),\"\",INDEX(References!$CF$75:$CF$77,MATCH('Space Heating Worksheet'!I36,References!$CB$75:$CB$77,0)))","v":""},{"$f":"IF(K155=\"\",\"\",IF(OR('Space Heating Worksheet'!H36=\"Single Stage\",NOT(ISNUMBER('Space Heating Worksheet'!U36))),IF(J155=\"Open Loop/Well\",K155*N155,K155*N155*References!$CP$44),IF(J155=\"Open Loop/Well\",((K155*References!$CS$50*N155)+(L155*References!$CS$51*O155))*M155,((K155*References!$CS$50*N155)+(L155*References!$CS$51*O155))*References!$CP$44*M155)))","v":""},{"$f":"IF(E155=\"\",\"\",IF(B155=\"None\",E155*(1/100000)*(1/G155)*F155*References!$CW$51*References!$CW$53,IF(B155=\"NG\",E155*(1/100000)*(1/G155)*F155,0)))","v":""},{"$f":"IF(E155=\"\",\"\",IF(B155=\"None\",E155*(1/(References!$CL$51*1000000))*(1/G155)*F155*References!$CW$52*References!$CW$53,IF(B155=\"Oil\",E155*(1/(References!$CL$51*1000000))*(1/G155)*F155,0)))","v":""},{"$f":"IF(E155=\"\",\"\",IF(B155=\"LP\",E155*(1/(References!$CL$52*1000000))*(1/G155)*F155,0))","v":""},{"$f":"IF(E155=\"\",\"\",IF(B155=\"None\",E155*(1/H155)*F155/3412*References!$CW$54,IF(B155=\"Electric\",E155*(1/H155)*F155/3412,0)))","v":""},{"$f":"IF(E155=\"\",\"\",IF(B155=\"None\",E155*(1/H155)/3412*References!$CW$54,IF(B155=\"Electric\",E155*(1/H155)/3412,0)))","v":""},"","","","","","","",{"$f":"IF(E155=\"\",\"\",(Q155-V155)*References!$CL$53)","v":""},{"$f":"IF(E155=\"\",\"\",(R155-W155)*References!$CL$51)","v":""},{"$f":"IF(E155=\"\",\"\",(S155-X155)*References!$CL$52)","v":""},{"$f":"IF(E155=\"\",\"\",(T155-Y155)*References!$CJ$47)","v":""},"",{"$f":"IF(E155=\"\",\"\",AC155*References!$CK$53)","v":""},{"$f":"IF(E155=\"\",\"\",AD155*References!$CK$51)","v":""},{"$f":"IF(E155=\"\",\"\",AE155*References!$CK$52)","v":""},{"$f":"IF(E155=\"\",\"\",(AB155/1000)*References!$CK$43)","v":""},"",null,{"$f":"IF(AND('Space Heating Worksheet'!AH55=\"\",'Space Heating Worksheet'!M36=\"\"),\"\",'Space Heating Worksheet'!AH55)","v":""},{"$f":"IF($B155=\"\",\"\",IF(Existing_Heating_Source=\"Existing Building\",INDEX(References!$CE$40:$CF$41,MATCH(Customer_Sector,References!$CB$40:$CB$41,0),MATCH(AO$151,References!$CE$39:$CF$39,0)),INDEX(References!$CC$40:$CD$41,MATCH(Customer_Sector,References!$CB$40:$CB$41,0),MATCH(AO$151,References!$CC$39:$CD$39,0))))","v":""},{"$f":"IF('Space Heating Worksheet'!$C36=\"\",\"\",IF(OR('Space Heating Worksheet'!Z36=0,$C155=\"None\"),INDEX(References!CT$19:CT$25,MATCH($C155,References!$CS$19:$CS$25,0)),'Space Heating Worksheet'!Z36))","v":""},{"$f":"IF('Space Heating Worksheet'!$C36=\"\",\"\",IF(OR('Space Heating Worksheet'!AA36=0,$C155=\"None\"),INDEX(References!CU$19:CU$25,MATCH($C155,References!$CS$19:$CS$25,0)),'Space Heating Worksheet'!AA36))","v":""},"",{"$f":"IF(OR('Space Heating Worksheet'!F36=\"\",'Space Heating Worksheet'!F36=0),\"\",INDEX(References!$CJ$30:$CJ$34,MATCH('Space Heating Worksheet'!F36,References!$CI$30:$CI$34,0)))","v":""},{"$f":"IF('Space Heating Worksheet'!R36=\"\",\"\",'Space Heating Worksheet'!R36)","v":""},{"$f":"IF('Space Heating Worksheet'!T36=\"\",\"\",'Space Heating Worksheet'!T36)","v":""},{"$f":"IF(OR(C155=\"\",C155=0),\"\",References!$CP$46)","v":0.95},{"$f":"IF(OR('Space Heating Worksheet'!C36=\"\",'Space Heating Worksheet'!C36=0),\"\",INDEX(References!$CE$72:$CE$74,MATCH('Space Heating Worksheet'!I36,References!$CB$72:$CB$74,0)))","v":""},{"$f":"IF(OR(K155=\"\",K155=0),\"\",INDEX(References!$CE$75:$CE$77,MATCH('Space Heating Worksheet'!I36,References!$CB$75:$CB$77,0)))","v":""},{"$f":"IF(AT155=\"\",\"\",IF(OR('Space Heating Worksheet'!H36=\"Single Stage\",NOT(ISNUMBER('Space Heating Worksheet'!U36))),IF(J155=\"Open Loop/Well\",AT155*AW155,AT155*AW155*References!$CP$43),IF(J155=\"Open Loop/Well\",((AT155*References!$CS$50*AW155)+(AU155*References!$CS$51*AX155))*References!$CP$43*AV155,((AT155*References!$CS$50*References!$CP$43*AW155)+(AU155*References!$CS$51*AX155))*AV155)))","v":""},"","","",{"$f":"IF(E155=\"\",\"\",BB155*References!$CJ$47)","v":""},null,{"$f":"IF(B155=\"\",\"\",'Space Heating Worksheet'!S55)","v":""},"",{"$f":"IF(B155=\"\",\"\",BF155*References!$CJ$47)","v":""},null,"","","","","","",{"$f":"IF(E155=\"\",\"\",(BK155/1000)*References!$CK$43)","v":""},"","",null,"",null,{"$f":"IF(OR('Space Heating Worksheet'!AH36=\"\",'Space Heating Worksheet'!AH36=\"DNQ\",'Space Heating Worksheet'!AH36=\"Missing Info\"),\"\",INDEX(References!$CX$3:$CX$26,MATCH('Space Heating Worksheet'!L36&'Space Heating Worksheet'!L55,References!$CY$3:$CY$26,0)))","v":""}]
[5,{"$f":"IF(OR(D156=\"\",D156=\"Select…\"),\"\",INDEX(References!$CR$29:$CR$48,MATCH(Qualifying_Index!D156,References!$CS$29:$CS$48,0)))","v":""},{"$f":"IF(AND('Space Heating Worksheet'!Y37=0,'Space Heating Worksheet'!C37<>\"\"),\"\",IF('Site Information'!$C$6=\"New Construction\",\"None\",IF('Space Heating Worksheet'!Y37=\"Primary Existing System\",'Site Information'!$C$18,'Site Information'!$C$24)))","v":"Select…"},{"$f":"IF(AND('Space Heating Worksheet'!X37=0,'Space Heating Worksheet'!C37<>\"\"),\"\",IF('Site Information'!$C$6=\"New Construction\",\"None\",IF('Space Heating Worksheet'!X37=\"Primary Existing System\",'Site Information'!$C$16,'Site Information'!$C$22)))","v":"Select…"},{"$f":"IF(AND('Space Heating Worksheet'!AI56=\"\",'Space Heating Worksheet'!N37=\"\"),\"\",'Space Heating Worksheet'!AI56)","v":""},{"$f":"IF($B156=\"\",\"\",IF(Existing_Heating_Source=\"Existing Building\",INDEX(References!$CE$40:$CF$41,MATCH(Customer_Sector,References!$CB$40:$CB$41,0),MATCH(F$151,References!$CE$39:$CF$39,0)),INDEX(References!$CC$40:$CD$41,MATCH(Customer_Sector,References!$CB$40:$CB$41,0),MATCH(F$151,References!$CC$39:$CD$39,0))))","v":""},{"$f":"IF('Space Heating Worksheet'!$C37=\"\",\"\",IF(OR('Space Heating Worksheet'!$AB37=0,$D156=\"None\"),INDEX(References!CT$29:CT$48,MATCH($D156,References!$CS$29:$CS$48,0)),'Space Heating Worksheet'!$AB37))","v":""},{"$f":"IF('Space Heating Worksheet'!$C37=\"\",\"\",IF(OR('Space Heating Worksheet'!$AB37=0,$D156=\"None\"),INDEX(References!CU$29:CU$48,MATCH($D156,References!$CS$29:$CS$48,0)),'Space Heating Worksheet'!$AB37))","v":""},{"$f":"IF('Space Heating Worksheet'!$C37=\"\",\"\",IF(OR('Space Heating Worksheet'!$AB37=0,$D156=\"None\"),INDEX(References!CV$29:CV$48,MATCH($D156,References!$CS$29:$CS$48,0)),'Space Heating Worksheet'!$AB37))","v":""},{"$f":"IF(OR('Space Heating Worksheet'!F37=\"\",'Space Heating Worksheet'!F37=0),\"\",INDEX(References!$CJ$30:$CJ$34,MATCH('Space Heating Worksheet'!F37,References!$CI$30:$CI$34,0)))","v":""},{"$f":"IF('Space Heating Worksheet'!S37=\"\",\"\",'Space Heating Worksheet'!S37)","v":""},{"$f":"IF('Space Heating Worksheet'!U37=\"\",\"\",'Space Heating Worksheet'!U37)","v":""},{"$f":"IF(OR(C156=\"\",C156=0),\"\",IF(C156=\"CAC\",References!$CP$47,References!$CP$48))","v":0.97},{"$f":"IF(OR(K156=\"\",K156=0),\"\",INDEX(References!$CF$72:$CF$74,MATCH('Space Heating Worksheet'!I37,References!$CB$72:$CB$74,0)))","v":""},{"$f":"IF(OR(K156=\"\",K156=0),\"\",INDEX(References!$CF$75:$CF$77,MATCH('Space Heating Worksheet'!I37,References!$CB$75:$CB$77,0)))","v":""},{"$f":"IF(K156=\"\",\"\",IF(OR('Space Heating Worksheet'!H37=\"Single Stage\",NOT(ISNUMBER('Space Heating Worksheet'!U37))),IF(J156=\"Open Loop/Well\",K156*N156,K156*N156*References!$CP$44),IF(J156=\"Open Loop/Well\",((K156*References!$CS$50*N156)+(L156*References!$CS$51*O156))*M156,((K156*References!$CS$50*N156)+(L156*References!$CS$51*O156))*References!$CP$44*M156)))","v":""},{"$f":"IF(E156=\"\",\"\",IF(B156=\"None\",E156*(1/100000)*(1/G156)*F156*References!$CW$51*References!$CW$53,IF(B156=\"NG\",E156*(1/100000)*(1/G156)*F156,0)))","v":""},{"$f":"IF(E156=\"\",\"\",IF(B156=\"None\",E156*(1/(References!$CL$51*1000000))*(1/G156)*F156*References!$CW$52*References!$CW$53,IF(B156=\"Oil\",E156*(1/(References!$CL$51*1000000))*(1/G156)*F156,0)))","v":""},{"$f":"IF(E156=\"\",\"\",IF(B156=\"LP\",E156*(1/(References!$CL$52*1000000))*(1/G156)*F156,0))","v":""},{"$f":"IF(E156=\"\",\"\",IF(B156=\"None\",E156*(1/H156)*F156/3412*References!$CW$54,IF(B156=\"Electric\",E156*(1/H156)*F156/3412,0)))","v":""},{"$f":"IF(E156=\"\",\"\",IF(B156=\"None\",E156*(1/H156)/3412*References!$CW$54,IF(B156=\"Electric\",E156*(1/H156)/3412,0)))","v":""},"","","","","","","",{"$f":"IF(E156=\"\",\"\",(Q156-V156)*References!$CL$53)","v":""},{"$f":"IF(E156=\"\",\"\",(R156-W156)*References!$CL$51)","v":""},{"$f":"IF(E156=\"\",\"\",(S156-X156)*References!$CL$52)","v":""},{"$f":"IF(E156=\"\",\"\",(T156-Y156)*References!$CJ$47)","v":""},"",{"$f":"IF(E156=\"\",\"\",AC156*References!$CK$53)","v":""},{"$f":"IF(E156=\"\",\"\",AD156*References!$CK$51)","v":""},{"$f":"IF(E156=\"\",\"\",AE156*References!$CK$52)","v":""},{"$f":"IF(E156=\"\",\"\",(AB156/1000)*References!$CK$43)","v":""},"",null,{"$f":"IF(AND('Space Heating Worksheet'!AH56=\"\",'Space Heating Worksheet'!M37=\"\"),\"\",'Space Heating Worksheet'!AH56)","v":""},{"$f":"IF($B156=\"\",\"\",IF(Existing_Heating_Source=\"Existing Building\",INDEX(References!$CE$40:$CF$41,MATCH(Customer_Sector,References!$CB$40:$CB$41,0),MATCH(AO$151,References!$CE$39:$CF$39,0)),INDEX(References!$CC$40:$CD$41,MATCH(Customer_Sector,References!$CB$40:$CB$41,0),MATCH(AO$151,References!$CC$39:$CD$39,0))))","v":""},{"$f":"IF('Space Heating Worksheet'!$C37=\"\",\"\",IF(OR('Space Heating Worksheet'!Z37=0,$C156=\"None\"),INDEX(References!CT$19:CT$25,MATCH($C156,References!$CS$19:$CS$25,0)),'Space Heating Worksheet'!Z37))","v":""},{"$f":"IF('Space Heating Worksheet'!$C37=\"\",\"\",IF(OR('Space Heating Worksheet'!AA37=0,$C156=\"None\"),INDEX(References!CU$19:CU$25,MATCH($C156,References!$CS$19:$CS$25,0)),'Space Heating Worksheet'!AA37))","v":""},"",{"$f":"IF(OR('Space Heating Worksheet'!F37=\"\",'Space Heating Worksheet'!F37=0),\"\",INDEX(References!$CJ$30:$CJ$34,MATCH('Space Heating Worksheet'!F37,References!$CI$30:$CI$34,0)))","v":""},{"$f":"IF('Space Heating Worksheet'!R37=\"\",\"\",'Space Heating Worksheet'!R37)","v":""},{"$f":"IF('Space Heating Worksheet'!T37=\"\",\"\",'Space Heating Worksheet'!T37)","v":""},{"$f":"IF(OR(C156=\"\",C156=0),\"\",References!$CP$46)","v":0.95},{"$f":"IF(OR('Space Heating Worksheet'!C37=\"\",'Space Heating Worksheet'!C37=0),\"\",INDEX(References!$CE$72:$CE$74,MATCH('Space Heating Worksheet'!I37,References!$CB$72:$CB$74,0)))","v":""},{"$f":"IF(OR(K156=\"\",K156=0),\"\",INDEX(References!$CE$75:$CE$77,MATCH('Space Heating Worksheet'!I37,References!$CB$75:$CB$77,0)))","v":""},{"$f":"IF(AT156=\"\",\"\",IF(OR('Space Heating Worksheet'!H37=\"Single Stage\",NOT(ISNUMBER('Space Heating Worksheet'!U37))),IF(J156=\"Open Loop/Well\",AT156*AW156,AT156*AW156*References!$CP$43),IF(J156=\"Open Loop/Well\",((AT156*References!$CS$50*AW156)+(AU156*References!$CS$51*AX156))*References!$CP$43*AV156,((AT156*References!$CS$50*References!$CP$43*AW156)+(AU156*References!$CS$51*AX156))*AV156)))","v":""},"","","",{"$f":"IF(E156=\"\",\"\",BB156*References!$CJ$47)","v":""},null,{"$f":"IF(B156=\"\",\"\",'Space Heating Worksheet'!S56)","v":""},"",{"$f":"IF(B156=\"\",\"\",BF156*References!$CJ$47)","v":""},null,"","","","","","",{"$f":"IF(E156=\"\",\"\",(BK156/1000)*References!$CK$43)","v":""},"","",null,"",null,{"$f":"IF(OR('Space Heating Worksheet'!AH37=\"\",'Space Heating Worksheet'!AH37=\"DNQ\",'Space Heating Worksheet'!AH37=\"Missing Info\"),\"\",INDEX(References!$CX$3:$CX$26,MATCH('Space Heating Worksheet'!L37&'Space Heating Worksheet'!L56,References!$CY$3:$CY$26,0)))","v":""}]
[6,{"$f":"IF(OR(D157=\"\",D157=\"Select…\"),\"\",INDEX(References!$CR$29:$CR$48,MATCH(Qualifying_Index!D157,References!$CS$29:$CS$48,0)))","v":""},{"$f":"IF(AND('Space Heating Worksheet'!Y38=0,'Space Heating Worksheet'!C38<>\"\"),\"\",IF('Site Information'!$C$6=\"New Construction\",\"None\",IF('Space Heating Worksheet'!Y38=\"Primary Existing System\",'Site Information'!$C$18,'Site Information'!$C$24)))","v":"Select…"},{"$f":"IF(AND('Space Heating Worksheet'!X38=0,'Space Heating Worksheet'!C38<>\"\"),\"\",IF('Site Information'!$C$6=\"New Construction\",\"None\",IF('Space Heating Worksheet'!X38=\"Primary Existing System\",'Site Information'!$C$16,'Site Information'!$C$22)))","v":"Select…"},{"$f":"IF(AND('Space Heating Worksheet'!AI57=\"\",'Space Heating Worksheet'!N38=\"\"),\"\",'Space Heating Worksheet'!AI57)","v":""},{"$f":"IF($B157=\"\",\"\",IF(Existing_Heating_Source=\"Existing Building\",INDEX(References!$CE$40:$CF$41,MATCH(Customer_Sector,References!$CB$40:$CB$41,0),MATCH(F$151,References!$CE$39:$CF$39,0)),INDEX(References!$CC$40:$CD$41,MATCH(Customer_Sector,References!$CB$40:$CB$41,0),MATCH(F$151,References!$CC$39:$CD$39,0))))","v":""},{"$f":"IF('Space Heating Worksheet'!$C38=\"\",\"\",IF(OR('Space Heating Worksheet'!$AB38=0,$D157=\"None\"),INDEX(References!CT$29:CT$48,MATCH($D157,References!$CS$29:$CS$48,0)),'Space Heating Worksheet'!$AB38))","v":""},{"$f":"IF('Space Heating Worksheet'!$C38=\"\",\"\",IF(OR('Space Heating Worksheet'!$AB38=0,$D157=\"None\"),INDEX(References!CU$29:CU$48,MATCH($D157,References!$CS$29:$CS$48,0)),'Space Heating Worksheet'!$AB38))","v":""},{"$f":"IF('Space Heating Worksheet'!$C38=\"\",\"\",IF(OR('Space Heating Worksheet'!$AB38=0,$D157=\"None\"),INDEX(References!CV$29:CV$48,MATCH($D157,References!$CS$29:$CS$48,0)),'Space Heating Worksheet'!$AB38))","v":""},{"$f":"IF(OR('Space Heating Worksheet'!F38=\"\",'Space Heating Worksheet'!F38=0),\"\",INDEX(References!$CJ$30:$CJ$34,MATCH('Space Heating Worksheet'!F38,References!$CI$30:$CI$34,0)))","v":""},{"$f":"IF('Space Heating Worksheet'!S38=\"\",\"\",'Space Heating Worksheet'!S38)","v":""},{"$f":"IF('Space Heating Worksheet'!U38=\"\",\"\",'Space Heating Worksheet'!U38)","v":""},{"$f":"IF(OR(C157=\"\",C157=0),\"\",IF(C157=\"CAC\",References!$CP$47,References!$CP$48))","v":0.97},{"$f":"IF(OR(K157=\"\",K157=0),\"\",INDEX(References!$CF$72:$CF$74,MATCH('Space Heating Worksheet'!I38,References!$CB$72:$CB$74,0)))","v":""},{"$f":"IF(OR(K157=\"\",K157=0),\"\",INDEX(References!$CF$75:$CF$77,MATCH('Space Heating Worksheet'!I38,References!$CB$75:$CB$77,0)))","v":""},{"$f":"IF(K157=\"\",\"\",IF(OR('Space Heating Worksheet'!H38=\"Single Stage\",NOT(ISNUMBER('Space Heating Worksheet'!U38))),IF(J157=\"Open Loop/Well\",K157*N157,K157*N157*References!$CP$44),IF(J157=\"Open Loop/Well\",((K157*References!$CS$50*N157)+(L157*References!$CS$51*O157))*M157,((K157*References!$CS$50*N157)+(L157*References!$CS$51*O157))*References!$CP$44*M157)))","v":""},{"$f":"IF(E157=\"\",\"\",IF(B157=\"None\",E157*(1/100000)*(1/G157)*F157*References!$CW$51*References!$CW$53,IF(B157=\"NG\",E157*(1/100000)*(1/G157)*F157,0)))","v":""},{"$f":"IF(E157=\"\",\"\",IF(B157=\"None\",E157*(1/(References!$CL$51*1000000))*(1/G157)*F157*References!$CW$52*References!$CW$53,IF(B157=\"Oil\",E157*(1/(References!$CL$51*1000000))*(1/G157)*F157,0)))","v":""},{"$f":"IF(E157=\"\",\"\",IF(B157=\"LP\",E157*(1/(References!$CL$52*1000000))*(1/G157)*F157,0))","v":""},{"$f":"IF(E157=\"\",\"\",IF(B157=\"None\",E157*(1/H157)*F157/3412*References!$CW$54,IF(B157=\"Electric\",E157*(1/H157)*F157/3412,0)))","v":""},{"$f":"IF(E157=\"\",\"\",IF(B157=\"None\",E157*(1/H157)/3412*References!$CW$54,IF(B157=\"Electric\",E157*(1/H157)/3412,0)))","v":""},"","","","","","","",{"$f":"IF(E157=\"\",\"\",(Q157-V157)*References!$CL$53)","v":""},{"$f":"IF(E157=\"\",\"\",(R157-W157)*References!$CL$51)","v":""},{"$f":"IF(E157=\"\",\"\",(S157-X157)*References!$CL$52)","v":""},{"$f":"IF(E157=\"\",\"\",(T157-Y157)*References!$CJ$47)","v":""},"",{"$f":"IF(E157=\"\",\"\",AC157*References!$CK$53)","v":""},{"$f":"IF(E157=\"\",\"\",AD157*References!$CK$51)","v":""},{"$f":"IF(E157=\"\",\"\",AE157*References!$CK$52)","v":""},{"$f":"IF(E157=\"\",\"\",(AB157/1000)*References!$CK$43)","v":""},"",null,{"$f":"IF(AND('Space Heating Worksheet'!AH57=\"\",'Space Heating Worksheet'!M38=\"\"),\"\",'Space Heating Worksheet'!AH57)","v":""},{"$f":"IF($B157=\"\",\"\",IF(Existing_Heating_Source=\"Existing Building\",INDEX(References!$CE$40:$CF$41,MATCH(Customer_Sector,References!$CB$40:$CB$41,0),MATCH(AO$151,References!$CE$39:$CF$39,0)),INDEX(References!$CC$40:$CD$41,MATCH(Customer_Sector,References!$CB$40:$CB$41,0),MATCH(AO$151,References!$CC$39:$CD$39,0))))","v":""},{"$f":"IF('Space Heating Worksheet'!$C38=\"\",\"\",IF(OR('Space Heating Worksheet'!Z38=0,$C157=\"None\"),INDEX(References!CT$19:CT$25,MATCH($C157,References!$CS$19:$CS$25,0)),'Space Heating Worksheet'!Z38))","v":""},{"$f":"IF('Space Heating Worksheet'!$C38=\"\",\"\",IF(OR('Space Heating Worksheet'!AA38=0,$C157=\"None\"),INDEX(References!CU$19:CU$25,MATCH($C157,References!$CS$19:$CS$25,0)),'Space Heating Worksheet'!AA38))","v":""},"",{"$f":"IF(OR('Space Heating Worksheet'!F38=\"\",'Space Heating Worksheet'!F38=0),\"\",INDEX(References!$CJ$30:$CJ$34,MATCH('Space Heating Worksheet'!F38,References!$CI$30:$CI$34,0)))","v":""},{"$f":"IF('Space Heating Worksheet'!R38=\"\",\"\",'Space Heating Worksheet'!R38)","v":""},{"$f":"IF('Space Heating Worksheet'!T38=\"\",\"\",'Space Heating Worksheet'!T38)","v":""},{"$f":"IF(OR(C157=\"\",C157=0),\"\",References!$CP$46)","v":0.95},{"$f":"IF(OR('Space Heating Worksheet'!C38=\"\",'Space Heating Worksheet'!C38=0),\"\",INDEX(References!$CE$72:$CE$74,MATCH('Space Heating Worksheet'!I38,References!$CB$72:$CB$74,0)))","v":""},{"$f":"IF(OR(K157=\"\",K157=0),\"\",INDEX(References!$CE$75:$CE$77,MATCH('Space Heating Worksheet'!I38,References!$CB$75:$CB$77,0)))","v":""},{"$f":"IF(AT157=\"\",\"\",IF(OR('Space Heating Worksheet'!H38=\"Single Stage\",NOT(ISNUMBER('Space Heating Worksheet'!U38))),IF(J157=\"Open Loop/Well\",AT157*AW157,AT157*AW157*References!$CP$43),IF(J157=\"Open Loop/Well\",((AT157*References!$CS$50*AW157)+(AU157*References!$CS$51*AX157))*References!$CP$43*AV157,((AT157*References!$CS$50*References!$CP$43*AW157)+(AU157*References!$CS$51*AX157))*AV157)))","v":""},"","","",{"$f":"IF(E157=\"\",\"\",BB157*References!$CJ$47)","v":""},null,{"$f":"IF(B157=\"\",\"\",'Space Heating Worksheet'!S57)","v":""},"",{"$f":"IF(B157=\"\",\"\",BF157*References!$CJ$47)","v":""},null,"","","","","","",{"$f":"IF(E157=\"\",\"\",(BK157/1000)*References!$CK$43)","v":""},"","",null,"",null,{"$f":"IF(OR('Space Heating Worksheet'!AH38=\"\",'Space Heating Worksheet'!AH38=\"DNQ\",'Space Heating Worksheet'!AH38=\"Missing Info\"),\"\",INDEX(References!$CX$3:$CX$26,MATCH('Space Heating Worksheet'!L38&'Space Heating Worksheet'!L57,References!$CY$3:$CY$26,0)))","v":""}]
[7,{"$f":"IF(OR(D158=\"\",D158=\"Select…\"),\"\",INDEX(References!$CR$29:$CR$48,MATCH(Qualifying_Index!D158,References!$CS$29:$CS$48,0)))","v":""},{"$f":"IF(AND('Space Heating Worksheet'!Y39=0,'Space Heating Worksheet'!C39<>\"\"),\"\",IF('Site Information'!$C$6=\"New Construction\",\"None\",IF('Space Heating Worksheet'!Y39=\"Primary Existing System\",'Site Information'!$C$18,'Site Information'!$C$24)))","v":"Select…"},{"$f":"IF(AND('Space Heating Worksheet'!X39=0,'Space Heating Worksheet'!C39<>\"\"),\"\",IF('Site Information'!$C$6=\"New Construction\",\"None\",IF('Space Heating Worksheet'!X39=\"Primary Existing System\",'Site Information'!$C$16,'Site Information'!$C$22)))","v":"Select…"},{"$f":"IF(AND('Space Heating Worksheet'!AI58=\"\",'Space Heating Worksheet'!N39=\"\"),\"\",'Space Heating Worksheet'!AI58)","v":""},{"$f":"IF($B158=\"\",\"\",IF(Existing_Heating_Source=\"Existing Building\",INDEX(References!$CE$40:$CF$41,MATCH(Customer_Sector,References!$CB$40:$CB$41,0),MATCH(F$151,References!$CE$39:$CF$39,0)),INDEX(References!$CC$40:$CD$41,MATCH(Customer_Sector,References!$CB$40:$CB$41,0),MATCH(F$151,References!$CC$39:$CD$39,0))))","v":""},{"$f":"IF('Space Heating Worksheet'!$C39=\"\",\"\",IF(OR('Space Heating Worksheet'!$AB39=0,$D158=\"None\"),INDEX(References!CT$29:CT$48,MATCH($D158,References!$CS$29:$CS$48,0)),'Space Heating Worksheet'!$AB39))","v":""},{"$f":"IF('Space Heating Worksheet'!$C39=\"\",\"\",IF(OR('Space Heating Worksheet'!$AB39=0,$D158=\"None\"),INDEX(References!CU$29:CU$48,MATCH($D158,References!$CS$29:$CS$48,0)),'Space Heating Worksheet'!$AB39))","v":""},{"$f":"IF('Space Heating Worksheet'!$C39=\"\",\"\",IF(OR('Space Heating Worksheet'!$AB39=0,$D158=\"None\"),INDEX(References!CV$29:CV$48,MATCH($D158,References!$CS$29:$CS$48,0)),'Space Heating Worksheet'!$AB39))","v":""},{"$f":"IF(OR('Space Heating Worksheet'!F39=\"\",'Space Heating Worksheet'!F39=0),\"\",INDEX(References!$CJ$30:$CJ$34,MATCH('Space Heating Worksheet'!F39,References!$CI$30:$CI$34,0)))","v":""},{"$f":"IF('Space Heating Worksheet'!S39=\"\",\"\",'Space Heating Worksheet'!S39)","v":""},{"$f":"IF('Space Heating Worksheet'!U39=\"\",\"\",'Space Heating Worksheet'!U39)","v":""},{"$f":"IF(OR(C158=\"\",C158=0),\"\",IF(C158=\"CAC\",References!$CP$47,References!$CP$48))","v":0.97},{"$f":"IF(OR(K158=\"\",K158=0),\"\",INDEX(References!$CF$72:$CF$74,MATCH('Space Heating Worksheet'!I39,References!$CB$72:$CB$74,0)))","v":""},{"$f":"IF(OR(K158=\"\",K158=0),\"\",INDEX(References!$CF$75:$CF$77,MATCH('Space Heating Worksheet'!I39,References!$CB$75:$CB$77,0)))","v":""},{"$f":"IF(K158=\"\",\"\",IF(OR('Space Heating Worksheet'!H39=\"Single Stage\",NOT(ISNUMBER('Space Heating Worksheet'!U39))),IF(J158=\"Open Loop/Well\",K158*N158,K158*N158*References!$CP$44),IF(J158=\"Open Loop/Well\",((K158*References!$CS$50*N158)+(L158*References!$CS$51*O158))*M158,((K158*References!$CS$50*N158)+(L158*References!$CS$51*O158))*References!$CP$44*M158)))","v":""},{"$f":"IF(E158=\"\",\"\",IF(B158=\"None\",E158*(1/100000)*(1/G158)*F158*References!$CW$51*References!$CW$53,IF(B158=\"NG\",E158*(1/100000)*(1/G158)*F158,0)))","v":""},{"$f":"IF(E158=\"\",\"\",IF(B158=\"None\",E158*(1/(References!$CL$51*1000000))*(1/G158)*F158*References!$CW$52*References!$CW$53,IF(B158=\"Oil\",E158*(1/(References!$CL$51*1000000))*(1/G158)*F158,0)))","v":""},{"$f":"IF(E158=\"\",\"\",IF(B158=\"LP\",E158*(1/(References!$CL$52*1000000))*(1/G158)*F158,0))","v":""},{"$f":"IF(E158=\"\",\"\",IF(B158=\"None\",E158*(1/H158)*F158/3412*References!$CW$54,IF(B158=\"Electric\",E158*(1/H158)*F158/3412,0)))","v":""},{"$f":"IF(E158=\"\",\"\",IF(B158=\"None\",E158*(1/H158)/3412*References!$CW$54,IF(B158=\"Electric\",E158*(1/H158)/3412,0)))","v":""},"","","","","","","",{"$f":"IF(E158=\"\",\"\",(Q158-V158)*References!$CL$53)","v":""},{"$f":"IF(E158=\"\",\"\",(R158-W158)*References!$CL$51)","v":""},{"$f":"IF(E158=\"\",\"\",(S158-X158)*References!$CL$52)","v":""},{"$f":"IF(E158=\"\",\"\",(T158-Y158)*References!$CJ$47)","v":""},"",{"$f":"IF(E158=\"\",\"\",AC158*References!$CK$53)","v":""},{"$f":"IF(E158=\"\",\"\",AD158*References!$CK$51)","v":""},{"$f":"IF(E158=\"\",\"\",AE158*References!$CK$52)","v":""},{"$f":"IF(E158=\"\",\"\",(AB158/1000)*References!$CK$43)","v":""},"",null,{"$f":"IF(AND('Space Heating Worksheet'!AH58=\"\",'Space Heating Worksheet'!M39=\"\"),\"\",'Space Heating Worksheet'!AH58)","v":""},{"$f":"IF($B158=\"\",\"\",IF(Existing_Heating_Source=\"Existing Building\",INDEX(References!$CE$40:$CF$41,MATCH(Customer_Sector,References!$CB$40:$CB$41,0),MATCH(AO$151,References!$CE$39:$CF$39,0)),INDEX(References!$CC$40:$CD$41,MATCH(Customer_Sector,References!$CB$40:$CB$41,0),MATCH(AO$151,References!$CC$39:$CD$39,0))))","v":""},{"$f":"IF('Space Heating Worksheet'!$C39=\"\",\"\",IF(OR('Space Heating Worksheet'!Z39=0,$C158=\"None\"),INDEX(References!CT$19:CT$25,MATCH($C158,References!$CS$19:$CS$25,0)),'Space Heating Worksheet'!Z39))","v":""},{"$f":"IF('Space Heating Worksheet'!$C39=\"\",\"\",IF(OR('Space Heating Worksheet'!AA39=0,$C158=\"None\"),INDEX(References!CU$19:CU$25,MATCH($C158,References!$CS$19:$CS$25,0)),'Space Heating Worksheet'!AA39))","v":""},"",{"$f":"IF(OR('Space Heating Worksheet'!F39=\"\",'Space Heating Worksheet'!F39=0),\"\",INDEX(References!$CJ$30:$CJ$34,MATCH('Space Heating Worksheet'!F39,References!$CI$30:$CI$34,0)))","v":""},{"$f":"IF('Space Heating Worksheet'!R39=\"\",\"\",'Space Heating Worksheet'!R39)","v":""},{"$f":"IF('Space Heating Worksheet'!T39=\"\",\"\",'Space Heating Worksheet'!T39)","v":""},{"$f":"IF(OR(C158=\"\",C158=0),\"\",References!$CP$46)","v":0.95},{"$f":"IF(OR('Space Heating Worksheet'!C39=\"\",'Space Heating Worksheet'!C39=0),\"\",INDEX(References!$CE$72:$CE$74,MATCH('Space Heating Worksheet'!I39,References!$CB$72:$CB$74,0)))","v":""},{"$f":"IF(OR(K158=\"\",K158=0),\"\",INDEX(References!$CE$75:$CE$77,MATCH('Space Heating Worksheet'!I39,References!$CB$75:$CB$77,0)))","v":""},{"$f":"IF(AT158=\"\",\"\",IF(OR('Space Heating Worksheet'!H39=\"Single Stage\",NOT(ISNUMBER('Space Heating Worksheet'!U39))),IF(J158=\"Open Loop/Well\",AT158*AW158,AT158*AW158*References!$CP$43),IF(J158=\"Open Loop/Well\",((AT158*References!$CS$50*AW158)+(AU158*References!$CS$51*AX158))*References!$CP$43*AV158,((AT158*References!$CS$50*References!$CP$43*AW158)+(AU158*References!$CS$51*AX158))*AV158)))","v":""},"","","",{"$f":"IF(E158=\"\",\"\",BB158*References!$CJ$47)","v":""},null,{"$f":"IF(B158=\"\",\"\",'Space Heating Worksheet'!S58)","v":""},"",{"$f":"IF(B158=\"\",\"\",BF158*References!$CJ$47)","v":""},null,"","","","","","",{"$f":"IF(E158=\"\",\"\",(BK158/1000)*References!$CK$43)","v":""},"","",null,"",null,{"$f":"IF(OR('Space Heating Worksheet'!AH39=\"\",'Space Heating Worksheet'!AH39=\"DNQ\",'Space Heating Worksheet'!AH39=\"Missing Info\"),\"\",INDEX(References!$CX$3:$CX$26,MATCH('Space Heating Worksheet'!L39&'Space Heating Worksheet'!L58,References!$CY$3:$CY$26,0)))","v":""}]
[8,{"$f":"IF(OR(D159=\"\",D159=\"Select…\"),\"\",INDEX(References!$CR$29:$CR$48,MATCH(Qualifying_Index!D159,References!$CS$29:$CS$48,0)))","v":""},{"$f":"IF(AND('Space Heating Worksheet'!Y40=0,'Space Heating Worksheet'!C40<>\"\"),\"\",IF('Site Information'!$C$6=\"New Construction\",\"None\",IF('Space Heating Worksheet'!Y40=\"Primary Existing System\",'Site Information'!$C$18,'Site Information'!$C$24)))","v":"Select…"},{"$f":"IF(AND('Space Heating Worksheet'!X40=0,'Space Heating Worksheet'!C40<>\"\"),\"\",IF('Site Information'!$C$6=\"New Construction\",\"None\",IF('Space Heating Worksheet'!X40=\"Primary Existing System\",'Site Information'!$C$16,'Site Information'!$C$22)))","v":"Select…"},{"$f":"IF(AND('Space Heating Worksheet'!AI59=\"\",'Space Heating Worksheet'!N40=\"\"),\"\",'Space Heating Worksheet'!AI59)","v":""},{"$f":"IF($B159=\"\",\"\",IF(Existing_Heating_Source=\"Existing Building\",INDEX(References!$CE$40:$CF$41,MATCH(Customer_Sector,References!$CB$40:$CB$41,0),MATCH(F$151,References!$CE$39:$CF$39,0)),INDEX(References!$CC$40:$CD$41,MATCH(Customer_Sector,References!$CB$40:$CB$41,0),MATCH(F$151,References!$CC$39:$CD$39,0))))","v":""},{"$f":"IF('Space Heating Worksheet'!$C40=\"\",\"\",IF(OR('Space Heating Worksheet'!$AB40=0,$D159=\"None\"),INDEX(References!CT$29:CT$48,MATCH($D159,References!$CS$29:$CS$48,0)),'Space Heating Worksheet'!$AB40))","v":""},{"$f":"IF('Space Heating Worksheet'!$C40=\"\",\"\",IF(OR('Space Heating Worksheet'!$AB40=0,$D159=\"None\"),INDEX(References!CU$29:CU$48,MATCH($D159,References!$CS$29:$CS$48,0)),'Space Heating Worksheet'!$AB40))","v":""},{"$f":"IF('Space Heating Worksheet'!$C40=\"\",\"\",IF(OR('Space Heating Worksheet'!$AB40=0,$D159=\"None\"),INDEX(References!CV$29:CV$48,MATCH($D159,References!$CS$29:$CS$48,0)),'Space Heating Worksheet'!$AB40))","v":""},{"$f":"IF(OR('Space Heating Worksheet'!F40=\"\",'Space Heating Worksheet'!F40=0),\"\",INDEX(References!$CJ$30:$CJ$34,MATCH('Space Heating Worksheet'!F40,References!$CI$30:$CI$34,0)))","v":""},{"$f":"IF('Space Heating Worksheet'!S40=\"\",\"\",'Space Heating Worksheet'!S40)","v":""},{"$f":"IF('Space Heating Worksheet'!U40=\"\",\"\",'Space Heating Worksheet'!U40)","v":""},{"$f":"IF(OR(C159=\"\",C159=0),\"\",IF(C159=\"CAC\",References!$CP$47,References!$CP$48))","v":0.97},{"$f":"IF(OR(K159=\"\",K159=0),\"\",INDEX(References!$CF$72:$CF$74,MATCH('Space Heating Worksheet'!I40,References!$CB$72:$CB$74,0)))","v":""},{"$f":"IF(OR(K159=\"\",K159=0),\"\",INDEX(References!$CF$75:$CF$77,MATCH('Space Heating Worksheet'!I40,References!$CB$75:$CB$77,0)))","v":""},{"$f":"IF(K159=\"\",\"\",IF(OR('Space Heating Worksheet'!H40=\"Single Stage\",NOT(ISNUMBER('Space Heating Worksheet'!U40))),IF(J159=\"Open Loop/Well\",K159*N159,K159*N159*References!$CP$44),IF(J159=\"Open Loop/Well\",((K159*References!$CS$50*N159)+(L159*References!$CS$51*O159))*M159,((K159*References!$CS$50*N159)+(L159*References!$CS$51*O159))*References!$CP$44*M159)))","v":""},{"$f":"IF(E159=\"\",\"\",IF(B159=\"None\",E159*(1/100000)*(1/G159)*F159*References!$CW$51*References!$CW$53,IF(B159=\"NG\",E159*(1/100000)*(1/G159)*F159,0)))","v":""},{"$f":"IF(E159=\"\",\"\",IF(B159=\"None\",E159*(1/(References!$CL$51*1000000))*(1/G159)*F159*References!$CW$52*References!$CW$53,IF(B159=\"Oil\",E159*(1/(References!$CL$51*1000000))*(1/G159)*F159,0)))","v":""},{"$f":"IF(E159=\"\",\"\",IF(B159=\"LP\",E159*(1/(References!$CL$52*1000000))*(1/G159)*F159,0))","v":""},{"$f":"IF(E159=\"\",\"\",IF(B159=\"None\",E159*(1/H159)*F159/3412*References!$CW$54,IF(B159=\"Electric\",E159*(1/H159)*F159/3412,0)))","v":""},{"$f":"IF(E159=\"\",\"\",IF(B159=\"None\",E159*(1/H159)/3412*References!$CW$54,IF(B159=\"Electric\",E159*(1/H159)/3412,0)))","v":""},"","","","","","","",{"$f":"IF(E159=\"\",\"\",(Q159-V159)*References!$CL$53)","v":""},{"$f":"IF(E159=\"\",\"\",(R159-W159)*References!$CL$51)","v":""},{"$f":"IF(E159=\"\",\"\",(S159-X159)*References!$CL$52)","v":""},{"$f":"IF(E159=\"\",\"\",(T159-Y159)*References!$CJ$47)","v":""},"",{"$f":"IF(E159=\"\",\"\",AC159*References!$CK$53)","v":""},{"$f":"IF(E159=\"\",\"\",AD159*References!$CK$51)","v":""},{"$f":"IF(E159=\"\",\"\",AE159*References!$CK$52)","v":""},{"$f":"IF(E159=\"\",\"\",(AB159/1000)*References!$CK$43)","v":""},"",null,{"$f":"IF(AND('Space Heating Worksheet'!AH59=\"\",'Space Heating Worksheet'!M40=\"\"),\"\",'Space Heating Worksheet'!AH59)","v":""},{"$f":"IF($B159=\"\",\"\",IF(Existing_Heating_Source=\"Existing Building\",INDEX(References!$CE$40:$CF$41,MATCH(Customer_Sector,References!$CB$40:$CB$41,0),MATCH(AO$151,References!$CE$39:$CF$39,0)),INDEX(References!$CC$40:$CD$41,MATCH(Customer_Sector,References!$CB$40:$CB$41,0),MATCH(AO$151,References!$CC$39:$CD$39,0))))","v":""},{"$f":"IF('Space Heating Worksheet'!$C40=\"\",\"\",IF(OR('Space Heating Worksheet'!Z40=0,$C159=\"None\"),INDEX(References!CT$19:CT$25,MATCH($C159,References!$CS$19:$CS$25,0)),'Space Heating Worksheet'!Z40))","v":""},{"$f":"IF('Space Heating Worksheet'!$C40=\"\",\"\",IF(OR('Space Heating Worksheet'!AA40=0,$C159=\"None\"),INDEX(References!CU$19:CU$25,MATCH($C159,References!$CS$19:$CS$25,0)),'Space Heating Worksheet'!AA40))","v":""},"",{"$f":"IF(OR('Space Heating Worksheet'!F40=\"\",'Space Heating Worksheet'!F40=0),\"\",INDEX(References!$CJ$30:$CJ$34,MATCH('Space Heating Worksheet'!F40,References!$CI$30:$CI$34,0)))","v":""},{"$f":"IF('Space Heating Worksheet'!R40=\"\",\"\",'Space Heating Worksheet'!R40)","v":""},{"$f":"IF('Space Heating Worksheet'!T40=\"\",\"\",'Space Heating Worksheet'!T40)","v":""},{"$f":"IF(OR(C159=\"\",C159=0),\"\",References!$CP$46)","v":0.95},{"$f":"IF(OR('Space Heating Worksheet'!C40=\"\",'Space Heating Worksheet'!C40=0),\"\",INDEX(References!$CE$72:$CE$74,MATCH('Space Heating Worksheet'!I40,References!$CB$72:$CB$74,0)))","v":""},{"$f":"IF(OR(K159=\"\",K159=0),\"\",INDEX(References!$CE$75:$CE$77,MATCH('Space Heating Worksheet'!I40,References!$CB$75:$CB$77,0)))","v":""},{"$f":"IF(AT159=\"\",\"\",IF(OR('Space Heating Worksheet'!H40=\"Single Stage\",NOT(ISNUMBER('Space Heating Worksheet'!U40))),IF(J159=\"Open Loop/Well\",AT159*AW159,AT159*AW159*References!$CP$43),IF(J159=\"Open Loop/Well\",((AT159*References!$CS$50*AW159)+(AU159*References!$CS$51*AX159))*References!$CP$43*AV159,((AT159*References!$CS$50*References!$CP$43*AW159)+(AU159*References!$CS$51*AX159))*AV159)))","v":""},"","","",{"$f":"IF(E159=\"\",\"\",BB159*References!$CJ$47)","v":""},null,{"$f":"IF(B159=\"\",\"\",'Space Heating Worksheet'!S59)","v":""},"",{"$f":"IF(B159=\"\",\"\",BF159*References!$CJ$47)","v":""},null,"","","","","","",{"$f":"IF(E159=\"\",\"\",(BK159/1000)*References!$CK$43)","v":""},"","",null,"",null,{"$f":"IF(OR('Space Heating Worksheet'!AH40=\"\",'Space Heating Worksheet'!AH40=\"DNQ\",'Space Heating Worksheet'!AH40=\"Missing Info\"),\"\",INDEX(References!$CX$3:$CX$26,MATCH('Space Heating Worksheet'!L40&'Space Heating Worksheet'!L59,References!$CY$3:$CY$26,0)))","v":""}]
[9,{"$f":"IF(OR(D160=\"\",D160=\"Select…\"),\"\",INDEX(References!$CR$29:$CR$48,MATCH(Qualifying_Index!D160,References!$CS$29:$CS$48,0)))","v":""},{"$f":"IF(AND('Space Heating Worksheet'!Y41=0,'Space Heating Worksheet'!C41<>\"\"),\"\",IF('Site Information'!$C$6=\"New Construction\",\"None\",IF('Space Heating Worksheet'!Y41=\"Primary Existing System\",'Site Information'!$C$18,'Site Information'!$C$24)))","v":"Select…"},{"$f":"IF(AND('Space Heating Worksheet'!X41=0,'Space Heating Worksheet'!C41<>\"\"),\"\",IF('Site Information'!$C$6=\"New Construction\",\"None\",IF('Space Heating Worksheet'!X41=\"Primary Existing System\",'Site Information'!$C$16,'Site Information'!$C$22)))","v":"Select…"},{"$f":"IF(AND('Space Heating Worksheet'!AI60=\"\",'Space Heating Worksheet'!N41=\"\"),\"\",'Space Heating Worksheet'!AI60)","v":""},{"$f":"IF($B160=\"\",\"\",IF(Existing_Heating_Source=\"Existing Building\",INDEX(References!$CE$40:$CF$41,MATCH(Customer_Sector,References!$CB$40:$CB$41,0),MATCH(F$151,References!$CE$39:$CF$39,0)),INDEX(References!$CC$40:$CD$41,MATCH(Customer_Sector,References!$CB$40:$CB$41,0),MATCH(F$151,References!$CC$39:$CD$39,0))))","v":""},{"$f":"IF('Space Heating Worksheet'!$C41=\"\",\"\",IF(OR('Space Heating Worksheet'!$AB41=0,$D160=\"None\"),INDEX(References!CT$29:CT$48,MATCH($D160,References!$CS$29:$CS$48,0)),'Space Heating Worksheet'!$AB41))","v":""},{"$f":"IF('Space Heating Worksheet'!$C41=\"\",\"\",IF(OR('Space Heating Worksheet'!$AB41=0,$D160=\"None\"),INDEX(References!CU$29:CU$48,MATCH($D160,References!$CS$29:$CS$48,0)),'Space Heating Worksheet'!$AB41))","v":""},{"$f":"IF('Space Heating Worksheet'!$C41=\"\",\"\",IF(OR('Space Heating Worksheet'!$AB41=0,$D160=\"None\"),INDEX(References!CV$29:CV$48,MATCH($D160,References!$CS$29:$CS$48,0)),'Space Heating Worksheet'!$AB41))","v":""},{"$f":"IF(OR('Space Heating Worksheet'!F41=\"\",'Space Heating Worksheet'!F41=0),\"\",INDEX(References!$CJ$30:$CJ$34,MATCH('Space Heating Worksheet'!F41,References!$CI$30:$CI$34,0)))","v":""},{"$f":"IF('Space Heating Worksheet'!S41=\"\",\"\",'Space Heating Worksheet'!S41)","v":""},{"$f":"IF('Space Heating Worksheet'!U41=\"\",\"\",'Space Heating Worksheet'!U41)","v":""},{"$f":"IF(OR(C160=\"\",C160=0),\"\",IF(C160=\"CAC\",References!$CP$47,References!$CP$48))","v":0.97},{"$f":"IF(OR(K160=\"\",K160=0),\"\",INDEX(References!$CF$72:$CF$74,MATCH('Space Heating Worksheet'!I41,References!$CB$72:$CB$74,0)))","v":""},{"$f":"IF(OR(K160=\"\",K160=0),\"\",INDEX(References!$CF$75:$CF$77,MATCH('Space Heating Worksheet'!I41,References!$CB$75:$CB$77,0)))","v":""},{"$f":"IF(K160=\"\",\"\",IF(OR('Space Heating Worksheet'!H41=\"Single Stage\",NOT(ISNUMBER('Space Heating Worksheet'!U41))),IF(J160=\"Open Loop/Well\",K160*N160,K160*N160*References!$CP$44),IF(J160=\"Open Loop/Well\",((K160*References!$CS$50*N160)+(L160*References!$CS$51*O160))*M160,((K160*References!$CS$50*N160)+(L160*References!$CS$51*O160))*References!$CP$44*M160)))","v":""},{"$f":"IF(E160=\"\",\"\",IF(B160=\"None\",E160*(1/100000)*(1/G160)*F160*References!$CW$51*References!$CW$53,IF(B160=\"NG\",E160*(1/100000)*(1/G160)*F160,0)))","v":""},{"$f":"IF(E160=\"\",\"\",IF(B160=\"None\",E160*(1/(References!$CL$51*1000000))*(1/G160)*F160*References!$CW$52*References!$CW$53,IF(B160=\"Oil\",E160*(1/(References!$CL$51*1000000))*(1/G160)*F160,0)))","v":""},{"$f":"IF(E160=\"\",\"\",IF(B160=\"LP\",E160*(1/(References!$CL$52*1000000))*(1/G160)*F160,0))","v":""},{"$f":"IF(E160=\"\",\"\",IF(B160=\"None\",E160*(1/H160)*F160/3412*References!$CW$54,IF(B160=\"Electric\",E160*(1/H160)*F160/3412,0)))","v":""},{"$f":"IF(E160=\"\",\"\",IF(B160=\"None\",E160*(1/H160)/3412*References!$CW$54,IF(B160=\"Electric\",E160*(1/H160)/3412,0)))","v":""},"","","","","","","",{"$f":"IF(E160=\"\",\"\",(Q160-V160)*References!$CL$53)","v":""},{"$f":"IF(E160=\"\",\"\",(R160-W160)*References!$CL$51)","v":""},{"$f":"IF(E160=\"\",\"\",(S160-X160)*References!$CL$52)","v":""},{"$f":"IF(E160=\"\",\"\",(T160-Y160)*References!$CJ$47)","v":""},"",{"$f":"IF(E160=\"\",\"\",AC160*References!$CK$53)","v":""},{"$f":"IF(E160=\"\",\"\",AD160*References!$CK$51)","v":""},{"$f":"IF(E160=\"\",\"\",AE160*References!$CK$52)","v":""},{"$f":"IF(E160=\"\",\"\",(AB160/1000)*References!$CK$43)","v":""},"",null,{"$f":"IF(AND('Space Heating Worksheet'!AH60=\"\",'Space Heating Worksheet'!M41=\"\"),\"\",'Space Heating Worksheet'!AH60)","v":""},{"$f":"IF($B160=\"\",\"\",IF(Existing_Heating_Source=\"Existing Building\",INDEX(References!$CE$40:$CF$41,MATCH(Customer_Sector,References!$CB$40:$CB$41,0),MATCH(AO$151,References!$CE$39:$CF$39,0)),INDEX(References!$CC$40:$CD$41,MATCH(Customer_Sector,References!$CB$40:$CB$41,0),MATCH(AO$151,References!$CC$39:$CD$39,0))))","v":""},{"$f":"IF('Space Heating Worksheet'!$C41=\"\",\"\",IF(OR('Space Heating Worksheet'!Z41=0,$C160=\"None\"),INDEX(References!CT$19:CT$25,MATCH($C160,References!$CS$19:$CS$25,0)),'Space Heating Worksheet'!Z41))","v":""},{"$f":"IF('Space Heating Worksheet'!$C41=\"\",\"\",IF(OR('Space Heating Worksheet'!AA41=0,$C160=\"None\"),INDEX(References!CU$19:CU$25,MATCH($C160,References!$CS$19:$CS$25,0)),'Space Heating Worksheet'!AA41))","v":""},"",{"$f":"IF(OR('Space Heating Worksheet'!F41=\"\",'Space Heating Worksheet'!F41=0),\"\",INDEX(References!$CJ$30:$CJ$34,MATCH('Space Heating Worksheet'!F41,References!$CI$30:$CI$34,0)))","v":""},{"$f":"IF('Space Heating Worksheet'!R41=\"\",\"\",'Space Heating Worksheet'!R41)","v":""},{"$f":"IF('Space Heating Worksheet'!T41=\"\",\"\",'Space Heating Worksheet'!T41)","v":""},{"$f":"IF(OR(C160=\"\",C160=0),\"\",References!$CP$46)","v":0.95},{"$f":"IF(OR('Space Heating Worksheet'!C41=\"\",'Space Heating Worksheet'!C41=0),\"\",INDEX(References!$CE$72:$CE$74,MATCH('Space Heating Worksheet'!I41,References!$CB$72:$CB$74,0)))","v":""},{"$f":"IF(OR(K160=\"\",K160=0),\"\",INDEX(References!$CE$75:$CE$77,MATCH('Space Heating Worksheet'!I41,References!$CB$75:$CB$77,0)))","v":""},{"$f":"IF(AT160=\"\",\"\",IF(OR('Space Heating Worksheet'!H41=\"Single Stage\",NOT(ISNUMBER('Space Heating Worksheet'!U41))),IF(J160=\"Open Loop/Well\",AT160*AW160,AT160*AW160*References!$CP$43),IF(J160=\"Open Loop/Well\",((AT160*References!$CS$50*AW160)+(AU160*References!$CS$51*AX160))*References!$CP$43*AV160,((AT160*References!$CS$50*References!$CP$43*AW160)+(AU160*References!$CS$51*AX160))*AV160)))","v":""},"","","",{"$f":"IF(E160=\"\",\"\",BB160*References!$CJ$47)","v":""},null,{"$f":"IF(B160=\"\",\"\",'Space Heating Worksheet'!S60)","v":""},"",{"$f":"IF(B160=\"\",\"\",BF160*References!$CJ$47)","v":""},null,"","","","","","",{"$f":"IF(E160=\"\",\"\",(BK160/1000)*References!$CK$43)","v":""},"","",null,"",null,{"$f":"IF(OR('Space Heating Worksheet'!AH41=\"\",'Space Heating Worksheet'!AH41=\"DNQ\",'Space Heating Worksheet'!AH41=\"Missing Info\"),\"\",INDEX(References!$CX$3:$CX$26,MATCH('Space Heating Worksheet'!L41&'Space Heating Worksheet'!L60,References!$CY$3:$CY$26,0)))","v":""}]
[10,{"$f":"IF(OR(D161=\"\",D161=\"Select…\"),\"\",INDEX(References!$CR$29:$CR$48,MATCH(Qualifying_Index!D161,References!$CS$29:$CS$48,0)))","v":""},{"$f":"IF(AND('Space Heating Worksheet'!Y42=0,'Space Heating Worksheet'!C42<>\"\"),\"\",IF('Site Information'!$C$6=\"New Construction\",\"None\",IF('Space Heating Worksheet'!Y42=\"Primary Existing System\",'Site Information'!$C$18,'Site Information'!$C$24)))","v":"Select…"},{"$f":"IF(AND('Space Heating Worksheet'!X42=0,'Space Heating Worksheet'!C42<>\"\"),\"\",IF('Site Information'!$C$6=\"New Construction\",\"None\",IF('Space Heating Worksheet'!X42=\"Primary Existing System\",'Site Information'!$C$16,'Site Information'!$C$22)))","v":"Select…"},{"$f":"IF(AND('Space Heating Worksheet'!AI61=\"\",'Space Heating Worksheet'!N42=\"\"),\"\",'Space Heating Worksheet'!AI61)","v":""},{"$f":"IF($B161=\"\",\"\",IF(Existing_Heating_Source=\"Existing Building\",INDEX(References!$CE$40:$CF$41,MATCH(Customer_Sector,References!$CB$40:$CB$41,0),MATCH(F$151,References!$CE$39:$CF$39,0)),INDEX(References!$CC$40:$CD$41,MATCH(Customer_Sector,References!$CB$40:$CB$41,0),MATCH(F$151,References!$CC$39:$CD$39,0))))","v":""},{"$f":"IF('Space Heating Worksheet'!$C42=\"\",\"\",IF(OR('Space Heating Worksheet'!$AB42=0,$D161=\"None\"),INDEX(References!CT$29:CT$48,MATCH($D161,References!$CS$29:$CS$48,0)),'Space Heating Worksheet'!$AB42))","v":""},{"$f":"IF('Space Heating Worksheet'!$C42=\"\",\"\",IF(OR('Space Heating Worksheet'!$AB42=0,$D161=\"None\"),INDEX(References!CU$29:CU$48,MATCH($D161,References!$CS$29:$CS$48,0)),'Space Heating Worksheet'!$AB42))","v":""},{"$f":"IF('Space Heating Worksheet'!$C42=\"\",\"\",IF(OR('Space Heating Worksheet'!$AB42=0,$D161=\"None\"),INDEX(References!CV$29:CV$48,MATCH($D161,References!$CS$29:$CS$48,0)),'Space Heating Worksheet'!$AB42))","v":""},{"$f":"IF(OR('Space Heating Worksheet'!F42=\"\",'Space Heating Worksheet'!F42=0),\"\",INDEX(References!$CJ$30:$CJ$34,MATCH('Space Heating Worksheet'!F42,References!$CI$30:$CI$34,0)))","v":""},{"$f":"IF('Space Heating Worksheet'!S42=\"\",\"\",'Space Heating Worksheet'!S42)","v":""},{"$f":"IF('Space Heating Worksheet'!U42=\"\",\"\",'Space Heating Worksheet'!U42)","v":""},{"$f":"IF(OR(C161=\"\",C161=0),\"\",IF(C161=\"CAC\",References!$CP$47,References!$CP$48))","v":0.97},{"$f":"IF(OR(K161=\"\",K161=0),\"\",INDEX(References!$CF$72:$CF$74,MATCH('Space Heating Worksheet'!I42,References!$CB$72:$CB$74,0)))","v":""},{"$f":"IF(OR(K161=\"\",K161=0),\"\",INDEX(References!$CF$75:$CF$77,MATCH('Space Heating Worksheet'!I42,References!$CB$75:$CB$77,0)))","v":""},{"$f":"IF(K161=\"\",\"\",IF(OR('Space Heating Worksheet'!H42=\"Single Stage\",NOT(ISNUMBER('Space Heating Worksheet'!U42))),IF(J161=\"Open Loop/Well\",K161*N161,K161*N161*References!$CP$44),IF(J161=\"Open Loop/Well\",((K161*References!$CS$50*N161)+(L161*References!$CS$51*O161))*M161,((K161*References!$CS$50*N161)+(L161*References!$CS$51*O161))*References!$CP$44*M161)))","v":""},{"$f":"IF(E161=\"\",\"\",IF(B161=\"None\",E161*(1/100000)*(1/G161)*F161*References!$CW$51*References!$CW$53,IF(B161=\"NG\",E161*(1/100000)*(1/G161)*F161,0)))","v":""},{"$f":"IF(E161=\"\",\"\",IF(B161=\"None\",E161*(1/(References!$CL$51*1000000))*(1/G161)*F161*References!$CW$52*References!$CW$53,IF(B161=\"Oil\",E161*(1/(References!$CL$51*1000000))*(1/G161)*F161,0)))","v":""},{"$f":"IF(E161=\"\",\"\",IF(B161=\"LP\",E161*(1/(References!$CL$52*1000000))*(1/G161)*F161,0))","v":""},{"$f":"IF(E161=\"\",\"\",IF(B161=\"None\",E161*(1/H161)*F161/3412*References!$CW$54,IF(B161=\"Electric\",E161*(1/H161)*F161/3412,0)))","v":""},{"$f":"IF(E161=\"\",\"\",IF(B161=\"None\",E161*(1/H161)/3412*References!$CW$54,IF(B161=\"Electric\",E161*(1/H161)/3412,0)))","v":""},"","","","","","","",{"$f":"IF(E161=\"\",\"\",(Q161-V161)*References!$CL$53)","v":""},{"$f":"IF(E161=\"\",\"\",(R161-W161)*References!$CL$51)","v":""},{"$f":"IF(E161=\"\",\"\",(S161-X161)*References!$CL$52)","v":""},{"$f":"IF(E161=\"\",\"\",(T161-Y161)*References!$CJ$47)","v":""},"",{"$f":"IF(E161=\"\",\"\",AC161*References!$CK$53)","v":""},{"$f":"IF(E161=\"\",\"\",AD161*References!$CK$51)","v":""},{"$f":"IF(E161=\"\",\"\",AE161*References!$CK$52)","v":""},{"$f":"IF(E161=\"\",\"\",(AB161/1000)*References!$CK$43)","v":""},"",null,{"$f":"IF(AND('Space Heating Worksheet'!AH61=\"\",'Space Heating Worksheet'!M42=\"\"),\"\",'Space Heating Worksheet'!AH61)","v":""},{"$f":"IF($B161=\"\",\"\",IF(Existing_Heating_Source=\"Existing Building\",INDEX(References!$CE$40:$CF$41,MATCH(Customer_Sector,References!$CB$40:$CB$41,0),MATCH(AO$151,References!$CE$39:$CF$39,0)),INDEX(References!$CC$40:$CD$41,MATCH(Customer_Sector,References!$CB$40:$CB$41,0),MATCH(AO$151,References!$CC$39:$CD$39,0))))","v":""},{"$f":"IF('Space Heating Worksheet'!$C42=\"\",\"\",IF(OR('Space Heating Worksheet'!Z42=0,$C161=\"None\"),INDEX(References!CT$19:CT$25,MATCH($C161,References!$CS$19:$CS$25,0)),'Space Heating Worksheet'!Z42))","v":""},{"$f":"IF('Space Heating Worksheet'!$C42=\"\",\"\",IF(OR('Space Heating Worksheet'!AA42=0,$C161=\"None\"),INDEX(References!CU$19:CU$25,MATCH($C161,References!$CS$19:$CS$25,0)),'Space Heating Worksheet'!AA42))","v":""},"",{"$f":"IF(OR('Space Heating Worksheet'!F42=\"\",'Space Heating Worksheet'!F42=0),\"\",INDEX(References!$CJ$30:$CJ$34,MATCH('Space Heating Worksheet'!F42,References!$CI$30:$CI$34,0)))","v":""},{"$f":"IF('Space Heating Worksheet'!R42=\"\",\"\",'Space Heating Worksheet'!R42)","v":""},{"$f":"IF('Space Heating Worksheet'!T42=\"\",\"\",'Space Heating Worksheet'!T42)","v":""},{"$f":"IF(OR(C161=\"\",C161=0),\"\",References!$CP$46)","v":0.95},{"$f":"IF(OR('Space Heating Worksheet'!C42=\"\",'Space Heating Worksheet'!C42=0),\"\",INDEX(References!$CE$72:$CE$74,MATCH('Space Heating Worksheet'!I42,References!$CB$72:$CB$74,0)))","v":""},{"$f":"IF(OR(K161=\"\",K161=0),\"\",INDEX(References!$CE$75:$CE$77,MATCH('Space Heating Worksheet'!I42,References!$CB$75:$CB$77,0)))","v":""},{"$f":"IF(AT161=\"\",\"\",IF(OR('Space Heating Worksheet'!H42=\"Single Stage\",NOT(ISNUMBER('Space Heating Worksheet'!U42))),IF(J161=\"Open Loop/Well\",AT161*AW161,AT161*AW161*References!$CP$43),IF(J161=\"Open Loop/Well\",((AT161*References!$CS$50*AW161)+(AU161*References!$CS$51*AX161))*References!$CP$43*AV161,((AT161*References!$CS$50*References!$CP$43*AW161)+(AU161*References!$CS$51*AX161))*AV161)))","v":""},"","","",{"$f":"IF(E161=\"\",\"\",BB161*References!$CJ$47)","v":""},null,{"$f":"IF(B161=\"\",\"\",'Space Heating Worksheet'!S61)","v":""},"",{"$f":"IF(B161=\"\",\"\",BF161*References!$CJ$47)","v":""},null,"","","","","","",{"$f":"IF(E161=\"\",\"\",(BK161/1000)*References!$CK$43)","v":""},"","",null,"",null,{"$f":"IF(OR('Space Heating Worksheet'!AH42=\"\",'Space Heating Worksheet'!AH42=\"DNQ\",'Space Heating Worksheet'!AH42=\"Missing Info\"),\"\",INDEX(References!$CX$3:$CX$26,MATCH('Space Heating Worksheet'!L42&'Space Heating Worksheet'!L61,References!$CY$3:$CY$26,0)))","v":""}]
[]
[null,"Water Heating",null,null,null,null,null,null,null,null,null,null,null,null,null,null,"Total Savings"]
[null,"Baseline Heating","Fossil Fuel vs. Electric","Baseline Gallons","Baseline UA","Baseline UEF","GPD","Delta T","ER Element","Displacement","Proposed System","Proposed COP","COPgshp,dhw","Qgshp,dhw",null,null,"Summer Peak kW","Winter kW","Gross EE kWh","Gross BE kWh","Gross EE MMBtu","Gross BE MMBtu","Gross EE lb/CO2","Gross BE lb/CO2","Fossil MMBtu","OR","Total Savings in MMBtu"]
[1,{"$f":"IF(AND('Dedicated Water Heating'!P30=\"\",'Dedicated Water Heating'!C30<>\"\"),\"None\",'Dedicated Water Heating'!T30)","v":""},{"$f":"IF(B165=\"\",\"\",IF(OR(LEFT(B165,11)=\"Natural Gas\",LEFT(B165,3)=\"Oil\",LEFT(B165,7)=\"Propane\"),IF(LEFT(B165,11)=\"Natural Gas\",\"Natural Gas\",IF(LEFT(B165,3)=\"Oil\",\"Oil\",\"Propane\")),\"Electric\"))","v":""},{"$f":"IF(AND(B165=\"\",'Dedicated Water Heating'!C30=0),\"\",IF('Dedicated Water Heating'!R30<>0,'Dedicated Water Heating'!R30,IF('Dedicated Water Heating'!H30<>0,'Dedicated Water Heating'!H30,55)))","v":""},{"$f":"IF('Dedicated Water Heating'!$C30=\"\",\"\",INDEX(References!$CT$78:$CT$92,MATCH($B165,References!$CS$78:$CS$92,0)))","v":""},{"$f":"IF('Dedicated Water Heating'!$C30=\"\",\"\",IF('Dedicated Water Heating'!S30<>0,'Dedicated Water Heating'!S30,IF(OR(LEFT(B165,13)=\"Electric Tank\",LEFT(B165,4)=\"ASHP\",LEFT(B165,4)=\"Geot\",LEFT(B165,4)=\"None\"),INDEX(References!$CV$78:$CV$92,MATCH($B165,References!$CS$78:$CS$92,0)),INDEX(References!$CU$78:$CU$92,MATCH($B165,References!$CS$78:$CS$92,0))-INDEX(References!$CV$78:$CV$92,MATCH($B165,References!$CS$78:$CS$92,0))*D165)))","v":""},{"$f":"IF(B165=\"\",\"\",IF(Customer_Sector=\"Residential\",References!$CF$85,References!$CD$106))","v":""},{"$f":"IF(B165=\"\",\"\",References!$CT$96-References!$CT$95)","v":""},{"$f":"IF('Dedicated Water Heating'!N49=\"\",\"\",'Dedicated Water Heating'!N49)","v":""},{"$f":"IF(B165=\"\",\"\",IF(I165=\"Yes\",References!$CT$100,References!$CT$101))","v":""},{"$f":"IF('Dedicated Water Heating'!C30=\"\",\"\",'Dedicated Water Heating'!C30)","v":""},{"$f":"IF(OR('Dedicated Water Heating'!C30=\"\",'Dedicated Water Heating'!M30=\"\",'Dedicated Water Heating'!M30=0),\"\",'Dedicated Water Heating'!M30)","v":""},{"$f":"IF(L165=\"\",\"\",L165*0.9)","v":""},{"$f":"IF(K165=\"\",\"\",J165*G165*365*8.33*H165)","v":""},null,null,{"$f":"IF(K165=\"\",\"\",0)","v":""},{"$f":"IF(K165=\"\",\"\",0)","v":""},{"$f":"IF(OR(N165=\"\",F165=\"\",M165=\"\"),\"\",IF(C165=\"Electric\",(N165/3412)*((1/F165)-(1/M165)),0))","v":""},{"$f":"IF(OR(N165=\"\",F165=\"\",M165=\"\"),\"\",IF(C165=\"Electric\",0,(N165/3412)*((1/M165))))","v":""},{"$f":"IF(OR(K165=\"\",S165=\"\"),\"\",S165*References!$CJ$47)","v":""},{"$f":"IF(OR(K165=\"\",T165=\"\"),\"\",IF(C165=\"Electric\",0,((N165/1000000)*(1/F165))-(T165*References!$CJ$47)))","v":""},{"$f":"IF(OR(K165=\"\",S165=\"\"),\"\",(S165)*References!$CJ$43)","v":""},{"$f":"IF(OR(K165=\"\",T165=\"\",V165=\"\"),\"\",-T165*References!$CJ$43+Y165*IF(C165=\"Electric\",0,INDEX(References!$CJ$51:$CJ$54,MATCH(C165,References!$CI$51:$CI$54,0))))","v":""},{"$f":"IF(OR(K165=\"\",T165=\"\"),\"\",IF(C165=\"Fossil Fuel\",((N165/1000000)*(1/F165)),0))","v":""},null,{"$f":"IF(OR(U165=\"\",V165=\"\"),\"\",U165+V165)","v":""}]
[2,{"$f":"IF(AND('Dedicated Water Heating'!P31=\"\",'Dedicated Water Heating'!C31<>\"\"),\"None\",'Dedicated Water Heating'!T31)","v":""},"",{"$f":"IF(AND(B166=\"\",'Dedicated Water Heating'!C31=0),\"\",IF('Dedicated Water Heating'!R31<>0,'Dedicated Water Heating'!R31,IF('Dedicated Water Heating'!H31<>0,'Dedicated Water Heating'!H31,55)))","v":""},{"$f":"IF('Dedicated Water Heating'!$C31=\"\",\"\",INDEX(References!$CT$78:$CT$92,MATCH($B166,References!$CS$78:$CS$92,0)))","v":""},{"$f":"IF('Dedicated Water Heating'!$C31=\"\",\"\",IF('Dedicated Water Heating'!S31<>0,'Dedicated Water Heating'!S31,IF(OR(LEFT(B166,13)=\"Electric Tank\",LEFT(B166,4)=\"ASHP\",LEFT(B166,4)=\"Geot\",LEFT(B166,4)=\"None\"),INDEX(References!$CV$78:$CV$92,MATCH($B166,References!$CS$78:$CS$92,0)),INDEX(References!$CU$78:$CU$92,MATCH($B166,References!$CS$78:$CS$92,0))-INDEX(References!$CV$78:$CV$92,MATCH($B166,References!$CS$78:$CS$92,0))*D166)))","v":""},{"$f":"IF(B166=\"\",\"\",IF(Customer_Sector=\"Residential\",References!$CF$85,References!$CD$106))","v":""},{"$f":"IF(B166=\"\",\"\",References!$CT$96-References!$CT$95)","v":""},{"$f":"IF('Dedicated Water Heating'!N50=\"\",\"\",'Dedicated Water Heating'!N50)","v":""},{"$f":"IF(B166=\"\",\"\",IF(I166=\"Yes\",References!$CT$100,References!$CT$101))","v":""},{"$f":"IF('Dedicated Water Heating'!C31=\"\",\"\",'Dedicated Water Heating'!C31)","v":""},{"$f":"IF(OR('Dedicated Water Heating'!C31=\"\",'Dedicated Water Heating'!M31=\"\",'Dedicated Water Heating'!M31=0),\"\",'Dedicated Water Heating'!M31)","v":""},"","",null,null,"","","","",{"$f":"IF(OR(K166=\"\",S166=\"\"),\"\",S166*References!$CJ$47)","v":""},{"$f":"IF(OR(K166=\"\",T166=\"\"),\"\",IF(C166=\"Electric\",0,((N166/1000000)*(1/F166))-(T166*References!$CJ$47)))","v":""},{"$f":"IF(OR(K166=\"\",S166=\"\"),\"\",(S166)*References!$CJ$43)","v":""},{"$f":"IF(OR(K166=\"\",T166=\"\",V166=\"\"),\"\",-T166*References!$CJ$43+Y166*IF(C166=\"Electric\",0,INDEX(References!$CJ$51:$CJ$54,MATCH(C166,References!$CI$51:$CI$54,0))))","v":""},"",null,""]
[3,{"$f":"IF(AND('Dedicated Water Heating'!P32=\"\",'Dedicated Water Heating'!C32<>\"\"),\"None\",'Dedicated Water Heating'!T32)","v":""},"",{"$f":"IF(AND(B167=\"\",'Dedicated Water Heating'!C32=0),\"\",IF('Dedicated Water Heating'!R32<>0,'Dedicated Water Heating'!R32,IF('Dedicated Water Heating'!H32<>0,'Dedicated Water Heating'!H32,55)))","v":""},{"$f":"IF('Dedicated Water Heating'!$C32=\"\",\"\",INDEX(References!$CT$78:$CT$92,MATCH($B167,References!$CS$78:$CS$92,0)))","v":""},{"$f":"IF('Dedicated Water Heating'!$C32=\"\",\"\",IF('Dedicated Water Heating'!S32<>0,'Dedicated Water Heating'!S32,IF(OR(LEFT(B167,13)=\"Electric Tank\",LEFT(B167,4)=\"ASHP\",LEFT(B167,4)=\"Geot\",LEFT(B167,4)=\"None\"),INDEX(References!$CV$78:$CV$92,MATCH($B167,References!$CS$78:$CS$92,0)),INDEX(References!$CU$78:$CU$92,MATCH($B167,References!$CS$78:$CS$92,0))-INDEX(References!$CV$78:$CV$92,MATCH($B167,References!$CS$78:$CS$92,0))*D167)))","v":""},{"$f":"IF(B167=\"\",\"\",IF(Customer_Sector=\"Residential\",References!$CF$85,References!$CD$106))","v":""},{"$f":"IF(B167=\"\",\"\",References!$CT$96-References!$CT$95)","v":""},{"$f":"IF('Dedicated Water Heating'!N51=\"\",\"\",'Dedicated Water Heating'!N51)","v":""},{"$f":"IF(B167=\"\",\"\",IF(I167=\"Yes\",References!$CT$100,References!$CT$101))","v":""},{"$f":"IF('Dedicated Water Heating'!C32=\"\",\"\",'Dedicated Water Heating'!C32)","v":""},{"$f":"IF(OR('Dedicated Water Heating'!C32=\"\",'Dedicated Water Heating'!M32=\"\",'Dedicated Water Heating'!M32=0),\"\",'Dedicated Water Heating'!M32)","v":""},"","",null,null,"","","","",{"$f":"IF(OR(K167=\"\",S167=\"\"),\"\",S167*References!$CJ$47)","v":""},{"$f":"IF(OR(K167=\"\",T167=\"\"),\"\",IF(C167=\"Electric\",0,((N167/1000000)*(1/F167))-(T167*References!$CJ$47)))","v":""},{"$f":"IF(OR(K167=\"\",S167=\"\"),\"\",(S167)*References!$CJ$43)","v":""},{"$f":"IF(OR(K167=\"\",T167=\"\",V167=\"\"),\"\",-T167*References!$CJ$43+Y167*IF(C167=\"Electric\",0,INDEX(References!$CJ$51:$CJ$54,MATCH(C167,References!$CI$51:$CI$54,0))))","v":""},"",null,""]
[4,{"$f":"IF(AND('Dedicated Water Heating'!P33=\"\",'Dedicated Water Heating'!C33<>\"\"),\"None\",'Dedicated Water Heating'!T33)","v":""},"",{"$f":"IF(AND(B168=\"\",'Dedicated Water Heating'!C33=0),\"\",IF('Dedicated Water Heating'!R33<>0,'Dedicated Water Heating'!R33,IF('Dedicated Water Heating'!H33<>0,'Dedicated Water Heating'!H33,55)))","v":""},{"$f":"IF('Dedicated Water Heating'!$C33=\"\",\"\",INDEX(References!$CT$78:$CT$92,MATCH($B168,References!$CS$78:$CS$92,0)))","v":""},{"$f":"IF('Dedicated Water Heating'!$C33=\"\",\"\",IF('Dedicated Water Heating'!S33<>0,'Dedicated Water Heating'!S33,IF(OR(LEFT(B168,13)=\"Electric Tank\",LEFT(B168,4)=\"ASHP\",LEFT(B168,4)=\"Geot\",LEFT(B168,4)=\"None\"),INDEX(References!$CV$78:$CV$92,MATCH($B168,References!$CS$78:$CS$92,0)),INDEX(References!$CU$78:$CU$92,MATCH($B168,References!$CS$78:$CS$92,0))-INDEX(References!$CV$78:$CV$92,MATCH($B168,References!$CS$78:$CS$92,0))*D168)))","v":""},{"$f":"IF(B168=\"\",\"\",IF(Customer_Sector=\"Residential\",References!$CF$85,References!$CD$106))","v":""},{"$f":"IF(B168=\"\",\"\",References!$CT$96-References!$CT$95)","v":""},{"$f":"IF('Dedicated Water Heating'!N52=\"\",\"\",'Dedicated Water Heating'!N52)","v":""},{"$f":"IF(B168=\"\",\"\",IF(I168=\"Yes\",References!$CT$100,References!$CT$101))","v":""},{"$f":"IF('Dedicated Water Heating'!C33=\"\",\"\",'Dedicated Water Heating'!C33)","v":""},{"$f":"IF(OR('Dedicated Water Heating'!C33=\"\",'Dedicated Water Heating'!M33=\"\",'Dedicated Water Heating'!M33=0),\"\",'Dedicated Water Heating'!M33)","v":""},"","",null,null,"","","","",{"$f":"IF(OR(K168=\"\",S168=\"\"),\"\",S168*References!$CJ$47)","v":""},{"$f":"IF(OR(K168=\"\",T168=\"\"),\"\",IF(C168=\"Electric\",0,((N168/1000000)*(1/F168))-(T168*References!$CJ$47)))","v":""},{"$f":"IF(OR(K168=\"\",S168=\"\"),\"\",(S168)*References!$CJ$43)","v":""},{"$f":"IF(OR(K168=\"\",T168=\"\",V168=\"\"),\"\",-T168*References!$CJ$43+Y168*IF(C168=\"Electric\",0,INDEX(References!$CJ$51:$CJ$54,MATCH(C168,References!$CI$51:$CI$54,0))))","v":""},"",null,""]
[5,{"$f":"IF(AND('Dedicated Water Heating'!P34=\"\",'Dedicated Water Heating'!C34<>\"\"),\"None\",'Dedicated Water Heating'!T34)","v":""},"",{"$f":"IF(AND(B169=\"\",'Dedicated Water Heating'!C34=0),\"\",IF('Dedicated Water Heating'!R34<>0,'Dedicated Water Heating'!R34,IF('Dedicated Water Heating'!H34<>0,'Dedicated Water Heating'!H34,55)))","v":""},{"$f":"IF('Dedicated Water Heating'!$C34=\"\",\"\",INDEX(References!$CT$78:$CT$92,MATCH($B169,References!$CS$78:$CS$92,0)))","v":""},{"$f":"IF('Dedicated Water Heating'!$C34=\"\",\"\",IF('Dedicated Water Heating'!S34<>0,'Dedicated Water Heating'!S34,IF(OR(LEFT(B169,13)=\"Electric Tank\",LEFT(B169,4)=\"ASHP\",LEFT(B169,4)=\"Geot\",LEFT(B169,4)=\"None\"),INDEX(References!$CV$78:$CV$92,MATCH($B169,References!$CS$78:$CS$92,0)),INDEX(References!$CU$78:$CU$92,MATCH($B169,References!$CS$78:$CS$92,0))-INDEX(References!$CV$78:$CV$92,MATCH($B169,References!$CS$78:$CS$92,0))*D169)))","v":""},{"$f":"IF(B169=\"\",\"\",IF(Customer_Sector=\"Residential\",References!$CF$85,References!$CD$106))","v":""},{"$f":"IF(B169=\"\",\"\",References!$CT$96-References!$CT$95)","v":""},{"$f":"IF('Dedicated Water Heating'!N53=\"\",\"\",'Dedicated Water Heating'!N53)","v":""},{"$f":"IF(B169=\"\",\"\",IF(I169=\"Yes\",References!$CT$100,References!$CT$101))","v":""},{"$f":"IF('Dedicated Water Heating'!C34=\"\",\"\",'Dedicated Water Heating'!C34)","v":""},{"$f":"IF(OR('Dedicated Water Heating'!C34=\"\",'Dedicated Water Heating'!M34=\"\",'Dedicated Water Heating'!M34=0),\"\",'Dedicated Water Heating'!M34)","v":""},"","",null,null,"","","","",{"$f":"IF(OR(K169=\"\",S169=\"\"),\"\",S169*References!$CJ$47)","v":""},{"$f":"IF(OR(K169=\"\",T169=\"\"),\"\",IF(C169=\"Electric\",0,((N169/1000000)*(1/F169))-(T169*References!$CJ$47)))","v":""},{"$f":"IF(OR(K169=\"\",S169=\"\"),\"\",(S169)*References!$CJ$43)","v":""},{"$f":"IF(OR(K169=\"\",T169=\"\",V169=\"\"),\"\",-T169*References!$CJ$43+Y169*IF(C169=\"Electric\",0,INDEX(References!$CJ$51:$CJ$54,MATCH(C169,References!$CI$51:$CI$54,0))))","v":""},"",null,""]
[6,{"$f":"IF(AND('Dedicated Water Heating'!P35=\"\",'Dedicated Water Heating'!C35<>\"\"),\"None\",'Dedicated Water Heating'!T35)","v":""},"",{"$f":"IF(AND(B170=\"\",'Dedicated Water Heating'!C35=0),\"\",IF('Dedicated Water Heating'!R35<>0,'Dedicated Water Heating'!R35,IF('Dedicated Water Heating'!H35<>0,'Dedicated Water Heating'!H35,55)))","v":""},{"$f":"IF('Dedicated Water Heating'!$C35=\"\",\"\",INDEX(References!$CT$78:$CT$92,MATCH($B170,References!$CS$78:$CS$92,0)))","v":""},{"$f":"IF('Dedicated Water Heating'!$C35=\"\",\"\",IF('Dedicated Water Heating'!S35<>0,'Dedicated Water Heating'!S35,IF(OR(LEFT(B170,13)=\"Electric Tank\",LEFT(B170,4)=\"ASHP\",LEFT(B170,4)=\"Geot\",LEFT(B170,4)=\"None\"),INDEX(References!$CV$78:$CV$92,MATCH($B170,References!$CS$78:$CS$92,0)),INDEX(References!$CU$78:$CU$92,MATCH($B170,References!$CS$78:$CS$92,0))-INDEX(References!$CV$78:$CV$92,MATCH($B170,References!$CS$78:$CS$92,0))*D170)))","v":""},{"$f":"IF(B170=\"\",\"\",IF(Customer_Sector=\"Residential\",References!$CF$85,References!$CD$106))","v":""},{"$f":"IF(B170=\"\",\"\",References!$CT$96-References!$CT$95)","v":""},{"$f":"IF('Dedicated Water Heating'!N54=\"\",\"\",'Dedicated Water Heating'!N54)","v":""},{"$f":"IF(B170=\"\",\"\",IF(I170=\"Yes\",References!$CT$100,References!$CT$101))","v":""},{"$f":"IF('Dedicated Water Heating'!C35=\"\",\"\",'Dedicated Water Heating'!C35)","v":""},{"$f":"IF(OR('Dedicated Water Heating'!C35=\"\",'Dedicated Water Heating'!M35=\"\",'Dedicated Water Heating'!M35=0),\"\",'Dedicated Water Heating'!M35)","v":""},"","",null,null,"","","","",{"$f":"IF(OR(K170=\"\",S170=\"\"),\"\",S170*References!$CJ$47)","v":""},{"$f":"IF(OR(K170=\"\",T170=\"\"),\"\",IF(C170=\"Electric\",0,((N170/1000000)*(1/F170))-(T170*References!$CJ$47)))","v":""},{"$f":"IF(OR(K170=\"\",S170=\"\"),\"\",(S170)*References!$CJ$43)","v":""},{"$f":"IF(OR(K170=\"\",T170=\"\",V170=\"\"),\"\",-T170*References!$CJ$43+Y170*IF(C170=\"Electric\",0,INDEX(References!$CJ$51:$CJ$54,MATCH(C170,References!$CI$51:$CI$54,0))))","v":""},"",null,""]
[7,{"$f":"IF(AND('Dedicated Water Heating'!P36=\"\",'Dedicated Water Heating'!C36<>\"\"),\"None\",'Dedicated Water Heating'!T36)","v":""},"",{"$f":"IF(AND(B171=\"\",'Dedicated Water Heating'!C36=0),\"\",IF('Dedicated Water Heating'!R36<>0,'Dedicated Water Heating'!R36,IF('Dedicated Water Heating'!H36<>0,'Dedicated Water Heating'!H36,55)))","v":""},{"$f":"IF('Dedicated Water Heating'!$C36=\"\",\"\",INDEX(References!$CT$78:$CT$92,MATCH($B171,References!$CS$78:$CS$92,0)))","v":""},{"$f":"IF('Dedicated Water Heating'!$C36=\"\",\"\",IF('Dedicated Water Heating'!S36<>0,'Dedicated Water Heating'!S36,IF(OR(LEFT(B171,13)=\"Electric Tank\",LEFT(B171,4)=\"ASHP\",LEFT(B171,4)=\"Geot\",LEFT(B171,4)=\"None\"),INDEX(References!$CV$78:$CV$92,MATCH($B171,References!$CS$78:$CS$92,0)),INDEX(References!$CU$78:$CU$92,MATCH($B171,References!$CS$78:$CS$92,0))-INDEX(References!$CV$78:$CV$92,MATCH($B171,References!$CS$78:$CS$92,0))*D171)))","v":""},{"$f":"IF(B171=\"\",\"\",IF(Customer_Sector=\"Residential\",References!$CF$85,References!$CD$106))","v":""},{"$f":"IF(B171=\"\",\"\",References!$CT$96-References!$CT$95)","v":""},{"$f":"IF('Dedicated Water Heating'!N55=\"\",\"\",'Dedicated Water Heating'!N55)","v":""},{"$f":"IF(B171=\"\",\"\",IF(I171=\"Yes\",References!$CT$100,References!$CT$101))","v":""},{"$f":"IF('Dedicated Water Heating'!C36=\"\",\"\",'Dedicated Water Heating'!C36)","v":""},{"$f":"IF(OR('Dedicated Water Heating'!C36=\"\",'Dedicated Water Heating'!M36=\"\",'Dedicated Water Heating'!M36=0),\"\",'Dedicated Water Heating'!M36)","v":""},"","",null,null,"","","","",{"$f":"IF(OR(K171=\"\",S171=\"\"),\"\",S171*References!$CJ$47)","v":""},{"$f":"IF(OR(K171=\"\",T171=\"\"),\"\",IF(C171=\"Electric\",0,((N171/1000000)*(1/F171))-(T171*References!$CJ$47)))","v":""},{"$f":"IF(OR(K171=\"\",S171=\"\"),\"\",(S171)*References!$CJ$43)","v":""},{"$f":"IF(OR(K171=\"\",T171=\"\",V171=\"\"),\"\",-T171*References!$CJ$43+Y171*IF(C171=\"Electric\",0,INDEX(References!$CJ$51:$CJ$54,MATCH(C171,References!$CI$51:$CI$54,0))))","v":""},"",null,""]
[8,{"$f":"IF(AND('Dedicated Water Heating'!P37=\"\",'Dedicated Water Heating'!C37<>\"\"),\"None\",'Dedicated Water Heating'!T37)","v":""},"",{"$f":"IF(AND(B172=\"\",'Dedicated Water Heating'!C37=0),\"\",IF('Dedicated Water Heating'!R37<>0,'Dedicated Water Heating'!R37,IF('Dedicated Water Heating'!H37<>0,'Dedicated Water Heating'!H37,55)))","v":""},{"$f":"IF('Dedicated Water Heating'!$C37=\"\",\"\",INDEX(References!$CT$78:$CT$92,MATCH($B172,References!$CS$78:$CS$92,0)))","v":""},{"$f":"IF('Dedicated Water Heating'!$C37=\"\",\"\",IF('Dedicated Water Heating'!S37<>0,'Dedicated Water Heating'!S37,IF(OR(LEFT(B172,13)=\"Electric Tank\",LEFT(B172,4)=\"ASHP\",LEFT(B172,4)=\"Geot\",LEFT(B172,4)=\"None\"),INDEX(References!$CV$78:$CV$92,MATCH($B172,References!$CS$78:$CS$92,0)),INDEX(References!$CU$78:$CU$92,MATCH($B172,References!$CS$78:$CS$92,0))-INDEX(References!$CV$78:$CV$92,MATCH($B172,References!$CS$78:$CS$92,0))*D172)))","v":""},{"$f":"IF(B172=\"\",\"\",IF(Customer_Sector=\"Residential\",References!$CF$85,References!$CD$106))","v":""},{"$f":"IF(B172=\"\",\"\",References!$CT$96-References!$CT$95)","v":""},{"$f":"IF('Dedicated Water Heating'!N56=\"\",\"\",'Dedicated Water Heating'!N56)","v":""},{"$f":"IF(B172=\"\",\"\",IF(I172=\"Yes\",References!$CT$100,References!$CT$101))","v":""},{"$f":"IF('Dedicated Water Heating'!C37=\"\",\"\",'Dedicated Water Heating'!C37)","v":""},{"$f":"IF(OR('Dedicated Water Heating'!C37=\"\",'Dedicated Water Heating'!M37=\"\",'Dedicated Water Heating'!M37=0),\"\",'Dedicated Water Heating'!M37)","v":""},"","",null,null,"","","","",{"$f":"IF(OR(K172=\"\",S172=\"\"),\"\",S172*References!$CJ$47)","v":""},{"$f":"IF(OR(K172=\"\",T172=\"\"),\"\",IF(C172=\"Electric\",0,((N172/1000000)*(1/F172))-(T172*References!$CJ$47)))","v":""},{"$f":"IF(OR(K172=\"\",S172=\"\"),\"\",(S172)*References!$CJ$43)","v":""},{"$f":"IF(OR(K172=\"\",T172=\"\",V172=\"\"),\"\",-T172*References!$CJ$43+Y172*IF(C172=\"Electric\",0,INDEX(References!$CJ$51:$CJ$54,MATCH(C172,References!$CI$51:$CI$54,0))))","v":""},"",null,""]
[9,{"$f":"IF(AND('Dedicated Water Heating'!P38=\"\",'Dedicated Water Heating'!C38<>\"\"),\"None\",'Dedicated Water Heating'!T38)","v":""},"",{"$f":"IF(AND(B173=\"\",'Dedicated Water Heating'!C38=0),\"\",IF('Dedicated Water Heating'!R38<>0,'Dedicated Water Heating'!R38,IF('Dedicated Water Heating'!H38<>0,'Dedicated Water Heating'!H38,55)))","v":""},{"$f":"IF('Dedicated Water Heating'!$C38=\"\",\"\",INDEX(References!$CT$78:$CT$92,MATCH($B173,References!$CS$78:$CS$92,0)))","v":""},{"$f":"IF('Dedicated Water Heating'!$C38=\"\",\"\",IF('Dedicated Water Heating'!S38<>0,'Dedicated Water Heating'!S38,IF(OR(LEFT(B173,13)=\"Electric Tank\",LEFT(B173,4)=\"ASHP\",LEFT(B173,4)=\"Geot\",LEFT(B173,4)=\"None\"),INDEX(References!$CV$78:$CV$92,MATCH($B173,References!$CS$78:$CS$92,0)),INDEX(References!$CU$78:$CU$92,MATCH($B173,References!$CS$78:$CS$92,0))-INDEX(References!$CV$78:$CV$92,MATCH($B173,References!$CS$78:$CS$92,0))*D173)))","v":""},{"$f":"IF(B173=\"\",\"\",IF(Customer_Sector=\"Residential\",References!$CF$85,References!$CD$106))","v":""},{"$f":"IF(B173=\"\",\"\",References!$CT$96-References!$CT$95)","v":""},{"$f":"IF('Dedicated Water Heating'!N57=\"\",\"\",'Dedicated Water Heating'!N57)","v":""},{"$f":"IF(B173=\"\",\"\",IF(I173=\"Yes\",References!$CT$100,References!$CT$101))","v":""},{"$f":"IF('Dedicated Water Heating'!C38=\"\",\"\",'Dedicated Water Heating'!C38)","v":""},{"$f":"IF(OR('Dedicated Water Heating'!C38=\"\",'Dedicated Water Heating'!M38=\"\",'Dedicated Water Heating'!M38=0),\"\",'Dedicated Water Heating'!M38)","v":""},"","",null,null,"","","","",{"$f":"IF(OR(K173=\"\",S173=\"\"),\"\",S173*References!$CJ$47)","v":""},{"$f":"IF(OR(K173=\"\",T173=\"\"),\"\",IF(C173=\"Electric\",0,((N173/1000000)*(1/F173))-(T173*References!$CJ$47)))","v":""},{"$f":"IF(OR(K173=\"\",S173=\"\"),\"\",(S173)*References!$CJ$43)","v":""},{"$f":"IF(OR(K173=\"\",T173=\"\",V173=\"\"),\"\",-T173*References!$CJ$43+Y173*IF(C173=\"Electric\",0,INDEX(References!$CJ$51:$CJ$54,MATCH(C173,References!$CI$51:$CI$54,0))))","v":""},"",null,""]
[10,{"$f":"IF(AND('Dedicated Water Heating'!P39=\"\",'Dedicated Water Heating'!C39<>\"\"),\"None\",'Dedicated Water Heating'!T39)","v":""},"",{"$f":"IF(AND(B174=\"\",'Dedicated Water Heating'!C39=0),\"\",IF('Dedicated Water Heating'!R39<>0,'Dedicated Water Heating'!R39,IF('Dedicated Water Heating'!H39<>0,'Dedicated Water Heating'!H39,55)))","v":""},{"$f":"IF('Dedicated Water Heating'!$C39=\"\",\"\",INDEX(References!$CT$78:$CT$92,MATCH($B174,References!$CS$78:$CS$92,0)))","v":""},{"$f":"IF('Dedicated Water Heating'!$C39=\"\",\"\",IF('Dedicated Water Heating'!S39<>0,'Dedicated Water Heating'!S39,IF(OR(LEFT(B174,13)=\"Electric Tank\",LEFT(B174,4)=\"ASHP\",LEFT(B174,4)=\"Geot\",LEFT(B174,4)=\"None\"),INDEX(References!$CV$78:$CV$92,MATCH($B174,References!$CS$78:$CS$92,0)),INDEX(References!$CU$78:$CU$92,MATCH($B174,References!$CS$78:$CS$92,0))-INDEX(References!$CV$78:$CV$92,MATCH($B174,References!$CS$78:$CS$92,0))*D174)))","v":""},{"$f":"IF(B174=\"\",\"\",IF(Customer_Sector=\"Residential\",References!$CF$85,References!$CD$106))","v":""},{"$f":"IF(B174=\"\",\"\",References!$CT$96-References!$CT$95)","v":""},{"$f":"IF('Dedicated Water Heating'!N58=\"\",\"\",'Dedicated Water Heating'!N58)","v":""},{"$f":"IF(B174=\"\",\"\",IF(I174=\"Yes\",References!$CT$100,References!$CT$101))","v":""},{"$f":"IF('Dedicated Water Heating'!C39=\"\",\"\",'Dedicated Water Heating'!C39)","v":""},{"$f":"IF(OR('Dedicated Water Heating'!C39=\"\",'Dedicated Water Heating'!M39=\"\",'Dedicated Water Heating'!M39=0),\"\",'Dedicated Water Heating'!M39)","v":""},"","",null,null,"","","","",{"$f":"IF(OR(K174=\"\",S174=\"\"),\"\",S174*References!$CJ$47)","v":""},{"$f":"IF(OR(K174=\"\",T174=\"\"),\"\",IF(C174=\"Electric\",0,((N174/1000000)*(1/F174))-(T174*References!$CJ$47)))","v":""},{"$f":"IF(OR(K174=\"\",S174=\"\"),\"\",(S174)*References!$CJ$43)","v":""},{"$f":"IF(OR(K174=\"\",T174=\"\",V174=\"\"),\"\",-T174*References!$CJ$43+Y174*IF(C174=\"Electric\",0,INDEX(References!$CJ$51:$CJ$54,MATCH(C174,References!$CI$51:$CI$54,0))))","v":""},"",null,""]

{"sheet":"Air Flow References","index":29,"n_rows":34,"n_cols":46,"rows_kept":34,"cut":false,"hidden":true,"merged":[[1,12,1,15],[1,8,1,11]]}
["Air Flow Tabs"]
[]
["Air Flow Tab - Airflow Inputs","Range","Pass/Fail Check",null,"Air Flow Tab 2 - Airflow Inputs","Range","Pass/Fail Check",null,"Air Flow Tab 3 - Airflow Inputs","Range","Pass/Fail Check",null,null,"Air Flow Tab 4 - Airflow Inputs","Range","Pass/Fail Check",null,null,"Air Flow Tab 5 - Airflow Inputs","Range","Pass/Fail Check",null,null,"Air Flow Tab 6 - Airflow Inputs","Range","Pass/Fail Check",null,null,"Air Flow Tab 7 - Airflow Inputs","Range","Pass/Fail Check",null,null,"Air Flow Tab 8 - Airflow Inputs","Range","Pass/Fail Check",null,null,"Air Flow Tab 9 - Airflow Inputs","Range","Pass/Fail Check",null,null,"Air Flow Tab 10 - Airflow Inputs","Range","Pass/Fail Check"]
["Rated Cooling Capacity",".5-11.3",{"$f":"IF(AND('AIRFLOW FORM'!$E$16>=0.5,'AIRFLOW FORM'!$E$16<=11.3),\"\",\"FAIL\")","v":"FAIL"},null,"Rated Cooling Capacity",".5-11.3",{"$f":"IF(AND('AIRFLOW FORM 2'!$E$15>=0.5,'AIRFLOW FORM 2'!$E$15<=11.3),\"\",\"FAIL\")","v":"FAIL"},null,"Rated Cooling Capacity",".5-11.3",{"$f":"IF(AND('AIRFLOW FORM 3'!$E$15>=0.5,'AIRFLOW FORM 3'!$E$15<=11.3),\"\",\"FAIL\")","v":"FAIL"},null,null,"Rated Cooling Capacity",".5-11.3",{"$f":"IF(AND('AIRFLOW FORM 4'!$E$15>=0.5,'AIRFLOW FORM 4'!$E$15<=11.3),\"\",\"FAIL\")","v":"FAIL"},null,null,"Rated Cooling Capacity",".5-11.3",{"$f":"IF(AND('AIRFLOW FORM 5'!$E$15>=0.5,'AIRFLOW FORM 5'!$E$15<=11.3),\"\",\"FAIL\")","v":"FAIL"},null,null,"Rated Cooling Capacity",".5-11.3",{"$f":"IF(AND('AIRFLOW FORM 6'!$E$15>=0.5,'AIRFLOW FORM 6'!$E$15<=11.3),\"\",\"FAIL\")","v":"FAIL"},null,null,"Rated Cooling Capacity",".5-11.3",{"$f":"IF(AND('AIRFLOW FORM 7'!$E$15>=0.5,'AIRFLOW FORM 7'!$E$15<=11.3),\"\",\"FAIL\")","v":"FAIL"},null,null,"Rated Cooling Capacity",".5-11.3",{"$f":"IF(AND('AIRFLOW FORM 8'!$E$15>=0.5,'AIRFLOW FORM 8'!$E$15<=11.3),\"\",\"FAIL\")","v":"FAIL"},null,null,"Rated Cooling Capacity",".5-11.3",{"$f":"IF(AND('AIRFLOW FORM 9'!$E$15>=0.5,'AIRFLOW FORM 9'!$E$15<=11.3),\"\",\"FAIL\")","v":"FAIL"},null,null,"Rated Cooling Capacity",".5-11.3",{"$f":"IF(AND('AIRFLOW FORM 10'!$E$15>=0.5,'AIRFLOW FORM 10'!$E$15<=11.3),\"\",\"FAIL\")","v":"FAIL"}]
["Static Pressure Drop",".1-.8",{"$f":"IF(AND('AIRFLOW FORM'!$E$19>=0.1,'AIRFLOW FORM'!$E$19<=0.8),\"\",\"FAIL\")","v":"FAIL"},null,"Static Pressure Drop",".1-.8",{"$f":"IF(AND('AIRFLOW FORM 2'!$E$18>=0.1,'AIRFLOW FORM 2'!$E$18<=0.8),\"\",\"FAIL\")","v":"FAIL"},null,"Static Pressure Drop",".1-.8",{"$f":"IF(AND('AIRFLOW FORM 3'!$E$18>=0.1,'AIRFLOW FORM 3'!$E$18<=0.8),\"\",\"FAIL\")","v":"FAIL"},null,null,"Static Pressure Drop",".1-.8",{"$f":"IF(AND('AIRFLOW FORM 4'!$E$18>=0.1,'AIRFLOW FORM 4'!$E$18<=0.8),\"\",\"FAIL\")","v":"FAIL"},null,null,"Static Pressure Drop",".1-.8",{"$f":"IF(AND('AIRFLOW FORM 5'!$E$18>=0.1,'AIRFLOW FORM 5'!$E$18<=0.8),\"\",\"FAIL\")","v":"FAIL"},null,null,"Static Pressure Drop",".1-.8",{"$f":"IF(AND('AIRFLOW FORM 6'!$E$18>=0.1,'AIRFLOW FORM 6'!$E$18<=0.8),\"\",\"FAIL\")","v":"FAIL"},null,null,"Static Pressure Drop",".1-.8",{"$f":"IF(AND('AIRFLOW FORM 7'!$E$18>=0.1,'AIRFLOW FORM 7'!$E$18<=0.8),\"\",\"FAIL\")","v":"FAIL"},null,null,"Static Pressure Drop",".1-.8",{"$f":"IF(AND('AIRFLOW FORM 8'!$E$18>=0.1,'AIRFLOW FORM 8'!$E$18<=0.8),\"\",\"FAIL\")","v":"FAIL"},null,null,"Static Pressure Drop",".1-.8",{"$f":"IF(AND('AIRFLOW FORM 9'!$E$18>=0.1,'AIRFLOW FORM 9'!$E$18<=0.8),\"\",\"FAIL\")","v":"FAIL"},null,null,"Static Pressure Drop",".1-.8",{"$f":"IF(AND('AIRFLOW FORM 10'!$E$18>=0.1,'AIRFLOW FORM 10'!$E$18<=0.8),\"\",\"FAIL\")","v":"FAIL"}]
["CFM Per Ton","325-450",{"$f":"IF(AND('AIRFLOW FORM'!$M$16>=325,'AIRFLOW FORM'!$M$16<=450),\"\",\"FAIL\")","v":"FAIL"},null,"CFM Per Ton","325-450",{"$f":"IF(AND('AIRFLOW FORM 2'!$M$15>=325,'AIRFLOW FORM 2'!$M$15<=450),\"\",\"FAIL\")","v":"FAIL"},null,"CFM Per Ton","325-450",{"$f":"IF(AND('AIRFLOW FORM 3'!$M$15>=325,'AIRFLOW FORM 3'!$M$15<=450),\"\",\"FAIL\")","v":"FAIL"},null,null,"CFM Per Ton","325-450",{"$f":"IF(AND('AIRFLOW FORM 4'!$M$15>=325,'AIRFLOW FORM 4'!$M$15<=450),\"\",\"FAIL\")","v":"FAIL"},null,null,"CFM Per Ton","325-450",{"$f":"IF(AND('AIRFLOW FORM 5'!$M$15>=325,'AIRFLOW FORM 5'!$M$15<=450),\"\",\"FAIL\")","v":"FAIL"},null,null,"CFM Per Ton","325-450",{"$f":"IF(AND('AIRFLOW FORM 6'!$M$15>=325,'AIRFLOW FORM 6'!$M$15<=450),\"\",\"FAIL\")","v":"FAIL"},null,null,"CFM Per Ton","325-450",{"$f":"IF(AND('AIRFLOW FORM 7'!$M$15>=325,'AIRFLOW FORM 7'!$M$15<=450),\"\",\"FAIL\")","v":"FAIL"},null,null,"CFM Per Ton","325-450",{"$f":"IF(AND('AIRFLOW FORM 8'!$M$15>=325,'AIRFLOW FORM 8'!$M$15<=450),\"\",\"FAIL\")","v":"FAIL"},null,null,"CFM Per Ton","325-450",{"$f":"IF(AND('AIRFLOW FORM 9'!$M$15>=325,'AIRFLOW FORM 9'!$M$15<=450),\"\",\"FAIL\")","v":"FAIL"},null,null,"CFM Per Ton","325-450",{"$f":"IF(AND('AIRFLOW FORM 10'!$M$15>=325,'AIRFLOW FORM 10'!$M$15<=450),\"\",\"FAIL\")","v":"FAIL"}]
["External Static Pressure",".1-.8",{"$f":"IF(AND('AIRFLOW FORM'!$M$19>=0.1,'AIRFLOW FORM'!$M$19<=0.8),\"\",\"FAIL\")","v":"FAIL"},null,"External Static Pressure",".1-.8",{"$f":"IF(AND('AIRFLOW FORM 2'!$M$18>=0.1,'AIRFLOW FORM 2'!$M$18<=0.8),\"\",\"FAIL\")","v":"FAIL"},null,"External Static Pressure",".1-.8",{"$f":"IF(AND('AIRFLOW FORM 3'!$M$18>=0.1,'AIRFLOW FORM 3'!$M$18<=0.8),\"\",\"FAIL\")","v":"FAIL"},null,null,"External Static Pressure",".1-.8",{"$f":"IF(AND('AIRFLOW FORM 4'!$M$18>=0.1,'AIRFLOW FORM 4'!$M$18<=0.8),\"\",\"FAIL\")","v":"FAIL"},null,null,"External Static Pressure",".1-.8",{"$f":"IF(AND('AIRFLOW FORM 5'!$M$18>=0.1,'AIRFLOW FORM 5'!$M$18<=0.8),\"\",\"FAIL\")","v":"FAIL"},null,null,"External Static Pressure",".1-.8",{"$f":"IF(AND('AIRFLOW FORM 6'!$M$18>=0.1,'AIRFLOW FORM 6'!$M$18<=0.8),\"\",\"FAIL\")","v":"FAIL"},null,null,"External Static Pressure",".1-.8",{"$f":"IF(AND('AIRFLOW FORM 7'!$M$18>=0.1,'AIRFLOW FORM 7'!$M$18<=0.8),\"\",\"FAIL\")","v":"FAIL"},null,null,"External Static Pressure",".1-.8",{"$f":"IF(AND('AIRFLOW FORM 8'!$M$18>=0.1,'AIRFLOW FORM 8'!$M$18<=0.8),\"\",\"FAIL\")","v":"FAIL"},null,null,"External Static Pressure",".1-.8",{"$f":"IF(AND('AIRFLOW FORM 9'!$M$18>=0.1,'AIRFLOW FORM 9'!$M$18<=0.8),\"\",\"FAIL\")","v":"FAIL"},null,null,"External Static Pressure",".1-.8",{"$f":"IF(AND('AIRFLOW FORM 10'!$M$18>=0.1,'AIRFLOW FORM 10'!$M$18<=0.8),\"\",\"FAIL\")","v":"FAIL"}]
["True Flow CFM Measured","ANSI/ACCA Standard 5",{"$f":"IF(AND('AIRFLOW FORM'!$E$26>=('AIRFLOW FORM'!E16*'AIRFLOW FORM'!M16*0.85),'AIRFLOW FORM'!$E$26<=('AIRFLOW FORM'!E16*'AIRFLOW FORM'!M16*1.15)),\"\",\"FAIL\")","v":""},null,"True Flow CFM Measured","ANSI/ACCA Standard 5",{"$f":"IF(AND('AIRFLOW FORM 2'!$E$25>=('AIRFLOW FORM 2'!E15*'AIRFLOW FORM 2'!M15*0.85),'AIRFLOW FORM 2'!$E$25<=('AIRFLOW FORM 2'!E15*'AIRFLOW FORM 2'!M15*1.15)),\"\",\"FAIL\")","v":""},null,"True Flow CFM Measured","ANSI/ACCA Standard 5",{"$f":"IF(AND('AIRFLOW FORM 3'!$E$25>=('AIRFLOW FORM 3'!E15*'AIRFLOW FORM 3'!M15*0.85),'AIRFLOW FORM 3'!$E$25<=('AIRFLOW FORM 3'!E15*'AIRFLOW FORM 3'!M15*1.15)),\"\",\"FAIL\")","v":""},null,null,"True Flow CFM Measured","ANSI/ACCA Standard 5",{"$f":"IF(AND('AIRFLOW FORM 4'!$E$25>=('AIRFLOW FORM 4'!$E$15*'AIRFLOW FORM 4'!$M$15*0.85),'AIRFLOW FORM 4'!$E$25<=('AIRFLOW FORM 4'!$E$15*'AIRFLOW FORM 4'!$M$15*1.15)),\"\",\"FAIL\")","v":""},null,null,"True Flow CFM Measured","ANSI/ACCA Standard 5",{"$f":"IF(AND('AIRFLOW FORM 5'!$E$25>=('AIRFLOW FORM 5'!$E$15*'AIRFLOW FORM 5'!$M$15*0.85),'AIRFLOW FORM 5'!$E$25<=('AIRFLOW FORM 5'!$E$15*'AIRFLOW FORM 5'!$M$15*1.15)),\"\",\"FAIL\")","v":""},null,null,"True Flow CFM Measured","ANSI/ACCA Standard 5",{"$f":"IF(AND('AIRFLOW FORM 6'!$E$25>=('AIRFLOW FORM 6'!$E$15*'AIRFLOW FORM 6'!$M$15*0.85),'AIRFLOW FORM 6'!$E$25<=('AIRFLOW FORM 6'!$E$15*'AIRFLOW FORM 6'!$M$15*1.15)),\"\",\"FAIL\")","v":""},null,null,"True Flow CFM Measured","ANSI/ACCA Standard 5",{"$f":"IF(AND('AIRFLOW FORM 7'!$E$25>=('AIRFLOW FORM 7'!$E$15*'AIRFLOW FORM 7'!$M$15*0.85),'AIRFLOW FORM 7'!$E$25<=('AIRFLOW FORM 7'!$E$15*'AIRFLOW FORM 7'!$M$15*1.15)),\"\",\"FAIL\")","v":""},null,null,"True Flow CFM Measured","ANSI/ACCA Standard 5",{"$f":"IF(AND('AIRFLOW FORM 8'!$E$25>=('AIRFLOW FORM 8'!$E$15*'AIRFLOW FORM 8'!$M$15*0.85),'AIRFLOW FORM 8'!$E$25<=('AIRFLOW FORM 8'!$E$15*'AIRFLOW FORM 8'!$M$15*1.15)),\"\",\"FAIL\")","v":""},null,null,"True Flow CFM Measured","ANSI/ACCA Standard 5",{"$f":"IF(AND('AIRFLOW FORM 9'!$E$25>=('AIRFLOW FORM 9'!$E$15*'AIRFLOW FORM 9'!$M$15*0.85),'AIRFLOW FORM 9'!$E$25<=('AIRFLOW FORM 9'!$E$15*'AIRFLOW FORM 9'!$M$15*1.15)),\"\",\"FAIL\")","v":""},null,null,"True Flow CFM Measured","ANSI/ACCA Standard 5",{"$f":"IF(AND('AIRFLOW FORM 10'!$E$25>=('AIRFLOW FORM 10'!$E$15*'AIRFLOW FORM 10'!$M$15*0.85),'AIRFLOW FORM 10'!$E$25<=('AIRFLOW FORM 10'!$E$15*'AIRFLOW FORM 10'!$M$15*1.15)),\"\",\"FAIL\")","v":""}]
["CFM Air Flow Estimated","ANSI/ACCA Standard 6",{"$f":"IF(AND('AIRFLOW FORM'!$E$23>=('AIRFLOW FORM'!E16*'AIRFLOW FORM'!M16*0.85),'AIRFLOW FORM'!$E$23<=('AIRFLOW FORM'!E16*'AIRFLOW FORM'!M16*1.15)),\"\",\"FAIL\")","v":""},null,"CFM Air Flow Estimated","ANSI/ACCA Standard 6",{"$f":"IF(AND('AIRFLOW FORM 2'!$E$22>=('AIRFLOW FORM 2'!E15*'AIRFLOW FORM 2'!M15*0.85),'AIRFLOW FORM 2'!$E$22<=('AIRFLOW FORM 2'!E15*'AIRFLOW FORM 2'!M15*1.15)),\"\",\"FAIL\")","v":""},null,"CFM Air Flow Estimated","ANSI/ACCA Standard 6",{"$f":"IF(AND('AIRFLOW FORM 3'!$E$22>=('AIRFLOW FORM 3'!E15*'AIRFLOW FORM 3'!M15*0.85),'AIRFLOW FORM 3'!$E$22<=('AIRFLOW FORM 3'!E15*'AIRFLOW FORM 3'!M15*1.15)),\"\",\"FAIL\")","v":""},null,null,"CFM Air Flow Estimated","ANSI/ACCA Standard 6",{"$f":"IF(AND('AIRFLOW FORM 4'!$E$22>=('AIRFLOW FORM 4'!E15*'AIRFLOW FORM 4'!M15*0.85),'AIRFLOW FORM 4'!$E$22<=('AIRFLOW FORM 4'!E15*'AIRFLOW FORM 4'!M15*1.15)),\"\",\"FAIL\")","v":""},null,null,"CFM Air Flow Estimated","ANSI/ACCA Standard 6",{"$f":"IF(AND('AIRFLOW FORM 5'!$E$22>=('AIRFLOW FORM 5'!E15*'AIRFLOW FORM 5'!M15*0.85),'AIRFLOW FORM 5'!$E$22<=('AIRFLOW FORM 5'!E15*'AIRFLOW FORM 5'!M15*1.15)),\"\",\"FAIL\")","v":""},null,null,"CFM Air Flow Estimated","ANSI/ACCA Standard 6",{"$f":"IF(AND('AIRFLOW FORM 6'!$E$22>=('AIRFLOW FORM 6'!E15*'AIRFLOW FORM 6'!M15*0.85),'AIRFLOW FORM 6'!$E$22<=('AIRFLOW FORM 6'!E15*'AIRFLOW FORM 6'!M15*1.15)),\"\",\"FAIL\")","v":""},null,null,"CFM Air Flow Estimated","ANSI/ACCA Standard 6",{"$f":"IF(AND('AIRFLOW FORM 7'!$E$22>=('AIRFLOW FORM 7'!E15*'AIRFLOW FORM 7'!M15*0.85),'AIRFLOW FORM 7'!$E$22<=('AIRFLOW FORM 7'!E15*'AIRFLOW FORM 7'!M15*1.15)),\"\",\"FAIL\")","v":""},null,null,"CFM Air Flow Estimated","ANSI/ACCA Standard 6",{"$f":"IF(AND('AIRFLOW FORM 8'!$E$22>=('AIRFLOW FORM 8'!E15*'AIRFLOW FORM 8'!M15*0.85),'AIRFLOW FORM 8'!$E$22<=('AIRFLOW FORM 8'!E15*'AIRFLOW FORM 8'!M15*1.15)),\"\",\"FAIL\")","v":""},null,null,"CFM Air Flow Estimated","ANSI/ACCA Standard 6",{"$f":"IF(AND('AIRFLOW FORM 9'!$E$22>=('AIRFLOW FORM 9'!E15*'AIRFLOW FORM 9'!M15*0.85),'AIRFLOW FORM 9'!$E$22<=('AIRFLOW FORM 9'!E15*'AIRFLOW FORM 9'!M15*1.15)),\"\",\"FAIL\")","v":""},null,null,"CFM Air Flow Estimated","ANSI/ACCA Standard 6",{"$f":"IF(AND('AIRFLOW FORM 10'!$E$22>=('AIRFLOW FORM 10'!E15*'AIRFLOW FORM 10'!M15*0.85),'AIRFLOW FORM 10'!$E$22<=('AIRFLOW FORM 10'!E15*'AIRFLOW FORM 10'!M15*1.15)),\"\",\"FAIL\")","v":""}]
[]
[]
[]
[]
[]
["Air Flow Tab - Refrigerant Inputs Subcooling","Range","Pass/Fail Check",null,"Air Flow Tab 2 - Refrigerant Inputs Subcooling","Range","Pass/Fail Check",null,"Air Flow Tab 3 - Refrigerant Inputs Subcooling","Range","Pass/Fail Check",null,null,"Air Flow Tab 4 - Refrigerant Inputs Subcooling","Range","Pass/Fail Check",null,null,"Air Flow Tab 5 - Refrigerant Inputs Subcooling","Range","Pass/Fail Check",null,null,"Air Flow Tab 6 - Refrigerant Inputs Subcooling","Range","Pass/Fail Check",null,null,"Air Flow Tab 7 - Refrigerant Inputs Subcooling","Range","Pass/Fail Check",null,null,"Air Flow Tab 8 - Refrigerant Inputs Subcooling","Range","Pass/Fail Check",null,null,"Air Flow Tab 9 - Refrigerant Inputs Subcooling","Range","Pass/Fail Check",null,null,"Air Flow Tab 10 - Refrigerant Inputs Subcooling","Range","Pass/Fail Check"]
["Required Subcooling","6-14",{"$f":"IF(AND('AIRFLOW FORM'!$E$50>=6,'AIRFLOW FORM'!$E$50<=14),\"\",\"FAIL\")","v":"FAIL"},null,"Required Subcooling","6-14",{"$f":"IF(AND('AIRFLOW FORM 2'!$E$49>=6,'AIRFLOW FORM 2'!$E$49<=14),\"\",\"FAIL\")","v":"FAIL"},null,"Required Subcooling","6-14",{"$f":"IF(AND('AIRFLOW FORM 3'!$E$49>=6,'AIRFLOW FORM 3'!$E$49<=14),\"\",\"FAIL\")","v":"FAIL"},null,null,"Required Subcooling","6-14",{"$f":"IF(AND('AIRFLOW FORM 4'!$E$49>=6,'AIRFLOW FORM 4'!$E$49<=14),\"\",\"FAIL\")","v":"FAIL"},null,null,"Required Subcooling","6-14",{"$f":"IF(AND('AIRFLOW FORM 5'!$E$49>=6,'AIRFLOW FORM 5'!$E$49<=14),\"\",\"FAIL\")","v":"FAIL"},null,null,"Required Subcooling","6-14",{"$f":"IF(AND('AIRFLOW FORM 6'!$E$49>=6,'AIRFLOW FORM 6'!$E$49<=14),\"\",\"FAIL\")","v":"FAIL"},null,null,"Required Subcooling","6-14",{"$f":"IF(AND('AIRFLOW FORM 7'!$E$49>=6,'AIRFLOW FORM 7'!$E$49<=14),\"\",\"FAIL\")","v":"FAIL"},null,null,"Required Subcooling","6-14",{"$f":"IF(AND('AIRFLOW FORM 8'!$E$49>=6,'AIRFLOW FORM 8'!$E$49<=14),\"\",\"FAIL\")","v":"FAIL"},null,null,"Required Subcooling","6-14",{"$f":"IF(AND('AIRFLOW FORM 9'!$E$49>=6,'AIRFLOW FORM 9'!$E$49<=14),\"\",\"FAIL\")","v":"FAIL"},null,null,"Required Subcooling","6-14",{"$f":"IF(AND('AIRFLOW FORM 10'!$E$49>=6,'AIRFLOW FORM 10'!$E$49<=14),\"\",\"FAIL\")","v":"FAIL"}]
["Outdoor Dry Bulb Temp","60-114",{"$f":"IF(AND('AIRFLOW FORM'!$E$52>=60,'AIRFLOW FORM'!$E$52<=114),\"\",\"FAIL\")","v":"FAIL"},null,"Outdoor Dry Bulb Temp","60-114",{"$f":"IF(AND('AIRFLOW FORM 2'!$E$51>=60,'AIRFLOW FORM 2'!$E$51<=114),\"\",\"FAIL\")","v":"FAIL"},null,"Outdoor Dry Bulb Temp","60-114",{"$f":"IF(AND('AIRFLOW FORM 3'!$E$51>=60,'AIRFLOW FORM 3'!$E$51<=114),\"\",\"FAIL\")","v":"FAIL"},null,null,"Outdoor Dry Bulb Temp","60-114",{"$f":"IF(AND('AIRFLOW FORM 4'!$E$51>=60,'AIRFLOW FORM 4'!$E$51<=114),\"\",\"FAIL\")","v":"FAIL"},null,null,"Outdoor Dry Bulb Temp","60-114",{"$f":"IF(AND('AIRFLOW FORM 5'!$E$51>=60,'AIRFLOW FORM 5'!$E$51<=114),\"\",\"FAIL\")","v":"FAIL"},null,null,"Outdoor Dry Bulb Temp","60-114",{"$f":"IF(AND('AIRFLOW FORM 6'!$E$51>=60,'AIRFLOW FORM 6'!$E$51<=114),\"\",\"FAIL\")","v":"FAIL"},null,null,"Outdoor Dry Bulb Temp","60-114",{"$f":"IF(AND('AIRFLOW FORM 7'!$E$51>=60,'AIRFLOW FORM 7'!$E$51<=114),\"\",\"FAIL\")","v":"FAIL"},null,null,"Outdoor Dry Bulb Temp","60-114",{"$f":"IF(AND('AIRFLOW FORM 8'!$E$51>=60,'AIRFLOW FORM 8'!$E$51<=114),\"\",\"FAIL\")","v":"FAIL"},null,null,"Outdoor Dry Bulb Temp","60-114",{"$f":"IF(AND('AIRFLOW FORM 9'!$E$51>=60,'AIRFLOW FORM 9'!$E$51<=114),\"\",\"FAIL\")","v":"FAIL"},null,null,"Outdoor Dry Bulb Temp","60-114",{"$f":"IF(AND('AIRFLOW FORM 10'!$E$51>=60,'AIRFLOW FORM 10'!$E$51<=114),\"\",\"FAIL\")","v":"FAIL"}]
["Liquid Line Pressure","195-475",{"$f":"IF(AND('AIRFLOW FORM'!$E$56>=195,'AIRFLOW FORM'!$E$56<=475),\"\",\"FAIL\")","v":"FAIL"},null,"Liquid Line Pressure","195-475",{"$f":"IF(AND('AIRFLOW FORM 2'!$E$55>=195,'AIRFLOW FORM 2'!$E$55<=475),\"\",\"FAIL\")","v":"FAIL"},null,"Liquid Line Pressure","195-475",{"$f":"IF(AND('AIRFLOW FORM 3'!$E$55>=195,'AIRFLOW FORM 3'!$E$55<=475),\"\",\"FAIL\")","v":"FAIL"},null,null,"Liquid Line Pressure","195-475",{"$f":"IF(AND('AIRFLOW FORM 4'!$E$55>=195,'AIRFLOW FORM 4'!$E$55<=475),\"\",\"FAIL\")","v":"FAIL"},null,null,"Liquid Line Pressure","195-475",{"$f":"IF(AND('AIRFLOW FORM 5'!$E$55>=195,'AIRFLOW FORM 5'!$E$55<=475),\"\",\"FAIL\")","v":"FAIL"},null,null,"Liquid Line Pressure","195-475",{"$f":"IF(AND('AIRFLOW FORM 6'!$E$55>=195,'AIRFLOW FORM 6'!$E$55<=475),\"\",\"FAIL\")","v":"FAIL"},null,null,"Liquid Line Pressure","195-475",{"$f":"IF(AND('AIRFLOW FORM 7'!$E$55>=195,'AIRFLOW FORM 7'!$E$55<=475),\"\",\"FAIL\")","v":"FAIL"},null,null,"Liquid Line Pressure","195-475",{"$f":"IF(AND('AIRFLOW FORM 8'!$E$55>=195,'AIRFLOW FORM 8'!$E$55<=475),\"\",\"FAIL\")","v":"FAIL"},null,null,"Liquid Line Pressure","195-475",{"$f":"IF(AND('AIRFLOW FORM 9'!$E$55>=195,'AIRFLOW FORM 9'!$E$55<=475),\"\",\"FAIL\")","v":"FAIL"},null,null,"Liquid Line Pressure","195-475",{"$f":"IF(AND('AIRFLOW FORM 10'!$E$55>=195,'AIRFLOW FORM 10'!$E$55<=475),\"\",\"FAIL\")","v":"FAIL"}]
["Saturation Temp","71-130",{"$f":"IF(AND('AIRFLOW FORM'!$E$58>=71,'AIRFLOW FORM'!$E$58<=130),\"\",\"FAIL\")","v":"FAIL"},null,"Saturation Temp","71-130",{"$f":"IF(AND('AIRFLOW FORM 2'!$E$57>=71,'AIRFLOW FORM 2'!$E$57<=130),\"\",\"FAIL\")","v":"FAIL"},null,"Saturation Temp","71-130",{"$f":"IF(AND('AIRFLOW FORM 3'!$E$57>=71,'AIRFLOW FORM 3'!$E$57<=130),\"\",\"FAIL\")","v":"FAIL"},null,null,"Saturation Temp","71-130",{"$f":"IF(AND('AIRFLOW FORM 4'!$E$57>=71,'AIRFLOW FORM 4'!$E$57<=130),\"\",\"FAIL\")","v":"FAIL"},null,null,"Saturation Temp","71-130",{"$f":"IF(AND('AIRFLOW FORM 5'!$E$57>=71,'AIRFLOW FORM 5'!$E$57<=130),\"\",\"FAIL\")","v":"FAIL"},null,null,"Saturation Temp","71-130",{"$f":"IF(AND('AIRFLOW FORM 6'!$E$57>=71,'AIRFLOW FORM 6'!$E$57<=130),\"\",\"FAIL\")","v":"FAIL"},null,null,"Saturation Temp","71-130",{"$f":"IF(AND('AIRFLOW FORM 7'!$E$57>=71,'AIRFLOW FORM 7'!$E$57<=130),\"\",\"FAIL\")","v":"FAIL"},null,null,"Saturation Temp","71-130",{"$f":"IF(AND('AIRFLOW FORM 8'!$E$57>=71,'AIRFLOW FORM 8'!$E$57<=130),\"\",\"FAIL\")","v":"FAIL"},null,null,"Saturation Temp","71-130",{"$f":"IF(AND('AIRFLOW FORM 9'!$E$57>=71,'AIRFLOW FORM 9'!$E$57<=130),\"\",\"FAIL\")","v":"FAIL"},null,null,"Saturation Temp","71-130",{"$f":"IF(AND('AIRFLOW FORM 10'!$E$57>=71,'AIRFLOW FORM 10'!$E$57<=130),\"\",\"FAIL\")","v":"FAIL"}]
["Liquid Line Temp","57-116",{"$f":"IF(AND('AIRFLOW FORM'!$E$60>=57,'AIRFLOW FORM'!$E$60<=116),\"\",\"FAIL\")","v":"FAIL"},null,"Liquid Line Temp","57-116",{"$f":"IF(AND('AIRFLOW FORM 2'!$E$59>=57,'AIRFLOW FORM 2'!$E$59<=116),\"\",\"FAIL\")","v":"FAIL"},null,"Liquid Line Temp","57-116",{"$f":"IF(AND('AIRFLOW FORM 3'!$E$59>=57,'AIRFLOW FORM 3'!$E$59<=116),\"\",\"FAIL\")","v":"FAIL"},null,null,"Liquid Line Temp","57-116",{"$f":"IF(AND('AIRFLOW FORM 4'!$E$59>=57,'AIRFLOW FORM 4'!$E$59<=116),\"\",\"FAIL\")","v":"FAIL"},null,null,"Liquid Line Temp","57-116",{"$f":"IF(AND('AIRFLOW FORM 5'!$E$59>=57,'AIRFLOW FORM 5'!$E$59<=116),\"\",\"FAIL\")","v":"FAIL"},null,null,"Liquid Line Temp","57-116",{"$f":"IF(AND('AIRFLOW FORM 6'!$E$59>=57,'AIRFLOW FORM 6'!$E$59<=116),\"\",\"FAIL\")","v":"FAIL"},null,null,"Liquid Line Temp","57-116",{"$f":"IF(AND('AIRFLOW FORM 7'!$E$59>=57,'AIRFLOW FORM 7'!$E$59<=116),\"\",\"FAIL\")","v":"FAIL"},null,null,"Liquid Line Temp","57-116",{"$f":"IF(AND('AIRFLOW FORM 8'!$E$59>=57,'AIRFLOW FORM 8'!$E$59<=116),\"\",\"FAIL\")","v":"FAIL"},null,null,"Liquid Line Temp","57-116",{"$f":"IF(AND('AIRFLOW FORM 9'!$E$59>=57,'AIRFLOW FORM 9'!$E$59<=116),\"\",\"FAIL\")","v":"FAIL"},null,null,"Liquid Line Temp","57-116",{"$f":"IF(AND('AIRFLOW FORM 10'!$E$59>=57,'AIRFLOW FORM 10'!$E$59<=116),\"\",\"FAIL\")","v":"FAIL"}]
["Measured Subcooling","+-3",{"$f":"IF('AIRFLOW FORM'!E62=\"\",\"\",IF(AND('AIRFLOW FORM'!E62<='AIRFLOW FORM'!E50+3,'AIRFLOW FORM'!E62>='AIRFLOW FORM'!E50-3),\"\",\"FAIL\"))","v":""},null,"Measured Subcooling","+-3",{"$f":"IF('AIRFLOW FORM 2'!E61=\"\",\"\",IF(AND('AIRFLOW FORM 2'!E61<='AIRFLOW FORM 2'!E49+3,'AIRFLOW FORM 2'!E61>='AIRFLOW FORM 2'!E49-3),\"\",\"FAIL\"))","v":""},null,"Measured Subcooling","+-3",{"$f":"IF('AIRFLOW FORM 3'!E61=\"\",\"\",IF(AND('AIRFLOW FORM 3'!E61<='AIRFLOW FORM 3'!E49+3,'AIRFLOW FORM 3'!E61>='AIRFLOW FORM 3'!E49-3),\"\",\"FAIL\"))","v":""},null,null,"Measured Subcooling","+-3",{"$f":"IF('AIRFLOW FORM 4'!E61=\"\",\"\",IF(AND('AIRFLOW FORM 4'!E61<='AIRFLOW FORM 4'!E49+3,'AIRFLOW FORM 4'!E61>='AIRFLOW FORM 4'!E49-3),\"\",\"FAIL\"))","v":""},null,null,"Measured Subcooling","+-3",{"$f":"IF('AIRFLOW FORM 5'!E61=\"\",\"\",IF(AND('AIRFLOW FORM 5'!E61<='AIRFLOW FORM 5'!E49+3,'AIRFLOW FORM 5'!E61>='AIRFLOW FORM 5'!E49-3),\"\",\"FAIL\"))","v":""},null,null,"Measured Subcooling","+-3",{"$f":"IF('AIRFLOW FORM 6'!E61=\"\",\"\",IF(AND('AIRFLOW FORM 6'!E61<='AIRFLOW FORM 6'!E49+3,'AIRFLOW FORM 6'!E61>='AIRFLOW FORM 6'!E49-3),\"\",\"FAIL\"))","v":""},null,null,"Measured Subcooling","+-3",{"$f":"IF('AIRFLOW FORM 7'!E61=\"\",\"\",IF(AND('AIRFLOW FORM 7'!E61<='AIRFLOW FORM 7'!E49+3,'AIRFLOW FORM 7'!E61>='AIRFLOW FORM 7'!E49-3),\"\",\"FAIL\"))","v":""},null,null,"Measured Subcooling","+-3",{"$f":"IF('AIRFLOW FORM 8'!E61=\"\",\"\",IF(AND('AIRFLOW FORM 8'!E61<='AIRFLOW FORM 8'!E49+3,'AIRFLOW FORM 8'!E61>='AIRFLOW FORM 8'!E49-3),\"\",\"FAIL\"))","v":""},null,null,"Measured Subcooling","+-3",{"$f":"IF('AIRFLOW FORM 9'!E61=\"\",\"\",IF(AND('AIRFLOW FORM 9'!E61<='AIRFLOW FORM 9'!E49+3,'AIRFLOW FORM 9'!E61>='AIRFLOW FORM 9'!E49-3),\"\",\"FAIL\"))","v":""},null,null,"Measured Subcooling","+-3",{"$f":"IF('AIRFLOW FORM 10'!E61=\"\",\"\",IF(AND('AIRFLOW FORM 10'!E61<='AIRFLOW FORM 10'!E49+3,'AIRFLOW FORM 10'!E61>='AIRFLOW FORM 10'!E49-3),\"\",\"FAIL\"))","v":""}]
[]
[]
[]
[]
[]
["Air Flow Tab - Refrigerant Inputs Super Heat","Range","Pass/Fail Check",null,"Air Flow Tab 2 - Refrigerant Inputs Super Heat","Range","Pass/Fail Check",null,"Air Flow Tab 3 - Refrigerant Inputs Super Heat","Range","Pass/Fail Check",null,null,"Air Flow Tab 4 - Refrigerant Inputs Super Heat","Range","Pass/Fail Check",null,null,"Air Flow Tab 5 - Refrigerant Inputs Super Heat","Range","Pass/Fail Check",null,null,"Air Flow Tab 6 - Refrigerant Inputs Super Heat","Range","Pass/Fail Check",null,null,"Air Flow Tab 7 - Refrigerant Inputs Super Heat","Range","Pass/Fail Check",null,null,"Air Flow Tab 8 - Refrigerant Inputs Super Heat","Range","Pass/Fail Check",null,null,"Air Flow Tab 9 - Refrigerant Inputs Super Heat","Range","Pass/Fail Check",null,null,"Air Flow Tab 10 - Refrigerant Inputs Super Heat","Range","Pass/Fail Check"]
["Manufactured Spec Superheat","5-30",{"$f":"IF(AND('AIRFLOW FORM'!$E$75>=5,'AIRFLOW FORM'!$E$75<=30),\"\",\"FAIL\")","v":"FAIL"},null,"Manufactured Spec Superheat","5-30",{"$f":"IF(AND('AIRFLOW FORM 2'!$E$74>=5,'AIRFLOW FORM 2'!$E$74<=30),\"\",\"FAIL\")","v":"FAIL"},null,"Manufactured Spec Superheat","5-30",{"$f":"IF(AND('AIRFLOW FORM 3'!$E$74>=5,'AIRFLOW FORM 3'!$E$74<=30),\"\",\"FAIL\")","v":"FAIL"},null,null,"Manufactured Spec Superheat","5-30",{"$f":"IF(AND('AIRFLOW FORM 4'!$E$74>=5,'AIRFLOW FORM 4'!$E$74<=30),\"\",\"FAIL\")","v":"FAIL"},null,null,"Manufactured Spec Superheat","5-30",{"$f":"IF(AND('AIRFLOW FORM 5'!$E$74>=5,'AIRFLOW FORM 5'!$E$74<=30),\"\",\"FAIL\")","v":"FAIL"},null,null,"Manufactured Spec Superheat","5-30",{"$f":"IF(AND('AIRFLOW FORM 6'!$E$74>=5,'AIRFLOW FORM 6'!$E$74<=30),\"\",\"FAIL\")","v":"FAIL"},null,null,"Manufactured Spec Superheat","5-30",{"$f":"IF(AND('AIRFLOW FORM 7'!$E$74>=5,'AIRFLOW FORM 7'!$E$74<=30),\"\",\"FAIL\")","v":"FAIL"},null,null,"Manufactured Spec Superheat","5-30",{"$f":"IF(AND('AIRFLOW FORM 8'!$E$74>=5,'AIRFLOW FORM 8'!$E$74<=30),\"\",\"FAIL\")","v":"FAIL"},null,null,"Manufactured Spec Superheat","5-30",{"$f":"IF(AND('AIRFLOW FORM 9'!$E$74>=5,'AIRFLOW FORM 9'!$E$74<=30),\"\",\"FAIL\")","v":"FAIL"},null,null,"Manufactured Spec Superheat","5-30",{"$f":"IF(AND('AIRFLOW FORM 10'!$E$74>=5,'AIRFLOW FORM 10'!$E$74<=30),\"\",\"FAIL\")","v":"FAIL"}]
["Indoor Wet Bulb Temp","50-80",{"$f":"IF(AND('AIRFLOW FORM'!$E$78>=50,'AIRFLOW FORM'!$E$78<=80),\"\",\"FAIL\")","v":"FAIL"},null,"Indoor Wet Bulb Temp","50-80",{"$f":"IF(AND('AIRFLOW FORM 2'!$E$77>=50,'AIRFLOW FORM 2'!$E$77<=80),\"\",\"FAIL\")","v":"FAIL"},null,"Indoor Wet Bulb Temp","50-80",{"$f":"IF(AND('AIRFLOW FORM 3'!$E$77>=50,'AIRFLOW FORM 3'!$E$77<=80),\"\",\"FAIL\")","v":"FAIL"},null,null,"Indoor Wet Bulb Temp","50-80",{"$f":"IF(AND('AIRFLOW FORM 4'!$E$77>=50,'AIRFLOW FORM 4'!$E$77<=80),\"\",\"FAIL\")","v":"FAIL"},null,null,"Indoor Wet Bulb Temp","50-80",{"$f":"IF(AND('AIRFLOW FORM 5'!$E$77>=50,'AIRFLOW FORM 5'!$E$77<=80),\"\",\"FAIL\")","v":"FAIL"},null,null,"Indoor Wet Bulb Temp","50-80",{"$f":"IF(AND('AIRFLOW FORM 6'!$E$77>=50,'AIRFLOW FORM 6'!$E$77<=80),\"\",\"FAIL\")","v":"FAIL"},null,null,"Indoor Wet Bulb Temp","50-80",{"$f":"IF(AND('AIRFLOW FORM 7'!$E$77>=50,'AIRFLOW FORM 7'!$E$77<=80),\"\",\"FAIL\")","v":"FAIL"},null,null,"Indoor Wet Bulb Temp","50-80",{"$f":"IF(AND('AIRFLOW FORM 8'!$E$77>=50,'AIRFLOW FORM 8'!$E$77<=80),\"\",\"FAIL\")","v":"FAIL"},null,null,"Indoor Wet Bulb Temp","50-80",{"$f":"IF(AND('AIRFLOW FORM 9'!$E$77>=50,'AIRFLOW FORM 9'!$E$77<=80),\"\",\"FAIL\")","v":"FAIL"},null,null,"Indoor Wet Bulb Temp","50-80",{"$f":"IF(AND('AIRFLOW FORM 10'!$E$77>=50,'AIRFLOW FORM 10'!$E$77<=80),\"\",\"FAIL\")","v":"FAIL"}]
["Outdoor Dry Bulb Temp","50-114",{"$f":"IF(AND('AIRFLOW FORM'!$E$80>=50,'AIRFLOW FORM'!$E$80<=114),\"\",\"FAIL\")","v":"FAIL"},null,"Outdoor Dry Bulb Temp","50-114",{"$f":"IF(AND('AIRFLOW FORM 2'!$E$79>=50,'AIRFLOW FORM 2'!$E$79<=114),\"\",\"FAIL\")","v":"FAIL"},null,"Outdoor Dry Bulb Temp","50-114",{"$f":"IF(AND('AIRFLOW FORM 3'!$E$79>=50,'AIRFLOW FORM 3'!$E$79<=114),\"\",\"FAIL\")","v":"FAIL"},null,null,"Outdoor Dry Bulb Temp","50-114",{"$f":"IF(AND('AIRFLOW FORM 4'!$E$79>=50,'AIRFLOW FORM 4'!$E$79<=114),\"\",\"FAIL\")","v":"FAIL"},null,null,"Outdoor Dry Bulb Temp","50-114",{"$f":"IF(AND('AIRFLOW FORM 5'!$E$79>=50,'AIRFLOW FORM 5'!$E$79<=114),\"\",\"FAIL\")","v":"FAIL"},null,null,"Outdoor Dry Bulb Temp","50-114",{"$f":"IF(AND('AIRFLOW FORM 6'!$E$79>=50,'AIRFLOW FORM 6'!$E$79<=114),\"\",\"FAIL\")","v":"FAIL"},null,null,"Outdoor Dry Bulb Temp","50-114",{"$f":"IF(AND('AIRFLOW FORM 7'!$E$79>=50,'AIRFLOW FORM 7'!$E$79<=114),\"\",\"FAIL\")","v":"FAIL"},null,null,"Outdoor Dry Bulb Temp","50-114",{"$f":"IF(AND('AIRFLOW FORM 8'!$E$79>=50,'AIRFLOW FORM 8'!$E$79<=114),\"\",\"FAIL\")","v":"FAIL"},null,null,"Outdoor Dry Bulb Temp","50-114",{"$f":"IF(AND('AIRFLOW FORM 9'!$E$79>=50,'AIRFLOW FORM 9'!$E$79<=114),\"\",\"FAIL\")","v":"FAIL"},null,null,"Outdoor Dry Bulb Temp","50-114",{"$f":"IF(AND('AIRFLOW FORM 10'!$E$79>=50,'AIRFLOW FORM 10'!$E$79<=114),\"\",\"FAIL\")","v":"FAIL"}]
["Vapor Pressure","110-160",{"$f":"IF(AND('AIRFLOW FORM'!$E$85>=110,'AIRFLOW FORM'!$E$85<=160),\"\",\"FAIL\")","v":"FAIL"},null,"Vapor Pressure","110-160",{"$f":"IF(AND('AIRFLOW FORM 2'!$E$84>=110,'AIRFLOW FORM 2'!$E$84<=160),\"\",\"FAIL\")","v":"FAIL"},null,"Vapor Pressure","110-160",{"$f":"IF(AND('AIRFLOW FORM 3'!$E$84>=110,'AIRFLOW FORM 3'!$E$84<=160),\"\",\"FAIL\")","v":"FAIL"},null,null,"Vapor Pressure","110-160",{"$f":"IF(AND('AIRFLOW FORM 4'!$E$84>=110,'AIRFLOW FORM 4'!$E$84<=160),\"\",\"FAIL\")","v":"FAIL"},null,null,"Vapor Pressure","110-160",{"$f":"IF(AND('AIRFLOW FORM 5'!$E$84>=110,'AIRFLOW FORM 5'!$E$84<=160),\"\",\"FAIL\")","v":"FAIL"},null,null,"Vapor Pressure","110-160",{"$f":"IF(AND('AIRFLOW FORM 6'!$E$84>=110,'AIRFLOW FORM 6'!$E$84<=160),\"\",\"FAIL\")","v":"FAIL"},null,null,"Vapor Pressure","110-160",{"$f":"IF(AND('AIRFLOW FORM 7'!$E$84>=110,'AIRFLOW FORM 7'!$E$84<=160),\"\",\"FAIL\")","v":"FAIL"},null,null,"Vapor Pressure","110-160",{"$f":"IF(AND('AIRFLOW FORM 8'!$E$84>=110,'AIRFLOW FORM 8'!$E$84<=160),\"\",\"FAIL\")","v":"FAIL"},null,null,"Vapor Pressure","110-160",{"$f":"IF(AND('AIRFLOW FORM 9'!$E$84>=110,'AIRFLOW FORM 9'!$E$84<=160),\"\",\"FAIL\")","v":"FAIL"},null,null,"Vapor Pressure","110-160",{"$f":"IF(AND('AIRFLOW FORM 10'!$E$84>=110,'AIRFLOW FORM 10'!$E$84<=160),\"\",\"FAIL\")","v":"FAIL"}]
["Saturation Temp","35-95",{"$f":"IF(AND('AIRFLOW FORM'!$E$87>=35,'AIRFLOW FORM'!$E$87<=95),\"\",\"FAIL\")","v":"FAIL"},null,"Saturation Temp","35-95",{"$f":"IF(AND('AIRFLOW FORM 2'!$E$86>=35,'AIRFLOW FORM 2'!$E$86<=95),\"\",\"FAIL\")","v":"FAIL"},null,"Saturation Temp","35-95",{"$f":"IF(AND('AIRFLOW FORM 3'!$E$86>=35,'AIRFLOW FORM 3'!$E$86<=95),\"\",\"FAIL\")","v":"FAIL"},null,null,"Saturation Temp","35-95",{"$f":"IF(AND('AIRFLOW FORM 4'!$E$86>=35,'AIRFLOW FORM 4'!$E$86<=95),\"\",\"FAIL\")","v":"FAIL"},null,null,"Saturation Temp","35-95",{"$f":"IF(AND('AIRFLOW FORM 5'!$E$86>=35,'AIRFLOW FORM 5'!$E$86<=95),\"\",\"FAIL\")","v":"FAIL"},null,null,"Saturation Temp","35-95",{"$f":"IF(AND('AIRFLOW FORM 6'!$E$86>=35,'AIRFLOW FORM 6'!$E$86<=95),\"\",\"FAIL\")","v":"FAIL"},null,null,"Saturation Temp","35-95",{"$f":"IF(AND('AIRFLOW FORM 7'!$E$86>=35,'AIRFLOW FORM 7'!$E$86<=95),\"\",\"FAIL\")","v":"FAIL"},null,null,"Saturation Temp","35-95",{"$f":"IF(AND('AIRFLOW FORM 8'!$E$86>=35,'AIRFLOW FORM 8'!$E$86<=95),\"\",\"FAIL\")","v":"FAIL"},null,null,"Saturation Temp","35-95",{"$f":"IF(AND('AIRFLOW FORM 9'!$E$86>=35,'AIRFLOW FORM 9'!$E$86<=95),\"\",\"FAIL\")","v":"FAIL"},null,null,"Saturation Temp","35-95",{"$f":"IF(AND('AIRFLOW FORM 10'!$E$86>=35,'AIRFLOW FORM 10'!$E$86<=95),\"\",\"FAIL\")","v":"FAIL"}]
["Vapor Line Temp","40-90",{"$f":"IF(AND('AIRFLOW FORM'!$E$89>=40,'AIRFLOW FORM'!$E$89<=90),\"\",\"FAIL\")","v":"FAIL"},null,"Vapor Line Temp","40-90",{"$f":"IF(AND('AIRFLOW FORM 2'!$E$88>=40,'AIRFLOW FORM 2'!$E$88<=90),\"\",\"FAIL\")","v":"FAIL"},null,"Vapor Line Temp","40-90",{"$f":"IF(AND('AIRFLOW FORM 3'!$E$88>=40,'AIRFLOW FORM 3'!$E$88<=90),\"\",\"FAIL\")","v":"FAIL"},null,null,"Vapor Line Temp","40-90",{"$f":"IF(AND('AIRFLOW FORM 4'!$E$88>=40,'AIRFLOW FORM 4'!$E$88<=90),\"\",\"FAIL\")","v":"FAIL"},null,null,"Vapor Line Temp","40-90",{"$f":"IF(AND('AIRFLOW FORM 5'!$E$88>=40,'AIRFLOW FORM 5'!$E$88<=90),\"\",\"FAIL\")","v":"FAIL"},null,null,"Vapor Line Temp","40-90",{"$f":"IF(AND('AIRFLOW FORM 6'!$E$88>=40,'AIRFLOW FORM 6'!$E$88<=90),\"\",\"FAIL\")","v":"FAIL"},null,null,"Vapor Line Temp","40-90",{"$f":"IF(AND('AIRFLOW FORM 7'!$E$88>=40,'AIRFLOW FORM 7'!$E$88<=90),\"\",\"FAIL\")","v":"FAIL"},null,null,"Vapor Line Temp","40-90",{"$f":"IF(AND('AIRFLOW FORM 8'!$E$88>=40,'AIRFLOW FORM 8'!$E$88<=90),\"\",\"FAIL\")","v":"FAIL"},null,null,"Vapor Line Temp","40-90",{"$f":"IF(AND('AIRFLOW FORM 9'!$E$88>=40,'AIRFLOW FORM 9'!$E$88<=90),\"\",\"FAIL\")","v":"FAIL"},null,null,"Vapor Line Temp","40-90",{"$f":"IF(AND('AIRFLOW FORM 10'!$E$88>=40,'AIRFLOW FORM 10'!$E$88<=90),\"\",\"FAIL\")","v":"FAIL"}]
["Measured Super Heat","+-5",{"$f":"IF('AIRFLOW FORM'!E91=\"\",\"\",IF(AND('AIRFLOW FORM'!E91<='AIRFLOW FORM'!E75+5,'AIRFLOW FORM'!E91>='AIRFLOW FORM'!E75-5),\"\",\"FAIL\"))","v":""},null,"Measured Super Heat","+-5",{"$f":"IF('AIRFLOW FORM 2'!E90=\"\",\"\",IF(AND('AIRFLOW FORM 2'!E90<='AIRFLOW FORM 2'!E74+5,'AIRFLOW FORM 2'!E90>='AIRFLOW FORM 2'!E74-5),\"\",\"FAIL\"))","v":""},null,"Measured Super Heat","+-5",{"$f":"IF('AIRFLOW FORM 3'!E90=\"\",\"\",IF(AND('AIRFLOW FORM 3'!E90<='AIRFLOW FORM 3'!E74+5,'AIRFLOW FORM 3'!E90>='AIRFLOW FORM 3'!E74-5),\"\",\"FAIL\"))","v":""},null,null,"Measured Super Heat","+-5",{"$f":"IF('AIRFLOW FORM 4'!E90=\"\",\"\",IF(AND('AIRFLOW FORM 4'!E90<='AIRFLOW FORM 4'!E74+5,'AIRFLOW FORM 4'!E90>='AIRFLOW FORM 4'!E74-5),\"\",\"FAIL\"))","v":""},null,null,"Measured Super Heat","+-5",{"$f":"IF('AIRFLOW FORM 5'!E90=\"\",\"\",IF(AND('AIRFLOW FORM 5'!E90<='AIRFLOW FORM 5'!E74+5,'AIRFLOW FORM 5'!E90>='AIRFLOW FORM 5'!E74-5),\"\",\"FAIL\"))","v":""},null,null,"Measured Super Heat","+-5",{"$f":"IF('AIRFLOW FORM 6'!E90=\"\",\"\",IF(AND('AIRFLOW FORM 6'!E90<='AIRFLOW FORM 6'!E74+5,'AIRFLOW FORM 6'!E90>='AIRFLOW FORM 6'!E74-5),\"\",\"FAIL\"))","v":""},null,null,"Measured Super Heat","+-5",{"$f":"IF('AIRFLOW FORM 7'!E90=\"\",\"\",IF(AND('AIRFLOW FORM 7'!E90<='AIRFLOW FORM 7'!E74+5,'AIRFLOW FORM 7'!E90>='AIRFLOW FORM 7'!E74-5),\"\",\"FAIL\"))","v":""},null,null,"Measured Super Heat","+-5",{"$f":"IF('AIRFLOW FORM 8'!E90=\"\",\"\",IF(AND('AIRFLOW FORM 8'!E90<='AIRFLOW FORM 8'!E74+5,'AIRFLOW FORM 8'!E90>='AIRFLOW FORM 8'!E74-5),\"\",\"FAIL\"))","v":""},null,null,"Measured Super Heat","+-5",{"$f":"IF('AIRFLOW FORM 9'!E90=\"\",\"\",IF(AND('AIRFLOW FORM 9'!E90<='AIRFLOW FORM 9'!E74+5,'AIRFLOW FORM 9'!E90>='AIRFLOW FORM 9'!E74-5),\"\",\"FAIL\"))","v":""},null,null,"Measured Super Heat","+-5",{"$f":"IF('AIRFLOW FORM 10'!E90=\"\",\"\",IF(AND('AIRFLOW FORM 10'!E90<='AIRFLOW FORM 10'!E74+5,'AIRFLOW FORM 10'!E90>='AIRFLOW FORM 10'!E74-5),\"\",\"FAIL\"))","v":""}]

{"sheet":"References","index":30,"n_rows":525,"n_cols":121,"rows_kept":525,"cut":false,"hidden":true,"merged":[[496,49,496,50],[221,0,221,1],[221,3,221,4],[320,0,320,2],[190,50,190,52],[190,53,190,55],[190,56,190,58],[190,59,190,61],[190,62,190,64],[182,60,182,61],[183,60,183,61],[184,60,184,61],[184,63,184,64],[184,54,184,55],[184,57,184,58],[181,51,181,52],[182,51,182,52],[183,51,183,52],[184,51,184,52],[182,54,182,55],[183,54,183,55],[182,57,182,58],[183,57,183,58],[182,63,182,64],[183,63,183,64],[180,54,180,55],[181,54,181,55],[173,51,173,52],[174,51,174,52],[172,63,172,64],[173,63,173,64],[174,63,174,64],[175,63,175,64],[172,57,172,58],[173,57,173,58],[174,57,174,58],[176,63,176,64],[177,63,177,64],[172,60,172,61],[173,60,173,61],[174,60,174,61],[175,60,175,61],[176,60,176,61],[177,60,177,61],[178,60,178,61],[179,60,179,61],[180,60,180,61],[180,51,180,52],[181,60,181,61],[160,51,160,52],[166,50,166,52],[167,51,167,52],[178,63,178,64],[179,63,179,64],[180,63,180,64],[181,63,181,64],[172,54,172,55],[172,51,172,52],[175,57,175,58],[176,57,176,58],[177,57,177,58],[178,57,178,58],[179,57,179,58],[180,57,180,58],[181,57,181,58],[173,54,173,55],[174,54,174,55],[175,54,175,55],[176,54,176,55],[177,54,177,55],[178,54,178,55],[179,54,179,55],[166,62,166,64],[167,63,167,64],[168,63,168,64],[169,63,169,64],[175,51,175,52],[176,51,176,52],[177,51,177,52],[178,51,178,52],[179,51,179,52],[169,60,169,61],[170,60,170,61],[171,60,171,61],[168,54,168,55],[167,54,167,55],[171,51,171,52],[166,53,166,55],[169,54,169,55],[170,54,170,55],[171,54,171,55],[159,51,159,52],[159,54,159,55],[159,57,159,58],[159,60,159,61],[159,63,159,64],[170,63,170,64],[171,63,171,64],[166,56,166,58],[167,57,167,58],[168,57,168,58],[169,57,169,58],[170,57,170,58],[171,57,171,58],[160,54,160,55],[160,57,160,58],[160,60,160,61],[160,63,160,64],[168,51,168,52],[169,51,169,52],[170,51,170,52],[166,59,166,61],[167,60,167,61],[168,60,168,61],[142,50,142,52],[142,53,142,55],[142,56,142,58],[142,59,142,61],[142,62,142,64],[157,51,157,52],[157,54,157,55],[157,57,157,58],[157,60,157,61],[157,63,157,64],[153,51,153,52],[153,54,153,55],[153,57,153,58],[153,60,153,61],[153,63,153,64],[154,51,154,52],[154,54,154,55],[154,57,154,58],[154,60,154,61],[154,63,154,64],[151,51,151,52],[151,54,151,55],[151,57,151,58],[151,60,151,61],[158,51,158,52],[158,54,158,55],[158,57,158,58],[158,60,158,61],[158,63,158,64],[155,51,155,52],[155,54,155,55],[155,57,155,58],[155,60,155,61],[155,63,155,64],[156,51,156,52],[156,54,156,55],[156,57,156,58],[156,60,156,61],[156,63,156,64],[151,63,151,64],[152,51,152,52],[152,54,152,55],[152,57,152,58],[152,60,152,61],[152,63,152,64],[149,51,149,52],[149,54,149,55],[149,57,149,58],[149,60,149,61],[149,63,149,64],[150,51,150,52],[150,54,150,55],[150,57,150,58],[150,60,150,61],[150,63,150,64],[147,51,147,52],[147,54,147,55],[147,57,147,58],[147,60,147,61],[147,63,147,64],[148,51,148,52],[148,54,148,55],[148,57,148,58],[148,60,148,61],[148,63,148,64],[145,51,145,52],[145,54,145,55],[145,57,145,58],[145,60,145,61],[145,63,145,64],[146,51,146,52],[146,54,146,55],[146,57,146,58],[146,60,146,61],[146,63,146,64],[143,51,143,52],[143,54,143,55],[143,57,143,58],[143,60,143,61],[143,63,143,64],[144,51,144,52],[144,54,144,55],[144,57,144,58],[144,60,144,61],[144,63,144,64],[136,60,136,61],[119,63,119,64],[120,63,120,64],[122,63,122,64],[126,63,126,64],[128,63,128,64],[130,63,130,64],[134,63,134,64],[136,63,136,64],[119,60,119,61],[120,60,120,61],[122,60,122,61],[126,60,126,61],[128,60,128,61],[129,60,129,61],[131,60,131,61],[132,60,132,61],[133,60,133,61],[135,60,135,61],[121,60,121,61],[123,60,123,61],[124,60,124,61],[125,60,125,61],[127,60,127,61],[120,57,120,58],[122,57,122,58],[126,57,126,58],[128,57,128,58],[136,57,136,58],[134,57,134,58],[130,57,130,58],[119,54,119,55],[120,54,120,55],[122,54,122,55],[126,54,126,55],[132,54,132,55],[133,54,133,55],[135,54,135,55],[121,57,121,58],[123,57,123,58],[124,57,124,58],[125,57,125,58],[135,57,135,58],[125,54,125,55],[127,54,127,55],[129,54,129,55],[136,51,136,52],[118,50,118,52],[118,53,118,55],[124,51,124,52],[125,51,125,52],[127,51,127,52],[129,51,129,52],[131,51,131,52],[132,51,132,52],[133,51,133,52],[135,51,135,52],[121,54,121,55],[123,54,123,55],[119,51,119,52],[120,51,120,52],[122,51,122,52],[126,51,126,52],[128,51,128,52],[136,54,136,55],[131,54,131,55],[1,13,1,14],[121,51,121,52],[123,51,123,52],[45,2,45,3],[72,55,73,55],[72,49,73,49],[72,50,73,50],[72,51,73,51],[72,52,73,52],[72,54,73,54],[72,53,73,53],[85,31,124,31],[73,31,84,31],[124,54,124,55],[94,53,94,55],[94,50,94,52],[26,53,26,54],[36,53,36,54],[84,49,85,49],[84,50,85,50],[84,54,84,55],[84,51,85,51],[84,52,85,52],[17,9,17,10],[58,49,58,50],[3,26,3,27],[118,56,118,58],[128,54,128,55],[130,54,130,55],[134,54,134,55],[123,63,123,64],[124,63,124,64],[125,63,125,64],[127,63,127,64],[127,57,127,58],[129,57,129,58],[131,57,131,58],[132,57,132,58],[133,57,133,58],[94,62,94,64],[94,59,94,61],[94,56,94,58],[36,56,36,57],[118,59,118,61],[118,62,118,64],[130,51,130,52],[134,51,134,52],[119,57,119,58],[1,91,1,93],[1,96,1,97],[1,98,1,99],[1,112,1,120],[2,113,2,116],[2,117,2,120],[9,78,11,78],[9,79,9,84],[10,79,10,80],[10,81,10,82],[10,83,10,84],[514,49,514,50],[47,107,47,110],[53,79,53,82],[60,96,60,97],[75,96,75,99],[16,96,16,98],[24,79,24,80],[26,79,27,79],[28,86,28,87],[29,79,29,80],[31,79,32,79],[35,86,35,87],[37,80,37,81],[37,82,37,83],[49,99,49,100],[26,96,26,99],[130,60,130,61],[134,60,134,61],[129,63,129,64],[131,63,131,64],[132,63,132,64],[133,63,133,64],[135,63,135,64],[121,63,121,64]]}
["Basic References",null,null,null,null,null,"Existing Equipment Type",null,null,null,null,null,null,null,null,null,null,"Proposed Equipment Look Up",null,null,null,null,null,null,null,null,null,null,null,null,"Rebate Lookup Table*",null,null,null,null,null,null,null,null,null,null,null,null,null,null,null,null,null,null,"Home Performance",null,null,null,null,null,null,null,null,null,null,null,null,null,null,null,null,null,null,"All Electric Check List",null,null,null,null,null,null,null,null,null,"Geothermal"]
[" ",null,null,null,null,null,null,null,null,null,null,null,null,"New Construction Fuel Split",null,"**From 2018 in home resi study","Residence Type",null,null,null,null,null,null,null,null,null,null,null,null,null,null,"Measure Code","Product Class","Product Line","Product Name","Customer Rebate (per ton, per control)","LMI Rebate (per ton, per control)","Con. Incentive (per Project)","Coincidence Factor","kW Cooling Bonus","kWh Cooling Bonus","In-Service Rate","Free Ridership","Spillover","Line Loss kW Summer","Line Loss Energy",null,null,null,null,null,null,null,null,null,"Duct_Heating_Cooling System",null,null,null,null,null,null,null,null,null,null,null,null,null,null,null,null,null,null,null,null,null,null,null,null,"Yes_No",null,null,null,null,null,null,null,null,null,null,"Rebate Lookup Table*",null,null,null,null,"Cooling",null,"Heating",null,null,"Measure Code",null,"Coincidence Factor","kW Cooling Bonus","kWh Cooling Bonus","Free Ridership","Spillover","Line Loss kW Summer","Line Loss Energy",null,null,"Efficiency"]
["Value","Decimal Places",null,"ConversionFactors",null,null,"ASHP","Electric Resistance","Furnace","Other","Boiler","Heating Equipment",null,"Gas",0,null,"Select…",null,"Equipment Minimum Efficiency Look up",null,null,null,null,null,null,null,null,null,null,null,"Whole House Ducted ccASHP Tier II1","CH221-WH-NC","Cool Homes Heat Pump","Cooling - HVAC Equipment","CH - WH ccASHP New TIER 2",1000,5500,500,0.69,1,1,1,0.1,0,7.1900000000000006E-2,5.67E-2,null,null,null,null,null,null,null,null,null,"- Please Select -",null,null,null,"Rebates ",null,null,null,null,null,null,null,null,"Product:",null,null,"All Electric","Minimum Required:",null,null,"Tier 2 Required:",null,null,"Ducted Split CAC",null,"YES",null,null,null,null,null,"Geothermal System",null,"New ",null,null,"Geothermal System Geothermal, DGX Tier I",1000,200,null,null,"Geothermal System","Geothermal HP","Geothermal System","Geothermal HP",null,"G103-N","Geothermal System Geothermal, DGX Tier I",0.69,1,1,0,0,7.1900000000000006E-2,5.67E-2,null,null,null,"Tier I",null,null,null,"Tier II"]
["kW",7,null,2204.6,"lbs/metric ton",null,false,true,false,false,true,{"$f":"IF($G$4=TRUE,\"ASHP\",IF($H$4=TRUE,\"Electric Resistance\",IF($I$4=TRUE,\"Furnance\",IF(K4=TRUE,\"Boiler\",\"Other\"))))","v":"Electric Resistance"},null,"Oil",1,null,"Existing Building",null,"Equipment_Type","Efficiency",null,null,null,null,null,null,"Lookups",null,null,null,"Whole House Ductless Mini Split - ccASHP Tier II1","CH220-WH-NC","Cool Homes Ductless","Cooling - HVAC Equipment","CH - WH DUCTLESS ccASHP New TIER 2",1000,5500,500,0.69,1,1,1,0.1,0,7.1900000000000006E-2,5.67E-2,null,null,null,"Yes_No","YES","NO",null,null,null,"Heating & Cooling (1)",null,null,null,"Measure","Regular Offering","Income Eligible",null,null,null,null,null,null,"Cold Climate Air Source Heat Pump",false,null,"Space Heating",{"$f":"IF(OR(BR4,BR5),TRUE,FALSE)","v":false},null,"Water Heating",{"$f":"IF(OR(BR7,BR8),TRUE,FALSE)","v":false},null,null,"Ducted ASHP",null,"NO",null,null,null,null,null,null,null,"Existing",null,null,"Geothermal System Geothermal, DGX Tier II",2000,200,null,null,null,null,null,null,null,"G104-N","Geothermal System Geothermal, DGX Tier II",0.69,1,1,0,0,7.1900000000000006E-2,5.67E-2,null,null,null,"SEER","EER","HSPF","COP","SEER","EER","HSPF","COP"]
["kWh",5,null,1E-3,"kg/metric ton",null,null,null,null,null,null,null,null,"Fossil fuel total",0.96,null,"New Construction",null,null,"SEER",null,null,"COP/HSPF",null,"EER",null,"Conditional","QI ",null,null,"Whole House Ductless Multi Split - ccASHP Tier II1","CH222-WH-NC","Cool Homes Ductless","Cooling - HVAC Equipment","CH - WH DUCTLESS ccASHP New TIER 2",1000,5500,500,0.69,1,1,1,0.1,0,7.1900000000000006E-2,5.67E-2,null,null,null,"Select…","- Please Select -",null,null,"Duct Location",null,"Heating & Cooling (1&2)",null,"Select…",null,"Duct Sealing",300,500,null,null,null,null,null,null,"Geothermal Heat Pump",false,null,"Water Heating",{"$f":"IF(OR(BR6,BR7,BR8),TRUE,FALSE)","v":false},null,"Refrigerator",{"$f":"IF(OR(BR10),TRUE,FALSE)","v":false},null,null,"Ductless Mini Split",null,null,null,null,null,null,null,null,null,null,null,null,"Geothermal System Geothermal, Water to Air - Closed Tier I",1000,200,null,null,"None","Geothermal","Propane Furnace","Geothermal",null,"G105-N","Geothermal System Geothermal, Water to Air - Closed Tier I",0.69,1,1,0,0,7.1900000000000006E-2,5.67E-2,null,null,"Ducted ASHP",15,null,8.5,null,16,null,8.5]
[null,null,null,null,null,null,null,null,null,null,null,null,null,"Electric",0.04,null,null,null,null,"Tier I","Tier II","Tier III","Tier I","Tier II","Tier I","Tier II","Formatting","Codes",null,null,"Whole House Ducted ccASHP Tier II2","CH221-WH-OC","Cool Homes Heat Pump","Cooling - HVAC Equipment","CH - WH S2 ccASHP New TIER 2",1000,5500,500,0.69,1,1,1,0.1,0,7.1900000000000006E-2,5.67E-2,null,null,null,"YES","Heating & Cooling (1)",null,null,"Unconditioned Attic",null,"Heating & Cooling (2)",null,1,null,"Air Sealing",300,1000,null,null,null,null,null,null,"Tankless Water Heater",false,null,"Refrigerator",{"$f":"IF(OR(BR9,BR10),TRUE,FALSE)","v":false},null,"Clothes Washer",{"$f":"IF(OR(BR12),TRUE,FALSE)","v":false},null,null,"Geothermal",null,null,null,null,null,null,null,null,null,null,null,null,"Geothermal System Geothermal, Water to Air - Closed Tier II",2000,200,null,null,"Ductless Mini Split",null,"Natural Gas Furnace",null,null,"G106-N","Geothermal System Geothermal, Water to Air - Closed Tier II",0.69,1,1,0,0,7.1900000000000006E-2,5.67E-2,null,null,"Ducted Split CAC",16,null,null,null,17]
["Yes_No",null,"PASS/FAIL",null,"Integrated Controls ",null,"Heating Fuel Type",null,null,"Cooling Baselines","EER Efficiency","SEER Efficiency",null,null,null,null,null,null,"Ducted ccASHP","N/A",15,"N/A","N/A",9,null,null,1,"ccASHP",null,null,"Whole House Ductless Mini Split - ccASHP Tier II2","CH220-WH-OC","Cool Homes Ductless","Cooling - HVAC Equipment","CH - WH S2 DUCTLESS ccASHP New TIER 2",1000,5500,500,0.69,1,1,1,0.1,0,7.1900000000000006E-2,5.67E-2,null,null,null,"NO","Heating & Cooling (1&2)",null,null,"Unconditioned Basement",null,"Heating (1)",null,{"$f":"BF6+1","v":2},null,"Insulation",600,4500,null,null,null,null,null,null,"Heat Pump Water Heater",false,null,"Clothes Washer",{"$f":"IF(OR(BR11,BR12),TRUE,FALSE)","v":false},null,"Clothes Dryer",{"$f":"IF(OR(BR14),TRUE,FALSE)","v":false},null,null,null,null,null,null,null,null,null,null,"Closed Loop",null,null,null,null,"Geothermal System Geothermal, Water to Air - Open Tier I",1000,200,null,null,"CAC",null,"Oil Furnace",null,null,"G107-N","Geothermal System Geothermal, Water to Air - Open Tier I",0.69,1,1,0,0,7.1900000000000006E-2,5.67E-2,null,null,"Ductless Mini Split",18]
["YES",null,"Pass",null,false,null,1,"Natural Gas",null,"Ducted Air Source HP",12.3,15,null,null,"Rebate Payment Method",null,"Project Type - Heat Pump",null,"Ductless Mini Split - ccASHP","N/A",15,"N/A","N/A",10,null,null,1,"DuctlessCC HP",null,null,"Whole House Ductless Multi Split - ccASHP Tier II2","CH222-WH-OC","Cool Homes Ductless","Cooling - HVAC Equipment","CH - WH S2 DUCTLESS ccASHP New TIER 2",1000,5500,500,0.69,1,1,1,0.1,0,7.1900000000000006E-2,5.67E-2,null,null,null,"DECLINED",null,null,null,"Unconditioned Crawl Space",null,"Cooling (1)",null,{"$f":"BF7+1","v":3},null,null,null,null,null,null,null,null,null,null,"Geothermal Water Heater",false,null,"Clothes Dryer",{"$f":"IF(OR(BR13,BR14),TRUE,FALSE)","v":false},null,"Dishwasher",{"$f":"IF(OR(BR16),TRUE,FALSE)","v":false},null,null,null,null,null,null,null,null,null,null,"Open Loop/Well",null,null,null,null,"Geothermal System Geothermal, Water to Air - Open Tier II",2000,200,null,null,"ASHP",null,"Natural Gas Boiler ",null,null,"G108-N","Geothermal System Geothermal, Water to Air - Open Tier II",0.69,1,1,0,0,7.1900000000000006E-2,5.67E-2,null,null,"Geothermal",null,19,null,3.1,null,25,null,3.1]
["NO",null,"Fail",null,null,null,2,"Oil",null,"Central Air Conditioner",11.8,14,null,null,"Select…",null,"Select…",null,"Ductless Multi Split - ccASHP","N/A",15,"N/A","N/A",10,null,null,1,"DuctlessCC HP",null,null,"Whole House Ducted ccASHP Tier II3","CH221-WH-AO","Cool Homes Heat Pump","Cooling - HVAC Equipment","CH - WH S3 ccASHP New TIER 2",1000,5500,500,0.69,1,1,1,0.1,0,7.1900000000000006E-2,5.67E-2,null,null,null,null,null,null,null,"Unconditioned Garage",null,"Heating (2)",null,4,null,null,null,null,null,null,null,null,null,null,"ES Refrigerator",false,null,"Dishwasher",{"$f":"IF(OR(BR15,BR16),TRUE,FALSE)","v":false},null,"Cooking",{"$f":"IF(OR(BR18,BR19),TRUE,FALSE)","v":false},null,null,null,null,null,null,null,null,null,null,null,null,null,null,null,"Geothermal System Geothermal, Water to Water - Closed Tier I",1000,200,null,null,"Room AC",null,"Oil Boiler ",null,null,"G109-N","Geothermal System Geothermal, Water to Water - Closed Tier I",0.69,1,1,0,0,7.1900000000000006E-2,5.67E-2]
[null,null,null,null,null,null,3,"Propane",null,"Ductless Mini Split - AC",11.8,14,null,null,"Check",null,"Whole House",null,"Ducted ASHP",15,"N/A","N/A",8.5,8.5,null,null,1,"ASHP",null,null,"Whole House Ductless Mini Split - ccASHP Tier II3","CH220-WH-AO","Cool Homes Ductless","Cooling - HVAC Equipment","CH - WH S3 DUCTLESS ccASHP New TIER 2",1000,5500,500,0.69,1,1,1,0.1,0,7.1900000000000006E-2,5.67E-2,null,null,null,"Location",null,null,null,null,null,"Cooling (2)",null,5,null,null,null,null,null,null,null,null,null,null,"ME Refrigerator",false,null,"Cooking",{"$f":"IF(OR(BR17,BR18,BR19),TRUE,FALSE)","v":false},null,"Controls",{"$f":"IF(OR(BR22,BR23),TRUE,FALSE)","v":false},null,null,"Equipment_Type","Efficiency",null,null,null,null,null,null,null,null,null,null,null,"Geothermal System Geothermal, Water to Water - Closed Tier II",2000,200,null,null,"Geothermal",null,"Electric Furnace",null,null,"G110-N","Geothermal System Geothermal, Water to Water - Closed Tier II",0.69,1,1,0,0,7.1900000000000006E-2,5.67E-2]
["Emission Factor (lb CO2 / kWh)",null,null,"kWh to MMBTU","COP to HSPF conversion",null,4,"Electric",null,"Ductless Mini Split - HP",12.3,15,null,null,"Bill Credit",null,"Not Applicable",null,"Ductless Mini Split - ASHP",18,"N/A","N/A",8.5,"N/A",null,null,1,"Ductless HP",null,null,"Whole House Ductless Multi Split - ccASHP Tier II3","CH222-WH-AO","Cool Homes Ductless","Cooling - HVAC Equipment","CH - WH S3 DUCTLESS ccASHP New TIER 2",1000,5500,500,0.69,1,1,1,0.1,0,7.1900000000000006E-2,5.67E-2,null,null,null,"Attic",null,null,null,null,null,"Heating (1&2)",null,6,null,null,null,null,null,null,null,null,null,null,"ES Clothes Washer",false,null,"Lighting",{"$f":"IF(OR(BR20),TRUE,FALSE)","v":false},null,"PASS/FAIL:",{"$f":"IF(AND(BX4,BX5,BX6,BX7,BX8,BX9,BX10),TRUE,FALSE)","v":false},null,null,null,"SEER",null,"EER",null,"COP/HSPF",null,null,"Space Heating",null,null,null,null,"Geothermal System Geothermal, Water to Water - Open Tier I",1000,200,null,null,null,null,"Electric Resistance",null,null,"G111-N","Geothermal System Geothermal, Water to Water - Open Tier I",0.69,1,1,0,0,7.1900000000000006E-2,5.67E-2]
[1.1961999999999999,null,null,3.4120000000000001E-3,3.4119999999999999,null,null,"New Construction",null,"PTHP",10.4,10.4,null,null,"Assigned to Contractor",null,null,null,"Packaged Terminal Heat Pump","N/A","N/A","N/A",3.3,"N/A",11.4,"N/A",1,"PTHP",null,null,"Ducted ASHP EH Tier I","CH211-N-EH","Cool Homes Heat Pump","Cooling - HVAC Equipment","CH - ASHP EH New TIER 1",800,1200,500,0.69,1,1,1,0.1,0,7.1900000000000006E-2,5.67E-2,null,null,null,"Attic 2",null,null,null,null,null,"Cooling (1&2)",null,7,null,null,null,null,null,null,null,null,null,null,"ME Clothes Washer",false,null,"Controls",{"$f":"IF(OR(BR21,BR22,BR23),TRUE,FALSE)","v":false},null,"Tier:",{"$f":"IF(BU13,IF(BX11,\"Tier 2\",\"Tier 1\"),\"\")","v":""},null,null,null,"Tier I","Tier II","Tier I","Tier II","Tier I","Tier II",null,"Space & Water Heating",null,null,null,null,"Geothermal System Geothermal, Water to Water - Open Tier II",2000,200,null,null,null,null,"Geothermal",null,null,"G112-N","Geothermal System Geothermal, Water to Water - Open Tier II",0.69,1,1,0,0,7.1900000000000006E-2,5.67E-2]
[null,null,"Income Eligible?",null,null,null,null,{"$f":"IF(OR($A$21=2,$A$21=4),$H$12,IF(OR(G4=TRUE,H4=TRUE),$H$11,IF($G$13=0,\"\",INDEX($H$8:$H$12,MATCH($G$13,$G$8:$G$12,0)))))","v":"Electric"},null,"Geothermal",14,12.99,null,null,null,null,null,null,"Ducted ASHP EH",15,"N/A","N/A",8.5,8.5,null,null,null,"ASHP",null,null,"Ducted ASHP EH Tier II","CH212-N-EH","Cool Homes Heat Pump","Cooling - HVAC Equipment","CH - ASHP EH New TIER 2",1000,1500,500,0.69,1,1,1,0.1,0,7.1900000000000006E-2,5.67E-2,null,null,null,"Exterior Walls",null,null,null,null,null,null,null,8,null,null,null,null,null,null,null,null,null,null,"ER Clothes Dryer",false,null,"PASS/FAIL:",{"$f":"IF(AND(BU4,BU5,BU6,BU7,BU8,BU9,BU10,BU11,BU12),TRUE,FALSE)","v":false},null,null,null,null,null,"Ducted ASHP",15,16,null,null,8.5,null,null,null,null,null,null,null,"Geothermal HP Geothermal, DGX Tier I",500,200,null,null,null,null,"Ductless Mini Split",null,null,"G103-R","Geothermal HP Geothermal, DGX Tier I",0.69,1,1,0,0,7.1900000000000006E-2,5.67E-2]
["QIV Contractor",null,{"$f":"IF('Site Information'!C14=\"Yes\",TRUE)","v":false},null,"Replacement Type",null,null,null,null,"Other",12.3,15,null,null,null,null,null,null,"Ducted ccASHP EH","N/A",15,"N/A",8.5,9,null,null,null,"ccASHP",null,null,"Ducted ccASHP EH Tier II","CH221-N-EH","Cool Homes Heat Pump","Cooling - HVAC Equipment","CH - ccASHP EH New TIER 2",1000,3000,500,0.69,1,1,1,0.1,0,7.1900000000000006E-2,5.67E-2,null,null,null,"Garage/Overhang",null,"Attic","Attic 2","Exterior Walls","Garage Overhang","Basement Ceiling",null,9,null,"Look up","Measure Code","Product Class","Product Line","Product Name",null,null,null,null,"ME Clothes Dryer",false,null,null,null,null,null,null,null,null,"Ducted Split CAC",16,17,null,null,null,null,null,null,null,null,null,null,"Geothermal HP Geothermal, DGX Tier II",700,200,null,null,null,null,"ASHP",null,null,"G104-R","Geothermal HP Geothermal, DGX Tier II",0.69,1,1,0,0,7.1900000000000006E-2,5.67E-2]
[true,null,{"$f":"IF(C14=TRUE,\"Income Eligible \",\"\")","v":""},null,"Retrofit",null,null,null,null,"None",12.3,15,null,null,null,null,"Project Type - Weatherization",null,"Ductless Mini Split - ASHP EH",18,18,"N/A",8.5,10,null,null,null,"Ductless HP",null,null,"Ductless Mini Split - ASHP EH Tier I","CH201-N-EH","Cool Homes Ductless","Cooling - HVAC Equipment","CH - DUCTLESS EH New TIER 1",800,1200,500,0.69,1,1,1,0.1,0,7.1900000000000006E-2,5.67E-2,null,null,null,"Basement Ceiling",null,null,null,null,null,"Rim Joist",null,10,null,"Conditioned Space ","HPwES-100","HPwES-Systems","HPwES-Systems","HPwES Duct Sealing",null,null,null,null,"ES Dishwasher",false,null,{"$f":"IF(BU4,\"\",\"Space Heating and Air Conditioning\")","v":"Space Heating and Air Conditioning"},{"$f":"IF(BT15=\"\",\"\",IF(OR(BU5=FALSE,BU6=FALSE,BU7=FALSE,BU8=FALSE,BU9=FALSE,BU10=FALSE,BU11=FALSE,BU12=FALSE),\", \",\"\"))","v":", "},{"$f":"IF(BT15=\"\",\"\",IF(AND(BT16=\"\",BT17=\"\",BT18=\"\",BT19=\"\",BT20=\"\",BT21=\"\",BT22=\"\",BT23=\"\"),\"\",IF(OR(BV16=\"and \",BV17=\"and \",BV18=\"and \",BV19=\"and \",BV20=\"and \",BV21=\"and \",BV22=\"and \"),\"\",\"and \")))","v":""},null,null,null,null,"Ductless Mini Split - AC Only",18,null,null,null,null,null,null,"Central Air Conditioning/Heat Pumps",null,null,null,null,"Geothermal HP Geothermal, Water to Air - Closed Tier I",500,200,null,null,null,null,"None",null,null,"G105-R","Geothermal HP Geothermal, Water to Air - Closed Tier I",0.69,1,1,0,0,7.1900000000000006E-2,5.67E-2]
[null,null,null,null,"New",null,null,null,null,"New Construction",12.3,15,null,null,null,null,"Select…",null,"Ductless Multi Split - ccASHP EH","N/A",15,"N/A","N/A",10,null,null,null,"DuctlessCC HP",null,null,"Ductless Mini Split - ASHP EH Tier II","CH202-N-EH","Cool Homes Ductless","Cooling - HVAC Equipment","CH - DUCTLESS EH New TIER 2",1000,1500,500,0.69,1,1,1,0.1,0,7.1900000000000006E-2,5.67E-2,null,null,null,"Knee Wall",null,null,null,null,null,"Foundation Walls",null,{"$f":"BF15+1","v":11},null,"Unconditioned Attic","HPwES-105","HPwES-Systems","HPwES-Systems","HPwES Duct Sealing",null,null,null,null,"ME Dishwasher",false,null,{"$f":"IF(BU5,\"\",\"Water Heating\")","v":"Water Heating"},{"$f":"IF(BT16=\"\",\"\",IF(OR(BU6=FALSE,BU7=FALSE,BU8=FALSE,BU9=FALSE,BU10=FALSE,BU11=FALSE,BU12=FALSE),\", \",\"\"))","v":", "},{"$f":"IF(AND(BT15=\"\",BT16=\"\"),\"\",IF(AND(BT17=\"\",BT18=\"\",BT19=\"\",BT20=\"\",BT21=\"\",BT22=\"\",BT23=\"\"),\"\",IF(OR(BV17=\"and \",BV18=\"and \",BV19=\"and \",BV20=\"and \",BV21=\"and \",BV22=\"and \"),\"\",\"and \")))","v":""},null,null,null,null,"Ductless Mini Split - HP",18,null,null,null,8.1999999999999993,null,null,"Geothermal",null,null,null,null,"Geothermal HP Geothermal, Water to Air - Closed Tier II",700,200,null,null,null,null,null,null,null,"G106-R","Geothermal HP Geothermal, Water to Air - Closed Tier II",0.69,1,1,0,0,7.1900000000000006E-2,5.67E-2]
["Installing Smart Thermostat",null,"Cost Cap %",null,null,null,null,null,null,null,null,null,null,null,null,null,"Home Performance",null,"Ductless Mini Split - ccASHP EH","N/A",15,"N/A","N/A",10,null,null,null,"DuctlessCC HP",null,null,"Ductless Mini Split - ccASHP EH Tier II","CH220-N-EH","Cool Homes Ductless","Cooling - HVAC Equipment","CH - DUCTLESS EH New TIER 2",1000,3000,500,0.69,1,1,1,0.1,0,7.1900000000000006E-2,5.67E-2,null,null,null,null,null,null,null,null,null,"Flooring",null,12,null,"Unconditioned Basement","HPwES-106","HPwES-Systems","HPwES-Systems","HPwES Duct Sealing",null,null,null,null,"Standard Electric Range",false,null,{"$f":"IF(BU6,\"\",\"Refrigerators\")","v":"Refrigerators"},{"$f":"IF(BT17=\"\",\"\",IF(OR(BU7=FALSE,BU8=FALSE,BU9=FALSE,BU10=FALSE,BU11=FALSE,BU12=FALSE),\", \",\"\"))","v":", "},{"$f":"IF(AND(BT15=\"\",BT16=\"\",BT17=\"\"),\"\",IF(AND(BT18=\"\",BT19=\"\",BT20=\"\",BT21=\"\",BT22=\"\",BT23=\"\"),\"\",IF(OR(BV18=\"and \",BV19=\"and \",BV20=\"and \",BV21=\"and \",BV22=\"and \"),\"\",\"and \")))","v":""},null,null,null,null,"Geothermal, Water to Air - Closed",null,null,17.100000000000001,20,3.6,3.8,null,null,null,null,null,null,"Geothermal HP Geothermal, Water to Air - Open Tier I",500,200,null,null,"Cooling Baseline - New Standard 2023",null,null,null,null,"G107-R","Geothermal HP Geothermal, Water to Air - Open Tier I",0.69,1,1,0,0,7.1900000000000006E-2,5.67E-2]
[0,null,{"$f":"IF(C14,100%,70%)","v":0.7},null,"Home",null,null,null,null,"Beneficial Electrification ",null,null,null,null,null,null,"Not Applicable",null,"Ducted Split CAC",16,17,18,null,null,null,null,2,"CAC",null,null,"Ductless Multi Split - ccASHP EH Tier II","CH222-N-EH","Cool Homes Ductless","Cooling - HVAC Equipment","CH - DUCTLESS EH New TIER 2",1000,3000,500,0.69,1,1,1,0.1,0,7.1900000000000006E-2,5.67E-2,null,null,null,"Location Attribute",null,null,null,null,null,null,null,13,null,"Unconditioned Garage","HPwES-107","HPwES-Systems","HPwES-Systems","HPwES Duct Sealing",null,null,null,null,"Induction Stove/Convection Oven",false,null,{"$f":"IF(BU7,\"\",\"Clothes Washers\")","v":"Clothes Washers"},{"$f":"IF(BT18=\"\",\"\",IF(OR(BU8=FALSE,BU9=FALSE,BU10=FALSE,BU11=FALSE,BU12=FALSE),\",\", \"\"))","v":","},{"$f":"IF(AND(BT15=\"\",BT16=\"\",BT17=\"\",BT18=\"\"),\"\",IF(AND(BT19=\"\",BT20=\"\",BT21=\"\",BT22=\"\",BT23=\"\"),\"\",IF(OR(BV19=\"and \",BV20=\"and \",BV21=\"and \",BV22=\"and \"),\"\",\"and \")))","v":""},null,null,null,null,"Geothermal, Water to Air - Open",null,null,21.1,25,4.0999999999999996,4.5,null,null,null,null,null,null,"Geothermal HP Geothermal, Water to Air - Open Tier II",700,200,null,null,"Technology","Efficiency (SEER)","Converted (EER)",null,null,"G108-R","Geothermal HP Geothermal, Water to Air - Open Tier II",0.69,1,1,0,0,7.1900000000000006E-2,5.67E-2]
[null,null,null,null,"New ",null,null,"Equipment","EE Savings","Fossil Fuel Savings","Electric Parasitics (kWh/MMBTU)","Existing Heating Electric Efficiency","Existing Heating ff Efficiency","Displacement Factor","CO2 Calc",null,null,null,"Ductless Mini Split - AC Only",18,"N/A","N/A",null,null,null,null,2,"Ductless",null,null,"New Ducted ASHP Tier I","CH211-N","Cool Homes Heat Pump","Cooling - HVAC Equipment","CH - ASHP New TIER 1",300,300,200,0.69,1,1,1,0.1,0,7.1900000000000006E-2,5.67E-2,null,null,null,null,null,null,null,null,null,null,null,14,null,"Unconditioned Crawl Space","HPwES-110","HPwES-Systems","HPwES-Systems","HPwES Duct Sealing",null,null,null,null,"Propane Stove",false,null,{"$f":"IF(BU8,\"\",\"Clothes Dryers\")","v":"Clothes Dryers"},{"$f":"IF(BT19=\"\",\"\",IF(OR(BU9=FALSE,BU10=FALSE,BU11=FALSE,BU12=FALSE),\", \",\"\"))","v":", "},{"$f":"IF(AND(BT15=\"\",BT16=\"\",BT17=\"\",BT18=\"\",BT19=\"\"),\"\",IF(AND(BT20=\"\",BT21=\"\",BT22=\"\",BT23=\"\"),\"\",IF(OR(BV20=\"and \",BV21=\"and \",BV22=\"and \"),\"\",\"and \")))","v":""},null,null,null,null,"Geothermal, Water to Water - Closed",null,null,16.100000000000001,17.5,3.1,3.1,null,"Effective Full Load Hours",null,null,null,null,"Geothermal HP Geothermal, Water to Water - Closed Tier I",500,200,null,null,"None",15,12.3,null,null,"G109-R","Geothermal HP Geothermal, Water to Water - Closed Tier I",0.69,1,1,0,0,7.1900000000000006E-2,5.67E-2]
["Existing/New Construction",null,"Whole House?",null,"Existing",null,null,"Natural Gas Boiler",0,{"$f":"1-I20","v":1},15,0,0.81,0.8,5.3060000000000003E-2,"ton CO2/MMBTU",null,null,null,null,null,null,null,null,null,null,null,null,null,null,"New Ducted ASHP Tier II","CH211-R","Cool Homes Heat Pump","Cooling - HVAC Equipment","CH - ASHP New TIER 2",325,325,200,0.69,1,1,1,0.1,0,7.1900000000000006E-2,5.67E-2,null,null,null,"Combustion Equipment",null,"Venting",null,"Fuel Type",null,"Distribution",null,15,null,null,"HPwES-115","HPwES-Systems","HPwES-Systems","HPwES Air Sealing",null,null,null,null,"LED Lighting",false,null,{"$f":"IF(BU9,\"\",\"Dishwashers\")","v":"Dishwashers"},{"$f":"IF(BT20=\"\",\"\",IF(OR(BU10=FALSE,BU11=FALSE,BU12=FALSE),\", \",\"\"))","v":", "},{"$f":"IF(AND(BT15=\"\",BT16=\"\",BT17=\"\",BT18=\"\",BT19=\"\"),\"\",IF(AND(BT21=\"\",BT22=\"\",BT23=\"\"),\"\",IF(OR(BV21=\"and \",BV22=\"and \"),\"\",\"and \")))","v":""},"Tier","Bonus %",null,null,"Geothermal, Water to Water - Open",null,null,20.100000000000001,23,3.5,3.7,null,"Full Load Hours Cool",630,null,null,null,"Geothermal HP Geothermal, Water to Water - Closed Tier II",700,200,null,null,"Ductless Mini split",15,12.3,null,null,"G110-R","Geothermal HP Geothermal, Water to Water - Closed Tier II",0.69,1,1,0,0,7.1900000000000006E-2,5.67E-2]
[{"$f":"IF('Site Information'!C6=\"New Construction\",2,1)","v":1},null,{"$f":"IF('Site Information'!C10=\"Whole House\",TRUE)","v":false},null,null,null,null,"Oil Boiler",0,{"$f":"1-I21","v":1},15,0,0.83,0.8,7.3959999999999998E-2,"ton CO2/MMBTU","Income Eligible",null,null,null,null,null,null,null,null,null,null,null,null,null,"New Ductless Mini Split - ASHP Tier I","CH214-N","Cool Homes Ductless","Cooling - HVAC Equipment","CH - DUCTLESS ASHP New TIER 3",300,300,200,0.69,1,1,1,0.1,0,7.1900000000000006E-2,5.67E-2,null,null,null,"Furnace",null,"Natural",null,"Oil",null,"Forced Hot Air",null,null,null,"Attic","HPwES-120","HPwES-Systems","HPwES-Systems","HPwES Insulation",null,null,null,null,"Connected Thermostat",false,null,{"$f":"IF(BU10,\"\",\"Cooking Components\")","v":"Cooking Components"},{"$f":"IF(BT21=\"\",\"\",IF(OR(BU11=FALSE,BU12=FALSE),\", \",\"\"))","v":", "},{"$f":"IF(AND(BT15=\"\",BT16=\"\",BT17=\"\",BT18=\"\",BT19=\"\",BT20=\"\",BT21=\"\"),\"\",IF(AND(BT22=\"\",BT23=\"\"),\"\",IF(BV22=\"and \",\"\",\"and \")))","v":""},"Tier 1",0.1,null,null,"Geothermal, DGX",null,null,16,21,3.6,4,null,"Full Load Hours Heat",934,null,null,null,"Geothermal HP Geothermal, Water to Water - Open Tier I",500,200,null,null,"CAC",14,11.2,null,null,"G111-R","Geothermal HP Geothermal, Water to Water - Open Tier I",0.69,1,1,0,0,7.1900000000000006E-2,5.67E-2]
[null,null,{"$f":"IF(C21=TRUE,\"Whole House \",\"\")","v":""},null,null,null,null,"Electric Boiler",1,0,0,0.78,0,0.8,6.0825682663521725E-4,"ton CO2/kWh","Select…",null,null,null,null,null,null,null,null,null,null,null,null,null,"New Ducted ccASHP Tier II","CH221-N","Cool Homes Heat Pump","Cooling - HVAC Equipment","CH - ccASHP New TIER 2",375,375,250,0.69,1,1,1,0.1,0,7.1900000000000006E-2,5.67E-2,null,null,null,"Boiler",null,"Induced",null,"Natural Gas",null,"Baseboard",null,null,null,"Exterior Walls","HPwES-125","HPwES-Systems","HPwES-Systems","HPwES Insulation",null,null,null,null,"Learning Thermostat",false,null,{"$f":"IF(BU11,\"\",\"LED Lighting\")","v":"LED Lighting"},{"$f":"IF(BT22=\"\",\"\",IF(OR(BU12=FALSE),\", \",\"\"))","v":", "},{"$f":"IF(AND(BT15=\"\",BT16=\"\",BT17=\"\",BT18=\"\",BT19=\"\",BT20=\"\",BT21=\"\",BT22=\"\"),\"\",IF(BT23=\"\",\"\",\"and \"))","v":"and "},"Tier 2",0.25,null,null,null,null,null,null,null,null,null,null,null,null,null,null,null,"Geothermal HP Geothermal, Water to Water - Open Tier II",700,200,null,null,"ASHP",15,12.3,null,null,"G112-R","Geothermal HP Geothermal, Water to Water - Open Tier II",0.69,1,1,0,0,7.1900000000000006E-2,5.67E-2]
[null,null,null,null,null,"Go To…",null,"Propane Boiler",0,1,15,0,0.81,0.8,6.1460000000000001E-2,"ton CO2/MMBTU","Yes",null,null,"QI Savings",null,null,null,null,null,null,null,null,null,null,"New Ductless Mini Split - ccASHP Tier II","CH220-N","Cool Homes Ductless","Cooling - HVAC Equipment","CH - DUCTLESS ccASHP New TIER2",325,325,250,0.69,1,1,1,0.1,0,7.1900000000000006E-2,5.67E-2,null,null,null,"Heat Pump",null,"Power Vented ",null,"Electric",null,"Radiator",null,null,null,"Garage/Overhang","HPwES-130","HPwES-Systems","HPwES-Systems","HPwES Insulation",null,null,null,null,"Other Smart Thermostat",false,null,{"$f":"IF(BU12,\"\",\"Thermostat Controls\")","v":"Thermostat Controls"},null,null,"Selected:",{"$f":"IF(BU13=FALSE,0%,IF(BX11,BX22,BX21))","v":0},null,null,null,null,null,null,null,null,null,null,null,null,null,null,null,"Geothermal System Water Heater Geothermal, Water to Water - Closed",1000,0,null,null,"Room AC",{"$f":"AVERAGE(10.9,10.7,9.5,9.3)/0.9","v":11.222222222222223},{"$f":"(-0.02*CT23^2)+(1.12*CT23)","v":10.050123456790125},null,null,"G120-N","Geothermal System Water Heater Geothermal, Water to Water - Closed",0.69,1,1,0,0,7.1900000000000006E-2,5.67E-2]
["Effective Full Load Hours","New Construction - Cold Climate","Existing Building - Cold Climate","All Heat Pumps",null,"Home Performance",null,"Natural Gas Furnace",0,1,15,0,{"$f":"AVERAGE(80%,81%)","v":0.80500000000000005},0.8,5.3060000000000003E-2,"ton CO2/MMBTU","No",null,null,"kW C&A","kW RS","kWh",null,null,null,null,null,null,null,null,"New Ductless Multi Split - ccASHP Tier II","CH222-N","Cool Homes Ductless","Cooling - HVAC Equipment","CH - DUCTLESS ccASHP New TIER2",325,325,250,0.69,1,1,1,0.1,0,7.1900000000000006E-2,5.67E-2,null,null,null,"Geothermal",null,"Sealed",null,"Propane",null,null,null,null,null,"Basement Ceiling","HPwES-135","HPwES-Systems","HPwES-Systems","HPwES Insulation",null,null,null,null,"Pool Pumps",false,null,null,null,null,null,null,null,null,null,null,null,null,null,null,null,null,null,null,null,null,null,"Geothermal System Water Heater Geothermal, Water to Water - Open",1000,0,null,null,"Geothermal",12.99,14.1,null,null,"G130-N","Geothermal System Water Heater Geothermal, Water to Water - Open",0.69,1,1,0,0,7.1900000000000006E-2,5.67E-2]
["Full Load Hours Cool",788,811,649,null,"Air Flow",null,"Oil Furnace",0,1,15,0,{"$f":"AVERAGE(83%,78%)","v":0.80499999999999994},0.8,7.3959999999999998E-2,"ton CO2/MMBTU",null,null,null,1.5939999999999999E-3,null,0.05,null,null,null,null,null,null,null,null,"Retrofit Ducted ASHP Tier I","CH214-R","Cool Homes Heat Pump","Cooling - HVAC Equipment","CH - ASHP Retrofit TIER 1",300,300,200,0.69,1,1,1,0.1,0,7.1900000000000006E-2,5.67E-2,null,null,null,"Electric Baseboard",null,null,null,"Other",null,null,null,null,null,null,null,null,null,null,null,null,null,null,"Heat Pump Pool Heater",false,null,{"$f":"BT15&BU15&BV15&BT16&BU16&BV16&BT17&BU17&BV17&BT18&BU18&BV18&BT19&BU19&BV19&BT20&BU20&BV20&BT21&BU21&BV21&BT22&BU22&BV22&BT23","v":"Space Heating and Air Conditioning, Water Heating, Refrigerators, Clothes Washers,Clothes Dryers, Dishwashers, Cooking Components, LED Lighting, and Thermostat Controls"},null,null,null,null,null,null,null,"Customer Sector",null,null,"Loop Field Cx Form Lists",null,null,null,null,null,null,null,null,"Geothermal HP Water Heater Geothermal, Water to Water - Closed",500,0,null,null,null,null,null,null,null,"G120-R","Geothermal HP Water Heater Geothermal, Water to Water - Closed",0.69,1,1,0,0,7.1900000000000006E-2,5.67E-2]
["Full Load Hours Heat",1329,1485,788,null,null,null,"Electric Furnace",1,0,0,0.78,0,0.8,{"$f":"$A$12/$D$4","v":5.4259276059149056E-4},"ton CO2/kWh",null,null,null,null,null,null,null,null,null,null,null,null,null,null,"Retrofit Ducted ASHP Tier II","CH215-N","Cool Homes Heat Pump","Cooling - HVAC Equipment","CH - ASHP Retrofit TIER 2",325,325,200,0.69,1,1,1,0.1,0,7.1900000000000006E-2,5.67E-2,null,null,null,null,null,null,null,null,null,null,null,null,null,null,null,null,null,null,null,null,null,null,"ES Dehumidifier",false,null,null,null,null,null,null,null,null,null,"Selected","Residential",null,"Number of power phases","In agreement?",null,null,null,null,null,null,null,"Geothermal HP Water Heater Geothermal, Water to Water - Open",500,0,null,null,null,null,null,null,null,"G130-R","Geothermal HP Water Heater Geothermal, Water to Water - Open",0.69,1,1,0,0,7.1900000000000006E-2,5.67E-2]
[null,null,null,null,null,null,null,"Propane Furnace",0,1,15,0,0.81,0.8,6.1460000000000001E-2,"ton CO2/MMBTU","Existing Primary Heating Source",null,null,null,null,null,null,null,null,null,null,null,null,null,"Retrofit Ductless Mini Split - ASHP Tier I","CH311-R","Cool Homes Ductless","Cooling - HVAC Equipment","CH - DUCTLESS ASHP Retrofit TIER 3",300,300,200,0.69,1,1,1,0.1,0,7.1900000000000006E-2,5.67E-2,null,null,null,"DHW",null,"Color",null,"Attic",null,null,"Bypass Codes",null,null,"Basement options",null,null,null,null,null,null,null,null,"ES Air Purifier",false,null,null,null,null,null,null,null,null,null,"Options","Commercial",null,1,"Yes",null,null,null,{"$f":"1000*0.65","v":650},{"$f":"1000*1.35","v":1350},null,null,null,null,null,null,null,"Heating Baseline (NYS TRM v8.0)",null,null,null,null,null,"All Commercial Geothermal Units",0.72,1,1,0.1,0,7.1900000000000006E-2,5.67E-2]
[null,null,null,null,null,null,null,"Electric Resistance",1,0,0,1,0,0.8,{"$f":"$A$12/$D$4","v":5.4259276059149056E-4},"ton CO2/kWh","Select…",null,null,null,null,null,null,null,null,null,null,null,null,null,"Retrofit Ducted ccASHP Tier II","CH312-R","Cool Homes Heat Pump","Cooling - HVAC Equipment","CH - ccASHP Retrofit TIER 1",350,350,250,0.69,1,1,1,0.1,0,7.1900000000000006E-2,5.67E-2,null,null,null,"Electric",null,"Select…",null,"Select…","-",null,"Select…","-",null,"Above Grade",null,null,null,null,null,null,null,null,"Lawn Mower",false,null,null,null,null,null,null,null,null,null,null,"Residential",null,3,"No",null,null,null,null,null,null,null,null,null,null,null,null,null,"AFUE","COP","HSPF"]
[null,null,null,null,null,null,null,"Electric ASHP",1,0,0,{"$f":"8.8*I50/3.412","v":0},0,1,{"$f":"A12/D4","v":5.4259276059149056E-4},"ton CO2/kWh","None",null,null,null,null,null,null,null,null,null,null,null,null,null,"Retrofit Ductless Mini Split - ccASHP Tier II","CH220-R","Cool Homes Ductless","Cooling - HVAC Equipment","CH - DUCTLESS ccASHP Retrofit",300,300,250,0.69,1,1,1,0.1,0,7.1900000000000006E-2,5.67E-2,null,null,null,"Direct Storage",null,"Black",null,"I - Inaccessible","I",null,"C - Chaseways","C",null,"Mixed Grade",null,null,null,null,null,null,null,null,"Leaf Blower",false,null,null,null,null,null,null,null,null,null,null,null,null,null,null,null,null,"Geo Type Index",null,null,null,null,"QI Savings",null,null,null,"LP","Propane Furnace <225 kBtuh",0.8]
["Smart Thermostats",null,null,null,null,null,null,"Natural Gas Other",0,1,15,0,0.81,0.8,5.3060000000000003E-2,"ton CO2/MMBTU","Oil",null,null,null,null,null,null,null,null,null,null,null,null,null,"Retrofit Ductless Multi Split - ccASHP Tier II","CH222-R","Cool Homes Ductless","Cooling - HVAC Equipment","CH - DUCTLESS ccASHP Retrofit",300,300,250,0.69,1,1,1,0.1,0,7.1900000000000006E-2,5.67E-2,null,null,null,"Indirect Storage",null,"White ",null,"F - Floored","F",null,"F - Flue Stacks","F",null,"Below Grade",null,null,null,null,null,null,null,null,"Weed Trimmer",false,null,null,null,null,null,null,null,null,null,"Existing Heating Source",null,null,null,null,null,null,"Geothermal, Water to Air - Closed","Closed Loop",null,null,null,"kW C&A","kW RS","kWh",null,"NG","Natural Gas Furnace <225 kBtuh",0.8]
[null,null,null,null,null,null,null,"Oil Other",0,1,15,0,0.83,0.8,7.3959999999999998E-2,"ton CO2/MMBTU","Propane",null,null,null,null,null,null,null,null,null,null,null,null,null,"New Packaged Terminal Heat Pump Tier I","CH217-N","Cool Homes Heat Pump","Cooling - HVAC Equipment","CH - PTHP New TIER 1",100,100,200,0.69,1,1,1,0.1,0,7.1900000000000006E-2,5.67E-2,null,null,null,"Tankless",null,"Bisque ",null,"O - Open/ Unfloored","O",null,"P - Plumping Stacks","P",null,null,null,null,null,null,null,null,null,null,"EV Charger",false,null,null,null,null,null,null,null,null,null,"Selected","Existing Building",null,null,null,null,null,"Geothermal, Water to Air - Open","Open Loop/Well",null,null,null,0.05,4.5999999999999999E-2,0.05,null,"Oil","Oil Furnace <225 kBtuh",0.83]
["GSHP",null,"Home Performance Thermostat",null,null,null,null,"Electric Other",1,0,0,1,0,0.8,6.0825682663521725E-4,"ton CO2/kWh","Electric ",null,null,null,null,null,null,null,null,null,null,null,null,null,"Retrofit Packaged Terminal Heat Pump Tier I","CH217-R","Cool Homes Heat Pump","Cooling - HVAC Equipment","CH - PTHP Retrofit TIER 1",100,100,200,0.69,1,1,1,0.1,0,7.1900000000000006E-2,5.67E-2,null,null,null,null,null,null,null,"S - Finished Slope","S",null,"W - Open Wall Tops","W",null,null,null,null,null,null,null,null,null,null,null,null,null,null,null,null,null,null,null,null,null,"Options","Existing Building",null,null,null,null,null,"Geothermal, Water to Water - Closed","Closed Loop",null,null,null,null,null,null,null,"LP","Propane Furnace >= 225 kBtuh",0.8]
["Ducted ccASHP",null,false,null,null,null,null,"Propane Other",0,1,15,0,0.81,0.8,6.1460000000000001E-2,"ton CO2/MMBTU","Natural Gas",null,null,null,null,null,null,null,null,null,null,null,null,null,"HP Thermostat","HP400","Residential HVAC - Other","Cooling - HVAC Equipment","HPD - Smart Thermostat",70,35,0,0.69,1,1,1,0.1,0,7.1900000000000006E-2,5.67E-2,null,null,null,"Conditioned",null,"Color 2",null,"K - Kneewall","K",null,"D - Dropped Ceiling","D",null,null,null,null,null,null,null,null,null,null,null,null,null,null,null,null,null,null,null,null,null,null,"New Construction",null,null,null,null,null,"Geothermal, Water to Water - Open","Open Loop/Well",null,null,null,null,null,null,null,"NG","Natural Gas Furnace >=225 kBtuh",0.8]
["Ductless Mini Split - ccASHP",null,null,null,null,null,null,"PTHP",1,0,0,3.08,0,0.8,6.0825682663521725E-4,"ton CO2/kWh",null,null,null,null,null,null,null,null,null,null,null,null,null,null,"Connected for Cooling","CH405","Residential HVAC - Other","Cooling - HVAC Equipment","CH - Smart Thermostat - Connected (WiFi Enabled) for Cooling",100,35,0,0.69,1,1,1,0.1,0,7.1900000000000006E-2,5.67E-2,null,null,null,"Select…",null,"Select...",null,"V - Overhang","V",null,"H - Attic Hatch","H",null,null,null,null,null,null,null,null,null,null,null,null,null,null,null,null,null,null,null,null,null,null,null,null,null,null,null,null,"Geothermal, DGX","Ground-Coupled",null,null,"QI Savings Calculations",null,null,null,null,"Oil","Oil Furnace >= 225 kBtuh",0.8]
["Ducted ASHP",null,null,null,null,null,"*","None",0.03,0.97,15,{"$f":"L29","v":0},{"$f":"M24*I42+M21*I43","v":0},0.8,{"$f":"O24*I42+O21*I43","v":0},"ton CO2/MMBTU","Existing Secondary Heating Source",null,null,null,null,null,null,null,null,null,null,null,null,null,"Connected for Heating and Cooling","CH410","Residential HVAC - Other","Cooling - HVAC Equipment","CH - Smart Thermostat - Connected (WiFi Enabled) for Heating and Cooling (HP)",100,35,0,0.69,1,1,1,0.1,0,7.1900000000000006E-2,5.67E-2,null,null,null,"Conditioned",null,"Black",null,"G - Garage Ceiling","G",null,"O - Other","O",null,null,null,null,null,null,null,null,null,null,null,null,null,null,null,null,null,null,null,null,null,null,null,null,null,null,null,null,null,null,null,null,null,"kW C&A","kW RS","kWh",null,"LP","Propane Boiler",0.81]
["Ductless Mini Split - ASHP",null,null,null,null,null,null,"New Construction",0.03,0.97,15,{"$f":"L29","v":0},{"$f":"M24*I42+M21*I43","v":0},0.8,{"$f":"O24*I42+O21*I43","v":0},"ton CO2/MMBTU","Select…",null,null,null,null,null,null,null,null,null,null,null,null,null,"Learning for Cooling","CH415","Residential HVAC - Other","Cooling - HVAC Equipment","CH - Smart Thermostat - Learning for Cooling",130,50,0,0.69,1,1,1,0.1,0,7.1900000000000006E-2,5.67E-2,null,null,null,"Unconditioned",null,"White",null,null,null,null,null,null,null,null,null,null,null,null,null,null,null,null,null,null,null,null,null,null,null,null,null,null,null,null,null,null,null,null,null,null,"Ductless Type Index",null,null,null,"Unit 1",{"$f":"IF('Space Heating Worksheet'!R33=\"\",\"\",IF(OR('Space Heating Worksheet'!AJ33=\"\",LEFT('Space Heating Worksheet'!F33,3)=\"Geo\"),\"\",'Space Heating Worksheet'!M33*(12/'Space Heating Worksheet'!R33)*kW_CA))","v":""},{"$f":"IF('Space Heating Worksheet'!R33=\"\",\"\",IF(OR('Space Heating Worksheet'!AJ33=\"\",LEFT('Space Heating Worksheet'!F33,3)=\"Geo\"),\"\",'Space Heating Worksheet'!M33*(12/'Space Heating Worksheet'!R33)*_xlfn.SINGLE(kW_RS)))","v":""},{"$f":"IF(OR('Space Heating Worksheet'!AJ33=\"\",LEFT('Space Heating Worksheet'!F33,3)=\"Geo\",#REF!=\"\",'Space Heating Worksheet'!R33=\"\"),\"\",IF('Space Heating Worksheet'!F33=\"Ducted ASHP\",'Space Heating Worksheet'!M33*(12/#REF!*FLH_Cool+12/'Space Heating Worksheet'!S33*FLH_Heat)*_xlfn.SINGLE(QI_kWh),IF(LEFT('Space Heating Worksheet'!F33,3)=\"Geo\",'Space Heating Worksheet'!M33*(12/('Space Heating Worksheet'!R33*0.09))*FLH_Cool*_xlfn.SINGLE(QI_kWh),'Space Heating Worksheet'!M33*(12/#REF!)*FLH_Cool*_xlfn.SINGLE(QI_kWh))))","v":{"$error":"#REF!"}},null,"NG","Natural Gas Boiler ",0.81]
["Ducted Split CAC",null,null,null,null,null,null,{"$f":"IF(OR($L$4=\"\",H13=\"\"),\"\",IF($H$13=\"New Construction\",\"New Construction\",'Site Information'!C16))","v":"Select…"},{"$f":"IF($H$37=\"\",\"\",INDEX(I20:I36,MATCH($H$37,$H$20:$H$36,0)))","v":{"$error":"#N/A"}},{"$f":"IF($H$37=\"\",\"\",INDEX(J20:J36,MATCH($H$37,$H$20:$H$36,0)))","v":{"$error":"#N/A"}},{"$error":"#N/A"},{"$error":"#N/A"},{"$error":"#N/A"},{"$error":"#N/A"},{"$error":"#N/A"},null,"None",null,null,null,null,null,null,null,null,null,null,null,null,null,"Learning for Heating and Cooling","CH420","Residential HVAC - Other","Cooling - HVAC Equipment","CH - Smart Thermostat - Learning for Heating and Cooling (HP)",130,50,0,0.69,1,1,1,0.1,0,7.1900000000000006E-2,5.67E-2,null,null,null,null,null,"Bisque",null,"Attic Insulation",null,null,"Condition Codes",null,null,null,null,null,null,null,null,null,null,null,null,null,null,null,null,null,null,null,null,null,null,null,null,null,null,null,null,null,"Ductless Mini Split - AC Only","Cooling Only",null,null,"Unit 2",{"$f":"IF('Space Heating Worksheet'!#REF!=\"\",\"\",IF(OR('Space Heating Worksheet'!#REF!=\"\",LEFT('Space Heating Worksheet'!#REF!,3)=\"Geo\"),\"\",'Space Heating Worksheet'!#REF!*(12/'Space Heating Worksheet'!#REF!)*kW_CA))","v":{"$error":"#REF!"}},{"$f":"IF('Space Heating Worksheet'!#REF!=\"\",\"\",IF(OR('Space Heating Worksheet'!#REF!=\"\",LEFT('Space Heating Worksheet'!#REF!,3)=\"Geo\"),\"\",'Space Heating Worksheet'!#REF!*(12/'Space Heating Worksheet'!#REF!)*_xlfn.SINGLE(kW_RS)))","v":{"$error":"#REF!"}},{"$f":"IF(OR('Space Heating Worksheet'!#REF!=\"\",LEFT('Space Heating Worksheet'!#REF!,3)=\"Geo\",#REF!=\"\",'Space Heating Worksheet'!#REF!=\"\"),\"\",IF('Space Heating Worksheet'!#REF!=\"Ducted ASHP\",'Space Heating Worksheet'!#REF!*(12/#REF!*FLH_Cool+12/'Space Heating Worksheet'!#REF!*FLH_Heat)*_xlfn.SINGLE(QI_kWh),IF(LEFT('Space Heating Worksheet'!#REF!,3)=\"Geo\",'Space Heating Worksheet'!#REF!*(12/('Space Heating Worksheet'!#REF!*0.09))*FLH_Cool*_xlfn.SINGLE(QI_kWh),'Space Heating Worksheet'!#REF!*(12/#REF!)*FLH_Cool*_xlfn.SINGLE(QI_kWh))))","v":{"$error":"#REF!"}},null,"Oil","Oil Boiler ",0.83]
["Ductless Mini Split - AC Only",null,null,null,null,null,null,"CO2 values:","https://www.epa.gov/sites/production/files/2015-07/documents/emission-factors_2014.pdf",null,null,null,null,null,"New Ductless Mini Split - ASHP Tier II",null,"Oil",null,null,null,null,null,null,null,null,null,null,null,null,null,"Integrated/Modulating Control","CH426","Residential HVAC - Other","Cooling - HVAC Equipment","CH - Integrated Controls",500,750,0,0.69,1,1,1,0.1,0,7.1900000000000006E-2,5.67E-2,null,null,null,"Conditoned/Unconditioned",null,null,null,"Select…","-",null,"Select…","-",null,null,null,null,null,null,null,null,null,null,null,null,null,null,null,null,null,null,null,null,null,null,"Full Load Hours NC (NY TRM)",null,"Full Load Hours EB (NY TRM)",null,null,null,"Ductless Mini Split - HP","Heating & Cooling",null,null,"Unit 3",{"$f":"IF('Space Heating Worksheet'!#REF!=\"\",\"\",IF(OR('Space Heating Worksheet'!#REF!=\"\",LEFT('Space Heating Worksheet'!#REF!,3)=\"Geo\"),\"\",'Space Heating Worksheet'!#REF!*(12/'Space Heating Worksheet'!#REF!)*kW_CA))","v":{"$error":"#REF!"}},{"$f":"IF('Space Heating Worksheet'!#REF!=\"\",\"\",IF(OR('Space Heating Worksheet'!#REF!=\"\",LEFT('Space Heating Worksheet'!#REF!,3)=\"Geo\"),\"\",'Space Heating Worksheet'!#REF!*(12/'Space Heating Worksheet'!#REF!)*_xlfn.SINGLE(kW_RS)))","v":{"$error":"#REF!"}},{"$f":"IF(OR('Space Heating Worksheet'!#REF!=\"\",LEFT('Space Heating Worksheet'!#REF!,3)=\"Geo\",#REF!=\"\",'Space Heating Worksheet'!#REF!=\"\"),\"\",IF('Space Heating Worksheet'!#REF!=\"Ducted ASHP\",'Space Heating Worksheet'!#REF!*(12/#REF!*FLH_Cool+12/'Space Heating Worksheet'!#REF!*FLH_Heat)*_xlfn.SINGLE(QI_kWh),IF(LEFT('Space Heating Worksheet'!#REF!,3)=\"Geo\",'Space Heating Worksheet'!#REF!*(12/('Space Heating Worksheet'!#REF!*0.09))*FLH_Cool*_xlfn.SINGLE(QI_kWh),'Space Heating Worksheet'!#REF!*(12/#REF!)*FLH_Cool*_xlfn.SINGLE(QI_kWh))))","v":{"$error":"#REF!"}},null,"LP","Propane Other",0.81,null,null,"*Federal Standard"]
[null,null,null,null,null,null,null,"Existing Heat Eff.:","https://www.ecfr.gov/cgi-bin/text-idx?SID=86e70cbc87e5af18caca2e5c205bd107&mc=true&node=se10.3.430_132&rgn=div8",null,null,null,null,null,null,null,"Propane",null,null,null,null,null,null,null,null,null,null,null,null,null,"Integrated/Fixed Control","CH427","Residential HVAC - Other","Cooling - HVAC Equipment","CH - Integrated Controls",500,750,0,0.69,1,1,1,0.1,0,7.1900000000000006E-2,5.67E-2,null,null,null,"Select…",null,"Condition",null,"R-29","> 12\"",null,"EX - Existing Leak","EX",null,null,null,null,null,null,null,null,null,null,null,null,null,null,null,null,null,null,null,null,null,"Sector","FLHH","FLCH","FLHH","FLCH",null,null,null,null,null,null,"Unit 4",{"$f":"IF('Space Heating Worksheet'!#REF!=\"\",\"\",IF(OR('Space Heating Worksheet'!#REF!=\"\",LEFT('Space Heating Worksheet'!#REF!,3)=\"Geo\"),\"\",'Space Heating Worksheet'!#REF!*(12/'Space Heating Worksheet'!#REF!)*kW_CA))","v":{"$error":"#REF!"}},{"$f":"IF('Space Heating Worksheet'!#REF!=\"\",\"\",IF(OR('Space Heating Worksheet'!#REF!=\"\",LEFT('Space Heating Worksheet'!#REF!,3)=\"Geo\"),\"\",'Space Heating Worksheet'!#REF!*(12/'Space Heating Worksheet'!#REF!)*_xlfn.SINGLE(kW_RS)))","v":{"$error":"#REF!"}},{"$f":"IF(OR('Space Heating Worksheet'!#REF!=\"\",LEFT('Space Heating Worksheet'!#REF!,3)=\"Geo\",#REF!=\"\",'Space Heating Worksheet'!#REF!=\"\"),\"\",IF('Space Heating Worksheet'!#REF!=\"Ducted ASHP\",'Space Heating Worksheet'!#REF!*(12/#REF!*FLH_Cool+12/'Space Heating Worksheet'!#REF!*FLH_Heat)*_xlfn.SINGLE(QI_kWh),IF(LEFT('Space Heating Worksheet'!#REF!,3)=\"Geo\",'Space Heating Worksheet'!#REF!*(12/('Space Heating Worksheet'!#REF!*0.09))*FLH_Cool*_xlfn.SINGLE(QI_kWh),'Space Heating Worksheet'!#REF!*(12/#REF!)*FLH_Cool*_xlfn.SINGLE(QI_kWh))))","v":{"$error":"#REF!"}},null,"NG","Natural Gas Other",0.81]
["Smart Thermostat",null,null,null,null,null,null,"*For New Construction, a mix of gas/oil heating per ODC",null,null,null,null,null,null,null,null,"Electric ",null,null,null,null,null,null,null,null,null,null,null,null,null,"Dual Fuel Thermostat","CH430","Residential HVAC - Other","Cooling - HVAC Equipment","CH - Dual Fuel Thermostat",500,750,0,0.69,1,1,1,0.1,0,7.1900000000000006E-2,5.67E-2,null,null,null,"Conditioned",null,"Select…",null,"R-24","9 - 12\"",null,"P - Prior Leak","P",null,null,null,null,null,null,null,null,null,null,null,null,null,null,null,null,null,null,null,null,"NYC, Average Vintage","Residential",1329,788,1485,811,null,null,null,null,null,null,"Unit 5",{"$f":"IF('Space Heating Worksheet'!#REF!=\"\",\"\",IF(OR('Space Heating Worksheet'!#REF!=\"\",LEFT('Space Heating Worksheet'!#REF!,3)=\"Geo\"),\"\",'Space Heating Worksheet'!#REF!*(12/'Space Heating Worksheet'!#REF!)*kW_CA))","v":{"$error":"#REF!"}},{"$f":"IF('Space Heating Worksheet'!#REF!=\"\",\"\",IF(OR('Space Heating Worksheet'!#REF!=\"\",LEFT('Space Heating Worksheet'!#REF!,3)=\"Geo\"),\"\",'Space Heating Worksheet'!#REF!*(12/'Space Heating Worksheet'!#REF!)*_xlfn.SINGLE(kW_RS)))","v":{"$error":"#REF!"}},{"$f":"IF(OR('Space Heating Worksheet'!#REF!=\"\",LEFT('Space Heating Worksheet'!#REF!,3)=\"Geo\",#REF!=\"\",'Space Heating Worksheet'!#REF!=\"\"),\"\",IF('Space Heating Worksheet'!#REF!=\"Ducted ASHP\",'Space Heating Worksheet'!#REF!*(12/#REF!*FLH_Cool+12/'Space Heating Worksheet'!#REF!*FLH_Heat)*_xlfn.SINGLE(QI_kWh),IF(LEFT('Space Heating Worksheet'!#REF!,3)=\"Geo\",'Space Heating Worksheet'!#REF!*(12/('Space Heating Worksheet'!#REF!*0.09))*FLH_Cool*_xlfn.SINGLE(QI_kWh),'Space Heating Worksheet'!#REF!*(12/#REF!)*FLH_Cool*_xlfn.SINGLE(QI_kWh))))","v":{"$error":"#REF!"}},null,"Oil","Oil Other",0.83]
["Install Type",null,null,"kW","kWh",null,null,null,null,null,null,null,null,null,null,null,"Natural Gas",null,null,null,null,null,null,null,null,null,null,null,null,null,"Freeze Stat","CH435","Residential HVAC - Other","Cooling - HVAC Equipment","CH - Freeze Stat",350,350,0,0.69,1,1,1,0.1,0,7.1900000000000006E-2,5.67E-2,null,null,null,"Unconditioned",null,"Yes",null,"R-19","6 - 9\"",null,"S - Structural Damage","S",null,null,null,null,null,null,null,null,null,null,null,null,null,null,null,null,null,null,null,null,null,"Commercial",{"$f":"CC106","v":0},{"$f":"CB106","v":0},{"$f":"CC106","v":0},{"$f":"CB106","v":0},null,null,null,"Emmision Factors",null,null,null,null,null,null,null,"None","None",0.83,2.06,{"$f":"CV48","v":8.8000000000000007},null,null,null,null,"Contractor Incentive1"]
[1,"Cooling Only","CH Thermostat Cooling",0.23,104,null,null,null,null,null,null,null,null,null,null,null,null,null,null,null,null,null,null,null,null,null,null,null,null,null,null,null,null,null,null,null,null,null,null,null,null,null,null,null,null,null,null,null,null,"Overheated",null,"None",null,"R-14","3 -5\"",null,"M - Minor Damage","M",null,null,null,null,null,null,null,null,null,null,null,null,null,null,null,null,null,null,null,null,null,null,null,null,null,null,null,null,null,"lb CO2 / kWh","ton CO2 / MWh",null,null,null,null,null,null,"Electric","Electric Furnace",null,0.78,{"$f":"CU42*3.412","v":2.6613600000000002},null,null,null,null,"Tier I"," Tier II"]
[2,"Home Performance","HP Thermostat",0,174,null,null,"Heating Savings (High Efficiency ASHP replacing Electric Resistance)",null,null,null,null,null,null,null,null,"Existing Primary Heating Equipment",null,null,null,null,null,null,null,null,null,null,null,null,null,null,null,null,null,null,null,null,null,null,null,null,null,null,null,null,null,null,null,null,null,null,"No Access",null,"R-9","< 3\"",null,"O - Obstructions","O",null,null,null,null,null,null,null,null,null,null,null,null,null,null,null,null,null,null,null,null,null,null,null,null,null,null,null,null,null,1.1961999999999999,{"$f":"CJ43/CJ57","v":5.4259276059149056E-4},null,null,null,"EERcorrction",1.0900000000000001,null,"Electric","Electric Boiler",null,0.78,{"$f":"CU43*3.412","v":2.6613600000000002}]
[3,"Heating/Cooling","CH Thermostat Heating Cooling",0.23,104,null,null,null,null,null,null,null,null,null,null,null,"Select…",null,null,null,null,null,null,null,null,null,null,null,null,null,"New Ducted Split CAC Tier I","CH212-N","Cool Homes CAC","Cooling - HVAC Equipment","CH - CAC New TIER 1",175,null,75,0.8,1,1,null,0.1,0,8.5000000000000006E-2,0.06,null,null,null,"Hinge",null,null,null,null,null,null,"C - Customer Will Clear","C",null,null,null,null,null,null,null,null,null,null,null,null,null,null,null,null,null,null,null,null,null,"Stages",null,"Pump Type",null,null,null,null,null,null,null,null,null,null,"COPcorrection",1.08,null,"Electric","Electric Resistance",null,1,{"$f":"CU44*3.412","v":3.4119999999999999},null,null,null,null,100,100]
[null,null,null,null,null,null,null,null,"ASHP","Elec Resistance","Gross Savings (kWh)",null,null,null,null,null,"New Construction",null,null,null,null,null,null,null,null,null,null,null,null,null,"New Ducted Split CAC Tier II","CH212-R","Cool Homes CAC","Cooling - HVAC Equipment","CH - CAC New TIER 2",250,null,100,0.8,1,1,null,0.1,0,8.5000000000000006E-2,0.06,null,null,null,"Select...",null,"Heating Source",null,"Locations 2",null,null,null,null,null,null,null,null,null,null,null,null,null,null,null,null,null,null,null,null,null,null,null,null,null,"Single Stage",null,"Variable Pumping",null,null,null,null,null,"Electric to Btu Conversion Factors",null,null,null,null,null,null,null,"Electric","Electric Other",null,1,{"$f":"CU45*3.412","v":3.4119999999999999},null,null,null,null,100,100]
["Manufacturers",null,"Efficiency Savings Factors",null,null,null,null,"Load (kWh)",5772,5772,null,null,null,null,null,null,"None",null,null,null,null,null,null,null,null,null,null,null,null,null,"New Ducted Split CAC Tier III","CH213-N","Cool Homes CAC","Cooling - HVAC Equipment","CH - CAC New TIER 3",350,null,125,0.8,1,1,null,0.1,0,8.5000000000000006E-2,0.06,null,null,null,"Left ",null,"Home Comfort Heat Pump",null,"Select…",null,"Locations",null,null,null,null,null,null,null,null,null,null,null,null,null,null,null,null,null,null,null,null,null,null,null,"Dual Stage",null,"Staged Pumping",null,null,null,null,null,"kWh to MMBtu","W to Btu/hr",null,null,null,"Fdist,c",0.95,null,"Electric","Geothermal",null,2.9,{"$f":"CU46*3.412","v":9.8948},null,null,null,null,"n/a","n/a"]
["Alarm.com",null,"Cooling - Learning",0.1,null,null,null,"kWh Consumption on Equipment Side",2060.0485355648534,5772,{"$f":"(J47-I47)*0.8","v":2969.5611715481173},null,null,null,null,null,"Oil Boiler",null,null,null,null,null,null,null,null,null,null,null,null,null,"New Ductless Mini Split - AC Only Tier I","CH213-R","Cool Homes Ductless","Cooling - HVAC Equipment","CH - DUCTLESS AC New TIER 3",150,null,null,0.8,1,1,null,0.1,0,8.5000000000000006E-2,0.06,null,null,null,"Right",null,"Existing Primary System",null,"Front Door",null,"Select…",null,"Duct Sealing - Attribute",null,null,null,null,null,null,null,null,null,null,null,null,null,null,null,null,null,null,null,null,null,"Multi-Stage",null,"Constant Pumping",null,null,null,null,null,3.4120000000000001E-3,3.4119999999999999,null,null,null,"Fdist,h - FF",0.96,null,"Electric","Ductless Mini Split",null,2.06,8.8000000000000007]
["Ecobee",null,"Heating - Learning",0.08,null,null,null,null,null,null,null,null,null,null,null,null,"Electric Boiler",null,null,null,null,null,null,null,null,null,null,null,null,null,"Retrofit Ducted Split CAC Tier I","CH215-R","Cool Homes CAC","Cooling - HVAC Equipment","CH - CAC Retrofit TIER 1",175,null,75,0.8,1,1,null,0.1,0,8.5000000000000006E-2,0.06,null,null,null,null,null,"Existing Secondary System",null,"Side/Rear Door",null,"B - Bedroom",null,"Unconditioned Basement","Unconditioned Crawl Space",null,null,null,null,null,null,null,null,null,null,null,null,null,null,null,null,null,null,null,null,"Variable Speed",null,null,null,null,null,null,null,null,null,null,null,null,"Fdist,h - HP",0.97,null,"Electric","ASHP",null,2.06,8.8000000000000007,null,null,null,null,"Contractor Incentive1",null,null,"Customer Incentive (per ton)"]
["Emerson ",null,"Cooling - Connected",0.09,null,null,null,null,null,null,null,null,null,null,null,null,"Propane Boiler",null,null,null,null,null,null,null,null,null,null,null,null,null,"Retrofit Ducted Split CAC Tier II","CH216-N","Cool Homes CAC","Cooling - HVAC Equipment","CH - CAC Retrofit TIER 2",250,null,100,0.8,1,1,null,0.1,0,8.5000000000000006E-2,0.06,null,null,null,"AC Types",null,null,null,"Interior Passageway",null,"BC - Basement/Cellar",null,"Select…","Select…",null,null,null,null,null,null,null,null,null,null,null,null,null,null,null,null,null,null,null,null,null,null,null,null,null,null,null,"Fossil Fuel Factors",null,null,null,null,null,null,null,null,null,null,null,null,null,null,null,null,null,"Tier I"," Tier II",null,"New Install Tier I","New Install Tier II","Retrofit Tier I","Retrofit Tier II"]
["Honeywell Home",null,"Heating - Connected",7.0000000000000007E-2,null,null,null,"Climate Adjustment Factor",null,null,null,null,"Efficiency Variables",null,null,null,"Oil Furnace",null,null,null,null,null,null,null,null,null,null,null,null,null,"Retrofit Ducted Split CAC Tier III","CH216-R","Cool Homes CAC","Cooling - HVAC Equipment","CH - CAC Retrofit TIER 3",350,null,125,0.8,1,1,null,0.1,0,8.5000000000000006E-2,0.06,null,null,null,"Select…",null,null,null,null,null,"D - Dining Room",null,"Insulated","Insulated Floor",null,null,null,null,null,null,null,null,null,null,null,null,null,null,null,null,null,null,null,null,"Yes",null,null,null,null,null,null,"Fuel Type","lb CO2 / MMBtu","ton CO2 / MMBtu","MMBtu/Fuel Unit","Fuel Unit",null,null,null,null,"Ffull",0.25,null,null,"New Construction Fuel Split"]
["Lux",null,null,null,null,null,null,"HSPF <8.5",0.8,null,null,null,"SEER:",null,null,null,"Electric Furnace",null,null,null,null,null,null,null,null,null,null,null,null,null,"Retrofit Ductless Mini Split - AC Only","CH311-N","Cool Homes Ductless","Cooling - HVAC Equipment","CH - DUCTLESS AC Retrofit TIER 3",150,null,null,0.8,1,1,null,0.1,0,8.5000000000000006E-2,0.06,null,null,null,"Central AC",null,null,null,"notes",null,"E - Exterior",null,"Uninsulated","Insulated Floor & Walls",null,null,null,null,null,null,null,null,null,null,null,null,null,null,null,null,null,null,null,null,"No",null,null,null,null,null,null,"Oil",163.05221599999999,7.3959999999999998E-2,0.13850000000000001,"gallons of #2 fuel oil",null,null,null,null,"Fpart",0.75,null,null,"Gas",0,null,null,null,100,100,null,1000,2000,500,700]
["Google Nest",null,null,null,null,null,null,"HSPF >HSPF",0.78,null,null,null,"SEER2:",null,null,null,"Propane Furnace",null,null,null,null,null,null,null,null,null,null,null,null,null,null,null,null,null,null,null,null,null,null,null,null,null,null,null,null,null,null,null,null,"Central HP",null,null,null,"Select…",null,"F - Family Room/Den",null,null,"Uninsulated",null,null,null,null,null,null,null,null,null,null,null,null,null,null,null,null,null,null,null,null,null,null,null,null,null,null,null,"Propane",135.77885812954196,{"$f":"0.06146","v":6.1460000000000001E-2},9.1452000000000006E-2,"gallons LP gas",null,null,null,null,null,null,null,null,"Oil",1]
["Radio Thermostat",null,null,null,null,null,null,null,null,null,null,null,"HSPF:",null,null,null,"Electric Resistance",null,null,null,null,null,null,null,null,null,null,null,null,null,null,null,null,null,null,null,null,null,null,null,null,null,null,null,null,null,null,null,null,"Minisplit AC",null,null,null,"Refrigerator Subcontractor",null,"H - Hallway",null,null,null,null,null,null,null,null,null,null,null,null,null,null,null,null,null,null,null,null,null,null,null,null,null,null,null,null,null,null,"Natural Gas",117.12438545454546,{"$f":"0.05306","v":5.3060000000000003E-2},0.1,"therms",null,null,null,null,"FHSPF",0.8,null,null,"Fossil fuel total",0.97]
["Vivint",null,null,null,null,null,null,null,null,null,null,null,"HSPF2:",null,null,null,"Electric ASHP",null,null,null,null,null,null,null,null,null,null,null,null,null,null,null,null,null,null,null,null,null,null,null,null,null,null,null,null,null,null,null,null,"Minisplit HP",null,"PASS/FAIL2",null,"Custom Measure Evaluation",null,"K - Kitchen",null,null,null,null,null,null,null,null,null,null,null,null,null,null,null,null,null,null,null,null,null,null,null,"Desuperheater Savings",null,null,null,null,null,null,"Gasoline",162.81718398111909,7.0220000000000005E-2,0.120286,"gallons of Gasoline",null,null,null,null,"CF",0.69,null,null,"Electric",0.03]
[null,null,null,null,null,null,null,null,null,null,null,null,"EER:",null,null,null,"Oil Other",null,null,null,null,null,null,null,null,null,null,null,null,null,null,null,null,null,null,null,null,null,null,null,null,null,null,null,null,null,null,null,null,"Closed Loop Geo",null,"Select…",null,"File",null,"L - Living Room",null,null,null,null,null,null,null,null,null,null,null,null,null,null,null,null,null,null,null,null,null,null,null,"Variables","Value","Cost","Rebate",0.32,null,null,null,null,null,"Source: EIA",null,null,null,null,null,"Source: NYS TRM version 6.1",null,null,null,null,null,null,"CH101-N","New Geothermal Tier I",0.8,1,1,0,0,9.0999999999999998E-2,6.4000000000000001E-2]
[null,null,null,null,null,null,null,null,null,null,null,null,"EER2:",null,null,null,"Electric Other",null,null,null,null,null,null,null,null,null,null,null,null,null,null,null,null,null,null,null,null,null,null,null,null,null,null,null,null,null,null,null,null,"Open Loop Geo",null,"Pass",null,"Electrician",null,"O  - Office/Study",null,null,null,null,null,null,null,null,null,null,null,null,null,null,null,null,null,null,null,null,null,null,null,"GPD",46,"UEF ff",0.57999999999999996,null,null,null,null,null,null,null,null,null,null,null,null,null,"Notes:",null,null,null,null,"CH101-R","Retrofit Geothermal Tier I",0.8,1,1,0,0,9.0999999999999998E-2,6.4000000000000001E-2]
["Alarm.com","Ecobee","Honeywell Home","Lux","Google Nest","Radio Thermostat","Emerson ","Vivint",null,null,null,null,null,null,null,null,"Propane Other",null,null,null,null,null,null,null,null,null,null,null,null,null,null,null,null,null,null,null,null,null,null,null,null,null,null,null,null,null,null,null,null,null,null,"Fail",null,"Plumber",null,"T - Bathroom Toilet",null,null,null,null,null,null,null,null,null,null,null,null,null,null,null,null,null,null,null,null,null,null,null,"Tset",130,"Days",365,null,null,null,"1 Metric Ton = ",2204.6,"lbs",null,null,"Equipment Type","COP",null,null,null,"Boiler and Furnaces assumed CAC for cooling",null,null,null,null,"CH102-N","New Geothermal Tier II",0.8,1,1,0,0,9.0999999999999998E-2,6.4000000000000001E-2]
[null,null,null,null,null,null,null,null,null,null,null,null,null,null,null,null,"PTHP",null,null,null,null,null,null,null,null,null,null,null,null,null,null,null,null,null,null,null,null,null,null,null,null,null,null,null,null,null,null,null,null,null,null,null,null,"HVAC Subcontractor",null,"U - Unlisted/Other",null,null,null,null,null,null,null,null,null,null,null,null,null,null,null,null,null,null,null,null,null,null,null,"Tmain",61.4,"Energy Required",8.33,null,null,null,"Reference:","http://www.metric-conversions.org/weight/pounds-to-metric-tons.htm",null,null,null,"Geothermal, Water to Water - Closed",3.1,null,null,null,"Boiler and Furnace HSPF is based upon 75% AFUE x 3.412 for Boilers and 78% AFUE x 3.412 for Furnaces",null,null,null,null,"CH102-R","Retrofit Geothermal Tier II",0.8,1,1,0,0,9.0999999999999998E-2,6.4000000000000001E-2]
["Radio Thermostat CT30","ecobee3","Wi-Fi Smart Color Thermostat","LUX/GEO","Google Nest Learning Thermostat","Filtrete 3M-50","Sensi Wi-Fi Programmable Thermostat","Radio Thermostat CT 100 w/Vivint Go!Control Panel",null,null,null,null,null,null,null,null,"Natural Gas Boiler",null,null,null,null,null,null,null,null,null,null,null,null,null,null,null,null,null,null,null,null,null,null,null,null,null,null,null,null,null,null,null,null,"Locations 3",null,null,null,"Other:",null,null,null,null,null,null,null,null,null,null,null,null,null,null,null,null,null,null,null,null,null,null,null,null,null,"UEF elec",0.92,"F gshp,dhw",0.30339999999999989,null,null,null,null,null,null,null,null,"Geothermal, Water to Water - Open",3.5,null,null,null,null,null,null,null,null,"CH200-ER","Early Retirement Ductless Mini Split ",0.8,1,1,0.1,0,9.0999999999999998E-2,6.4000000000000001E-2]
["Radio Thermostat CT80","ecobee3 Lite","Wi-Fi 7 Day Programmable Thermostat","LUX KONO","Google Nest Thermostat E","CT30","Sensi Touch Wi-Fi Thermostat",null,null,null,null,null,null,null,null,null,"Natural Gas Furnace",null,null,null,null,null,null,null,null,null,null,null,null,null,null,null,null,null,null,null,null,null,null,null,null,null,null,null,null,null,null,null,null,"Select…","-",null,null,null,null,null,null,null,null,null,null,null,null,null,null,null,null,null,null,null,null,null,null,null,null,null,null,null,null,null,null,null,null,null,null,null,null,null,null,null,null,null,null,null,null,null,null,null,null,null,null,"CH200-N","New Ductless Mini Split ",0.8,1,1,0.1,0,9.0999999999999998E-2,6.4000000000000001E-2]
["Radio Thermostat CT100","ecobee4","Wi-Fi 9000 7-Day Programmable Thermostat",null,"Google Nest Thermostat","CT50",null,null,null,null,null,null,null,null,null,null,"Natural Gas Other",null,null,null,null,null,null,null,null,null,null,null,null,null,null,null,null,null,null,null,null,null,null,null,null,null,null,null,null,null,null,null,null,"A - Attic","Attic",null,"Siding",null,null,"R-Values",null,null,"Existing R-Values","Installed R-Values",null,null,null,null,null,null,null,null,null,null,null,null,null,null,null,null,null,null,null,null,null,null,null,null,null,null,null,null,null,null,null,null,null,null,null,null,"Water Heating",null,null,null,null,"CH200-R","Retrofit Ductless Mini Split ",0.8,1,1,0.1,0,9.0999999999999998E-2,6.4000000000000001E-2]
["Trane ComfortLink Control","ecobee Smart","9000 Smart Thermostat",null,null,"CT80",null,null,null,null,null,null,null,null,null,null,null,null,null,null,null,null,null,null,null,null,null,null,null,null,null,null,null,null,null,null,null,null,null,null,null,null,null,null,null,null,null,null,null,"B - Bedroom","Bedroom",null,"Select…","-",null,"Select…","-",null,"Select…","Select…",null,null,null,null,null,null,null,null,null,null,null,null,null,null,null,null,null,null,null,"EER, COP Adjustment Factors",null,null,null,null,null,null,null,null,null,null,null,null,null,null,null,null,"Geothermal System","Geothermal HP",null,null,null,"CH211-ER","Early Retirement Ducted ASHP Tier I",0.8,1,1,0.1,0,9.0999999999999998E-2,6.4000000000000001E-2]
["RCS Z-Wave Communicating Thermostat","ecobee Smart Thermostat with voice control","VisionPro 8000 Smart Thermostat",null,null,null,null,null,null,null,null,null,null,null,null,null,null,null,null,null,null,null,null,null,null,null,null,null,null,null,null,null,null,null,null,null,null,null,null,null,null,null,null,null,null,null,null,null,null,"BC - Basement/Cellar",null,null,"A - Asbestos","A",null,"R-24","> 10\"",null,"0-5","11-12",null,null,null,null,null,null,null,null,null,null,null,null,null,null,null,null,null,null,null,"Heat Pump Type","Stage","Pump power (W/ton)","Pump Type","Fcooling","Fheating",null,null,null,null,null,null,null,null,null,null,null,null,null,null,null,null,"CH211-N","New Ducted ASHP Tier I",0.8,1,1,0.1,0,9.0999999999999998E-2,6.4000000000000001E-2]
["GoControl Z-Wave Thermostat",null,"Round Smart Thermostat",null,null,null,null,null,null,null,null,null,null,null,null,null,"Existing Secondary Heating Equipment",null,null,null,null,null,null,null,null,null,null,null,null,null,null,null,null,null,null,null,null,null,null,null,null,null,null,null,null,null,null,null,null,"C - Cellar/Crawl","Cellar/Crawl",null,"AL - Aluminum","AL",null,"R-19","6 - 9\"",null,"5-11","13-16",null,null,null,null,null,null,null,null,null,null,null,null,null,null,null,null,null,null,null,"Variable","Low",45,"Variable flow",0.85,0.93,null,null,null,null,null,null,null,null,null,null,null,"Natural Gas Fired Storage","Geothermal",null,null,null,"CH211-R","Retrofit Ducted ASHP Tier I",0.8,1,1,0.1,0,9.0999999999999998E-2,6.4000000000000001E-2]
["Alarm.com Smart Thermostat",null,"T5+ Smart Thermostat",null,null,null,null,null,null,null,null,null,null,null,null,null,"Select…",null,null,null,null,null,null,null,null,null,null,null,null,null,null,null,null,null,null,null,null,null,null,null,null,null,null,null,null,null,null,null,null,"E - Exterior","Exterior",null,"AS - Asphalt","AS",null,"R-14","3 - 5\"",null,"12-13","17-18",null,null,null,null,null,null,null,null,null,null,null,null,null,null,null,null,null,null,null,"Two-stage","Low",45,"Variable flow",0.84,0.91,null,null,null,null,null,null,null,null,null,null,null,"Oil Fired Storage",null,null,null,null,"CH212-ER","Early Retirement Ducted ASHP Tier II",0.8,1,1,0.1,0,9.0999999999999998E-2,6.4000000000000001E-2]
["2GIG Z-Wave Plus Battery Powered Thermostat",null,"T6 Pro Smart Thermostat",null,null,null,null,null,null,null,null,null,null,null,null,null,"New Construction",null,null,null,null,null,null,null,null,null,null,null,null,null,null,null,null,null,null,null,null,null,null,null,null,null,null,null,null,null,null,null,null,"F - Family Room","Family Room",null,"B - Brick","B",null,"R-9","< 3\"",null,"14-17","19-20",null,null,null,null,null,null,null,null,null,null,null,null,null,null,null,null,null,null,null,"Variable","Low",45,"Constant flow",0.75,0.86,null,null,null,null,null,null,null,null,null,null,null,"Propane Fired Storage",null,null,null,null,"CH212-N","New Ducted ASHP Tier II",0.8,1,1,0.1,0,9.0999999999999998E-2,6.4000000000000001E-2]
["Trane Z-Wave Thermostat",null,"T9 Smart Thermostat",null,null,null,null,null,null,null,null,null,null,null,null,null,"None",null,null,null,null,null,null,null,null,null,null,null,null,null,null,null,null,null,null,null,null,null,null,null,null,null,null,null,null,null,null,null,null,"K - Kitchen","Kitchen",null,"M - Masonite","M",null,null,null,null,"18+","21-24",null,null,null,null,null,null,null,null,null,null,null,null,null,null,null,null,null,null,null,"Two-Stage","Low",45,"Constant flow",0.8,0.88,null,null,null,null,null,null,null,null,null,null,null,"Electric Storage",null,null,null,null,"CH212-R","Retrofit Ducted ASHP Tier II",0.8,1,1,0.1,0,9.0999999999999998E-2,6.4000000000000001E-2]
["Linear Thermostat",null,"T10 Smart Thermostat",null,null,null,null,null,null,null,null,null,null,null,null,null,"Oil Boiler",null,null,null,null,null,null,null,null,null,null,null,null,null,null,null,null,null,null,null,null,null,null,null,null,null,null,null,null,null,null,null,null,"L - Living Room","Living Room",null,"S - Stucco","S",null,null,null,null,null,"25-26",null,null,null,null,null,null,null,null,null,null,null,null,null,null,null,null,null,null,null,"Source: NY TRM v6.1 p. 162",null,null,null,null,null,null,null,null,null,null,null,null,null,null,null,null,"Natural Gas Tankless",null,null,null,null,"CH311-ER","Early Retirement Ducted Split CAC Tier I",0.8,1,1,0.1,0,9.0999999999999998E-2,6.4000000000000001E-2]
["Alarm.com","Ecobee","Honeywell Lyric","Honeywell TCC","Lux","Nest","Radio Thermostat","Emerson ","Vivint GoControl",null,null,null,null,null,null,null,"Electric Boiler",null,null,null,null,null,null,null,null,null,null,null,null,null,null,null,null,null,null,null,null,null,null,null,null,null,null,null,null,null,null,null,null,"S - Office/Study","Office/Study",null,"W - Wood","W",null,null,null,null,null,"27+",null,null,null,null,null,null,null,null,null,null,null,null,null,null,null,null,null,null,null,null,null,null,null,null,null,null,null,null,null,null,null,null,null,null,null,null,"Propane Tankless",null,null,null,null,"CH311-N","New Ducted Split CAC Tier I",0.8,1,1,0.1,0,9.0999999999999998E-2,6.4000000000000001E-2]
[null,null,null,null,null,null,null,null,null,null,null,null,null,null,null,null,"Propane Boiler",null,null,null,null,null,null,null,null,null,null,null,null,null,null,null,null,null,null,null,null,null,null,null,null,null,null,null,null,null,null,null,null,"O - Other","Other",null,"V - Vinyl","V",null,null,null,null,null,null,null,null,null,null,null,null,null,null,null,null,null,null,null,null,null,null,null,null,null,"EER, COP Adjustment Factors, Mapped to Application Heat Pump Types",null,null,null,null,null,null,null,null,null,null,null,null,null,null,null,null,"Electric Tankless",null,null,null,null,"CH311-R","Retrofit Ducted Split CAC Tier I",0.8,1,1,0.1,0,9.0999999999999998E-2,6.4000000000000001E-2]
["T10","ecobee3","Honeywell Lyric Round","Honeywell Wi-Fi 9000","GEO","Nest Learning Thermostat","CT50 V1.09","Emerson Sensi Classic","CT100",null,null,null,null,null,null,null,"Oil Furnace",null,null,null,null,null,null,null,null,null,null,null,null,null,null,null,null,null,null,null,null,null,null,null,null,null,null,null,null,null,null,null,null,"W - Work Area/Shop","Work Area/Shop",null,"O - Other","O",null,null,null,null,null,null,null,null,null,null,null,null,null,null,null,null,null,null,null,null,null,null,null,null,null,"Pump type","Load","Pump power (W/ton)","Fcooling","Fheating",null,null,null,null,null,null,null,null,null,null,null,null,"ASHP",null,null,null,null,"CH312-ER","Early Retirement Ducted Split CAC Tier II",0.8,1,1,0.1,0,9.0999999999999998E-2,6.4000000000000001E-2]
["CT100","ecobee Smart","Honeywell Lyric T-Series","Honeywell Wi-Fi Focus Pro","KONO3","Nest Thermostat E","CT50 V1.94","Emerson Sensi","CT30",null,null,null,null,null,null,null,"Electric Furnace",null,null,null,null,null,null,null,null,null,null,null,null,null,null,null,null,null,null,null,null,null,null,null,null,null,null,null,null,null,null,null,null,null,null,null,null,null,null,null,null,null,null,null,null,null,null,null,null,null,null,null,null,null,null,null,null,null,null,null,null,null,null,"Constant Pumping","Full Load",60,0.93,0.92,null,null,null,null,null,null,null,null,null,null,null,null,"Geothermal",null,null,null,null,"CH312-N","New Ducted Split CAC Tier II",0.8,1,1,0.1,0,9.0999999999999998E-2,6.4000000000000001E-2]
["NTBZ48","ecobee Smart Si","Honeywell Lyric T-Series","Honeywell Wi-Fi Vision Pro",null,null,"CT30 V1.92","Emerson Sensi Classic 1F86U-42WF",null,null,null,null,null,null,null,null,"Propane Furnace",null,null,null,null,null,null,null,null,null,null,null,null,null,null,null,"Scenario","Type (lookup)","HP Sizing Ratio","a","b","c","d","F cooling","F heating",null,null,null,null,null,null,null,null,"Duct Location","TRF cooling","TRF heating","Cooling Distribution Efficiency Baseline *","Heating Distribution Efficiency Baseline *","Cooling Distribution Efficiency EE *","Heating Distribution Efficiency EE *","*http://www.bpi.org/sites/default/files/Guidance%20on%20Estimating%20Distribution%20Efficiency.pdf",null,null,null,null,null,null,null,null,null,null,null,null,null,null,null,null,null,null,null,null,null,null,"Staged Pumping","Full Load",60,0.93,0.92,null,null,null,null,null,null,null,null,null,null,null,null,"None",null,null,null,null,"CH312-R","Retrofit Ducted Split CAC Tier II",0.8,1,1,0.1,0,9.0999999999999998E-2,6.4000000000000001E-2]
["CT30","ecobee3 lite",null,"Honeywell Wi-Fi 9000 Voice",null,null,"CT50 V1.88","Emerson Sensi Classic with HomeKit",null,null,null,null,null,null,null,null,"Electric Resistance",null,null,null,null,null,null,null,null,null,null,null,null,null,null,"Whole House","1d","Ducted ccASHP No Fossil Fuel Heater 1",1,0.82399999999999995,0.77700000000000002,1.52,0.85899999999999999,1,1,null,null,null,null,null,null,null,null,null,null,null,null,null,null,null,"Baseline: Leaky or Average, R-2 or R-0",null,null,null,null,null,null,null,null,null,null,null,null,null,null,null,null,null,null,null,null,null,null,"Variable Pumping","Full Load",60,0.93,0.92]
["TBZ48A","ecobee4",null,"Honeywell Duo Wifi Trade",null,null,"CT80 Rev B2 V1.09","Emerson Sensi Classic UP500W",null,null,null,null,null,null,null,null,"Electric ASHP",null,null,null,null,null,null,null,null,null,null,null,null,null,null,null,"1d","Ducted ccASHP Integrated/Modulating Control 1",1,0.82399999999999995,0.77700000000000002,1.52,0.85899999999999999,1,1,null,null,null,null,null,null,null,null,"Unconditioned Attic ",0.1,0.1,{"$f":"AVERAGE(65%,74%,61%,64%)","v":0.66},{"$f":"AVERAGE(76%,82%,73%,69%)","v":0.75},{"$f":"AVERAGE(90%,87%)","v":0.88500000000000001},{"$f":"AVERAGE(92%,90%)","v":0.91},"Efficient: Tight, R-8+,R4+",null,null,null,null,null,null,null,null,null,null,null,null,null,null,null,null,null,null,null,null,null,null,"Constant Pumping","Part Load",60,0.77,0.81]
["CT80",null,null,"Honeywell Sonic Redlink",null,null,"CT30 V1.94","Emerson Sensi Touch",null,null,null,null,null,null,null,null,"Oil Other",null,null,null,null,null,null,null,null,null,null,null,null,null,null,null,"1a","Ducted ccASHP Integrated/Modulating Control 0.9",0.9,0.76700000000000002,0.79800000000000004,2.91,0.78600000000000003,1,1,null,null,null,null,null,null,null,null,"Unconditioned Garage ",0.1,0.1,{"$f":"AVERAGE(65%,74%,61%,64%)","v":0.66},{"$f":"AVERAGE(76%,82%,73%,69%)","v":0.75},{"$f":"AVERAGE(90%,87%)","v":0.88500000000000001},{"$f":"AVERAGE(92%,90%)","v":0.91},null,null,null,"Max","Min","Base/Measure R-Value",null,null,null,null,null,null,null,null,null,null,null,null,null,null,null,null,null,"Staged Pumping","Part Load",60,0.89,0.91,null,null,null,null,null,null,null,null,null,null,null,null,"Heating Baseline (NYS TRM v8.0)"]
["TRANE_TZ4x",null,null,null,null,null,"CT50 V1.92","Emerson Sensi Classic with HomeKit ST55",null,null,null,null,null,null,null,null,"Electric Other",null,null,null,null,null,null,null,null,null,null,null,null,null,null,null,"1b","Ducted ccASHP Integrated/Fixed Control 0.9",0.9,0.74199999999999999,0.81399999999999995,2.91,0.78600000000000003,1,0.99,null,null,null,null,null,null,null,null,"Unconditioned Crawl Space Uninsulated",0.6,0.6,{"$f":"AVERAGE(78%,85%,83%,76%)","v":0.80499999999999994},{"$f":"AVERAGE(80%,85%,78%,74%)","v":0.79249999999999998},{"$f":"AVERAGE(94%,94%)","v":0.94},{"$f":"AVERAGE(94%,92%)","v":0.92999999999999994},null,null,null,10.999999000000001,0,0,null,null,null,null,null,null,null,null,null,null,null,null,null,null,null,null,null,"Variable Pumping","Part Load",60,0.92,0.93,null,null,null,null,null,null,null,null,null,null,null,null,null,"AFUE","COP","HSPF"]
["LINEAR_TBZx",null,null,null,null,null,"CT80 Rev B2 V1.10","Emerson Sensi Classic UP500WB1",null,null,null,null,null,null,null,null,"Propane Other",null,null,null,null,null,null,null,null,null,null,null,null,null,null,null,"1b","Ducted ccASHP Freeze Stat 0.9",0.9,0.74199999999999999,0.81399999999999995,2.91,0.78600000000000003,1,0.99,null,null,null,null,null,null,null,null,"Unconditioned Crawl Space Insulated Floor",0.63,0.6,{"$f":"AVERAGE(78%,85%,83%,76%)","v":0.80499999999999994},{"$f":"AVERAGE(80%,85%,78%,74%)","v":0.79249999999999998},0.94,0.92999999999999994,null,null,null,12.999999000000001,11,11,null,null,null,null,null,null,null,null,null,null,null,null,null,null,null,null,null,null,null,null,null,null,null,null,null,null,null,null,null,null,null,null,null,"LP","Propane Furnace <225 kBtuh",0.8,null,null,"*Same as NG"]
["TZ45",null,null,null,null,null,"CT80 Rev B2 V1.99D","Emerson Sensi Classic with HomeKit 1F87U-42WF",null,null,null,null,null,null,null,null,"PTHP",null,null,null,null,null,null,null,null,null,null,null,null,null,null,null,"1c","Ducted ccASHP Dual Fuel Thermostat 0.9",0.9,0.80200000000000005,0.80500000000000005,2.91,0.78600000000000003,1,0.96,null,null,null,null,null,null,null,null,"Unconditioned Crawl Space Insulated Floor & Walls",0.3,0.3,0.80499999999999994,0.79249999999999998,{"$f":"AVERAGE(94%,94%)","v":0.94},{"$f":"AVERAGE(94%,92%)","v":0.92999999999999994},null,null,null,16.999998999999999,13,13,null,null,null,null,null,null,null,null,null,null,null,null,null,null,null,null,{"$f":"CB79&\"_\"&CE79","v":"_"},null,null,null,null,null,null,null,null,null,null,null,null,null,null,null,null,"NG","Natural Gas Furnace <225 kBtuh",0.8]
["TZ45 400A",null,null,null,null,null,null,"Emerson Sensi Touch ST75",null,null,null,null,null,null,null,null,"Natural Gas Boiler",null,null,null,null,null,null,null,null,null,null,null,null,null,null,null,"1a","Ducted ccASHP No Fossil Fuel Heater 0.9",0.9,0.76700000000000002,0.79800000000000004,2.91,0.78600000000000003,1,1,null,null,null,null,null,null,null,null,"Unconditioned Basement Insulated",0.6,0.6,{"$f":"AVERAGE(83%,88%,87%,81%)","v":0.84750000000000003},{"$f":"AVERAGE(94%,96%,94%,93%)","v":0.9425},{"$f":"AVERAGE(95%,95%)","v":0.95},{"$f":"AVERAGE(98%,98%)","v":0.98},null,null,null,18.999998999999999,17,17,null,null,null,null,null,null,null,null,null,null,null,null,null,null,null,null,null,null,null,null,null,null,null,null,null,null,null,null,null,null,null,null,null,"Oil","Oil Furnace <225 kBtuh",0.83]
["TZ45A",null,"Thermostat Model","Connected/Learning*","*Qualify for TRM Learning Savinngs if ES listed to save at least 10% of cooling savings and learing/geofencing capability. Otherwise, written as connected.",null,null,"Emerson Sensi Touch ST75W",null,null,null,null,null,null,null,null,"Natural Gas Furnace",null,null,null,null,null,null,null,null,null,null,null,null,null,null,null,"2h","Ductless Mini Split - ccASHP No Fossil Fuel Heater 1",1,2.6739999999999999,0.19800000000000001,8.51,0.36099999999999999,1,1,null,null,null,null,null,null,null,null,"Unconditioned Basement Uninsulated",0.5,0.5,{"$f":"AVERAGE(83%,88%,87%,81%)","v":0.84750000000000003},{"$f":"AVERAGE(94%,96%,94%,93%)","v":0.9425},{"$f":"AVERAGE(95%,95%)","v":0.95},{"$f":"AVERAGE(98%,98%)","v":0.98},null,null,null,20.999998999999999,19,19,null,null,null,null,null,null,null,null,null,null,null,null,null,null,null,null,null,null,null,null,null,null,null,null,null,null,null,null,null,null,null,null,null,"LP","Propane Furnace >= 225 kBtuh",0.8,null,null,"*Same as NG"]
["TBZ48",null,"Radio Thermostat CT30","Connected",null,null,null,"Emerson Sensi Touch 1F95U-42WF",null,null,null,null,null,null,null,null,"Natural Gas Other",null,null,null,null,null,null,null,null,null,null,null,null,null,null,null,"2h","Ductless Mini Split - ccASHP Integrated/Modulating Control 1",1,2.6739999999999999,0.19800000000000001,8.51,0.36099999999999999,1,1,null,null,null,null,null,null,null,null,"Under-slab",0.2,0.2,null,null,null,null,null,null,null,24.999998999999999,21,21,null,null,null,null,null,null,null,null,null,null,null,null,null,null,null,null,null,null,null,null,null,null,null,null,null,null,null,null,null,null,null,null,null,"NG","Natural Gas Furnace >=225 kBtuh",0.8]
[null,null,"Radio Thermostat CT80","Connected",null,null,null,null,null,null,null,null,null,null,null,null,null,null,null,null,null,null,null,null,null,null,null,null,null,null,null,null,"2g","Ductless Mini Split - ccASHP Integrated/Modulating Control 0.9",0.9,2.673,0.21,8.67,0.35299999999999998,1,0.99,null,null,null,null,null,null,null,null,null,null,null,null,null,null,null,null,null,null,26.999998999999999,25,25,null,null,null,null,null,null,null,null,null,null,null,null,null,null,null,null,"Commercial EFLH LookUp",null,null,null,null,null,null,null,null,null,null,null,null,null,null,null,null,"Oil","Oil Furnace >= 225 kBtuh",0.8]
["Unit Controlled",null,"Radio Thermostat CT100","Connected",null,null,null,null,null,null,null,null,null,null,null,null,"Existing Systems",null,null,null,null,null,null,null,null,null,null,null,null,null,null,null,"2g","Ductless Mini Split - ccASHP Integrated/Fixed Control 0.9",0.9,2.673,0.21,8.67,0.35299999999999998,1,0.99,null,null,null,null,null,null,null,null,null,null,null,null,null,null,null,null,null,null,1000000,27,27,null,null,null,null,null,null,null,null,null,null,null,null,null,null,null,null,"Building Type","Cooling EFLH","Heating EFLH","GPD",null,"Residential GPD",null,null,null,null,null,null,null,null,null,null,null,"NG","Natural Gas Boiler ",0.81]
[1,null,"Trane ComfortLink Control","Connected",null,null,null,null,null,null,null,null,null,null,null,null,"Primary Existing System",null,null,null,null,null,null,null,null,null,null,null,null,null,null,null,"2g","Ductless Mini Split - ccASHP Freeze Stat 0.9",0.9,2.673,0.21,8.67,0.35299999999999998,1,0.99,null,null,null,null,null,null,null,null,"Heating & Cooling Type","kWh/CFM","kW/CFM","Therm/CFM",null,"Air Sealing Corrections",null,null,null,null,37.999999000000003,30,30,null,null,null,null,null,null,null,null,null,null,null,null,null,null,null,null,"Assembly",1080,603,239,null,46,null,null,null,null,null,null,null,null,null,null,null,"Oil","Oil Boiler ",0.83]
[2,null,"RCS Z-Wave Communicating Thermostat","Connected",null,null,null,null,null,null,null,null,null,null,null,null,"Secondary Existing System",null,null,null,null,null,null,null,null,null,null,null,null,null,null,"Partial Replacement","2g","Ductless Mini Split - ccASHP No Fossil Fuel Heater 0.9",0.9,2.673,0.21,8.67,0.35299999999999998,1,0.99,null,null,null,null,null,null,null,null,"Heating & Cooling type","kWh/CFM","kW/CFM","Therm/CFM",null,"Fn",19,null,null,null,48.999999000000003,38,38,null,null,null,null,null,null,null,null,null,null,null,null,null,null,null,null,"Auto Repair",1186,537,25,null,null,null,null,null,null,null,null,null,null,null,null,null,"None","None",{"$f":"CT79*CY94+CT85*CY95","v":0},{"$f":"CU91","v":0},{"$f":"CV91","v":8.8000000000000007},"*Federal Standard"]
[3,null,"GoControl Z-Wave Thermostat","Connected",null,null,null,null,null,null,null,null,null,null,null,null,null,null,null,null,null,null,null,null,null,null,null,null,null,null,null,null,"3c","Ductless Multi Split - ccASHP No Fossil Fuel Heater 1",1,-3.5979999999999999,2.11,18.850000000000001,-0.246,1,0.99,null,null,null,null,null,null,null,null,"AC Fossil Fuel Heat",2.2999999999999998,4.0000000000000001E-3,1.7,null,"Fh",0.9,null,null,null,59.999999000000003,49,49,null,null,null,null,null,null,null,null,null,null,null,null,null,null,null,null,"Big Box Retail",705,779,448,null,null,null,null,null,null,null,null,null,null,null,null,null,"Electric","Electric Furnace",null,0.78,{"$f":"CU87*3.412","v":2.6613600000000002}]
[4,null,"Alarm.com Smart Thermostat","Connected",null,null,null,null,null,null,null,null,null,null,null,null,null,null,null,null,null,null,null,null,null,null,null,null,null,null,null,null,"3c","Ductless Multi Split - ccASHP Integrated/Modulating Control 1",1,-3.5979999999999999,2.11,18.850000000000001,-0.246,1,0.99,null,null,null,null,null,null,null,null,"Heat Pump",21,3.0000000000000001E-3,0,null,null,null,null,null,null,1000000,60,60,null,null,null,null,null,null,null,null,null,null,null,null,null,null,null,null,"Community College",992,1082,1520,null,null,null,null,null,null,null,null,null,null,null,null,null,"Electric","Electric Resistance",null,1,{"$f":"CU88*3.412","v":3.4119999999999999}]
[5,null,"2GIG Z-Wave Plus Battery Powered Thermostat","Connected","*discontinued and will not be considered Learning",null,null,null,null,null,null,null,null,null,null,null,"Existing Primary Cooling Equipment",null,null,null,null,null,null,null,null,null,null,null,null,null,null,null,"3b","Ductless Multi Split - ccASHP Integrated/Modulating Control 0.9",0.9,-3.4359999999999999,2.0640000000000001,16.95,-0.122,1,0.98,null,null,null,null,null,null,null,null,"AC Electric Heat",39.799999999999997,4.0000000000000001E-3,0,null,null,null,null,null,null,null,null,null,null,null,null,null,null,null,null,null,null,null,null,null,null,null,null,null,"Elementary School",394,840,250,null,null,null,null,null,null,null,null,null,null,null,null,null,"Electric","Geothermal",null,2.9,{"$f":"CU89*3.412","v":9.8948}]
[6,null,"Trane Z-Wave Thermostat","Learning","*discontinued and will not be considered Learning",null,null,null,null,null,null,null,null,null,null,null,"Select…",null,null,null,null,null,null,null,null,null,null,null,null,null,null,null,"3b","Ductless Multi Split - ccASHP Integrated/Fixed Control 0.9",0.9,-3.4359999999999999,2.0640000000000001,16.95,-0.122,1,0.98,null,null,null,null,null,null,null,null,"Fossil Fuel Only",0.8,0,1.7,null,null,null,null,null,null,null,null,null,null,null,null,null,null,null,null,null,null,null,null,null,null,null,null,null,"Fast Food Restaurant",788,1236,500,null,null,null,null,null,null,null,null,null,null,null,null,null,"Electric","Ductless Mini Split",null,{"$f":"CV90*$V$45/3.412","v":0},8.8000000000000007]
[7,null,"Linear Thermostat","Learning","*discontinued and will not be considered Learning",null,null,null,null,null,null,null,null,null,null,null,"New Construction",null,null,null,null,null,null,null,null,null,null,null,null,null,null,null,"3b","Ductless Multi Split - ccASHP Freeze Stat 0.9",0.9,-3.4359999999999999,2.0640000000000001,16.95,-0.122,1,0.98,null,null,null,null,null,null,null,null,"Electric Heat",38.4,4.0000000000000001E-3,0,null,null,null,null,null,null,null,null,null,null,null,null,null,null,null,null,null,null,null,null,null,null,null,null,null,"Full-Service Restaurant",788,1236,2500,null,null,null,null,null,null,null,null,null,null,null,null,null,"Electric","ASHP",null,{"$f":"CV91*$V$45/3.412","v":0},8.8000000000000007]
[8,null,"ecobee3","Connected",null,null,null,null,null,null,null,null,null,null,null,null,"None",null,null,null,null,null,null,null,null,null,null,null,null,null,null,null,"3b","Ductless Multi Split - ccASHP No Fossil Fuel Heater 0.9",0.9,-3.4359999999999999,2.0640000000000001,16.95,-0.122,1,0.98,null,null,null,null,null,null,null,null,null,null,null,null,null,null,null,null,null,null,null,null,null,null,null,null,null,null,null,null,null,null,null,null,null,null,null,null,null,"Grocery",622,1055,172,null,null,null,null,null,null,null,null,null,null,null,null,null,"Electric","ASHP > 55 gal",null,0,2.2000000000000002]
[9,null,"ecobee Smart","Connected",null,null,null,null,null,null,null,null,null,null,null,null,"Ducted Air Source HP",null,null,null,null,null,null,null,null,null,null,null,null,null,null,null,"2f","Ductless Mini Split - ccASHP Integrated/Modulating Control 0.7",0.7,2.76,0.18,9.44,0.32300000000000001,1,0.95,null,null,null,null,null,null,null,null,null,null,null,null,null,null,null,null,null,null,null,null,null,null,null,null,null,null,null,null,null,null,null,null,null,null,null,null,null,"High School",704,708,1520]
[10,null,"ecobee Smart Thermostat with voice control","Learning",null,null,null,null,null,null,null,null,null,null,null,null,"Central Air Conditioner",null,null,null,null,null,null,null,null,null,null,null,null,null,null,null,"2f","Ductless Mini Split - ccASHP Integrated/Fixed Control 0.7",0.7,2.76,0.18,9.44,0.32300000000000001,1,0.95,null,null,null,null,null,null,null,null,"Wall Insulation - HVAC: AC with Gas Heat",null,null,null,null,null,null,null,null,null,null,null,null,null,null,null,null,null,null,null,null,null,null,null,null,null,null,null,null,"Hospital",1925,2477,16938,null,null,null,null,null,null,null,null,null,null,null,null,null,null,"Water Temp.","Value"]
[null,null,"ecobee3 lite","Learning",null,null,null,null,null,null,null,null,null,null,null,null,"Ductless Mini Split - AC",null,null,null,null,null,null,null,null,null,null,null,null,null,null,null,"2f","Ductless Mini Split - ccASHP Freeze Stat 0.7",0.7,2.76,0.18,9.44,0.32300000000000001,1,0.95,null,null,null,null,null,null,null,null,"Base",0,null,null,11,null,null,13,null,null,17,null,null,19,null,null,null,null,null,null,null,null,null,null,null,null,null,null,null,"Hotel",3049,655,9104,null,null,null,null,null,null,null,null,null,null,null,null,null,null,"Cold Water Inlet Temp",61.4,"T,main"]
[null,null,"ecobee4","Learning",null,null,null,null,null,null,null,null,null,null,null,null,"Ductless Mini Split - HP",null,null,null,null,null,null,null,null,null,null,null,null,null,null,null,"2f","Ductless Mini Split - ccASHP No Fossil Fuel Heater 0.7",0.7,2.76,0.18,9.44,0.32300000000000001,1,0.95,null,null,null,null,null,null,null,null,"Measure","kWh/ kSF","kW/ kSF","therm/ kSF","kWh/ kSF","kW/ kSF","therm/ kSF","kWh/ kSF","kW/ kSF","therm/ kSF","kWh/ kSF","kW/ kSF","therm/ kSF","kWh/ kSF","kW/ kSF","therm/ kSF",null,null,null,null,null,null,null,null,null,null,null,null,null,"Large Office",1756,1643,550,null,null,null,null,null,null,null,null,null,null,null,null,null,null,"Water Heater Set Point",130,"T,set"]
[null,null,"Wi-Fi Smart Color Thermostat","Learning",null,null,null,null,null,null,null,null,null,null,null,null,"PTHP",null,null,null,null,null,null,null,null,null,null,null,null,null,null,null,"2c","Ductless Mini Split - ccASHP Separate Control 0.7",0.7,2.7679999999999998,0.21,9.44,0.32300000000000001,1,0.76,null,null,null,null,null,null,null,null,11,60,5.3999999999999999E-2,36.6,null,null,null,null,null,null,null,null,null,null,null,null,null,null,null,null,null,null,null,null,null,null,null,null,null,"Large Retail",1487,1711,446]
["Unit Controlled",null,"Wi-Fi 7 Day Programmable Thermostat","Connected",null,null,null,null,null,null,null,null,null,null,null,null,"Other",null,null,null,null,null,null,null,null,null,null,null,null,null,null,null,"3a","Ductless Multi Split - ccASHP Integrated/Modulating Control 0.7",0.7,-3.7930000000000001,2.2170000000000001,11.6,0.19600000000000001,1,0.86,null,null,null,null,null,null,null,null,12,{"$f":"((($AX$98-$AX$97)*(AY99-AY97))/($AX$99-$AX$97))+AY97","v":63.35},5.9499999999999997E-2,39.450000000000003,3.3,5.4999999999999997E-3,2.8,0,0,0,0,0,0,0,0,0,null,null,null,null,null,null,null,null,null,null,null,null,null,"Light Industrial",230,876,489]
["Unit 1",null,"Wi-Fi 9000 7-Day Programmable Thermostat","Connected",null,null,null,null,null,null,null,null,null,null,null,null,null,null,null,null,null,null,null,null,null,null,null,null,null,null,null,null,"3a","Ductless Multi Split - ccASHP Integrated/Fixed Control 0.7",0.7,-3.7930000000000001,2.2170000000000001,11.6,0.19600000000000001,1,0.86,null,null,null,null,null,null,null,null,13,66.7,6.5000000000000002E-2,42.3,6.6,1.0999999999999999E-2,5.6,null,null,null,null,null,null,null,null,null,null,null,null,null,null,null,null,null,null,null,null,null,null,"Motel",2141,916,1366,null,null,null,null,null,null,null,null,null,null,null,null,null,null,"Water Heater Displacement"]
["Unit 2",null,"9000 Smart Thermostat","Connected",null,null,null,null,null,null,null,null,null,null,null,null,null,null,null,null,null,null,null,null,null,null,null,null,null,null,null,null,"3a","Ductless Multi Split - ccASHP Freeze Stat 0.7",0.7,-3.7930000000000001,2.2170000000000001,11.6,0.19600000000000001,1,0.86,null,null,null,null,null,null,null,null,14,{"$f":"((($AX100-$AX$99)*(AY$103-AY$99))/($AX$103-$AX$99))+AY$99","v":70.174999999999997},6.7750000000000005E-2,44.375,10.1,1.3749999999999998E-2,7.6999999999999993,3.5,2.7499999999999998E-3,2.0750000000000002,0,0,0,0,0,0,null,null,null,null,null,null,null,null,null,null,null,null,null,"Religious",279,722,77,null,null,null,null,null,null,null,null,null,null,null,null,null,null,"Electric Element Present",0.95]
["Unit 3",null,"VisionPro 8000 Smart Thermostat","Connected",null,null,null,null,null,null,null,null,null,null,null,null,null,null,null,null,null,null,null,null,null,null,null,null,null,null,null,null,"3a","Ductless Multi Split - ccASHP Separate Control 0.7",0.7,-3.7930000000000001,2.2170000000000001,11.6,0.19600000000000001,1,0.86,null,null,null,null,null,null,null,null,15,73.650000000000006,7.0500000000000007E-2,46.45,13.600000000000001,1.6500000000000001E-2,9.8000000000000007,7,5.4999999999999997E-3,4.1500000000000004,0,0,0,0,0,0,null,null,null,null,null,null,null,null,null,null,null,null,null,"Small Office",451,899,110,null,null,null,null,null,null,null,null,null,null,null,null,null,null,"No Electric Element Present",1]
["Unit 4",null,"Round Smart Thermostat","Learning",null,null,null,null,null,null,null,null,null,null,null,null,null,null,null,null,null,null,null,null,null,null,null,null,null,null,null,null,"3a","Ductless Multi Split - ccASHP No Fossil Fuel Heater 0.7",0.7,-3.7930000000000001,2.2170000000000001,11.6,0.19600000000000001,1,0.86,null,null,null,null,null,null,null,null,16,77.125,7.3249999999999996E-2,48.524999999999999,17.100000000000001,1.925E-2,11.9,10.5,8.2500000000000004E-3,6.2250000000000005,0,0,0,0,0,0,null,null,null,null,null,null,null,null,null,null,null,null,null,"Small Retail",1186,537,27]
["Unit 5",null,"T5+ Smart Thermostat","Learning",null,null,null,null,null,null,null,null,null,null,null,null,"Existing Secondary Cooling Equipment",null,"Fossil Fuel Heater Removed?",null,null,null,null,null,null,null,null,null,null,null,null,null,"Average 2f & 2e","Ductless Mini Split - ccASHP Integrated/Modulating Control 0.6",0.6,{"$f":"AVERAGE(AJ93,AJ112)","v":2.7885},0.17099999999999999,9.76,0.30000000000000004,0.995,0.90999999999999992,null,null,null,null,null,null,null,null,17,80.599999999999994,7.5999999999999998E-2,50.6,20.6,2.1999999999999999E-2,14,14,1.0999999999999999E-2,8.3000000000000007,null,null,null,null,null,null,null,null,null,null,null,null,null,null,null,null,null,null,null,"University",1057,1011,1000]
["Unit 6",null,"T6 Pro Smart Thermostat","Learning",null,null,null,null,null,null,null,null,null,null,null,null,"Select…",null,"Select…",null,null,null,null,null,null,null,null,null,null,null,null,null,"Average 2f & 2e","Ductless Mini Split - ccASHP Integrated/Fixed Control 0.6",0.6,2.7885,0.17099999999999999,9.76,0.30000000000000004,0.995,0.90999999999999992,null,null,null,null,null,null,null,null,18,{"$f":"((($AX$104-$AX$103)*(AY105-AY103))/($AX$105-$AX$103))+AY103","v":83.199999999999989},7.5999999999999998E-2,52.150000000000006,23.200000000000003,2.1999999999999999E-2,15.5,16.600000000000001,1.0999999999999999E-2,9.8500000000000014,2.6,0,1.5,0,0,0,null,null,null,null,null,null,null,null,null,null,null,null,null,"Warehouse",230,876,465]
["Unit 7",null,"T9 Smart Thermostat","Learning",null,null,null,null,null,null,null,null,null,null,null,null,"New Construction",null,"Yes",null,null,null,null,null,null,null,null,null,null,null,null,null,"Average 2f & 2e","Ductless Mini Split - ccASHP Freeze Stat 0.6",0.6,2.7885,0.17099999999999999,9.76,0.30000000000000004,0.995,0.90999999999999992,null,null,null,null,null,null,null,null,19,85.8,7.5999999999999998E-2,53.7,25.8,2.1999999999999999E-2,17,19.2,1.0999999999999999E-2,11.4,5.2,0,3,null,null,null,null,null,null,null,null,null,null,null,null,null,null,null,null,"Other",705,779,{"$f":"4.89*'[8]Customer Information'!$K$12/1000","v":0},null,null,null,null,null,null,null,null,null,null,null,null,null,null,"Natural gas",{"$f":"53%/(53%+35%+4%)","v":0.57608695652173914}]
["Unit 8",null,"T10 Smart Thermostat","Learning",null,null,null,null,null,null,null,null,null,null,null,null,"None",null,"No",null,null,null,null,null,null,null,null,null,null,null,null,null,"Average 2f & 2e","Ductless Multi Split - ccASHP No Fossil Fuel Heater 0.6",0.6,2.7885,0.17099999999999999,9.76,0.30000000000000004,0.995,0.90999999999999992,null,null,null,null,null,null,null,null,20,{"$f":"((($AX$106-$AX$105)*(AY107-AY105))/($AX$107-$AX$105))+AY105","v":87.949999999999989},7.5999999999999998E-2,54.900000000000006,27.9,2.1999999999999999E-2,18.25,21.299999999999997,1.0999999999999999E-2,12.65,7.3000000000000007,0,4.25,2.1,0,1.25,null,null,null,null,null,null,null,null,null,null,null,null,null,0,{"$f":"_xlfn.IFNA(INDEX(CB$85:CB$105,MATCH($CA$106,$CA$85:$CA$105,0)),0)","v":0},{"$f":"_xlfn.IFNA(INDEX(CC$85:CC$105,MATCH($CA$106,$CA$85:$CA$105,0)),0)","v":0},{"$f":"_xlfn.IFNA(INDEX(CD$85:CD$105,MATCH($CA$106,$CA$85:$CA$105,0)),0)","v":0},null,null,null,null,null,null,null,null,null,null,null,null,null,null,"Oil",{"$f":"35%/(53%+35%+4%)","v":0.38043478260869562}]
["Unit 9",null,"LUX/GEO","Learning",null,null,null,null,null,null,null,null,null,null,null,null,"Ducted Air Source HP",null,"New Construction",null,null,null,null,null,null,null,null,null,null,null,null,null,"Average 2c & 2b","Ductless Mini Split - ccASHP Separate Control 0.6",0.6,2.6369999999999996,0.253,9.76,0.30000000000000004,0.995,0.65500000000000003,null,null,null,null,null,null,null,null,21,90.1,7.5999999999999998E-2,56.1,30,2.1999999999999999E-2,19.5,23.4,1.0999999999999999E-2,13.9,9.4,0,5.5,4.2,0,2.5,null,null,null,null,null,null,null,null,null,null,null,null,null,null,null,null,null,null,null,null,null,null,null,null,null,null,null,null,null,null,null,"Propane",{"$f":"4%/(53%+35%+4%)","v":4.3478260869565216E-2}]
["Unit 10",null,"LUX KONO","Learning",null,null,null,null,null,null,null,null,null,null,null,null,"Central Air Conditioner",null,null,null,null,null,null,null,null,null,null,null,null,null,null,null,"3a","Ductless Multi Split - ccASHP Integrated/Modulating Control 0.6",0.6,-3.7930000000000001,2.2170000000000001,11.6,0.19600000000000001,1,0.86,null,null,null,null,null,null,null,null,22,{"$f":"((($AX108-$AX$107)*(AY$111-AY$107))/($AX$111-$AX$107))+AY$107","v":91.449999999999989},7.8750000000000001E-2,57.125,31.35,2.4750000000000001E-2,20.5,24.75,1.3749999999999998E-2,14.9,10.75,2.7499999999999998E-3,6.5,5.55,2.7499999999999998E-3,3.5,null,null,null,null,null,null,null,null,null,null,null,null,null,null,null,null,null,null,null,null,null,null,null,null,null,null,null,null,null,null,null,"electric",0.11]
[null,null,"Google Nest Learning Thermostat","Learning",null,null,null,null,null,null,null,null,null,null,null,null,"Ductless Mini Split - AC",null,null,null,null,null,null,null,null,null,null,null,null,null,null,null,"3a","Ductless Multi Split - ccASHP Integrated/Fixed Control 0.6",0.6,-3.7930000000000001,2.2170000000000001,11.6,0.19600000000000001,1,0.86,null,null,null,null,null,null,null,null,23,92.8,8.1499999999999989E-2,58.150000000000006,32.700000000000003,2.75E-2,21.5,26.1,1.6500000000000001E-2,15.899999999999999,12.100000000000001,5.4999999999999997E-3,7.5,6.9,5.4999999999999997E-3,4.5,null,null,null,null,null,null,null,null,null,null,null,null,null,null,null,null,null,null,null,null,null,null,null,null,null,null,null,null,null,null,null,"Fossil Fuel",{"$f":"100%-CT108","v":0.89}]
[null,null,"Google Nest Thermostat E","Connected",null,null,null,null,null,null,null,null,null,null,null,null,"Ductless Mini Split - HP",null,null,null,null,null,null,null,null,null,null,null,null,null,null,null,"3a","Ductless Multi Split - ccASHP Freeze Stat 0.6",0.6,-3.7930000000000001,2.2170000000000001,11.6,0.19600000000000001,1,0.86,null,null,null,null,null,null,null,null,24,94.15,8.4249999999999992E-2,59.175000000000004,34.049999999999997,3.0249999999999999E-2,22.5,27.45,1.925E-2,16.899999999999999,13.450000000000001,8.2500000000000004E-3,8.5,8.25,8.2500000000000004E-3,5.5]
[null,null,"Google Nest Thermostat","Connected",null,null,null,null,null,null,null,null,null,null,null,null,"PTHP",null,null,null,null,null,null,null,null,null,null,null,null,null,null,null,"3a","Ductless Multi Split - ccASHP Separate Control 0.6",0.6,-3.7930000000000001,2.2170000000000001,11.6,0.19600000000000001,1,0.86,null,null,null,null,null,null,null,null,25,95.5,8.6999999999999994E-2,60.2,35.4,3.3000000000000002E-2,23.5,28.8,2.1999999999999999E-2,17.899999999999999,14.8,1.0999999999999999E-2,9.5,9.6,1.0999999999999999E-2,6.5]
[null,null,"Filtrete 3M-50","Connected",null,null,null,null,null,null,null,null,null,null,null,null,"Other",null,null,null,null,null,null,null,null,null,null,null,null,null,null,null,"2e","Ductless Mini Split - ccASHP Integrated/Modulating Control 0.5",0.5,2.8170000000000002,0.16200000000000001,10.08,0.27700000000000002,0.99,0.87,null,null,null,null,null,null,null,null,26,{"$f":"((($AX$112-$AX$111)*(AY113-AY111))/($AX$113-$AX$111))+AY111","v":96.65},8.6999999999999994E-2,60.95,36.549999999999997,3.3000000000000002E-2,24.25,29.950000000000003,2.1999999999999999E-2,14.5,15.950000000000001,1.0999999999999999E-2,10.3,10.75,1.0999999999999999E-2,7.25]
[null,null,"CT30","Connected",null,null,null,null,null,null,null,null,null,null,null,null,null,null,null,null,null,null,null,null,null,null,null,null,null,null,null,null,"2e","Ductless Mini Split - ccASHP Integrated/Fixed Control 0.5",0.5,2.8170000000000002,0.16200000000000001,10.08,0.27700000000000002,0.99,0.87,null,null,null,null,null,null,null,null,27,97.8,8.6999999999999994E-2,61.7,37.700000000000003,3.3000000000000002E-2,25,31.1,2.1999999999999999E-2,11.1,17.100000000000001,1.0999999999999999E-2,11.1,11.9,1.0999999999999999E-2,8]
[null,null,"CT50","Connected",null,null,null,null,null,null,null,null,null,null,null,null,"Rating Type",null,null,null,null,null,null,null,null,null,null,null,null,null,null,null,"2e","Ductless Mini Split - ccASHP Freeze Stat 0.5",0.5,2.8170000000000002,0.16200000000000001,10.08,0.27700000000000002,0.99,0.87]
[null,null,"CT80","Connected",null,null,null,null,null,null,null,null,null,null,null,null,"Select…",null,null,null,null,null,null,null,null,null,null,null,null,null,null,null,"2e","Ductless Mini Split - ccASHP No Fossil Fuel Heater 0.5",0.5,2.8170000000000002,0.16200000000000001,10.08,0.27700000000000002,0.99,0.87]
[null,null,"Sensi Wi-Fi Programmable Thermostat","Connected",null,null,null,null,null,null,null,null,null,null,null,null,"SEER/EER/HSPF",null,null,null,null,null,null,null,null,null,null,null,null,null,null,null,"2b","Ductless Mini Split - ccASHP Separate Control 0.5",0.5,2.5059999999999998,0.29599999999999999,10.08,0.27700000000000002,0.99,0.55000000000000004]
[null,null,"Sensi Touch Wi-Fi Thermostat","Learning",null,null,null,null,null,null,null,null,null,null,null,null,"SEER2/EER2/HSPF2",null,null,null,null,null,null,null,null,null,null,null,null,null,null,null,"3a","Ductless Multi Split - ccASHP Integrated/Modulating Control 0.5",0.5,-3.7930000000000001,2.2170000000000001,11.6,0.19600000000000001,1,0.86]
["Dual Fuel Thermostats &Integrated Control Kits",null,"Radio Thermostat CT 100 w/Vivint Go!Control Panel","Connected",null,null,null,null,null,null,null,null,null,null,null,null,null,null,null,null,null,null,null,null,null,null,null,null,null,null,null,null,"3a","Ductless Multi Split - ccASHP Integrated/Fixed Control 0.5",0.5,-3.7930000000000001,2.2170000000000001,11.6,0.19600000000000001,1,0.86,null,null,null,null,null,null,null,null,"Wall Insulation - HVAC: Heat Pump"]
["Which one is installed?",null,null,null,null,null,null,null,null,null,null,null,null,null,null,null,null,null,null,null,null,null,null,null,null,null,null,null,null,null,null,null,"3a","Ductless Multi Split - ccASHP Freeze Stat 0.5",0.5,-3.7930000000000001,2.2170000000000001,11.6,0.19600000000000001,1,0.86,null,null,null,null,null,null,null,null,"Base",0,null,null,11,null,null,13,null,null,17,null,null,19]
["Dual Fuel Thermostat",null,null,"Model Names",null,null,null,null,null,null,null,null,null,null,null,null,null,null,null,null,null,null,null,null,null,null,null,null,null,null,null,null,"3a","Ductless Multi Split - ccASHP Separate Control 0.5",0.5,-3.7930000000000001,2.2170000000000001,11.6,0.19600000000000001,1,0.86,null,null,null,null,null,null,null,null,"Measure","kWh/ kSF","kW/ kSF",null,"kWh/ kSF","kW/ kSF",null,"kWh/ kSF","kW/ kSF",null,"kWh/ kSF","kW/ kSF",null,"kWh/ kSF","kW/ kSF"]
["Integrated/Modulating Control",null,null,"Aprilaire","Bosche","Bryant","Building36","Carrier","Daikin","Ecobee","Honeywell Home","Lennox Industries Inc.","LG Electronics","Mitsubishi Electric","Nest","Nexia",null,"Ruud","Tekmar",null,null,null,null,null,null,null,null,null,null,null,null,null,"Average 2e & 2d","Ductless Mini Split - ccASHP Integrated/Modulating Control 0.4",0.4,{"$f":"AVERAGE(AJ112,AJ129)","v":2.87},0.14650000000000002,10.574999999999999,0.22100000000000003,0.95,0.78,null,null,null,null,null,null,null,null,11,430.4,7.5999999999999998E-2]
["Integrated/Fixed Control",null,null,8446,"Bosch Connected Control BCC100 Thermostat","Evolution System Control","Intelligent Thermostat","COR","One+","Ecobee 3 lite","Prestige IAQ","iComfort E30","Thermostat","Kumo Cloud+ IFTTT compatible Thermstat","Nest Third Gen","Trane/American Standard/Service First",null,"Econet Thermostat","Invita",null,null,null,null,null,null,null,null,null,null,null,null,null,"Average 2e & 2d","Ductless Mini Split - ccASHP Integrated/Fixed Control 0.4",0.4,2.87,0.14650000000000002,10.574999999999999,0.22100000000000003,0.95,0.78,null,null,null,null,null,null,null,null,12,{"$f":"((($AX$122-$AX$121)*(AY123-AY121))/($AX$123-$AX$121))+AY121","v":462.1},{"$f":"((($AX$122-$AX$121)*(AZ123-AZ121))/($AX$123-$AX$121))+AZ121","v":8.1499999999999989E-2},null,{"$f":"((($AX$122-$AX$121)*(BB123-BB121))/($AX$123-$AX$121))+BB121","v":31.7},{"$f":"((($AX$122-$AX$121)*(BC123-BC121))/($AX$123-$AX$121))+BC121","v":5.4999999999999997E-3},null,{"$f":"((($AX$122-$AX$121)*(BE123-BE121))/($AX$123-$AX$121))+BE121","v":0},{"$f":"((($AX$122-$AX$121)*(BF123-BF121))/($AX$123-$AX$121))+BF121","v":0},null,{"$f":"((($AX$122-$AX$121)*(BH123-BH121))/($AX$123-$AX$121))+BH121","v":0},{"$f":"((($AX$122-$AX$121)*(BI123-BI121))/($AX$123-$AX$121))+BI121","v":0},null,{"$f":"((($AX$122-$AX$121)*(BK123-BK121))/($AX$123-$AX$121))+BK121","v":0},{"$f":"((($AX$122-$AX$121)*(BL123-BL121))/($AX$123-$AX$121))+BL121","v":0}]
["Freeze Stat",null,null,8448,null,"COR","Alarm.com Smart Thermostat","COR 5C",null,"Ecobee 4","Smart Round","iComfort M30",null,null,null,null,null,null,null,null,null,null,null,null,null,null,null,null,null,null,null,null,"Average 2e & 2d","Ductless Mini Split - ccASHP Freeze Stat 0.4",0.4,2.87,0.14650000000000002,10.574999999999999,0.22100000000000003,0.95,0.78,null,null,null,null,null,null,null,null,13,493.8,8.6999999999999994E-2,null,63.4,1.0999999999999999E-2]
["No Fossil Fuel Heater",null,null,8476,null,"COR 5C",null,"COR 7C",null,"Ecobee Smart Thermostat with Voice Control","T6 Pro","iComfort S30",null,null,null,null,null,null,null,null,null,null,null,null,null,null,null,null,null,null,null,null,"Average 2b & 2a","Ductless Mini Split - ccASHP Separate Control 0.4",0.4,{"$f":"AVERAGE(AJ116,AJ132)","v":2.4429999999999996},0.317,10.574999999999999,0.22100000000000003,0.95,0.46,null,null,null,null,null,null,null,null,14,{"$f":"((($AX124-$AX$123)*(AY$127-AY$123))/($AX$127-$AX$123))+AY$123","v":518},8.9749999999999996E-2,null,{"$f":"((($AX124-$AX$123)*(BB$127-BB$123))/($AX$127-$AX$123))+BB$123","v":87.6},1.3749999999999998E-2,null,{"$f":"((($AX124-$AX$123)*(BE$127-BE$123))/($AX$127-$AX$123))+BE$123","v":24.2},{"$f":"((($AX124-$AX$123)*(BF$127-BF$123))/($AX$127-$AX$123))+BF$123","v":2.7499999999999998E-3},null,{"$f":"((($AX124-$AX$123)*(BH$127-BH$123))/($AX$127-$AX$123))+BH$123","v":0},0,null,{"$f":"((($AX124-$AX$123)*(BK$127-BK$123))/($AX$127-$AX$123))+BK$123","v":0},0]
[null,null,null,8600,null,"COR 7C",null,"Infintiy System Control",null,null,"T6 Pro Smart","iComfort WiFi",null,null,null,null,null,null,null,null,null,null,null,null,null,null,null,null,null,null,null,null,"3a","Ductless Multi Split - ccASHP Integrated/Modulating Control 0.4",0.4,-3.7930000000000001,2.2170000000000001,11.6,0.19600000000000001,1,0.86,null,null,null,null,null,null,null,null,15,542.20000000000005,9.2499999999999999E-2,null,111.79999999999998,1.6500000000000001E-2,null,{"$f":"((($AX125-$AX$123)*(BE$127-BE$123))/($AX$127-$AX$123))+BE$123","v":48.4},{"$f":"((($AX125-$AX$123)*(BF$127-BF$123))/($AX$127-$AX$123))+BF$123","v":5.4999999999999997E-3},null,0,0,null,0,0]
["Manufacturers",null,null,8620,null,null,null,null,null,null,"VisionPro 800 Smart",null,null,null,null,null,null,null,null,null,null,null,null,null,null,null,null,null,null,null,null,null,"3a","Ductless Multi Split - ccASHP Integrated/Fixed Control 0.4",0.4,-3.7930000000000001,2.2170000000000001,11.6,0.19600000000000001,1,0.86,null,null,null,null,null,null,null,null,16,566.4,9.5250000000000001E-2,null,136,1.925E-2,null,{"$f":"((($AX126-$AX$123)*(BE$127-BE$123))/($AX$127-$AX$123))+BE$123","v":72.599999999999994},{"$f":"((($AX126-$AX$123)*(BF$127-AOR176))/($AX$127-$AX$123))+BF$123","v":8.2500000000000004E-3},null,0,0,null,0,0]
["Dual Fuel Thermostat","Integrated Control",null,8910,null,null,null,null,null,null,"WiFi 8000",null,null,null,null,null,null,null,null,null,null,null,null,null,null,null,null,null,null,null,null,null,"3a","Ductless Multi Split - ccASHP Freeze Stat 0.4",0.4,-3.7930000000000001,2.2170000000000001,11.6,0.19600000000000001,1,0.86,null,null,null,null,null,null,null,null,17,590.6,9.8000000000000004E-2,null,160.19999999999999,2.1999999999999999E-2,null,96.8,1.0999999999999999E-2]
["Aprilaire","Carrier",null,"8476W",null,null,null,null,null,null,"True Zone Dual Fuel Zoning Panel Kit",null,null,null,null,null,null,null,null,null,null,null,null,null,null,null,null,null,null,null,null,null,"3a","Ductless Multi Split - ccASHP Separate Control 0.4",0.4,-3.7930000000000001,2.2170000000000001,11.6,0.19600000000000001,1,0.86,null,null,null,null,null,null,null,null,18,{"$f":"((($AX$128-$AX$127)*(AY129-AY127))/($AX$129-$AX$127))+AY127","v":608.35},{"$f":"((($AX$128-$AX$127)*(AZ129-AZ127))/($AX$129-$AX$127))+AZ127","v":0.10300000000000001},null,{"$f":"((($AX$128-$AX$127)*(BB129-BB127))/($AX$129-$AX$127))+BB127","v":177.89999999999998},{"$f":"((($AX$128-$AX$127)*(BC129-BC127))/($AX$129-$AX$127))+BC127","v":2.75E-2},null,{"$f":"((($AX$128-$AX$127)*(BE129-BE127))/($AX$129-$AX$127))+BE127","v":114.5},{"$f":"((($AX$128-$AX$127)*(BF129-BF127))/($AX$129-$AX$127))+BF127","v":1.6500000000000001E-2},null,{"$f":"((($AX$128-$AX$127)*(BH129-BH127))/($AX$129-$AX$127))+BH127","v":27.15},{"$f":"((($AX$128-$AX$127)*(BI129-BI127))/($AX$129-$AX$127))+BI127","v":5.4999999999999997E-3},null,{"$f":"((($AX$128-$AX$127)*(BK129-BK127))/($AX$129-$AX$127))+BK127","v":0},{"$f":"((($AX$128-$AX$127)*(BL129-BL127))/($AX$129-$AX$127))+BL127","v":0}]
["Bosche","CMNA ICP-MIDEA",null,"8620W",null,null,null,null,null,null,"True Zone Dual Fuel Zoning Panel",null,null,null,null,null,null,null,null,null,null,null,null,null,null,null,null,null,null,null,null,null,"2d","Ductless Mini Split - ccASHP Integrated/Modulating Control 0.3",0.3,2.923,0.13100000000000001,11.07,0.16500000000000001,0.91,0.69,null,null,null,null,null,null,null,null,19,626.1,0.108,null,195.6,3.3000000000000002E-2,null,132.19999999999999,2.1999999999999999E-2,null,54.3,1.0999999999999999E-2]
["Bryant","Daikin",null,"8910W",null,null,null,null,null,null,null,null,null,null,null,null,null,null,null,null,null,null,null,null,null,null,null,null,null,null,null,null,"2d","Ductless Mini Split - ccASHP Integrated/Fixed Control 0.3",0.3,2.923,0.13100000000000001,11.07,0.16500000000000001,0.91,0.69,null,null,null,null,null,null,null,null,20,{"$f":"((($AX$130-$AX$129)*(AY131-AY129))/($AX$131-$AX$129))+AY129","v":640.45000000000005},{"$f":"((($AX$130-$AX$129)*(AZ131-AZ129))/($AX$131-$AX$129))+AZ129","v":0.108},null,{"$f":"((($AX$130-$AX$129)*(BB131-BB129))/($AX$131-$AX$129))+BB129","v":210},{"$f":"((($AX$130-$AX$129)*(BC131-BC129))/($AX$131-$AX$129))+BC129","v":3.3000000000000002E-2},null,{"$f":"((($AX$130-$AX$129)*(BE131-BE129))/($AX$131-$AX$129))+BE129","v":146.6},{"$f":"((($AX$130-$AX$129)*(BF131-BF129))/($AX$131-$AX$129))+BF129","v":2.1999999999999999E-2},null,{"$f":"((($AX$130-$AX$129)*(BH131-BH129))/($AX$131-$AX$129))+BH129","v":59.25},{"$f":"((($AX$130-$AX$129)*(BI131-BI129))/($AX$131-$AX$129))+BI129","v":1.0999999999999999E-2},null,{"$f":"((($AX$130-$AX$129)*(BK131-BK129))/($AX$131-$AX$129))+BK129","v":14.35},{"$f":"((($AX$130-$AX$129)*(BL131-BL129))/($AX$131-$AX$129))+BL129","v":0}]
["Building36","EWC Controls",null,"8920W",null,null,null,null,null,null,null,null,null,null,null,null,null,null,null,null,null,null,null,null,null,null,null,null,null,null,null,null,"2d","Ductless Mini Split - ccASHP Freeze Stat 0.3",0.3,2.923,0.13100000000000001,11.07,0.16500000000000001,0.91,0.69,null,null,null,null,null,null,null,null,21,654.79999999999995,0.108,null,224.4,3.3000000000000002E-2,null,161,2.1999999999999999E-2,null,64.2,1.0999999999999999E-2,null,28.7,0]
["Carrier","Fujitsu",null,8800,null,null,null,null,null,null,null,null,null,null,null,null,null,null,null,null,null,null,null,null,null,null,null,null,null,null,null,null,"2a","Ductless Mini Split - ccASHP Separate Control 0.3",0.3,2.38,0.33800000000000002,11.07,0.16500000000000001,0.91,0.37,null,null,null,null,null,null,null,null,22,{"$f":"((($AX132-$AX$131)*(AY$135-AY$131))/($AX$135-$AX$131))+AY$131","v":665.8},0.108,null,{"$f":"((($AX132-$AX$131)*(BB$135-BB$131))/($AX$135-$AX$131))+BB$131","v":235.4},3.3000000000000002E-2,null,{"$f":"((($AX132-$AX$131)*(BE$135-BE$131))/($AX$135-$AX$131))+BE$131","v":172},2.1999999999999999E-2,null,{"$f":"((($AX132-$AX$131)*(BH$135-BH$131))/($AX$135-$AX$131))+BH$131","v":75.2},1.0999999999999999E-2,null,{"$f":"((($AX132-$AX$131)*(BK$135-BK$131))/($AX$135-$AX$131))+BK$131","v":39.700000000000003},0]
["Daikin","Gree",null,8810,null,null,null,null,null,null,null,null,null,null,null,null,null,null,null,null,null,null,null,null,null,null,null,null,null,null,null,null,"3a","Ductless Multi Split - ccASHP Integrated/Modulating Control 0.3",0.3,-3.7930000000000001,2.2170000000000001,11.6,0.19600000000000001,1,0.86,null,null,null,null,null,null,null,null,23,676.8,0.108,null,246.39999999999998,3.3000000000000002E-2,null,183,2.1999999999999999E-2,null,86.2,1.0999999999999999E-2,null,50.7,0]
["Ecobee","Haier",null,8820,null,null,null,null,null,null,null,null,null,null,null,null,null,null,null,null,null,null,null,null,null,null,null,null,null,null,null,null,"3a","Ductless Multi Split - ccASHP Integrated/Fixed Control 0.3",0.3,-3.7930000000000001,2.2170000000000001,11.6,0.19600000000000001,1,0.86,null,null,null,null,null,null,null,null,24,687.8,0.108,null,257.39999999999998,3.3000000000000002E-2,null,194,2.1999999999999999E-2,null,97.2,1.0999999999999999E-2,null,61.7,0]
["Honeywell Home","LG Electronics",null,8830,null,null,null,null,null,null,null,null,null,null,null,null,null,null,null,null,null,null,null,null,null,null,null,null,null,null,null,null,"3a","Ductless Multi Split - ccASHP Freeze Stat 0.3",0.3,-3.7930000000000001,2.2170000000000001,11.6,0.19600000000000001,1,0.86,null,null,null,null,null,null,null,null,25,698.8,0.108,null,268.39999999999998,3.3000000000000002E-2,null,205,2.1999999999999999E-2,null,108.2,1.0999999999999999E-2,null,72.7,0]
["Lennox Industries Inc.","Mitsubishi Electric",null,8840,null,null,null,null,null,null,null,null,null,null,null,null,null,null,null,null,null,null,null,null,null,null,null,null,null,null,null,null,"3a","Ductless Multi Split - ccASHP Separate Control 0.3",0.3,-3.7930000000000001,2.2170000000000001,11.6,0.19600000000000001,1,0.86,null,null,null,null,null,null,null,null,26,{"$f":"((($AX$136-$AX$135)*(AY137-AY135))/($AX$137-$AX$135))+AY135","v":708},{"$f":"((($AX$136-$AX$135)*(AZ137-AZ135))/($AX$137-$AX$135))+AZ135","v":0.11349999999999999},null,{"$f":"((($AX$136-$AX$135)*(BB137-BB135))/($AX$137-$AX$135))+BB135","v":277.60000000000002},{"$f":"((($AX$136-$AX$135)*(BC137-BC135))/($AX$137-$AX$135))+BC135","v":3.7999999999999999E-2},null,{"$f":"((($AX$136-$AX$135)*(BE137-BE135))/($AX$137-$AX$135))+BE135","v":165.5},{"$f":"((($AX$136-$AX$135)*(BF137-BF135))/($AX$137-$AX$135))+BF135","v":2.75E-2},null,{"$f":"((($AX$136-$AX$135)*(BH137-BH135))/($AX$137-$AX$135))+BH135","v":117.4},{"$f":"((($AX$136-$AX$135)*(BI137-BI135))/($AX$137-$AX$135))+BI135","v":1.6500000000000001E-2},null,{"$f":"((($AX$136-$AX$135)*(BK137-BK135))/($AX$137-$AX$135))+BK135","v":81.95},{"$f":"((($AX$136-$AX$135)*(BL137-BL135))/($AX$137-$AX$135))+BL135","v":5.4999999999999997E-3}]
["LG Electronics","Samsung HVAC",null,null,null,null,null,null,null,null,null,null,null,null,null,null,null,null,null,null,null,null,null,null,null,null,null,null,null,null,null,null,null,null,null,null,null,null,null,null,null,null,null,null,null,null,null,null,null,27,717.2,0.11899999999999999,null,286.8,4.2999999999999997E-2,null,126,3.3000000000000002E-2,null,126.6,2.1999999999999999E-2,null,91.2,1.0999999999999999E-2]
["Mitsubishi Electric","Panasonic"]
["Nest","Any IR Controlled Mini-split + Flair"]
["Nexia","Honeywell Home Brand",null,"Model Numbers"]
["Robertshaw",null,null,"Aprilaire","Bosche","Bryant","Building36","Carrier","Daikin","Ecobee","Honeywell Home","Lennox Industries Inc.","LG Electronics","Mitsubishi Electric","Nest","Nexia",null,"Ruud","Tekmar"]
["Ruud",null,null,8446,"BCC100","SYSTXBBECC01","B36-T10","T6-WEM01-A","DTST-CWBSA-NI-A","EB-STATE3LT***","YTHX9421R5085WW","E30","PREMTVBC0","PAC-USWHS002-WF-1","T3007ES","ACONT824AS52D*",null,"ETST700SYS",564,null,null,null,null,null,null,null,null,null,null,null,null,null,null,null,null,null,null,null,null,null,null,null,null,null,null,null,null,null,null,"Wall Insulation - HVAC: AC with Electric Heat"]
["Tekmar",null,null,8448,null,"T6-WEM01-A","ADC-T2000","TSTWHA01",null,"EB-STATE4***","YTHX9421R5101WW","M30","PREMTBVC1","PAC-USWHS002-WF-2","T3008US","TCONT824AS52D*",null,null,"564B",null,null,null,null,null,null,null,null,null,null,null,null,null,null,null,null,null,null,null,null,null,null,null,null,null,null,null,null,null,null,"Base",0,null,null,11,null,null,13,null,null,17,null,null,19]
[null,null,null,8476,null,"TSTWHA01","ADC-T3000","TSTWRH01",null,"EB-STATE5***","TH8732WFH 5002","S30",null,null,"T3016US","ACONT724AS42D*",null,null,557,null,null,null,null,null,null,null,null,null,null,null,null,null,null,null,null,null,null,null,null,null,null,null,null,null,null,null,null,null,null,"Measure","kWh/ kSF","kW/ kSF",null,"kWh/ kSF","kW/ kSF",null,"kWh/ kSF","kW/ kSF",null,"kWh/ kSF","kW/ kSF",null,"kWh/ kSF","kW/ kSF"]
["Based on list above. If not on list above, it will not be counted.",null,null,8600,null,"TSTWRH01",null,"SYSTXCCITC01-B",null,null,"TH6320U 2008","WiFi",null,null,"T3017US","TCONT724AS42D*",null,null,563,null,null,null,null,null,null,null,null,null,null,null,null,null,null,null,null,null,null,null,null,null,null,null,null,null,null,null,null,null,null,11,840.8,5.3999999999999999E-2]
["Model","Capability",null,8620,null,null,null,null,null,null,"TH6320WF 2003",null,null,null,"T3021US","ACONT624AS42D*",null,null,null,null,null,null,null,null,null,null,null,null,null,null,null,null,null,null,null,null,null,null,null,null,null,null,null,null,null,null,null,null,null,12,{"$f":"((($AX$146-$AX$145)*(AY147-AY145))/($AX$147-$AX$145))+AY145","v":904.4},{"$f":"((($AX$146-$AX$145)*(AZ147-AZ145))/($AX$147-$AX$145))+AZ145","v":5.9499999999999997E-2},null,{"$f":"((($AX$146-$AX$145)*(BB147-BB145))/($AX$147-$AX$145))+BB145","v":63.6},{"$f":"((($AX$146-$AX$145)*(BC147-BC145))/($AX$147-$AX$145))+BC145","v":5.4999999999999997E-3},null,{"$f":"((($AX$146-$AX$145)*(BE147-BE145))/($AX$147-$AX$145))+BE145","v":0},{"$f":"((($AX$146-$AX$145)*(BF147-BF145))/($AX$147-$AX$145))+BF145","v":0},null,{"$f":"((($AX$146-$AX$145)*(BH147-BH145))/($AX$147-$AX$145))+BH145","v":0},{"$f":"((($AX$146-$AX$145)*(BI147-BI145))/($AX$147-$AX$145))+BI145","v":0},null,{"$f":"((($AX$146-$AX$145)*(BK147-BK145))/($AX$147-$AX$145))+BK145","v":0},{"$f":"((($AX$146-$AX$145)*(BL147-BL145))/($AX$147-$AX$145))+BL145","v":0}]
[8446,null,null,8910,null,null,null,null,null,null,"TH8320R 1003",null,null,null,null,"TCONT624AS42D*","Robertshaw",null,null,null,null,null,null,null,null,null,null,null,null,null,null,null,null,null,null,null,null,null,null,null,null,null,null,null,null,null,null,null,null,13,968,6.5000000000000002E-2,null,127.2,1.0999999999999999E-2]
[8448,null,null,"8476W",null,null,null,null,null,null,"TH8321R 1001",null,null,null,null,"AZON1050AC52Z*","Robertshaw",null,null,null,null,null,null,null,null,null,null,null,null,null,null,null,null,null,null,null,null,null,null,null,null,null,null,null,null,null,null,null,null,14,{"$f":"((($AX148-$AX$147)*(AY$151-AY$147))/($AX$151-$AX$147))+AY$147","v":1015.5},6.7750000000000005E-2,null,{"$f":"((($AX148-$AX$147)*(BB$151-BB$147))/($AX$151-$AX$147))+BB$147","v":174.72500000000002},{"$f":"((($AX148-$AX$147)*(BC$151-BC$147))/($AX$151-$AX$147))+BC$147","v":1.3749999999999998E-2},null,{"$f":"((($AX148-$AX$147)*(BE$151-BE$147))/($AX$151-$AX$147))+BE$147","v":47.5},2.7499999999999998E-3,null,{"$f":"((($AX148-$AX$147)*(BH$151-BH$147))/($AX$151-$AX$147))+BH$147","v":0},0,null,{"$f":"((($AX148-$AX$147)*(BK$151-BK$147))/($AX$151-$AX$147))+BK$147","v":0},0]
[8465,null,null,"8620W",null,null,null,null,null,null,"TH8321WF 1001",null,null,null,null,"TZON1050AC52Z*",null,null,null,null,null,null,null,null,null,null,null,null,null,null,null,null,null,null,null,null,null,null,null,null,null,null,null,null,null,null,null,null,null,15,1063,7.0500000000000007E-2,null,{"$f":"((($AX149-$AX$147)*(BB$151-BB$147))/($AX$151-$AX$147))+BB$147","v":222.25},{"$f":"((($AX149-$AX$147)*(BC$151-BC$147))/($AX$151-$AX$147))+BC$147","v":1.6500000000000001E-2},null,95,5.4999999999999997E-3,null,0,0,null,0,0]
[8466,null,null,"8910W",null,null,null,null,null,null,"HZ432K",null,null,null,null,"ACONT850AC52U*",null,null,null,null,null,null,null,null,null,null,null,null,null,null,null,null,null,null,null,null,null,null,null,null,null,null,null,null,null,null,null,null,null,16,1110.5,7.3249999999999996E-2,null,269.77500000000003,{"$f":"((($AX150-$AX$147)*(BC$151-BC$147))/($AX$151-$AX$147))+BC$147","v":1.925E-2},null,142.5,8.2500000000000004E-3,null,0,0,null,0,0]
[8476,null,null,"8920W",null,null,null,null,null,null,"HZ432",null,null,null,null,"TCONT850AC52U*",null,null,null,null,null,null,null,null,null,null,null,null,null,null,null,null,null,null,null,null,null,null,null,null,null,null,null,null,null,null,null,null,null,17,1158,7.5999999999999998E-2,null,317.3,2.1999999999999999E-2,null,190,1.0999999999999999E-2]
[8600,null,null,8800,null,null,null,null,null,null,null,null,null,null,null,null,null,null,null,null,null,null,null,null,null,null,null,null,null,null,null,null,null,null,null,null,null,null,null,null,null,null,null,null,null,null,null,null,null,18,{"$f":"((($AX$152-$AX$151)*(AY153-AY151))/($AX$153-$AX$151))+AY151","v":1192.7},{"$f":"((($AX$152-$AX$151)*(AZ153-AZ151))/($AX$153-$AX$151))+AZ151","v":7.5999999999999998E-2},null,{"$f":"((($AX$152-$AX$151)*(BB153-BB151))/($AX$153-$AX$151))+BB$151","v":351.95000000000005},{"$f":"((($AX$152-$AX$151)*(BC153-BC151))/($AX$153-$AX$151))+BC151","v":2.1999999999999999E-2},null,{"$f":"((($AX$152-$AX$151)*(BE153-BE151))/($AX$153-$AX$151))+BE151","v":224.7},{"$f":"((($AX$152-$AX$151)*(BF153-BF151))/($AX$153-$AX$151))+BF151","v":1.0999999999999999E-2},null,{"$f":"((($AX$152-$AX$151)*(BH153-BH151))/($AX$153-$AX$151))+BH151","v":34.700000000000003},{"$f":"((($AX$152-$AX$151)*(BI153-BI151))/($AX$153-$AX$151))+BI151","v":0},null,{"$f":"((($AX$152-$AX$151)*(BK153-BK151))/($AX$153-$AX$151))+BK151","v":0},{"$f":"((($AX$152-$AX$151)*(BL153-BL151))/($AX$153-$AX$151))+BL151","v":0}]
[8620,null,null,8810,null,null,null,null,null,null,null,null,null,null,null,null,null,null,null,null,null,null,null,null,null,null,null,null,null,null,null,null,null,null,null,null,null,null,null,null,null,null,null,null,null,null,null,null,null,19,1227.4000000000001,7.5999999999999998E-2,null,386.6,2.1999999999999999E-2,null,259.39999999999998,1.0999999999999999E-2,null,69.400000000000006,0,null,0,0]
[8910,null,null,8820,null,null,null,null,null,null,null,null,null,null,null,null,null,null,null,null,null,null,null,null,null,null,null,null,null,null,null,null,null,null,null,null,null,null,null,null,null,null,null,null,null,null,null,null,null,20,{"$f":"((($AX$154-$AX$153)*(AY155-AY153))/($AX$155-$AX$153))+AY153","v":1256.0999999999999},{"$f":"((($AX$154-$AX$153)*(AZ155-AZ153))/($AX$155-$AX$153))+AZ153","v":7.5999999999999998E-2},null,{"$f":"((($AX$154-$AX$153)*(BB155-BB153))/($AX$155-$AX$153))+BB153","v":415.35},{"$f":"((($AX$154-$AX$153)*(BC155-BC153))/($AX$155-$AX$153))+BC153","v":2.1999999999999999E-2},null,{"$f":"((($AX$154-$AX$153)*(BE155-BE153))/($AX$155-$AX$153))+BE153","v":288.10000000000002},{"$f":"((($AX$154-$AX$153)*(BF155-BF153))/($AX$155-$AX$153))+BF153","v":1.0999999999999999E-2},null,{"$f":"((($AX$154-$AX$153)*(BH155-BH153))/($AX$155-$AX$153))+BH153","v":98.1},{"$f":"((($AX$154-$AX$153)*(BI155-BI153))/($AX$155-$AX$153))+BI153","v":0},null,{"$f":"((($AX$154-$AX$153)*(BK155-BK153))/($AX$155-$AX$153))+BK153","v":28.7},{"$f":"((($AX$154-$AX$153)*(BL155-BL153))/($AX$155-$AX$153))+BL153","v":0}]
["8476W",null,null,8830,null,null,null,null,null,null,null,null,null,null,null,null,null,null,null,null,null,null,null,null,null,null,null,null,null,null,null,null,null,null,null,null,null,null,null,null,null,null,null,null,null,null,null,null,null,21,1284.8,7.5999999999999998E-2,null,444.1,2.1999999999999999E-2,null,316.8,1.0999999999999999E-2,null,126.8,0,null,57.4,0]
["8620W",null,null,8840,null,null,null,null,null,null,null,null,null,null,null,null,null,null,null,null,null,null,null,null,null,null,null,null,null,null,null,null,null,null,null,null,null,null,null,null,null,null,null,null,null,null,null,null,null,22,{"$f":"((($AX156-$AX$155)*(AY$159-AY$155))/($AX$159-$AX$155))+AY$155","v":1307.175},7.8750000000000001E-2,null,{"$f":"((($AX156-$AX$155)*(BB$159-BB$155))/($AX$159-$AX$155))+BB$155","v":466.45000000000005},2.4750000000000001E-2,null,{"$f":"((($AX156-$AX$155)*(BE$159-BE$155))/($AX$159-$AX$155))+BE$155","v":339.15},1.3749999999999998E-2,null,{"$f":"((($AX156-$AX$155)*(BF$159-BF$155))/($AX$159-$AX$155))+BF$155","v":1.3749999999999998E-2},{"$f":"((($AX156-$AX$155)*(BI$159-BI$155))/($AX$159-$AX$155))+BI$155","v":2.7499999999999998E-3},null,{"$f":"((($AX156-$AX$155)*(BK$159-BK$155))/($AX$159-$AX$155))+BK$155","v":79.775000000000006},0]
["8910W",null,null,null,null,null,null,null,null,null,null,null,null,null,null,null,null,null,null,null,null,null,null,null,null,null,null,null,null,null,null,null,null,null,null,null,null,null,null,null,null,null,null,null,null,null,null,null,null,23,1329.55,8.1499999999999989E-2,null,488.8,2.75E-2,null,361.5,1.6500000000000001E-2,null,{"$f":"((($AX157-$AX$155)*(BH$159-BH$155))/($AX$159-$AX$155))+BH$155","v":171.5},{"$f":"((($AX157-$AX$155)*(BI$159-BI$155))/($AX$159-$AX$155))+BI$155","v":5.4999999999999997E-3},null,102.15,0]
["8920W",null,null,null,null,null,null,null,null,null,null,null,null,null,null,null,null,null,null,null,null,null,null,null,null,null,null,null,null,null,null,null,null,null,null,null,null,null,null,null,null,null,null,null,null,null,null,null,null,24,1351.925,8.4249999999999992E-2,null,511.15,3.0249999999999999E-2,null,383.85,1.925E-2,null,{"$f":"((($AX158-$AX$155)*(BH$159-BH$155))/($AX$159-$AX$155))+BH$155","v":193.85},{"$f":"((($AX158-$AX$155)*(BI$159-BI$155))/($AX$159-$AX$155))+BI$155","v":8.2500000000000004E-3},null,124.52500000000001,0]
[8800,null,null,null,null,null,null,null,null,null,null,null,null,null,null,null,null,null,null,null,null,null,null,null,null,null,null,null,null,null,null,null,null,null,null,null,null,null,null,null,null,null,null,null,null,null,null,null,null,25,1374.3,8.6999999999999994E-2,null,533.5,3.3000000000000002E-2,null,406.2,2.1999999999999999E-2,null,216.2,1.0999999999999999E-2,null,146.9,0]
[8810,null,null,"Control Kits- Model Names",null,null,null,null,null,null,null,null,null,null,null,null,null,null,null,null,null,null,null,null,null,null,null,null,null,null,null,null,null,null,null,null,null,null,null,null,null,null,null,null,null,null,null,null,null,26,{"$f":"((($AX$160-$AX$159)*(AY161-AY159))/($AX$161-$AX$159))+AY159","v":1392.1999999999998},{"$f":"((($AX$160-$AX$159)*(AZ161-AZ159))/($AX$161-$AX$159))+AZ159","v":8.6999999999999994E-2},null,{"$f":"((($AX$160-$AX$159)*(BB161-BB159))/($AX$161-$AX$159))+BB159","v":551.45000000000005},{"$f":"((($AX$160-$AX$159)*(BC161-BC159))/($AX$161-$AX$159))+BC159","v":3.3000000000000002E-2},null,{"$f":"((($AX$160-$AX$159)*(BE161-BE159))/($AX$161-$AX$159))+BE159","v":424.15},{"$f":"((($AX$160-$AX$159)*(BF161-BF159))/($AX$161-$AX$159))+BF159","v":2.1999999999999999E-2},null,{"$f":"((($AX$160-$AX$159)*(BH161-BH159))/($AX$161-$AX$159))+BH159","v":234.14999999999998},{"$f":"((($AX$160-$AX$159)*(BI161-BI159))/($AX$161-$AX$159))+BI159","v":1.0999999999999999E-2},null,{"$f":"((($AX$160-$AX$159)*(BK161-BK159))/($AX$161-$AX$159))+BK159","v":164.8},{"$f":"((($AX$160-$AX$159)*(BL161-BL159))/($AX$161-$AX$159))+BL159","v":5.4999999999999997E-3}]
[8820,null,null,"Carrier","CMNA ICP-MIDEA","Daikin","EWC Controls","Fujitsu","Gree","Haier","LG Electronics","Mitsubishi Electric","Samsung Electric","Panasonic","Any IR Controlled Mini-split + Flair","Honeywell Home Brand",null,null,null,null,null,null,null,null,null,null,null,null,null,null,null,null,null,null,null,null,null,null,null,null,null,null,null,null,null,null,null,null,null,27,1410.1,8.6999999999999994E-2,null,569.4,3.3000000000000002E-2,null,442.1,2.1999999999999999E-2,null,252.1,1.0999999999999999E-2,null,182.7,1.0999999999999999E-2]
[8830,null,null,"24V Interface","24V Interface","ENVI","Ultra-Zone","Wired Remote Controller (Touch Panel)","Flair Puck + Honeywell T6 Pro Smart","IFTTT","Third Party Tstat Method L Model Series IDU","T-stat Interface + Transformer","Thermostat Adaptor","Honeywell LYRIC","Puck Pro","D6 Pro Wi-Fi Ductless Controller"]
[8840,null,null,null,null,"One+",null,"N2000",null,null,"AUX Heater Kit Highwall Multi","Kumo Station + Kumo Cloud + Outdoor Temperature Sensor",null,"Honeywell LYRIC T6"]
["BCC100",null,null,null,null,null,null,"Thermostat Converter",null,null,"Aux Heater Kit All Ducted/Cassette","Kumo Cloud + IFTT compatible Thermostat",null,"IFTTT Connect"]
["SYSTXBBECC01",null,null,null,null,null,null,"WiFi Interface Module (LMAS IDU)",null,null,"Third Party Tstat Method A Model Series IDU","CN24 Relay Kit + compatible Indoor Unit"]
["T6-WEM01-A",null,null,null,null,null,null,"WiFi Interface Module (2-Wire Indoor Units)",null,null,"A Series IDU Model - Dry Contact Built In",null,null,null,null,null,null,null,null,null,null,null,null,null,null,null,null,null,null,null,null,null,null,null,null,null,null,null,null,null,null,null,null,null,null,null,null,null,null,"Wall Insulation - HVAC: Electric Heat No AC"]
["TSTWHA01",null,null,null,null,null,null,"WiFi Interface Module (3-Wire Indoor Units)",null,null,null,null,null,null,null,null,"Robertshaw",null,null,null,null,null,null,null,null,null,null,null,null,null,null,null,null,null,null,null,null,null,null,null,null,null,null,null,null,null,null,null,null,"Base",0,null,null,11,null,null,13,null,null,17,null,null,19]
["TSTWRH01",null,null,"Control Kits- Model Number",null,null,null,"WiFi Thermostat",null,null,null,null,null,null,null,null,"9725I2",null,null,null,null,null,null,null,null,null,null,null,null,null,null,null,null,null,null,null,null,null,null,null,null,null,null,null,null,null,null,null,null,"Measure","kWh/ kSF","kW/ kSF",null,"kWh/ kSF","kW/ kSF",null,"kWh/ kSF","kW/ kSF",null,"kWh/ kSF","kW/ kSF",null,"kWh/ kSF","kW/ kSF"]
["B36-T10",null,null,"Carrier","CMNA ICP-MIDEA","Daikin","EWC Controls","Fujitsu","Gree","Haier","LG Electronics","Mitsubishi Electric","Samsung Electric","Panasonic","Any IR Controlled Mini-split + Flair","Honeywell Home Brand","9825I2",null,null,null,null,null,null,null,null,null,null,null,null,null,null,null,null,null,null,null,null,null,null,null,null,null,null,null,null,null,null,null,null,11,798.1,0]
["T6-WEM01-A",null,null,"KSAIC0301230","KSAIC0401230","DACA-TSI-1","BMPlus 3000","UTY-RNRUZ2","ICS001P + TH6320WF 2003","QAWF01A","PDRYCB300","PAC-US444CN-1","TADPT2","TH8732WFH5002/U","FLAIRPUCK001P","DC6000WF1001/U",null,null,null,null,null,null,null,null,null,null,null,null,null,null,null,null,null,null,null,null,null,null,null,null,null,null,null,null,null,null,null,null,null,12,{"$f":"(((AX170-AX171)*(AY171-AY169))/($AX$171-AX169))+AY169","v":736.35},{"$f":"(((AY170-AY171)*(AZ171-AZ169))/($AX$171-AY169))+AZ169","v":0},null,{"$f":"((($AX$170-$AX$169)*(BB171-BB169))/($AX$171-$AX$169))+BB169","v":61.8},{"$f":"((($AX$170-$AX$169)*(BC171-BC169))/($AX$171-$AX$169))+BC169","v":0},null,{"$f":"((($AX$170-$AX$169)*(BE171-BE169))/($AX$171-$AX$169))+BE169","v":0},{"$f":"((($AX$170-$AX$169)*(BF171-BF169))/($AX$171-$AX$169))+BF169","v":0},null,{"$f":"((($AX$170-$AX$169)*(BH171-BH169))/($AX$171-$AX$169))+BH169","v":0},{"$f":"((($AX$170-$AX$169)*(BI171-BI169))/($AX$171-$AX$169))+BI169","v":0},null,{"$f":"((($AX$170-$AX$169)*(BK171-BK169))/($AX$171-$AX$169))+BK169","v":0},{"$f":"((($AX$170-$AX$169)*(BL171-BL169))/($AX$171-$AX$169))+BL169","v":0}]
["TSTWHA01",null,null,null,null,"DTST-ONE-ADA-A","BMPlus 5000",8200200130,null,null,"PRARS1","PAC-WHS01HC-E",null,"TH6220WF2006",null,null,null,null,null,null,null,null,null,null,null,null,null,null,null,null,null,null,null,null,null,null,null,null,null,null,null,null,null,null,null,null,null,null,null,13,921.6,0,null,123.6,0,null,0,0,null,0,0,null,0,0]
["TSTWRH01",null,null,null,null,null,"BMPlus 7000","UTY-TTRX",null,null,"PRARH0","C7089U1006/U",null,"PICDF19",null,null,null,null,null,null,null,null,null,null,null,null,null,null,null,null,null,null,null,null,null,null,null,null,null,null,null,null,null,null,null,null,null,null,null,14,{"$f":"((($AX172-$AX$171)*(AY$175-AY$171))/($AX$175-$AX$171))+AY$171","v":966.5},0,null,{"$f":"((($AX172-$AX$171)*(BB$175-BB$171))/($AX$175-$AX$171))+BB$171","v":168.5},0,null,{"$f":"((($AX172-$AX$171)*(BE$175-BE$171))/($AX$175-$AX$171))+BE$171","v":44.9},0,null,{"$f":"((($AX172-$AX$171)*(BH$175-BH$171))/($AX$175-$AX$171))+BH$171","v":0},0,null,{"$f":"((($AX172-$AX$171)*(BK$175-BK$171))/($AX$175-$AX$171))+BK$171","v":0},0]
["SYSTXCCITC01-B",null,null,null,null,null,"UZC-4","UTY-TFSXF1",null,null,"IDU MODEL","PAC-USWHS002-WF-1",null,null,null,null,null,null,null,null,null,null,null,null,null,null,null,null,null,null,null,null,null,null,null,null,null,null,null,null,null,null,null,null,null,null,null,null,null,15,1011.4000000000001,0,null,213.39999999999998,0,null,89.8,0,null,0,0,null,0,0]
["EB-STATE3LT***","Learning",null,null,null,null,"UZC-6","UTY-TFSXZ2",null,null,"Any \"A\" Series IDU","PAC-USWHS002-WF-2",null,null,null,null,null,null,null,null,null,null,null,null,null,null,null,null,null,null,null,null,null,null,null,null,null,null,null,null,null,null,null,null,null,null,null,null,null,16,1056.3,0,null,258.29999999999995,0,null,134.69999999999999,0,null,0,0,null,0,0]
["EB-STATE4***","Learning",null,null,null,null,null,"UTY-TFNXZ2",null,null,null,"VPL24-210",null,null,null,null,null,null,null,null,null,null,null,null,null,null,null,null,null,null,null,null,null,null,null,null,null,null,null,null,null,null,null,null,null,null,null,null,null,17,1101.2,0,null,303.2,0,null,179.6,0,null,0,0,null,0,0]
["EB-STATE5***","Learning",null,null,null,null,null,"various",null,null,null,null,null,null,null,null,null,null,null,null,null,null,null,null,null,null,null,null,null,null,null,null,null,null,null,null,null,null,null,null,null,null,null,null,null,null,null,null,null,18,{"$f":"((($AX$176-$AX$175)*(AY177-AY175))/($AX$177-$AX$175))+AY175","v":1133.95},{"$f":"((($AX$176-$AX$175)*(AZ177-AZ175))/($AX$177-$AX$175))+AZ175","v":0},null,{"$f":"((($AX$176-$AX$175)*(BB177-BB175))/($AX$177-$AX$175))+BB175","v":335.9},{"$f":"((($AX$176-$AX$175)*(BC177-BC175))/($AX$177-$AX$175))+BC175","v":0},null,{"$f":"((($AX$176-$AX$175)*(BE177-BE175))/($AX$177-$AX$175))+BE175","v":212.35},{"$f":"((($AX$176-$AX$175)*(BF177-BF175))/($AX$177-$AX$175))+BF175","v":0},null,{"$f":"((($AX$176-$AX$175)*(BH177-BH175))/($AX$177-$AX$175))+BH175","v":32.75},{"$f":"((($AX$176-$AX$175)*(BI177-BI175))/($AX$177-$AX$175))+BI175","v":0},null,{"$f":"((($AX$176-$AX$175)*(BK177-BK175))/($AX$177-$AX$175))+BK175","v":0},{"$f":"((($AX$176-$AX$175)*(BL177-BL175))/($AX$177-$AX$175))+BL175","v":0}]
["YTHX9421R5085WW","Connected",null,null,null,null,null,null,null,null,null,null,null,null,null,null,null,null,null,null,null,null,null,null,null,null,null,null,null,null,null,null,null,null,null,null,null,null,null,null,null,null,null,null,null,null,null,null,null,19,1166.7,0,null,368.6,0,null,245.1,0,null,65.5,0,null,0,0]
["YTHX9421R5101WW","Connected",null,null,null,null,null,null,null,null,null,null,null,null,null,null,null,null,null,null,null,null,null,null,null,null,null,null,null,null,null,null,null,null,null,null,null,null,null,null,null,null,null,null,null,null,null,null,null,20,{"$f":"((($AX$178-$AX$177)*(AY179-AY177))/($AX$179-$AX$177))+AY177","v":1194.0999999999999},{"$f":"((($AX$178-$AX$177)*(AZ179-AZ177))/($AX$179-$AX$177))+AZ177","v":0},null,{"$f":"((($AX$178-$AX$177)*(BB179-BB177))/($AX$179-$AX$177))+BB177","v":396.05},{"$f":"((($AX$178-$AX$177)*(BC179-BC177))/($AX$179-$AX$177))+BC177","v":0},null,{"$f":"((($AX$178-$AX$177)*(BE179-BE177))/($AX$179-$AX$177))+BE177","v":272.5},{"$f":"((($AX$178-$AX$177)*(BF179-BF177))/($AX$179-$AX$177))+BF177","v":0},null,{"$f":"((($AX$178-$AX$177)*(BH179-BH177))/($AX$179-$AX$177))+BH177","v":92.9},{"$f":"((($AX$178-$AX$177)*(BI179-BI177))/($AX$179-$AX$177))+BI177","v":0},null,{"$f":"((($AX$178-$AX$177)*(BK179-BK177))/($AX$179-$AX$177))+BK177","v":27.4},{"$f":"((($AX$178-$AX$177)*(BL179-BL177))/($AX$179-$AX$177))+BL177","v":0}]
["TH8732WFH 5002","Learning",null,null,null,null,null,null,null,null,null,null,null,null,null,null,null,null,null,null,null,null,null,null,null,null,null,null,null,null,null,null,null,null,null,null,null,null,null,null,null,null,null,null,null,null,null,null,null,21,1221.5,0,null,423.5,0,null,299.89999999999998,0,null,120.3,0,null,54.8,0]
["TH6320U 2008","Learning",null,null,null,null,null,null,null,null,null,null,null,null,null,null,null,null,null,null,null,null,null,null,null,null,null,null,null,null,null,null,null,null,null,null,null,null,null,null,null,null,null,null,null,null,null,null,null,22,{"$f":"((($AX180-$AX$179)*(AY$183-AY$179))/($AX$183-$AX$179))+AY$179","v":1243.0250000000001},0,null,{"$f":"((($AX180-$AX$179)*(BB$183-BB$179))/($AX$183-$AX$179))+BB$179","v":445},0,null,{"$f":"((($AX180-$AX$179)*(BE$183-BE$179))/($AX$183-$AX$179))+BE$179","v":321.42499999999995},0,null,{"$f":"((($AX180-$AX$179)*(BH$183-BH$179))/($AX$183-$AX$179))+BH$179","v":141.82499999999999},0,null,{"$f":"((($AX180-$AX$179)*(BK$183-BK$179))/($AX$183-$AX$179))+BK$179","v":76.325000000000003},{"$f":"((($AX180-$AX$179)*(BL$183-BL$179))/($AX$183-$AX$179))+BL179","v":0}]
["TH6320WF 2003","Learning",null,null,null,null,null,null,null,null,null,null,null,null,null,null,null,null,null,null,null,null,null,null,null,null,null,null,null,null,null,null,null,null,null,null,null,null,null,null,null,null,null,null,null,null,null,null,null,23,1264.55,0,null,466.5,0,null,342.95,0,null,163.35,0,null,{"$f":"((($AX181-$AX$179)*(BK$183-BK$179))/($AX$183-$AX$179))+BK$179","v":97.85},{"$f":"((($AX181-$AX$179)*(BL$183-BL$179))/($AX$183-$AX$179))+BL180","v":0}]
["TH8320R 1003",null,null,null,null,null,null,null,null,null,null,null,null,null,null,null,null,null,null,null,null,null,null,null,null,null,null,null,null,null,null,null,null,null,null,null,null,null,null,null,null,null,null,null,null,null,null,null,null,24,1286.0749999999998,0,null,488,0,null,364.47500000000002,0,null,184.875,0,null,{"$f":"((($AX182-$AX$179)*(BK$183-BK$179))/($AX$183-$AX$179))+BK$179","v":119.375},{"$f":"((($AX182-$AX$179)*(BL$183-BL$179))/($AX$183-$AX$179))+BL181","v":0}]
["TH8321R 1001",null,null,null,null,null,null,null,null,null,null,null,null,null,null,null,null,null,null,null,null,null,null,null,null,null,null,null,null,null,null,null,null,null,null,null,null,null,null,null,null,null,null,null,null,null,null,null,null,25,1307.5999999999999,0,null,509.5,0,null,386,0,null,206.4,0,null,140.9,0]
["TH8321WF 1001","Connected",null,null,null,null,null,null,null,null,null,null,null,null,null,null,null,null,null,null,null,null,null,null,null,null,null,null,null,null,null,null,null,null,null,null,null,null,null,null,null,null,null,null,null,null,null,null,null,26,{"$f":"((($AX$184-$AX$183)*(AY185-AY183))/($AX$185-$AX$183))+AY183","v":1324.6},{"$f":"((($AX$184-$AX$183)*(AZ185-AZ183))/($AX$185-$AX$183))+AZ183","v":0},null,{"$f":"((($AX$184-$AX$183)*(BB185-BB183))/($AX$185-$AX$183))+BB183","v":526.54999999999995},{"$f":"((($AX$184-$AX$183)*(BC185-BC183))/($AX$185-$AX$183))+BC183","v":0},null,{"$f":"((($AX$184-$AX$183)*(BE185-BE183))/($AX$185-$AX$183))+BE183","v":403},{"$f":"((($AX$184-$AX$183)*(BF185-BF183))/($AX$185-$AX$183))+BF183","v":0},null,{"$f":"((($AX$184-$AX$183)*(BH185-BH183))/($AX$185-$AX$183))+BH183","v":223.4},{"$f":"((($AX$184-$AX$183)*(BI185-BI183))/($AX$185-$AX$183))+BI183","v":0},null,{"$f":"((($AX$184-$AX$183)*(BK185-BK183))/($AX$185-$AX$183))+BK183","v":157.9},{"$f":"((($AX$184-$AX$183)*(BL185-BL183))/($AX$185-$AX$183))+BL183","v":0}]
["E30",null,null,null,null,null,null,null,null,null,null,null,null,null,null,null,null,null,null,null,null,null,null,null,null,null,null,null,null,null,null,null,null,null,null,null,null,null,null,null,null,null,null,null,null,null,null,null,null,27,1341.6,0,null,543.6,0,null,420,0,null,240.4,0,null,174.9,0]
["M30"]
["S30",null,null,null,null,null,null,null,null,null,null,null,null,null,null,null,"Freeze Stat"]
["WiFi",null,null,null,null,null,null,null,null,null,null,null,null,null,null,null,"Freeze Stat"]
["PREMTVBC0"]
["PREMTBVC1",null,null,null,null,null,null,null,null,null,null,null,null,null,null,null,null,null,null,null,null,null,null,null,null,null,null,null,null,null,null,null,null,null,null,null,null,null,null,null,null,null,null,null,null,null,null,null,null,"Wall Insulation - HVAC: Gas Heat No AC"]
["T3008US","Learning",null,null,null,null,null,null,null,null,null,null,null,null,null,null,null,null,null,null,null,null,null,null,null,null,null,null,null,null,null,null,null,null,null,null,null,null,null,null,null,null,null,null,null,null,null,null,null,"Base",0,null,null,11,null,null,13,null,null,17,null,null,19]
["T3016US","Learning",null,null,null,null,null,null,null,null,null,null,null,null,null,null,null,null,null,null,null,null,null,null,null,null,null,null,null,null,null,null,null,null,null,null,null,null,null,null,null,null,null,null,null,null,null,null,null,"Measure","kWh/ kSF","kW/ kSF","therm/ kSF","kWh/ kSF","kW/ kSF","therm/ kSF","kWh/ kSF","kW/ kSF","therm/ kSF","kWh/ kSF","kW/ kSF","therm/ kSF","kWh/ kSF","kW/ kSF","therm/ kSF"]
["T3017US","Learning",null,null,null,null,null,null,null,null,null,null,null,null,null,null,null,null,null,null,null,null,null,null,null,null,null,null,null,null,null,null,null,null,null,null,null,null,null,null,null,null,null,null,null,null,null,null,null,11,17.2,0,36.700000000000003]
["T3021US","Learning",null,null,null,null,null,null,null,null,null,null,null,null,null,null,null,null,null,null,null,null,null,null,null,null,null,null,null,null,null,null,null,null,null,null,null,null,null,null,null,null,null,null,null,null,null,null,null,12,{"$f":"(((AX194-AX193)*(AY195-AY193))/($AX$195-AX193))+AY193","v":18.5},{"$f":"(((AX194-AX193)*(AZ195-AZ193))/($AX$195-AX193))+AZ193","v":0},{"$f":"(((AX194-AX193)*(BA195-BA193))/($AX$195-AX193))+BA193","v":39.549999999999997},{"$f":"(((AX194-AX193)*(BB195-BB193))/($AX$195-AX193))+BB193","v":1.3},{"$f":"(((AX194-AX193)*(BC195-BC193))/($AX$195-AX193))+BC193","v":0},{"$f":"(((AX194-AX193)*(BD195-BD193))/($AX$195-AX193))+BD193","v":2.8},{"$f":"(((AX194-AX193)*(BE195-BE193))/($AX$195-AX193))+BE193","v":0},{"$f":"(((AX194-AX193)*(BF195-BF193))/($AX$195-AX193))+BF193","v":0},{"$f":"(((AX194-AX193)*(BG195-BG193))/($AX$195-AX193))+BG193","v":0},{"$f":"(((AX194-AX193)*(BH195-BH193))/($AX$195-AX193))+BH193","v":0},{"$f":"(((AX194-AX193)*(BI195-BI193))/($AX$195-AX193))+BI193","v":0},{"$f":"(((AX194-AX193)*(BJ195-BJ193))/($AX$195-AX193))+BJ193","v":0},{"$f":"(((AX194-AX193)*(BK195-BK193))/($AX$195-AX193))+BK193","v":0},{"$f":"(((AX194-AX193)*(BL195-BL193))/($AX$195-AX193))+BL193","v":0},{"$f":"(((AX194-AX193)*(BM195-BM193))/($AX$195-AX193))+BM193","v":0}]
["ACONT824AS52D*",null,null,null,null,null,null,null,null,null,null,null,null,null,null,null,"Freeze Stat",null,null,null,null,null,null,null,null,null,null,null,null,null,null,null,null,null,null,null,null,null,null,null,null,null,null,null,null,null,null,null,null,13,19.8,0,42.4,2.6,0,5.6,0,0,0,0,0,0,0,0,0]
[null,null,null,null,null,null,null,null,null,null,null,null,null,null,null,null,"Freeze Stat",null,null,null,null,null,null,null,null,null,null,null,null,null,null,null,null,null,null,null,null,null,null,null,null,null,null,null,null,null,null,null,null,14,{"$f":"((($AX196-$AX$195)*(AY$199-AY$195))/($AX$199-$AX$195))+AY$195","v":20.774999999999999},0,44.45,3.5750000000000002,0,7.6749999999999998,0.97499999999999998,0,2.0499999999999998,0,0,0,0,0,0]
[null,null,null,null,null,null,null,null,null,null,null,null,null,null,null,null,null,null,null,null,null,null,null,null,null,null,null,null,null,null,null,null,null,null,null,null,null,null,null,null,null,null,null,null,null,null,null,null,null,15,21.75,0,46.5,4.55,0,9.75,1.95,0,4.0999999999999996,0,0,0,0,0,0]
[null,null,null,null,null,null,null,null,null,null,null,null,null,null,null,null,null,null,null,null,null,null,null,null,null,null,null,null,null,null,null,null,null,null,null,null,null,null,null,null,null,null,null,null,null,null,null,null,null,16,22.725000000000001,0,48.55,5.5250000000000004,0,11.824999999999999,2.9249999999999998,0,6.1499999999999995,0,0,0,0,0,0]
[null,null,null,null,null,null,null,null,null,null,null,null,null,null,null,null,null,null,null,null,null,null,null,null,null,null,null,null,null,null,null,null,null,null,null,null,null,null,null,null,null,null,null,null,null,null,null,null,null,17,23.7,0,50.6,6.5,0,13.9,3.9,0,8.1999999999999993,0,0,0,0,0,0]
[null,null,null,null,null,null,null,null,null,null,null,null,null,null,null,null,null,null,null,null,null,null,null,null,null,null,null,null,null,null,null,null,null,null,null,null,null,null,null,null,null,null,null,null,null,null,null,null,null,18,{"$f":"((($AX$200-$AX$199)*(AY201-AY199))/($AX$201-$AX$199))+AY199","v":24.4},0,37.200000000000003,7.2,0,15.45,4.5999999999999996,0,9.8000000000000007,0.7,0,1.55,0,0,0]
[null,null,null,null,null,null,null,null,null,null,null,null,null,null,null,null,null,null,null,null,null,null,null,null,null,null,null,null,null,null,null,null,null,null,null,null,null,null,null,null,null,null,null,null,null,null,null,null,null,19,25.1,0,23.8,7.9,0,17,5.3,0,11.4,1.4,0,3.1,0,0,0]
["Existing Water Heaters",null,"Proposed Water Heaters",null,"Project Type - Watr Heating",null,null,"Project Type - Tune Up",null,"Tune-Up Type",null,"Product ","Measure Code","Product Name","Product Class","EER","Summer kW saved","EE kWh saved","Winter kW saved","BE kWh saved","MMBTU EE","MMBTU BE","Coincidence Factor","EE CO2","BE CO2","Free Ridership","Spillover","Line Loss kW Summer","Line Loss Energy","HVAC Interactivity Factor Demand","HVAC Interactivity Factor Energy","In Service Rate","Rebate","Incentive",null,null,null,null,null,null,null,null,null,null,null,null,null,null,null,20,{"$f":"((($AX$202-$AX$201)*(AY204-AY201))/($AX$204-$AX$201))+AY201","v":25.700000000000003},0,40.049999999999997,8.5,0,18.25,5.9,0,12.65,2,0,4.3499999999999996,0.6,0,1.25]
["Select…",null,"Select…",null,"Select…",null,null,"Select…",null,"Select…",null,"Heat Pump Water Heater","CH600","Heat Pump Water Heater < 55 Gallons","Heat Pump Water Heaters",null,{"$f":"B225","v":0.17},{"$f":"B224","v":383.29943609652207},{"$f":"B229","v":-0.11764000000000001},{"$f":"B228","v":857.6430246189916},{"$f":"B227","v":1.3078176759613334},{"$f":"B230","v":5.0268622053842282},1,{"$f":"G248","v":458.50278545865967},{"$f":"G249","v":130.62295656049059},0,0,7.1900000000000006E-2,5.67E-2,null,null,1,600,100]
["Gas Storage Water Heater",null,"Tankless Water Heater < 12 kW",null,"Yes",null,null,"Yes",null,"Central Air Conditioner",null,"Heat Pump Water Heater","CH610","Heat Pump Water Heater > 55 Gallons","Heat Pump Water Heaters",null,{"$f":"E225","v":0.17},{"$f":"E224","v":397.76946600367899},{"$f":"E229","v":-0.11764000000000001},{"$f":"E228","v":910.74785586474979},{"$f":"E227","v":1.3571894180045527},{"$f":"E230","v":5.3681304566295172},1,{"$f":"H248","v":475.81183523360079},{"$f":"H249","v":141.7091205857173},0,0,7.1900000000000006E-2,5.67E-2,null,null,1,600,100,null,null,null,null,null,null,null,null,null,null,null,null,null,null,null,21,26.3,0,56.3,9.1,0,19.5,6.5,0,13.9,2.6,0,5.6,1.2,0,2.5]
["Oil Storage Water Heater",null,"Tankless Water Heater ≥ 12 kW",null,"Not Applicable",null,null,"Not Applicable",null,"Air Source Heat Pump",null,"Tankless Water Heater < 12 kW","CH650","Tankless Water Heater < 12 kW","Tankless Water Heaters",null,5.6439038686987089E-2,30.216138477207217,-0.11764000000000001,2761.6105392731533,0.10309746448423103,25.335354875319659,1,36.144544846435274,-1019.3960008432091,0,0,7.1900000000000006E-2,5.67E-2,null,null,1,100,60,null,null,null,null,null,null,null,null,null,null,null,null,null,null,null,22,{"$f":"((($AX205-$AX$204)*(AY$208-AY$204))/($AX$208-$AX$204))+AY$204","v":26.8},0,57.3,9.6,0,20.5,7,0,14.9,3.1,0,6.6,1.675,0,3.5]
["Propane Storage Water Heater",null,"Heat Pump Water Heater < 55 Gallons",null,null,null,null,null,null,null,null,"Tankless Water Heater ≥ 12 kW","CH655","Tankless Water Heater ≥ 12 kW","Tankless Water Heaters",null,{"$f":"B277","v":5.6439038686987089E-2},{"$f":"B276","v":30.216138477207217},{"$f":"B281","v":-0.11764000000000001},{"$f":"B280","v":2761.6105392731533},{"$f":"B279","v":0.10309746448423103},{"$f":"B282","v":25.335354875319659},1,{"$f":"B302","v":36.144544846435274},{"$f":"B303","v":-1019.3960008432091},0,0,7.1900000000000006E-2,5.67E-2,null,null,1,300,100,null,null,null,null,null,null,null,null,null,null,null,null,null,null,null,23,27.3,0,58.3,10.1,0,21.5,7.5,0,15.899999999999999,3.5999999999999996,0,7.6,2.15,0,4.5]
["Electric Storage Water Heater",null,"Heat Pump Water Heater > 55 Gallons",null,null,null,null,null,null,null,null,"Central Air Conditioner","CH500","Tune Up","Tune Up",null,null,null,null,null,null,1,null,null,null,0,0,7.1900000000000006E-2,5.67E-2,null,null,1,40,0,null,null,null,null,null,null,null,null,null,null,null,null,null,null,null,24,27.8,0,59.3,10.6,0,22.5,8,0,16.899999999999999,4.0999999999999996,0,8.6,2.625,0,5.5]
["Gas Tankless Water Heater",null,null,null,null,null,null,null,null,null,null,"Air Source Heat Pump","CH510","Tune Up","Tune Up",null,null,null,null,null,null,1,null,null,null,0,0,7.1900000000000006E-2,5.67E-2,null,null,1,50,0,null,null,null,null,null,null,null,null,null,null,null,null,null,null,null,25,28.3,0,60.3,11.1,0,23.5,8.5,0,17.899999999999999,4.5999999999999996,0,9.6,3.1,0,6.5]
["Electric Tankless Water Heater",null,null,null,null,null,null,null,null,null,null,null,null,null,null,null,null,null,null,null,null,null,null,null,null,null,null,null,null,null,null,null,null,null,null,null,null,null,null,null,null,null,null,null,null,null,null,null,null,26,{"$f":"((($AX$209-$AX$208)*(AY210-AY208))/($AX$210-$AX$208))+AY208","v":28.65},0,61.05,11.45,0,24.25,8.85,0,18.649999999999999,4.9499999999999993,0,10.399999999999999,3.5,0,7.25]
["Heat Pump Water Heater",null,null,null,null,null,null,null,null,null,null,null,null,null,null,null,null,null,null,null,null,null,null,null,null,null,null,null,null,null,null,null,null,null,null,null,null,null,null,null,null,null,null,null,null,null,null,null,null,27,29,0,61.8,11.8,0,25,9.1999999999999993,0,19.399999999999999,5.3,0,11.2,3.9,0,8]
["None"]
[]
[]
[]
[]
[null,null,null,null,null,null,null,null,null,null,null,null,null,null,null,null,null,null,null,null,null,null,null,null,null,null,null,null,null,null,null,null,null,null,null,null,null,null,null,null,null,null,null,null,null,null,null,null,null,"Ceiling Insulation - HVAC: AC with Gas Heat"]
[null,null,null,null,null,null,null,null,null,null,null,null,null,null,null,null,null,null,null,null,null,null,null,null,null,null,null,null,null,null,null,null,null,null,null,null,null,null,null,null,null,null,null,null,null,null,null,null,null,"Base",0,null,null,11,null,null,19,null,null,30,null,null,38]
[null,null,null,null,null,null,null,null,null,null,null,null,null,null,null,null,null,null,null,null,null,null,null,null,null,null,null,null,null,null,null,null,null,null,null,null,null,null,null,null,null,null,null,null,null,null,null,null,null,"Measure","kWh/ kSF","kW/ kSF","therm/ kSF","kWh/ kSF","kW/ kSF","therm/ kSF","kWh/ kSF","kW/ kSF","therm/ kSF","kWh/ kSF","kW/ kSF","therm/ kSF","kWh/ kSF","kW/ kSF","therm/ kSF"]
[null,null,null,null,null,null,null,null,null,null,null,null,null,null,null,null,null,null,null,null,null,null,null,null,null,null,null,null,null,null,null,null,null,null,null,null,null,null,null,null,null,null,null,null,null,null,null,null,null,11,415.2,0.307,224.4,0,0,0,0,0,0,0,0,0,0,0,0]
[null,null,null,null,null,null,null,null,null,null,null,null,null,null,null,null,null,null,null,null,null,null,null,null,null,null,null,null,null,null,null,null,null,null,null,null,null,null,null,null,null,null,null,null,null,null,null,null,null,12,{"$f":"((($AX220-$AX$219)*(AY$227-AY$219))/($AX$227-$AX$219))+AY$219","v":421.91249999999997},0.3155,227.9,6.7249999999999996,8.5000000000000006E-3,3.5,0,0,0,0,0,0,0,0,0]
[null,null,null,null,null,null,null,null,null,null,null,null,null,null,null,null,null,null,null,null,null,null,null,null,null,null,null,null,null,null,null,null,null,null,null,null,null,null,null,null,null,null,null,null,null,null,null,null,null,13,428.625,0.32400000000000001,231.4,13.45,1.7000000000000001E-2,7,0,0,0,0,0,0,0,0,0]
["HPWH < 55 gallons",null,null,"HPWH > 55 gallons",null,null,null,null,null,null,null,null,null,null,null,null,null,null,null,null,null,null,null,null,null,null,null,null,null,null,null,null,null,null,null,null,null,null,null,null,null,null,null,null,null,null,null,null,null,14,435.33749999999998,0.33250000000000002,234.9,20.174999999999997,2.5500000000000002E-2,10.5,0,0,0,0,0,0,0,0,0]
["Units/Measure",1,null,"Units/Measure",1,null,null,null,null,null,null,null,null,null,null,null,null,null,null,null,null,null,null,null,null,null,null,null,null,null,null,null,null,null,null,null,null,null,null,null,null,null,null,null,null,null,null,null,null,15,442.04999999999995,0.34099999999999997,238.4,26.9,3.4000000000000002E-2,14,0,0,0,0,0,0,0,0,0]
["Gross_EE kWh/Unit",383.29943609652207,null,"Gross_EE kWh/Unit",397.76946600367899,null,null,null,null,null,null,null,null,null,null,null,null,null,null,null,null,null,null,null,null,null,null,null,null,null,null,null,null,null,null,null,null,null,null,null,null,null,null,null,null,null,null,null,null,16,448.76249999999999,0.34949999999999998,241.9,33.625,4.2500000000000003E-2,17.5,0,0,0,0,0,0,0,0,0]
["Summer Peak kW/Unit",0.17,null,"Summer Peak kW/Unit",0.17,null,null,null,null,null,null,null,null,null,null,null,null,null,null,null,null,null,null,null,null,null,null,null,null,null,null,null,null,null,null,null,null,null,null,null,null,null,null,null,null,null,null,null,null,17,455.47499999999997,0.35799999999999998,245.4,40.349999999999994,5.1000000000000004E-2,21,0,0,0,0,0,0,0,0,0]
["therm/Unit",0,null,"therm/Unit",0,null,null,null,null,null,null,null,null,null,null,null,null,null,null,null,null,null,null,null,null,null,null,null,null,null,null,null,null,null,null,null,null,null,null,null,null,null,null,null,null,null,null,null,null,18,462.1875,0.36649999999999999,248.9,47.074999999999996,5.9500000000000004E-2,24.5,0,0,0,0,0,0,0,0,0]
["MMBTU/Unit_EE",1.3078176759613334,null,"MMBTU/Unit_EE",1.3571894180045527,null,null,null,null,null,null,null,null,null,null,null,null,null,null,null,null,null,null,null,null,null,null,null,null,null,null,null,null,null,null,null,null,null,null,null,null,null,null,null,null,null,null,null,null,19,468.9,0.375,252.4,53.8,6.8000000000000005E-2,28,0,0,0,0,0,0,0,0,0]
["Gross_BE kWh/Unit",857.6430246189916,null,"Gross_BE kWh/Unit",910.74785586474979,null,null,null,null,null,null,null,null,null,null,null,null,null,null,null,null,null,null,null,null,null,null,null,null,null,null,null,null,null,null,null,null,null,null,null,null,null,null,null,null,null,null,null,null,20,{"$f":"((($AX228-$AX$227)*(AY$238-AY$227))/($AX$238-$AX$227))+AY$227","v":471.5272727272727},0.37654545454545457,253.87272727272727,56.418181818181814,6.9545454545454549E-2,29.472727272727273,2.6181818181818182,1.5454545454545456E-3,1.4727272727272727,0,0,0,0,0,0]
["Gross_Winter kW/Unit",-0.11764000000000001,null,"Gross_Winter kW/Unit",-0.11764000000000001,null,null,null,null,null,null,null,null,null,null,null,null,null,null,null,null,null,null,null,null,null,null,null,null,null,null,null,null,null,null,null,null,null,null,null,null,null,null,null,null,null,null,null,null,21,474.15454545454543,0.37809090909090909,255.34545454545454,59.036363636363632,7.1090909090909093E-2,30.945454545454545,5.2363636363636363,3.0909090909090912E-3,2.9454545454545453,0,0,0,0,0,0]
["MMBTU/Unit_BE",5.0268622053842282,null,"MMBTU/Unit_BE",5.3681304566295172,null,null,null,null,null,null,null,null,null,null,null,null,null,null,null,null,null,null,null,null,null,null,null,null,null,null,null,null,null,null,null,null,null,null,null,null,null,null,null,null,null,null,null,null,22,476.78181818181815,0.37963636363636366,256.81818181818181,61.654545454545449,7.2636363636363638E-2,32.418181818181822,7.8545454545454554,4.6363636363636364E-3,4.418181818181818,0,0,0,0,0,0]
["Lifetime",10,null,"Lifetime",10,null,null,null,null,null,null,null,null,null,null,null,null,null,null,null,null,null,null,null,null,null,null,null,null,null,null,null,null,null,null,null,null,null,null,null,null,null,null,null,null,null,null,null,null,23,479.40909090909088,0.38118181818181818,258.29090909090911,64.272727272727266,7.4181818181818182E-2,33.890909090909091,10.472727272727273,6.1818181818181824E-3,5.8909090909090907,0,0,0,0,0,0]
["UEFbase: Baseline Uniform Energy Factor",0.91,null,"UEFbase: Baseline Uniform Energy Factor",0.87,"UEFbase = 0.9307 - (0.0002 * Volume) for <= 50 gallons",null,null,null,null,null,null,null,null,null,null,null,null,null,null,null,null,null,null,null,null,null,null,null,null,null,null,null,null,null,null,null,null,null,null,null,null,null,null,null,null,null,null,null,24,482.0363636363636,0.38272727272727275,259.76363636363635,66.890909090909091,7.5727272727272726E-2,35.363636363636367,13.090909090909092,7.7272727272727276E-3,7.3636363636363633,0,0,0,0,0,0]
["UEFcode: Code Uniform Energy Factor",0.92,null,"UEFcode: Code Uniform Energy Factor",2.16,null,null,null,null,null,null,null,null,null,null,null,null,null,null,null,null,null,null,null,null,null,null,null,null,null,null,null,null,null,null,null,null,null,null,null,null,null,null,null,null,null,null,null,null,25,484.66363636363639,0.38427272727272727,261.23636363636365,69.509090909090901,7.7272727272727271E-2,36.836363636363636,15.709090909090911,9.2727272727272728E-3,8.836363636363636,0,0,0,0,0,0]
["UEFee: Efficient Uniform Energy Factor",3.43,null,"UEFee: Efficient Uniform Energy Factor",3.23,null,0.92069999999999996,null,null,null,null,null,null,null,null,null,null,null,null,null,null,null,null,null,null,null,null,null,null,null,null,null,null,null,null,null,null,null,null,null,null,null,null,null,null,null,null,null,null,26,487.29090909090911,0.38581818181818184,262.70909090909095,72.127272727272725,7.8818181818181829E-2,38.309090909090912,18.327272727272728,1.0818181818181819E-2,10.309090909090909,0,0,0,0,0,0]
["Avg Storage Capacity - Tank Size (gallons)",50,null,"Avg Storage Capacity - Tank Size (gallons)",80,"UEFee = 2.2418 - (0.0011 * Volume) for >= 50 gallons",null,null,null,null,null,null,null,null,null,null,null,null,null,null,null,null,null,null,null,null,null,null,null,null,null,null,null,null,null,null,null,null,null,null,null,null,null,null,null,null,null,null,null,27,489.91818181818184,0.38736363636363635,264.18181818181819,74.745454545454535,8.0363636363636373E-2,39.781818181818181,20.945454545454545,1.2363636363636365E-2,11.781818181818181,0,0,0,0,0,0]
["Days/Year",365,null,"Days/Year",365,null,2.1537999999999999,null,null,null,null,null,null,null,null,null,null,null,null,null,null,null,null,null,null,null,null,null,null,null,null,null,null,null,null,null,null,null,null,null,null,null,null,null,null,null,null,null,null,28,492.54545454545456,0.38890909090909093,265.65454545454548,77.36363636363636,8.1909090909090917E-2,41.254545454545458,23.563636363636363,1.3909090909090911E-2,13.254545454545452,0,0,0,0,0,0]
["Gallons/Day (GPD)",46,null,"Gallons/Day (GPD)",46,"kWhCooling = ((GPD * 365 * 8.33 * (Setpoint-Inlet)/3412) * (1-(1/UEFee)) * FL * Fcool*/3.412/SEER))",null,null,null,null,null,null,null,null,null,null,null,null,null,null,null,null,null,null,null,null,null,null,null,null,null,null,null,null,null,null,null,null,null,null,null,null,null,null,null,null,null,null,null,29,495.17272727272729,0.39045454545454544,267.12727272727273,79.981818181818184,8.3454545454545462E-2,42.727272727272734,26.181818181818183,1.5454545454545455E-2,14.727272727272727,0,0,0,0,0,0]
["FD: Derate Factor",0.92,null,"FD: Derate Factor",0.92,null,13.122276370747759,null,null,null,null,null,null,null,null,null,null,null,null,null,null,null,null,null,null,null,null,null,null,null,null,null,null,null,null,null,null,null,null,null,null,null,null,null,null,null,null,null,null,30,497.8,0.39200000000000002,268.60000000000002,82.6,8.5000000000000006E-2,44.2,28.8,1.7000000000000001E-2,16.2,0,0,0,0,0,0]
["FEH: Electric Heating Factor",-7.0000000000000007E-2,null,"FEH: Electric Heating Factor",-7.0000000000000007E-2,"kWhHeating = ((GPD * 365 * 8.33 * (Setpoint_Inlet)/3412) * (1-(1/UEFee)) * FL * (Fheat/3.412/HSPF))",null,null,null,null,null,null,null,null,null,null,null,null,null,null,null,null,null,null,null,null,null,null,null,null,null,null,null,null,null,null,null,null,null,null,null,null,null,null,null,null,null,null,null,31,{"$f":"((($AX239-$AX$238)*(AY$246-AY$238))/($AX$246-$AX$238))+AY$238","v":499.125},0.39424999999999999,269.41250000000002,83.924999999999997,8.7125000000000008E-2,45.012500000000003,30.125,1.9125000000000003E-2,17.012499999999999,1.325,2.1250000000000002E-3,0.8125,0,0,0]
["FL: Location Factor",0.5,null,"FL: Location Factor",0.5,null,29.372724886381061,null,null,null,null,null,null,null,null,null,null,null,null,null,null,null,null,null,null,null,null,null,null,null,null,null,null,null,null,null,null,null,null,null,null,null,null,null,null,null,null,null,null,32,500.45,0.39650000000000002,270.22500000000002,85.25,8.9249999999999996E-2,45.825000000000003,31.45,2.1250000000000002E-2,17.824999999999999,2.65,4.2500000000000003E-3,1.625,0,0,0]
["FCool: Cooling Factor",0.51,null,"FCool: Cooling Factor",0.51,"MTC",10993051.02,10993051.02,null,null,null,null,null,null,null,null,null,null,null,null,null,null,null,null,null,null,null,null,null,null,null,null,null,null,null,null,null,null,null,null,null,null,null,null,null,null,null,null,null,33,501.77499999999998,0.39874999999999999,271.03750000000002,86.575000000000003,9.1374999999999998E-2,46.637500000000003,32.774999999999999,2.3375E-2,18.637499999999999,3.9749999999999996,6.3750000000000005E-3,2.4375,0,0,0]
["FAC: Air Conditioning Factor",0.95,null,"FAC: Air Conditioning Factor",0.95,"kWhWHe",2519.5227316645833,2619.0855143477802,null,null,null,null,null,null,null,null,null,null,null,null,null,null,null,null,null,null,null,null,null,null,null,null,null,null,null,null,null,null,null,null,null,null,null,null,null,null,null,null,null,34,503.1,0.40100000000000002,271.85000000000002,87.9,9.35E-2,47.45,34.1,2.5500000000000002E-2,19.45,5.3,8.5000000000000006E-3,3.25,0,0,0]
["FHeat: Heating Factor",0.49,null,"FHeat: Heating Factor",0.49,"kWhWHff",2481.0387497906545,407.38699284602654,null,null,null,null,null,null,null,null,null,null,null,null,null,null,null,null,null,null,null,null,null,null,null,null,null,null,null,null,null,null,null,null,null,null,null,null,null,null,null,null,null,35,504.42500000000001,0.40325,272.66250000000002,89.224999999999994,9.5625000000000002E-2,48.262500000000003,35.424999999999997,2.7625000000000004E-2,20.262499999999999,6.625,1.0625000000000001E-2,4.0625,0,0,0]
["SEER",13,null,"SEER",13,"kWhC ",13.122276370747759,12.787904003390606,null,null,null,null,null,null,null,null,null,null,null,null,null,null,null,null,null,null,null,null,null,null,null,null,null,null,null,null,null,null,null,null,null,null,null,null,null,null,null,null,null,36,505.75,0.40549999999999997,273.47500000000002,90.55,9.7750000000000004E-2,49.075000000000003,36.75,2.9750000000000002E-2,21.074999999999999,7.9499999999999993,1.2750000000000001E-2,4.875,0,0,0]
["HSPF",5.58,null,"HSPF",5.58,"kWhH ",29.372724886381061,28.624270328764556,null,null,null,null,null,null,null,null,null,null,null,null,null,null,null,null,null,null,null,null,null,null,null,null,null,null,null,null,null,null,null,null,null,null,null,null,null,null,null,null,null,37,507.07499999999999,0.40775,274.28750000000002,91.875,9.9874999999999992E-2,49.887500000000003,38.075000000000003,3.1875000000000001E-2,21.887499999999999,9.2750000000000004,1.4875000000000001E-2,5.6875,0,0,0]
["Standby Hours/Year",6570,null,"Standby Hours/Year",6570,null,null,null,null,null,null,null,null,null,null,null,null,null,null,null,null,null,null,null,null,null,null,null,null,null,null,null,null,null,null,null,null,null,null,null,null,null,null,null,null,null,null,null,null,38,508.4,0.41,275.10000000000002,93.2,0.10199999999999999,50.7,39.4,3.4000000000000002E-2,22.7,10.6,1.7000000000000001E-2,6.5,0,0,0]
["Btu/gal-°F",8.33,null,"Btu/gal-°F",8.33,null,null,null,null,null,null,null,null,null,null,null,null,null,null,null,null,null,null,null,null,null,null,null,null,null,null,null,null,null,null,null,null,null,null,null,null,null,null,null,null,null,null,null,null,39,{"$f":"((($AX247-$AX$246)*(AY$257-AY$246))/($AX$257-$AX$246))+AY$246","v":509.0181818181818},0.41,275.59090909090912,93.818181818181827,0.10199999999999999,51.190909090909095,40.018181818181816,3.4000000000000002E-2,23.2,11.218181818181817,1.7000000000000001E-2,6.9909090909090912,0.61818181818181817,0,0.5]
["TI: Inlet Temp (Tank-In Temperature)",61.4,null,"TI: Inlet Temp (Tank-In Temperature)",61.4,null,{"$f":"B224*$A$12","v":458.50278545865967},{"$f":"E224*$A$12","v":475.81183523360079},null,null,null,null,null,null,null,null,null,null,null,null,null,null,null,null,null,null,null,null,null,null,null,null,null,null,null,null,null,null,null,null,null,null,null,null,null,null,null,null,null,40,509.63636363636363,0.41,276.08181818181822,94.436363636363637,0.10199999999999999,51.681818181818187,40.636363636363633,3.4000000000000002E-2,23.7,11.836363636363636,1.7000000000000001E-2,7.4818181818181824,1.2363636363636363,0,1]
["THW: Hot Water Temp (Tank Setpoint)",140,null,"THW: Hot Water Temp (Tank Setpoint)",140,null,{"$f":"(G241/1000000*((1/B232*(B264*$O$20*$D$4+B265*$O$21*D4+B266*$O$23*$D$4))+((1-(1/B234))*B240*B243*(B254*$O$20*$D$4+B255*$O$21*$D$4+B256*$O$23*$D$4)/B251)))-(B228*$A$12)","v":130.62295656049059},{"$f":"(H241/1000000*((1/E232*(E264*$O$20*$D$4+E265*$O$21*$D$4+E266*$O$23*$D$4))+((1-(1/E234))*E240*E243*(E254*$O$20*$D$4+E255*$O$21*$D$4+E256*$O$23*$D$4)/E251)))-(E228*A12)","v":141.7091205857173},null,null,null,null,null,null,null,null,null,null,null,null,null,null,null,null,null,null,null,null,null,null,null,null,null,null,null,null,null,null,null,null,null,null,null,null,null,null,null,null,null,41,510.25454545454545,0.41,276.57272727272726,95.054545454545462,0.10199999999999999,52.172727272727272,41.254545454545458,3.4000000000000002E-2,24.2,12.454545454545453,1.7000000000000001E-2,7.9727272727272727,1.8545454545454545,0,1.5]
["Btu/kW",3412,null,"Btu/kW",3412,null,null,null,null,null,null,null,null,null,null,null,null,null,null,null,null,null,null,null,null,null,null,null,null,null,null,null,null,null,null,null,null,null,null,null,null,null,null,null,null,null,null,null,null,42,510.87272727272727,0.41,277.06363636363636,95.672727272727272,0.10199999999999999,52.663636363636364,41.872727272727275,3.4000000000000002E-2,24.7,13.072727272727272,1.7000000000000001E-2,8.4636363636363647,2.4727272727272727,0,2]
["AFEff",0.8,null,"AFEff",0.8,null,null,null,null,null,null,null,null,null,null,null,null,null,null,null,null,null,null,null,null,null,null,null,null,null,null,null,null,null,null,null,null,null,null,null,null,null,null,null,null,null,null,null,null,43,511.4909090909091,0.41,277.55454545454546,96.290909090909096,0.10199999999999999,53.154545454545456,42.490909090909092,3.4000000000000002E-2,25.2,13.69090909090909,1.7000000000000001E-2,8.954545454545455,3.0909090909090908,0,2.5]
["FWH,E: Electric water heating factor",0.14799999999999999,null,"FWH,E: Electric water heating factor",0.14799999999999999,null,null,null,null,null,null,null,null,null,null,null,null,null,null,null,null,null,null,null,null,null,null,null,null,null,null,null,null,null,null,null,null,null,null,null,null,null,null,null,null,null,null,null,null,44,512.10909090909092,0.41,278.04545454545456,96.909090909090907,0.10199999999999999,53.645454545454548,43.109090909090909,3.4000000000000002E-2,25.7,14.309090909090909,1.7000000000000001E-2,9.4454545454545453,3.709090909090909,0,3]
["FWH,FF: Fossil fuel water heating factor",0.84,null,"FWH,FF: Fossil fuel water heating factor",0.84,null,null,null,null,null,null,null,null,null,null,null,null,null,null,null,null,null,null,null,null,null,null,null,null,null,null,null,null,null,null,null,null,null,null,null,null,null,null,null,null,null,null,null,null,45,512.72727272727275,0.41,278.53636363636366,97.527272727272731,0.10199999999999999,54.13636363636364,43.727272727272727,3.4000000000000002E-2,26.2,14.927272727272726,1.7000000000000001E-2,9.9363636363636374,4.3272727272727272,0,3.5]
["FGH: Natural gas heating factor",-0.52,null,"FGH: Natural gas heating factor",-0.52,null,null,null,null,null,null,null,null,null,null,null,null,null,null,null,null,null,null,null,null,null,null,null,null,null,null,null,null,null,null,null,null,null,null,null,null,null,null,null,null,null,null,null,null,46,513.34545454545457,0.41,279.02727272727276,98.145454545454541,0.10199999999999999,54.627272727272732,44.345454545454544,3.4000000000000002E-2,26.7,15.545454545454543,1.7000000000000001E-2,10.427272727272728,4.9454545454545453,0,4]
["FOH: Fuel oil heating factor",-0.39,null,"FOH: Fuel oil heating factor",-0.39,null,null,null,null,null,null,null,null,null,null,null,null,null,null,null,null,null,null,null,null,null,null,null,null,null,null,null,null,null,null,null,null,null,null,null,null,null,null,null,null,null,null,null,null,47,513.9636363636364,0.41,279.5181818181818,98.763636363636365,0.10199999999999999,55.118181818181817,44.963636363636368,3.4000000000000002E-2,27.2,16.163636363636364,1.7000000000000001E-2,10.918181818181818,5.5636363636363635,0,4.5]
["FPH: Propane heating factor",-0.01,null,"FPH: Propane heating factor",-0.01,null,null,null,null,null,null,null,null,null,null,null,null,null,null,null,null,null,null,null,null,null,null,null,null,null,null,null,null,null,null,null,null,null,null,null,null,null,null,null,null,null,null,null,null,48,514.58181818181822,0.41,280.0090909090909,99.381818181818176,0.10199999999999999,55.609090909090909,45.581818181818186,3.4000000000000002E-2,27.7,16.781818181818181,1.7000000000000001E-2,11.40909090909091,6.1818181818181817,0,5]
["kWh Cooling",13.12227637,null,"kWh Heating",29.382724889999999,null,null,null,null,null,null,null,null,null,null,null,null,null,null,null,null,null,null,null,null,null,null,null,null,null,null,null,null,null,null,null,null,null,null,null,null,null,null,null,null,null,null,null,null,49,515.20000000000005,0.41,280.5,100,0.10199999999999999,56.1,46.2,3.4000000000000002E-2,28.2,17.399999999999999,1.7000000000000001E-2,11.9,6.8,0,5.5]
["MTC",10993051.02,null,"MTC",10993051.02,null,null,null,null,null,null,null,null,null,null,null,null,null,null,null,null,null,null,null,null,null,null,null,null,null,null,null,null,null,null,null,null,null,null,null,null,null,null,null,null,null,null,null,null,50,{"$f":"((($AX258-$AX$257)*(AY$268-AY$257))/($AX$268-$AX$257))+AY$257","v":515.80000000000007},0.41154545454545455,280.82727272727271,100.60909090909091,0.10354545454545454,56.427272727272729,46.809090909090912,3.5545454545454547E-2,28.518181818181816,18.009090909090908,1.8545454545454546E-2,12.227272727272728,7.4090909090909092,1.5454545454545456E-3,5.8181818181818183]
["kWhWHe",2519.5227316645833,null,"kWhWHe",2619.0855143477802,null,null,null,null,null,null,null,null,null,null,null,null,null,null,null,null,null,null,null,null,null,null,null,null,null,null,null,null,null,null,null,null,null,null,null,null,null,null,null,null,null,null,null,null,51,516.4,0.41309090909090906,281.15454545454548,101.21818181818182,0.10509090909090908,56.754545454545458,47.418181818181822,3.7090909090909091E-2,28.836363636363636,18.618181818181817,2.0090909090909093E-2,12.554545454545455,8.0181818181818176,3.0909090909090912E-3,6.1363636363636367]
["kWhWHff",2481.0387497906545,null,"kWhWHff",407.38699284602654,null,null,null,null,null,null,null,null,null,null,null,null,null,null,null,null,null,null,null,null,null,null,null,null,null,null,null,null,null,null,null,null,null,null,null,null,null,null,null,null,null,null,null,null,52,517,0.41463636363636364,281.4818181818182,101.82727272727273,0.10663636363636363,57.081818181818186,48.027272727272731,3.8636363636363635E-2,29.154545454545453,19.227272727272727,2.1636363636363638E-2,12.881818181818183,8.627272727272727,4.6363636363636364E-3,6.454545454545455]
["kWhC ",13.122276370747759,null,"kWhC ",12.787904003390606,null,null,null,null,null,null,null,null,null,null,null,null,null,null,null,null,null,null,null,null,null,null,null,null,null,null,null,null,null,null,null,null,null,null,null,null,null,null,null,null,null,null,null,null,53,517.6,0.41618181818181815,281.80909090909091,102.43636363636364,0.10818181818181817,57.409090909090914,48.63636363636364,4.018181818181818E-2,29.472727272727273,19.836363636363636,2.3181818181818185E-2,13.209090909090909,9.2363636363636363,6.1818181818181824E-3,6.7727272727272725]
["kWhH ",29.372724886381061,null,"kWhH ",28.624270328764556,null,null,null,null,null,null,null,null,null,null,null,null,null,null,null,null,null,null,null,null,null,null,null,null,null,null,null,null,null,null,null,null,null,null,null,null,null,null,null,null,null,null,null,null,54,518.20000000000005,0.41772727272727272,282.13636363636363,103.04545454545455,0.10972727272727271,57.736363636363642,49.24545454545455,4.1727272727272724E-2,29.790909090909089,20.445454545454545,2.472727272727273E-2,13.536363636363637,9.8454545454545457,7.7272727272727276E-3,7.0909090909090908]
["Source: 2021 Program Planning Tool ",null,null,"Source: 2021 Program Planning Tool ",null,null,null,null,null,null,null,null,null,null,null,null,null,null,null,null,null,null,null,null,null,null,null,null,null,null,null,null,null,null,null,null,null,null,null,null,null,null,null,null,null,null,null,null,null,55,518.79999999999995,0.41927272727272724,282.4636363636364,103.65454545454546,0.11127272727272727,58.063636363636363,49.854545454545452,4.3272727272727268E-2,30.109090909090909,21.054545454545455,2.6272727272727274E-2,13.863636363636363,10.454545454545455,9.2727272727272728E-3,7.4090909090909092]
["Gas Water Heating:",{"$f":"(53%/101%)*100%","v":0.52475247524752477},null,null,{"$f":"B264","v":0.52475247524752477},null,null,null,null,null,null,null,null,null,null,null,null,null,null,null,null,null,null,null,null,null,null,null,null,null,null,null,null,null,null,null,null,null,null,null,null,null,null,null,null,null,null,null,null,56,519.4,0.42081818181818181,282.79090909090911,104.26363636363637,0.11281818181818182,58.390909090909091,50.463636363636361,4.481818181818182E-2,30.427272727272726,21.663636363636364,2.7818181818181818E-2,14.190909090909091,11.063636363636363,1.0818181818181819E-2,7.7272727272727266]
["Oil Water Heating:",{"$f":"(35%/101%)*100%","v":0.34653465346534651},null,null,{"$f":"B265","v":0.34653465346534651},null,null,null,null,null,null,null,null,null,null,null,null,null,null,null,null,null,null,null,null,null,null,null,null,null,null,null,null,null,null,null,null,null,null,null,null,null,null,null,null,null,null,null,null,57,520,0.42236363636363633,283.11818181818182,104.87272727272727,0.11436363636363636,58.718181818181819,51.072727272727271,4.6363636363636364E-2,30.745454545454546,22.272727272727273,2.9363636363636366E-2,14.518181818181818,11.672727272727272,1.2363636363636365E-2,8.045454545454545]
["Propane Water Heating:",{"$f":"(2%/101%)*100%","v":1.9801980198019802E-2},null,null,1.9801980198019802E-2,null,null,null,null,null,null,null,null,null,null,null,null,null,null,null,null,null,null,null,null,null,null,null,null,null,null,null,null,null,null,null,null,null,null,null,null,null,null,null,null,null,null,null,null,58,520.6,0.4239090909090909,283.44545454545454,105.48181818181818,0.11590909090909091,59.045454545454547,51.68181818181818,4.7909090909090908E-2,31.063636363636363,22.881818181818183,3.0909090909090914E-2,14.845454545454546,12.281818181818181,1.3909090909090911E-2,8.3636363636363633]
[null,null,null,null,null,null,null,null,null,null,null,null,null,null,null,null,null,null,null,null,null,null,null,null,null,null,null,null,null,null,null,null,null,null,null,null,null,null,null,null,null,null,null,null,null,null,null,null,null,59,521.19999999999993,0.42545454545454542,283.77272727272731,106.09090909090909,0.11745454545454545,59.372727272727275,52.290909090909089,4.9454545454545452E-2,31.381818181818183,23.490909090909092,3.2454545454545458E-2,15.172727272727274,12.890909090909091,1.5454545454545455E-2,8.6818181818181817]
[null,null,null,null,null,null,null,null,null,null,null,null,null,null,null,null,null,null,null,null,null,null,null,null,null,null,null,null,null,null,null,null,null,null,null,null,null,null,null,null,null,null,null,null,null,null,null,null,null,60,521.79999999999995,0.42699999999999999,284.10000000000002,106.7,0.11899999999999999,59.7,52.9,5.0999999999999997E-2,31.7,24.1,3.4000000000000002E-2,15.5,13.5,1.7000000000000001E-2,9]
[null,null,null,null,null,null,null,null,null,null,null,null,null,null,null,null,null,null,null,null,null,null,null,null,null,null,null,null,null,null,null,null,null,null,null,null,null,null,null,null,null,null,null,null,null,null,null,null,null,null,60,521.79999999999995,0.42699999999999999,284.10000000000002,106.7,0.11899999999999999,59.7,52.9,5.0999999999999997E-2,31.7,24.1,3.4000000000000002E-2,15.5,13.5,1.7000000000000001E-2]
[]
[null,null,null,null,null,null,null,null,null,null,null,null,null,null,null,null,null,null,null,null,null,null,null,null,null,null,null,null,null,null,null,null,null,null,null,null,null,null,null,null,null,null,null,null,null,null,null,null,null,"Ceiling Insulation - HVAC: Heat Pump"]
[null,null,null,null,null,null,null,null,null,null,null,null,null,null,null,null,null,null,null,null,null,null,null,null,null,null,null,null,null,null,null,null,null,null,null,null,null,null,null,null,null,null,null,null,null,null,null,null,null,"Base",0,null,null,11,null,null,19,null,null,30,null,null,38]
["Measure Name","Tankless Water Heater",">12kW","Source",null,null,null,null,null,null,null,null,null,null,null,null,null,null,null,null,null,null,null,null,null,null,null,null,null,null,null,null,null,null,null,null,null,null,null,null,null,null,null,null,null,null,null,null,null,"Measure","kWh/ kSF","kW/ kSF",null,"kWh/ kSF","kW/ kSF",null,"kWh/ kSF","kW/ kSF",null,"kWh/ kSF","kW/ kSF",null,"kWh/ kSF","kW/ kSF"]
["Units/Measure",1,1,null,null,null,null,null,null,null,null,null,null,null,null,null,null,null,null,null,null,null,null,null,null,null,null,null,null,null,null,null,null,null,null,null,null,null,null,null,null,null,null,null,null,null,null,null,null,11,2988.4,0.34100000000000003,0,0,0,0,0,0,0,0,0,0,0,0,0]
["Incremental Cost",null,null,null,null,null,null,null,null,null,null,null,null,null,null,null,null,null,null,null,null,null,null,null,null,null,null,null,null,null,null,null,null,null,null,null,null,null,null,null,null,null,null,null,null,null,null,null,null,12,{"$f":"((($AX275-$AX$274)*(AY$282-AY$274))/($AX$282-$AX$274))+AY$274","v":3031.4875000000002},0.34962500000000002,0,43.087499999999999,8.5000000000000006E-3,0,0,0,0,0,0,0,0,0,0]
["Gross_EE kWh/Unit",30.216138477207217,18.255211440346208,null,null,null,null,null,null,null,null,null,null,null,null,null,null,null,null,null,null,null,null,null,null,null,null,null,null,null,null,null,null,null,null,null,null,null,null,null,null,null,null,null,null,null,null,null,null,13,3074.5749999999998,0.35825000000000001,0,86.174999999999997,1.7000000000000001E-2,0,0,0,0,0,0,0,0,0,0]
["Summer Peak kW/Unit",5.6439038686987089E-2,5.6439038686987089E-2,"ODC TRM",null,null,null,null,null,null,null,null,null,null,null,null,null,null,null,null,null,null,null,null,null,null,null,null,null,null,null,null,null,null,null,null,null,null,null,null,null,null,null,null,null,null,null,null,null,14,3117.6624999999999,0.36687500000000001,0,129.26249999999999,2.5500000000000002E-2,0,0,0,0,0,0,0,0,0,0]
["therm/Unit",0,0,null,null,null,null,null,null,null,null,null,null,null,null,null,null,null,null,null,null,null,null,null,null,null,null,null,null,null,null,null,null,null,null,null,null,null,null,null,null,null,null,null,null,null,null,null,null,15,3160.75,0.3755,0,172.35,3.4000000000000002E-2,0,0,0,0,0,0,0,0,0,0]
["MMBTU/Unit_EE",0.10309746448423103,6.2286781434461265E-2,null,null,null,null,null,null,null,null,null,null,null,null,null,null,null,null,null,null,null,null,null,null,null,null,null,null,null,null,null,null,null,null,null,null,null,null,null,null,null,null,null,null,null,null,null,null,16,3203.8375000000001,0.38412499999999999,0,215.4375,4.2500000000000003E-2,0,0,0,0,0,0,0,0,0,0]
["Gross_BE kWh/Unit",2761.6105392731533,1230.1719674944047,null,null,null,null,null,null,null,null,null,null,null,null,null,null,null,null,null,null,null,null,null,null,null,null,null,null,null,null,null,null,null,null,null,null,null,null,null,null,null,null,null,null,null,null,null,null,17,3246.9250000000002,0.39274999999999999,0,258.52499999999998,5.1000000000000004E-2,0,0,0,0,0,0,0,0,0,0]
["Gross_Winter kW/Unit",-0.11764000000000001,-0.11764000000000001,null,null,null,null,null,null,null,null,null,null,null,null,null,null,null,null,null,null,null,null,null,null,null,null,null,null,null,null,null,null,null,null,null,null,null,null,null,null,null,null,null,null,null,null,null,null,18,3290.0124999999998,0.40137499999999998,0,301.61250000000001,5.9500000000000004E-2,0,0,0,0,0,0,0,0,0,0]
["MMBTU/Unit_BE",25.335354875319659,16.384443040275812,null,null,null,null,null,null,null,null,null,null,null,null,null,null,null,null,null,null,null,null,null,null,null,null,null,null,null,null,null,null,null,null,null,null,null,null,null,null,null,null,null,null,null,null,null,null,19,3333.1,0.41,0,344.7,6.8000000000000005E-2,0,0,0,0,0,0,0,0,0,0]
["Lifetime",10,10,null,null,null,null,null,null,null,null,null,null,null,null,null,null,null,null,null,null,null,null,null,null,null,null,null,null,null,null,null,null,null,null,null,null,null,null,null,null,null,null,null,null,null,null,null,null,20,{"$f":"((($AX283-$AX$282)*(AY$293-AY$282))/($AX$293-$AX$282))+AY$282","v":3350.8454545454547},0.41463636363636364,0,362.44545454545454,7.2636363636363638E-2,0,17.745454545454546,4.6363636363636364E-3,0,0,0,0,0,0,0]
["UEFbase: Baseline Uniform Energy Factor",0.58030000000000004,0.75769999999999993,null,null,null,null,null,null,null,null,null,null,null,null,null,null,null,null,null,null,null,null,null,null,null,null,null,null,null,null,null,null,null,null,null,null,null,null,null,null,null,null,null,null,null,null,null,null,21,3368.590909090909,0.41927272727272724,0,380.19090909090909,7.7272727272727271E-2,0,35.490909090909092,9.2727272727272728E-3,0,0,0,0,0,0,0]
["UEFcode: Code Uniform Energy Factor",0.92269999999999996,2.0291000000000001,null,null,null,null,null,null,null,null,null,null,null,null,null,null,null,null,null,null,null,null,null,null,null,null,null,null,null,null,null,null,null,null,null,null,null,null,null,null,null,null,null,null,null,null,null,null,22,3386.3363636363638,0.4239090909090909,0,397.93636363636364,8.1909090909090904E-2,0,53.236363636363627,1.3909090909090909E-2,0,0,0,0,0,0,0]
["UEFee: Efficient Uniform Energy Factor",0.98,2.2000000000000002,null,null,null,null,null,null,null,null,null,null,null,null,null,null,null,null,null,null,null,null,null,null,null,null,null,null,null,null,null,null,null,null,null,null,null,null,null,null,null,null,null,null,null,null,null,null,23,3404.0818181818181,0.42854545454545456,0,415.68181818181819,8.654545454545455E-2,0,70.981818181818184,1.8545454545454546E-2,0,0,0,0,0,0,0]
["Avg Storage Capacity - Tank Size (gallons)",40,80,null,null,null,null,null,null,null,null,null,null,null,null,null,null,null,null,null,null,null,null,null,null,null,null,null,null,null,null,null,null,null,null,null,null,null,null,null,null,null,null,null,null,null,null,null,null,24,3421.8272727272729,0.43318181818181817,0,433.42727272727274,9.1181818181818183E-2,0,88.727272727272734,2.3181818181818182E-2,0,0,0,0,0,0,0]
["UAbaseline: Baseline Overall Heat Loss Coefficient:",7.85,7.85,null,null,null,null,null,null,null,null,null,null,null,null,null,null,null,null,null,null,null,null,null,null,null,null,null,null,null,null,null,null,null,null,null,null,null,null,null,null,null,null,null,null,null,null,null,null,25,3439.5727272727272,0.43781818181818183,0,451.17272727272723,9.5818181818181816E-2,0,106.47272727272725,2.7818181818181818E-2,0,0,0,0,0,0,0]
["Uaee: Energy Efficient Overall Heat Loss Coefficient:",5.4,5.4,null,null,null,null,null,null,null,null,null,null,null,null,null,null,null,null,null,null,null,null,null,null,null,null,null,null,null,null,null,null,null,null,null,null,null,null,null,null,null,null,null,null,null,null,null,null,26,3457.318181818182,0.44245454545454543,0,468.91818181818178,0.10045454545454546,0,124.2181818181818,3.2454545454545451E-2,0,0,0,0,0,0,0]
["Days/Year",365,365,null,null,null,null,null,null,null,null,null,null,null,null,null,null,null,null,null,null,null,null,null,null,null,null,null,null,null,null,null,null,null,null,null,null,null,null,null,null,null,null,null,null,null,null,null,null,27,3475.0636363636363,0.44709090909090909,0,486.66363636363633,0.1050909090909091,0,141.96363636363637,3.7090909090909091E-2,0,0,0,0,0,0,0]
["Gallons/Day (GPD)",46,46,null,null,null,null,null,null,null,null,null,null,null,null,null,null,null,null,null,null,null,null,null,null,null,null,null,null,null,null,null,null,null,null,null,null,null,null,null,null,null,null,null,null,null,null,null,null,28,3492.8090909090911,0.45172727272727276,0,504.40909090909088,0.10972727272727273,0,159.70909090909092,4.1727272727272724E-2,0,0,0,0,0,0,0]
["Btu/gal-°F",8.33,8.33,null,null,null,null,null,null,null,null,null,null,null,null,null,null,null,null,null,null,null,null,null,null,null,null,null,null,null,null,null,null,null,null,null,null,null,null,null,null,null,null,null,null,null,null,null,null,29,3510.5545454545454,0.45636363636363636,0,522.15454545454543,0.11436363636363636,0,177.45454545454547,4.6363636363636364E-2,0,0,0,0,0,0,0]
["TI: Inlet Temp (Tank-In Temperature)",61.4,61.4,"ODC TRM",null,null,null,null,null,null,null,null,null,null,null,null,null,null,null,null,null,null,null,null,null,null,null,null,null,null,null,null,null,null,null,null,null,null,null,null,null,null,null,null,null,null,null,null,null,30,3528.3,0.46100000000000002,0,539.9,0.11899999999999999,0,195.2,5.0999999999999997E-2,0,0,0,0,0,0,0]
["THW: Hot Water Temp (Tank Setpoint)",140,140,"ODC TRM",null,null,null,null,null,null,null,null,null,null,null,null,null,null,null,null,null,null,null,null,null,null,null,null,null,null,null,null,null,null,null,null,null,null,null,null,null,null,null,null,null,null,null,null,null,31,{"$f":"((($AX294-$AX$293)*(AY$301-AY$293))/($AX$301-$AX$293))+AY$293","v":3537.8125},0.46312500000000001,0,549.41250000000002,0.12125,0,204.71249999999998,5.3124999999999999E-2,0,9.5124999999999993,2.1250000000000002E-3,0,0,0,0]
["Btu/kW",3412,3412,null,null,null,null,null,null,null,null,null,null,null,null,null,null,null,null,null,null,null,null,null,null,null,null,null,null,null,null,null,null,null,null,null,null,null,null,null,null,null,null,null,null,null,null,null,null,32,3547.3250000000003,0.46525,0,558.92499999999995,0.1235,0,214.22499999999999,5.525E-2,0,19.024999999999999,4.2500000000000003E-3,0,0,0,0]
["FWH,E: Electric water heating factor",0.14799999999999999,0.14799999999999999,null,null,null,null,null,null,null,null,null,null,null,null,null,null,null,null,null,null,null,null,null,null,null,null,null,null,null,null,null,null,null,null,null,null,null,null,null,null,null,null,null,null,null,null,null,null,33,3556.8375000000001,0.46737499999999998,0,568.4375,0.12575,0,223.73750000000001,5.7375000000000002E-2,0,28.537499999999998,6.3750000000000005E-3,0,0,0,0]
["FWH,FF: Fossil fuel water heating factor",0.84,0.84,"ODC TRM",null,null,null,null,null,null,null,null,null,null,null,null,null,null,null,null,null,null,null,null,null,null,null,null,null,null,null,null,null,null,null,null,null,null,null,null,null,null,null,null,null,null,null,null,null,34,3566.3500000000004,0.46950000000000003,0,577.95000000000005,0.128,0,233.25,5.9499999999999997E-2,0,38.049999999999997,8.5000000000000006E-3,0,0,0,0]
["FGH: Natural gas heating factor",-0.52,-0.52,"ODC TRM",null,null,null,null,null,null,null,null,null,null,null,null,null,null,null,null,null,null,null,null,null,null,null,null,null,null,null,null,null,null,null,null,null,null,null,null,null,null,null,null,null,null,null,null,null,35,3575.8625000000002,0.47162500000000002,0,587.46249999999998,0.13025,0,242.76249999999999,6.1624999999999999E-2,0,47.5625,1.0625000000000001E-2,0,0,0,0]
["FOH: Fuel oil heating factor",-0.39,-0.39,"ODC TRM",null,null,null,null,null,null,null,null,null,null,null,null,null,null,null,null,null,null,null,null,null,null,null,null,null,null,null,null,null,null,null,null,null,null,null,null,null,null,null,null,null,null,null,null,null,36,3585.375,0.47375,0,596.97500000000002,0.13250000000000001,0,252.27500000000001,6.3750000000000001E-2,0,57.074999999999996,1.2750000000000001E-2,0,0,0,0]
["FPH: Propane heating factor",-0.01,-0.01,"ODC TRM",null,null,null,null,null,null,null,null,null,null,null,null,null,null,null,null,null,null,null,null,null,null,null,null,null,null,null,null,null,null,null,null,null,null,null,null,null,null,null,null,null,null,null,null,null,37,3594.8875000000003,0.47587499999999999,0,606.48749999999995,0.13475000000000001,0,261.78750000000002,6.5875000000000003E-2,0,66.587499999999991,1.4875000000000001E-2,0,0,0,0]
["Source: 2021 Program Planning Tool ",null,null,null,null,null,null,null,null,null,null,null,null,null,null,null,null,null,null,null,null,null,null,null,null,null,null,null,null,null,null,null,null,null,null,null,null,null,null,null,null,null,null,null,null,null,null,null,null,38,3604.4,0.47799999999999998,0,616,0.13700000000000001,0,271.3,6.8000000000000005E-2,0,76.099999999999994,1.7000000000000001E-2,0,0,0,0]
[null,{"$f":"B276*$A$12","v":36.144544846435274},null,null,null,null,null,null,null,null,null,null,null,null,null,null,null,null,null,null,null,null,null,null,null,null,null,null,null,null,null,null,null,null,null,null,null,null,null,null,null,null,null,null,null,null,null,null,null,39,{"$f":"((($AX302-$AX$301)*(AY$312-AY$301))/($AX$312-$AX$301))+AY$301","v":3609.9909090909091},0.47799999999999998,0,621.59090909090912,0.13700000000000001,0,276.89090909090908,6.8000000000000005E-2,0,81.681818181818173,1.7000000000000001E-2,0,5.581818181818182,0,0]
[null,{"$f":"(G241/1000000*((1/B284*(B264*$O$20*$D$4+B265*$O$21*$D$4+B266*$O$23*$D$4)))-(B280*$A$12))","v":-1019.3960008432091},null,null,null,null,null,null,null,null,null,null,null,null,null,null,null,null,null,null,null,null,null,null,null,null,null,null,null,null,null,null,null,null,null,null,null,null,null,null,null,null,null,null,null,null,null,null,null,40,3615.5818181818181,0.47799999999999998,0,627.18181818181813,0.13700000000000001,0,282.4818181818182,6.8000000000000005E-2,0,87.263636363636351,1.7000000000000001E-2,0,11.163636363636364,0,0]
[null,null,null,null,null,null,null,null,null,null,null,null,null,null,null,null,null,null,null,null,null,null,null,null,null,null,null,null,null,null,null,null,null,null,null,null,null,null,null,null,null,null,null,null,null,null,null,null,null,41,3621.1727272727276,0.47799999999999998,0,632.77272727272725,0.13700000000000001,0,288.07272727272726,6.8000000000000005E-2,0,92.845454545454544,1.7000000000000001E-2,0,16.745454545454546,0,0]
[null,null,null,null,null,null,null,null,null,null,null,null,null,null,null,null,null,null,null,null,null,null,null,null,null,null,null,null,null,null,null,null,null,null,null,null,null,null,null,null,null,null,null,null,null,null,null,null,null,42,3626.7636363636366,0.47799999999999998,0,638.36363636363637,0.13700000000000001,0,293.66363636363639,6.8000000000000005E-2,0,98.427272727272722,1.7000000000000001E-2,0,22.327272727272728,0,0]
[null,null,null,null,null,null,null,null,null,null,null,null,null,null,null,null,null,null,null,null,null,null,null,null,null,null,null,null,null,null,null,null,null,null,null,null,null,null,null,null,null,null,null,null,null,null,null,null,null,43,3632.3545454545456,0.47799999999999998,0,643.9545454545455,0.13700000000000001,0,299.25454545454545,6.8000000000000005E-2,0,104.0090909090909,1.7000000000000001E-2,0,27.90909090909091,0,0]
[null,null,null,null,null,null,null,null,null,null,null,null,null,null,null,null,null,null,null,null,null,null,null,null,null,null,null,null,null,null,null,null,null,null,null,null,null,null,null,null,null,null,null,null,null,null,null,null,null,44,3637.9454545454546,0.47799999999999998,0,649.5454545454545,0.13700000000000001,0,304.84545454545457,6.8000000000000005E-2,0,109.59090909090909,1.7000000000000001E-2,0,33.490909090909092,0,0]
[null,null,null,null,null,null,null,null,null,null,null,null,null,null,null,null,null,null,null,null,null,null,null,null,null,null,null,null,null,null,null,null,null,null,null,null,null,null,null,null,null,null,null,null,null,null,null,null,null,45,3643.5363636363636,0.47799999999999998,0,655.13636363636363,0.13700000000000001,0,310.43636363636364,6.8000000000000005E-2,0,115.17272727272727,1.7000000000000001E-2,0,39.072727272727271,0,0]
[null,null,null,null,null,null,null,null,null,null,null,null,null,null,null,null,null,null,null,null,null,null,null,null,null,null,null,null,null,null,null,null,null,null,null,null,null,null,null,null,null,null,null,null,null,null,null,null,null,46,3649.1272727272726,0.47799999999999998,0,660.72727272727275,0.13700000000000001,0,316.02727272727276,6.8000000000000005E-2,0,120.75454545454545,1.7000000000000001E-2,0,44.654545454545456,0,0]
[null,null,null,null,null,null,null,null,null,null,null,null,null,null,null,null,null,null,null,null,null,null,null,null,null,null,null,null,null,null,null,null,null,null,null,null,null,null,null,null,null,null,null,null,null,null,null,null,null,47,3654.7181818181821,0.47799999999999998,0,666.31818181818187,0.13700000000000001,0,321.61818181818182,6.8000000000000005E-2,0,126.33636363636364,1.7000000000000001E-2,0,50.236363636363642,0,0]
[null,null,null,null,null,null,null,null,null,null,null,null,null,null,null,null,null,null,null,null,null,null,null,null,null,null,null,null,null,null,null,null,null,null,null,null,null,null,null,null,null,null,null,null,null,null,null,null,null,48,3660.3090909090911,0.47799999999999998,0,671.90909090909088,0.13700000000000001,0,327.20909090909095,6.8000000000000005E-2,0,131.91818181818181,1.7000000000000001E-2,0,55.81818181818182,0,0]
[null,null,null,null,null,null,null,null,null,null,null,null,null,null,null,null,null,null,null,null,null,null,null,null,null,null,null,null,null,null,null,null,null,null,null,null,null,null,null,null,null,null,null,null,null,null,null,null,null,49,3665.9,0.47799999999999998,0,677.5,0.13700000000000001,0,332.8,6.8000000000000005E-2,null,137.5,1.7000000000000001E-2,null,61.4,0,0]
[null,null,null,null,null,null,null,null,null,null,null,null,null,null,null,null,null,null,null,null,null,null,null,null,null,null,null,null,null,null,null,null,null,null,null,null,null,null,null,null,null,null,null,null,null,null,null,null,null,50,{"$f":"((($AX313-$AX$312)*(AY$323-AY$312))/($AX$323-$AX$312))+AY$312","v":3669.8090909090911},0.47954545454545455,0,681.40909090909088,0.13854545454545455,0,336.70909090909095,6.9545454545454549E-2,0,141.40909090909091,1.8545454545454546E-2,0,65.309090909090912,1.5454545454545456E-3,0]
[null,null,null,null,null,null,null,null,null,null,null,null,null,null,null,null,null,null,null,null,null,null,null,null,null,null,null,null,null,null,null,null,null,null,null,null,null,null,null,null,null,null,null,null,null,null,null,null,null,51,3673.7181818181821,0.48109090909090907,0,685.31818181818187,0.1400909090909091,0,340.61818181818182,7.1090909090909093E-2,0,145.31818181818181,2.0090909090909093E-2,0,69.218181818181819,3.0909090909090912E-3,0]
[null,null,null,null,null,null,null,null,null,null,null,null,null,null,null,null,null,null,null,null,null,null,null,null,null,null,null,null,null,null,null,null,null,null,null,null,null,null,null,null,null,null,null,null,null,null,null,null,null,52,3677.6272727272726,0.48263636363636364,0,689.22727272727275,0.14163636363636364,0,344.52727272727276,7.2636363636363638E-2,0,149.22727272727272,2.1636363636363638E-2,0,73.127272727272725,4.6363636363636364E-3,0]
[null,null,null,null,null,null,null,null,null,null,null,null,null,null,null,null,null,null,null,null,null,null,null,null,null,null,null,null,null,null,null,null,null,null,null,null,null,null,null,null,null,null,null,null,null,null,null,null,null,53,3681.5363636363636,0.48418181818181816,0,693.13636363636363,0.14318181818181819,0,348.43636363636364,7.4181818181818182E-2,0,153.13636363636363,2.3181818181818185E-2,0,77.036363636363632,6.1818181818181824E-3,0]
[null,null,null,null,null,null,null,null,null,null,null,null,null,null,null,null,null,null,null,null,null,null,null,null,null,null,null,null,null,null,null,null,null,null,null,null,null,null,null,null,null,null,null,null,null,null,null,null,null,54,3685.4454545454546,0.48572727272727273,0,697.0454545454545,0.14472727272727273,0,352.34545454545457,7.5727272727272726E-2,0,157.04545454545456,2.472727272727273E-2,0,80.945454545454538,7.7272727272727276E-3,0]
[null,null,null,null,null,null,null,null,null,null,null,null,null,null,null,null,null,null,null,null,null,null,null,null,null,null,null,null,null,null,null,null,null,null,null,null,null,null,null,null,null,null,null,null,null,null,null,null,null,55,3689.3545454545456,0.48727272727272725,0,700.9545454545455,0.14627272727272728,0,356.25454545454545,7.7272727272727271E-2,0,160.95454545454544,2.6272727272727274E-2,0,84.854545454545459,9.2727272727272728E-3,0]
[null,null,null,null,null,null,null,null,null,null,null,null,null,null,null,null,null,null,null,null,null,null,null,null,null,null,null,null,null,null,null,null,null,null,null,null,null,null,null,null,null,null,null,null,null,null,null,null,null,56,3693.2636363636366,0.48881818181818182,0,704.86363636363637,0.14781818181818182,0,360.16363636363639,7.8818181818181829E-2,0,164.86363636363637,2.7818181818181818E-2,0,88.763636363636365,1.0818181818181819E-2,0]
[null,null,null,null,null,null,null,null,null,null,null,null,null,null,null,null,null,null,null,null,null,null,null,null,null,null,null,null,null,null,null,null,null,null,null,null,null,null,null,null,null,null,null,null,null,null,null,null,null,57,3697.1727272727276,0.49036363636363633,0,708.77272727272725,0.14936363636363637,0,364.07272727272726,8.0363636363636373E-2,0,168.77272727272728,2.9363636363636366E-2,0,92.672727272727272,1.2363636363636365E-2,0]
["CAC Tune Ups & ASHP Tune Ups",null,null,null,"Baseline Efficiency Reference Table",null,null,null,null,null,null,null,null,null,null,null,null,null,null,null,null,null,null,null,null,null,null,null,null,null,null,null,null,null,null,null,null,null,null,null,null,null,null,null,null,null,null,null,null,58,3701.0818181818181,0.49190909090909091,0,712.68181818181813,0.15090909090909091,0,367.9818181818182,8.1909090909090917E-2,0,172.68181818181819,3.0909090909090914E-2,0,96.581818181818193,1.3909090909090911E-2,0]
[null,null,null,null,null,null,null,null,null,null,null,null,null,null,null,null,null,null,null,null,null,null,null,null,null,null,null,null,null,null,null,null,null,null,null,null,null,null,null,null,null,null,null,null,null,null,null,null,null,59,3704.9909090909091,0.49345454545454542,0,716.59090909090912,0.15245454545454545,0,371.89090909090908,8.3454545454545462E-2,0,176.59090909090909,3.2454545454545458E-2,0,100.4909090909091,1.5454545454545455E-2,0]
["Assumptions:",null,null,null,"% Factory Charge","Normalized Efficiency (Short Orifice)","Normalized Efficiency (TXV)",null,null,null,null,null,null,null,null,null,null,null,null,null,null,null,null,null,null,null,null,null,null,null,null,null,null,null,null,null,null,null,null,null,null,null,null,null,null,null,null,null,null,60,3708.9,0.495,0,720.5,0.154,0,375.8,8.5000000000000006E-2,0,180.5,3.4000000000000002E-2,0,104.4,1.7000000000000001E-2,0]
["EFLHcooling:",649,"*NYS TRM",null,0.6,0.26,0.82]
["EFLHheating:",786,"*NYS TRM",null,0.61,{"$f":"AVERAGE(F324,F326)","v":0.29000000000000004},{"$f":"AVERAGE(G324,G326)","v":0.83}]
["SFcooling:",7.4999999999999997E-2,"*Iowa TRM",null,0.62,0.32,0.84]
["SFheating:",2.3E-2,"*Iowa TRM",null,0.63,{"$f":"AVERAGE(F326,F328)","v":0.35499999999999998},{"$f":"AVERAGE(G326,G328)","v":0.84499999999999997}]
[null,null,null,null,0.64,0.39,0.85,null,null,null,null,null,null,null,null,null,null,null,null,null,null,null,null,null,null,null,null,null,null,null,null,null,null,null,null,null,null,null,null,null,null,null,null,null,null,null,null,null,null,"Ceiling Insulation - HVAC: AC with Electric Heat"]
["CAC Assumptions:",null,null,null,0.65,{"$f":"AVERAGE(F328,F330)","v":0.42000000000000004},{"$f":"AVERAGE(G328,G330)","v":0.86},null,null,null,null,null,null,null,null,null,null,null,null,null,null,null,null,null,null,null,null,null,null,null,null,null,null,null,null,null,null,null,null,null,null,null,null,null,null,null,null,null,null,"Base",0,null,null,11,null,null,19,null,null,30,null,null,38]
["Capacity (tons):",3,"*2020 Planning Tool",null,0.66,0.45,0.87,null,null,null,null,null,null,null,null,null,null,null,null,null,null,null,null,null,null,null,null,null,null,null,null,null,null,null,null,null,null,null,null,null,null,null,null,null,null,null,null,null,null,"Measure","kWh/ kSF","kW/ kSF",null,"kWh/ kSF","kW/ kSF",null,"kWh/ kSF","kW/ kSF",null,"kWh/ kSF","kW/ kSF",null,"kWh/ kSF","kW/ kSF"]
["Rated SEER:",16.23,"*2016 and earlier Cool Homes Data",null,0.67,{"$f":"AVERAGE(F330,F332)","v":0.48},{"$f":"AVERAGE(G330,G332)","v":0.88},null,null,null,null,null,null,null,null,null,null,null,null,null,null,null,null,null,null,null,null,null,null,null,null,null,null,null,null,null,null,null,null,null,null,null,null,null,null,null,null,null,null,11,5338.7,0.307,0,0,0,0,0,0,0,0,0,0,0,0,0]
["Rated EER:",13.13,"*2016 and earlier Cool Homes Data",null,0.68,0.51,0.89,null,null,null,null,null,null,null,null,null,null,null,null,null,null,null,null,null,null,null,null,null,null,null,null,null,null,null,null,null,null,null,null,null,null,null,null,null,null,null,null,null,null,12,{"$f":"((($AX332-$AX$331)*(AY$339-AY$331))/($AX$339-$AX$331))+AY$331","v":5420.9375},0.3155,0,82.224999999999994,8.5000000000000006E-3,0,0,0,0,0,0,0,0,0,0]
["Incremental Cost",200,"Per ODC: https://www.improvenet.com/costs-near-me/new-york-air-conditioner-repair-cost",null,0.69,{"$f":"AVERAGE(F332,F334)","v":0.53500000000000003},{"$f":"AVERAGE(G332,G334)","v":0.89500000000000002},null,null,null,null,null,null,null,null,null,null,null,null,null,null,null,null,null,null,null,null,null,null,null,null,null,null,null,null,null,null,null,null,null,null,null,null,null,null,null,null,null,null,13,5503.1750000000002,0.32400000000000001,0,164.45,1.7000000000000001E-2,0,0,0,0,0,0,0,0,0,0]
[null,null,null,null,0.7,0.56000000000000005,0.9,null,null,null,null,null,null,null,null,null,null,null,null,null,null,null,null,null,null,null,null,null,null,null,null,null,null,null,null,null,null,null,null,null,null,null,null,null,null,null,null,null,null,14,5585.4125000000004,0.33250000000000002,0,246.67499999999998,2.5500000000000002E-2,0,0,0,0,0,0,0,0,0,0]
["CAC Savings",null,null,null,0.71,{"$f":"AVERAGE(F334,F336)","v":0.58499999999999996},{"$f":"AVERAGE(G334,G336)","v":0.90500000000000003},null,null,null,null,null,null,null,null,null,null,null,null,null,null,null,null,null,null,null,null,null,null,null,null,null,null,null,null,null,null,null,null,null,null,null,null,null,null,null,null,null,null,15,5667.65,0.34099999999999997,0,328.9,3.4000000000000002E-2,0,0,0,0,0,0,0,0,0,0]
["Gross kWh Savings:",{"$f":"B330*12*B324*(B326/B331)","v":107.96672828096118},null,null,0.72,0.61,0.91,null,null,null,null,null,null,null,null,null,null,null,null,null,null,null,null,null,null,null,null,null,null,null,null,null,null,null,null,null,null,null,null,null,null,null,null,null,null,null,null,null,null,16,5749.8874999999998,0.34949999999999998,0,411.125,4.2500000000000003E-2,0,0,0,0,0,0,0,0,0,0]
["Summer kW Savings:",{"$f":"B330*12*(B326/B332)","v":0.20563594821020562},null,null,0.73,{"$f":"AVERAGE(F336,F338)","v":0.63500000000000001},{"$f":"AVERAGE(G336,G338)","v":0.91500000000000004},null,null,null,null,null,null,null,null,null,null,null,null,null,null,null,null,null,null,null,null,null,null,null,null,null,null,null,null,null,null,null,null,null,null,null,null,null,null,null,null,null,null,17,5832.125,0.35799999999999998,0,493.34999999999997,5.1000000000000004E-2,0,0,0,0,0,0,0,0,0,0]
["Winter kW Savings",null,null,null,0.74,0.66,0.92,null,null,null,null,null,null,null,null,null,null,null,null,null,null,null,null,null,null,null,null,null,null,null,null,null,null,null,null,null,null,null,null,null,null,null,null,null,null,null,null,null,null,18,5914.3625000000002,0.36649999999999999,0,575.57499999999993,5.9500000000000004E-2,0,0,0,0,0,0,0,0,0,0]
[" EE MMBTU Savings:",{"$f":"B336*0.003412","v":0.36838247689463954},null,null,0.75,{"$f":"AVERAGE(F338,F340)","v":0.67999999999999994},0.92500000000000004,null,null,null,null,null,null,null,null,null,null,null,null,null,null,null,null,null,null,null,null,null,null,null,null,null,null,null,null,null,null,null,null,null,null,null,null,null,null,null,null,null,null,19,5996.6,0.375,0,657.8,6.8000000000000005E-2,0,0,0,0,0,0,0,0,0,0]
["BE MMBtu Savings",null,null,null,0.76,0.7,0.93,null,null,null,null,null,null,null,null,null,null,null,null,null,null,null,null,null,null,null,null,null,null,null,null,null,null,null,null,null,null,null,null,null,null,null,null,null,null,null,null,null,null,20,{"$f":"((($AX340-$AX$339)*(AY$350-AY$339))/($AX$350-$AX$339))+AY$339","v":6030.9000000000005},0.37654545454545457,0,692.10909090909092,6.9545454545454549E-2,0,34.300000000000004,1.5454545454545456E-3,0,0,0,0,0,0,0]
["Rebate:",{"$f":"B339*80","v":29.470598151571163},40,null,0.77,{"$f":"AVERAGE(F340,F342)","v":0.71499999999999997},0.93500000000000005,null,null,null,null,null,null,null,null,null,null,null,null,null,null,null,null,null,null,null,null,null,null,null,null,null,null,null,null,null,null,null,null,null,null,null,null,null,null,null,null,null,null,21,6065.2,0.37809090909090909,0,726.41818181818178,7.1090909090909093E-2,0,68.600000000000009,3.0909090909090912E-3,0,0,0,0,0,0,0]
["$/MMBTU:",{"$f":"C341/B339","v":108.58279779534772},null,null,0.78,0.73,0.94,null,null,null,null,null,null,null,null,null,null,null,null,null,null,null,null,null,null,null,null,null,null,null,null,null,null,null,null,null,null,null,null,null,null,null,null,null,null,null,null,null,null,22,6099.5,0.37963636363636366,0,760.72727272727275,7.2636363636363638E-2,0,102.9,4.6363636363636364E-3,0,0,0,0,0,0,0]
[null,null,null,null,0.79,{"$f":"AVERAGE(F342,F344)","v":0.75},0.94499999999999995,null,null,null,null,null,null,null,null,null,null,null,null,null,null,null,null,null,null,null,null,null,null,null,null,null,null,null,null,null,null,null,null,null,null,null,null,null,null,null,null,null,null,23,6133.8,0.38118181818181818,0,795.0363636363636,7.4181818181818182E-2,0,137.20000000000002,6.1818181818181824E-3,0,0,0,0,0,0,0]
[null,null,null,null,0.8,0.77,0.95,null,null,null,null,null,null,null,null,null,null,null,null,null,null,null,null,null,null,null,null,null,null,null,null,null,null,null,null,null,null,null,null,null,null,null,null,null,null,null,null,null,null,24,6168.1,0.38272727272727275,0,829.34545454545457,7.5727272727272726E-2,0,171.5,7.7272727272727276E-3,0,0,0,0,0,0,0]
["ASHP Assumptions:",null,null,null,0.81,{"$f":"AVERAGE(F344,F346)","v":0.78500000000000003},0.95499999999999996,null,null,null,null,null,null,null,null,null,null,null,null,null,null,null,null,null,null,null,null,null,null,null,null,null,null,null,null,null,null,null,null,null,null,null,null,null,null,null,null,null,null,25,6202.4,0.38427272727272727,0,863.65454545454543,7.7272727272727271E-2,0,205.8,9.2727272727272728E-3,0,0,0,0,0,0,0]
["Capacity (tons):",2.5,"*2020 Planning Tool",null,0.82,0.8,0.96,null,null,null,null,null,null,null,null,null,null,null,null,null,null,null,null,null,null,null,null,null,null,null,null,null,null,null,null,null,null,null,null,null,null,null,null,null,null,null,null,null,null,26,6236.7,0.38581818181818184,0,897.9636363636364,7.8818181818181829E-2,0,240.1,1.0818181818181819E-2,0,0,0,0,0,0,0]
["Rated SEER:",16.600000000000001,"*2016 and earlier Cool Homes Data",null,0.83,{"$f":"AVERAGE(F346,F348)","v":0.81499999999999995},0.96499999999999997,null,null,null,null,null,null,null,null,null,null,null,null,null,null,null,null,null,null,null,null,null,null,null,null,null,null,null,null,null,null,null,null,null,null,null,null,null,null,null,null,null,null,27,6271,0.38736363636363635,0,932.27272727272725,8.0363636363636373E-2,0,274.40000000000003,1.2363636363636365E-2,0,0,0,0,0,0,0]
["Rated EER:",13.09,"*2016 and earlier Cool Homes Data",null,0.84,0.83,0.97,null,null,null,null,null,null,null,null,null,null,null,null,null,null,null,null,null,null,null,null,null,null,null,null,null,null,null,null,null,null,null,null,null,null,null,null,null,null,null,null,null,null,28,6305.3,0.38890909090909093,0,966.58181818181822,8.1909090909090917E-2,0,308.70000000000005,1.3909090909090911E-2,0,0,0,0,0,0,0]
["Rated HSPF:",9.1,"*2020 Planning Tool",null,0.85,{"$f":"AVERAGE(F348,F350)","v":0.84499999999999997},0.97,null,null,null,null,null,null,null,null,null,null,null,null,null,null,null,null,null,null,null,null,null,null,null,null,null,null,null,null,null,null,null,null,null,null,null,null,null,null,null,null,null,null,29,6339.5999999999995,0.39045454545454544,0,1000.8909090909092,8.3454545454545462E-2,0,343,1.5454545454545455E-2,0,0,0,0,0,0,0]
["Incremental Cost",200,"Per ODC: https://www.improvenet.com/costs-near-me/new-york-air-conditioner-repair-cost",null,0.86,0.86,0.97,null,null,null,null,null,null,null,null,null,null,null,null,null,null,null,null,null,null,null,null,null,null,null,null,null,null,null,null,null,null,null,null,null,null,null,null,null,null,null,null,null,null,30,6373.9,0.39200000000000002,0,1035.2,8.5000000000000006E-2,0,377.3,1.7000000000000001E-2,0,0,0,0,0,0,0]
[null,null,null,null,0.87,{"$f":"AVERAGE(F350,F352)","v":0.87},0.97499999999999998,null,null,null,null,null,null,null,null,null,null,null,null,null,null,null,null,null,null,null,null,null,null,null,null,null,null,null,null,null,null,null,null,null,null,null,null,null,null,null,null,null,null,31,{"$f":"((($AX351-$AX$350)*(AY$358-AY$350))/($AX$358-$AX$350))+AY$350","v":6392.2374999999993},0.39424999999999999,0,1053.5375000000001,8.7125000000000008E-2,0,395.65000000000003,1.9125000000000003E-2,0,18.350000000000001,2.1250000000000002E-3,0,0,0,0]
["ASHP Savings",null,null,null,0.88,0.88,0.98,null,null,null,null,null,null,null,null,null,null,null,null,null,null,null,null,null,null,null,null,null,null,null,null,null,null,null,null,null,null,null,null,null,null,null,null,null,null,null,null,null,null,32,6410.5749999999998,0.39650000000000002,0,1071.875,8.9249999999999996E-2,0,414,2.1250000000000002E-2,0,36.700000000000003,4.2500000000000003E-3,0,0,0,0]
["Gross kWh Savings:",{"$f":"(B346*12*B324*(B326/B347))+(B346*12*B325*(B327/B349))","v":147.56466966768173},null,null,0.89,{"$f":"AVERAGE(F352,F354)","v":0.89500000000000002},0.98,null,null,null,null,null,null,null,null,null,null,null,null,null,null,null,null,null,null,null,null,null,null,null,null,null,null,null,null,null,null,null,null,null,null,null,null,null,null,null,null,null,null,33,6428.9125000000004,0.39874999999999999,0,1090.2125000000001,9.1374999999999998E-2,0,432.35,2.3375E-2,0,55.050000000000004,6.3750000000000005E-3,0,0,0,0]
["Summer kW Savings:",{"$f":"B346*12*(B326/B348)","v":0.17188693659281895},null,null,0.9,0.91,0.98,null,null,null,null,null,null,null,null,null,null,null,null,null,null,null,null,null,null,null,null,null,null,null,null,null,null,null,null,null,null,null,null,null,null,null,null,null,null,null,null,null,null,34,6447.25,0.40100000000000002,0,1108.5500000000002,9.35E-2,0,450.70000000000005,2.5500000000000002E-2,0,73.400000000000006,8.5000000000000006E-3,0,0,0,0]
["Winter kW Savings",null,null,null,0.91,{"$f":"AVERAGE(F354,F356)","v":0.91500000000000004},0.98499999999999999,null,null,null,null,null,null,null,null,null,null,null,null,null,null,null,null,null,null,null,null,null,null,null,null,null,null,null,null,null,null,null,null,null,null,null,null,null,null,null,null,null,null,35,6465.5874999999996,0.40325,0,1126.8875,9.5625000000000002E-2,0,469.05,2.7625000000000004E-2,0,91.75,1.0625000000000001E-2,0,0,0,0]
["EE MMBTU Savings:",{"$f":"B353*0.003412","v":0.50349065290613004},null,null,0.92,0.92,0.99,null,null,null,null,null,null,null,null,null,null,null,null,null,null,null,null,null,null,null,null,null,null,null,null,null,null,null,null,null,null,null,null,null,null,null,null,null,null,null,null,null,null,36,6483.9250000000002,0.40549999999999997,0,1145.2250000000001,9.7750000000000004E-2,0,487.40000000000003,2.9750000000000002E-2,0,110.10000000000001,1.2750000000000001E-2,0,0,0,0]
["BE MMBtu Savings",null,null,null,0.93,{"$f":"AVERAGE(F356,F358)","v":0.92999999999999994},0.99,null,null,null,null,null,null,null,null,null,null,null,null,null,null,null,null,null,null,null,null,null,null,null,null,null,null,null,null,null,null,null,null,null,null,null,null,null,null,null,null,null,null,37,6502.2625000000007,0.40775,0,1163.5625,9.9874999999999992E-2,0,505.75,3.1875000000000001E-2,0,128.45000000000002,1.4875000000000001E-2,0,0,0,0]
["Rebate:",50,null,null,0.94,0.94,0.99,null,null,null,null,null,null,null,null,null,null,null,null,null,null,null,null,null,null,null,null,null,null,null,null,null,null,null,null,null,null,null,null,null,null,null,null,null,null,null,null,null,null,38,6520.6,0.41,0,1181.9000000000001,0.10199999999999999,0,524.1,3.4000000000000002E-2,0,146.80000000000001,1.7000000000000001E-2,0,0,0,0]
["$/MMBTU:",{"$f":"C358/B356","v":0},null,null,0.95,{"$f":"AVERAGE(F358,F360)","v":0.95},0.99,null,null,null,null,null,null,null,null,null,null,null,null,null,null,null,null,null,null,null,null,null,null,null,null,null,null,null,null,null,null,null,null,null,null,null,null,null,null,null,null,null,null,39,{"$f":"((($AX359-$AX$358)*(AY$369-AY$358))/($AX$369-$AX$358))+AY$358","v":6532.0727272727272},0.41,0,1193.3636363636365,0.10199999999999999,0,535.56363636363642,3.4000000000000002E-2,0,158.26363636363638,1.7000000000000001E-2,0,11.463636363636363,0,0]
[null,null,null,null,0.96,0.96,0.99,null,null,null,null,null,null,null,null,null,null,null,null,null,null,null,null,null,null,null,null,null,null,null,null,null,null,null,null,null,null,null,null,null,null,null,null,null,null,null,null,null,null,40,6543.545454545455,0.41,0,1204.8272727272729,0.10199999999999999,0,547.0272727272727,3.4000000000000002E-2,0,169.72727272727275,1.7000000000000001E-2,0,22.927272727272726,0,0]
[null,null,null,null,0.97,{"$f":"AVERAGE(F360,F362)","v":0.96499999999999997},0.99,null,null,null,null,null,null,null,null,null,null,null,null,null,null,null,null,null,null,null,null,null,null,null,null,null,null,null,null,null,null,null,null,null,null,null,null,null,null,null,null,null,null,41,6555.0181818181818,0.41,0,1216.2909090909091,0.10199999999999999,0,558.4909090909091,3.4000000000000002E-2,0,181.19090909090909,1.7000000000000001E-2,0,34.390909090909084,0,0]
[null,null,null,null,0.98,0.97,0.99,null,null,null,null,null,null,null,null,null,null,null,null,null,null,null,null,null,null,null,null,null,null,null,null,null,null,null,null,null,null,null,null,null,null,null,null,null,null,null,null,null,null,42,6566.4909090909096,0.41,0,1227.7545454545455,0.10199999999999999,0,569.9545454545455,3.4000000000000002E-2,0,192.65454545454546,1.7000000000000001E-2,0,45.854545454545452,0,0]
[null,null,null,null,0.99,{"$f":"AVERAGE(F362,F364)","v":0.97499999999999998},0.995,null,null,null,null,null,null,null,null,null,null,null,null,null,null,null,null,null,null,null,null,null,null,null,null,null,null,null,null,null,null,null,null,null,null,null,null,null,null,null,null,null,null,43,6577.9636363636364,0.41,0,1239.2181818181818,0.10199999999999999,0,581.41818181818189,3.4000000000000002E-2,0,204.11818181818182,1.7000000000000001E-2,0,57.31818181818182,0,0]
[null,null,null,null,1,0.98,1,null,null,null,null,null,null,null,null,null,null,null,null,null,null,null,null,null,null,null,null,null,null,null,null,null,null,null,null,null,null,null,null,null,null,null,null,null,null,null,null,null,null,44,6589.4363636363641,0.41,0,1250.6818181818182,0.10199999999999999,0,592.88181818181818,3.4000000000000002E-2,0,215.58181818181816,1.7000000000000001E-2,0,68.781818181818167,0,0]
[null,null,null,null,1.01,{"$f":"AVERAGE(F364,F366)","v":0.98499999999999999},1,null,null,null,null,null,null,null,null,null,null,null,null,null,null,null,null,null,null,null,null,null,null,null,null,null,null,null,null,null,null,null,null,null,null,null,null,null,null,null,null,null,null,45,6600.909090909091,0.41,0,1262.1454545454546,0.10199999999999999,0,604.34545454545457,3.4000000000000002E-2,0,227.04545454545456,1.7000000000000001E-2,0,80.245454545454535,0,0]
[null,null,null,null,1.02,0.99,1,null,null,null,null,null,null,null,null,null,null,null,null,null,null,null,null,null,null,null,null,null,null,null,null,null,null,null,null,null,null,null,null,null,null,null,null,null,null,null,null,null,null,46,6612.3818181818187,0.41,0,1273.609090909091,0.10199999999999999,0,615.80909090909097,3.4000000000000002E-2,0,238.5090909090909,1.7000000000000001E-2,0,91.709090909090904,0,0]
[null,null,null,null,1.03,{"$f":"AVERAGE(F366,F368)","v":0.995},1,null,null,null,null,null,null,null,null,null,null,null,null,null,null,null,null,null,null,null,null,null,null,null,null,null,null,null,null,null,null,null,null,null,null,null,null,null,null,null,null,null,null,47,6623.8545454545456,0.41,0,1285.0727272727272,0.10199999999999999,0,627.27272727272725,3.4000000000000002E-2,0,249.97272727272724,1.7000000000000001E-2,0,103.17272727272726,0,0]
[null,null,null,null,1.04,1,1,null,null,null,null,null,null,null,null,null,null,null,null,null,null,null,null,null,null,null,null,null,null,null,null,null,null,null,null,null,null,null,null,null,null,null,null,null,null,null,null,null,null,48,6635.3272727272733,0.41,0,1296.5363636363636,0.10199999999999999,0,638.73636363636365,3.4000000000000002E-2,0,261.43636363636358,1.7000000000000001E-2,0,114.63636363636364,0,0]
[null,null,null,null,1.05,1,{"$f":"AVERAGE(G368,G370)","v":1},null,null,null,null,null,null,null,null,null,null,null,null,null,null,null,null,null,null,null,null,null,null,null,null,null,null,null,null,null,null,null,null,null,null,null,null,null,null,null,null,null,null,49,6646.8,0.41,0,1308,0.10199999999999999,0,650.20000000000005,3.4000000000000002E-2,0,272.89999999999998,1.7000000000000001E-2,0,126.1,0,0]
[null,null,null,null,1.06,1,1,null,null,null,null,null,null,null,null,null,null,null,null,null,null,null,null,null,null,null,null,null,null,null,null,null,null,null,null,null,null,null,null,null,null,null,null,null,null,null,null,null,null,50,{"$f":"((($AX370-$AX$369)*(AY$380-AY$369))/($AX$380-$AX$369))+AY$369","v":6654.4636363636364},0.41154545454545455,0,1315.6636363636364,0.10354545454545454,0,657.86363636363637,3.5545454545454547E-2,0,280.56363636363636,1.8545454545454546E-2,0,133.76363636363635,1.5454545454545456E-3,0]
[null,null,null,null,1.07,{"$f":"AVERAGE(F370,F372)","v":1},1,null,null,null,null,null,null,null,null,null,null,null,null,null,null,null,null,null,null,null,null,null,null,null,null,null,null,null,null,null,null,null,null,null,null,null,null,null,null,null,null,null,null,51,6662.1272727272726,0.41309090909090906,0,1323.3272727272727,0.10509090909090908,0,665.52727272727282,3.7090909090909091E-2,0,288.22727272727269,2.0090909090909093E-2,0,141.42727272727274,3.0909090909090912E-3,0]
[null,null,null,null,1.08,1,1,null,null,null,null,null,null,null,null,null,null,null,null,null,null,null,null,null,null,null,null,null,null,null,null,null,null,null,null,null,null,null,null,null,null,null,null,null,null,null,null,null,null,52,6669.7909090909097,0.41463636363636364,0,1330.9909090909091,0.10663636363636363,0,673.19090909090914,3.8636363636363635E-2,0,295.89090909090908,2.1636363636363638E-2,0,149.09090909090909,4.6363636363636364E-3,0]
[null,null,null,null,1.0900000000000001,{"$f":"AVERAGE(F372,F374)","v":1},1,null,null,null,null,null,null,null,null,null,null,null,null,null,null,null,null,null,null,null,null,null,null,null,null,null,null,null,null,null,null,null,null,null,null,null,null,null,null,null,null,null,null,53,6677.454545454546,0.41618181818181815,0,1338.6545454545455,0.10818181818181817,0,680.85454545454547,4.018181818181818E-2,0,303.55454545454546,2.3181818181818185E-2,0,156.75454545454545,6.1818181818181824E-3,0]
[null,null,null,null,1.1000000000000001,1,1,null,null,null,null,null,null,null,null,null,null,null,null,null,null,null,null,null,null,null,null,null,null,null,null,null,null,null,null,null,null,null,null,null,null,null,null,null,null,null,null,null,null,54,6685.1181818181822,0.41772727272727272,0,1346.3181818181818,0.10972727272727271,0,688.5181818181818,4.1727272727272724E-2,0,311.21818181818179,2.472727272727273E-2,0,164.41818181818181,7.7272727272727276E-3,0]
[null,null,null,null,1.1100000000000001,{"$f":"AVERAGE(F374,F376)","v":1},0.995,null,null,null,null,null,null,null,null,null,null,null,null,null,null,null,null,null,null,null,null,null,null,null,null,null,null,null,null,null,null,null,null,null,null,null,null,null,null,null,null,null,null,55,6692.7818181818184,0.41927272727272724,0,1353.9818181818182,0.11127272727272727,0,696.18181818181824,4.3272727272727268E-2,0,318.88181818181818,2.6272727272727274E-2,0,172.08181818181819,9.2727272727272728E-3,0]
[null,null,null,null,1.1200000000000001,1,0.99,null,null,null,null,null,null,null,null,null,null,null,null,null,null,null,null,null,null,null,null,null,null,null,null,null,null,null,null,null,null,null,null,null,null,null,null,null,null,null,null,null,null,56,6700.4454545454546,0.42081818181818181,0,1361.6454545454544,0.11281818181818182,0,703.84545454545457,4.481818181818182E-2,0,326.5454545454545,2.7818181818181818E-2,0,179.74545454545455,1.0818181818181819E-2,0]
[null,null,null,null,1.1299999999999999,{"$f":"AVERAGE(F376,F378)","v":1},0.99,null,null,null,null,null,null,null,null,null,null,null,null,null,null,null,null,null,null,null,null,null,null,null,null,null,null,null,null,null,null,null,null,null,null,null,null,null,null,null,null,null,null,57,6708.1090909090908,0.42236363636363633,0,1369.3090909090909,0.11436363636363636,0,711.5090909090909,4.6363636363636364E-2,0,334.20909090909089,2.9363636363636366E-2,0,187.40909090909091,1.2363636363636365E-2,0]
[null,null,null,null,1.1399999999999999,1,0.99,null,null,null,null,null,null,null,null,null,null,null,null,null,null,null,null,null,null,null,null,null,null,null,null,null,null,null,null,null,null,null,null,null,null,null,null,null,null,null,null,null,null,58,6715.7727272727279,0.4239090909090909,0,1376.9727272727273,0.11590909090909091,0,719.17272727272734,4.7909090909090908E-2,0,341.87272727272727,3.0909090909090914E-2,0,195.07272727272726,1.3909090909090911E-2,0]
[null,null,null,null,1.1499999999999999,{"$f":"AVERAGE(F378,F380)","v":1},0.99,null,null,null,null,null,null,null,null,null,null,null,null,null,null,null,null,null,null,null,null,null,null,null,null,null,null,null,null,null,null,null,null,null,null,null,null,null,null,null,null,null,null,59,6723.4363636363641,0.42545454545454542,0,1384.6363636363635,0.11745454545454545,0,726.83636363636367,4.9454545454545452E-2,0,349.5363636363636,3.2454545454545458E-2,0,202.73636363636365,1.5454545454545455E-2,0]
[null,null,null,null,1.1599999999999999,1,0.99,null,null,null,null,null,null,null,null,null,null,null,null,null,null,null,null,null,null,null,null,null,null,null,null,null,null,null,null,null,null,null,null,null,null,null,null,null,null,null,null,null,null,60,6731.1,0.42699999999999999,0,1392.3,0.11899999999999999,0,734.5,5.0999999999999997E-2,0,357.2,3.4000000000000002E-2,0,210.4,1.7000000000000001E-2,0]
[null,null,null,null,1.17,{"$f":"AVERAGE(F380,F382)","v":1},0.99]
[null,null,null,null,1.18,1,0.99]
[null,null,null,null,1.19,{"$f":"AVERAGE(F382,F384)","v":1},0.99]
[null,null,null,null,1.2,1,0.99]
[null,null,null,null,1.21,{"$f":"AVERAGE(F384,F386)","v":1},0.98499999999999999,null,null,null,null,null,null,null,null,null,null,null,null,null,null,null,null,null,null,null,null,null,null,null,null,null,null,null,null,null,null,null,null,null,null,null,null,null,null,null,null,null,null,"Ceiling Insulation - Electric Heat No AC"]
[null,null,null,null,1.22,1,0.98,null,null,null,null,null,null,null,null,null,null,null,null,null,null,null,null,null,null,null,null,null,null,null,null,null,null,null,null,null,null,null,null,null,null,null,null,null,null,null,null,null,null,"Base",0,null,null,11,null,null,19,null,null,30,null,null,38]
[null,null,null,null,1.23,{"$f":"AVERAGE(F386,F388)","v":0.995},0.98,null,null,null,null,null,null,null,null,null,null,null,null,null,null,null,null,null,null,null,null,null,null,null,null,null,null,null,null,null,null,null,null,null,null,null,null,null,null,null,null,null,null,"Measure","kWh/ kSF","kW/ kSF",null,"kWh/ kSF","kW/ kSF",null,"kWh/ kSF","kW/ kSF",null,"kWh/ kSF","kW/ kSF",null,"kWh/ kSF","kW/ kSF"]
[null,null,null,null,1.24,0.99,0.98,null,null,null,null,null,null,null,null,null,null,null,null,null,null,null,null,null,null,null,null,null,null,null,null,null,null,null,null,null,null,null,null,null,null,null,null,null,null,null,null,null,null,11,5028.7,0,null,0,0,0,0,0,0,0,0,0,0,0,0]
[null,null,null,null,1.25,{"$f":"AVERAGE(F388,F390)","v":0.98499999999999999},0.97499999999999998,null,null,null,null,null,null,null,null,null,null,null,null,null,null,null,null,null,null,null,null,null,null,null,null,null,null,null,null,null,null,null,null,null,null,null,null,null,null,null,null,null,null,12,{"$f":"((($AX389-$AX$388)*(AY$396-AY$388))/($AX$396-$AX$388))+AY$388","v":5105.8125},0,0,77.112499999999997,0,0,0,0,0,0,0,0,0,0,0]
[null,null,null,null,1.26,0.98,0.97,null,null,null,null,null,null,null,null,null,null,null,null,null,null,null,null,null,null,null,null,null,null,null,null,null,null,null,null,null,null,null,null,null,null,null,null,null,null,null,null,null,null,13,5182.9250000000002,0,0,154.22499999999999,0,0,0,0,0,0,0,0,0,0,0]
[null,null,null,null,1.27,{"$f":"AVERAGE(F390,F392)","v":0.97499999999999998},0.97,null,null,null,null,null,null,null,null,null,null,null,null,null,null,null,null,null,null,null,null,null,null,null,null,null,null,null,null,null,null,null,null,null,null,null,null,null,null,null,null,null,null,14,5260.0375000000004,0,0,231.33749999999998,0,0,0,0,0,0,0,0,0,0,0]
[null,null,null,null,1.28,0.97,0.97,null,null,null,null,null,null,null,null,null,null,null,null,null,null,null,null,null,null,null,null,null,null,null,null,null,null,null,null,null,null,null,null,null,null,null,null,null,null,null,null,null,null,15,5337.15,0,0,308.45,0,0,0,0,0,0,0,0,0,0,0]
[null,null,null,null,1.29,{"$f":"AVERAGE(F392,F394)","v":0.96499999999999997},0.96499999999999997,null,null,null,null,null,null,null,null,null,null,null,null,null,null,null,null,null,null,null,null,null,null,null,null,null,null,null,null,null,null,null,null,null,null,null,null,null,null,null,null,null,null,16,5414.2624999999998,0,0,385.5625,0,0,0,0,0,0,0,0,0,0,0]
[null,null,null,null,1.3,0.96,0.96,null,null,null,null,null,null,null,null,null,null,null,null,null,null,null,null,null,null,null,null,null,null,null,null,null,null,null,null,null,null,null,null,null,null,null,null,null,null,null,null,null,null,17,5491.375,0,0,462.67499999999995,0,0,0,0,0,0,0,0,0,0,0]
[null,null,null,null,null,null,null,null,null,null,null,null,null,null,null,null,null,null,null,null,null,null,null,null,null,null,null,null,null,null,null,null,null,null,null,null,null,null,null,null,null,null,null,null,null,null,null,null,null,18,5568.4875000000002,0,0,539.78750000000002,0,0,0,0,0,0,0,0,0,0,0]
[null,null,null,null,null,null,null,null,null,null,null,null,null,null,null,null,null,null,null,null,null,null,null,null,null,null,null,null,null,null,null,null,null,null,null,null,null,null,null,null,null,null,null,null,null,null,null,null,null,19,5645.6,0,null,616.9,0,0,0,0,0,0,0,0,0,0,0]
[null,null,null,null,null,null,null,null,null,null,null,null,null,null,null,null,null,null,null,null,null,null,null,null,null,null,null,null,null,null,null,null,null,null,null,null,null,null,null,null,null,null,null,null,null,null,null,null,null,20,{"$f":"((($AX397-$AX$396)*(AY$407-AY$396))/($AX$407-$AX$396))+AY$396","v":5677.9454545454546},0,0,649.24545454545455,0,0,32.345454545454544,0,0,0,0,0,0,0,0]
[null,null,null,null,null,null,null,null,null,null,null,null,null,null,null,null,null,null,null,null,null,null,null,null,null,null,null,null,null,null,null,null,null,null,null,null,null,null,null,null,null,null,null,null,null,null,null,null,null,21,5710.2909090909097,0,0,681.59090909090912,0,0,64.690909090909088,0,0,0,0,0,0,0,0]
[null,null,null,null,null,null,null,null,null,null,null,null,null,null,null,null,null,null,null,null,null,null,null,null,null,null,null,null,null,null,null,null,null,null,null,null,null,null,null,null,null,null,null,null,null,null,null,null,null,22,5742.636363636364,0,0,713.93636363636358,0,0,97.036363636363646,0,0,0,0,0,0,0,0]
[null,null,null,null,null,null,null,null,null,null,null,null,null,null,null,null,null,null,null,null,null,null,null,null,null,null,null,null,null,null,null,null,null,null,null,null,null,null,null,null,null,null,null,null,null,null,null,null,null,23,5774.9818181818182,0,0,746.28181818181815,0,0,129.38181818181818,0,0,0,0,0,0,0,0]
[null,null,null,null,null,null,null,null,null,null,null,null,null,null,null,null,null,null,null,null,null,null,null,null,null,null,null,null,null,null,null,null,null,null,null,null,null,null,null,null,null,null,null,null,null,null,null,null,null,24,5807.3272727272724,0,0,778.62727272727273,0,0,161.72727272727272,0,0,0,0,0,0,0,0]
[null,null,null,null,null,null,null,null,null,null,null,null,null,null,null,null,null,null,null,null,null,null,null,null,null,null,null,null,null,null,null,null,null,null,null,null,null,null,null,null,null,null,null,null,null,null,null,null,null,25,5839.6727272727276,0,0,810.9727272727273,0,0,194.07272727272729,0,0,0,0,0,0,0,0]
[null,null,null,null,null,null,null,null,null,null,null,null,null,null,null,null,null,null,null,null,null,null,null,null,null,null,null,null,null,null,null,null,null,null,null,null,null,null,null,null,null,null,null,null,null,null,null,null,null,26,5872.0181818181818,0,0,843.31818181818187,0,0,226.41818181818181,0,0,0,0,0,0,0,0]
[null,null,null,null,null,null,null,null,null,null,null,null,null,null,null,null,null,null,null,null,null,null,null,null,null,null,null,null,null,null,null,null,null,null,null,null,null,null,null,null,null,null,null,null,null,null,null,null,null,27,5904.363636363636,0,0,875.66363636363644,0,0,258.76363636363635,0,0,0,0,0,0,0,0]
[null,null,null,null,null,null,null,null,null,null,null,null,null,null,null,null,null,null,null,null,null,null,null,null,null,null,null,null,null,null,null,null,null,null,null,null,null,null,null,null,null,null,null,null,null,null,null,null,null,28,5936.7090909090903,0,0,908.0090909090909,0,0,291.10909090909092,0,0,0,0,0,0,0,0]
[null,null,null,null,null,null,null,null,null,null,null,null,null,null,null,null,null,null,null,null,null,null,null,null,null,null,null,null,null,null,null,null,null,null,null,null,null,null,null,null,null,null,null,null,null,null,null,null,null,29,5969.0545454545454,0,0,940.35454545454559,0,0,323.45454545454544,0,0,0,0,0,0,0,0]
[null,null,null,null,null,null,null,null,null,null,null,null,null,null,null,null,null,null,null,null,null,null,null,null,null,null,null,null,null,null,null,null,null,null,null,null,null,null,null,null,null,null,null,null,null,null,null,null,null,30,6001.4,0,0,972.7,0,0,355.8,0,0,0,0,0,0,0,0]
[null,null,null,null,null,null,null,null,null,null,null,null,null,null,null,null,null,null,null,null,null,null,null,null,null,null,null,null,null,null,null,null,null,null,null,null,null,null,null,null,null,null,null,null,null,null,null,null,null,31,{"$f":"((($AX408-$AX$407)*(AY$415-AY$407))/($AX$415-$AX$407))+AY$407","v":6018.8249999999998},0,0,990.125,0,0,373.22500000000002,0,0,17.425000000000001,0,0,0,0,0]
[null,null,null,null,null,null,null,null,null,null,null,null,null,null,null,null,null,null,null,null,null,null,null,null,null,null,null,null,null,null,null,null,null,null,null,null,null,null,null,null,null,null,null,null,null,null,null,null,null,32,6036.25,0,0,1007.55,0,0,390.65,0,0,34.85,0,0,0,0,0]
[null,null,null,null,null,null,null,null,null,null,null,null,null,null,null,null,null,null,null,null,null,null,null,null,null,null,null,null,null,null,null,null,null,null,null,null,null,null,null,null,null,null,null,null,null,null,null,null,null,33,6053.6750000000002,0,0,1024.9749999999999,0,0,408.07499999999999,0,0,52.275000000000006,0,0,0,0,0]
[null,null,null,null,null,null,null,null,null,null,null,null,null,null,null,null,null,null,null,null,null,null,null,null,null,null,null,null,null,null,null,null,null,null,null,null,null,null,null,null,null,null,null,null,null,null,null,null,null,34,6071.1,0,0,1042.4000000000001,0,0,425.5,0,0,69.7,0,0,0,0,0]
[null,null,null,null,null,null,null,null,null,null,null,null,null,null,null,null,null,null,null,null,null,null,null,null,null,null,null,null,null,null,null,null,null,null,null,null,null,null,null,null,null,null,null,null,null,null,null,null,null,35,6088.5249999999996,0,0,1059.825,0,0,442.92500000000001,0,0,87.125,0,0,0,0,0]
[null,null,null,null,null,null,null,null,null,null,null,null,null,null,null,null,null,null,null,null,null,null,null,null,null,null,null,null,null,null,null,null,null,null,null,null,null,null,null,null,null,null,null,null,null,null,null,null,null,36,6105.95,0,0,1077.25,0,0,460.35,0,0,104.55000000000001,0,0,0,0,0]
[null,null,null,null,null,null,null,null,null,null,null,null,null,null,null,null,null,null,null,null,null,null,null,null,null,null,null,null,null,null,null,null,null,null,null,null,null,null,null,null,null,null,null,null,null,null,null,null,null,37,6123.375,0,0,1094.675,0,0,477.77499999999998,0,0,121.97500000000001,0,0,0,0,0]
[null,null,null,null,null,null,null,null,null,null,null,null,null,null,null,null,null,null,null,null,null,null,null,null,null,null,null,null,null,null,null,null,null,null,null,null,null,null,null,null,null,null,null,null,null,null,null,null,null,38,6140.8,0,0,1112.0999999999999,0,0,495.2,0,0,139.4,0,0,0,0,0]
[null,null,null,null,null,null,null,null,null,null,null,null,null,null,null,null,null,null,null,null,null,null,null,null,null,null,null,null,null,null,null,null,null,null,null,null,null,null,null,null,null,null,null,null,null,null,null,null,null,39,{"$f":"((($AX416-$AX$415)*(AY$426-AY$415))/($AX$426-$AX$415))+AY$415","v":6151.8727272727274},0,0,1123.181818181818,0,0,506.28181818181815,0,0,150.4818181818182,0,0,11.072727272727272,0,0]
[null,null,null,null,null,null,null,null,null,null,null,null,null,null,null,null,null,null,null,null,null,null,null,null,null,null,null,null,null,null,null,null,null,null,null,null,null,null,null,null,null,null,null,null,null,null,null,null,null,40,6162.9454545454546,0,0,1134.2636363636364,0,0,517.36363636363637,0,0,161.56363636363636,0,0,22.145454545454545,0,0]
[null,null,null,null,null,null,null,null,null,null,null,null,null,null,null,null,null,null,null,null,null,null,null,null,null,null,null,null,null,null,null,null,null,null,null,null,null,null,null,null,null,null,null,null,null,null,null,null,null,41,6174.0181818181818,0,0,1145.3454545454545,0,0,528.4454545454546,0,0,172.64545454545456,0,0,33.218181818181819,0,0]
[null,null,null,null,null,null,null,null,null,null,null,null,null,null,null,null,null,null,null,null,null,null,null,null,null,null,null,null,null,null,null,null,null,null,null,null,null,null,null,null,null,null,null,null,null,null,null,null,null,42,6185.090909090909,0,0,1156.4272727272726,0,0,539.5272727272727,0,0,183.72727272727275,0,0,44.290909090909089,0,0]
[null,null,null,null,null,null,null,null,null,null,null,null,null,null,null,null,null,null,null,null,null,null,null,null,null,null,null,null,null,null,null,null,null,null,null,null,null,null,null,null,null,null,null,null,null,null,null,null,null,43,6196.1636363636362,0,0,1167.5090909090909,0,0,550.60909090909092,0,0,194.80909090909091,0,0,55.363636363636367,0,0]
[null,null,null,null,null,null,null,null,null,null,null,null,null,null,null,null,null,null,null,null,null,null,null,null,null,null,null,null,null,null,null,null,null,null,null,null,null,null,null,null,null,null,null,null,null,null,null,null,null,44,6207.2363636363643,0,0,1178.590909090909,0,0,561.69090909090914,0,0,205.8909090909091,0,0,66.436363636363637,0,0]
[null,null,null,null,null,null,null,null,null,null,null,null,null,null,null,null,null,null,null,null,null,null,null,null,null,null,null,null,null,null,null,null,null,null,null,null,null,null,null,null,null,null,null,null,null,null,null,null,null,45,6218.3090909090915,0,0,1189.6727272727273,0,0,572.77272727272725,0,0,216.9727272727273,0,0,77.509090909090915,0,0]
[null,null,null,null,null,null,null,null,null,null,null,null,null,null,null,null,null,null,null,null,null,null,null,null,null,null,null,null,null,null,null,null,null,null,null,null,null,null,null,null,null,null,null,null,null,null,null,null,null,46,6229.3818181818187,0,0,1200.7545454545455,0,0,583.85454545454547,0,0,228.05454545454546,0,0,88.581818181818178,0,0]
[null,null,null,null,null,null,null,null,null,null,null,null,null,null,null,null,null,null,null,null,null,null,null,null,null,null,null,null,null,null,null,null,null,null,null,null,null,null,null,null,null,null,null,null,null,null,null,null,null,47,6240.454545454546,0,0,1211.8363636363636,0,0,594.93636363636369,0,0,239.13636363636365,0,0,99.654545454545456,0,0]
[null,null,null,null,null,null,null,null,null,null,null,null,null,null,null,null,null,null,null,null,null,null,null,null,null,null,null,null,null,null,null,null,null,null,null,null,null,null,null,null,null,null,null,null,null,null,null,null,null,48,6251.5272727272732,0,0,1222.9181818181819,0,0,606.0181818181818,0,0,250.21818181818182,0,0,110.72727272727273,0,0]
[null,null,null,null,null,null,null,null,null,null,null,null,null,null,null,null,null,null,null,null,null,null,null,null,null,null,null,null,null,null,null,null,null,null,null,null,null,null,null,null,null,null,null,null,null,null,null,null,null,49,6262.6,0,0,1234,0,0,617.1,0,0,261.3,0,0,121.8,0,0]
[null,null,null,null,null,null,null,null,null,null,null,null,null,null,null,null,null,null,null,null,null,null,null,null,null,null,null,null,null,null,null,null,null,null,null,null,null,null,null,null,null,null,null,null,null,null,null,null,null,50,{"$f":"((($AX427-$AX$426)*(AY$437-AY$426))/($AX$437-$AX$426))+AY$426","v":6269.8363636363638},0,0,1241.2272727272727,0,0,624.32727272727277,0,0,268.52727272727276,0,0,129.03636363636363,0,0]
[null,null,null,null,null,null,null,null,null,null,null,null,null,null,null,null,null,null,null,null,null,null,null,null,null,null,null,null,null,null,null,null,null,null,null,null,null,null,null,null,null,null,null,null,null,null,null,null,null,51,6277.0727272727272,0,0,1248.4545454545455,0,0,631.55454545454552,0,0,275.75454545454545,0,0,136.27272727272728,0,0]
[null,null,null,null,null,null,null,null,null,null,null,null,null,null,null,null,null,null,null,null,null,null,null,null,null,null,null,null,null,null,null,null,null,null,null,null,null,null,null,null,null,null,null,null,null,null,null,null,null,52,6284.3090909090915,0,0,1255.6818181818182,0,0,638.78181818181815,0,0,282.9818181818182,0,0,143.5090909090909,0,0]
[null,null,null,null,null,null,null,null,null,null,null,null,null,null,null,null,null,null,null,null,null,null,null,null,null,null,null,null,null,null,null,null,null,null,null,null,null,null,null,null,null,null,null,null,null,null,null,null,null,53,6291.545454545455,0,0,1262.909090909091,0,0,646.0090909090909,0,0,290.20909090909095,0,0,150.74545454545455,0,0]
[null,null,null,null,null,null,null,null,null,null,null,null,null,null,null,null,null,null,null,null,null,null,null,null,null,null,null,null,null,null,null,null,null,null,null,null,null,null,null,null,null,null,null,null,null,null,null,null,null,54,6298.7818181818184,0,0,1270.1363636363637,0,0,653.23636363636365,0,0,297.43636363636364,0,0,157.9818181818182,0,0]
[null,null,null,null,null,null,null,null,null,null,null,null,null,null,null,null,null,null,null,null,null,null,null,null,null,null,null,null,null,null,null,null,null,null,null,null,null,null,null,null,null,null,null,null,null,null,null,null,null,55,6306.0181818181818,0,0,1277.3636363636363,0,0,660.4636363636364,0,0,304.66363636363639,0,0,165.21818181818182,0,0]
[null,null,null,null,null,null,null,null,null,null,null,null,null,null,null,null,null,null,null,null,null,null,null,null,null,null,null,null,null,null,null,null,null,null,null,null,null,null,null,null,null,null,null,null,null,null,null,null,null,56,6313.2545454545452,0,0,1284.590909090909,0,0,667.69090909090914,0,0,311.89090909090908,0,0,172.45454545454544,0,0]
[null,null,null,null,null,null,null,null,null,null,null,null,null,null,null,null,null,null,null,null,null,null,null,null,null,null,null,null,null,null,null,null,null,null,null,null,null,null,null,null,null,null,null,null,null,null,null,null,null,57,6320.4909090909086,0,0,1291.8181818181818,0,0,674.91818181818189,0,0,319.11818181818182,0,0,179.69090909090909,0,0]
[null,null,null,null,null,null,null,null,null,null,null,null,null,null,null,null,null,null,null,null,null,null,null,null,null,null,null,null,null,null,null,null,null,null,null,null,null,null,null,null,null,null,null,null,null,null,null,null,null,58,6327.727272727273,0,0,1299.0454545454545,0,0,682.14545454545453,0,0,326.34545454545457,0,0,186.92727272727274,0,0]
[null,null,null,null,null,null,null,null,null,null,null,null,null,null,null,null,null,null,null,null,null,null,null,null,null,null,null,null,null,null,null,null,null,null,null,null,null,null,null,null,null,null,null,null,null,null,null,null,null,59,6334.9636363636364,0,0,1306.2727272727273,0,0,689.37272727272727,0,0,333.57272727272726,0,0,194.16363636363639,0,0]
[null,null,null,null,null,null,null,null,null,null,null,null,null,null,null,null,null,null,null,null,null,null,null,null,null,null,null,null,null,null,null,null,null,null,null,null,null,null,null,null,null,null,null,null,null,null,null,null,null,60,6342.2,0,0,1313.5,0,0,696.6,0,0,340.8,0,0,201.4,0,0]
[]
[]
[]
[null,null,null,null,null,null,null,null,null,null,null,null,null,null,null,null,null,null,null,null,null,null,null,null,null,null,null,null,null,null,null,null,null,null,null,null,null,null,null,null,null,null,null,null,null,null,null,null,null,"Ceiling Insulation - HVAC: Gas Heat No AC"]
[null,null,null,null,null,null,null,null,null,null,null,null,null,null,null,null,null,null,null,null,null,null,null,null,null,null,null,null,null,null,null,null,null,null,null,null,null,null,null,null,null,null,null,null,null,null,null,null,null,"Base",0,null,null,11,null,null,19,null,null,30,null,null,38]
[null,null,null,null,null,null,null,null,null,null,null,null,null,null,null,null,null,null,null,null,null,null,null,null,null,null,null,null,null,null,null,null,null,null,null,null,null,null,null,null,null,null,null,null,null,null,null,null,null,"Measure","kWh/ kSF","kW/ kSF","therm/ kSF","kWh/ kSF","kW/ kSF","therm/ kSF","kWh/ kSF","kW/ kSF","therm/ kSF","kWh/ kSF","kW/ kSF","therm/ kSF","kWh/ kSF","kW/ kSF","therm/ kSF"]
[null,null,null,null,null,null,null,null,null,null,null,null,null,null,null,null,null,null,null,null,null,null,null,null,null,null,null,null,null,null,null,null,null,null,null,null,null,null,null,null,null,null,null,null,null,null,null,null,null,11,105.6,0,224.4]
[null,null,null,null,null,null,null,null,null,null,null,null,null,null,null,null,null,null,null,null,null,null,null,null,null,null,null,null,null,null,null,null,null,null,null,null,null,null,null,null,null,null,null,null,null,null,null,null,null,12,{"$f":"((($AX445-$AX$444)*(AY$452-AY$444))/($AX$452-$AX$444))+AY$444","v":107.19999999999999},0,227.92500000000001,1.6,0,3.5249999999999999]
[null,null,null,null,null,null,null,null,null,null,null,null,null,null,null,null,null,null,null,null,null,null,null,null,null,null,null,null,null,null,null,null,null,null,null,null,null,null,null,null,null,null,null,null,null,null,null,null,null,13,108.8,0,231.45,3.2,0,7.05]
[null,null,null,null,null,null,null,null,null,null,null,null,null,null,null,null,null,null,null,null,null,null,null,null,null,null,null,null,null,null,null,null,null,null,null,null,null,null,null,null,null,null,null,null,null,null,null,null,null,14,110.4,0,234.97499999999999,4.8000000000000007,0,10.574999999999999]
[null,null,null,null,null,null,null,null,null,null,null,null,null,null,null,null,null,null,null,null,null,null,null,null,null,null,null,null,null,null,null,null,null,null,null,null,null,null,null,null,null,null,null,null,null,null,null,null,null,15,112,0,238.5,6.4,0,14.1]
[null,null,null,null,null,null,null,null,null,null,null,null,null,null,null,null,null,null,null,null,null,null,null,null,null,null,null,null,null,null,null,null,null,null,null,null,null,null,null,null,null,null,null,null,null,null,null,null,null,16,113.6,0,242.02500000000001,8,0,17.625]
[null,null,null,null,null,null,null,null,null,null,null,null,null,null,null,null,null,null,null,null,null,null,null,null,null,null,null,null,null,null,null,null,null,null,null,null,null,null,null,null,null,null,null,null,null,null,null,null,null,17,115.2,0,245.55,9.6000000000000014,0,21.15]
[null,null,null,null,null,null,null,null,null,null,null,null,null,null,null,null,null,null,null,null,null,null,null,null,null,null,null,null,null,null,null,null,null,null,null,null,null,null,null,null,null,null,null,null,null,null,null,null,null,18,116.80000000000001,0,249.07499999999999,11.200000000000001,0,24.675000000000001]
[null,null,null,null,null,null,null,null,null,null,null,null,null,null,null,null,null,null,null,null,null,null,null,null,null,null,null,null,null,null,null,null,null,null,null,null,null,null,null,null,null,null,null,null,null,null,null,null,null,19,118.4,0,252.6,12.8,0,28.2]
[null,null,null,null,null,null,null,null,null,null,null,null,null,null,null,null,null,null,null,null,null,null,null,null,null,null,null,null,null,null,null,null,null,null,null,null,null,null,null,null,null,null,null,null,null,null,null,null,null,20,{"$f":"((($AX453-$AX$452)*(AY$463-AY$452))/($AX$463-$AX$452))+AY$452","v":119.08181818181819},0,254.07272727272726,13.481818181818182,0,29.672727272727272,0.68181818181818177,0,1.4727272727272727,0,0,0,0,0,0]
[null,null,null,null,null,null,null,null,null,null,null,null,null,null,null,null,null,null,null,null,null,null,null,null,null,null,null,null,null,null,null,null,null,null,null,null,null,null,null,null,null,null,null,null,null,null,null,null,null,21,119.76363636363637,0,255.54545454545453,14.163636363636364,0,31.145454545454545,1.3636363636363635,0,2.9454545454545453,0,0,0,0,0,0]
[null,null,null,null,null,null,null,null,null,null,null,null,null,null,null,null,null,null,null,null,null,null,null,null,null,null,null,null,null,null,null,null,null,null,null,null,null,null,null,null,null,null,null,null,null,null,null,null,null,22,120.44545454545455,0,257.0181818181818,14.845454545454546,0,32.618181818181817,2.0454545454545454,0,4.418181818181818,0,0,0,0,0,0]
[null,null,null,null,null,null,null,null,null,null,null,null,null,null,null,null,null,null,null,null,null,null,null,null,null,null,null,null,null,null,null,null,null,null,null,null,null,null,null,null,null,null,null,null,null,null,null,null,null,23,121.12727272727274,0,258.4909090909091,15.527272727272727,0,34.090909090909093,2.7272727272727271,0,5.8909090909090907,0,0,0,0,0,0]
[null,null,null,null,null,null,null,null,null,null,null,null,null,null,null,null,null,null,null,null,null,null,null,null,null,null,null,null,null,null,null,null,null,null,null,null,null,null,null,null,null,null,null,null,null,null,null,null,null,24,121.80909090909091,0,259.96363636363634,16.209090909090911,0,35.563636363636363,3.4090909090909092,0,7.3636363636363633,0,0,0,0,0,0]
[null,null,null,null,null,null,null,null,null,null,null,null,null,null,null,null,null,null,null,null,null,null,null,null,null,null,null,null,null,null,null,null,null,null,null,null,null,null,null,null,null,null,null,null,null,null,null,null,null,25,122.4909090909091,0,261.43636363636364,16.890909090909091,0,37.036363636363632,4.0909090909090908,0,8.836363636363636,0,0,0,0,0,0]
[null,null,null,null,null,null,null,null,null,null,null,null,null,null,null,null,null,null,null,null,null,null,null,null,null,null,null,null,null,null,null,null,null,null,null,null,null,null,null,null,null,null,null,null,null,null,null,null,null,26,123.17272727272727,0,262.90909090909093,17.572727272727274,0,38.509090909090908,4.7727272727272725,0,10.309090909090909,0,0,0,0,0,0]
[null,null,null,null,null,null,null,null,null,null,null,null,null,null,null,null,null,null,null,null,null,null,null,null,null,null,null,null,null,null,null,null,null,null,null,null,null,null,null,null,null,null,null,null,null,null,null,null,null,27,123.85454545454546,0,264.38181818181818,18.254545454545454,0,39.981818181818184,5.4545454545454541,0,11.781818181818181,0,0,0,0,0,0]
[null,null,null,null,null,null,null,null,null,null,null,null,null,null,null,null,null,null,null,null,null,null,null,null,null,null,null,null,null,null,null,null,null,null,null,null,null,null,null,null,null,null,null,null,null,null,null,null,null,28,124.53636363636365,0,265.85454545454547,18.936363636363637,0,41.454545454545453,6.1363636363636367,0,13.254545454545452,0,0,0,0,0,0]
[null,null,null,null,null,null,null,null,null,null,null,null,null,null,null,null,null,null,null,null,null,null,null,null,null,null,null,null,null,null,null,null,null,null,null,null,null,null,null,null,null,null,null,null,null,null,null,null,null,29,125.21818181818182,0,267.32727272727271,19.618181818181817,0,42.927272727272722,6.8181818181818183,0,14.727272727272727,0,0,0,0,0,0]
[null,null,null,null,null,null,null,null,null,null,null,null,null,null,null,null,null,null,null,null,null,null,null,null,null,null,null,null,null,null,null,null,null,null,null,null,null,null,null,null,null,null,null,null,null,null,null,null,null,30,125.9,0,268.8,20.3,0,44.4,7.5,0,16.2]
[null,null,null,null,null,null,null,null,null,null,null,null,null,null,null,null,null,null,null,null,null,null,null,null,null,null,null,null,null,null,null,null,null,null,null,null,null,null,null,null,null,null,null,null,null,null,null,null,null,31,126.2625,0,269.58750000000003,20.662500000000001,0,45.1875,7.8624999999999998,0,16.987500000000001,0.36249999999999999,0,0.78749999999999998,0,0,0]
[null,null,null,null,null,null,null,null,null,null,null,null,null,null,null,null,null,null,null,null,null,null,null,null,null,null,null,null,null,null,null,null,null,null,null,null,null,null,null,null,null,null,null,null,null,null,null,null,null,32,126.625,0,270.375,21.024999999999999,0,45.975000000000001,8.2249999999999996,0,17.774999999999999,0.72499999999999998,0,1.575,0,0,0]
[null,null,null,null,null,null,null,null,null,null,null,null,null,null,null,null,null,null,null,null,null,null,null,null,null,null,null,null,null,null,null,null,null,null,null,null,null,null,null,null,null,null,null,null,null,null,null,null,null,33,126.98750000000001,0,271.16250000000002,21.387499999999999,0,46.762500000000003,8.5875000000000004,0,18.5625,1.0874999999999999,0,2.3624999999999998,0,0,0]
[null,null,null,null,null,null,null,null,null,null,null,null,null,null,null,null,null,null,null,null,null,null,null,null,null,null,null,null,null,null,null,null,null,null,null,null,null,null,null,null,null,null,null,null,null,null,null,null,null,34,127.35000000000001,0,271.95000000000005,21.75,0,47.55,8.9499999999999993,0,19.350000000000001,1.45,0,3.15,0,0,0]
[null,null,null,null,null,null,null,null,null,null,null,null,null,null,null,null,null,null,null,null,null,null,null,null,null,null,null,null,null,null,null,null,null,null,null,null,null,null,null,null,null,null,null,null,null,null,null,null,null,35,127.71250000000001,0,272.73750000000001,22.112500000000001,0,48.337499999999999,9.3125,0,20.137499999999999,1.8125,0,3.9375,0,0,0]
[null,null,null,null,null,null,null,null,null,null,null,null,null,null,null,null,null,null,null,null,null,null,null,null,null,null,null,null,null,null,null,null,null,null,null,null,null,null,null,null,null,null,null,null,null,null,null,null,null,36,128.07500000000002,0,273.52500000000003,22.475000000000001,0,49.125,9.6750000000000007,0,20.925000000000001,2.1749999999999998,0,4.7249999999999996,0,0,0]
[null,null,null,null,null,null,null,null,null,null,null,null,null,null,null,null,null,null,null,null,null,null,null,null,null,null,null,null,null,null,null,null,null,null,null,null,null,null,null,null,null,null,null,null,null,null,null,null,null,37,128.4375,0,274.3125,22.837499999999999,0,49.912500000000001,10.037500000000001,0,21.712499999999999,2.5375000000000001,0,5.5125000000000002,0,0,0]
[null,null,null,null,null,null,null,null,null,null,null,null,null,null,null,null,null,null,null,null,null,null,null,null,null,null,null,null,null,null,null,null,null,null,null,null,null,null,null,null,null,null,null,null,null,null,null,null,null,38,128.80000000000001,0,275.10000000000002,23.2,0,50.7,10.4,0,22.5,2.9,0,6.3]
[null,null,null,null,null,null,null,null,null,null,null,null,null,null,null,null,null,null,null,null,null,null,null,null,null,null,null,null,null,null,null,null,null,null,null,null,null,null,null,null,null,null,null,null,null,null,null,null,null,39,129.03636363636366,0,275.60909090909092,23.436363636363637,0,51.209090909090911,10.636363636363637,0,23.018181818181819,3.1363636363636362,0,6.8090909090909086,0.23636363636363636,0,0.50909090909090904]
[null,null,null,null,null,null,null,null,null,null,null,null,null,null,null,null,null,null,null,null,null,null,null,null,null,null,null,null,null,null,null,null,null,null,null,null,null,null,null,null,null,null,null,null,null,null,null,null,null,40,129.27272727272728,0,276.11818181818182,23.672727272727272,0,51.718181818181819,10.872727272727273,0,23.536363636363635,3.3727272727272726,0,7.3181818181818183,0.47272727272727272,0,1.0181818181818181]
[null,null,null,null,null,null,null,null,null,null,null,null,null,null,null,null,null,null,null,null,null,null,null,null,null,null,null,null,null,null,null,null,null,null,null,null,null,null,null,null,null,null,null,null,null,null,null,null,null,41,129.50909090909093,0,276.62727272727273,23.90909090909091,0,52.227272727272727,11.109090909090909,0,24.054545454545455,3.6090909090909089,0,7.8272727272727272,0.70909090909090911,0,1.5272727272727271]
[null,null,null,null,null,null,null,null,null,null,null,null,null,null,null,null,null,null,null,null,null,null,null,null,null,null,null,null,null,null,null,null,null,null,null,null,null,null,null,null,null,null,null,null,null,null,null,null,null,42,129.74545454545455,0,277.13636363636363,24.145454545454545,0,52.736363636363635,11.345454545454546,0,24.572727272727271,3.8454545454545452,0,8.336363636363636,0.94545454545454544,0,2.0363636363636362]
[null,null,null,null,null,null,null,null,null,null,null,null,null,null,null,null,null,null,null,null,null,null,null,null,null,null,null,null,null,null,null,null,null,null,null,null,null,null,null,null,null,null,null,null,null,null,null,null,null,43,129.9818181818182,0,277.64545454545453,24.381818181818183,0,53.245454545454542,11.581818181818182,0,25.09090909090909,4.081818181818182,0,8.8454545454545457,1.1818181818181819,0,2.5454545454545454]
[null,null,null,null,null,null,null,null,null,null,null,null,null,null,null,null,null,null,null,null,null,null,null,null,null,null,null,null,null,null,null,null,null,null,null,null,null,null,null,null,null,null,null,null,null,null,null,null,null,44,130.21818181818182,0,278.15454545454548,24.618181818181817,0,53.754545454545458,11.818181818181818,0,25.609090909090909,4.3181818181818183,0,9.3545454545454554,1.4181818181818182,0,3.0545454545454542]
[null,null,null,null,null,null,null,null,null,null,null,null,null,null,null,null,null,null,null,null,null,null,null,null,null,null,null,null,null,null,null,null,null,null,null,null,null,null,null,null,null,null,null,null,null,null,null,null,null,45,130.45454545454547,0,278.66363636363639,24.854545454545455,0,54.263636363636365,12.054545454545455,0,26.127272727272725,4.5545454545454547,0,9.8636363636363633,1.6545454545454545,0,3.563636363636363]
[null,null,null,null,null,null,null,null,null,null,null,null,null,null,null,null,null,null,null,null,null,null,null,null,null,null,null,null,null,null,null,null,null,null,null,null,null,null,null,null,null,null,null,null,null,null,null,null,null,46,130.69090909090909,0,279.17272727272729,25.09090909090909,0,54.772727272727273,12.290909090909091,0,26.645454545454545,4.790909090909091,0,10.372727272727273,1.8909090909090909,0,4.0727272727272723]
[null,null,null,null,null,null,null,null,null,null,null,null,null,null,null,null,null,null,null,null,null,null,null,null,null,null,null,null,null,null,null,null,null,null,null,null,null,null,null,null,null,null,null,null,null,null,null,null,null,47,130.92727272727274,0,279.68181818181819,25.327272727272728,0,55.281818181818181,12.527272727272727,0,27.163636363636364,5.0272727272727273,0,10.881818181818183,2.1272727272727274,0,4.581818181818182]
[null,null,null,null,null,null,null,null,null,null,null,null,null,null,null,null,null,null,null,null,null,null,null,null,null,null,null,null,null,null,null,null,null,null,null,null,null,null,null,null,null,null,null,null,null,null,null,null,null,48,131.16363636363636,0,280.19090909090909,25.563636363636363,0,55.790909090909089,12.763636363636364,0,27.68181818181818,5.2636363636363637,0,11.390909090909091,2.3636363636363638,0,5.0909090909090908]
[null,null,null,null,null,null,null,null,null,null,null,null,null,null,null,null,null,null,null,null,null,null,null,null,null,null,null,null,null,null,null,null,null,null,null,null,null,null,null,null,null,null,null,null,null,null,null,null,null,49,131.4,0,280.7,25.8,0,56.3,13,0,28.2,5.5,0,11.9,2.6,0,5.6]
[null,null,null,null,null,null,null,null,null,null,null,null,null,null,null,null,null,null,null,null,null,null,null,null,null,null,null,null,null,null,null,null,null,null,null,null,null,null,null,null,null,null,null,null,null,null,null,null,null,50,131.55454545454546,0,281.0272727272727,25.954545454545457,0,56.627272727272725,13.154545454545454,0,28.518181818181816,5.6545454545454543,0,12.227272727272728,2.7545454545454544,0,5.9272727272727268]
[null,null,null,null,null,null,null,null,null,null,null,null,null,null,null,null,null,null,null,null,null,null,null,null,null,null,null,null,null,null,null,null,null,null,null,null,null,null,null,null,null,null,null,null,null,null,null,null,null,51,131.70909090909092,0,281.35454545454547,26.109090909090909,0,56.954545454545453,13.309090909090909,0,28.836363636363636,5.8090909090909095,0,12.554545454545455,2.9090909090909092,0,6.254545454545454]
[null,null,null,null,null,null,null,null,null,null,null,null,null,null,null,null,null,null,null,null,null,null,null,null,null,null,null,null,null,null,null,null,null,null,null,null,null,null,null,null,null,null,null,null,null,null,null,null,null,52,131.86363636363637,0,281.68181818181819,26.263636363636365,0,57.281818181818181,13.463636363636363,0,29.154545454545453,5.9636363636363638,0,12.881818181818183,3.0636363636363635,0,6.5818181818181811]
[null,null,null,null,null,null,null,null,null,null,null,null,null,null,null,null,null,null,null,null,null,null,null,null,null,null,null,null,null,null,null,null,null,null,null,null,null,null,null,null,null,null,null,null,null,null,null,null,null,53,132.01818181818183,0,282.0090909090909,26.418181818181818,0,57.609090909090909,13.618181818181817,0,29.472727272727273,6.1181818181818182,0,13.209090909090909,3.2181818181818183,0,6.9090909090909083]
[null,null,null,null,null,null,null,null,null,null,null,null,null,null,null,null,null,null,null,null,null,null,null,null,null,null,null,null,null,null,null,null,null,null,null,null,null,null,null,null,null,null,null,null,null,null,null,null,null,54,132.17272727272729,0,282.33636363636361,26.572727272727274,0,57.936363636363637,13.772727272727272,0,29.790909090909089,6.2727272727272725,0,13.536363636363637,3.3727272727272726,0,7.2363636363636363]
[null,null,null,null,null,null,null,null,null,null,null,null,null,null,null,null,null,null,null,null,null,null,null,null,null,null,null,null,null,null,null,null,null,null,null,null,null,null,null,null,null,null,null,null,null,null,null,null,null,55,132.32727272727271,0,282.66363636363639,26.727272727272727,0,58.263636363636358,13.927272727272728,0,30.109090909090909,6.4272727272727277,0,13.863636363636363,3.5272727272727273,0,7.5636363636363626]
[null,null,null,null,null,null,null,null,null,null,null,null,null,null,null,null,null,null,null,null,null,null,null,null,null,null,null,null,null,null,null,null,null,null,null,null,null,null,null,null,null,null,null,null,null,null,null,null,null,56,132.48181818181817,0,282.9909090909091,26.881818181818183,0,58.590909090909086,14.081818181818182,0,30.427272727272726,6.581818181818182,0,14.190909090909091,3.6818181818181817,0,7.8909090909090907]
[null,null,null,null,null,null,null,null,null,null,null,null,null,null,null,null,null,null,null,null,null,null,null,null,null,null,null,null,null,null,null,null,null,null,null,null,null,null,null,null,null,null,null,null,null,null,null,null,null,57,132.63636363636363,0,283.31818181818181,27.036363636363635,0,58.918181818181814,14.236363636363636,0,30.745454545454546,6.7363636363636363,0,14.518181818181818,3.836363636363636,0,8.2181818181818169]
[null,null,null,null,null,null,null,null,null,null,null,null,null,null,null,null,null,null,null,null,null,null,null,null,null,null,null,null,null,null,null,null,null,null,null,null,null,null,null,null,null,null,null,null,null,null,null,null,null,58,132.79090909090908,0,283.64545454545453,27.190909090909091,0,59.245454545454542,14.390909090909091,0,31.063636363636363,6.8909090909090907,0,14.845454545454546,3.9909090909090907,0,8.545454545454545]
[null,null,null,null,null,null,null,null,null,null,null,null,null,null,null,null,null,null,null,null,null,null,null,null,null,null,null,null,null,null,null,null,null,null,null,null,null,null,null,null,null,null,null,null,null,null,null,null,null,59,132.94545454545454,0,283.9727272727273,27.345454545454544,0,59.572727272727271,14.545454545454545,0,31.381818181818183,7.045454545454545,0,15.172727272727274,4.1454545454545455,0,8.872727272727273]
[null,null,null,null,null,null,null,null,null,null,null,null,null,null,null,null,null,null,null,null,null,null,null,null,null,null,null,null,null,null,null,null,null,null,null,null,null,null,null,null,null,null,null,null,null,null,null,null,null,60,133.1,0,284.3,27.5,0,59.9,14.7,0,31.7,7.2,0,15.5,4.3,0,9.1999999999999993]
[]
[]
[]
[null,null,null,null,null,null,null,null,null,null,null,null,null,null,null,null,null,null,null,null,null,null,null,null,null,null,null,null,null,null,null,null,null,null,null,null,null,null,null,null,null,null,null,null,null,null,null,null,null,"NYS TRM - Insulation"]
[null,null,null,null,null,null,null,null,null,null,null,null,null,null,null,null,null,null,null,null,null,null,null,null,null,null,null,null,null,null,null,null,null,null,null,null,null,null,null,null,null,null,null,null,null,null,null,null,null,"Variable","Value"]
[null,null,null,null,null,null,null,null,null,null,null,null,null,null,null,null,null,null,null,null,null,null,null,null,null,null,null,null,null,null,null,null,null,null,null,null,null,null,null,null,null,null,null,null,null,null,null,null,null,"CDD",825.52]
[null,null,null,null,null,null,null,null,null,null,null,null,null,null,null,null,null,null,null,null,null,null,null,null,null,null,null,null,null,null,null,null,null,null,null,null,null,null,null,null,null,null,null,null,null,null,null,null,null,"HDD",5358.6]
[null,null,null,null,null,null,null,null,null,null,null,null,null,null,null,null,null,null,null,null,null,null,null,null,null,null,null,null,null,null,null,null,null,null,null,null,null,null,null,null,null,null,null,null,null,null,null,null,null,"Attic R-0",2]
[null,null,null,null,null,null,null,null,null,null,null,null,null,null,null,null,null,null,null,null,null,null,null,null,null,null,null,null,null,null,null,null,null,null,null,null,null,null,null,null,null,null,null,null,null,null,null,null,null,"Wall R-0",4]
[null,null,null,null,null,null,null,null,null,null,null,null,null,null,null,null,null,null,null,null,null,null,null,null,null,null,null,null,null,null,null,null,null,null,null,null,null,null,null,null,null,null,null,null,null,null,null,null,null,"Basement R-0",3.53]
[]
[]
[null,null,null,null,null,null,null,null,null,null,null,null,null,null,null,null,null,null,null,null,null,null,null,null,null,null,null,null,null,null,null,null,null,null,null,null,null,null,null,null,null,null,null,null,null,null,null,null,null,"Location","Insulation Framing"]
[null,null,null,null,null,null,null,null,null,null,null,null,null,null,null,null,null,null,null,null,null,null,null,null,null,null,null,null,null,null,null,null,null,null,null,null,null,null,null,null,null,null,null,null,null,null,null,null,null,"Attic",7.0000000000000007E-2]
[null,null,null,null,null,null,null,null,null,null,null,null,null,null,null,null,null,null,null,null,null,null,null,null,null,null,null,null,null,null,null,null,null,null,null,null,null,null,null,null,null,null,null,null,null,null,null,null,null,"Attic 2",7.0000000000000007E-2]
[null,null,null,null,null,null,null,null,null,null,null,null,null,null,null,null,null,null,null,null,null,null,null,null,null,null,null,null,null,null,null,null,null,null,null,null,null,null,null,null,null,null,null,null,null,null,null,null,null,"Exterior Walls",0.25]
[null,null,null,null,null,null,null,null,null,null,null,null,null,null,null,null,null,null,null,null,null,null,null,null,null,null,null,null,null,null,null,null,null,null,null,null,null,null,null,null,null,null,null,null,null,null,null,null,null,"Garage/Overhang",7.0000000000000007E-2]
[null,null,null,null,null,null,null,null,null,null,null,null,null,null,null,null,null,null,null,null,null,null,null,null,null,null,null,null,null,null,null,null,null,null,null,null,null,null,null,null,null,null,null,null,null,null,null,null,null,"Basement Ceiling",0.12]
[]
[]
[]
[null,null,null,null,null,null,null,null,null,null,null,null,null,null,null,null,null,null,null,null,null,null,null,null,null,null,null,null,null,null,null,null,null,null,null,null,null,null,null,null,null,null,null,null,null,null,null,null,null,"CT TRM - Insulation"]
[null,null,null,null,null,null,null,null,null,null,null,null,null,null,null,null,null,null,null,null,null,null,null,null,null,null,null,null,null,null,null,null,null,null,null,null,null,null,null,null,null,null,null,null,null,null,null,null,null,"Variable","Value"]
[null,null,null,null,null,null,null,null,null,null,null,null,null,null,null,null,null,null,null,null,null,null,null,null,null,null,null,null,null,null,null,null,null,null,null,null,null,null,null,null,null,null,null,null,null,null,null,null,null,"Delta T Summer",26.079989999999995]
[null,null,null,null,null,null,null,null,null,null,null,null,null,null,null,null,null,null,null,null,null,null,null,null,null,null,null,null,null,null,null,null,null,null,null,null,null,null,null,null,null,null,null,null,null,null,null,null,null,"Delta T Bin",7132.3800199999896]
[null,null,null,null,null,null,null,null,null,null,null,null,null,null,null,null,null,null,null,null,null,null,null,null,null,null,null,null,null,null,null,null,null,null,null,null,null,null,null,null,null,null,null,null,null,null,null,null,null,"HDD",5332.1002396875674]
[null,null,null,null,null,null,null,null,null,null,null,null,null,null,null,null,null,null,null,null,null,null,null,null,null,null,null,null,null,null,null,null,null,null,null,null,null,null,null,null,null,null,null,null,null,null,null,null,null,"F,adj",0.64]
[null,null,null,null,null,null,null,null,null,null,null,null,null,null,null,null,null,null,null,null,null,null,null,null,null,null,null,null,null,null,null,null,null,null,null,null,null,null,null,null,null,null,null,null,null,null,null,null,null,"F,kWh,cooling",0.28299999999999997]
[null,null,null,null,null,null,null,null,null,null,null,null,null,null,null,null,null,null,null,null,null,null,null,null,null,null,null,null,null,null,null,null,null,null,null,null,null,null,null,null,null,null,null,null,null,null,null,null,null,"F,kW,cooling",0.251]
[null,null,null,null,null,null,null,null,null,null,null,null,null,null,null,null,null,null,null,null,null,null,null,null,null,null,null,null,null,null,null,null,null,null,null,null,null,null,null,null,null,null,null,null,null,null,null,null,null,"GF - Above Ground",1]
[null,null,null,null,null,null,null,null,null,null,null,null,null,null,null,null,null,null,null,null,null,null,null,null,null,null,null,null,null,null,null,null,null,null,null,null,null,null,null,null,null,null,null,null,null,null,null,null,null,"GF- Mixed Grade",0.75]
[null,null,null,null,null,null,null,null,null,null,null,null,null,null,null,null,null,null,null,null,null,null,null,null,null,null,null,null,null,null,null,null,null,null,null,null,null,null,null,null,null,null,null,null,null,null,null,null,null,"GF - Below Grade",0.6]

{"sheet":"Space Heating Worksheet","index":31,"n_rows":61,"n_cols":38,"rows_kept":61,"cut":false,"hidden":true,"merged":[[30,35,30,37],[56,24,56,25],[55,14,55,15],[56,14,56,15],[52,20,52,21],[51,24,51,25],[52,24,52,25],[55,18,55,19],[56,18,56,19],[49,37,50,37],[50,24,50,25],[30,33,31,33],[50,16,50,17],[30,23,30,31],[30,19,30,20],[30,21,31,21],[49,18,50,19],[49,23,49,27],[53,20,53,21],[54,18,54,19],[49,20,50,21],[49,33,49,35],[60,24,60,25],[58,16,58,17],[59,16,59,17],[51,14,51,15],[52,14,52,15],[53,14,53,15],[52,16,52,17],[53,16,53,17],[54,14,54,15],[59,24,59,25],[53,24,53,25],[58,14,58,15],[59,14,59,15],[51,16,51,17],[54,24,54,25],[57,24,57,25],[55,16,55,17],[56,16,56,17],[57,16,57,17],[57,18,57,19],[58,18,58,19],[59,18,59,19],[51,20,51,21],[55,24,55,25],[50,7,50,8],[50,14,50,15],[31,35,31,36],[32,35,32,36],[33,35,33,36],[34,35,34,36],[35,35,35,36],[36,35,36,36],[37,35,37,36],[38,35,38,36],[39,35,39,36],[40,35,40,36],[41,35,41,36],[32,34,41,34],[59,5,59,6],[57,14,57,15],[58,5,58,6],[60,2,60,4],[56,2,56,4],[60,5,60,6],[60,20,60,21],[59,2,59,4],[59,12,59,13],[59,20,59,21],[60,16,60,17],[56,20,56,21],[57,20,57,21],[60,18,60,19],[55,2,55,4],[58,24,58,25],[55,12,55,13],[54,5,54,6],[55,5,55,6],[54,20,54,21],[55,20,55,21],[54,16,54,17],[60,14,60,15],[58,2,58,4],[55,7,55,8],[57,2,57,4],[57,5,57,6],[56,5,56,6],[60,12,60,13],[56,7,56,8],[57,7,57,8],[58,7,58,8],[59,7,59,8],[60,7,60,8],[58,20,58,21],[57,12,57,13],[58,12,58,13],[56,12,56,13],[53,2,53,4],[52,2,52,4],[51,7,51,8],[51,2,51,4],[51,18,51,19],[52,18,52,19],[53,18,53,19],[54,7,54,8],[53,12,53,13],[52,7,52,8],[53,7,53,8],[52,5,52,6],[53,5,53,6],[54,2,54,4],[51,5,51,6],[54,12,54,13],[52,12,52,13],[51,12,51,13],[41,5,41,6],[50,2,50,4],[7,2,7,17],[8,2,8,17],[44,1,45,1],[30,1,31,1],[38,2,38,4],[30,5,31,6],[38,5,38,6],[40,5,40,6],[49,1,50,1],[36,2,36,4],[41,2,41,4],[39,5,39,6],[39,2,39,4],[40,2,40,4],[37,2,37,4],[37,5,37,6],[49,2,49,8],[50,5,50,6],[50,12,50,13],[49,12,49,17],[30,7,31,7],[32,5,32,6],[33,5,33,6],[36,5,36,6],[10,2,10,17],[11,2,11,17],[12,2,12,17],[9,2,9,17],[30,2,31,4],[35,2,35,4],[30,14,30,15],[35,5,35,6],[34,2,34,4],[33,2,33,4],[32,2,32,4],[34,5,34,6],[30,16,31,16],[30,8,31,8],[30,9,31,9],[30,17,30,18],[30,12,30,13]]}
[null,"2023 Geothermal Rebate Program"]
[null,{"$f":"\"Geothermal Eligibility Tables & Worksheet, Version \"&Development!A2","v":"Geothermal Eligibility Tables & Worksheet, Version 1.0"}]
[]
[null,"Important: In order to properly use worksheet, all macros MUST be enabled.  Please read all instructions thoroughly before submitting forms"]
[null," (Keep a copy for your records)"]
[]
[null,"Instructions:"]
[null,"1.","Select the appropriate options based upon the proposed equipment including the system type as well as system use. "]
[null,"2.","Select Geothermal System from drop down menu.\n\n"]
[null,"3.","Select Existing Equipment when applicable, from drop down menu: Ductless Mini Split System, Central Air Conditioner (CAC), Air Source Heat Pump (ASHP),Room Air Conditioner (AC), Air Conditioners - Air Cooled, Air Conditioners - Water & Evaporatively Cooled, Air Cooled Heat Pumps, Ductless Mini Split Heat Pumps, Packaged Terminal Air Conditioners, Packaged Terminal Heat Pumps, or if no equipment currently exists, simply select \"None\"."]
[null,"4.","Select New Equipment Type from drop down menu."]
[null,"5.","Enter Tonnage and all applicable Efficiency ratings (EER & COP).  "]
[null,"6.","Available rebate amounts, when eligible, will populate automatically based upon data entered."]
[]
[null,"Eligibility & Rebate Tables"]
[]
[null,null,null,null,null,null,null,null,null,null,null,null,null,null,null,null,null,null,null,{"$f":"[9]Tables!$H$11:$H$18","v":250}]
[]
[]
[]
[]
[]
[null,null,"1. The specifications apply to single stage GSHP models.  Multi-stage GSHP models may be qualified based on a calculation utilizing both part load as well as full load efficiency values."]
[null,null,"2. Desuperheaters are eligible for incentives when they are installed on residential systems and in conjunction with an existing electric, tank-storage water heater."]
[]
[]
[null,"Worksheet"]
[]
[]
[]
[null,"Unit","Application Type\n(New System or Retrofit HP)",null,null,"New Equipment Type",null,"Stages","Pump Type","Stage_Pump Type",null,null,"AHRI Full Load Capacity",null,"AHRI Part Load Capacity",null,"AHRI Reference No.","Full Load Efficiency",null,"Part Load Efficiency",null,"Qualifying Tier",null,"Existing Equipment Type",null,null,null,null,null,null,null,null,null,"← Check Completeness",null,"Rebate per System"]
[null,null,null,null,null,null,null,null,null,null,null,null,"Cooling btuh","Heating btuh","Cooling btuh","Heating btuh",null,"EER","COP","EER","COP",null,null,"Heating","Cooling","SEER","EER","COP/ AFUE","Heating System","Cooling System","Heating System + Fuel Type","Heating System + Size",null,null,null,"Customer",null,"Bonus"]
[null,1,null,null,null,null,null,null,null,{"$f":"IF(F33=\"\",\"\",H33&\"_\"&I33)","v":""},{"$f":"IF(F33=\"\",\"\",F33&\" \"&V33)","v":""},{"$f":"IF(LEFT(F33,5)=\"Ductl\",C33&\" \"&F33,C33&\" \"&F33&\" \"&V33)","v":"  "},null,null,null,null,null,null,null,null,null,{"$f":"IF(ISBLANK(C33),\"\",IF(OR($AH$33=\"Missing Info\",AL52=\"Missing Info\"),\"Missing Info\",Qualifying_Index!M121))","v":""},null,null,null,null,null,null,{"$f":"IF(References!$A$21=2,\"New Construction\",IF(X33=References!$Q$86,IF(OR('Site Information'!$C$22=\"\",'Site Information'!$C$22=\"Select…\"),\"None\",'Site Information'!$C$22),IF(OR('Site Information'!$C$16=\"\",'Site Information'!$C$16=\"Select…\"),\"None\",'Site Information'!$C$16)))","v":"None"},{"$f":"IF(References!$A$21=2,\"New Construction\",IF(Y33=References!$Q$86,IF(OR('Site Information'!$C$24=\"\",'Site Information'!$C$24=\"Select…\"),\"None\",'Site Information'!$C$24),IF(OR('Site Information'!$C$18=\"\",'Site Information'!$C$18=\"Select…\"),\"None\",'Site Information'!$C$18)))","v":"None"},{"$f":"IF(C33=\"\",\"\",IF(AF33=\"\",AC33,AC33&\" \"&AF33))","v":""},{"$f":"IF(OR(AC33=\"Natural Gas Furnace\",AC33=\"Oil Furnace\",AC33=\"Propane Furnace\"),IF(N33>225000,\">=225 kBtuh\",\"<225 kBtuh\"),\"\")","v":""},null,{"$f":"IF(ISBLANK(C33),\"\",IF(OR(ISBLANK(F33),ISBLANK(H33),ISBLANK(I33),ISBLANK(M33),ISBLANK(N33),ISBLANK(O33),ISBLANK(P33),ISBLANK(Q33),ISBLANK(R33),ISBLANK(S33),ISBLANK(T33),ISBLANK(U33),IF(Existing_Heating_Source=\"New Construction\",FALSE,OR(ISBLANK(X33),ISBLANK(Y33)))),\"Missing Info\",\"Complete\"))","v":""},{"$f":"IF(AND(AH33=\"Complete\",AL52=\"Complete\"),IF(SUM('GSHP Costs'!$AP$4:$AQ$13)>0,\"\",\"*Please enter cost information on the GSHP Cost tab for rebate to populate.*\"),\"\")","v":""},{"$f":"IF(ISBLANK(C33),\"\",IF(OR(V33=\"Missing Info\",V33=\"DNQ\"),V33,'GSHP Costs'!AT4))","v":""},null,{"$f":"IF(ISBLANK(C33),\"\",IF(OR(V33=\"Missing Info\",V33=\"DNQ\"),V33,Qualifying_Index!Q121))","v":""}]
[null,2,null,null,null,null,null,null,null,"","","  ",null,null,null,null,null,null,null,null,null,{"$f":"IF(ISBLANK(C34),\"\",IF(OR($AH$33=\"Missing Info\",AL53=\"Missing Info\"),\"Missing Info\",Qualifying_Index!M122))","v":""},null,null,null,null,null,null,{"$f":"IF(References!$A$21=2,\"New Construction\",IF(X34=References!$Q$86,IF(OR('Site Information'!$C$22=\"\",'Site Information'!$C$22=\"Select…\"),\"None\",'Site Information'!$C$22),IF(OR('Site Information'!$C$16=\"\",'Site Information'!$C$16=\"Select…\"),\"None\",'Site Information'!$C$16)))","v":"None"},{"$f":"IF(References!$A$21=2,\"New Construction\",IF(Y34=References!$Q$86,IF(OR('Site Information'!$C$24=\"\",'Site Information'!$C$24=\"Select…\"),\"None\",'Site Information'!$C$24),IF(OR('Site Information'!$C$18=\"\",'Site Information'!$C$18=\"Select…\"),\"None\",'Site Information'!$C$18)))","v":"None"},{"$f":"IF(C34=\"\",\"\",IF(AF34=\"\",AC34,AC34&\" \"&AF34))","v":""},{"$f":"IF(OR(AC34=\"Natural Gas Furnace\",AC34=\"Oil Furnace\",AC34=\"Propane Furnace\"),IF(N34>225000,\">=225 kBtuh\",\"<225 kBtuh\"),\"\")","v":""},null,"",null,{"$f":"IF(ISBLANK(C34),\"\",IF(OR(V34=\"Missing Info\",V34=\"DNQ\"),V34,'GSHP Costs'!AT5))","v":""},null,{"$f":"IF(ISBLANK(C34),\"\",IF(OR(V34=\"Missing Info\",V34=\"DNQ\"),V34,Qualifying_Index!Q122))","v":""}]
[null,3,null,null,null,null,null,null,null,"","","  ",null,null,null,null,null,null,null,null,null,{"$f":"IF(ISBLANK(C35),\"\",IF(OR($AH$33=\"Missing Info\",AL54=\"Missing Info\"),\"Missing Info\",Qualifying_Index!M123))","v":""},null,null,null,null,null,null,{"$f":"IF(References!$A$21=2,\"New Construction\",IF(X35=References!$Q$86,IF(OR('Site Information'!$C$22=\"\",'Site Information'!$C$22=\"Select…\"),\"None\",'Site Information'!$C$22),IF(OR('Site Information'!$C$16=\"\",'Site Information'!$C$16=\"Select…\"),\"None\",'Site Information'!$C$16)))","v":"None"},{"$f":"IF(References!$A$21=2,\"New Construction\",IF(Y35=References!$Q$86,IF(OR('Site Information'!$C$24=\"\",'Site Information'!$C$24=\"Select…\"),\"None\",'Site Information'!$C$24),IF(OR('Site Information'!$C$18=\"\",'Site Information'!$C$18=\"Select…\"),\"None\",'Site Information'!$C$18)))","v":"None"},"","",null,"",null,{"$f":"IF(ISBLANK(C35),\"\",IF(OR(V35=\"Missing Info\",V35=\"DNQ\"),V35,'GSHP Costs'!AT6))","v":""},null,{"$f":"IF(ISBLANK(C35),\"\",IF(OR(V35=\"Missing Info\",V35=\"DNQ\"),V35,Qualifying_Index!Q123))","v":""}]
[null,4,null,null,null,null,null,null,null,"","","  ",null,null,null,null,null,null,null,null,null,{"$f":"IF(ISBLANK(C36),\"\",IF(OR($AH$33=\"Missing Info\",AL55=\"Missing Info\"),\"Missing Info\",Qualifying_Index!M124))","v":""},null,null,null,null,null,null,{"$f":"IF(References!$A$21=2,\"New Construction\",IF(X36=References!$Q$86,IF(OR('Site Information'!$C$22=\"\",'Site Information'!$C$22=\"Select…\"),\"None\",'Site Information'!$C$22),IF(OR('Site Information'!$C$16=\"\",'Site Information'!$C$16=\"Select…\"),\"None\",'Site Information'!$C$16)))","v":"None"},{"$f":"IF(References!$A$21=2,\"New Construction\",IF(Y36=References!$Q$86,IF(OR('Site Information'!$C$24=\"\",'Site Information'!$C$24=\"Select…\"),\"None\",'Site Information'!$C$24),IF(OR('Site Information'!$C$18=\"\",'Site Information'!$C$18=\"Select…\"),\"None\",'Site Information'!$C$18)))","v":"None"},"","",null,"",null,{"$f":"IF(ISBLANK(C36),\"\",IF(OR(V36=\"Missing Info\",V36=\"DNQ\"),V36,'GSHP Costs'!AT7))","v":""},null,{"$f":"IF(ISBLANK(C36),\"\",IF(OR(V36=\"Missing Info\",V36=\"DNQ\"),V36,Qualifying_Index!Q124))","v":""}]
[null,5,null,null,null,null,null,null,null,"","","  ",null,null,null,null,null,null,null,null,null,{"$f":"IF(ISBLANK(C37),\"\",IF(OR($AH$33=\"Missing Info\",AL56=\"Missing Info\"),\"Missing Info\",Qualifying_Index!M125))","v":""},null,null,null,null,null,null,{"$f":"IF(References!$A$21=2,\"New Construction\",IF(X37=References!$Q$86,IF(OR('Site Information'!$C$22=\"\",'Site Information'!$C$22=\"Select…\"),\"None\",'Site Information'!$C$22),IF(OR('Site Information'!$C$16=\"\",'Site Information'!$C$16=\"Select…\"),\"None\",'Site Information'!$C$16)))","v":"None"},{"$f":"IF(References!$A$21=2,\"New Construction\",IF(Y37=References!$Q$86,IF(OR('Site Information'!$C$24=\"\",'Site Information'!$C$24=\"Select…\"),\"None\",'Site Information'!$C$24),IF(OR('Site Information'!$C$18=\"\",'Site Information'!$C$18=\"Select…\"),\"None\",'Site Information'!$C$18)))","v":"None"},"","",null,"",null,{"$f":"IF(ISBLANK(C37),\"\",IF(OR(V37=\"Missing Info\",V37=\"DNQ\"),V37,'GSHP Costs'!AT8))","v":""},null,{"$f":"IF(ISBLANK(C37),\"\",IF(OR(V37=\"Missing Info\",V37=\"DNQ\"),V37,Qualifying_Index!Q125))","v":""}]
[null,6,null,null,null,null,null,null,null,"","","  ",null,null,null,null,null,null,null,null,null,{"$f":"IF(ISBLANK(C38),\"\",IF(OR($AH$33=\"Missing Info\",AL57=\"Missing Info\"),\"Missing Info\",Qualifying_Index!M126))","v":""},null,null,null,null,null,null,{"$f":"IF(References!$A$21=2,\"New Construction\",IF(X38=References!$Q$86,IF(OR('Site Information'!$C$22=\"\",'Site Information'!$C$22=\"Select…\"),\"None\",'Site Information'!$C$22),IF(OR('Site Information'!$C$16=\"\",'Site Information'!$C$16=\"Select…\"),\"None\",'Site Information'!$C$16)))","v":"None"},{"$f":"IF(References!$A$21=2,\"New Construction\",IF(Y38=References!$Q$86,IF(OR('Site Information'!$C$24=\"\",'Site Information'!$C$24=\"Select…\"),\"None\",'Site Information'!$C$24),IF(OR('Site Information'!$C$18=\"\",'Site Information'!$C$18=\"Select…\"),\"None\",'Site Information'!$C$18)))","v":"None"},"","",null,"",null,{"$f":"IF(ISBLANK(C38),\"\",IF(OR(V38=\"Missing Info\",V38=\"DNQ\"),V38,'GSHP Costs'!AT9))","v":""},null,{"$f":"IF(ISBLANK(C38),\"\",IF(OR(V38=\"Missing Info\",V38=\"DNQ\"),V38,Qualifying_Index!Q126))","v":""}]
[null,7,null,null,null,null,null,null,null,"","","  ",null,null,null,null,null,null,null,null,null,{"$f":"IF(ISBLANK(C39),\"\",IF(OR($AH$33=\"Missing Info\",AL58=\"Missing Info\"),\"Missing Info\",Qualifying_Index!M127))","v":""},null,null,null,null,null,null,{"$f":"IF(References!$A$21=2,\"New Construction\",IF(X39=References!$Q$86,IF(OR('Site Information'!$C$22=\"\",'Site Information'!$C$22=\"Select…\"),\"None\",'Site Information'!$C$22),IF(OR('Site Information'!$C$16=\"\",'Site Information'!$C$16=\"Select…\"),\"None\",'Site Information'!$C$16)))","v":"None"},{"$f":"IF(References!$A$21=2,\"New Construction\",IF(Y39=References!$Q$86,IF(OR('Site Information'!$C$24=\"\",'Site Information'!$C$24=\"Select…\"),\"None\",'Site Information'!$C$24),IF(OR('Site Information'!$C$18=\"\",'Site Information'!$C$18=\"Select…\"),\"None\",'Site Information'!$C$18)))","v":"None"},"","",null,"",null,{"$f":"IF(ISBLANK(C39),\"\",IF(OR(V39=\"Missing Info\",V39=\"DNQ\"),V39,'GSHP Costs'!AT10))","v":""},null,{"$f":"IF(ISBLANK(C39),\"\",IF(OR(V39=\"Missing Info\",V39=\"DNQ\"),V39,Qualifying_Index!Q127))","v":""}]
[null,8,null,null,null,null,null,null,null,"","","  ",null,null,null,null,null,null,null,null,null,{"$f":"IF(ISBLANK(C40),\"\",IF(OR($AH$33=\"Missing Info\",AL59=\"Missing Info\"),\"Missing Info\",Qualifying_Index!M128))","v":""},null,null,null,null,null,null,{"$f":"IF(References!$A$21=2,\"New Construction\",IF(X40=References!$Q$86,IF(OR('Site Information'!$C$22=\"\",'Site Information'!$C$22=\"Select…\"),\"None\",'Site Information'!$C$22),IF(OR('Site Information'!$C$16=\"\",'Site Information'!$C$16=\"Select…\"),\"None\",'Site Information'!$C$16)))","v":"None"},{"$f":"IF(References!$A$21=2,\"New Construction\",IF(Y40=References!$Q$86,IF(OR('Site Information'!$C$24=\"\",'Site Information'!$C$24=\"Select…\"),\"None\",'Site Information'!$C$24),IF(OR('Site Information'!$C$18=\"\",'Site Information'!$C$18=\"Select…\"),\"None\",'Site Information'!$C$18)))","v":"None"},"","",null,"",null,{"$f":"IF(ISBLANK(C40),\"\",IF(OR(V40=\"Missing Info\",V40=\"DNQ\"),V40,'GSHP Costs'!AT11))","v":""},null,{"$f":"IF(ISBLANK(C40),\"\",IF(OR(V40=\"Missing Info\",V40=\"DNQ\"),V40,Qualifying_Index!Q128))","v":""}]
[null,9,null,null,null,null,null,null,null,"","","  ",null,null,null,null,null,null,null,null,null,{"$f":"IF(ISBLANK(C41),\"\",IF(OR($AH$33=\"Missing Info\",AL60=\"Missing Info\"),\"Missing Info\",Qualifying_Index!M129))","v":""},null,null,null,null,null,null,{"$f":"IF(References!$A$21=2,\"New Construction\",IF(X41=References!$Q$86,IF(OR('Site Information'!$C$22=\"\",'Site Information'!$C$22=\"Select…\"),\"None\",'Site Information'!$C$22),IF(OR('Site Information'!$C$16=\"\",'Site Information'!$C$16=\"Select…\"),\"None\",'Site Information'!$C$16)))","v":"None"},{"$f":"IF(References!$A$21=2,\"New Construction\",IF(Y41=References!$Q$86,IF(OR('Site Information'!$C$24=\"\",'Site Information'!$C$24=\"Select…\"),\"None\",'Site Information'!$C$24),IF(OR('Site Information'!$C$18=\"\",'Site Information'!$C$18=\"Select…\"),\"None\",'Site Information'!$C$18)))","v":"None"},"","",null,"",null,{"$f":"IF(ISBLANK(C41),\"\",IF(OR(V41=\"Missing Info\",V41=\"DNQ\"),V41,'GSHP Costs'!AT12))","v":""},null,{"$f":"IF(ISBLANK(C41),\"\",IF(OR(V41=\"Missing Info\",V41=\"DNQ\"),V41,Qualifying_Index!Q129))","v":""}]
[null,10,null,null,null,null,null,null,null,"","","  ",null,null,null,null,null,null,null,null,null,{"$f":"IF(ISBLANK(C42),\"\",IF(OR($AH$33=\"Missing Info\",AL61=\"Missing Info\"),\"Missing Info\",Qualifying_Index!M130))","v":""},null,null,null,null,null,null,{"$f":"IF(References!$A$21=2,\"New Construction\",IF(X42=References!$Q$86,IF(OR('Site Information'!$C$22=\"\",'Site Information'!$C$22=\"Select…\"),\"None\",'Site Information'!$C$22),IF(OR('Site Information'!$C$16=\"\",'Site Information'!$C$16=\"Select…\"),\"None\",'Site Information'!$C$16)))","v":"None"},{"$f":"IF(References!$A$21=2,\"New Construction\",IF(Y42=References!$Q$86,IF(OR('Site Information'!$C$24=\"\",'Site Information'!$C$24=\"Select…\"),\"None\",'Site Information'!$C$24),IF(OR('Site Information'!$C$18=\"\",'Site Information'!$C$18=\"Select…\"),\"None\",'Site Information'!$C$18)))","v":"None"},"","",null,"",null,{"$f":"IF(ISBLANK(C42),\"\",IF(OR(V42=\"Missing Info\",V42=\"DNQ\"),V42,'GSHP Costs'!AT13))","v":""},null,{"$f":"IF(ISBLANK(C42),\"\",IF(OR(V42=\"Missing Info\",V42=\"DNQ\"),V42,Qualifying_Index!Q130))","v":""}]
[null,null,null,null,null,null,null,null,null,null,null,null,null,null,null,null,null,null,null,null,null,null,null,null,null,null,null,null,null,null,null,null,null,null,null,null,null,"Total Customer Rebate Amount:"]
[null,null,null,null,null,null,null,null,null,null,null,null,null,null,null,null,null,null,null,null,null,null,null,null,null,null,null,null,null,null,null,null,null,null,null,null,null,{"$f":"IF(SUM(AJ33:AJ42)=0,0,SUM(AJ33:AJ42))","v":0}]
[null,null,null,null,null,null,null,null,null,null,null,null,null,null,null,null,null,null,null,null,null,null,null,null,null,null,null,null,null,null,null,null,null,null,null,null,null,"Total Customer Bonus Amount:"]
[null,null,null,null,null,null,null,null,null,null,null,null,null,null,null,null,null,null,null,null,null,null,null,null,null,null,null,null,null,null,null,null,null,null,null,null,null,{"$f":"IF(SUM(AL33:AL42)=0,0,SUM(AL33:AL42))","v":0}]
[null,"Installed System Specifications"]
[null,"Condenser information must be entered in all cases.  In cases where Coil/Air Handler information is not available, please enter \"N/A\"."]
[]
[null,"Unit","Condenser",null,null,null,null,null,null,null,null,null,"Coil/Air Handler",null,null,null,null,null,"Residential Only - Desuperheater Included? ",null,"Equipment Sized in Accordance with Manual S?",null,null,"Existing Equipment",null,null,null,null,null,null,null,null,null,{"$f":"IF(References!$CC$26=\"Residential\",\"Manual J Residential Load Calculation\",\"Manual N Commercial Load Calculation\")","v":"Manual J Residential Load Calculation"},null,null,null,"<-- Check for Completeness"]
[null,null,"Manufacturer",null,null,"Model Number",null,"Serial Number",null,null,null,null,"Manufacturer",null,"Model Number",null,"Serial Number",null,null,null,null,null,null,"Operating? (Y/N)","Manufacturer",null,"Model Number","Serial Number",null,null,null,null,null,"Btu Cooling","Btu Heating","Pass/Fail"]
[null,1,null,null,null,null,null,null,null,null,null,null,null,null,null,null,null,null,null,null,null,null,null,null,null,null,null,null,null,null,null,null,null,null,null,{"$f":"IF(AND(AH52=\"\",AI52=\"\"),\"\",Qualifying_Index!AD121)","v":""},null,{"$f":"IF(ISBLANK(C33),\"\",IF(OR(ISBLANK(F52),ISBLANK(H52),ISBLANK(M52),ISBLANK(O52),ISBLANK(Q52),ISBLANK(S52),ISBLANK(U52),IF(Existing_Heating_Source=\"New Construction\",FALSE,ISBLANK(X52)),ISBLANK(AH52),ISBLANK(AI52)),\"Missing Info\",\"Complete\"))","v":""}]
[null,2,null,null,null,null,null,null,null,null,null,null,null,null,null,null,null,null,null,null,null,null,null,null,null,null,null,null,null,null,null,null,null,null,null,{"$f":"IF(AND(AH53=\"\",AI53=\"\"),\"\",Qualifying_Index!AD122)","v":""},null,""]
[null,3,null,null,null,null,null,null,null,null,null,null,null,null,null,null,null,null,null,null,null,null,null,null,null,null,null,null,null,null,null,null,null,null,null,{"$f":"IF(AND(AH54=\"\",AI54=\"\"),\"\",Qualifying_Index!AD123)","v":""},null,""]
[null,4,null,null,null,null,null,null,null,null,null,null,null,null,null,null,null,null,null,null,null,null,null,null,null,null,null,null,null,null,null,null,null,null,null,{"$f":"IF(AND(AH55=\"\",AI55=\"\"),\"\",Qualifying_Index!AD124)","v":""},null,""]
[null,5,null,null,null,null,null,null,null,null,null,null,null,null,null,null,null,null,null,null,null,null,null,null,null,null,null,null,null,null,null,null,null,null,null,{"$f":"IF(AND(AH56=\"\",AI56=\"\"),\"\",Qualifying_Index!AD125)","v":""},null,""]
[null,6,null,null,null,null,null,null,null,null,null,null,null,null,null,null,null,null,null,null,null,null,null,null,null,null,null,null,null,null,null,null,null,null,null,{"$f":"IF(AND(AH57=\"\",AI57=\"\"),\"\",Qualifying_Index!AD126)","v":""},null,""]
[null,7,null,null,null,null,null,null,null,null,null,null,null,null,null,null,null,null,null,null,null,null,null,null,null,null,null,null,null,null,null,null,null,null,null,{"$f":"IF(AND(AH58=\"\",AI58=\"\"),\"\",Qualifying_Index!AD127)","v":""},null,""]
[null,8,null,null,null,null,null,null,null,null,null,null,null,null,null,null,null,null,null,null,null,null,null,null,null,null,null,null,null,null,null,null,null,null,null,{"$f":"IF(AND(AH59=\"\",AI59=\"\"),\"\",Qualifying_Index!AD128)","v":""},null,""]
[null,9,null,null,null,null,null,null,null,null,null,null,null,null,null,null,null,null,null,null,null,null,null,null,null,null,null,null,null,null,null,null,null,null,null,{"$f":"IF(AND(AH60=\"\",AI60=\"\"),\"\",Qualifying_Index!AD129)","v":""},null,""]
[null,10,null,null,null,null,null,null,null,null,null,null,null,null,null,null,null,null,null,null,null,null,null,null,null,null,null,null,null,null,null,null,null,null,null,{"$f":"IF(AND(AH61=\"\",AI61=\"\"),\"\",Qualifying_Index!AD130)","v":""},null,""]

{"sheet":"Dedicated Water Heating","index":32,"n_rows":58,"n_cols":27,"rows_kept":58,"cut":false,"hidden":true,"merged":[[12,2,12,13],[27,8,28,8],[55,7,55,8],[27,13,28,13],[31,2,31,4],[31,5,31,6],[34,2,34,4],[34,5,34,6],[30,2,30,4],[30,5,30,6],[50,2,50,3],[47,4,47,5],[50,4,50,5],[35,5,35,6],[36,5,36,6],[32,2,32,4],[56,7,56,8],[57,7,57,8],[27,7,28,7],[47,7,47,8],[48,7,48,8],[50,7,50,8],[49,7,49,8],[51,7,51,8],[52,7,52,8],[53,7,53,8],[54,7,54,8],[7,2,7,13],[8,2,8,13],[9,2,9,13],[10,2,10,13],[11,2,11,13],[27,1,28,1],[27,2,28,4],[27,5,28,6],[27,22,28,22],[29,2,29,4],[29,5,29,6],[27,11,28,11],[27,15,27,18],[27,12,28,12],[28,15,28,16],[29,15,29,16],[27,24,27,26],[46,22,47,22],[38,2,38,4],[38,5,38,6],[41,1,42,1],[46,1,47,1],[46,2,46,6],[46,7,46,12],[46,15,46,18],[46,13,47,13],[38,15,38,16],[47,2,47,3],[35,2,35,4],[36,2,36,4],[33,2,33,4],[33,5,33,6],[57,2,57,3],[52,4,52,5],[51,4,51,5],[53,4,53,5],[54,4,54,5],[55,4,55,5],[56,4,56,5],[57,4,57,5],[54,2,54,3],[51,2,51,3],[55,2,55,3],[56,2,56,3],[52,2,52,3],[53,2,53,3],[29,23,38,23],[32,5,32,6],[48,2,48,3],[49,2,49,3],[37,2,37,4],[37,5,37,6],[48,4,48,5],[49,4,49,5],[30,15,30,16],[31,15,31,16],[32,15,32,16],[33,15,33,16],[37,15,37,16],[34,15,34,16],[35,15,35,16],[36,15,36,16]]}
[null,"2022 Geothermal Rebate Program"]
[null,{"$f":"\"Geothermal Eligibility Tables & Worksheet, Version \"&Development!A2","v":"Geothermal Eligibility Tables & Worksheet, Version 1.0"}]
[]
[null,"Important: In order to properly use worksheet, all macros MUST be enabled.  Please read all instructions thoroughly before submitting forms"]
[null," (Keep a copy for your records)"]
[]
[null,"Instructions:"]
[null,"1.","Select the appropriate options based upon the proposed equipment including the system type as well as system use. "]
[null,"2.","Select Geothermal System/Geothermal HP (Retrofit) from drop down menu.  If Geothermal System is selected, a new well or ground heat exchange is installed. If Geothermal Heat Pump is selected an existing Geothermal System is being replaced.\n\n"]
[null,"3.","Select Existing Equipment when applicable, from drop down menu: Natural Gas Fired Storage, Oil Fired Storage, Propane Fired Storage, Electric Storage, Natural Gas Tankless, Propane Tankless, Electric Tankless, Air Source Heat Pump (ASHP), Geothermal, None"]
[null,"4.","Select New Equipment Type from drop down menu."]
[null,"5.","Enter Capacity and all applicable Efficiency ratings (COP).  "]
[null,"6.","Available rebate amounts, when eligible, will populate automatically based upon data entered."]
[]
[null,"Eligibility & Rebate Tables"]
[]
[]
[]
[]
[]
[]
[]
[]
[null,"Worksheet"]
[]
[]
[]
[null,"Unit","Application Type\n(New System or Retrofit HP)",null,null,"New Equipment Type",null,"Storage Tank Size (gallons)","AHRI Full Load \nHeating btuh",null,null,"AHRI Reference No.","AHRI Full Load \nCOP","Qualifying Tier",null,"Existing Equipment Information",null,null,null,null,null,null,"← Check Completeness",null,"Rebate per System"]
[null,null,null,null,null,null,null,null,null,null,null,null,null,null,null,"Water Heater Type",null,"Storage Tank Size (gallons)","UEF","Heating System + Fuel Type","Heating System + Size",null,null,null,"Customer","Contractor","Bonus"]
[null,1,null,null,null,null,null,null,null,{"$f":"IF(F30=\"\",\"\",F30&\" \"&N30)","v":""},{"$f":"IF(LEFT(F30,5)=\"Ductl\",C30&\" \"&F30,C30&\" \"&F30&\" \"&N30)","v":"  "},null,null,{"$f":"IF(ISBLANK(C30),\"\",IF(OR(W30=\"Missing Info\",W49=\"Missing Info\"),\"Missing Info\",Qualifying_Index!M137))","v":""},null,null,null,null,null,{"$f":"IF(C30=\"\",\"\",IF(U30=\"\",P30,P30&\" \"&U30))","v":""},{"$f":"IF(OR(P30=\"\",RIGHT(P30,13)=\"Instantaneous\"),\"\",IF(OR(LEFT(P30,3)=\"Oil\",P30=\"None\"),\"\",IF(R30>55,\"> 55 gal\",\"<= 55 gal\")))","v":""},null,{"$f":"IF(ISBLANK(C30),\"\",IF(OR(ISBLANK(F30),ISBLANK(I30),ISBLANK(L30),ISBLANK(M30),IF(Existing_Heating_Source=\"New Construction\",FALSE,OR(ISBLANK(P30)))),\"Missing Info\",\"Complete\"))","v":""},{"$f":"IF(AND(W30=\"Complete\",W49=\"Complete\"),IF(SUM('GSHP Costs'!AP19:AQ28)>0,\"\",\"*Please enter cost information on the GSHP Cost tab for rebate to populate.*\"),\"\")","v":""},{"$f":"IF(ISBLANK(C30),\"\",IF(OR(N30=\"Missing Info\",N30=\"DNQ\"),N30,'GSHP Costs'!AT19))","v":""},null,{"$f":"IF(ISBLANK(C30),\"\",IF(OR(N30=\"Missing Info\",N30=\"DNQ\"),N30,Qualifying_Index!P137))","v":""}]
[null,2,null,null,null,null,null,null,null,"","  ",null,null,{"$f":"IF(ISBLANK(C31),\"\",IF(OR(W31=\"Missing Info\",W50=\"Missing Info\"),\"Missing Info\",Qualifying_Index!M138))","v":""},null,null,null,null,null,"","",null,"",null,{"$f":"IF(ISBLANK(C31),\"\",IF(OR(N31=\"Missing Info\",N31=\"DNQ\"),N31,'GSHP Costs'!AT20))","v":""},null,{"$f":"IF(ISBLANK(C31),\"\",IF(OR(N31=\"Missing Info\",N31=\"DNQ\"),N31,Qualifying_Index!P138))","v":""}]
[null,3,null,null,null,null,null,null,null,"","  ",null,null,{"$f":"IF(ISBLANK(C32),\"\",IF(OR(W32=\"Missing Info\",W51=\"Missing Info\"),\"Missing Info\",Qualifying_Index!M139))","v":""},null,null,null,null,null,"","",null,"",null,{"$f":"IF(ISBLANK(C32),\"\",IF(OR(N32=\"Missing Info\",N32=\"DNQ\"),N32,'GSHP Costs'!AT21))","v":""},null,{"$f":"IF(ISBLANK(C32),\"\",IF(OR(N32=\"Missing Info\",N32=\"DNQ\"),N32,Qualifying_Index!P139))","v":""}]
[null,4,null,null,null,null,null,null,null,"","  ",null,null,{"$f":"IF(ISBLANK(C33),\"\",IF(OR(W33=\"Missing Info\",W52=\"Missing Info\"),\"Missing Info\",Qualifying_Index!M140))","v":""},null,null,null,null,null,"","",null,"",null,{"$f":"IF(ISBLANK(C33),\"\",IF(OR(N33=\"Missing Info\",N33=\"DNQ\"),N33,'GSHP Costs'!AT22))","v":""},null,{"$f":"IF(ISBLANK(C33),\"\",IF(OR(N33=\"Missing Info\",N33=\"DNQ\"),N33,Qualifying_Index!P140))","v":""}]
[null,5,null,null,null,null,null,null,null,"","  ",null,null,{"$f":"IF(ISBLANK(C34),\"\",IF(OR(W34=\"Missing Info\",W53=\"Missing Info\"),\"Missing Info\",Qualifying_Index!M141))","v":""},null,null,null,null,null,"","",null,"",null,{"$f":"IF(ISBLANK(C34),\"\",IF(OR(N34=\"Missing Info\",N34=\"DNQ\"),N34,'GSHP Costs'!AT23))","v":""},null,{"$f":"IF(ISBLANK(C34),\"\",IF(OR(N34=\"Missing Info\",N34=\"DNQ\"),N34,Qualifying_Index!P141))","v":""}]
[null,6,null,null,null,null,null,null,null,"","  ",null,null,{"$f":"IF(ISBLANK(C35),\"\",IF(OR(W35=\"Missing Info\",W54=\"Missing Info\"),\"Missing Info\",Qualifying_Index!M142))","v":""},null,null,null,null,null,"","",null,"",null,{"$f":"IF(ISBLANK(C35),\"\",IF(OR(N35=\"Missing Info\",N35=\"DNQ\"),N35,'GSHP Costs'!AT24))","v":""},null,{"$f":"IF(ISBLANK(C35),\"\",IF(OR(N35=\"Missing Info\",N35=\"DNQ\"),N35,Qualifying_Index!P142))","v":""}]
[null,7,null,null,null,null,null,null,null,"","  ",null,null,{"$f":"IF(ISBLANK(C36),\"\",IF(OR(W36=\"Missing Info\",W55=\"Missing Info\"),\"Missing Info\",Qualifying_Index!M143))","v":""},null,null,null,null,null,"","",null,"",null,{"$f":"IF(ISBLANK(C36),\"\",IF(OR(N36=\"Missing Info\",N36=\"DNQ\"),N36,'GSHP Costs'!AT25))","v":""},null,{"$f":"IF(ISBLANK(C36),\"\",IF(OR(N36=\"Missing Info\",N36=\"DNQ\"),N36,Qualifying_Index!P143))","v":""}]
[null,8,null,null,null,null,null,null,null,"","  ",null,null,{"$f":"IF(ISBLANK(C37),\"\",IF(OR(W37=\"Missing Info\",W56=\"Missing Info\"),\"Missing Info\",Qualifying_Index!M144))","v":""},null,null,null,null,null,"","",null,"",null,{"$f":"IF(ISBLANK(C37),\"\",IF(OR(N37=\"Missing Info\",N37=\"DNQ\"),N37,'GSHP Costs'!AT26))","v":""},null,{"$f":"IF(ISBLANK(C37),\"\",IF(OR(N37=\"Missing Info\",N37=\"DNQ\"),N37,Qualifying_Index!P144))","v":""}]
[null,9,null,null,null,null,null,null,null,"","  ",null,null,{"$f":"IF(ISBLANK(C38),\"\",IF(OR(W38=\"Missing Info\",W57=\"Missing Info\"),\"Missing Info\",Qualifying_Index!M145))","v":""},null,null,null,null,null,"","",null,"",null,{"$f":"IF(ISBLANK(C38),\"\",IF(OR(N38=\"Missing Info\",N38=\"DNQ\"),N38,'GSHP Costs'!AT27))","v":""},null,{"$f":"IF(ISBLANK(C38),\"\",IF(OR(N38=\"Missing Info\",N38=\"DNQ\"),N38,Qualifying_Index!P145))","v":""}]
[null,10,null,null,null,null,null,null,null,"","  ",null,null,{"$f":"IF(ISBLANK(C39),\"\",IF(OR(W39=\"Missing Info\",W58=\"Missing Info\"),\"Missing Info\",Qualifying_Index!M146))","v":""},null,null,null,null,null,"","",null,"",null,{"$f":"IF(ISBLANK(C39),\"\",IF(OR(N39=\"Missing Info\",N39=\"DNQ\"),N39,'GSHP Costs'!AT28))","v":""},null,{"$f":"IF(ISBLANK(C39),\"\",IF(OR(N39=\"Missing Info\",N39=\"DNQ\"),N39,Qualifying_Index!P146))","v":""}]
[null,null,null,null,null,null,null,null,null,null,null,null,null,null,null,null,null,null,null,null,null,null,null,null,null,null,"Total Customer Rebate Amount:"]
[null,null,null,null,null,null,null,null,null,null,null,null,null,null,null,null,null,null,null,null,null,null,null,null,null,null,{"$f":"IF(SUM(Y30:Y39)=0,0,SUM(Y30:Y39))","v":0}]
[null,null,null,null,null,null,null,null,null,null,null,null,null,null,null,null,null,null,null,null,null,null,null,null,null,null,"Total Customer Bonus Amount:"]
[null,null,null,null,null,null,null,null,null,null,null,null,null,null,null,null,null,null,null,null,null,null,null,null,null,null,{"$f":"IF(SUM(AA30:AA39)=0,0,SUM(AA30:AA39))","v":0}]
[null,"Installed System Specifications"]
[null,"Condenser information must be entered in all cases.  In cases where Coil/Air Handler information is not available, please enter \"N/A\"."]
[]
[null,"Unit","Condenser",null,null,null,null,"Coil/Air Handler",null,null,null,null,null,"Supplemental Electric Heat?",null,"Existing Equipment",null,null,null,null,null,null,"← Check Completeness"]
[null,null,"Manufacturer",null,"Model Number",null,"Serial Number","Manufacturer",null,null,null,"Model Number","Serial Number",null,null,"Operating? (Y/N)","Manufacturer","Model Number","Serial Number"]
[null,1,null,null,null,null,null,null,null,null,null,null,null,null,null,null,null,null,null,null,null,null,{"$f":"IF(ISBLANK(C30),\"\",IF(OR(ISBLANK(C49),ISBLANK(E49),ISBLANK(G49),ISBLANK(H49),ISBLANK(L49),ISBLANK(M49),ISBLANK(N49),IF(Existing_Heating_Source=\"New Construction\",FALSE,ISBLANK(P49))),\"Missing Info\",\"Complete\"))","v":""}]
[null,2,null,null,null,null,null,null,null,null,null,null,null,null,null,null,null,null,null,null,null,null,""]
[null,3,null,null,null,null,null,null,null,null,null,null,null,null,null,null,null,null,null,null,null,null,""]
[null,4,null,null,null,null,null,null,null,null,null,null,null,null,null,null,null,null,null,null,null,null,""]
[null,5,null,null,null,null,null,null,null,null,null,null,null,null,null,null,null,null,null,null,null,null,""]
[null,6,null,null,null,null,null,null,null,null,null,null,null,null,null,null,null,null,null,null,null,null,""]
[null,7,null,null,null,null,null,null,null,null,null,null,null,null,null,null,null,null,null,null,null,null,""]
[null,8,null,null,null,null,null,null,null,null,null,null,null,null,null,null,null,null,null,null,null,null,""]
[null,9,null,null,null,null,null,null,null,null,null,null,null,null,null,null,null,null,null,null,null,null,""]
[null,10,null,null,null,null,null,null,null,null,null,null,null,null,null,null,null,null,null,null,null,null,""]

{"sheet":"Loop Field Cx Form","index":33,"n_rows":55,"n_cols":11,"rows_kept":55,"cut":false,"hidden":true,"merged":[[3,2,3,5],[7,1,7,10],[41,1,41,10],[52,3,52,6],[52,9,52,10],[52,1,52,2],[5,2,5,5],[9,1,9,3],[9,5,9,7],[20,1,20,10],[10,8,10,9],[49,2,49,10],[50,1,50,10],[22,2,22,6],[29,1,29,10]]}
[null,"2022 Geothermal System Commissioning Form"]
[]
[]
[null,"Performed By:"]
[]
[null,"System Type:"]
[]
[null,"Loop Field Pressure and Temperature Data During Heating Mode"]
[null,"Set thermostat to Heating Mode, run continuously for 10 minutes and then take temperature and pressure readings across the water refrigerant coil(s)"]
[null,"Primary or Source-Side Coil",null,null,null,"Load-Side Coil (Water-to-Water Systems ONLY)"]
[null,"Entering Water Temperature",null,"deg. F",null,"Entering Load Temperature",null,"deg. F"]
[null,"Leaving Water Temperature",null,"deg. F",null,"Leaving Load Temperature",null,"deg. F"]
[null,"Temperature Difference",{"$f":"C11-C12","v":0},"deg. F",null,"Temperature Difference",{"$f":"G11-G12","v":0},"deg. F"]
[]
[null,"Inlet Pressure",null,"psi",null,"Inlet Load Pressure",null,"psi"]
[null,"Outlet Pressure",null,"psi",null,"Outlet Load Pressure",null,"psi"]
[null,"Pressure Difference",{"$f":"C15-C16","v":0},"psi",null,"Pressure Difference",{"$f":"G15-G16","v":0},"psi"]
[]
[null,"Measured Flow Rate (GPM)",null,"gpm",null,"Measured Flow Rate (GPM)",null,"gpm"]
[]
[null,"Heat of Extraction Calculation"]
[]
[null,"Circulating Fluid Type"]
[null,"Fluid Temp",null,"deg. F"]
[null,"Concentration (volume %)"]
[null,"Estimated K-Value (default = 500)"]
[]
[null,"Heat of Extraction",{"$f":"C19*C13*C26","v":0},"Btu/hr"]
[]
[null,"Capacity and Efficiency Calculation"]
[null,"Measure voltage supplied to GSHP and measure current draw"]
[]
[null,"Measured voltage",null,"volts"]
[null,"Measured current draw",null,"amps"]
[null,"Number of power phases"]
[null,"Electrical Demand",{"$f":"IF(C35=1,0.85*C34*C33,SQRT(3)*0.85*C34*C33)","v":0},"Watts"]
[]
[null,"GSHP Heating Capacity",{"$f":"C28+References!CK47*C36","v":0},"Btu/hr"]
[]
[null,"Coefficient of Performance (COP)",{"$f":"IFERROR(C38/(References!CK47*C36),\"\")","v":""}]
[]
[null,"Overall Performance Check"]
[]
[null,"Parameter","Measured Value","Manufacturer's Data","Difference","In Agreement?","Explanation \n(if necessary)"]
[null,"Heat of Extraction (Btu/hr)",{"$f":"C28","v":0},null,{"$f":"IF(ISBLANK(D45),\"\",IFERROR(D45/C45-1,\"\"))","v":""}]
[null,"Heating Capacity (Btu/hr)",{"$f":"C38","v":0},null,{"$f":"IF(ISBLANK(D46),\"\",IFERROR(D46/C46-1,\"\"))","v":""}]
[null,"Electrical Demand (W)",{"$f":"C36","v":0},null,{"$f":"IF(ISBLANK(D47),\"\",IFERROR(D47/C47-1,\"\"))","v":""}]
[null,"Coefficient of Performance (COP)",{"$f":"C40","v":""},null,{"$f":"IF(ISBLANK(D48),\"\",IFERROR(D48/C48-1,\"\"))","v":""}]
[]
[null,"General Notes:"]
[]
[]
[null,"Commissioning Technician Signature:",null,null,null,null,null,null,"Date:"]
[]
[null,"Application Version:",{"$f":"Development!A2","v":"1.0"},null,null,null,null,null,null,"Effective:",{"$f":"Development!A4","v":"1.1.23"}]

{"sheet":"GSHP Costs","index":34,"n_rows":29,"n_cols":48,"rows_kept":29,"cut":false,"hidden":true,"merged":[[13,2,14,46],[28,2,29,45]]}
["Password:"]
[]
[null,null,"Space Heating Unit Number","Product Line","Class Name","Product Name","Measure Code","Application ID","Application Version","Gross kW","Gross kWh","Gross Winter kW","Gross BE kWh","Delta Gross kWh","In Service Rate","Utility Gross Summer Peak kW","Utility Gross kWh","Utility Gross Winter kW","Utility Gross BE kWh","Delta Utility Gross kWh","Coincidence Factor","Free Ridership","Spillover","Line Loss Summer Demand (kW)","Line Loss Energy (kWh)","Net Summer Peak kW","Net kWh","Net Winter kW","Net BE kWh","Delta Net kWh","Total Net Summer Peak kW","Total Net kWh","Total Net Winter kW","Total Net BE kWh","Total Delta Net kWh","EE CO2 Savings","BE CO2 Savings","Total CO2 Savings","MMBTU Savings","BE MMBTU Savings","Total MMBTU Savings","Equipment Cost","Labor Cost","Total Cost","Elec Util Cust Incentive","Total Elec Util Cust Incentive","Contractor Incentive","Product Quantity"]
[null,null,1,null,{"$f":"IF(OR('Space Heating Worksheet'!$AH33=\"\",'Space Heating Worksheet'!AH33=\"DNQ\",'Space Heating Worksheet'!AH33=\"Missing Info\"),\"\",\"Geothermal Heat Pump\")","v":""},{"$f":"IF(E4=\"\",\"\",'Space Heating Worksheet'!L33)","v":""},null,null,null,null,null,null,null,null,null,null,null,null,null,null,null,null,null,null,null,null,null,null,null,null,null,null,null,null,null,null,null,null,null,null,null,null,null,{"$f":"IF(AND(AP4=\"\",AQ4=\"\"),\"\",AP4+AQ4)","v":""},{"$f":"IF(E4=\"\",\"\",IF(AR4=\"\",0,MIN(Qualifying_Index!N121,AR4*References!$C$18)))","v":""},{"$f":"AS4","v":""},{"$f":"IF(E4=\"\",\"\",0)","v":""}]
[null,null,{"$f":"C4+1","v":2},null,{"$f":"IF(OR('Space Heating Worksheet'!$AH34=\"\",'Space Heating Worksheet'!AH34=\"DNQ\",'Space Heating Worksheet'!AH34=\"Missing Info\"),\"\",\"Geothermal Heat Pump\")","v":""},{"$f":"IF(E5=\"\",\"\",'Space Heating Worksheet'!L34)","v":""},null,null,null,null,null,null,null,null,null,null,null,null,null,null,null,null,null,null,null,null,null,null,null,null,null,null,null,null,null,null,null,null,null,null,null,null,null,{"$f":"IF(AND(AP5=\"\",AQ5=\"\"),\"\",AP5+AQ5)","v":""},{"$f":"IF(E5=\"\",\"\",IF(AR5=\"\",0,MIN(Qualifying_Index!N122,AR5*References!$C$18)))","v":""},{"$f":"AS5","v":""},{"$f":"IF(E5=\"\",\"\",0)","v":""}]
[null,null,{"$f":"C5+1","v":3},null,{"$f":"IF(OR('Space Heating Worksheet'!$AH35=\"\",'Space Heating Worksheet'!AH35=\"DNQ\",'Space Heating Worksheet'!AH35=\"Missing Info\"),\"\",\"Geothermal Heat Pump\")","v":""},{"$f":"IF(E6=\"\",\"\",'Space Heating Worksheet'!L35)","v":""},null,null,null,null,null,null,null,null,null,null,null,null,null,null,null,null,null,null,null,null,null,null,null,null,null,null,null,null,null,null,null,null,null,null,null,null,null,"",{"$f":"IF(E6=\"\",\"\",IF(AR6=\"\",0,MIN(Qualifying_Index!N123,AR6*References!$C$18)))","v":""},"",""]
[null,null,{"$f":"C6+1","v":4},null,{"$f":"IF(OR('Space Heating Worksheet'!$AH36=\"\",'Space Heating Worksheet'!AH36=\"DNQ\",'Space Heating Worksheet'!AH36=\"Missing Info\"),\"\",\"Geothermal Heat Pump\")","v":""},{"$f":"IF(E7=\"\",\"\",'Space Heating Worksheet'!L36)","v":""},null,null,null,null,null,null,null,null,null,null,null,null,null,null,null,null,null,null,null,null,null,null,null,null,null,null,null,null,null,null,null,null,null,null,null,null,null,"",{"$f":"IF(E7=\"\",\"\",IF(AR7=\"\",0,MIN(Qualifying_Index!N124,AR7*References!$C$18)))","v":""},"",""]
[null,null,5,null,{"$f":"IF(OR('Space Heating Worksheet'!$AH37=\"\",'Space Heating Worksheet'!AH37=\"DNQ\",'Space Heating Worksheet'!AH37=\"Missing Info\"),\"\",\"Geothermal Heat Pump\")","v":""},{"$f":"IF(E8=\"\",\"\",'Space Heating Worksheet'!L37)","v":""},null,null,null,null,null,null,null,null,null,null,null,null,null,null,null,null,null,null,null,null,null,null,null,null,null,null,null,null,null,null,null,null,null,null,null,null,null,"",{"$f":"IF(E8=\"\",\"\",IF(AR8=\"\",0,MIN(Qualifying_Index!N125,AR8*References!$C$18)))","v":""},"",""]
[null,null,6,null,{"$f":"IF(OR('Space Heating Worksheet'!$AH38=\"\",'Space Heating Worksheet'!AH38=\"DNQ\",'Space Heating Worksheet'!AH38=\"Missing Info\"),\"\",\"Geothermal Heat Pump\")","v":""},{"$f":"IF(E9=\"\",\"\",'Space Heating Worksheet'!L38)","v":""},null,null,null,null,null,null,null,null,null,null,null,null,null,null,null,null,null,null,null,null,null,null,null,null,null,null,null,null,null,null,null,null,null,null,null,null,null,"",{"$f":"IF(E9=\"\",\"\",IF(AR9=\"\",0,MIN(Qualifying_Index!N126,AR9*References!$C$18)))","v":""},"",""]
[null,null,7,null,{"$f":"IF(OR('Space Heating Worksheet'!$AH39=\"\",'Space Heating Worksheet'!AH39=\"DNQ\",'Space Heating Worksheet'!AH39=\"Missing Info\"),\"\",\"Geothermal Heat Pump\")","v":""},{"$f":"IF(E10=\"\",\"\",'Space Heating Worksheet'!L39)","v":""},null,null,null,null,null,null,null,null,null,null,null,null,null,null,null,null,null,null,null,null,null,null,null,null,null,null,null,null,null,null,null,null,null,null,null,null,null,"",{"$f":"IF(E10=\"\",\"\",IF(AR10=\"\",0,MIN(Qualifying_Index!N127,AR10*References!$C$18)))","v":""},"",""]
[null,null,8,null,{"$f":"IF(OR('Space Heating Worksheet'!$AH40=\"\",'Space Heating Worksheet'!AH40=\"DNQ\",'Space Heating Worksheet'!AH40=\"Missing Info\"),\"\",\"Geothermal Heat Pump\")","v":""},{"$f":"IF(E11=\"\",\"\",'Space Heating Worksheet'!L40)","v":""},null,null,null,null,null,null,null,null,null,null,null,null,null,null,null,null,null,null,null,null,null,null,null,null,null,null,null,null,null,null,null,null,null,null,null,null,null,"",{"$f":"IF(E11=\"\",\"\",IF(AR11=\"\",0,MIN(Qualifying_Index!N128,AR11*References!$C$18)))","v":""},"",""]
[null,null,9,null,{"$f":"IF(OR('Space Heating Worksheet'!$AH41=\"\",'Space Heating Worksheet'!AH41=\"DNQ\",'Space Heating Worksheet'!AH41=\"Missing Info\"),\"\",\"Geothermal Heat Pump\")","v":""},{"$f":"IF(E12=\"\",\"\",'Space Heating Worksheet'!L41)","v":""},null,null,null,null,null,null,null,null,null,null,null,null,null,null,null,null,null,null,null,null,null,null,null,null,null,null,null,null,null,null,null,null,null,null,null,null,null,"",{"$f":"IF(E12=\"\",\"\",IF(AR12=\"\",0,MIN(Qualifying_Index!N129,AR12*References!$C$18)))","v":""},"",""]
[null,null,10,null,{"$f":"IF(OR('Space Heating Worksheet'!$AH42=\"\",'Space Heating Worksheet'!AH42=\"DNQ\",'Space Heating Worksheet'!AH42=\"Missing Info\"),\"\",\"Geothermal Heat Pump\")","v":""},{"$f":"IF(E13=\"\",\"\",'Space Heating Worksheet'!L42)","v":""},null,null,null,null,null,null,null,null,null,null,null,null,null,null,null,null,null,null,null,null,null,null,null,null,null,null,null,null,null,null,null,null,null,null,null,null,null,"",{"$f":"IF(E13=\"\",\"\",IF(AR13=\"\",0,MIN(Qualifying_Index!N130,AR13*References!$C$18)))","v":""},"",""]
[null,null,"*Please include the cost of the heat pump on each line of the Material Cost. Cost of loop materials, piping, ductwork, and all other material costs must be distributed evenly to each heat pump row. Labor costs, including drilling, must beevenly distributed on each line of the Labor Cost column.*"]
[]
[]
[]
[null,null,"Dedicated Water Heating Unit Number",null,"Class Name","Product Name",null,null,null,null,null,null,null,null,null,null,null,null,null,null,null,null,null,null,null,null,null,null,null,null,null,null,null,null,null,null,null,null,null,null,null,"Equipment Cost","Labor Cost","Total Cost","Elec Util Cust Incentive","Total Elec Util Cust Incentive","Contractor Incentive"]
[null,null,1,null,{"$f":"IF(OR('Dedicated Water Heating'!W30=\"\",'Dedicated Water Heating'!W30=\"DNQ\",'Dedicated Water Heating'!W30=\"Missing Info\"),\"\",\"Geothermal Heat Pump\")","v":""},{"$f":"IF(E19=\"\",\"\",'Dedicated Water Heating'!K30)","v":""},null,null,null,null,null,null,null,null,null,null,null,null,null,null,null,null,null,null,null,null,null,null,null,null,null,null,null,null,null,null,null,null,null,null,null,null,null,{"$f":"IF(AND(AP19=\"\",AQ19=\"\"),\"\",AP19+AQ19)","v":""},{"$f":"IF(E19=\"\",\"\",IF(AR19=\"\",0,MIN(Qualifying_Index!N137,AR19*References!$C$18)))","v":""},{"$f":"AS19","v":""}]
[null,null,{"$f":"C19+1","v":2},null,{"$f":"IF(OR('Dedicated Water Heating'!W31=\"\",'Dedicated Water Heating'!W31=\"DNQ\",'Dedicated Water Heating'!W31=\"Missing Info\"),\"\",\"Geothermal Heat Pump\")","v":""},{"$f":"IF(E20=\"\",\"\",'Dedicated Water Heating'!K31)","v":""},null,null,null,null,null,null,null,null,null,null,null,null,null,null,null,null,null,null,null,null,null,null,null,null,null,null,null,null,null,null,null,null,null,null,null,null,null,{"$f":"IF(AND(AP20=\"\",AQ20=\"\"),\"\",AP20+AQ20)","v":""},{"$f":"IF(E20=\"\",\"\",IF(AR20=\"\",0,MIN(Qualifying_Index!N138,AR20*References!$C$18)))","v":""},{"$f":"AS20","v":""}]
[null,null,{"$f":"C20+1","v":3},null,{"$f":"IF(OR('Dedicated Water Heating'!W32=\"\",'Dedicated Water Heating'!W32=\"DNQ\",'Dedicated Water Heating'!W32=\"Missing Info\"),\"\",\"Geothermal Heat Pump\")","v":""},{"$f":"IF(E21=\"\",\"\",'Dedicated Water Heating'!K32)","v":""},null,null,null,null,null,null,null,null,null,null,null,null,null,null,null,null,null,null,null,null,null,null,null,null,null,null,null,null,null,null,null,null,null,null,null,null,null,"",{"$f":"IF(E21=\"\",\"\",IF(AR21=\"\",0,MIN(Qualifying_Index!N139,AR21*References!$C$18)))","v":""},""]
[null,null,4,null,{"$f":"IF(OR('Dedicated Water Heating'!W33=\"\",'Dedicated Water Heating'!W33=\"DNQ\",'Dedicated Water Heating'!W33=\"Missing Info\"),\"\",\"Geothermal Heat Pump\")","v":""},{"$f":"IF(E22=\"\",\"\",'Dedicated Water Heating'!K33)","v":""},null,null,null,null,null,null,null,null,null,null,null,null,null,null,null,null,null,null,null,null,null,null,null,null,null,null,null,null,null,null,null,null,null,null,null,null,null,"",{"$f":"IF(E22=\"\",\"\",IF(AR22=\"\",0,MIN(Qualifying_Index!N140,AR22*References!$C$18)))","v":""},""]
[null,null,5,null,{"$f":"IF(OR('Dedicated Water Heating'!W34=\"\",'Dedicated Water Heating'!W34=\"DNQ\",'Dedicated Water Heating'!W34=\"Missing Info\"),\"\",\"Geothermal Heat Pump\")","v":""},{"$f":"IF(E23=\"\",\"\",'Dedicated Water Heating'!K34)","v":""},null,null,null,null,null,null,null,null,null,null,null,null,null,null,null,null,null,null,null,null,null,null,null,null,null,null,null,null,null,null,null,null,null,null,null,null,null,"",{"$f":"IF(E23=\"\",\"\",IF(AR23=\"\",0,MIN(Qualifying_Index!N141,AR23*References!$C$18)))","v":""},""]
[null,null,6,null,{"$f":"IF(OR('Dedicated Water Heating'!W35=\"\",'Dedicated Water Heating'!W35=\"DNQ\",'Dedicated Water Heating'!W35=\"Missing Info\"),\"\",\"Geothermal Heat Pump\")","v":""},{"$f":"IF(E24=\"\",\"\",'Dedicated Water Heating'!K35)","v":""},null,null,null,null,null,null,null,null,null,null,null,null,null,null,null,null,null,null,null,null,null,null,null,null,null,null,null,null,null,null,null,null,null,null,null,null,null,"",{"$f":"IF(E24=\"\",\"\",IF(AR24=\"\",0,MIN(Qualifying_Index!N142,AR24*References!$C$18)))","v":""},""]
[null,null,7,null,{"$f":"IF(OR('Dedicated Water Heating'!W36=\"\",'Dedicated Water Heating'!W36=\"DNQ\",'Dedicated Water Heating'!W36=\"Missing Info\"),\"\",\"Geothermal Heat Pump\")","v":""},{"$f":"IF(E25=\"\",\"\",'Dedicated Water Heating'!K36)","v":""},null,null,null,null,null,null,null,null,null,null,null,null,null,null,null,null,null,null,null,null,null,null,null,null,null,null,null,null,null,null,null,null,null,null,null,null,null,"",{"$f":"IF(E25=\"\",\"\",IF(AR25=\"\",0,MIN(Qualifying_Index!N143,AR25*References!$C$18)))","v":""},""]
[null,null,8,null,{"$f":"IF(OR('Dedicated Water Heating'!W37=\"\",'Dedicated Water Heating'!W37=\"DNQ\",'Dedicated Water Heating'!W37=\"Missing Info\"),\"\",\"Geothermal Heat Pump\")","v":""},{"$f":"IF(E26=\"\",\"\",'Dedicated Water Heating'!K37)","v":""},null,null,null,null,null,null,null,null,null,null,null,null,null,null,null,null,null,null,null,null,null,null,null,null,null,null,null,null,null,null,null,null,null,null,null,null,null,"",{"$f":"IF(E26=\"\",\"\",IF(AR26=\"\",0,MIN(Qualifying_Index!N144,AR26*References!$C$18)))","v":""},""]
[null,null,9,null,{"$f":"IF(OR('Dedicated Water Heating'!W38=\"\",'Dedicated Water Heating'!W38=\"DNQ\",'Dedicated Water Heating'!W38=\"Missing Info\"),\"\",\"Geothermal Heat Pump\")","v":""},{"$f":"IF(E27=\"\",\"\",'Dedicated Water Heating'!K38)","v":""},null,null,null,null,null,null,null,null,null,null,null,null,null,null,null,null,null,null,null,null,null,null,null,null,null,null,null,null,null,null,null,null,null,null,null,null,null,"",{"$f":"IF(E27=\"\",\"\",IF(AR27=\"\",0,MIN(Qualifying_Index!N145,AR27*References!$C$18)))","v":""},""]
[null,null,10,null,{"$f":"IF(OR('Dedicated Water Heating'!W39=\"\",'Dedicated Water Heating'!W39=\"DNQ\",'Dedicated Water Heating'!W39=\"Missing Info\"),\"\",\"Geothermal Heat Pump\")","v":""},{"$f":"IF(E28=\"\",\"\",'Dedicated Water Heating'!K39)","v":""},null,null,null,null,null,null,null,null,null,null,null,null,null,null,null,null,null,null,null,null,null,null,null,null,null,null,null,null,null,null,null,null,null,null,null,null,null,"",{"$f":"IF(E28=\"\",\"\",IF(AR28=\"\",0,MIN(Qualifying_Index!N146,AR28*References!$C$18)))","v":""},""]
[null,null,"*Please include the cost of all materials and labor associated with the Dedicated Hot Water Heaters. Costs from the Space Heating section above must not be duplicated.*"]

{"sheet":"Pre-Inspection Form","index":35,"n_rows":78,"n_cols":13,"rows_kept":78,"cut":false,"hidden":true,"merged":[[71,2,71,11],[72,1,72,11],[73,1,73,11],[75,3,75,6],[75,10,75,11],[53,2,53,3],[53,4,53,5],[53,6,53,7],[53,8,53,9],[70,3,70,4],[70,5,70,6],[70,7,70,8],[70,9,70,10],[57,2,57,3],[57,4,57,5],[57,6,57,7],[57,10,57,11],[58,2,58,3],[58,4,58,5],[58,6,58,7],[65,2,65,3],[65,4,65,5],[65,6,65,7],[65,10,65,11],[47,2,47,3],[47,4,47,5],[47,6,47,7],[47,8,47,9],[48,2,48,3],[48,4,48,5],[48,6,48,7],[48,8,48,9],[52,6,52,7],[52,8,52,9],[49,2,49,3],[49,4,49,5],[49,6,49,7],[49,8,49,9],[50,2,50,3],[50,4,50,5],[50,6,50,7],[50,8,50,9],[51,2,51,3],[51,4,51,5],[51,6,51,7],[51,8,51,9],[52,2,52,3],[52,4,52,5],[44,2,44,3],[44,4,44,5],[44,6,44,7],[44,8,44,9],[45,2,45,3],[45,4,45,5],[45,6,45,7],[45,8,45,9],[46,2,46,3],[46,4,46,5],[46,6,46,7],[46,8,46,9],[35,2,35,3],[35,4,35,5],[35,6,35,7],[35,10,35,11],[38,1,38,11],[39,5,39,7],[43,2,43,3],[43,4,43,5],[43,6,43,7],[43,8,43,9],[32,2,32,3],[32,4,32,5],[32,6,32,7],[32,10,32,11],[33,2,33,3],[33,4,33,5],[33,6,33,7],[33,10,33,11],[34,2,34,3],[34,4,34,5],[34,6,34,7],[34,10,34,11],[29,2,29,3],[29,4,29,5],[29,6,29,7],[29,10,29,11],[30,2,30,3],[30,4,30,5],[30,6,30,7],[30,10,30,11],[31,2,31,3],[31,4,31,5],[31,6,31,7],[31,10,31,11],[26,2,26,3],[26,4,26,5],[26,6,26,7],[26,10,26,11],[27,2,27,3],[27,4,27,5],[27,6,27,7],[27,10,27,11],[28,2,28,3],[28,4,28,5],[28,6,28,7],[28,10,28,11],[20,1,20,11],[21,2,21,5],[21,8,21,11],[22,2,22,5],[22,8,22,11],[24,1,24,11],[25,2,25,3],[25,4,25,5],[25,6,25,7],[25,10,25,11],[3,2,3,5],[3,8,3,11],[6,1,6,11],[7,2,7,5],[7,8,7,11],[8,2,8,5],[8,8,8,11],[9,2,9,5],[9,8,9,11],[54,1,54,11],[55,2,55,3],[55,4,55,5],[55,6,55,7],[55,10,55,11],[56,2,56,3],[64,10,64,11],[59,10,59,11],[60,2,60,3],[60,4,60,5],[60,6,60,7],[60,10,60,11],[61,2,61,3],[61,4,61,5],[61,6,61,7],[61,10,61,11],[58,10,58,11],[59,2,59,3],[59,4,59,5],[59,6,59,7],[63,2,63,3],[63,4,63,5],[63,6,63,7],[63,10,63,11],[64,2,64,3],[64,4,64,5],[64,6,64,7],[56,4,56,5],[56,6,56,7],[56,10,56,11],[62,2,62,3],[62,4,62,5],[62,6,62,7],[62,10,62,11]]}
[null,"2022 Geothermal Inspection Form"]
[]
[]
[null,"Performed By:",null,null,null,null,null,"Account No:",{"$f":"IF('Customer Information'!C5=\"\",\"\",'Customer Information'!C5)","v":""}]
[]
[]
[null,"Customer Information"]
[null,"Customer Name:",{"$f":"IF('Customer Information'!C7=\"\",\"\",'Customer Information'!C7)","v":""},null,null,null,null,"Address:",{"$f":"IF('Customer Information'!C7=\"\",\"\",'Customer Information'!C7)","v":""}]
[null,"Town:",{"$f":"IF('Customer Information'!I7=\"\",\"\",'Customer Information'!I7)","v":""},null,null,null,null,"Phone:",{"$f":"IF('Customer Information'!K9=\"\",\"\",'Customer Information'!K9)","v":""}]
[null,"Inspector:",null,null,null,null,null,"Date &Time:"]
[]
[null,"Confirmation and Screening Questions"]
[null,"1. Have you or any family member traveled to a country for which the CDC has issued a Level 2 or 3 travel designation within the last 14 days?"]
[]
[null,"2. Have you or any family member traveled or had contact with any Persons Under Investigation (PUIs) for COVID-19 within the last 14 days, OR with anyone with known COVID-19?"]
[]
[null,"3. Do you or any family member have any symptoms of a fever or respiratory infection (e.g., cough, sore throat, fever, or shortness of breath)?"]
[]
[null,"IF ANY QUESTION IS RESPONDED TO WITH A YES, YOU CANNOT PROCEED AND WILL NEED TO RESCHEDULE THE APPOINTMENT"]
[]
[null,"Contractor Information"]
[null,"Company:",{"$f":"IF('Contractor Information'!C16=\"\",\"\",'Contractor Information'!C16)","v":""},null,null,null,null,"Contact Name:",{"$f":"IF('Contractor Information'!C18=\"\",\"\",'Contractor Information'!C18)","v":""}]
[null,"Phone:",{"$f":"IF('Contractor Information'!K18=\"\",\"\",'Contractor Information'!K18)","v":""},null,null,null,null,"Project ID:",{"$f":"IF('Customer Information'!L48=\"\",\"\",'Customer Information'!L48)","v":""}]
[]
[null,"Existing Space Heating Equipment Details"]
[null,"Unit #","Existing Heating Type",null,"Existing Cooling Type",null,"Manufacturer",null,"Model #","Operating (Y/N)","Matches \nWorksheet"]
[null,1,{"$f":"IF('Space Heating Worksheet'!X33=\"\",\"\",'Space Heating Worksheet'!X33)","v":""},null,{"$f":"IF('Space Heating Worksheet'!Y33=\"\",\"\",'Space Heating Worksheet'!Y33)","v":""},null,{"$f":"IF('Space Heating Worksheet'!Y52=\"\",\"\",'Space Heating Worksheet'!Y52)","v":""},null,{"$f":"IF('Space Heating Worksheet'!AA52=\"\",\"\",'Space Heating Worksheet'!AA52)","v":""},{"$f":"IF('Space Heating Worksheet'!X52=\"\",\"\",'Space Heating Worksheet'!X52)","v":""}]
[null,{"$f":"B27+1","v":2},{"$f":"IF('Space Heating Worksheet'!X34=\"\",\"\",'Space Heating Worksheet'!X34)","v":""},null,{"$f":"IF('Space Heating Worksheet'!Y34=\"\",\"\",'Space Heating Worksheet'!Y34)","v":""},null,{"$f":"IF('Space Heating Worksheet'!Y53=\"\",\"\",'Space Heating Worksheet'!Y53)","v":""},null,{"$f":"IF('Space Heating Worksheet'!AA53=\"\",\"\",'Space Heating Worksheet'!AA53)","v":""},{"$f":"IF('Space Heating Worksheet'!X53=\"\",\"\",'Space Heating Worksheet'!X53)","v":""}]
[null,3,{"$f":"IF('Space Heating Worksheet'!X35=\"\",\"\",'Space Heating Worksheet'!X35)","v":""},null,{"$f":"IF('Space Heating Worksheet'!Y35=\"\",\"\",'Space Heating Worksheet'!Y35)","v":""},null,{"$f":"IF('Space Heating Worksheet'!Y54=\"\",\"\",'Space Heating Worksheet'!Y54)","v":""},null,{"$f":"IF('Space Heating Worksheet'!AA54=\"\",\"\",'Space Heating Worksheet'!AA54)","v":""},{"$f":"IF('Space Heating Worksheet'!X54=\"\",\"\",'Space Heating Worksheet'!X54)","v":""}]
[null,4,{"$f":"IF('Space Heating Worksheet'!X36=\"\",\"\",'Space Heating Worksheet'!X36)","v":""},null,{"$f":"IF('Space Heating Worksheet'!Y36=\"\",\"\",'Space Heating Worksheet'!Y36)","v":""},null,{"$f":"IF('Space Heating Worksheet'!Y55=\"\",\"\",'Space Heating Worksheet'!Y55)","v":""},null,{"$f":"IF('Space Heating Worksheet'!AA55=\"\",\"\",'Space Heating Worksheet'!AA55)","v":""},{"$f":"IF('Space Heating Worksheet'!X55=\"\",\"\",'Space Heating Worksheet'!X55)","v":""}]
[null,5,{"$f":"IF('Space Heating Worksheet'!X37=\"\",\"\",'Space Heating Worksheet'!X37)","v":""},null,{"$f":"IF('Space Heating Worksheet'!Y37=\"\",\"\",'Space Heating Worksheet'!Y37)","v":""},null,{"$f":"IF('Space Heating Worksheet'!Y56=\"\",\"\",'Space Heating Worksheet'!Y56)","v":""},null,{"$f":"IF('Space Heating Worksheet'!AA56=\"\",\"\",'Space Heating Worksheet'!AA56)","v":""},{"$f":"IF('Space Heating Worksheet'!X56=\"\",\"\",'Space Heating Worksheet'!X56)","v":""}]
[null,6,{"$f":"IF('Space Heating Worksheet'!X38=\"\",\"\",'Space Heating Worksheet'!X38)","v":""},null,{"$f":"IF('Space Heating Worksheet'!Y38=\"\",\"\",'Space Heating Worksheet'!Y38)","v":""},null,{"$f":"IF('Space Heating Worksheet'!Y57=\"\",\"\",'Space Heating Worksheet'!Y57)","v":""},null,{"$f":"IF('Space Heating Worksheet'!AA57=\"\",\"\",'Space Heating Worksheet'!AA57)","v":""},{"$f":"IF('Space Heating Worksheet'!X57=\"\",\"\",'Space Heating Worksheet'!X57)","v":""}]
[null,7,{"$f":"IF('Space Heating Worksheet'!X39=\"\",\"\",'Space Heating Worksheet'!X39)","v":""},null,{"$f":"IF('Space Heating Worksheet'!Y39=\"\",\"\",'Space Heating Worksheet'!Y39)","v":""},null,{"$f":"IF('Space Heating Worksheet'!Y58=\"\",\"\",'Space Heating Worksheet'!Y58)","v":""},null,{"$f":"IF('Space Heating Worksheet'!AA58=\"\",\"\",'Space Heating Worksheet'!AA58)","v":""},{"$f":"IF('Space Heating Worksheet'!X58=\"\",\"\",'Space Heating Worksheet'!X58)","v":""}]
[null,8,{"$f":"IF('Space Heating Worksheet'!X40=\"\",\"\",'Space Heating Worksheet'!X40)","v":""},null,{"$f":"IF('Space Heating Worksheet'!Y40=\"\",\"\",'Space Heating Worksheet'!Y40)","v":""},null,{"$f":"IF('Space Heating Worksheet'!Y59=\"\",\"\",'Space Heating Worksheet'!Y59)","v":""},null,{"$f":"IF('Space Heating Worksheet'!AA59=\"\",\"\",'Space Heating Worksheet'!AA59)","v":""},{"$f":"IF('Space Heating Worksheet'!X59=\"\",\"\",'Space Heating Worksheet'!X59)","v":""}]
[null,9,{"$f":"IF('Space Heating Worksheet'!X41=\"\",\"\",'Space Heating Worksheet'!X41)","v":""},null,{"$f":"IF('Space Heating Worksheet'!Y41=\"\",\"\",'Space Heating Worksheet'!Y41)","v":""},null,{"$f":"IF('Space Heating Worksheet'!Y60=\"\",\"\",'Space Heating Worksheet'!Y60)","v":""},null,{"$f":"IF('Space Heating Worksheet'!AA60=\"\",\"\",'Space Heating Worksheet'!AA60)","v":""},{"$f":"IF('Space Heating Worksheet'!X60=\"\",\"\",'Space Heating Worksheet'!X60)","v":""}]
[null,10,{"$f":"IF('Space Heating Worksheet'!X42=\"\",\"\",'Space Heating Worksheet'!X42)","v":""},null,{"$f":"IF('Space Heating Worksheet'!Y42=\"\",\"\",'Space Heating Worksheet'!Y42)","v":""},null,{"$f":"IF('Space Heating Worksheet'!Y61=\"\",\"\",'Space Heating Worksheet'!Y61)","v":""},null,{"$f":"IF('Space Heating Worksheet'!AA61=\"\",\"\",'Space Heating Worksheet'!AA61)","v":""},{"$f":"IF('Space Heating Worksheet'!X61=\"\",\"\",'Space Heating Worksheet'!X61)","v":""}]
[]
[]
[null,"Inspection Analysis"]
[null,null,null,null,"Fail Reason*:"]
[]
[null,"ACCA Manual J (Total Tons):",null,{"$f":"IF(SUM(C45:D54)<=0,\"\",SUM(C45:D54)/12000)","v":""}]
[]
[null,null,"ACCA Manual J (BTU Cooling)",null,"ACCA Manual J (BTU Heating)",null,"AHRI Certificate Number:",null,"AHRI Ratings:"]
[null,"Unit 1",{"$f":"IF('Space Heating Worksheet'!AH52=\"\",\"\",'Space Heating Worksheet'!AH52)","v":""},null,{"$f":"IF('Space Heating Worksheet'!AI52=\"\",\"\",'Space Heating Worksheet'!AI52)","v":""},null,{"$f":"IF('Space Heating Worksheet'!Q33=\"\",\"\",'Space Heating Worksheet'!Q33)","v":""},null,null,null,null,null,33]
[null,"Unit 2",{"$f":"IF('Space Heating Worksheet'!AH53=\"\",\"\",'Space Heating Worksheet'!AH53)","v":""},null,{"$f":"IF('Space Heating Worksheet'!AI53=\"\",\"\",'Space Heating Worksheet'!AI53)","v":""},null,{"$f":"IF('Space Heating Worksheet'!Q34=\"\",\"\",'Space Heating Worksheet'!Q34)","v":""},null,null,null,null,null,34]
[null,"Unit 3",{"$f":"IF('Space Heating Worksheet'!AH54=\"\",\"\",'Space Heating Worksheet'!AH54)","v":""},null,{"$f":"IF('Space Heating Worksheet'!AI54=\"\",\"\",'Space Heating Worksheet'!AI54)","v":""},null,{"$f":"IF('Space Heating Worksheet'!Q35=\"\",\"\",'Space Heating Worksheet'!Q35)","v":""},null,null,null,null,null,35]
[null,"Unit 4 ",{"$f":"IF('Space Heating Worksheet'!AH55=\"\",\"\",'Space Heating Worksheet'!AH55)","v":""},null,{"$f":"IF('Space Heating Worksheet'!AI55=\"\",\"\",'Space Heating Worksheet'!AI55)","v":""},null,{"$f":"IF('Space Heating Worksheet'!Q36=\"\",\"\",'Space Heating Worksheet'!Q36)","v":""},null,null,null,null,null,36]
[null,"Unit 5",{"$f":"IF('Space Heating Worksheet'!AH56=\"\",\"\",'Space Heating Worksheet'!AH56)","v":""},null,{"$f":"IF('Space Heating Worksheet'!AI56=\"\",\"\",'Space Heating Worksheet'!AI56)","v":""},null,{"$f":"IF('Space Heating Worksheet'!Q37=\"\",\"\",'Space Heating Worksheet'!Q37)","v":""},null,null,null,null,null,37]
[null,"Unit 6",{"$f":"IF('Space Heating Worksheet'!AH57=\"\",\"\",'Space Heating Worksheet'!AH57)","v":""},null,{"$f":"IF('Space Heating Worksheet'!AI57=\"\",\"\",'Space Heating Worksheet'!AI57)","v":""},null,{"$f":"IF('Space Heating Worksheet'!Q38=\"\",\"\",'Space Heating Worksheet'!Q38)","v":""},null,null,null,null,null,38]
[null,"Unit 7",{"$f":"IF('Space Heating Worksheet'!AH58=\"\",\"\",'Space Heating Worksheet'!AH58)","v":""},null,{"$f":"IF('Space Heating Worksheet'!AI58=\"\",\"\",'Space Heating Worksheet'!AI58)","v":""},null,{"$f":"IF('Space Heating Worksheet'!Q39=\"\",\"\",'Space Heating Worksheet'!Q39)","v":""},null,null,null,null,null,39]
[null,"Unit 8",{"$f":"IF('Space Heating Worksheet'!AH59=\"\",\"\",'Space Heating Worksheet'!AH59)","v":""},null,{"$f":"IF('Space Heating Worksheet'!AI59=\"\",\"\",'Space Heating Worksheet'!AI59)","v":""},null,{"$f":"IF('Space Heating Worksheet'!Q40=\"\",\"\",'Space Heating Worksheet'!Q40)","v":""},null,null,null,null,null,40]
[null,"Unit 9",{"$f":"IF('Space Heating Worksheet'!AH60=\"\",\"\",'Space Heating Worksheet'!AH60)","v":""},null,{"$f":"IF('Space Heating Worksheet'!AI60=\"\",\"\",'Space Heating Worksheet'!AI60)","v":""},null,{"$f":"IF('Space Heating Worksheet'!Q41=\"\",\"\",'Space Heating Worksheet'!Q41)","v":""},null,null,null,null,null,41]
[null,"Unit 10",{"$f":"IF('Space Heating Worksheet'!AH61=\"\",\"\",'Space Heating Worksheet'!AH61)","v":""},null,{"$f":"IF('Space Heating Worksheet'!AI61=\"\",\"\",'Space Heating Worksheet'!AI61)","v":""},null,{"$f":"IF('Space Heating Worksheet'!Q42=\"\",\"\",'Space Heating Worksheet'!Q42)","v":""},null,null,null,null,null,42]
[null,"Existing Water Heating Equipment Details"]
[null,"Unit #","Existing Water Heating Type",null,"Storage Tank Size (gallons)",null,"Manufacturer",null,"Model #","Operating (Y/N)","Matches \nWorksheet"]
[null,1,{"$f":"IF('Dedicated Water Heating'!P30=\"\",\"\",'Dedicated Water Heating'!P30)","v":""},null,{"$f":"IF('Dedicated Water Heating'!R30=\"\",\"\",'Dedicated Water Heating'!R30)","v":""},null,{"$f":"IF('Dedicated Water Heating'!Q49=\"\",\"\",'Dedicated Water Heating'!Q49)","v":""},null,{"$f":"IF('Dedicated Water Heating'!R49=\"\",\"\",'Dedicated Water Heating'!R49)","v":""},{"$f":"IF('Dedicated Water Heating'!P49=\"\",\"\",'Dedicated Water Heating'!P49)","v":""}]
[null,{"$f":"B57+1","v":2},{"$f":"IF('Dedicated Water Heating'!P31=\"\",\"\",'Dedicated Water Heating'!P31)","v":""},null,{"$f":"IF('Dedicated Water Heating'!R31=\"\",\"\",'Dedicated Water Heating'!R31)","v":""},null,{"$f":"IF('Dedicated Water Heating'!Q50=\"\",\"\",'Dedicated Water Heating'!Q50)","v":""},null,{"$f":"IF('Dedicated Water Heating'!R50=\"\",\"\",'Dedicated Water Heating'!R50)","v":""},{"$f":"IF('Dedicated Water Heating'!P50=\"\",\"\",'Dedicated Water Heating'!P50)","v":""}]
[null,3,{"$f":"IF('Dedicated Water Heating'!P32=\"\",\"\",'Dedicated Water Heating'!P32)","v":""},null,{"$f":"IF('Dedicated Water Heating'!R32=\"\",\"\",'Dedicated Water Heating'!R32)","v":""},null,{"$f":"IF('Dedicated Water Heating'!Q51=\"\",\"\",'Dedicated Water Heating'!Q51)","v":""},null,{"$f":"IF('Dedicated Water Heating'!R51=\"\",\"\",'Dedicated Water Heating'!R51)","v":""},{"$f":"IF('Dedicated Water Heating'!P51=\"\",\"\",'Dedicated Water Heating'!P51)","v":""}]
[null,4,{"$f":"IF('Dedicated Water Heating'!P33=\"\",\"\",'Dedicated Water Heating'!P33)","v":""},null,{"$f":"IF('Dedicated Water Heating'!R33=\"\",\"\",'Dedicated Water Heating'!R33)","v":""},null,{"$f":"IF('Dedicated Water Heating'!Q52=\"\",\"\",'Dedicated Water Heating'!Q52)","v":""},null,{"$f":"IF('Dedicated Water Heating'!R52=\"\",\"\",'Dedicated Water Heating'!R52)","v":""},{"$f":"IF('Dedicated Water Heating'!P52=\"\",\"\",'Dedicated Water Heating'!P52)","v":""}]
[null,5,{"$f":"IF('Dedicated Water Heating'!P34=\"\",\"\",'Dedicated Water Heating'!P34)","v":""},null,{"$f":"IF('Dedicated Water Heating'!R34=\"\",\"\",'Dedicated Water Heating'!R34)","v":""},null,{"$f":"IF('Dedicated Water Heating'!Q53=\"\",\"\",'Dedicated Water Heating'!Q53)","v":""},null,{"$f":"IF('Dedicated Water Heating'!R53=\"\",\"\",'Dedicated Water Heating'!R53)","v":""},{"$f":"IF('Dedicated Water Heating'!P53=\"\",\"\",'Dedicated Water Heating'!P53)","v":""}]
[null,6,{"$f":"IF('Dedicated Water Heating'!P35=\"\",\"\",'Dedicated Water Heating'!P35)","v":""},null,{"$f":"IF('Dedicated Water Heating'!R35=\"\",\"\",'Dedicated Water Heating'!R35)","v":""},null,{"$f":"IF('Dedicated Water Heating'!Q54=\"\",\"\",'Dedicated Water Heating'!Q54)","v":""},null,{"$f":"IF('Dedicated Water Heating'!R54=\"\",\"\",'Dedicated Water Heating'!R54)","v":""},{"$f":"IF('Dedicated Water Heating'!P54=\"\",\"\",'Dedicated Water Heating'!P54)","v":""}]
[null,7,{"$f":"IF('Dedicated Water Heating'!P36=\"\",\"\",'Dedicated Water Heating'!P36)","v":""},null,{"$f":"IF('Dedicated Water Heating'!R36=\"\",\"\",'Dedicated Water Heating'!R36)","v":""},null,{"$f":"IF('Dedicated Water Heating'!Q55=\"\",\"\",'Dedicated Water Heating'!Q55)","v":""},null,{"$f":"IF('Dedicated Water Heating'!R55=\"\",\"\",'Dedicated Water Heating'!R55)","v":""},{"$f":"IF('Dedicated Water Heating'!P55=\"\",\"\",'Dedicated Water Heating'!P55)","v":""}]
[null,8,{"$f":"IF('Dedicated Water Heating'!P37=\"\",\"\",'Dedicated Water Heating'!P37)","v":""},null,{"$f":"IF('Dedicated Water Heating'!R37=\"\",\"\",'Dedicated Water Heating'!R37)","v":""},null,{"$f":"IF('Dedicated Water Heating'!Q56=\"\",\"\",'Dedicated Water Heating'!Q56)","v":""},null,{"$f":"IF('Dedicated Water Heating'!R56=\"\",\"\",'Dedicated Water Heating'!R56)","v":""},{"$f":"IF('Dedicated Water Heating'!P56=\"\",\"\",'Dedicated Water Heating'!P56)","v":""}]
[null,9,{"$f":"IF('Dedicated Water Heating'!P38=\"\",\"\",'Dedicated Water Heating'!P38)","v":""},null,{"$f":"IF('Dedicated Water Heating'!R38=\"\",\"\",'Dedicated Water Heating'!R38)","v":""},null,{"$f":"IF('Dedicated Water Heating'!Q57=\"\",\"\",'Dedicated Water Heating'!Q57)","v":""},null,{"$f":"IF('Dedicated Water Heating'!R57=\"\",\"\",'Dedicated Water Heating'!R57)","v":""},{"$f":"IF('Dedicated Water Heating'!P57=\"\",\"\",'Dedicated Water Heating'!P57)","v":""}]
[null,10,{"$f":"IF('Dedicated Water Heating'!P39=\"\",\"\",'Dedicated Water Heating'!P39)","v":""},null,{"$f":"IF('Dedicated Water Heating'!R39=\"\",\"\",'Dedicated Water Heating'!R39)","v":""},null,{"$f":"IF('Dedicated Water Heating'!Q58=\"\",\"\",'Dedicated Water Heating'!Q58)","v":""},null,{"$f":"IF('Dedicated Water Heating'!R58=\"\",\"\",'Dedicated Water Heating'!R58)","v":""},{"$f":"IF('Dedicated Water Heating'!P58=\"\",\"\",'Dedicated Water Heating'!P58)","v":""}]
[]
[]
[]
[]
[]
[null,"Notes:"]
[]
[]
[]
[null,"Customer Signature:",null,null,null,null,null,null,null,"Date:"]
[]
[null,"Application Version:",{"$f":"Development!A2","v":"1.0"},null,null,null,null,null,null,null,"Effective:",{"$f":"Development!A4","v":"1.1.23"}]

{"sheet":"Inspection Form","index":36,"n_rows":76,"n_cols":14,"rows_kept":76,"cut":false,"hidden":true,"merged":[[73,3,73,6],[70,1,70,11],[71,1,71,11],[69,2,69,11],[73,10,73,11],[54,3,54,4],[54,5,54,6],[54,7,54,8],[54,9,54,10],[55,1,55,11],[58,2,58,3],[58,4,58,5],[58,6,58,7],[58,10,58,11],[59,2,59,3],[59,4,59,5],[59,6,59,7],[59,10,59,11],[56,2,56,3],[56,4,56,5],[56,6,56,7],[56,10,56,11],[57,2,57,3],[57,4,57,5],[53,4,53,5],[53,2,53,3],[53,6,53,7],[53,8,53,9],[46,8,46,9],[47,8,47,9],[48,2,48,3],[48,8,48,9],[47,4,47,5],[47,2,47,3],[49,6,49,7],[50,8,50,9],[51,2,51,3],[51,4,51,5],[51,6,51,7],[51,8,51,9],[52,2,52,3],[52,6,52,7],[52,4,52,5],[49,8,49,9],[52,8,52,9],[50,4,50,5],[50,2,50,3],[50,6,50,7],[35,6,35,7],[39,5,39,7],[48,6,48,7],[45,6,45,7],[46,4,46,5],[33,2,33,3],[43,4,43,5],[44,6,44,7],[48,4,48,5],[49,4,49,5],[46,6,46,7],[47,6,47,7],[49,2,49,3],[46,2,46,3],[3,2,3,5],[3,8,3,11],[7,2,7,5],[7,8,7,11],[8,2,8,5],[8,8,8,11],[6,1,6,11],[31,6,31,7],[29,4,29,5],[29,6,29,7],[28,10,28,11],[28,6,28,7],[28,4,28,5],[28,2,28,3],[30,4,30,5],[30,2,30,3],[31,10,31,11],[29,2,29,3],[29,10,29,11],[27,2,27,3],[27,4,27,5],[27,6,27,7],[30,10,30,11],[30,6,30,7],[31,2,31,3],[31,4,31,5],[25,2,25,3],[9,2,9,5],[27,10,27,11],[9,8,9,11],[21,2,21,5],[21,8,21,11],[22,2,22,5],[22,8,22,11],[20,1,20,11],[24,1,24,11],[26,10,26,11],[25,4,25,5],[25,6,25,7],[25,10,25,11],[26,2,26,3],[26,4,26,5],[26,6,26,7],[45,8,45,9],[44,4,44,5],[32,10,32,11],[34,2,34,3],[34,4,34,5],[34,6,34,7],[34,10,34,11],[32,2,32,3],[33,10,33,11],[38,1,38,11],[44,2,44,3],[45,2,45,3],[44,8,44,9],[45,4,45,5],[32,4,32,5],[32,6,32,7],[43,8,43,9],[35,10,35,11],[35,2,35,3],[35,4,35,5],[33,4,33,5],[33,6,33,7],[43,2,43,3],[43,6,43,7],[57,6,57,7],[57,10,57,11],[62,2,62,3],[62,4,62,5],[62,6,62,7],[62,10,62,11],[63,2,63,3],[63,4,63,5],[63,6,63,7],[63,10,63,11],[60,2,60,3],[60,4,60,5],[60,6,60,7],[60,10,60,11],[61,2,61,3],[61,4,61,5],[61,6,61,7],[61,10,61,11],[66,2,66,3],[66,4,66,5],[66,6,66,7],[66,10,66,11],[64,2,64,3],[64,4,64,5],[64,6,64,7],[64,10,64,11],[65,2,65,3],[65,4,65,5],[65,6,65,7],[65,10,65,11]]}
[null,"2022 Geothermal Inspection Form"]
[]
[]
[null,"Performed By:",null,null,null,null,null,"Account No:",{"$f":"IF('Customer Information'!C5=\"\",\"\",'Customer Information'!C5)","v":""}]
[]
[]
[null,"Customer Information"]
[null,"Customer Name:",{"$f":"IF('Customer Information'!C6=\"\",\"\",'Customer Information'!C6)","v":""},null,null,null,null,"Address:",{"$f":"IF('Customer Information'!C7=\"\",\"\",'Customer Information'!C7)","v":""}]
[null,"Town:",{"$f":"IF('Customer Information'!I7=\"\",\"\",'Customer Information'!I7)","v":""},null,null,null,null,"Phone:",{"$f":"IF('Customer Information'!K9=\"\",\"\",'Customer Information'!K9)","v":""}]
[null,"Inspector:",null,null,null,null,null,"Date &Time:"]
[]
[null,"Confirmation and Screening Questions",null,null,null,null,null,null,null,null,null,null,null," "]
[null,"1. Have you or any family member traveled to a country for which the CDC has issued a Level 2 or 3 travel designation within the last 14 days?"]
[]
[null,"2. Have you or any family member traveled or had contact with any Persons Under Investigation (PUIs) for COVID-19 within the last 14 days, OR with anyone with known COVID-19?"]
[]
[null,"3. Do you or any family member have any symptoms of a fever or respiratory infection (e.g., cough, sore throat, fever, or shortness of breath)?"]
[]
[null,"IF ANY QUESTION IS RESPONDED TO WITH A YES, YOU CANNOT PROCEED AND WILL NEED TO RESCHEDULE THE APPOINTMENT"]
[]
[null,"Contractor Information"]
[null,"Company:",{"$f":"IF('Contractor Information'!C16=\"\",\"\",'Contractor Information'!C16)","v":""},null,null,null,null,"Contact Name:",{"$f":"IF('Contractor Information'!C18=\"\",\"\",'Contractor Information'!C18)","v":""}]
[null,"Phone:",{"$f":"IF('Contractor Information'!K18=\"\",\"\",'Contractor Information'!K18)","v":""},null,null,null,null,"Project ID:",{"$f":"IF('Customer Information'!L48=\"\",\"\",'Customer Information'!L48)","v":""}]
[]
[null,"New Space Heating Equipment Details"]
[null,"Unit #","Type",null,"Manufacturer",null,"Model #",null,"Serial #","Desuperheater","Matches \nInvoice"]
[null,1,{"$f":"IF('Space Heating Worksheet'!F33=\"\",\"\",'Space Heating Worksheet'!F33)","v":""},null,{"$f":"IF('Space Heating Worksheet'!C52=\"\",\"\",'Space Heating Worksheet'!C52)","v":""},null,{"$f":"IF('Space Heating Worksheet'!F52=\"\",\"\",'Space Heating Worksheet'!F52)","v":""},null,{"$f":"IF('Space Heating Worksheet'!H52=\"\",\"\",'Space Heating Worksheet'!H52)","v":""},{"$f":"IF('Space Heating Worksheet'!S52=\"\",\"\",'Space Heating Worksheet'!S52)","v":""}]
[null,{"$f":"B27+1","v":2},{"$f":"IF('Space Heating Worksheet'!F34=\"\",\"\",'Space Heating Worksheet'!F34)","v":""},null,{"$f":"IF('Space Heating Worksheet'!C53=\"\",\"\",'Space Heating Worksheet'!C53)","v":""},null,{"$f":"IF('Space Heating Worksheet'!F53=\"\",\"\",'Space Heating Worksheet'!F53)","v":""},null,{"$f":"IF('Space Heating Worksheet'!H53=\"\",\"\",'Space Heating Worksheet'!H53)","v":""},{"$f":"IF('Space Heating Worksheet'!S53=\"\",\"\",'Space Heating Worksheet'!S53)","v":""}]
[null,3,{"$f":"IF('Space Heating Worksheet'!F35=\"\",\"\",'Space Heating Worksheet'!F35)","v":""},null,{"$f":"IF('Space Heating Worksheet'!C54=\"\",\"\",'Space Heating Worksheet'!C54)","v":""},null,{"$f":"IF('Space Heating Worksheet'!F54=\"\",\"\",'Space Heating Worksheet'!F54)","v":""},null,{"$f":"IF('Space Heating Worksheet'!H54=\"\",\"\",'Space Heating Worksheet'!H54)","v":""},{"$f":"IF('Space Heating Worksheet'!S54=\"\",\"\",'Space Heating Worksheet'!S54)","v":""}]
[null,4,{"$f":"IF('Space Heating Worksheet'!F36=\"\",\"\",'Space Heating Worksheet'!F36)","v":""},null,{"$f":"IF('Space Heating Worksheet'!C55=\"\",\"\",'Space Heating Worksheet'!C55)","v":""},null,{"$f":"IF('Space Heating Worksheet'!F55=\"\",\"\",'Space Heating Worksheet'!F55)","v":""},null,{"$f":"IF('Space Heating Worksheet'!H55=\"\",\"\",'Space Heating Worksheet'!H55)","v":""},{"$f":"IF('Space Heating Worksheet'!S55=\"\",\"\",'Space Heating Worksheet'!S55)","v":""}]
[null,5,{"$f":"IF('Space Heating Worksheet'!F37=\"\",\"\",'Space Heating Worksheet'!F37)","v":""},null,{"$f":"IF('Space Heating Worksheet'!C56=\"\",\"\",'Space Heating Worksheet'!C56)","v":""},null,{"$f":"IF('Space Heating Worksheet'!F56=\"\",\"\",'Space Heating Worksheet'!F56)","v":""},null,{"$f":"IF('Space Heating Worksheet'!H56=\"\",\"\",'Space Heating Worksheet'!H56)","v":""},{"$f":"IF('Space Heating Worksheet'!S56=\"\",\"\",'Space Heating Worksheet'!S56)","v":""}]
[null,6,{"$f":"IF('Space Heating Worksheet'!F38=\"\",\"\",'Space Heating Worksheet'!F38)","v":""},null,{"$f":"IF('Space Heating Worksheet'!C57=\"\",\"\",'Space Heating Worksheet'!C57)","v":""},null,{"$f":"IF('Space Heating Worksheet'!F57=\"\",\"\",'Space Heating Worksheet'!F57)","v":""},null,{"$f":"IF('Space Heating Worksheet'!H57=\"\",\"\",'Space Heating Worksheet'!H57)","v":""},{"$f":"IF('Space Heating Worksheet'!S57=\"\",\"\",'Space Heating Worksheet'!S57)","v":""}]
[null,7,{"$f":"IF('Space Heating Worksheet'!F39=\"\",\"\",'Space Heating Worksheet'!F39)","v":""},null,{"$f":"IF('Space Heating Worksheet'!C58=\"\",\"\",'Space Heating Worksheet'!C58)","v":""},null,{"$f":"IF('Space Heating Worksheet'!F58=\"\",\"\",'Space Heating Worksheet'!F58)","v":""},null,{"$f":"IF('Space Heating Worksheet'!H58=\"\",\"\",'Space Heating Worksheet'!H58)","v":""},{"$f":"IF('Space Heating Worksheet'!S58=\"\",\"\",'Space Heating Worksheet'!S58)","v":""}]
[null,8,{"$f":"IF('Space Heating Worksheet'!F40=\"\",\"\",'Space Heating Worksheet'!F40)","v":""},null,{"$f":"IF('Space Heating Worksheet'!C59=\"\",\"\",'Space Heating Worksheet'!C59)","v":""},null,{"$f":"IF('Space Heating Worksheet'!F59=\"\",\"\",'Space Heating Worksheet'!F59)","v":""},null,{"$f":"IF('Space Heating Worksheet'!H59=\"\",\"\",'Space Heating Worksheet'!H59)","v":""},{"$f":"IF('Space Heating Worksheet'!S59=\"\",\"\",'Space Heating Worksheet'!S59)","v":""}]
[null,9,{"$f":"IF('Space Heating Worksheet'!F41=\"\",\"\",'Space Heating Worksheet'!F41)","v":""},null,{"$f":"IF('Space Heating Worksheet'!C60=\"\",\"\",'Space Heating Worksheet'!C60)","v":""},null,{"$f":"IF('Space Heating Worksheet'!F60=\"\",\"\",'Space Heating Worksheet'!F60)","v":""},null,{"$f":"IF('Space Heating Worksheet'!H60=\"\",\"\",'Space Heating Worksheet'!H60)","v":""},{"$f":"IF('Space Heating Worksheet'!S60=\"\",\"\",'Space Heating Worksheet'!S60)","v":""}]
[null,10,{"$f":"IF('Space Heating Worksheet'!F42=\"\",\"\",'Space Heating Worksheet'!F42)","v":""},null,{"$f":"IF('Space Heating Worksheet'!C61=\"\",\"\",'Space Heating Worksheet'!C61)","v":""},null,{"$f":"IF('Space Heating Worksheet'!F61=\"\",\"\",'Space Heating Worksheet'!F61)","v":""},null,{"$f":"IF('Space Heating Worksheet'!H61=\"\",\"\",'Space Heating Worksheet'!H61)","v":""},{"$f":"IF('Space Heating Worksheet'!S61=\"\",\"\",'Space Heating Worksheet'!S61)","v":""}]
[]
[]
[null,"Inspection Analysis"]
[null,null,null,null,"Fail Reason*:"]
[]
[null,"ACCA Manual J (Total Tons):",null,{"$f":"IF(SUM(C45:D54)<=0,\"\",SUM(C45:D54)/12000)","v":""}]
[]
[null,null,"ACCA Manual J (BTU Cooling)",null,"ACCA Manual J (BTU Heating)",null,"AHRI Certificate Number:",null,"AHRI Ratings:"]
[null,"Unit 1",{"$f":"IF('Space Heating Worksheet'!AH52=\"\",\"\",'Space Heating Worksheet'!AH52)","v":""},null,{"$f":"IF('Space Heating Worksheet'!AI52=\"\",\"\",'Space Heating Worksheet'!AI52)","v":""},null,{"$f":"IF('Space Heating Worksheet'!Q33=\"\",\"\",'Space Heating Worksheet'!Q33)","v":""},null,{"$f":"CONCATENATE(IF(INDIRECT(\"'Space Heating Worksheet'!T\"&M45)=\"\",\"\",TEXT(INDIRECT(\"'Space Heating Worksheet'!T\"&M45),\"0.0\")&\" EER\"),IF(AND(INDIRECT(\"'Space Heating Worksheet'!W\"&M45)<>\"\",NOT(ISERROR(SEARCH(\"HP\",INDIRECT(\"'Space Heating Worksheet'!G\"&M45),1)))),\" / \"&TEXT(INDIRECT(\"'Space Heating Worksheet'!W\"&M45),\"0.0\")&\" HSPF\",IF(AND(INDIRECT(\"'Space Heating Worksheet'!U\"&M45)<>\"\",NOT(ISERROR(SEARCH(\"Geo\",INDIRECT(\"'Space Heating Worksheet'!G\"&M45),1)))),\" / \"&TEXT(INDIRECT(\"Space Heating Worksheet!U\"&M45),\"0.0\")&\" COP\",\"\")))","v":""},null,null,null,{"$f":"ROW('Space Heating Worksheet'!$B33)","v":33}]
[null,"Unit 2",{"$f":"IF('Space Heating Worksheet'!AH53=\"\",\"\",'Space Heating Worksheet'!AH53)","v":""},null,{"$f":"IF('Space Heating Worksheet'!AI53=\"\",\"\",'Space Heating Worksheet'!AI53)","v":""},null,{"$f":"IF('Space Heating Worksheet'!Q34=\"\",\"\",'Space Heating Worksheet'!Q34)","v":""},null,"",null,null,null,{"$f":"ROW('Space Heating Worksheet'!$B34)","v":34}]
[null,"Unit 3",{"$f":"IF('Space Heating Worksheet'!AH54=\"\",\"\",'Space Heating Worksheet'!AH54)","v":""},null,{"$f":"IF('Space Heating Worksheet'!AI54=\"\",\"\",'Space Heating Worksheet'!AI54)","v":""},null,{"$f":"IF('Space Heating Worksheet'!Q35=\"\",\"\",'Space Heating Worksheet'!Q35)","v":""},null,"",null,null,null,{"$f":"ROW('Space Heating Worksheet'!$B35)","v":35}]
[null,"Unit 4 ",{"$f":"IF('Space Heating Worksheet'!AH55=\"\",\"\",'Space Heating Worksheet'!AH55)","v":""},null,{"$f":"IF('Space Heating Worksheet'!AI55=\"\",\"\",'Space Heating Worksheet'!AI55)","v":""},null,{"$f":"IF('Space Heating Worksheet'!Q36=\"\",\"\",'Space Heating Worksheet'!Q36)","v":""},null,"",null,null,null,{"$f":"ROW('Space Heating Worksheet'!$B36)","v":36}]
[null,"Unit 5",{"$f":"IF('Space Heating Worksheet'!AH56=\"\",\"\",'Space Heating Worksheet'!AH56)","v":""},null,{"$f":"IF('Space Heating Worksheet'!AI56=\"\",\"\",'Space Heating Worksheet'!AI56)","v":""},null,{"$f":"IF('Space Heating Worksheet'!Q37=\"\",\"\",'Space Heating Worksheet'!Q37)","v":""},null,"",null,null,null,{"$f":"ROW('Space Heating Worksheet'!$B37)","v":37}]
[null,"Unit 6",{"$f":"IF('Space Heating Worksheet'!AH57=\"\",\"\",'Space Heating Worksheet'!AH57)","v":""},null,{"$f":"IF('Space Heating Worksheet'!AI57=\"\",\"\",'Space Heating Worksheet'!AI57)","v":""},null,{"$f":"IF('Space Heating Worksheet'!Q38=\"\",\"\",'Space Heating Worksheet'!Q38)","v":""},null,"",null,null,null,{"$f":"ROW('Space Heating Worksheet'!$B38)","v":38}]
[null,"Unit 7",{"$f":"IF('Space Heating Worksheet'!AH58=\"\",\"\",'Space Heating Worksheet'!AH58)","v":""},null,{"$f":"IF('Space Heating Worksheet'!AI58=\"\",\"\",'Space Heating Worksheet'!AI58)","v":""},null,{"$f":"IF('Space Heating Worksheet'!Q39=\"\",\"\",'Space Heating Worksheet'!Q39)","v":""},null,"",null,null,null,{"$f":"ROW('Space Heating Worksheet'!$B39)","v":39}]
[null,"Unit 8",{"$f":"IF('Space Heating Worksheet'!AH59=\"\",\"\",'Space Heating Worksheet'!AH59)","v":""},null,{"$f":"IF('Space Heating Worksheet'!AI59=\"\",\"\",'Space Heating Worksheet'!AI59)","v":""},null,{"$f":"IF('Space Heating Worksheet'!Q40=\"\",\"\",'Space Heating Worksheet'!Q40)","v":""},null,"",null,null,null,{"$f":"ROW('Space Heating Worksheet'!$B40)","v":40}]
[null,"Unit 9",{"$f":"IF('Space Heating Worksheet'!AH60=\"\",\"\",'Space Heating Worksheet'!AH60)","v":""},null,{"$f":"IF('Space Heating Worksheet'!AI60=\"\",\"\",'Space Heating Worksheet'!AI60)","v":""},null,{"$f":"IF('Space Heating Worksheet'!Q41=\"\",\"\",'Space Heating Worksheet'!Q41)","v":""},null,"",null,null,null,{"$f":"ROW('Space Heating Worksheet'!$B41)","v":41}]
[null,"Unit 10",{"$f":"IF('Space Heating Worksheet'!AH61=\"\",\"\",'Space Heating Worksheet'!AH61)","v":""},null,{"$f":"IF('Space Heating Worksheet'!AI61=\"\",\"\",'Space Heating Worksheet'!AI61)","v":""},null,{"$f":"IF('Space Heating Worksheet'!Q42=\"\",\"\",'Space Heating Worksheet'!Q42)","v":""},null,"",null,null,null,{"$f":"ROW('Space Heating Worksheet'!$B42)","v":42}]
[]
[null,"New Water Heating Equipment Details"]
[null,"Unit #","Type",null,"Manufacturer",null,"Model #",null,"Serial #","Supplemental Electric Heat?","Matches \nInvoice"]
[null,1,{"$f":"IF('Dedicated Water Heating'!F30=\"\",\"\",'Dedicated Water Heating'!F30)","v":""},null,{"$f":"IF('Dedicated Water Heating'!C49=\"\",\"\",'Dedicated Water Heating'!C49)","v":""},null,{"$f":"IF('Dedicated Water Heating'!E49=\"\",\"\",'Dedicated Water Heating'!E49)","v":""},null,{"$f":"IF('Dedicated Water Heating'!G49=\"\",\"\",'Dedicated Water Heating'!G49)","v":""},{"$f":"IF('Dedicated Water Heating'!N49=\"\",\"\",'Dedicated Water Heating'!N49)","v":""}]
[null,{"$f":"B58+1","v":2},{"$f":"IF('Dedicated Water Heating'!F31=\"\",\"\",'Dedicated Water Heating'!F31)","v":""},null,{"$f":"IF('Dedicated Water Heating'!C50=\"\",\"\",'Dedicated Water Heating'!C50)","v":""},null,{"$f":"IF('Dedicated Water Heating'!E50=\"\",\"\",'Dedicated Water Heating'!E50)","v":""},null,{"$f":"IF('Dedicated Water Heating'!G50=\"\",\"\",'Dedicated Water Heating'!G50)","v":""},{"$f":"IF('Dedicated Water Heating'!N50=\"\",\"\",'Dedicated Water Heating'!N50)","v":""}]
[null,3,{"$f":"IF('Dedicated Water Heating'!F32=\"\",\"\",'Dedicated Water Heating'!F32)","v":""},null,{"$f":"IF('Dedicated Water Heating'!C51=\"\",\"\",'Dedicated Water Heating'!C51)","v":""},null,{"$f":"IF('Dedicated Water Heating'!E51=\"\",\"\",'Dedicated Water Heating'!E51)","v":""},null,{"$f":"IF('Dedicated Water Heating'!G51=\"\",\"\",'Dedicated Water Heating'!G51)","v":""},{"$f":"IF('Dedicated Water Heating'!N51=\"\",\"\",'Dedicated Water Heating'!N51)","v":""}]
[null,4,{"$f":"IF('Dedicated Water Heating'!F33=\"\",\"\",'Dedicated Water Heating'!F33)","v":""},null,{"$f":"IF('Dedicated Water Heating'!C52=\"\",\"\",'Dedicated Water Heating'!C52)","v":""},null,{"$f":"IF('Dedicated Water Heating'!E52=\"\",\"\",'Dedicated Water Heating'!E52)","v":""},null,{"$f":"IF('Dedicated Water Heating'!G52=\"\",\"\",'Dedicated Water Heating'!G52)","v":""},{"$f":"IF('Dedicated Water Heating'!N52=\"\",\"\",'Dedicated Water Heating'!N52)","v":""}]
[null,5,{"$f":"IF('Dedicated Water Heating'!F34=\"\",\"\",'Dedicated Water Heating'!F34)","v":""},null,{"$f":"IF('Dedicated Water Heating'!C53=\"\",\"\",'Dedicated Water Heating'!C53)","v":""},null,{"$f":"IF('Dedicated Water Heating'!E53=\"\",\"\",'Dedicated Water Heating'!E53)","v":""},null,{"$f":"IF('Dedicated Water Heating'!G53=\"\",\"\",'Dedicated Water Heating'!G53)","v":""},{"$f":"IF('Dedicated Water Heating'!N53=\"\",\"\",'Dedicated Water Heating'!N53)","v":""}]
[null,6,{"$f":"IF('Dedicated Water Heating'!F35=\"\",\"\",'Dedicated Water Heating'!F35)","v":""},null,{"$f":"IF('Dedicated Water Heating'!C54=\"\",\"\",'Dedicated Water Heating'!C54)","v":""},null,{"$f":"IF('Dedicated Water Heating'!E54=\"\",\"\",'Dedicated Water Heating'!E54)","v":""},null,{"$f":"IF('Dedicated Water Heating'!G54=\"\",\"\",'Dedicated Water Heating'!G54)","v":""},{"$f":"IF('Dedicated Water Heating'!N54=\"\",\"\",'Dedicated Water Heating'!N54)","v":""}]
[null,7,{"$f":"IF('Dedicated Water Heating'!F36=\"\",\"\",'Dedicated Water Heating'!F36)","v":""},null,{"$f":"IF('Dedicated Water Heating'!C55=\"\",\"\",'Dedicated Water Heating'!C55)","v":""},null,{"$f":"IF('Dedicated Water Heating'!E55=\"\",\"\",'Dedicated Water Heating'!E55)","v":""},null,{"$f":"IF('Dedicated Water Heating'!G55=\"\",\"\",'Dedicated Water Heating'!G55)","v":""},{"$f":"IF('Dedicated Water Heating'!N55=\"\",\"\",'Dedicated Water Heating'!N55)","v":""}]
[null,8,{"$f":"IF('Dedicated Water Heating'!F37=\"\",\"\",'Dedicated Water Heating'!F37)","v":""},null,{"$f":"IF('Dedicated Water Heating'!C56=\"\",\"\",'Dedicated Water Heating'!C56)","v":""},null,{"$f":"IF('Dedicated Water Heating'!E56=\"\",\"\",'Dedicated Water Heating'!E56)","v":""},null,{"$f":"IF('Dedicated Water Heating'!G56=\"\",\"\",'Dedicated Water Heating'!G56)","v":""},{"$f":"IF('Dedicated Water Heating'!N56=\"\",\"\",'Dedicated Water Heating'!N56)","v":""}]
[null,9,{"$f":"IF('Dedicated Water Heating'!F38=\"\",\"\",'Dedicated Water Heating'!F38)","v":""},null,{"$f":"IF('Dedicated Water Heating'!C57=\"\",\"\",'Dedicated Water Heating'!C57)","v":""},null,{"$f":"IF('Dedicated Water Heating'!E57=\"\",\"\",'Dedicated Water Heating'!E57)","v":""},null,{"$f":"IF('Dedicated Water Heating'!G57=\"\",\"\",'Dedicated Water Heating'!G57)","v":""},{"$f":"IF('Dedicated Water Heating'!N57=\"\",\"\",'Dedicated Water Heating'!N57)","v":""}]
[null,10,{"$f":"IF('Dedicated Water Heating'!F39=\"\",\"\",'Dedicated Water Heating'!F39)","v":""},null,{"$f":"IF('Dedicated Water Heating'!C58=\"\",\"\",'Dedicated Water Heating'!C58)","v":""},null,{"$f":"IF('Dedicated Water Heating'!E58=\"\",\"\",'Dedicated Water Heating'!E58)","v":""},null,{"$f":"IF('Dedicated Water Heating'!G58=\"\",\"\",'Dedicated Water Heating'!G58)","v":""},{"$f":"IF('Dedicated Water Heating'!N58=\"\",\"\",'Dedicated Water Heating'!N58)","v":""}]
[]
[]
[null,"Notes:"]
[]
[]
[]
[null,"Customer Signature:",null,null,null,null,null,null,null,"Date:"]
[]
[null,"Application Version:",{"$f":"Development!A2","v":"1.0"},null,null,null,null,null,null,null,"Effective:",{"$f":"Development!A4","v":"1.1.23"}]

{"sheet":"Tables","index":37,"n_rows":182,"n_cols":93,"rows_kept":182,"cut":false,"hidden":true,"merged":[[181,64,181,67],[144,18,144,21],[178,60,178,63],[178,64,178,67],[168,60,168,63],[169,60,169,63],[168,64,168,67],[169,64,169,67],[172,60,172,63],[172,64,172,67],[173,60,173,63],[173,64,173,67],[174,60,174,63],[174,64,174,67],[175,60,175,63],[175,64,175,67],[176,60,176,63],[176,64,176,67],[170,60,170,63],[170,64,170,67],[171,60,171,63],[171,64,171,67],[145,18,145,21],[177,60,177,63],[177,64,177,67],[179,64,179,67],[180,64,180,67],[165,60,165,63],[165,64,165,67],[167,60,167,63],[167,64,167,67],[166,60,166,63],[166,64,166,67],[160,60,160,67],[161,60,161,63],[161,64,161,67],[162,60,162,63],[162,64,162,67],[163,60,163,63],[163,64,163,67],[164,60,164,63],[164,64,164,67],[143,18,143,19],[143,20,143,21],[137,18,137,19],[138,18,138,19],[140,18,140,19],[141,18,141,19],[133,20,133,21],[134,20,134,21],[135,20,135,21],[136,20,136,21],[137,20,137,21],[138,20,138,21],[140,20,140,21],[141,20,141,21],[139,18,139,19],[139,20,139,21],[134,18,134,19],[135,18,135,19],[136,18,136,19],[142,18,142,19],[142,20,142,21],[130,1,132,1],[130,2,130,5],[130,10,130,11],[130,13,130,16],[131,2,132,2],[131,3,132,3],[131,4,132,4],[131,5,132,5],[131,7,132,7],[131,10,132,10],[131,11,132,11],[131,13,132,13],[131,14,132,14],[131,15,132,15],[131,16,132,16],[88,1,88,4],[88,5,88,8],[89,1,89,4],[89,5,89,8],[90,14,90,15],[87,14,87,15],[85,14,86,15],[87,18,87,21],[85,18,86,21],[85,16,86,17],[87,16,87,17],[90,16,90,17],[88,14,88,15],[88,16,88,17],[88,18,88,21],[87,1,87,4],[87,5,87,8],[51,1,51,4],[47,1,47,8],[48,5,50,8],[51,5,51,8],[48,1,50,4],[47,14,47,21],[48,14,50,17],[48,18,50,21],[51,14,51,17],[51,18,51,21],[3,41,3,42],[3,43,3,44],[4,54,5,54],[3,36,3,39],[6,48,6,51],[5,32,5,35],[2,32,2,44],[83,1,83,8],[84,1,86,4],[84,5,86,8],[7,48,7,51],[6,14,6,17],[4,24,5,24],[24,17,25,17],[13,1,13,4],[3,14,5,17],[3,48,5,51],[3,52,3,55],[3,18,3,21],[23,17,23,18],[4,10,5,10],[4,11,5,11],[4,12,5,12],[6,1,6,4],[2,67,2,78],[3,67,5,70],[3,71,3,74],[3,75,3,76],[3,77,3,78],[4,71,5,71],[4,72,5,72],[4,73,5,73],[4,74,5,74],[4,75,5,75],[4,76,5,76],[4,77,5,77],[4,78,5,78],[3,56,3,61],[3,62,3,63],[4,52,5,52],[4,53,5,53],[6,67,6,70],[4,55,5,55],[4,56,5,56],[4,57,5,57],[4,58,5,58],[4,59,5,59],[4,60,5,60],[4,61,5,61],[2,79,2,80],[4,62,5,62],[4,63,5,63],[13,32,13,35],[2,1,2,12],[3,1,5,4],[3,5,3,8],[3,9,3,10],[3,11,3,12],[4,5,5,5],[4,6,5,6],[4,7,5,7],[4,8,5,8],[4,9,5,9],[4,25,5,25],[4,29,5,29],[3,28,3,29],[4,22,5,22],[4,23,5,23],[7,32,7,35],[12,32,12,35],[2,14,2,29],[7,67,7,70],[2,48,2,63],[12,1,12,4],[24,18,25,18],[4,18,5,18],[4,19,5,19],[4,20,5,20],[4,21,5,21],[8,1,8,4],[9,1,9,4],[10,1,10,4],[11,1,11,4],[7,1,7,4],[7,14,7,17],[12,14,12,17],[62,23,62,26],[57,23,57,26],[57,27,57,30],[12,22,12,23],[12,26,12,27],[61,23,61,26],[58,23,58,26],[58,27,58,30],[54,23,54,26],[54,27,54,30],[55,23,55,26],[55,27,55,30],[56,23,56,26],[56,27,56,30],[71,48,71,51],[72,48,72,51],[84,32,84,44],[85,32,86,35],[85,36,85,39],[85,41,85,42],[85,43,85,44],[87,32,87,35],[3,22,3,27],[4,26,5,26],[4,27,5,27],[12,24,12,25],[4,28,5,28],[6,32,6,35],[48,23,50,26],[48,27,50,30],[51,23,51,26],[51,27,51,30],[3,32,4,35],[52,23,52,26],[52,27,52,30],[62,27,62,30],[53,23,53,26],[53,27,53,30],[6,81,6,84],[7,81,7,84],[12,81,12,84],[13,81,13,84],[48,67,48,78],[49,67,51,70],[49,71,49,74],[51,48,51,63],[69,48,69,51],[12,67,12,70],[13,67,13,70],[49,77,49,78],[50,71,51,71],[50,72,51,72],[50,73,51,73],[50,74,51,74],[50,75,51,75],[50,76,51,76],[50,77,51,77],[50,78,51,78],[49,75,49,76],[2,81,2,92],[3,81,5,84],[3,85,3,88],[3,89,3,90],[3,91,3,92],[4,85,5,85],[4,86,5,86],[4,87,5,87],[4,88,5,88],[4,89,5,89],[4,90,5,90],[4,91,5,91],[4,92,5,92],[125,1,125,4],[126,1,126,4],[127,1,127,4],[69,67,69,70],[70,67,70,70],[71,67,71,70],[119,1,119,12],[120,1,122,4],[120,5,120,8],[120,9,120,10],[120,11,120,12],[121,5,122,5],[121,6,122,6],[121,7,122,7],[121,8,122,8],[121,9,122,9],[121,10,122,10],[121,11,122,11],[121,12,122,12],[109,14,109,17],[106,18,106,21],[106,22,106,27],[107,18,108,18],[70,48,70,51],[52,1,52,4],[52,5,52,8],[53,1,53,4],[53,5,53,8],[105,14,105,27],[123,1,123,4],[107,19,108,19],[107,20,108,20],[107,21,108,21],[107,22,108,22],[107,23,108,23],[107,24,108,24],[107,25,108,25],[107,26,108,26],[107,27,108,27],[106,14,108,17],[90,18,90,21],[89,14,89,15],[89,16,89,17],[62,1,62,4],[62,5,62,8],[64,1,64,4],[64,5,64,8],[65,1,65,4],[65,5,65,8],[66,1,66,4],[66,5,66,8],[68,1,68,4],[68,5,68,8],[67,1,67,4],[67,5,67,8],[47,23,47,26],[67,18,67,21],[66,18,66,21],[65,18,65,21],[64,18,64,21],[62,18,62,21],[67,14,67,17],[66,14,66,17],[65,14,65,17],[64,14,64,17],[62,14,62,17],[52,14,52,17],[53,14,53,17],[52,18,52,21],[53,18,53,21],[59,23,59,26],[60,23,60,26],[132,34,133,34],[132,35,133,35],[132,36,133,36],[131,26,131,29],[132,24,133,25],[132,26,133,27],[132,28,133,29],[134,24,134,25],[134,26,134,27],[134,28,134,29],[132,32,133,32],[131,23,131,25],[132,23,133,23],[132,41,133,41],[131,37,131,40],[132,37,133,37],[132,38,133,38],[132,39,133,39],[132,40,133,40],[84,14,84,21],[130,44,130,51],[130,32,130,41],[131,32,131,36],[92,32,92,35],[91,32,91,35],[110,14,110,17],[111,14,111,17],[88,32,88,35],[89,32,89,35],[90,32,90,35],[89,18,89,21],[130,18,130,21],[131,18,132,19],[131,20,132,21],[133,18,133,19],[119,14,119,17],[132,33,133,33],[137,48,137,51],[138,48,138,51],[134,44,134,47],[134,48,134,51],[131,44,131,47],[132,44,132,47],[133,44,133,47],[131,48,131,51],[132,48,132,51],[133,48,133,51],[135,44,135,47],[135,48,135,51],[136,44,136,47],[137,44,137,47],[138,44,138,47],[136,48,136,51],[139,48,139,51],[147,48,147,51],[142,44,142,47],[143,44,143,47],[142,48,142,51],[143,48,143,51],[144,44,144,47],[144,48,144,51],[145,44,145,47],[146,44,146,47],[145,48,145,51],[146,48,146,51],[140,44,140,47],[141,44,141,47],[147,44,147,47],[139,44,139,47],[140,48,140,51],[141,48,141,51],[148,48,148,51],[149,48,149,51],[151,48,151,51],[150,44,150,47],[150,48,150,51],[152,44,152,47],[152,48,152,51],[148,44,148,47],[149,44,149,47],[151,44,151,47],[166,2,167,4],[166,5,167,7],[166,8,167,10],[120,14,120,17],[114,14,114,27],[115,14,117,17],[115,18,115,21],[115,22,115,27],[116,18,117,18],[116,19,117,19],[116,20,117,20],[116,21,117,21],[116,22,117,22],[116,23,117,23],[116,24,117,24],[116,25,117,25],[116,26,117,26],[116,27,117,27],[118,14,118,17],[130,23,130,29],[135,24,135,25],[135,26,135,27],[135,28,135,29],[124,1,124,4],[163,12,163,14],[163,15,163,17],[163,19,163,21],[164,12,165,14],[164,15,165,17],[164,19,165,21],[162,2,162,10],[163,2,163,4],[163,5,163,7],[163,8,163,10],[164,2,165,4],[164,5,165,7],[164,8,165,10],[162,12,162,17]]}
[]
[]
[null,"All Electric Tier I Homes",null,null,null,null,null,null,null,null,null,null,null,null,"Whole House Projects",null,null,null,null,null,null,null,null,null,null,null,null,null,null,null,null,null,"Partial House Projects",null,null,null,null,null,null,null,null,null,null,null,null,null,null,null,"Whole House Projects - Income Eligible",null,null,null,null,null,null,null,null,null,null,null,null,null,null,null,null,null,null,"Electric Resistance Heating Replacement - Income Eligible",null,null,null,null,null,null,null,null,null,null,null,null,null,"Electric Resistance Heating Replacement - Income Eligible"]
[null,"Eligible Equipment",null,null,null,"Efficiency Requirements",null,null,null,"Customer Incentive ($/12,000 btu Heating Capacity)",null,"Contractor Incentive (per project)",null,null,"Eligible Equipment",null,null,null,"Efficiency Requirements",null,null,null,"Customer Incentive ($/12,000 btu Heating Capacity)",null,null,null,null,null,"Contractor Incentive (per project)",null,null,null,"Eligible Equipment",null,null,null,"Efficiency Requirements",null,null,null,null,"Customer Incentive ($/12,000 btu Heating Capacity)",null,"Contractor Incentive (per project)",null,null,null,null,"Eligible Equipment",null,null,null,"Efficiency Requirements",null,null,null,"Customer Incentive ($/12,000 btu Heating Capacity)",null,null,null,null,null,"Contractor Incentive (per project)",null,null,null,null,"Eligible Equipment",null,null,null,"Efficiency Requirements",null,null,null,"Customer Incentive ($/12,000 btu Heating Capacity)",null,"Contractor Incentive (per project)",null,null,null,"Eligible Equipment",null,null,null,"Efficiency Requirements",null,null,null,"Customer Incentive ($/12,000 btu Heating Capacity)",null,"Contractor Incentive (per project)"]
[null,null,null,null,null,"Tier I SEER","Tier I HSPF","Tier II\nSEER","Tier II \nHSPF ","Tier I","Tier II","Tier I"," Tier II",null,null,null,null,null,"Tier I SEER","Tier I HSPF","Tier II\nSEER","Tier II \nHSPF ","Tier I\nNew Construction","Tier II\nNew Construction","Tier I\nExisting Oil w/ no CAC","Tier II\nExisting Oil w/ no CAC","Tier I\nAll Others","Tier II\nAll Others","Tier I","Tier II",null,null,null,null,null,null,"Tier I SEER","Tier I EER","Tier I HSPF/COP","Tier II SEER","Tier II HSPF ","Tier I","Tier II","Tier I"," Tier II",null,null,null,null,null,null,null,"Tier I SEER","Tier I HSPF","Tier II\nSEER","Tier II \nHSPF ","Tier I\nNew Construction","Tier II\nNew Construction","Tier I\nExisting Oil w/ no CAC","Tier II\nExisting Oil w/ no CAC","Tier I\nAll Others","Tier II\nAll Others","Tier I","Tier II",null,null,null,null,null,null,null,"Tier I SEER","Tier I HSPF","Tier II\nSEER","Tier II \nHSPF ","Tier I","Tier II","Tier I"," Tier II",null,null,null,null,null,null,"Tier I SEER","Tier I HSPF","Tier II\nSEER","Tier II \nHSPF ","Tier I","Tier II","Tier I"," Tier II"]
[null,null,null,null,null,null,null,null,null,null,null,null,null,null,null,null,null,null,null,null,null,null,null,null,null,null,null,null,null,null,null,null,"Ducted Air Source Heat Pumps",null,null,null,15,"n/a",8.5,16,8.5,300,325,200,200]
[null,"Ducted Cold Climate ASHP ",null,null,null,"n/a","n/a",17,10,"n/a",1000,"n/a",500,null,"Ducted Cold Climate ASHP",null,null,null,"n/a","n/a",17,10,"n/a",1000,"n/a",800,"n/a",600,"n/a",500,null,null,"Ducted Cold Climate Air Source Heat Pumps",null,null,null,"n/a","n/a","n/a",17,10,"n/a",350,"n/a",250,null,null,null,"Ducted Cold Climate ASHP",null,null,null,"n/a","n/a",17,10,"n/a",1500,"n/a",1200,"n/a",900,"n/a",500,null,null,null,"Ducted ASHP ",null,null,null,16,8.5,17,10,1200,1500,500,500,null,null,"Ducted ASHP ",null,null,null,16,8.5,17,10,1200,1500,500,500]
[null,"Ductless Mini Split Systems - Cold Climate ASHP ",null,null,null,"n/a","n/a",18,10,"n/a",1000,"n/a",500,null,"Ductless Mini Split Systems - Cold Climate ASHP",null,null,null,"n/a","n/a",18,10,"n/a",1000,"n/a",800,"n/a",600,"n/a",500,null,null,"Ductless Mini Split Systems - Air Source Heat Pumps",null,null,null,18,"n/a",8.5,"n/a","n/a",300,"n/a",200,"n/a",null,null,null,"Ductless Mini Split Systems - Cold Climate ASHP",null,null,null,"n/a","n/a",18,10,"n/a",1500,"n/a",1200,"n/a",900,"n/a",500,null,null,null,"Ducted Cold Climate ASHP ",null,null,null,"n/a","n/a",17,10,"n/a",1500,"n/a",500,null,null,"Ducted Cold Climate ASHP ",null,null,null,"n/a","n/a",17,10,"n/a",1500,"n/a",500]
[null,"Tankless Water Heater"]
[null,"EnergyStar Dryer"]
[null,"Smart Thermostat"]
[]
[null,null,null,null,null,null,null,null,null,null,null,null,null,null,null,null,null,null,null,null,null,null,null,null,null,null,null,null,null,null,null,null,"Ductless Mini Split Systems - Cold Climate Air Source Heat Pumps",null,null,null,"n/a","n/a","n/a",18,10,"n/a",300,"n/a",250,null,null,null,null,null,null,null,null,null,null,null,null,null,null,null,null,null,null,null,null,null,null,"Ductless Mini Split Systems - ASHP ",null,null,null,18,8.5,18,10,1200,1500,500,500,null,null,"Ductless Mini Split Systems - ASHP ",null,null,null,18,8.5,18,10,1200,1500,500,500]
[null,null,null,null,null,null,null,null,null,null,null,null,null,null,null,null,null,null,null,null,null,null,null,null,null,null,null,null,null,null,null,null,"Packaged Terminal Heat Pumps",null,null,null,"n/a",11.4,3.3,"n/a","n/a",100,"n/a",200,"n/a",null,null,null,null,null,null,null,null,null,null,null,null,null,null,null,null,null,null,null,null,null,null,"Ductless Mini Split Systems - Cold Climate ASHP ",null,null,null,"n/a","n/a",18,10,"n/a",1500,"n/a",500,null,null,"Ductless Mini Split Systems - Cold Climate ASHP ",null,null,null,"n/a","n/a",18,10,"n/a",1500,"n/a",500]
[]
[]
[]
[]
[]
[]
[]
[]
[]
[null,null,null,null,null,null,null,null,null,null,null,null,null,null,null,null,null,"Contractor Incentive (per project)",null,null,"Contractor Incentive (per project)"]
[null,null,null,null,null,null,null,null,null,null,null,null,null,null,null,null,null,"Tier I"," Tier II",null,"Tier I"," Tier II"]
[]
[null,null,null,null,null,null,null,null,null,null,null,null,null,null,null,null,null,"n/a",500,null,"n/a",500]
[null,null,null,null,null,null,null,null,null,null,null,null,null,null,null,null,null,"n/a",500,null,"n/a",500]
[null,null,null,null,null,null,null,null,null,null,null,null,null,null,null,null,null,"n/a","n/a",null,"n/a","n/a"]
[]
[]
[]
[]
[]
[]
[]
[]
[]
[]
[]
[]
[]
[]
[]
[]
[]
[]
[null,"All Electric Homes Eligible Equipment",null,null,null,null,null,null,null,null,null,null,null,null,"Electric Appliances",null,null,null,null,null,null,null,null,"Optional Measures"]
[null,"Tier I",null,null,null,"Tier II",null,null,null,null,null,null,null,null,"Eligible Equipment",null,null,null,"Rebate ",null,null,null,null,"Eligible Equipment",null,null,null,null,null,null,null,null,null,null,null,null,null,null,null,null,null,null,null,null,null,null,null,null,null,null,null,null,null,null,null,null,null,null,null,null,null,null,null,null,null,null,null,"Electric Resistance Heating Replacement - Income Eligible"]
[null,null,null,null,null,null,null,null,null,null,null,null,null,null,null,null,null,null,null,null,null,null,null,null,null,null,null,null,null,null,null,null,null,null,null,null,null,null,null,null,null,null,null,null,null,null,null,null,null,null,null,null,null,null,null,null,null,null,null,null,null,null,null,null,null,null,null,"Eligible Equipment",null,null,null,"Efficiency Requirements",null,null,null,"Customer Incentive ($/12,000 btu Heating Capacity)",null,"Contractor Incentive (per project)"]
[null,null,null,null,null,null,null,null,null,null,null,null,null,null,null,null,null,null,null,null,null,null,null,null,null,null,null,null,null,null,null,null,null,null,null,null,null,null,null,null,null,null,null,null,null,null,null,null,null,null,null,null,null,null,null,null,null,null,null,null,null,null,null,null,null,null,null,null,null,null,null,"Tier I SEER","Tier I HSPF","Tier II\nSEER","Tier II \nHSPF ","Tier I","Tier II","Tier I"," Tier II"]
[null,"Cold Climate Air Source Heat Pump",null,null,null,"Cold Climate Air Source Heat Pump",null,null,null,null,null,null,null,null,"EnergyStar Clothes Dryer",null,null,null,50,null,null,null,null,"Geothermal - Tier I & Tier II",null,null,null,null,null,null,null,null,null,null,null,null,null,null,null,null,null,null,null,null,null,null,null,null,"Whole House Projects - Income Eligible"]
[null,"Smart Thermostat",null,null,null,"Learning Thermostat",null,null,null,null,null,null,null,null,"Most Efficient Clothes Washer",null,null,null,50,null,null,null,null,"Pool Pump"]
[null,"Tankless Water Heater",null,null,null,"Heat Pump Water Heater",null,null,null,null,null,null,null,null,"Heat Pump Clothes Dryer",null,null,null,300,null,null,null,null,"Pool Heater"]
[null,null,null,null,null,null,null,null,null,null,null,null,null,null,null,null,null,null,null,null,null,null,null,"EnergyStar Dehumidifier"]
[null,null,null,null,null,null,null,null,null,null,null,null,null,null,null,null,null,null,null,null,null,null,null,"EnergyStar Air Purifier"]
[null,null,null,null,null,null,null,null,null,null,null,null,null,null,null,null,null,null,null,null,null,null,null,"Electric Lawn Mower"]
[null,null,null,null,null,null,null,null,null,null,null,null,null,null,null,null,null,null,null,null,null,null,null,"Electric Leaf Blower"]
[null,null,null,null,null,null,null,null,null,null,null,null,null,null,null,null,null,null,null,null,null,null,null,"Electric Weed Trimmer"]
[null,null,null,null,null,null,null,null,null,null,null,null,null,null,null,null,null,null,null,null,null,null,null,"Faucet Aerator"]
[null,null,null,null,null,null,null,null,null,null,null,null,null,null,null,null,null,null,null,null,null,null,null,"Low Flow Shower Heads"]
[null,null,null,null,null,null,null,null,null,null,null,null,null,null,null,null,null,null,null,null,null,null,null,"Electric Vehicle Chargers"]
[null,"Standard Electric Cooktop/Oven",null,null,null,"Most Efficienct Induction Cooktop/Oven",null,null,null,null,null,null,null,null,null,null,null,null,null,null,null,null,null,"Battery Storage"]
[]
[null,"EnergyStar Dishwasher",null,null,null,"Most Efficient Dishwasher"]
[null,"EnergyStar Clothes Washer",null,null,null,"Most Efficient Clothes Washer"]
[null,"EnergyStar Clothes Dryer",null,null,null,"Heat Pump Clothes Dryer"]
[null,"LED Lighting",null,null,null,"LED Lighting "]
[null,"10% Incentive Bonus",null,null,null,"25% Incentive Bonus"]
[null,null,null,null,null,null,null,null,null,null,null,null,null,null,null,null,null,null,null,null,null,null,null,null,null,null,null,null,null,null,null,null,null,null,null,null,null,null,null,null,null,null,null,null,null,null,null,null,null,null,null,null,null,null,null,null,null,null,null,null,null,null,null,null,null,null,null,"Ductless Mini Split Systems - ASHP ",null,null,null,18,8.5,18,10,1200,1500,500,500]
[null,null,null,null,null,null,null,null,null,null,null,null,null,null,null,null,null,null,null,null,null,null,null,null,null,null,null,null,null,null,null,null,null,null,null,null,null,null,null,null,null,null,null,null,null,null,null,null,"Ducted Cold Climate ASHP",null,null,null,"n/a","n/a",17,10,"n/a",1500,"n/a",1200,"n/a",900,"n/a",500,null,null,null,"Ductless Mini Split Systems - Cold Climate ASHP ",null,null,null,"n/a","n/a",18,10,"n/a",1500,"n/a",500]
[null,null,null,null,null,null,null,null,null,null,null,null,null,null,null,null,null,null,null,null,null,null,null,null,null,null,null,null,null,null,null,null,null,null,null,null,null,null,null,null,null,null,null,null,null,null,null,null,"Ductless Mini Split Systems - Cold Climate ASHP",null,null,null,"n/a","n/a",18,10,"n/a",1500,"n/a",1200,"n/a",900,"n/a",500,null,null,null,"Ductless Multi Split Systems - Cold Climate ASHP ",null,null,null,"n/a","n/a",18,10,"n/a",1500,"n/a",500]
[null,null,null,null,null,null,null,null,null,null,null,null,null,null,null,null,null,null,null,null,null,null,null,null,null,null,null,null,null,null,null,null,null,null,null,null,null,null,null,null,null,null,null,null,null,null,null,null,"Ductless Multi Split Systems - Cold Climate ASHP",null,null,null,"n/a","n/a",18,10,"n/a",1500,"n/a",1200,"n/a",900,"n/a",500]
[]
[]
[]
[]
[]
[]
[]
[]
[]
[]
[null,"Home Performance with ENERGY STAR"]
[null,"Eligible Equipment",null,null,null,"Rebate ",null,null,null,null,null,null,null,null,"Water Heating Rebates",null,null,null,null,null,null,null,null,null,null,null,null,null,null,null,null,null,"Partial House Projects"]
[null,null,null,null,null,null,null,null,null,null,null,null,null,null,"Eligible Equipment",null,"Uniform Energy Factor (UEF)",null,"Rebate ",null,null,null,null,null,null,null,null,null,null,null,null,null,"Eligible Equipment",null,null,null,"Efficiency Requirements",null,null,null,null,"Customer Incentive ($/12,000 btu Heating Capacity)",null,"Contractor Incentive (per project)"]
[null,null,null,null,null,null,null,null,null,null,null,null,null,null,null,null,null,null,null,null,null,null,null,null,null,null,null,null,null,null,null,null,null,null,null,null,"Tier I SEER","Tier I EER","Tier I HSPF/COP","Tier II SEER","Tier II HSPF ","Tier I","Tier II","Tier I"," Tier II"]
[null,"Duct Sealing",null,null,null,300,null,null,null,null,null,null,null,null,"Heat Pump Water Heater ≤ 55",null,"≥ 2.00",null,1000,null,null,null,null,null,null,null,null,null,null,null,null,null,"Ducted Air Source Heat Pumps",null,null,null,15,"n/a",8.5,16,8.5,300,325,200,200]
[null,"Air Sealing",null,null,null,300,null,null,null,null,null,null,null,null,"Heat Pump Water Heater > 55",null,"≥ 2.20",null,1000,null,null,null,null,null,null,null,null,null,null,null,null,null,"Ducted Cold Climate Air Source Heat Pumps",null,null,null,"n/a","n/a","n/a",17,10,"n/a",350,"n/a",250]
[null,"Insulation",null,null,null,600,null,null,null,null,null,null,null,null,"Tankless Water Heater < 12 kW",null,"≥ 0.93",null,100,null,null,null,null,null,null,null,null,null,null,null,null,null,"Ductless Mini Split Systems - Air Source Heat Pumps",null,null,null,18,"n/a",8.5,"n/a","n/a",300,"n/a",200,"n/a"]
[null,null,null,null,null,null,null,null,null,null,null,null,null,null,"Tankless Water Heater ≥ 12 kW",null,"≥ 0.93",null,300,null,null,null,null,null,null,null,null,null,null,null,null,null,"Ductless Mini Split Systems - Cold Climate Air Source Heat Pumps",null,null,null,"n/a","n/a","n/a",18,10,"n/a",300,"n/a",250]
[null,null,null,null,null,null,null,null,null,null,null,null,null,null,null,null,null,null,null,null,null,null,null,null,null,null,null,null,null,null,null,null,"Ductless Multi Split Systems - Cold Climate Air Source Heat Pumps",null,null,null,"n/a","n/a","n/a",18,10,"n/a",300,"n/a",250]
[null,null,null,null,null,null,null,null,null,null,null,null,null,null,null,null,null,null,null,null,null,null,null,null,null,null,null,null,null,null,null,null,"Packaged Terminal Heat Pumps",null,null,null,"n/a",11.4,3.3,"n/a","n/a",100,"n/a",200,"n/a"]
[]
[]
[]
[]
[]
[]
[]
[]
[]
[]
[]
[]
[null,null,null,null,null,null,null,null,null,null,null,null,null,null,"Whole House Projects"]
[null,null,null,null,null,null,null,null,null,null,null,null,null,null,"Eligible Equipment",null,null,null,"Efficiency Requirements",null,null,null,"Customer Incentive ($/12,000 btu Heating Capacity)"]
[null,null,null,null,null,null,null,null,null,null,null,null,null,null,null,null,null,null,"Tier I SEER","Tier I HSPF","Tier II\nSEER","Tier II \nHSPF ","Tier I\nNew Construction","Tier II\nNew Construction","Tier I\nExisting Oil w/ no CAC","Tier II\nExisting Oil w/ no CAC","Tier I\nAll Others","Tier II\nAll Others"]
[]
[null,null,null,null,null,null,null,null,null,null,null,null,null,null,"Ducted Cold Climate ASHP",null,null,null,"n/a","n/a",17,10,"n/a",1000,"n/a",800,"n/a",600]
[null,null,null,null,null,null,null,null,null,null,null,null,null,null,"Ductless Mini Split Systems - Cold Climate ASHP",null,null,null,"n/a","n/a",18,10,"n/a",1000,"n/a",800,"n/a",600]
[null,null,null,null,null,null,null,null,null,null,null,null,null,null,"Ductless Multi Split Systems - Cold Climate ASHP",null,null,null,"n/a","n/a",18,10,"n/a",1000,"n/a",800,"n/a",600]
[]
[]
[null,null,null,null,null,null,null,null,null,null,null,null,null,null,"Whole House Projects"]
[null,null,null,null,null,null,null,null,null,null,null,null,null,null,"Eligible Equipment",null,null,null,"Efficiency Requirements",null,null,null,"Customer Incentive ($/12,000 btu Heating Capacity)"]
[null,null,null,null,null,null,null,null,null,null,null,null,null,null,null,null,null,null,"Tier I SEER","Tier I HSPF","Tier II\nSEER","Tier II \nHSPF ","Tier I\nNew Construction","Tier II\nNew Construction","Tier I\nExisting Oil w/ no CAC","Tier II\nExisting Oil w/ no CAC","Tier I\nAll Others","Tier II\nAll Others"]
[]
[null,null,null,null,null,null,null,null,null,null,null,null,null,null,"Ducted Cold Climate ASHP",null,null,null,"n/a","n/a",17,10,"n/a",1000,"n/a",1000,"n/a",800]
[null,"Electric Resistance Heating Replacement",null,null,null,null,null,null,null,null,null,null,null,null,"Ductless Mini Split Systems - Cold Climate ASHP",null,null,null,"n/a","n/a",18,10,"n/a",1000,"n/a",1000,"n/a",800]
[null,"Eligible Equipment",null,null,null,"Efficiency Requirements",null,null,null,"Customer Incentive ($/12,000 btu Heating Capacity)",null,"Contractor Incentive (per project)",null,null,"Ductless Multi Split Systems - Cold Climate ASHP",null,null,null,"n/a","n/a",18,10,"n/a",1000,"n/a",1000,"n/a",800]
[null,null,null,null,null,"Tier I SEER","Tier I HSPF","Tier II\nSEER","Tier II \nHSPF ","Tier I","Tier II","Tier I"," Tier II"]
[null,null,null,null,null,null,null,null,null,null,null,null,null,null,"**Updated 3/9 per PSEG approval received on 3/05"]
[null,"Ducted ASHP ",null,null,null,16,8.5,17,10,800,1000,500,500]
[null,"Ducted Cold Climate ASHP ",null,null,null,"n/a","n/a",17,10,"n/a",1000,"n/a",500]
[null,"Ductless Mini Split Systems - ASHP ",null,null,null,18,8.5,18,10,800,1000,500,500]
[null,"Ductless Mini Split Systems - Cold Climate ASHP ",null,null,null,"n/a","n/a",18,10,"n/a",1000,"n/a",500]
[null,"Ductless Multi Split Systems - Cold Climate ASHP ",null,null,null,"n/a","n/a",18,10,"n/a",1000,"n/a",500,null,null,null,null,null,null,null,null,null,null,null,null,null,null,null,null,null,null,null,null,null,null,null,null,null,null,null,null,null,null," "]
[]
[]
[null,"Eligible Equipment","Efficiency Requirements1",null,null,null,null,"Desuperheater Incentive3",null,null,"Contractor Incentive2",null,null,"Customer Incentive (per ton)",null,null,null,null,"All Electric Homes - Eligible Equipment",null,null,null,null,"Geothermal Dedicated Water Heating",null,null,null,null,null,null,null,null,"Whole House Geothermal Heat Pumps",null,null,null,null,null,null,null,null,null,null,null,"Electric Appliances and Controls"]
[null,null,"Tier I EER","Tier I COP","Tier II EER","Tier II COP",null,"Residential-Only",null,null,"Tier I"," Tier II",null,"New Install Tier I","New Install Tier II","Retrofit Tier I","Retrofit Tier II",null,"Tier I Package",null,"Tier II Package",null,null,"Efficiency Requirements",null,null,"Customer Incentive",null,null,null,null,null,"Efficiency Requirements",null,null,null,null,"Customer Incentive (per ton)",null,null,null,"Desuperheater Incentive",null,null,"Eligible Equipment",null,null,null,"Rebate "]
[null,null,null,null,null,null,null,null,null,null,null,null,null,null,null,null,null,null,null,null,null,null,null,"Eligible Equipment","Tier I \nCOP",null,"New Install \nTier I",null,"Retrofit\n Tier I",null,null,null,"Eligible Equipment","Tier I EER","Tier I COP","Tier II EER","Tier II COP","New Install Tier I","New Install Tier II","Retrofit Tier I","Retrofit Tier II","Residential-Only",null,null,"ENERGY STAR Clothes Dryer",null,null,null,50]
[null,"Geothermal, Water to Air - Closed",17.100000000000001,3.6,20,3.8,null,250,null,null,200,200,null,1000,2000,500,700,null,"Cold Climate Air Source Heat Pump*",null,"Cold Climate Air Source Heat Pump*",null,null,null,null,null,null,null,null,null,null,null,null,null,null,null,null,null,null,null,null,null,null,null,"Most Efficienct Heat Pump Clothes Dryer",null,null,null,300]
[null,"Geothermal, Water to Air - Open",21.1,4.0999999999999996,25,4.5,null,250,null,null,200,200,null,1000,2000,500,700,null,"Smart Thermostat (Connected)*",null,"Smart Thermostat (Learning)*",null,null,"Geothermal, Water to Water - Closed",3.1,null,1000,null,500,null,null,null,"Geothermal, Water to Air - Closed",17.100000000000001,3.6,20,3.8,1000,2000,500,700,250,null,null,"Most Efficient Clothes Washer",null,null,null,50]
[null,"Geothermal, Water to Water - Closed",16.100000000000001,3.1,17.5,{"$f":"D136","v":3.1},null,250,null,null,200,200,null,1000,2000,500,700,null,"Tankless Water Heater*",null,"Heat Pump Water Heater*",null,null,"Geothermal, Water to Water - Open",3.5,null,1000,null,500,null,null,null,"Geothermal, Water to Air - Open",21.1,4.0999999999999996,25,4.5,1000,2000,500,700,250,null,null,"Heat Pump Pool Heater",null,null,null,600]
[null,"Geothermal, Water to Water - Open",20.100000000000001,3.5,23,3.7,null,250,null,null,200,200,null,1000,2000,500,700,null,"ENERGY STAR Clothes Dryer*",null,"Most Efficient Heat Pump Dryer*",null,null,null,null,null,null,null,null,null,null,null,"Geothermal, Water to Water - Closed",16.100000000000001,3.1,17.5,{"$f":"AI137","v":3.1},1000,2000,500,700,250,null,null,"ENERGY STAR Dehumidifier",null,null,null,30]
[null,"Geothermal, DGX",16,3.6,21,4,null,250,null,null,200,200,null,1000,2000,500,700,null,"ENERGY STAR Clothes Washer",null,"Most Efficient Clothes Washer*",null,null,null,null,null,null,null,null,null,null,null,"Geothermal, Water to Water - Open",20.100000000000001,3.5,23,3.7,1000,2000,500,700,250,null,null,"ENERGY STAR Air Purifier <150 CADR",null,null,null,40]
[null,null,null,null,null,null,null,null,null,null,null,null,null,null,null,null,null,null,"ENERGY STAR Dishwasher",null,"Most Efficient Dishwasher",null,null,null,null,null,null,null,null,null,null,null,"Geothermal, DGX",16,3.6,21,4,1000,2000,500,700,250,null,null,"ENERGY STAR Air Purifier >150 CADR",null,null,null,50]
[null,null,null,null,null,null,null,null,null,null,null,null,null,null,null,null,null,null,"ENERGY STAR Refrigerator",null,"Most Efficient Refrigerator",null,null,null,null,null,null,null,null,null,null,null,null,null,null,null,null,null,null,null,null,null,null,null,"Battery Operated Lawn Mower (All Sizes)",null,null,null,30]
[null,null,null,null,null,null,null,null,null,null,null,null,null,null,null,null,null,null,"ENERGY STAR LED Lighting",null,"ENERGY STAR LED Lighting",null,null,null,null,null,null,null,null,null,null,null,null,null,null,null,null,null,null,null,null,null,null,null,"Battery Operated Leaf Blower",null,null,null,20]
[null,null,null,null,null,null,null,null,null,null,null,null,null,null,null,null,null,null,"Standard Electric Cooktop/Oven",null,"Induction Cooktop/Oven",null,null,null,null,null,null,null,null,null,null,null,null,null,null,null,null,null,null,null,null,null,null,null,"Battery Operated Weed Trimmer",null,null,null,20]
[null,null,null,null,null,null,null,null,null,null,null,null,null,null,null,null,null,null,"Propane Stove",null,"Propane Stove",null,null,null,null,null,null,null,null,null,null,null,null,null,null,null,null,null,null,null,null,null,null,null,"Most Efficient Refrigerator",null,null,null,"N/A"]
[null,null,null,null,null,null,null,null,null,null,null,null,null,null,null,null,null,null,"Tier I Bonus: 10%",null,"Tier II Bonus: 25%",null,null,null,null,null,null,null,null,null,null,null,null,null,null,null,null,null,null,null,null,null,null,null,"ENERGY STAR Refrigerator",null,null,null,"N/A"]
[null,null,null,null,null,null,null,null,null,null,null,null,null,null,null,null,null,null,"*Indicates a rebate is available",null,null,null,null,null,null,null,null,null,null,null,null,null,null,null,null,null,null,null,null,null,null,null,null,null,"ENERGY STAR Clothes Washer",null,null,null,"N/A",null,null,null,null," "]
[null,null,null,null,null,null,null,null,null,null,null,null,null,null,null,null,null,null,"Please note, a $2,000 per project Contractor Incentive is also available",null,null,null,null,null,null,null,null,null,null,null,null,null,null,null,null,null,null,null,null,null,null,null,null,null,"ENERGY STAR Dishwasher",null,null,null,"N/A"]
[null,null,null,null,null,null,null,null,null,null,null,null,null,null,null,null,null,null,null,null,null,null,null,null,null,null,null,null,null,null,null,null,null,null,null,null,null,null,null,null,null,null,null,null,"Most Efficient Dishwasher",null,null,null,"N/A"]
[null,null,null,null,null,null,null,null,null,null,null,null,null,null,null,null,null,null,null,null,null,null,null,null,null,null,null,null,null,null,null,null,null,null,null,null,null,null,null,null,null,null,null,null,"Standard Electric Range/Oven",null,null,null,"N/A"]
[null,null,null,null,null,null,null,null,null,null,null,null,null,null,null,null,null,null,null,null,null,null,null,null,null,null,null,null,null,null,null,null,null,null,null,null,null,null,null,null,null,null,null,null,"Induction Cooktop/Oven",null,null,null,"N/A"]
[null,null,null,null,null,null,null,null,null,null,null,null,null,null,null,null,null,null,null,null,null,null,null,null,null,null,null,null,null,null,null,null,null,null,null,null,null,null,null,null,null,null,null,null,"LED Lighting",null,null,null,"N/A"]
[null,null,null,null,null,null,null,null,null,null,null,null,null,null,null,null,null,null,null,null,null,null,null,null,null,null,null,null,null,null,null,null,null,null,null,null,null,null,null,null,null,null,null,null,"Smart Thermostat - Connected",null,null,null,70]
[null,null,null,null,null,null,null,null,null,null,null,null,null,null,null,null,null,null,null,null,null,null,null,null,null,null,null,null,null,null,null,null,null,null,null,null,null,null,null,null,null,null,null,null,"Smart Thermostat - Learning ",null,null,null,100]
[null,null,null,null,null,null,null,null,null,null,null,null,null,null,null,null,null,null,null,null,null,null,null,null,null,null,null,null,null,null,null,null,null,null,null,null,null,null,null,null,null,null,null,null,"Electric Vehicle Charging Station ",null,null,null,500]
[]
[]
[]
[]
[]
[]
[]
[null,null,null,null,null,null,null,null,null,null,null,null,null,null,null,null,null,null,null,null,null,null,null,null,null,null,null,null,null,null,null,null,null,null,null,null,null,null,null,null,null,null,null,null,null,null,null,null,null,null,null,null,null,null,null,null,null,null,null,null,"Electric Appliances and Controls"]
[null,null,null,null,null,null,null,null,null,null,null,null,null,null,null,null,null,null,null,null,null,null,null,null,null,null,null,null,null,null,null,null,null,null,null,null,null,null,null,null,null,null,null,null,null,null,null,null,null,null,null,null,null,null,null,null,null,null,null,null,"Eligible Equipment",null,null,null,"Rebate "]
[null,null,"Whole-House Projects",null,null,null,null,null,null,null,null,null,"Whole-House Projects",null,null,null,null,null,null,null,null,null,null,null,null,null,null,null,null,null,null,null,null,null,null,null,null,null,null,null,null,null,null,null,null,null,null,null,null,null,null,null,null,null,null,null,null,null,null,null,"ENERGY STAR Clothes Dryer",null,null,null,50]
[null,null,"Eligible Equipment",null,null,"Customer Rebate",null,null,"Contractor Incentive\nPer Project",null,null,null,"Eligible Equipment",null,null,"Customer Rebate",null,null,null,null,null,null,null,null,null,null,null,null,null,null,null,null,null,null,null,null,null,null,null,null,null,null,null,null,null,null,null,null,null,null,null,null,null,null,null,null,null,null,null,null,"Most Efficienct Heat Pump Clothes Dryer",null,null,null,300]
[null,null,"Cold Climate Air Source Heat Pump",null,null,"$1,000/12,000 heating BTU @ 17°F ",null,null,500,null,null,null,"Cold Climate Air Source Heat Pump",null,null,"$1,000/12,000 heating BTU @ 17°F Rated",null,null,null,null,null,null,null,null,null,null,null,null,null,null,null,null,null,null,null,null,null,null,null,null,null,null,null,null,null,null,null,null,null,null,null,null,null,null,null,null,null,null,null,null,"Most Efficient Clothes Washer",null,null,null,50]
[null,null,null,null,null,null,null,null,null,null,null,null,null,null,null,null,null,null,null,null,null,null,null,null,null,null,null,null,null,null,null,null,null,null,null,null,null,null,null,null,null,null,null,null,null,null,null,null,null,null,null,null,null,null,null,null,null,null,null,null,"Heat Pump Pool Heater",null,null,null,1000]
[null,null,"Cold Climate Air Source Heat Pump - Income Eligible",null,null,"$5,500/12,000 heating BTU @ 17°F ",null,null,500,null,null,null,null,null,null,null,null,null,null,null,null,null,null,null,null,null,null,null,null,null,null,null,null,null,null,null,null,null,null,null,null,null,null,null,null,null,null,null,null,null,null,null,null,null,null,null,null,null,null,null,"Solar Pool Cover",null,null,null,75]
[null,null,null,null,null,null,null,null,null,null,null,null,null,null,null,null,null,null,null,null,null,null,null,null,null,null,null,null,null,null,null,null,null,null,null,null,null,null,null,null,null,null,null,null,null,null,null,null,null,null,null,null,null,null,null,null,null,null,null,null,"ENERGY STAR Dehumidifier",null,null,null,30]
[null,null,null,null,null,null,null,null,null,null,null,null,null,null,null,null,null,null,null,null,null,null,null,null,null,null,null,null,null,null,null,null,null,null,null,null,null,null,null,null,null,null,null,null,null,null,null,null,null,null,null,null,null,null,null,null,null,null,null,null,"ENERGY STAR Air Purifier <150 CADR",null,null,null,40]
[null,null,null,null,null,null,null,null,null,null,null,null,null,null,null,null,null,null,null,null,null,null,null,null,null,null,null,null,null,null,null,null,null,null,null,null,null,null,null,null,null,null,null,null,null,null,null,null,null,null,null,null,null,null,null,null,null,null,null,null,"ENERGY STAR Air Purifier >150 CADR",null,null,null,50]
[null,null,null,null,null,null,null,null,null,null,null,null,null,null,null,null,null,null,null,null,null,null,null,null,null,null,null,null,null,null,null,null,null,null,null,null,null,null,null,null,null,null,null,null,null,null,null,null,null,null,null,null,null,null,null,null,null,null,null,null,"Most Efficient Refrigerator",null,null,null,"N/A"]
[null,null,null,null,null,null,null,null,null,null,null,null,null,null,null,null,null,null,null,null,null,null,null,null,null,null,null,null,null,null,null,null,null,null,null,null,null,null,null,null,null,null,null,null,null,null,null,null,null,null,null,null,null,null,null,null,null,null,null,null,"ENERGY STAR Refrigerator",null,null,null,"N/A"]
[null,null,null,null,null,null,null,null,null,null,null,null,null,null,null,null,null,null,null,null,null,null,null,null,null,null,null,null,null,null,null,null,null,null,null,null,null,null,null,null,null,null,null,null,null,null,null,null,null,null,null,null,null,null,null,null,null,null,null,null,"ENERGY STAR Clothes Washer",null,null,null,"N/A",null,null,null,null,null,null,null,null,null," "]
[null,null,null,null,null,null,null,null,null,null,null,null,null,null,null,null,null,null,null,null,null,null,null,null,null,null,null,null,null,null,null,null,null,null,null,null,null,null,null,null,null,null,null,null,null,null,null,null,null,null,null,null,null,null,null,null,null,null,null,null,"ENERGY STAR Dishwasher",null,null,null,"N/A"]
[null,null,null,null,null,null,null,null,null,null,null,null,null,null,null,null,null,null,null,null,null,null,null,null,null,null,null,null,null,null,null,null,null,null,null,null,null,null,null,null,null,null,null,null,null,null,null,null,null,null,null,null,null,null,null,null,null,null,null,null,"Most Efficient Dishwasher",null,null,null,"N/A"]
[null,null,null,null,null,null,null,null,null,null,null,null,null,null,null,null,null,null,null,null,null,null,null,null,null,null,null,null,null,null,null,null,null,null,null,null,null,null,null,null,null,null,null,null,null,null,null,null,null,null,null,null,null,null,null,null,null,null,null,null,"Standard Electric Range/Oven",null,null,null,"N/A"]
[null,null,null,null,null,null,null,null,null,null,null,null,null,null,null,null,null,null,null,null,null,null,null,null,null,null,null,null,null,null,null,null,null,null,null,null,null,null,null,null,null,null,null,null,null,null,null,null,null,null,null,null,null,null,null,null,null,null,null,null,"Induction Cooktop/Oven",null,null,null,"N/A"]
[null,null,null,null,null,null,null,null,null,null,null,null,null,null,null,null,null,null,null,null,null,null,null,null,null,null,null,null,null,null,null,null,null,null,null,null,null,null,null,null,null,null,null,null,null,null,null,null,null,null,null,null,null,null,null,null,null,null,null,null,"Propane Stove",null,null,null,"N/A"]
[null,null,null,null,null,null,null,null,null,null,null,null,null,null,null,null,null,null,null,null,null,null,null,null,null,null,null,null,null,null,null,null,null,null,null,null,null,null,null,null,null,null,null,null,null,null,null,null,null,null,null,null,null,null,null,null,null,null,null,null,"LED Lighting",null,null,null,"N/A"]
[null,null,null,null,null,null,null,null,null,null,null,null,null,null,null,null,null,null,null,null,null,null,null,null,null,null,null,null,null,null,null,null,null,null,null,null,null,null,null,null,null,null,null,null,null,null,null,null,null,null,null,null,null,null,null,null,null,null,null,null,"Smart Thermostat - Connected",null,null,null,70]
[null,null,null,null,null,null,null,null,null,null,null,null,null,null,null,null,null,null,null,null,null,null,null,null,null,null,null,null,null,null,null,null,null,null,null,null,null,null,null,null,null,null,null,null,null,null,null,null,null,null,null,null,null,null,null,null,null,null,null,null,"Smart Thermostat - Learning ",null,null,null,100]
[null,null,null,null,null,null,null,null,null,null,null,null,null,null,null,null,null,null,null,null,null,null,null,null,null,null,null,null,null,null,null,null,null,null,null,null,null,null,null,null,null,null,null,null,null,null,null,null,null,null,null,null,null,null,null,null,null,null,null,null,"Electric Vehicle Charging Station ",null,null,null,500]

{"sheet":"ProposedEquipment0","index":38,"n_rows":70,"n_cols":137,"rows_kept":70,"cut":false,"hidden":true,"merged":[]}
["Row Number","BaseLine Row_ID","Product Line","Class Name","Product Name","Measure Code","Application ID","Application Version","Gross kW","Gross kWh","Gross Winter kW","Gross BE kWh","Delta Gross kWh","In Service Rate","Utility Gross kW","Utility Gross kWh","Utility Gross Winter kW","Utility Gross BE kWh","Delta Utility Gross kWh","Coincidence Factor","Free Ridership","Spillover","Line Loss Summer Demand (kW)","Line Loss Energy (kWh)","Net kW","Net kWh","Net Winter kW","Net BE kWh","Delta Net kWh","Total Net kW","Total Net kWh","Total Net Winter kW","Total Net BE kWh","Total Delta Net kWh","EE CO2 Savings","BE CO2 Savings","Total CO2 Savings","EE MMBTU Savings","BE MMBTU Savings","Total MMBTU Savings","Equipment Cost","Labor Cost","Total Cost","Elec Util Cust Incentive","Total Elec Util Cust Incentive","Contractor Incentive","Product Quantity","Location","Operation Hours","Waste Heat Factor – Demand","Waste Heat Factor - Energy","Proposed/Installed Wattage ","Lamp Type","Existing Device Code","Existing Wattage","kW Saved","Ballast Type","Wattage","Lamp Length (ft)","Number Lamps","Product ID","Watts Saved","Manufacturer","Model","Baseline EER","Baseline SEER","Baseline HSPF","Baseline Heating Efficiecny (%)","Baseline COP","Proposed/Installed EER","Proposed/Installed SEER","Proposed/Installed HSPF","Proposed/Installed COP","Full Load Hours Cool","Full Load Hours Heat","Cooling Btuh","Heating Btuh","Heating Fuel Type","Cooling Manual J","Heating Manual J","Condenser Manufacturer","Condenser Model","Condenser Serial#","Coil/Air Handler Manufacturer","Coil/Air Handler Model","Coil/Air Handler Serial#","Exist tons","Exist Mfr","Exist Model","QI kW C and A Factord","QI kW RS Factor","QI kWh Factor","QI kW C and A","QI kW RS","QI kWh","Primary Cooling","Primary Heating","Geothermal Loop Type","Energy Savings Factor kW","Energy Savings Factor kWh","Roof Area (sq ft)","Solar Reflectance Index (3YR)","Solar Reflectance Index (INITIAL)","Horsepower","CFM","Storage Capacity","Baseline Compressor Factor","Compressor Factor","Building Type ","Baseline Efficiency","Load Factor","Baseline Annual Usage (kWh)","Efficient Annual Usage (kWh)","Volume (ft3)","Harvest Rate (lb/day)","Bonus Factor","Total Load","Infiltration Factor - Closed","Infiltration Factor - Open","Free Cooling - Closed","Free Cooling - Open","Unit Type","Pre CFM","Post CFM","CFM Reduction","Existing AC Age","Building Square Footage","Pre Water Temperature","Post Water Temperature","Tank Insulation","Pre GPM","Post GPM","Conditioned","Pints per Day","Proposed EF","Dehumidifier Age","Workbook Name"]
[1,null,{"$f":"IF(OR('ASHP Load Calculations'!$G19=\"\",'ASHP Load Calculations'!$G19=\"DNQ\",'ASHP Load Calculations'!$G19=\"Missing Info\"),\"\",INDEX(References!AH$3:AH$34,MATCH(Qualifying_Index!$E27,References!$AE$3:$AE$34,0)))","v":""},{"$f":"IF(OR('ASHP Load Calculations'!$G19=\"\",'ASHP Load Calculations'!$G19=\"DNQ\",'ASHP Load Calculations'!$G19=\"Missing Info\"),\"\",INDEX(References!AG$3:AG$34,MATCH(Qualifying_Index!$E27,References!$AE$3:$AE$34,0)))","v":""},{"$f":"IF(OR('ASHP Load Calculations'!$G19=\"\",'ASHP Load Calculations'!$G19=\"DNQ\",'ASHP Load Calculations'!$G19=\"Missing Info\"),\"\",INDEX(References!AI$3:AI$34,MATCH(Qualifying_Index!$E27,References!$AE$3:$AE$34,0)))","v":""},{"$f":"IF(D2=\"\",\"\",INDEX(References!$AF$3:$AF$34,MATCH(Qualifying_Index!$E27,References!$AE$3:$AE$34,0)))","v":""},{"$f":"IF(D2=\"\",\"\",'Customer Information'!$L$48)","v":""},{"$f":"IF(C2=\"\",\"\",\"Whole House ASHP and ER v\"&Development!$A$2)","v":""},{"$f":"IF(E2=\"\",\"\",Qualifying_Index!CA27)","v":""},{"$f":"IF(E2=\"\",\"\",Qualifying_Index!CB27+Qualifying_Index!CF27)","v":""},{"$f":"IF(G2=\"\",\"\",IF(References!$I$36=TRUE,Qualifying_Index!CE27,Qualifying_Index!CG27))","v":""},{"$f":"IF(G2=\"\",\"\",Qualifying_Index!CH27)","v":""},{"$f":"IF(D2=\"\",\"\",J2-L2)","v":""},{"$f":"IF(I2=\"\",\"\",1)","v":""},{"$f":"IF(I2=\"\",\"\",I2*N2*T2)","v":""},{"$f":"IF(J2=\"\",\"\",J2*N2)","v":""},{"$f":"IF(K2=\"\",\"\",K2*N2)","v":""},{"$f":"IF(L2=\"\",\"\",L2*N2)","v":""},{"$f":"IF(D2=\"\",\"\",P2-R2)","v":""},{"$f":"IF($D2=\"\",\"\",INDEX(References!$AM$3:$AM$34,MATCH(ProposedEquipment0!$F2,References!$AF$3:$AF$34,0)))","v":""},{"$f":"IF(D2=\"\",\"\",INDEX(References!$AQ$3:$AQ$34,MATCH(ProposedEquipment0!$F2,References!$AF$3:$AF$34,0)))","v":""},{"$f":"IF(D2=\"\",\"\",INDEX(References!$AR$3:$AR$34,MATCH(ProposedEquipment0!$F2,References!$AF$3:$AF$34,0)))","v":""},{"$f":"IF(D2=\"\",\"\",INDEX(References!$AS$3:$AS$34,MATCH(ProposedEquipment0!$F2,References!$AF$3:$AF$34,0)))","v":""},{"$f":"IF(D2=\"\",\"\",INDEX(References!$AT$3:$AT$34,MATCH(ProposedEquipment0!$F2,References!$AF$3:$AF$34,0)))","v":""},{"$f":"IF(D2=\"\",\"\",ROUND((I2*T2)/(1-W2)*(1-U2+V2),References!$B$4))","v":""},{"$f":"IF(D2=\"\",\"\",ROUND(J2/(1-X2)*(1-U2+V2),References!$B$5))","v":""},{"$f":"IF(D2=\"\",\"\",ROUND((K2)/(1-W2)*(1-U2+V2),References!$B$4))","v":""},{"$f":"IF(D2=\"\",\"\",ROUND(L2/(1-X2)*(1-U2+V2),References!$B$5))","v":""},{"$f":"IF(D2=\"\",\"\",Z2-AB2)","v":""},{"$f":"IF(D2=\"\",\"\",Y2*AU2)","v":""},{"$f":"IF(D2=\"\",\"\",Z2*AU2)","v":""},{"$f":"IF(D2=\"\",\"\",AA2*AU2)","v":""},{"$f":"IF(D2=\"\",\"\",AB2*AU2)","v":""},{"$f":"IF(D2=\"\",\"\",AE2-AG2)","v":""},{"$f":"IF(OR(References!$H$13=\"\",AE2=\"\"),\"\",IF(Qualifying_Index!CL27>0,Qualifying_Index!CD27+Qualifying_Index!CL27,Qualifying_Index!CD27))","v":""},{"$f":"IF(OR(References!$H$13=\"\",AE2=\"\"),\"\",IF(References!$J$36=FALSE,0,Qualifying_Index!CN27))","v":""},{"$f":"IF(OR(References!$H$13=\"\",AE2=\"\"),\"\",Qualifying_Index!CD27+Qualifying_Index!CN27)","v":""},{"$f":"IF(AE2=\"\",\"\",IF(Qualifying_Index!CI27<0,Qualifying_Index!CC27,Qualifying_Index!CC27+Qualifying_Index!CI27))","v":""},{"$f":"IF('ASHP Equipment Information'!G19=\"\",\"\",IF(Qualifying_Index!CI27>0,Qualifying_Index!CJ27,Qualifying_Index!CJ27+Qualifying_Index!CI27))","v":""},{"$f":"IF(D2=\"\",\"\",AL2+AM2)","v":""},null,null,{"$f":"IF(D2=\"\",\"\",Admin!AE4)","v":""},{"$f":"IF(OR('ASHP Load Calculations'!$G19=\"DNQ\",'ASHP Load Calculations'!$G19=\"\"),\"\",ROUND(IF(AND(AQ2*0.7<'ASHP Load Calculations'!$G19,AQ2>0),AQ2*0.7,'ASHP Load Calculations'!$G19),0))","v":""},{"$f":"IF(OR('ASHP Load Calculations'!$G19=\"DNQ\",AU2=\"\"),\"\",AR2*AU2)","v":""},{"$f":"IF(Qualifying_Index!AM27=\"\",\"\",Qualifying_Index!AM27)","v":""},{"$f":"IF(E2=\"\",\"\",1)","v":""},null,null,null,null,null,null,null,null,null,null,null,null,null,null,null,null,null,{"$f":"IF(E2=\"\",\"\",Qualifying_Index!I27)","v":""},{"$f":"IF(F2=\"\",\"\",Qualifying_Index!J27)","v":""},{"$f":"IF(G2=\"\",\"\",Qualifying_Index!K27)","v":""},{"$f":"IF(E2=\"\",\"\",Qualifying_Index!M27)","v":""},{"$f":"IF(D2=\"\",\"\",IF(Qualifying_Index!BU27=\"PTHP\",Qualifying_Index!L27,\"\"))","v":""},{"$f":"IF(D2=\"\",\"\",Qualifying_Index!V27)","v":""},{"$f":"IF(D2=\"\",\"\",Qualifying_Index!U27)","v":""},{"$f":"IF(D2=\"\",\"\",IF(Qualifying_Index!BU27=\"PTHP\",BU2*3.413,Qualifying_Index!W27))","v":""},{"$f":"IF(D2=\"\",\"\",IF(Qualifying_Index!BU27=\"PTHP\",Qualifying_Index!W27,\"\"))","v":""},{"$f":"IF(E2=\"\",\"\",Qualifying_Index!BX27)","v":""},{"$f":"IF(E2=\"\",\"\",Qualifying_Index!BY27)","v":""},{"$f":"IF(D2=\"\",\"\",'ASHP Equipment Information'!G17)","v":""},{"$f":"IF(D2=\"\",\"\",'ASHP Equipment Information'!G19)","v":""},{"$f":"IF(D2=\"\",\"\",References!$H$13)","v":""},{"$f":"IF(E2=\"\",\"\",'ASHP Load Calculations'!D15)","v":""},{"$f":"IF(F2=\"\",\"\",'ASHP Load Calculations'!D17)","v":""},{"$f":"IF($E2=\"\",\"\",'ASHP Equipment Information'!D15)","v":""},{"$f":"IF($E2=\"\",\"\",'ASHP Equipment Information'!D17)","v":""},{"$f":"IF($E2=\"\",\"\",'ASHP Equipment Information'!D19)","v":""},{"$f":"IF($E2=\"\",\"\",'ASHP Equipment Information'!D21)","v":""},{"$f":"IF($E2=\"\",\"\",'ASHP Equipment Information'!D23)","v":""},{"$f":"IF($E2=\"\",\"\",'ASHP Equipment Information'!D25)","v":""},{"$f":"IF(D2=\"\",\"\",'ASHP Equipment Information'!Q25/12000)","v":""},{"$f":"IF($D2=\"\",\"\",'ASHP Equipment Information'!P49)","v":""},{"$f":"IF($D2=\"\",\"\",'ASHP Equipment Information'!S49)","v":""},{"$f":"IF(E2=\"\",\"\",IF(D2=\"Cool Homes Ductless\",0,kW_CA))","v":""},null,{"$f":"IF(E2=\"\",\"\",IF(D2=\"Cool Homes Ductless\",0,QI_kWh))","v":""},{"$f":"IF($E2=\"\",\"\",IF(References!$A$15=FALSE,0,IF(NOT(ISERROR(SEARCH(\"Ductless Mini Split\",'ASHP Equipment Information'!C25,1))),0,Unit1_QI_CA)))","v":""},null,{"$f":"IF($E2=\"\",\"\",IF(References!$A$15=FALSE,0,IF(NOT(ISERROR(SEARCH(\"Ductless Mini Split\",'ASHP Equipment Information'!C25,1))),0,Unit1_QI_kWh)))","v":""},null,null,{"$f":"IF(NOT(LEFT('ASHP Equipment Information'!C25,3)=\"Geo\"),\"\",INDEX(References!$M$48:$M$51,MATCH('ASHP Equipment Information'!C25,References!$L$48:$L$51,0)))","v":""},null,null,null,null,null,null,null,null,null,null,null,null,null,null,null,null,null,null,null,null,null,null,null,null,null,null,null,null,{"$f":"IF(C2=\"\",\"\",'Customer Information'!$K$11)","v":""}]
[{"$f":"A2+1","v":2},null,{"$f":"IF(OR('ASHP Load Calculations'!G32=\"\",'ASHP Load Calculations'!$G32=\"DNQ\",'ASHP Load Calculations'!$G32=\"Missing Info\"),\"\",INDEX(References!AH$3:AH$34,MATCH(Qualifying_Index!$E28,References!$AE$3:$AE$34,0)))","v":""},{"$f":"IF(OR('ASHP Load Calculations'!$G32=\"\",'ASHP Load Calculations'!$G32=\"DNQ\",'ASHP Load Calculations'!$G32=\"Missing Info\"),\"\",INDEX(References!AG$3:AG$34,MATCH(Qualifying_Index!$E28,References!$AE$3:$AE$34,0)))","v":""},{"$f":"IF(OR('ASHP Load Calculations'!$G32=\"\",'ASHP Load Calculations'!$G32=\"DNQ\",'ASHP Load Calculations'!$G32=\"Missing Info\"),\"\",INDEX(References!AI$3:AI$34,MATCH(Qualifying_Index!$E28,References!$AE$3:$AE$34,0)))","v":""},{"$f":"IF(D3=\"\",\"\",INDEX(References!$AF$3:$AF$34,MATCH(Qualifying_Index!$E28,References!$AE$3:$AE$34,0)))","v":""},{"$f":"IF(D3=\"\",\"\",'Customer Information'!$L$48)","v":""},{"$f":"IF(C3=\"\",\"\",\"Whole House ASHP and ER v\"&Development!$A$2)","v":""},{"$f":"IF(E3=\"\",\"\",Qualifying_Index!CA28)","v":""},{"$f":"IF(E3=\"\",\"\",Qualifying_Index!CB28+Qualifying_Index!CF28)","v":""},{"$f":"IF(G3=\"\",\"\",IF(References!$I$36=TRUE,Qualifying_Index!CE28,Qualifying_Index!CG28))","v":""},{"$f":"IF(G3=\"\",\"\",Qualifying_Index!CH28)","v":""},{"$f":"IF(D3=\"\",\"\",J3-L3)","v":""},{"$f":"IF(I3=\"\",\"\",1)","v":""},{"$f":"IF(I3=\"\",\"\",I3*N3*T3)","v":""},{"$f":"IF(J3=\"\",\"\",J3*N3)","v":""},{"$f":"IF(K3=\"\",\"\",K3*N3)","v":""},{"$f":"IF(L3=\"\",\"\",L3*N3)","v":""},{"$f":"IF(D3=\"\",\"\",P3-R3)","v":""},{"$f":"IF($D3=\"\",\"\",INDEX(References!$AM$3:$AM$34,MATCH(ProposedEquipment0!$F3,References!$AF$3:$AF$34,0)))","v":""},{"$f":"IF(D3=\"\",\"\",INDEX(References!$AQ$3:$AQ$34,MATCH(ProposedEquipment0!$F3,References!$AF$3:$AF$34,0)))","v":""},{"$f":"IF(D3=\"\",\"\",INDEX(References!$AR$3:$AR$34,MATCH(ProposedEquipment0!$F3,References!$AF$3:$AF$34,0)))","v":""},{"$f":"IF(D3=\"\",\"\",INDEX(References!$AS$3:$AS$34,MATCH(ProposedEquipment0!$F3,References!$AF$3:$AF$34,0)))","v":""},{"$f":"IF(D3=\"\",\"\",INDEX(References!$AT$3:$AT$34,MATCH(ProposedEquipment0!$F3,References!$AF$3:$AF$34,0)))","v":""},{"$f":"IF(D3=\"\",\"\",ROUND((I3*T3)/(1-W3)*(1-U3+V3),References!$B$4))","v":""},{"$f":"IF(D3=\"\",\"\",ROUND(J3/(1-X3)*(1-U3+V3),References!$B$5))","v":""},{"$f":"IF(D3=\"\",\"\",ROUND((K3)/(1-W3)*(1-U3+V3),References!$B$4))","v":""},{"$f":"IF(D3=\"\",\"\",ROUND(L3/(1-X3)*(1-U3+V3),References!$B$5))","v":""},{"$f":"IF(D3=\"\",\"\",Z3-AB3)","v":""},{"$f":"IF(D3=\"\",\"\",Y3*AU3)","v":""},{"$f":"IF(D3=\"\",\"\",Z3*AU3)","v":""},{"$f":"IF(D3=\"\",\"\",AA3*AU3)","v":""},{"$f":"IF(D3=\"\",\"\",AB3*AU3)","v":""},{"$f":"IF(D3=\"\",\"\",AE3-AG3)","v":""},{"$f":"IF(OR(References!$H$13=\"\",AE3=\"\"),\"\",IF(Qualifying_Index!CL28>0,Qualifying_Index!CD28+Qualifying_Index!CL28,Qualifying_Index!CD28))","v":""},{"$f":"IF(OR(References!$H$13=\"\",AE3=\"\"),\"\",IF(References!$J$36=FALSE,0,Qualifying_Index!CN28))","v":""},{"$f":"IF(OR(References!$H$13=\"\",AE3=\"\"),\"\",Qualifying_Index!CD28+Qualifying_Index!CN28)","v":""},{"$f":"IF(AE3=\"\",\"\",IF(Qualifying_Index!CI28<0,Qualifying_Index!CC28,Qualifying_Index!CC28+Qualifying_Index!CI28))","v":""},{"$f":"IF('ASHP Equipment Information'!G38=\"\",\"\",IF(Qualifying_Index!CI28>0,Qualifying_Index!CJ28,Qualifying_Index!CJ28+Qualifying_Index!CI28))","v":""},{"$f":"IF(D3=\"\",\"\",AL3+AM3)","v":""},null,null,{"$f":"IF(D3=\"\",\"\",Admin!AE5)","v":""},{"$f":"IF(OR('ASHP Load Calculations'!$G32=\"DNQ\",'ASHP Load Calculations'!$G32=\"\"),\"\",ROUND(IF(AND(AQ3*0.7<'ASHP Load Calculations'!$G32,AQ3>0),AQ3*0.7,'ASHP Load Calculations'!$G32),0))","v":""},{"$f":"IF(OR('ASHP Load Calculations'!$G32=\"DNQ\",AU3=\"\"),\"\",AR3*AU3)","v":""},{"$f":"IF(Qualifying_Index!AM28=\"\",\"\",Qualifying_Index!AM28)","v":""},{"$f":"IF(E3=\"\",\"\",1)","v":""},null,null,null,null,null,null,null,null,null,null,null,null,null,null,null,null,null,{"$f":"IF(E3=\"\",\"\",Qualifying_Index!I28)","v":""},{"$f":"IF(F3=\"\",\"\",Qualifying_Index!J28)","v":""},{"$f":"IF(G3=\"\",\"\",Qualifying_Index!K28)","v":""},{"$f":"IF(E3=\"\",\"\",Qualifying_Index!M28)","v":""},{"$f":"IF(D3=\"\",\"\",IF(Qualifying_Index!BU28=\"PTHP\",Qualifying_Index!L28,\"\"))","v":""},{"$f":"IF(D3=\"\",\"\",Qualifying_Index!V28)","v":""},{"$f":"IF(D3=\"\",\"\",Qualifying_Index!U28)","v":""},{"$f":"IF(D3=\"\",\"\",IF(Qualifying_Index!BU28=\"PTHP\",BU3*3.413,Qualifying_Index!W28))","v":""},{"$f":"IF(D3=\"\",\"\",IF(Qualifying_Index!BU28=\"PTHP\",Qualifying_Index!W28,\"\"))","v":""},{"$f":"IF(E3=\"\",\"\",Qualifying_Index!BX28)","v":""},{"$f":"IF(E3=\"\",\"\",Qualifying_Index!BY28)","v":""},{"$f":"IF(D3=\"\",\"\",'ASHP Equipment Information'!G36)","v":""},{"$f":"IF(D3=\"\",\"\",'ASHP Equipment Information'!G38)","v":""},{"$f":"IF(D3=\"\",\"\",References!$H$13)","v":""},{"$f":"IF(E3=\"\",\"\",'ASHP Load Calculations'!D28)","v":""},{"$f":"IF(F3=\"\",\"\",'ASHP Load Calculations'!D30)","v":""},{"$f":"IF($E3=\"\",\"\",'ASHP Equipment Information'!D34)","v":""},{"$f":"IF($E3=\"\",\"\",'ASHP Equipment Information'!D36)","v":""},{"$f":"IF($E3=\"\",\"\",'ASHP Equipment Information'!D38)","v":""},{"$f":"IF($E3=\"\",\"\",'ASHP Equipment Information'!D40)","v":""},{"$f":"IF($E3=\"\",\"\",'ASHP Equipment Information'!D42)","v":""},{"$f":"IF($E3=\"\",\"\",'ASHP Equipment Information'!D44)","v":""},{"$f":"IF(D3=\"\",\"\",'ASHP Equipment Information'!Q26/12000)","v":""},{"$f":"IF($D3=\"\",\"\",'ASHP Equipment Information'!P50)","v":""},{"$f":"IF($D3=\"\",\"\",'ASHP Equipment Information'!S50)","v":""},{"$f":"IF(E3=\"\",\"\",IF(D3=\"Cool Homes Ductless\",0,kW_CA))","v":""},null,{"$f":"IF(E3=\"\",\"\",IF(D3=\"Cool Homes Ductless\",0,QI_kWh))","v":""},{"$f":"IF($E3=\"\",\"\",IF(References!$A$15=FALSE,0,IF(NOT(ISERROR(SEARCH(\"Ductless Mini Split\",'ASHP Equipment Information'!C26,1))),0,Unit1_QI_CA)))","v":""},null,{"$f":"IF($E3=\"\",\"\",IF(References!$A$15=FALSE,0,IF(NOT(ISERROR(SEARCH(\"Ductless Mini Split\",'ASHP Equipment Information'!C26,1))),0,Unit1_QI_kWh)))","v":""},null,null,{"$f":"IF(NOT(LEFT('ASHP Equipment Information'!C26,3)=\"Geo\"),\"\",INDEX(References!$M$48:$M$51,MATCH('ASHP Equipment Information'!C26,References!$L$48:$L$51,0)))","v":""},null,null,null,null,null,null,null,null,null,null,null,null,null,null,null,null,null,null,null,null,null,null,null,null,null,null,null,null,{"$f":"IF(C3=\"\",\"\",'Customer Information'!$K$11)","v":""}]
[{"$f":"A3+1","v":3},null,{"$f":"IF(OR('ASHP Load Calculations'!$G45=\"\",'ASHP Load Calculations'!$G45=\"DNQ\",'ASHP Load Calculations'!$G45=\"Missing Info\"),\"\",INDEX(References!AH$3:AH$34,MATCH(Qualifying_Index!$E29,References!$AE$3:$AE$34,0)))","v":""},{"$f":"IF(OR('ASHP Load Calculations'!$G45=\"\",'ASHP Load Calculations'!$G45=\"DNQ\",'ASHP Load Calculations'!$G45=\"Missing Info\"),\"\",INDEX(References!AG$3:AG$34,MATCH(Qualifying_Index!$E29,References!$AE$3:$AE$34,0)))","v":""},{"$f":"IF(OR('ASHP Load Calculations'!$G45=\"\",'ASHP Load Calculations'!$G45=\"DNQ\",'ASHP Load Calculations'!$G45=\"Missing Info\"),\"\",INDEX(References!AI$3:AI$34,MATCH(Qualifying_Index!$E29,References!$AE$3:$AE$34,0)))","v":""},{"$f":"IF(D4=\"\",\"\",INDEX(References!$AF$3:$AF$34,MATCH(Qualifying_Index!$E29,References!$AE$3:$AE$34,0)))","v":""},{"$f":"IF(D4=\"\",\"\",'Customer Information'!$L$48)","v":""},{"$f":"IF(C4=\"\",\"\",\"Whole House ASHP and ER v\"&Development!$A$2)","v":""},{"$f":"IF(E4=\"\",\"\",Qualifying_Index!CA29)","v":""},{"$f":"IF(E4=\"\",\"\",Qualifying_Index!CB29+Qualifying_Index!CF29)","v":""},{"$f":"IF(G4=\"\",\"\",IF(References!$I$36=TRUE,Qualifying_Index!CE29,Qualifying_Index!CG29))","v":""},{"$f":"IF(G4=\"\",\"\",Qualifying_Index!CH29)","v":""},"","","","","","","",{"$f":"IF($D4=\"\",\"\",INDEX(References!$AM$3:$AM$34,MATCH(ProposedEquipment0!$F4,References!$AF$3:$AF$34,0)))","v":""},{"$f":"IF(D4=\"\",\"\",INDEX(References!$AQ$3:$AQ$34,MATCH(ProposedEquipment0!$F4,References!$AF$3:$AF$34,0)))","v":""},{"$f":"IF(D4=\"\",\"\",INDEX(References!$AR$3:$AR$34,MATCH(ProposedEquipment0!$F4,References!$AF$3:$AF$34,0)))","v":""},{"$f":"IF(D4=\"\",\"\",INDEX(References!$AS$3:$AS$34,MATCH(ProposedEquipment0!$F4,References!$AF$3:$AF$34,0)))","v":""},{"$f":"IF(D4=\"\",\"\",INDEX(References!$AT$3:$AT$34,MATCH(ProposedEquipment0!$F4,References!$AF$3:$AF$34,0)))","v":""},{"$f":"IF(D4=\"\",\"\",ROUND((I4*T4)/(1-W4)*(1-U4+V4),References!$B$4))","v":""},{"$f":"IF(D4=\"\",\"\",ROUND(J4/(1-X4)*(1-U4+V4),References!$B$5))","v":""},{"$f":"IF(D4=\"\",\"\",ROUND((K4)/(1-W4)*(1-U4+V4),References!$B$4))","v":""},{"$f":"IF(D4=\"\",\"\",ROUND(L4/(1-X4)*(1-U4+V4),References!$B$5))","v":""},"","","","","","",{"$f":"IF(OR(References!$H$13=\"\",AE4=\"\"),\"\",IF(Qualifying_Index!CL29>0,Qualifying_Index!CD29+Qualifying_Index!CL29,Qualifying_Index!CD29))","v":""},{"$f":"IF(OR(References!$H$13=\"\",AE4=\"\"),\"\",IF(References!$J$36=FALSE,0,Qualifying_Index!CN29))","v":""},{"$f":"IF(OR(References!$H$13=\"\",AE4=\"\"),\"\",Qualifying_Index!CD29+Qualifying_Index!CN29)","v":""},{"$f":"IF(AE4=\"\",\"\",IF(Qualifying_Index!CI29<0,Qualifying_Index!CC29,Qualifying_Index!CC29+Qualifying_Index!CI29))","v":""},{"$f":"IF('ASHP Equipment Information'!G57=\"\",\"\",IF(Qualifying_Index!CI29>0,Qualifying_Index!CJ29,Qualifying_Index!CJ29+Qualifying_Index!CI29))","v":""},"",null,null,{"$f":"IF(D4=\"\",\"\",Admin!AE6)","v":""},{"$f":"IF(OR('ASHP Load Calculations'!$G45=\"DNQ\",'ASHP Load Calculations'!$G45=\"\"),\"\",ROUND(IF(AND(AQ4*0.7<'ASHP Load Calculations'!$G45,AQ4>0),AQ4*0.7,'ASHP Load Calculations'!$G45),0))","v":""},{"$f":"IF(OR('ASHP Load Calculations'!$G45=\"DNQ\",AU4=\"\"),\"\",AR4*AU4)","v":""},{"$f":"IF(Qualifying_Index!AM29=\"\",\"\",Qualifying_Index!AM29)","v":""},"",null,null,null,null,null,null,null,null,null,null,null,null,null,null,null,null,null,{"$f":"IF(E4=\"\",\"\",Qualifying_Index!I29)","v":""},{"$f":"IF(F4=\"\",\"\",Qualifying_Index!J29)","v":""},{"$f":"IF(G4=\"\",\"\",Qualifying_Index!K29)","v":""},{"$f":"IF(E4=\"\",\"\",Qualifying_Index!M29)","v":""},{"$f":"IF(D4=\"\",\"\",IF(Qualifying_Index!BU29=\"PTHP\",Qualifying_Index!L29,\"\"))","v":""},{"$f":"IF(D4=\"\",\"\",Qualifying_Index!V29)","v":""},{"$f":"IF(D4=\"\",\"\",Qualifying_Index!U29)","v":""},{"$f":"IF(D4=\"\",\"\",IF(Qualifying_Index!BU29=\"PTHP\",BU4*3.413,Qualifying_Index!W29))","v":""},{"$f":"IF(D4=\"\",\"\",IF(Qualifying_Index!BU29=\"PTHP\",Qualifying_Index!W29,\"\"))","v":""},{"$f":"IF(E4=\"\",\"\",Qualifying_Index!BX29)","v":""},{"$f":"IF(E4=\"\",\"\",Qualifying_Index!BY29)","v":""},{"$f":"IF(D4=\"\",\"\",'ASHP Equipment Information'!G55)","v":""},{"$f":"IF(D4=\"\",\"\",'ASHP Equipment Information'!G57)","v":""},{"$f":"IF(D4=\"\",\"\",References!$H$13)","v":""},{"$f":"IF(E4=\"\",\"\",'ASHP Load Calculations'!D41)","v":""},{"$f":"IF(F4=\"\",\"\",'ASHP Load Calculations'!D43)","v":""},{"$f":"IF($E4=\"\",\"\",'ASHP Equipment Information'!D53)","v":""},{"$f":"IF($E4=\"\",\"\",'ASHP Equipment Information'!D55)","v":""},{"$f":"IF($E4=\"\",\"\",'ASHP Equipment Information'!D57)","v":""},{"$f":"IF($E4=\"\",\"\",'ASHP Equipment Information'!D59)","v":""},{"$f":"IF(E4=\"\",\"\",'ASHP Equipment Information'!J53)","v":""},{"$f":"IF(E4=\"\",\"\",'ASHP Equipment Information'!L53)","v":""},{"$f":"IF(D4=\"\",\"\",'ASHP Equipment Information'!Q27/12000)","v":""},{"$f":"IF($D4=\"\",\"\",'ASHP Equipment Information'!P53)","v":""},{"$f":"IF($D4=\"\",\"\",'ASHP Equipment Information'!S53)","v":""},"",null,"",{"$f":"IF($E4=\"\",\"\",IF(References!$A$15=FALSE,0,IF(NOT(ISERROR(SEARCH(\"Ductless Mini Split\",'ASHP Equipment Information'!C27,1))),0,Unit1_QI_CA)))","v":""},null,{"$f":"IF($E4=\"\",\"\",IF(References!$A$15=FALSE,0,IF(NOT(ISERROR(SEARCH(\"Ductless Mini Split\",'ASHP Equipment Information'!C27,1))),0,Unit1_QI_kWh)))","v":""},null,null,{"$f":"IF(NOT(LEFT('ASHP Equipment Information'!C27,3)=\"Geo\"),\"\",INDEX(References!$M$48:$M$51,MATCH('ASHP Equipment Information'!C27,References!$L$48:$L$51,0)))","v":""},null,null,null,null,null,null,null,null,null,null,null,null,null,null,null,null,null,null,null,null,null,null,null,null,null,null,null,null,{"$f":"IF(C4=\"\",\"\",'Customer Information'!$K$11)","v":""}]
[4,null,{"$f":"IF(OR('ASHP Load Calculations'!$G58=\"\",'ASHP Load Calculations'!$G58=\"DNQ\",'ASHP Load Calculations'!$G58=\"Missing Info\"),\"\",INDEX(References!AH$3:AH$34,MATCH(Qualifying_Index!$E30,References!$AE$3:$AE$34,0)))","v":""},{"$f":"IF(OR('ASHP Load Calculations'!$G58=\"\",'ASHP Load Calculations'!$G58=\"DNQ\",'ASHP Load Calculations'!$G58=\"Missing Info\"),\"\",INDEX(References!AG$3:AG$34,MATCH(Qualifying_Index!$E30,References!$AE$3:$AE$34,0)))","v":""},{"$f":"IF(OR('ASHP Load Calculations'!$G58=\"\",'ASHP Load Calculations'!$G58=\"DNQ\",'ASHP Load Calculations'!$G58=\"Missing Info\"),\"\",INDEX(References!AI$3:AI$34,MATCH(Qualifying_Index!$E30,References!$AE$3:$AE$34,0)))","v":""},{"$f":"IF(D5=\"\",\"\",INDEX(References!$AF$3:$AF$34,MATCH(Qualifying_Index!$E30,References!$AE$3:$AE$34,0)))","v":""},{"$f":"IF(D5=\"\",\"\",'Customer Information'!$L$48)","v":""},{"$f":"IF(C5=\"\",\"\",\"Whole House ASHP and ER v\"&Development!$A$2)","v":""},{"$f":"IF(E5=\"\",\"\",Qualifying_Index!CA30)","v":""},{"$f":"IF(E5=\"\",\"\",Qualifying_Index!CB30+Qualifying_Index!CF30)","v":""},{"$f":"IF(G5=\"\",\"\",IF(References!$I$36=TRUE,Qualifying_Index!CE30,Qualifying_Index!CG30))","v":""},{"$f":"IF(G5=\"\",\"\",Qualifying_Index!CH30)","v":""},"","","","","","","",{"$f":"IF($D5=\"\",\"\",INDEX(References!$AM$3:$AM$34,MATCH(ProposedEquipment0!$F5,References!$AF$3:$AF$34,0)))","v":""},{"$f":"IF(D5=\"\",\"\",INDEX(References!$AQ$3:$AQ$34,MATCH(ProposedEquipment0!$F5,References!$AF$3:$AF$34,0)))","v":""},{"$f":"IF(D5=\"\",\"\",INDEX(References!$AR$3:$AR$34,MATCH(ProposedEquipment0!$F5,References!$AF$3:$AF$34,0)))","v":""},{"$f":"IF(D5=\"\",\"\",INDEX(References!$AS$3:$AS$34,MATCH(ProposedEquipment0!$F5,References!$AF$3:$AF$34,0)))","v":""},{"$f":"IF(D5=\"\",\"\",INDEX(References!$AT$3:$AT$34,MATCH(ProposedEquipment0!$F5,References!$AF$3:$AF$34,0)))","v":""},{"$f":"IF(D5=\"\",\"\",ROUND((I5*T5)/(1-W5)*(1-U5+V5),References!$B$4))","v":""},{"$f":"IF(D5=\"\",\"\",ROUND(J5/(1-X5)*(1-U5+V5),References!$B$5))","v":""},{"$f":"IF(D5=\"\",\"\",ROUND((K5)/(1-W5)*(1-U5+V5),References!$B$4))","v":""},{"$f":"IF(D5=\"\",\"\",ROUND(L5/(1-X5)*(1-U5+V5),References!$B$5))","v":""},"","","","","","",{"$f":"IF(OR(References!$H$13=\"\",AE5=\"\"),\"\",IF(Qualifying_Index!CL30>0,Qualifying_Index!CD30+Qualifying_Index!CL30,Qualifying_Index!CD30))","v":""},{"$f":"IF(OR(References!$H$13=\"\",AE5=\"\"),\"\",IF(References!$J$36=FALSE,0,Qualifying_Index!CN30))","v":""},{"$f":"IF(OR(References!$H$13=\"\",AE5=\"\"),\"\",Qualifying_Index!CD30+Qualifying_Index!CN30)","v":""},{"$f":"IF(AE5=\"\",\"\",IF(Qualifying_Index!CI30<0,Qualifying_Index!CC30,Qualifying_Index!CC30+Qualifying_Index!CI30))","v":""},{"$f":"IF('ASHP Equipment Information'!G76=\"\",\"\",IF(Qualifying_Index!CI30>0,Qualifying_Index!CJ30,Qualifying_Index!CJ30+Qualifying_Index!CI30))","v":""},"",null,null,{"$f":"IF(D5=\"\",\"\",Admin!AE7)","v":""},{"$f":"IF(OR('ASHP Load Calculations'!$G58=\"DNQ\",'ASHP Load Calculations'!$G58=\"\"),\"\",ROUND(IF(AND(AQ5*0.7<'ASHP Load Calculations'!$G58,AQ5>0),AQ5*0.7,'ASHP Load Calculations'!$G58),0))","v":""},{"$f":"IF(OR('ASHP Load Calculations'!$G58=\"DNQ\",AU5=\"\"),\"\",AR5*AU5)","v":""},{"$f":"IF(Qualifying_Index!AM30=\"\",\"\",Qualifying_Index!AM30)","v":""},"",null,null,null,null,null,null,null,null,null,null,null,null,null,null,null,null,null,{"$f":"IF(E5=\"\",\"\",Qualifying_Index!I30)","v":""},{"$f":"IF(F5=\"\",\"\",Qualifying_Index!J30)","v":""},{"$f":"IF(G5=\"\",\"\",Qualifying_Index!K30)","v":""},{"$f":"IF(E5=\"\",\"\",Qualifying_Index!M30)","v":""},{"$f":"IF(D5=\"\",\"\",IF(Qualifying_Index!BU30=\"PTHP\",Qualifying_Index!L30,\"\"))","v":""},{"$f":"IF(D5=\"\",\"\",Qualifying_Index!V30)","v":""},{"$f":"IF(D5=\"\",\"\",Qualifying_Index!U30)","v":""},{"$f":"IF(D5=\"\",\"\",IF(Qualifying_Index!BU30=\"PTHP\",BU5*3.413,Qualifying_Index!W30))","v":""},{"$f":"IF(D5=\"\",\"\",IF(Qualifying_Index!BU30=\"PTHP\",Qualifying_Index!W30,\"\"))","v":""},{"$f":"IF(E5=\"\",\"\",Qualifying_Index!BX30)","v":""},{"$f":"IF(E5=\"\",\"\",Qualifying_Index!BY30)","v":""},{"$f":"IF(D5=\"\",\"\",'ASHP Equipment Information'!G74)","v":""},{"$f":"IF(D5=\"\",\"\",'ASHP Equipment Information'!G76)","v":""},{"$f":"IF(D5=\"\",\"\",References!$H$13)","v":""},{"$f":"IF(E5=\"\",\"\",'ASHP Load Calculations'!D54)","v":""},{"$f":"IF(F5=\"\",\"\",'ASHP Load Calculations'!D56)","v":""},{"$f":"IF($E5=\"\",\"\",'ASHP Equipment Information'!D72)","v":""},{"$f":"IF($E5=\"\",\"\",'ASHP Equipment Information'!D74)","v":""},{"$f":"IF($E5=\"\",\"\",'ASHP Equipment Information'!D76)","v":""},{"$f":"IF($E5=\"\",\"\",'ASHP Equipment Information'!D78)","v":""},{"$f":"IF(E5=\"\",\"\",'ASHP Equipment Information'!J54)","v":""},{"$f":"IF(E5=\"\",\"\",'ASHP Equipment Information'!L54)","v":""},{"$f":"IF(D5=\"\",\"\",'ASHP Equipment Information'!Q28/12000)","v":""},{"$f":"IF($D5=\"\",\"\",'ASHP Equipment Information'!P54)","v":""},{"$f":"IF($D5=\"\",\"\",'ASHP Equipment Information'!S54)","v":""},"",null,"",{"$f":"IF($E5=\"\",\"\",IF(References!$A$15=FALSE,0,IF(NOT(ISERROR(SEARCH(\"Ductless Mini Split\",'ASHP Equipment Information'!C28,1))),0,Unit1_QI_CA)))","v":""},null,{"$f":"IF($E5=\"\",\"\",IF(References!$A$15=FALSE,0,IF(NOT(ISERROR(SEARCH(\"Ductless Mini Split\",'ASHP Equipment Information'!C28,1))),0,Unit1_QI_kWh)))","v":""},null,null,{"$f":"IF(NOT(LEFT('ASHP Equipment Information'!C28,3)=\"Geo\"),\"\",INDEX(References!$M$48:$M$51,MATCH('ASHP Equipment Information'!C28,References!$L$48:$L$51,0)))","v":""},null,null,null,null,null,null,null,null,null,null,null,null,null,null,null,null,null,null,null,null,null,null,null,null,null,null,null,null,{"$f":"IF(C5=\"\",\"\",'Customer Information'!$K$11)","v":""}]
[5,null,{"$f":"IF(OR('ASHP Load Calculations'!$G71=\"\",'ASHP Load Calculations'!$G71=\"DNQ\",'ASHP Load Calculations'!$G71=\"Missing Info\"),\"\",INDEX(References!AH$3:AH$34,MATCH(Qualifying_Index!$E31,References!$AE$3:$AE$34,0)))","v":""},{"$f":"IF(OR('ASHP Load Calculations'!$G71=\"\",'ASHP Load Calculations'!$G71=\"DNQ\",'ASHP Load Calculations'!$G71=\"Missing Info\"),\"\",INDEX(References!AG$3:AG$34,MATCH(Qualifying_Index!$E31,References!$AE$3:$AE$34,0)))","v":""},{"$f":"IF(OR('ASHP Load Calculations'!$G71=\"\",'ASHP Load Calculations'!$G71=\"DNQ\",'ASHP Load Calculations'!$G71=\"Missing Info\"),\"\",INDEX(References!AI$3:AI$34,MATCH(Qualifying_Index!$E31,References!$AE$3:$AE$34,0)))","v":""},{"$f":"IF(D6=\"\",\"\",INDEX(References!$AF$3:$AF$34,MATCH(Qualifying_Index!$E31,References!$AE$3:$AE$34,0)))","v":""},{"$f":"IF(D6=\"\",\"\",'Customer Information'!$L$48)","v":""},{"$f":"IF(C6=\"\",\"\",\"Whole House ASHP and ER v\"&Development!$A$2)","v":""},{"$f":"IF(E6=\"\",\"\",Qualifying_Index!CA31)","v":""},{"$f":"IF(E6=\"\",\"\",Qualifying_Index!CB31+Qualifying_Index!CF31)","v":""},{"$f":"IF(G6=\"\",\"\",IF(References!$I$36=TRUE,Qualifying_Index!CE31,Qualifying_Index!CG31))","v":""},{"$f":"IF(G6=\"\",\"\",Qualifying_Index!CH31)","v":""},"","","","","","","",{"$f":"IF($D6=\"\",\"\",INDEX(References!$AM$3:$AM$34,MATCH(ProposedEquipment0!$F6,References!$AF$3:$AF$34,0)))","v":""},{"$f":"IF(D6=\"\",\"\",INDEX(References!$AQ$3:$AQ$34,MATCH(ProposedEquipment0!$F6,References!$AF$3:$AF$34,0)))","v":""},{"$f":"IF(D6=\"\",\"\",INDEX(References!$AR$3:$AR$34,MATCH(ProposedEquipment0!$F6,References!$AF$3:$AF$34,0)))","v":""},{"$f":"IF(D6=\"\",\"\",INDEX(References!$AS$3:$AS$34,MATCH(ProposedEquipment0!$F6,References!$AF$3:$AF$34,0)))","v":""},{"$f":"IF(D6=\"\",\"\",INDEX(References!$AT$3:$AT$34,MATCH(ProposedEquipment0!$F6,References!$AF$3:$AF$34,0)))","v":""},{"$f":"IF(D6=\"\",\"\",ROUND((I6*T6)/(1-W6)*(1-U6+V6),References!$B$4))","v":""},{"$f":"IF(D6=\"\",\"\",ROUND(J6/(1-X6)*(1-U6+V6),References!$B$5))","v":""},{"$f":"IF(D6=\"\",\"\",ROUND((K6)/(1-W6)*(1-U6+V6),References!$B$4))","v":""},{"$f":"IF(D6=\"\",\"\",ROUND(L6/(1-X6)*(1-U6+V6),References!$B$5))","v":""},"","","","","","",{"$f":"IF(OR(References!$H$13=\"\",AE6=\"\"),\"\",IF(Qualifying_Index!CL31>0,Qualifying_Index!CD31+Qualifying_Index!CL31,Qualifying_Index!CD31))","v":""},{"$f":"IF(OR(References!$H$13=\"\",AE6=\"\"),\"\",IF(References!$J$36=FALSE,0,Qualifying_Index!CN31))","v":""},{"$f":"IF(OR(References!$H$13=\"\",AE6=\"\"),\"\",Qualifying_Index!CD31+Qualifying_Index!CN31)","v":""},{"$f":"IF(AE6=\"\",\"\",IF(Qualifying_Index!CI31<0,Qualifying_Index!CC31,Qualifying_Index!CC31+Qualifying_Index!CI31))","v":""},{"$f":"IF('ASHP Equipment Information'!G95=\"\",\"\",IF(Qualifying_Index!CI31>0,Qualifying_Index!CJ31,Qualifying_Index!CJ31+Qualifying_Index!CI31))","v":""},"",null,null,{"$f":"IF(D6=\"\",\"\",Admin!AE8)","v":""},{"$f":"IF(OR('ASHP Load Calculations'!$G71=\"DNQ\",'ASHP Load Calculations'!$G71=\"\"),\"\",ROUND(IF(AND(AQ6*0.7<'ASHP Load Calculations'!$G71,AQ6>0),AQ6*0.7,'ASHP Load Calculations'!$G71),0))","v":""},{"$f":"IF(OR('ASHP Load Calculations'!$G71=\"DNQ\",AU6=\"\"),\"\",AR6*AU6)","v":""},{"$f":"IF(Qualifying_Index!AM31=\"\",\"\",Qualifying_Index!AM31)","v":""},"",null,null,null,null,null,null,null,null,null,null,null,null,null,null,null,null,null,{"$f":"IF(E6=\"\",\"\",Qualifying_Index!I31)","v":""},{"$f":"IF(F6=\"\",\"\",Qualifying_Index!J31)","v":""},{"$f":"IF(G6=\"\",\"\",Qualifying_Index!K31)","v":""},{"$f":"IF(E6=\"\",\"\",Qualifying_Index!M31)","v":""},{"$f":"IF(D6=\"\",\"\",IF(Qualifying_Index!BU31=\"PTHP\",Qualifying_Index!L31,\"\"))","v":""},{"$f":"IF(D6=\"\",\"\",Qualifying_Index!V31)","v":""},{"$f":"IF(D6=\"\",\"\",Qualifying_Index!U31)","v":""},{"$f":"IF(D6=\"\",\"\",IF(Qualifying_Index!BU31=\"PTHP\",BU6*3.413,Qualifying_Index!W31))","v":""},{"$f":"IF(D6=\"\",\"\",IF(Qualifying_Index!BU31=\"PTHP\",Qualifying_Index!W31,\"\"))","v":""},{"$f":"IF(E6=\"\",\"\",Qualifying_Index!BX31)","v":""},{"$f":"IF(E6=\"\",\"\",Qualifying_Index!BY31)","v":""},{"$f":"IF(D6=\"\",\"\",'ASHP Equipment Information'!G93)","v":""},{"$f":"IF(D6=\"\",\"\",'ASHP Equipment Information'!G95)","v":""},{"$f":"IF(D6=\"\",\"\",References!$H$13)","v":""},{"$f":"IF(E6=\"\",\"\",'ASHP Load Calculations'!D67)","v":""},{"$f":"IF(F6=\"\",\"\",'ASHP Load Calculations'!D69)","v":""},{"$f":"IF($E6=\"\",\"\",'ASHP Equipment Information'!D91)","v":""},{"$f":"IF($E6=\"\",\"\",'ASHP Equipment Information'!D93)","v":""},{"$f":"IF($E6=\"\",\"\",'ASHP Equipment Information'!D95)","v":""},{"$f":"IF($E6=\"\",\"\",'ASHP Equipment Information'!D97)","v":""},{"$f":"IF(E6=\"\",\"\",'ASHP Equipment Information'!J55)","v":""},{"$f":"IF(E6=\"\",\"\",'ASHP Equipment Information'!L55)","v":""},{"$f":"IF(D6=\"\",\"\",'ASHP Equipment Information'!Q29/12000)","v":""},{"$f":"IF($D6=\"\",\"\",'ASHP Equipment Information'!P55)","v":""},{"$f":"IF($D6=\"\",\"\",'ASHP Equipment Information'!S55)","v":""},"",null,"",{"$f":"IF($E6=\"\",\"\",IF(References!$A$15=FALSE,0,IF(NOT(ISERROR(SEARCH(\"Ductless Mini Split\",'ASHP Equipment Information'!C29,1))),0,Unit1_QI_CA)))","v":""},null,{"$f":"IF($E6=\"\",\"\",IF(References!$A$15=FALSE,0,IF(NOT(ISERROR(SEARCH(\"Ductless Mini Split\",'ASHP Equipment Information'!C29,1))),0,Unit1_QI_kWh)))","v":""},null,null,{"$f":"IF(NOT(LEFT('ASHP Equipment Information'!C29,3)=\"Geo\"),\"\",INDEX(References!$M$48:$M$51,MATCH('ASHP Equipment Information'!C29,References!$L$48:$L$51,0)))","v":""},null,null,null,null,null,null,null,null,null,null,null,null,null,null,null,null,null,null,null,null,null,null,null,null,null,null,null,null,{"$f":"IF(C6=\"\",\"\",'Customer Information'!$K$11)","v":""}]
[6,null,{"$f":"IF(OR('ASHP Load Calculations'!$G84=\"\",'ASHP Load Calculations'!$G84=\"DNQ\",'ASHP Load Calculations'!$G84=\"Missing Info\"),\"\",INDEX(References!AH$3:AH$34,MATCH(Qualifying_Index!$E32,References!$AE$3:$AE$34,0)))","v":""},{"$f":"IF(OR('ASHP Load Calculations'!$G84=\"\",'ASHP Load Calculations'!$G84=\"DNQ\",'ASHP Load Calculations'!$G84=\"Missing Info\"),\"\",INDEX(References!AG$3:AG$34,MATCH(Qualifying_Index!$E32,References!$AE$3:$AE$34,0)))","v":""},{"$f":"IF(OR('ASHP Load Calculations'!$G84=\"\",'ASHP Load Calculations'!$G84=\"DNQ\",'ASHP Load Calculations'!$G84=\"Missing Info\"),\"\",INDEX(References!AI$3:AI$34,MATCH(Qualifying_Index!$E32,References!$AE$3:$AE$34,0)))","v":""},{"$f":"IF(D7=\"\",\"\",INDEX(References!$AF$3:$AF$34,MATCH(Qualifying_Index!$E32,References!$AE$3:$AE$34,0)))","v":""},{"$f":"IF(D7=\"\",\"\",'Customer Information'!$L$48)","v":""},{"$f":"IF(C7=\"\",\"\",\"Whole House ASHP and ER v\"&Development!$A$2)","v":""},{"$f":"IF(E7=\"\",\"\",Qualifying_Index!CA32)","v":""},{"$f":"IF(E7=\"\",\"\",Qualifying_Index!CB32+Qualifying_Index!CF32)","v":""},{"$f":"IF(G7=\"\",\"\",IF(References!$I$36=TRUE,Qualifying_Index!CE32,Qualifying_Index!CG32))","v":""},{"$f":"IF(G7=\"\",\"\",Qualifying_Index!CH32)","v":""},"","","","","","","",{"$f":"IF($D7=\"\",\"\",INDEX(References!$AM$3:$AM$34,MATCH(ProposedEquipment0!$F7,References!$AF$3:$AF$34,0)))","v":""},{"$f":"IF(D7=\"\",\"\",INDEX(References!$AQ$3:$AQ$34,MATCH(ProposedEquipment0!$F7,References!$AF$3:$AF$34,0)))","v":""},{"$f":"IF(D7=\"\",\"\",INDEX(References!$AR$3:$AR$34,MATCH(ProposedEquipment0!$F7,References!$AF$3:$AF$34,0)))","v":""},{"$f":"IF(D7=\"\",\"\",INDEX(References!$AS$3:$AS$34,MATCH(ProposedEquipment0!$F7,References!$AF$3:$AF$34,0)))","v":""},{"$f":"IF(D7=\"\",\"\",INDEX(References!$AT$3:$AT$34,MATCH(ProposedEquipment0!$F7,References!$AF$3:$AF$34,0)))","v":""},{"$f":"IF(D7=\"\",\"\",ROUND((I7*T7)/(1-W7)*(1-U7+V7),References!$B$4))","v":""},{"$f":"IF(D7=\"\",\"\",ROUND(J7/(1-X7)*(1-U7+V7),References!$B$5))","v":""},{"$f":"IF(D7=\"\",\"\",ROUND((K7)/(1-W7)*(1-U7+V7),References!$B$4))","v":""},{"$f":"IF(D7=\"\",\"\",ROUND(L7/(1-X7)*(1-U7+V7),References!$B$5))","v":""},"","","","","","",{"$f":"IF(OR(References!$H$13=\"\",AE7=\"\"),\"\",IF(Qualifying_Index!CL32>0,Qualifying_Index!CD32+Qualifying_Index!CL32,Qualifying_Index!CD32))","v":""},{"$f":"IF(OR(References!$H$13=\"\",AE7=\"\"),\"\",IF(References!$J$36=FALSE,0,Qualifying_Index!CN32))","v":""},{"$f":"IF(OR(References!$H$13=\"\",AE7=\"\"),\"\",Qualifying_Index!CD32+Qualifying_Index!CN32)","v":""},{"$f":"IF(AE7=\"\",\"\",IF(Qualifying_Index!CI32<0,Qualifying_Index!CC32,Qualifying_Index!CC32+Qualifying_Index!CI32))","v":""},{"$f":"IF('ASHP Equipment Information'!G114=\"\",\"\",IF(Qualifying_Index!CI32>0,Qualifying_Index!CJ32,Qualifying_Index!CJ32+Qualifying_Index!CI32))","v":""},"",null,null,{"$f":"IF(D7=\"\",\"\",Admin!AE9)","v":""},{"$f":"IF(OR('ASHP Load Calculations'!$G84=\"DNQ\",'ASHP Load Calculations'!$G84=\"\"),\"\",ROUND(IF(AND(AQ7*0.7<'ASHP Load Calculations'!$G84,AQ7>0),AQ7*0.7,'ASHP Load Calculations'!$G84),0))","v":""},{"$f":"IF(OR('ASHP Load Calculations'!$G84=\"DNQ\",AU7=\"\"),\"\",AR7*AU7)","v":""},{"$f":"IF(Qualifying_Index!AM32=\"\",\"\",Qualifying_Index!AM32)","v":""},"",null,null,null,null,null,null,null,null,null,null,null,null,null,null,null,null,null,{"$f":"IF(E7=\"\",\"\",Qualifying_Index!I32)","v":""},{"$f":"IF(F7=\"\",\"\",Qualifying_Index!J32)","v":""},{"$f":"IF(G7=\"\",\"\",Qualifying_Index!K32)","v":""},{"$f":"IF(E7=\"\",\"\",Qualifying_Index!M32)","v":""},{"$f":"IF(D7=\"\",\"\",IF(Qualifying_Index!BU32=\"PTHP\",Qualifying_Index!L32,\"\"))","v":""},{"$f":"IF(D7=\"\",\"\",Qualifying_Index!V32)","v":""},{"$f":"IF(D7=\"\",\"\",Qualifying_Index!U32)","v":""},{"$f":"IF(D7=\"\",\"\",IF(Qualifying_Index!BU32=\"PTHP\",BU7*3.413,Qualifying_Index!W32))","v":""},{"$f":"IF(D7=\"\",\"\",IF(Qualifying_Index!BU32=\"PTHP\",Qualifying_Index!W32,\"\"))","v":""},{"$f":"IF(E7=\"\",\"\",Qualifying_Index!BX32)","v":""},{"$f":"IF(E7=\"\",\"\",Qualifying_Index!BY32)","v":""},{"$f":"IF(D7=\"\",\"\",'ASHP Equipment Information'!G112)","v":""},{"$f":"IF(D7=\"\",\"\",'ASHP Equipment Information'!G114)","v":""},{"$f":"IF(D7=\"\",\"\",References!$H$13)","v":""},{"$f":"IF(E7=\"\",\"\",'ASHP Load Calculations'!D80)","v":""},{"$f":"IF(F7=\"\",\"\",'ASHP Load Calculations'!D82)","v":""},{"$f":"IF($E7=\"\",\"\",'ASHP Equipment Information'!D110)","v":""},{"$f":"IF($E7=\"\",\"\",'ASHP Equipment Information'!D112)","v":""},{"$f":"IF($E7=\"\",\"\",'ASHP Equipment Information'!D114)","v":""},{"$f":"IF($E7=\"\",\"\",'ASHP Equipment Information'!D116)","v":""},{"$f":"IF(E7=\"\",\"\",'ASHP Equipment Information'!J56)","v":""},{"$f":"IF(E7=\"\",\"\",'ASHP Equipment Information'!L56)","v":""},{"$f":"IF(D7=\"\",\"\",'ASHP Equipment Information'!Q31/12000)","v":""},{"$f":"IF($D7=\"\",\"\",'ASHP Equipment Information'!P56)","v":""},{"$f":"IF($D7=\"\",\"\",'ASHP Equipment Information'!S56)","v":""},"",null,"",{"$f":"IF($E7=\"\",\"\",IF(References!$A$15=FALSE,0,IF(NOT(ISERROR(SEARCH(\"Ductless Mini Split\",'ASHP Equipment Information'!C31,1))),0,Unit1_QI_CA)))","v":""},null,{"$f":"IF($E7=\"\",\"\",IF(References!$A$15=FALSE,0,IF(NOT(ISERROR(SEARCH(\"Ductless Mini Split\",'ASHP Equipment Information'!C31,1))),0,Unit1_QI_kWh)))","v":""},null,null,{"$f":"IF(NOT(LEFT('ASHP Equipment Information'!C31,3)=\"Geo\"),\"\",INDEX(References!$M$48:$M$51,MATCH('ASHP Equipment Information'!C31,References!$L$48:$L$51,0)))","v":""},null,null,null,null,null,null,null,null,null,null,null,null,null,null,null,null,null,null,null,null,null,null,null,null,null,null,null,null,{"$f":"IF(C7=\"\",\"\",'Customer Information'!$K$11)","v":""}]
[7,null,{"$f":"IF(OR('ASHP Load Calculations'!$G97=\"\",'ASHP Load Calculations'!$G97=\"DNQ\",'ASHP Load Calculations'!$G97=\"Missing Info\"),\"\",INDEX(References!AH$3:AH$34,MATCH(Qualifying_Index!$E33,References!$AE$3:$AE$34,0)))","v":""},{"$f":"IF(OR('ASHP Load Calculations'!$G97=\"\",'ASHP Load Calculations'!$G97=\"DNQ\",'ASHP Load Calculations'!$G97=\"Missing Info\"),\"\",INDEX(References!AG$3:AG$34,MATCH(Qualifying_Index!$E33,References!$AE$3:$AE$34,0)))","v":""},{"$f":"IF(OR('ASHP Load Calculations'!$G97=\"\",'ASHP Load Calculations'!$G97=\"DNQ\",'ASHP Load Calculations'!$G97=\"Missing Info\"),\"\",INDEX(References!AI$3:AI$34,MATCH(Qualifying_Index!$E33,References!$AE$3:$AE$34,0)))","v":""},{"$f":"IF(D8=\"\",\"\",INDEX(References!$AF$3:$AF$34,MATCH(Qualifying_Index!$E33,References!$AE$3:$AE$34,0)))","v":""},{"$f":"IF(D8=\"\",\"\",'Customer Information'!$L$48)","v":""},{"$f":"IF(C8=\"\",\"\",\"Whole House ASHP and ER v\"&Development!$A$2)","v":""},{"$f":"IF(E8=\"\",\"\",Qualifying_Index!CA33)","v":""},{"$f":"IF(E8=\"\",\"\",Qualifying_Index!CB33+Qualifying_Index!CF33)","v":""},{"$f":"IF(G8=\"\",\"\",IF(References!$I$36=TRUE,Qualifying_Index!CE33,Qualifying_Index!CG33))","v":""},{"$f":"IF(G8=\"\",\"\",Qualifying_Index!CH33)","v":""},"","","","","","","",{"$f":"IF($D8=\"\",\"\",INDEX(References!$AM$3:$AM$34,MATCH(ProposedEquipment0!$F8,References!$AF$3:$AF$34,0)))","v":""},{"$f":"IF(D8=\"\",\"\",INDEX(References!$AQ$3:$AQ$34,MATCH(ProposedEquipment0!$F8,References!$AF$3:$AF$34,0)))","v":""},{"$f":"IF(D8=\"\",\"\",INDEX(References!$AR$3:$AR$34,MATCH(ProposedEquipment0!$F8,References!$AF$3:$AF$34,0)))","v":""},{"$f":"IF(D8=\"\",\"\",INDEX(References!$AS$3:$AS$34,MATCH(ProposedEquipment0!$F8,References!$AF$3:$AF$34,0)))","v":""},{"$f":"IF(D8=\"\",\"\",INDEX(References!$AT$3:$AT$34,MATCH(ProposedEquipment0!$F8,References!$AF$3:$AF$34,0)))","v":""},{"$f":"IF(D8=\"\",\"\",ROUND((I8*T8)/(1-W8)*(1-U8+V8),References!$B$4))","v":""},{"$f":"IF(D8=\"\",\"\",ROUND(J8/(1-X8)*(1-U8+V8),References!$B$5))","v":""},{"$f":"IF(D8=\"\",\"\",ROUND((K8)/(1-W8)*(1-U8+V8),References!$B$4))","v":""},{"$f":"IF(D8=\"\",\"\",ROUND(L8/(1-X8)*(1-U8+V8),References!$B$5))","v":""},"","","","","","",{"$f":"IF(OR(References!$H$13=\"\",AE8=\"\"),\"\",IF(Qualifying_Index!CL33>0,Qualifying_Index!CD33+Qualifying_Index!CL33,Qualifying_Index!CD33))","v":""},{"$f":"IF(OR(References!$H$13=\"\",AE8=\"\"),\"\",IF(References!$J$36=FALSE,0,Qualifying_Index!CN33))","v":""},{"$f":"IF(OR(References!$H$13=\"\",AE8=\"\"),\"\",Qualifying_Index!CD33+Qualifying_Index!CN33)","v":""},{"$f":"IF(AE8=\"\",\"\",IF(Qualifying_Index!CI33<0,Qualifying_Index!CC33,Qualifying_Index!CC33+Qualifying_Index!CI33))","v":""},{"$f":"IF('ASHP Equipment Information'!G133=\"\",\"\",IF(Qualifying_Index!CI33>0,Qualifying_Index!CJ33,Qualifying_Index!CJ33+Qualifying_Index!CI33))","v":""},"",null,null,{"$f":"IF(D8=\"\",\"\",Admin!AE10)","v":""},{"$f":"IF(OR('ASHP Load Calculations'!$G97=\"DNQ\",'ASHP Load Calculations'!$G97=\"\"),\"\",ROUND(IF(AND(AQ8*0.7<'ASHP Load Calculations'!$G97,AQ8>0),AQ8*0.7,'ASHP Load Calculations'!$G97),0))","v":""},{"$f":"IF(OR('ASHP Load Calculations'!$G97=\"DNQ\",AU8=\"\"),\"\",AR8*AU8)","v":""},{"$f":"IF(Qualifying_Index!AM33=\"\",\"\",Qualifying_Index!AM33)","v":""},"",null,null,null,null,null,null,null,null,null,null,null,null,null,null,null,null,null,{"$f":"IF(E8=\"\",\"\",Qualifying_Index!I33)","v":""},{"$f":"IF(F8=\"\",\"\",Qualifying_Index!J33)","v":""},{"$f":"IF(G8=\"\",\"\",Qualifying_Index!K33)","v":""},{"$f":"IF(E8=\"\",\"\",Qualifying_Index!M33)","v":""},{"$f":"IF(D8=\"\",\"\",IF(Qualifying_Index!BU33=\"PTHP\",Qualifying_Index!L33,\"\"))","v":""},{"$f":"IF(D8=\"\",\"\",Qualifying_Index!V33)","v":""},{"$f":"IF(D8=\"\",\"\",Qualifying_Index!U33)","v":""},{"$f":"IF(D8=\"\",\"\",IF(Qualifying_Index!BU33=\"PTHP\",BU8*3.413,Qualifying_Index!W33))","v":""},{"$f":"IF(D8=\"\",\"\",IF(Qualifying_Index!BU33=\"PTHP\",Qualifying_Index!W33,\"\"))","v":""},{"$f":"IF(E8=\"\",\"\",Qualifying_Index!BX33)","v":""},{"$f":"IF(E8=\"\",\"\",Qualifying_Index!BY33)","v":""},{"$f":"IF(D8=\"\",\"\",'ASHP Equipment Information'!G131)","v":""},{"$f":"IF(D8=\"\",\"\",'ASHP Equipment Information'!G133)","v":""},{"$f":"IF(D8=\"\",\"\",References!$H$13)","v":""},{"$f":"IF(E8=\"\",\"\",'ASHP Load Calculations'!D93)","v":""},{"$f":"IF(F8=\"\",\"\",'ASHP Load Calculations'!D95)","v":""},{"$f":"IF($E8=\"\",\"\",'ASHP Equipment Information'!D129)","v":""},{"$f":"IF($E8=\"\",\"\",'ASHP Equipment Information'!D131)","v":""},{"$f":"IF($E8=\"\",\"\",'ASHP Equipment Information'!D133)","v":""},{"$f":"IF($E8=\"\",\"\",'ASHP Equipment Information'!D135)","v":""},{"$f":"IF(E8=\"\",\"\",'ASHP Equipment Information'!J57)","v":""},{"$f":"IF(E8=\"\",\"\",'ASHP Equipment Information'!L57)","v":""},{"$f":"IF(D8=\"\",\"\",'ASHP Equipment Information'!Q34/12000)","v":""},{"$f":"IF($D8=\"\",\"\",'ASHP Equipment Information'!P57)","v":""},{"$f":"IF($D8=\"\",\"\",'ASHP Equipment Information'!S57)","v":""},"",null,"",{"$f":"IF($E8=\"\",\"\",IF(References!$A$15=FALSE,0,IF(NOT(ISERROR(SEARCH(\"Ductless Mini Split\",'ASHP Equipment Information'!C34,1))),0,Unit1_QI_CA)))","v":""},null,{"$f":"IF($E8=\"\",\"\",IF(References!$A$15=FALSE,0,IF(NOT(ISERROR(SEARCH(\"Ductless Mini Split\",'ASHP Equipment Information'!C34,1))),0,Unit1_QI_kWh)))","v":""},null,null,{"$f":"IF(NOT(LEFT('ASHP Equipment Information'!C34,3)=\"Geo\"),\"\",INDEX(References!$M$48:$M$51,MATCH('ASHP Equipment Information'!C34,References!$L$48:$L$51,0)))","v":""},null,null,null,null,null,null,null,null,null,null,null,null,null,null,null,null,null,null,null,null,null,null,null,null,null,null,null,null,{"$f":"IF(C8=\"\",\"\",'Customer Information'!$K$11)","v":""}]
[8,null,{"$f":"IF(OR('ASHP Load Calculations'!$G110=\"\",'ASHP Load Calculations'!$G110=\"DNQ\",'ASHP Load Calculations'!$G110=\"Missing Info\"),\"\",INDEX(References!AH$3:AH$34,MATCH(Qualifying_Index!$E34,References!$AE$3:$AE$34,0)))","v":""},{"$f":"IF(OR('ASHP Load Calculations'!$G110=\"\",'ASHP Load Calculations'!$G110=\"DNQ\",'ASHP Load Calculations'!$G110=\"Missing Info\"),\"\",INDEX(References!AG$3:AG$34,MATCH(Qualifying_Index!$E34,References!$AE$3:$AE$34,0)))","v":""},{"$f":"IF(OR('ASHP Load Calculations'!$G110=\"\",'ASHP Load Calculations'!$G110=\"DNQ\",'ASHP Load Calculations'!$G110=\"Missing Info\"),\"\",INDEX(References!AI$3:AI$34,MATCH(Qualifying_Index!$E34,References!$AE$3:$AE$34,0)))","v":""},{"$f":"IF(D9=\"\",\"\",INDEX(References!$AF$3:$AF$34,MATCH(Qualifying_Index!$E34,References!$AE$3:$AE$34,0)))","v":""},{"$f":"IF(D9=\"\",\"\",'Customer Information'!$L$48)","v":""},{"$f":"IF(C9=\"\",\"\",\"Whole House ASHP and ER v\"&Development!$A$2)","v":""},{"$f":"IF(E9=\"\",\"\",Qualifying_Index!CA34)","v":""},{"$f":"IF(E9=\"\",\"\",Qualifying_Index!CB34+Qualifying_Index!CF34)","v":""},{"$f":"IF(G9=\"\",\"\",IF(References!$I$36=TRUE,Qualifying_Index!CE34,Qualifying_Index!CG34))","v":""},{"$f":"IF(G9=\"\",\"\",Qualifying_Index!CH34)","v":""},"","","","","","","",{"$f":"IF($D9=\"\",\"\",INDEX(References!$AM$3:$AM$34,MATCH(ProposedEquipment0!$F9,References!$AF$3:$AF$34,0)))","v":""},{"$f":"IF(D9=\"\",\"\",INDEX(References!$AQ$3:$AQ$34,MATCH(ProposedEquipment0!$F9,References!$AF$3:$AF$34,0)))","v":""},{"$f":"IF(D9=\"\",\"\",INDEX(References!$AR$3:$AR$34,MATCH(ProposedEquipment0!$F9,References!$AF$3:$AF$34,0)))","v":""},{"$f":"IF(D9=\"\",\"\",INDEX(References!$AS$3:$AS$34,MATCH(ProposedEquipment0!$F9,References!$AF$3:$AF$34,0)))","v":""},{"$f":"IF(D9=\"\",\"\",INDEX(References!$AT$3:$AT$34,MATCH(ProposedEquipment0!$F9,References!$AF$3:$AF$34,0)))","v":""},{"$f":"IF(D9=\"\",\"\",ROUND((I9*T9)/(1-W9)*(1-U9+V9),References!$B$4))","v":""},{"$f":"IF(D9=\"\",\"\",ROUND(J9/(1-X9)*(1-U9+V9),References!$B$5))","v":""},{"$f":"IF(D9=\"\",\"\",ROUND((K9)/(1-W9)*(1-U9+V9),References!$B$4))","v":""},{"$f":"IF(D9=\"\",\"\",ROUND(L9/(1-X9)*(1-U9+V9),References!$B$5))","v":""},"","","","","","",{"$f":"IF(OR(References!$H$13=\"\",AE9=\"\"),\"\",IF(Qualifying_Index!CL34>0,Qualifying_Index!CD34+Qualifying_Index!CL34,Qualifying_Index!CD34))","v":""},{"$f":"IF(OR(References!$H$13=\"\",AE9=\"\"),\"\",IF(References!$J$36=FALSE,0,Qualifying_Index!CN34))","v":""},{"$f":"IF(OR(References!$H$13=\"\",AE9=\"\"),\"\",Qualifying_Index!CD34+Qualifying_Index!CN34)","v":""},{"$f":"IF(AE9=\"\",\"\",IF(Qualifying_Index!CI34<0,Qualifying_Index!CC34,Qualifying_Index!CC34+Qualifying_Index!CI34))","v":""},{"$f":"IF('ASHP Equipment Information'!G152=\"\",\"\",IF(Qualifying_Index!CI34>0,Qualifying_Index!CJ34,Qualifying_Index!CJ34+Qualifying_Index!CI34))","v":""},"",null,null,{"$f":"IF(D9=\"\",\"\",Admin!AE11)","v":""},{"$f":"IF(OR('ASHP Load Calculations'!$G110=\"DNQ\",'ASHP Load Calculations'!$G110=\"\"),\"\",ROUND(IF(AND(AQ9*0.7<'ASHP Load Calculations'!$G110,AQ9>0),AQ9*0.7,'ASHP Load Calculations'!$G110),0))","v":""},{"$f":"IF(OR('ASHP Load Calculations'!$G110=\"DNQ\",AU9=\"\"),\"\",AR9*AU9)","v":""},{"$f":"IF(Qualifying_Index!AM34=\"\",\"\",Qualifying_Index!AM34)","v":""},"",null,null,null,null,null,null,null,null,null,null,null,null,null,null,null,null,null,{"$f":"IF(E9=\"\",\"\",Qualifying_Index!I34)","v":""},{"$f":"IF(F9=\"\",\"\",Qualifying_Index!J34)","v":""},{"$f":"IF(G9=\"\",\"\",Qualifying_Index!K34)","v":""},{"$f":"IF(E9=\"\",\"\",Qualifying_Index!M34)","v":""},{"$f":"IF(D9=\"\",\"\",IF(Qualifying_Index!BU34=\"PTHP\",Qualifying_Index!L34,\"\"))","v":""},{"$f":"IF(D9=\"\",\"\",Qualifying_Index!V34)","v":""},{"$f":"IF(D9=\"\",\"\",Qualifying_Index!U34)","v":""},{"$f":"IF(D9=\"\",\"\",IF(Qualifying_Index!BU34=\"PTHP\",BU9*3.413,Qualifying_Index!W34))","v":""},{"$f":"IF(D9=\"\",\"\",IF(Qualifying_Index!BU34=\"PTHP\",Qualifying_Index!W34,\"\"))","v":""},{"$f":"IF(E9=\"\",\"\",Qualifying_Index!BX34)","v":""},{"$f":"IF(E9=\"\",\"\",Qualifying_Index!BY34)","v":""},{"$f":"IF(D9=\"\",\"\",'ASHP Equipment Information'!G150)","v":""},{"$f":"IF(D9=\"\",\"\",'ASHP Equipment Information'!G152)","v":""},{"$f":"IF(D9=\"\",\"\",References!$H$13)","v":""},{"$f":"IF(E9=\"\",\"\",'ASHP Load Calculations'!D106)","v":""},{"$f":"IF(F9=\"\",\"\",'ASHP Load Calculations'!D108)","v":""},{"$f":"IF($E9=\"\",\"\",'ASHP Equipment Information'!D148)","v":""},{"$f":"IF($E9=\"\",\"\",'ASHP Equipment Information'!D150)","v":""},{"$f":"IF($E9=\"\",\"\",'ASHP Equipment Information'!D152)","v":""},{"$f":"IF($E9=\"\",\"\",'ASHP Equipment Information'!D154)","v":""},{"$f":"IF(E9=\"\",\"\",'ASHP Equipment Information'!J58)","v":""},{"$f":"IF(E9=\"\",\"\",'ASHP Equipment Information'!L58)","v":""},{"$f":"IF(D9=\"\",\"\",'ASHP Equipment Information'!Q35/12000)","v":""},{"$f":"IF($D9=\"\",\"\",'ASHP Equipment Information'!P58)","v":""},{"$f":"IF($D9=\"\",\"\",'ASHP Equipment Information'!S58)","v":""},"",null,"",{"$f":"IF($E9=\"\",\"\",IF(References!$A$15=FALSE,0,IF(NOT(ISERROR(SEARCH(\"Ductless Mini Split\",'ASHP Equipment Information'!C35,1))),0,Unit1_QI_CA)))","v":""},null,{"$f":"IF($E9=\"\",\"\",IF(References!$A$15=FALSE,0,IF(NOT(ISERROR(SEARCH(\"Ductless Mini Split\",'ASHP Equipment Information'!C35,1))),0,Unit1_QI_kWh)))","v":""},null,null,{"$f":"IF(NOT(LEFT('ASHP Equipment Information'!C35,3)=\"Geo\"),\"\",INDEX(References!$M$48:$M$51,MATCH('ASHP Equipment Information'!C35,References!$L$48:$L$51,0)))","v":""},null,null,null,null,null,null,null,null,null,null,null,null,null,null,null,null,null,null,null,null,null,null,null,null,null,null,null,null,{"$f":"IF(C9=\"\",\"\",'Customer Information'!$K$11)","v":""}]
[9,null,{"$f":"IF(OR('ASHP Load Calculations'!$G123=\"\",'ASHP Load Calculations'!$G123=\"DNQ\",'ASHP Load Calculations'!$G123=\"Missing Info\"),\"\",INDEX(References!AH$3:AH$34,MATCH(Qualifying_Index!$E35,References!$AE$3:$AE$34,0)))","v":""},{"$f":"IF(OR('ASHP Load Calculations'!$G123=\"\",'ASHP Load Calculations'!$G123=\"DNQ\",'ASHP Load Calculations'!$G123=\"Missing Info\"),\"\",INDEX(References!AG$3:AG$34,MATCH(Qualifying_Index!$E35,References!$AE$3:$AE$34,0)))","v":""},{"$f":"IF(OR('ASHP Load Calculations'!$G123=\"\",'ASHP Load Calculations'!$G123=\"DNQ\",'ASHP Load Calculations'!$G123=\"Missing Info\"),\"\",INDEX(References!AI$3:AI$34,MATCH(Qualifying_Index!$E35,References!$AE$3:$AE$34,0)))","v":""},{"$f":"IF(D10=\"\",\"\",INDEX(References!$AF$3:$AF$34,MATCH(Qualifying_Index!$E35,References!$AE$3:$AE$34,0)))","v":""},{"$f":"IF(D10=\"\",\"\",'Customer Information'!$L$48)","v":""},{"$f":"IF(C10=\"\",\"\",\"Whole House ASHP and ER v\"&Development!$A$2)","v":""},{"$f":"IF(E10=\"\",\"\",Qualifying_Index!CA35)","v":""},{"$f":"IF(E10=\"\",\"\",Qualifying_Index!CB35+Qualifying_Index!CF35)","v":""},{"$f":"IF(G10=\"\",\"\",IF(References!$I$36=TRUE,Qualifying_Index!CE35,Qualifying_Index!CG35))","v":""},{"$f":"IF(G10=\"\",\"\",Qualifying_Index!CH35)","v":""},"","","","","","","",{"$f":"IF($D10=\"\",\"\",INDEX(References!$AM$3:$AM$34,MATCH(ProposedEquipment0!$F10,References!$AF$3:$AF$34,0)))","v":""},{"$f":"IF(D10=\"\",\"\",INDEX(References!$AQ$3:$AQ$34,MATCH(ProposedEquipment0!$F10,References!$AF$3:$AF$34,0)))","v":""},{"$f":"IF(D10=\"\",\"\",INDEX(References!$AR$3:$AR$34,MATCH(ProposedEquipment0!$F10,References!$AF$3:$AF$34,0)))","v":""},{"$f":"IF(D10=\"\",\"\",INDEX(References!$AS$3:$AS$34,MATCH(ProposedEquipment0!$F10,References!$AF$3:$AF$34,0)))","v":""},{"$f":"IF(D10=\"\",\"\",INDEX(References!$AT$3:$AT$34,MATCH(ProposedEquipment0!$F10,References!$AF$3:$AF$34,0)))","v":""},{"$f":"IF(D10=\"\",\"\",ROUND((I10*T10)/(1-W10)*(1-U10+V10),References!$B$4))","v":""},{"$f":"IF(D10=\"\",\"\",ROUND(J10/(1-X10)*(1-U10+V10),References!$B$5))","v":""},{"$f":"IF(D10=\"\",\"\",ROUND((K10)/(1-W10)*(1-U10+V10),References!$B$4))","v":""},{"$f":"IF(D10=\"\",\"\",ROUND(L10/(1-X10)*(1-U10+V10),References!$B$5))","v":""},"","","","","","",{"$f":"IF(OR(References!$H$13=\"\",AE10=\"\"),\"\",IF(Qualifying_Index!CL35>0,Qualifying_Index!CD35+Qualifying_Index!CL35,Qualifying_Index!CD35))","v":""},{"$f":"IF(OR(References!$H$13=\"\",AE10=\"\"),\"\",IF(References!$J$36=FALSE,0,Qualifying_Index!CN35))","v":""},{"$f":"IF(OR(References!$H$13=\"\",AE10=\"\"),\"\",Qualifying_Index!CD35+Qualifying_Index!CN35)","v":""},{"$f":"IF(AE10=\"\",\"\",IF(Qualifying_Index!CI35<0,Qualifying_Index!CC35,Qualifying_Index!CC35+Qualifying_Index!CI35))","v":""},{"$f":"IF('ASHP Equipment Information'!G171=\"\",\"\",IF(Qualifying_Index!CI35>0,Qualifying_Index!CJ35,Qualifying_Index!CJ35+Qualifying_Index!CI35))","v":""},"",null,null,{"$f":"IF(D10=\"\",\"\",Admin!AE12)","v":""},{"$f":"IF(OR('ASHP Load Calculations'!$G123=\"DNQ\",'ASHP Load Calculations'!$G123=\"\"),\"\",ROUND(IF(AND(AQ10*0.7<'ASHP Load Calculations'!$G123,AQ10>0),AQ10*0.7,'ASHP Load Calculations'!$G123),0))","v":""},{"$f":"IF(OR('ASHP Load Calculations'!$G123=\"DNQ\",AU10=\"\"),\"\",AR10*AU10)","v":""},{"$f":"IF(Qualifying_Index!AM35=\"\",\"\",Qualifying_Index!AM35)","v":""},"",null,null,null,null,null,null,null,null,null,null,null,null,null,null,null,null,null,{"$f":"IF(E10=\"\",\"\",Qualifying_Index!I35)","v":""},{"$f":"IF(F10=\"\",\"\",Qualifying_Index!J35)","v":""},{"$f":"IF(G10=\"\",\"\",Qualifying_Index!K35)","v":""},{"$f":"IF(E10=\"\",\"\",Qualifying_Index!M35)","v":""},{"$f":"IF(D10=\"\",\"\",IF(Qualifying_Index!BU35=\"PTHP\",Qualifying_Index!L35,\"\"))","v":""},{"$f":"IF(D10=\"\",\"\",Qualifying_Index!V35)","v":""},{"$f":"IF(D10=\"\",\"\",Qualifying_Index!U35)","v":""},{"$f":"IF(D10=\"\",\"\",IF(Qualifying_Index!BU35=\"PTHP\",BU10*3.413,Qualifying_Index!W35))","v":""},{"$f":"IF(D10=\"\",\"\",IF(Qualifying_Index!BU35=\"PTHP\",Qualifying_Index!W35,\"\"))","v":""},{"$f":"IF(E10=\"\",\"\",Qualifying_Index!BX35)","v":""},{"$f":"IF(E10=\"\",\"\",Qualifying_Index!BY35)","v":""},{"$f":"IF(D10=\"\",\"\",'ASHP Equipment Information'!G169)","v":""},{"$f":"IF(D10=\"\",\"\",'ASHP Equipment Information'!G171)","v":""},{"$f":"IF(D10=\"\",\"\",References!$H$13)","v":""},{"$f":"IF(E10=\"\",\"\",'ASHP Load Calculations'!D119)","v":""},{"$f":"IF(F10=\"\",\"\",'ASHP Load Calculations'!D121)","v":""},{"$f":"IF($E10=\"\",\"\",'ASHP Equipment Information'!D167)","v":""},{"$f":"IF($E10=\"\",\"\",'ASHP Equipment Information'!D169)","v":""},{"$f":"IF($E10=\"\",\"\",'ASHP Equipment Information'!D171)","v":""},{"$f":"IF($E10=\"\",\"\",'ASHP Equipment Information'!D173)","v":""},{"$f":"IF(E10=\"\",\"\",'ASHP Equipment Information'!J59)","v":""},{"$f":"IF(E10=\"\",\"\",'ASHP Equipment Information'!L59)","v":""},{"$f":"IF(D10=\"\",\"\",'ASHP Equipment Information'!Q36/12000)","v":""},{"$f":"IF($D10=\"\",\"\",'ASHP Equipment Information'!P59)","v":""},{"$f":"IF($D10=\"\",\"\",'ASHP Equipment Information'!S59)","v":""},"",null,"",{"$f":"IF($E10=\"\",\"\",IF(References!$A$15=FALSE,0,IF(NOT(ISERROR(SEARCH(\"Ductless Mini Split\",'ASHP Equipment Information'!C36,1))),0,Unit1_QI_CA)))","v":""},null,{"$f":"IF($E10=\"\",\"\",IF(References!$A$15=FALSE,0,IF(NOT(ISERROR(SEARCH(\"Ductless Mini Split\",'ASHP Equipment Information'!C36,1))),0,Unit1_QI_kWh)))","v":""},null,null,{"$f":"IF(NOT(LEFT('ASHP Equipment Information'!C36,3)=\"Geo\"),\"\",INDEX(References!$M$48:$M$51,MATCH('ASHP Equipment Information'!C36,References!$L$48:$L$51,0)))","v":""},null,null,null,null,null,null,null,null,null,null,null,null,null,null,null,null,null,null,null,null,null,null,null,null,null,null,null,null,{"$f":"IF(C10=\"\",\"\",'Customer Information'!$K$11)","v":""}]
[10,null,{"$f":"IF(OR('ASHP Load Calculations'!$G136=\"\",'ASHP Load Calculations'!$G136=\"DNQ\",'ASHP Load Calculations'!$G136=\"Missing Info\"),\"\",INDEX(References!AH$3:AH$34,MATCH(Qualifying_Index!$E36,References!$AE$3:$AE$34,0)))","v":""},{"$f":"IF(OR('ASHP Load Calculations'!$G136=\"\",'ASHP Load Calculations'!$G136=\"DNQ\",'ASHP Load Calculations'!$G136=\"Missing Info\"),\"\",INDEX(References!AG$3:AG$34,MATCH(Qualifying_Index!$E36,References!$AE$3:$AE$34,0)))","v":""},{"$f":"IF(OR('ASHP Load Calculations'!$G136=\"\",'ASHP Load Calculations'!$G136=\"DNQ\",'ASHP Load Calculations'!$G136=\"Missing Info\"),\"\",INDEX(References!AI$3:AI$34,MATCH(Qualifying_Index!$E36,References!$AE$3:$AE$34,0)))","v":""},{"$f":"IF(D11=\"\",\"\",INDEX(References!$AF$3:$AF$34,MATCH(Qualifying_Index!$E36,References!$AE$3:$AE$34,0)))","v":""},{"$f":"IF(D11=\"\",\"\",'Customer Information'!$L$48)","v":""},{"$f":"IF(C11=\"\",\"\",\"Whole House ASHP and ER v\"&Development!$A$2)","v":""},{"$f":"IF(E11=\"\",\"\",Qualifying_Index!CA36)","v":""},{"$f":"IF(E11=\"\",\"\",Qualifying_Index!CB36+Qualifying_Index!CF36)","v":""},{"$f":"IF(G11=\"\",\"\",IF(References!$I$36=TRUE,Qualifying_Index!CE36,Qualifying_Index!CG36))","v":""},{"$f":"IF(G11=\"\",\"\",Qualifying_Index!CH36)","v":""},"","","","","","","",{"$f":"IF($D11=\"\",\"\",INDEX(References!$AM$3:$AM$34,MATCH(ProposedEquipment0!$F11,References!$AF$3:$AF$34,0)))","v":""},{"$f":"IF(D11=\"\",\"\",INDEX(References!$AQ$3:$AQ$34,MATCH(ProposedEquipment0!$F11,References!$AF$3:$AF$34,0)))","v":""},{"$f":"IF(D11=\"\",\"\",INDEX(References!$AR$3:$AR$34,MATCH(ProposedEquipment0!$F11,References!$AF$3:$AF$34,0)))","v":""},{"$f":"IF(D11=\"\",\"\",INDEX(References!$AS$3:$AS$34,MATCH(ProposedEquipment0!$F11,References!$AF$3:$AF$34,0)))","v":""},{"$f":"IF(D11=\"\",\"\",INDEX(References!$AT$3:$AT$34,MATCH(ProposedEquipment0!$F11,References!$AF$3:$AF$34,0)))","v":""},{"$f":"IF(D11=\"\",\"\",ROUND((I11*T11)/(1-W11)*(1-U11+V11),References!$B$4))","v":""},{"$f":"IF(D11=\"\",\"\",ROUND(J11/(1-X11)*(1-U11+V11),References!$B$5))","v":""},{"$f":"IF(D11=\"\",\"\",ROUND((K11)/(1-W11)*(1-U11+V11),References!$B$4))","v":""},{"$f":"IF(D11=\"\",\"\",ROUND(L11/(1-X11)*(1-U11+V11),References!$B$5))","v":""},"","","","","","",{"$f":"IF(OR(References!$H$13=\"\",AE11=\"\"),\"\",IF(Qualifying_Index!CL36>0,Qualifying_Index!CD36+Qualifying_Index!CL36,Qualifying_Index!CD36))","v":""},{"$f":"IF(OR(References!$H$13=\"\",AE11=\"\"),\"\",IF(References!$J$36=FALSE,0,Qualifying_Index!CN36))","v":""},{"$f":"IF(OR(References!$H$13=\"\",AE11=\"\"),\"\",Qualifying_Index!CD36+Qualifying_Index!CN36)","v":""},{"$f":"IF(AE11=\"\",\"\",IF(Qualifying_Index!CI36<0,Qualifying_Index!CC36,Qualifying_Index!CC36+Qualifying_Index!CI36))","v":""},{"$f":"IF('ASHP Equipment Information'!G190=\"\",\"\",IF(Qualifying_Index!CI36>0,Qualifying_Index!CJ36,Qualifying_Index!CJ36+Qualifying_Index!CI36))","v":""},"",null,null,{"$f":"IF(D11=\"\",\"\",Admin!AE13)","v":""},{"$f":"IF(OR('ASHP Load Calculations'!$G136=\"DNQ\",'ASHP Load Calculations'!$G136=\"\"),\"\",ROUND(IF(AND(AQ11*0.7<'ASHP Load Calculations'!$G136,AQ11>0),AQ11*0.7,'ASHP Load Calculations'!$G136),0))","v":""},{"$f":"IF(OR('ASHP Load Calculations'!$G136=\"DNQ\",AU11=\"\"),\"\",AR11*AU11)","v":""},{"$f":"IF(Qualifying_Index!AM36=\"\",\"\",Qualifying_Index!AM36)","v":""},"",null,null,null,null,null,null,null,null,null,null,null,null,null,null,null,null,null,{"$f":"IF(E11=\"\",\"\",Qualifying_Index!I36)","v":""},{"$f":"IF(F11=\"\",\"\",Qualifying_Index!J36)","v":""},{"$f":"IF(G11=\"\",\"\",Qualifying_Index!K36)","v":""},{"$f":"IF(E11=\"\",\"\",Qualifying_Index!M36)","v":""},{"$f":"IF(D11=\"\",\"\",IF(Qualifying_Index!BU36=\"PTHP\",Qualifying_Index!L36,\"\"))","v":""},{"$f":"IF(D11=\"\",\"\",Qualifying_Index!V36)","v":""},{"$f":"IF(D11=\"\",\"\",Qualifying_Index!U36)","v":""},{"$f":"IF(D11=\"\",\"\",IF(Qualifying_Index!BU36=\"PTHP\",BU11*3.413,Qualifying_Index!W36))","v":""},{"$f":"IF(D11=\"\",\"\",IF(Qualifying_Index!BU36=\"PTHP\",Qualifying_Index!W36,\"\"))","v":""},{"$f":"IF(E11=\"\",\"\",Qualifying_Index!BX36)","v":""},{"$f":"IF(E11=\"\",\"\",Qualifying_Index!BY36)","v":""},{"$f":"IF(D11=\"\",\"\",'ASHP Equipment Information'!G188)","v":""},{"$f":"IF(D11=\"\",\"\",'ASHP Equipment Information'!G190)","v":""},{"$f":"IF(D11=\"\",\"\",References!$H$13)","v":""},{"$f":"IF(E11=\"\",\"\",'ASHP Load Calculations'!D132)","v":""},{"$f":"IF(F11=\"\",\"\",'ASHP Load Calculations'!D134)","v":""},{"$f":"IF($E11=\"\",\"\",'ASHP Equipment Information'!D186)","v":""},{"$f":"IF($E11=\"\",\"\",'ASHP Equipment Information'!D188)","v":""},{"$f":"IF($E11=\"\",\"\",'ASHP Equipment Information'!D190)","v":""},{"$f":"IF($E11=\"\",\"\",'ASHP Equipment Information'!D192)","v":""},{"$f":"IF(E11=\"\",\"\",'ASHP Equipment Information'!J60)","v":""},{"$f":"IF(E11=\"\",\"\",'ASHP Equipment Information'!L60)","v":""},{"$f":"IF(D11=\"\",\"\",'ASHP Equipment Information'!Q37/12000)","v":""},{"$f":"IF($D11=\"\",\"\",'ASHP Equipment Information'!P60)","v":""},{"$f":"IF($D11=\"\",\"\",'ASHP Equipment Information'!S60)","v":""},"",null,"",{"$f":"IF($E11=\"\",\"\",IF(References!$A$15=FALSE,0,IF(NOT(ISERROR(SEARCH(\"Ductless Mini Split\",'ASHP Equipment Information'!C37,1))),0,Unit1_QI_CA)))","v":""},null,{"$f":"IF($E11=\"\",\"\",IF(References!$A$15=FALSE,0,IF(NOT(ISERROR(SEARCH(\"Ductless Mini Split\",'ASHP Equipment Information'!C37,1))),0,Unit1_QI_kWh)))","v":""},null,null,{"$f":"IF(NOT(LEFT('ASHP Equipment Information'!C37,3)=\"Geo\"),\"\",INDEX(References!$M$48:$M$51,MATCH('ASHP Equipment Information'!C37,References!$L$48:$L$51,0)))","v":""},null,null,null,null,null,null,null,null,null,null,null,null,null,null,null,null,null,null,null,null,null,null,null,null,null,null,null,null,{"$f":"IF(C11=\"\",\"\",'Customer Information'!$K$11)","v":""}]
[null,null,null,null,null,null,null,null,null,null,null,null,null,"",null,null,"",null,null,null,null,null,null,null,null,null,null,null,null,null,null,null,null,null,null,null,null,null,null,null,null,null,null,null,null,{"$f":"IF(Qualifying_Index!AK37=\"\",\"\",Qualifying_Index!AK37)","v":""}]
[1,null,{"$f":"IF(D13=\"\",\"\",\"Cooling - HVAC Equipment\")","v":""},{"$f":"IF('Smart T-Stats'!K21=\"\",\"\",\"Residential HVAC Other\")","v":""},{"$f":"IF(D13=\"\",\"\",INDEX(References!$AI$33:$AI$40,MATCH(Qualifying_Index!T42,References!$AE$33:$AE$40,0)))","v":""},{"$f":"IF(D13=\"\",\"\",INDEX(References!$AF$33:$AF$40,MATCH(Qualifying_Index!T42,References!$AE$33:$AE$40,0)))","v":""},{"$f":"IF(D13=\"\",\"\",'Customer Information'!$L$48)","v":""},{"$f":"IF(C13=\"\",\"\",\"Whole House ASHP and ER v\"&Development!$A$2)","v":""},{"$f":"IF($D13=\"\",\"\",Qualifying_Index!X42)","v":""},{"$f":"IF($D13=\"\",\"\",Qualifying_Index!N42)","v":""},null,null,null,"",{"$f":"IF(I13=\"\",\"\",I13*N13*T13)","v":""},{"$f":"IF(J13=\"\",\"\",J13*N13)","v":""},null,null,null,{"$f":"IF($D13=\"\",\"\",INDEX(References!$AM$19:$AM$40,MATCH(ProposedEquipment0!$F13,References!$AF$19:$AF$40,0)))","v":""},{"$f":"IF($D13=\"\",\"\",INDEX(References!$AQ$19:$AQ$40,MATCH(ProposedEquipment0!$F13,References!$AF$19:$AF$40,0)))","v":""},{"$f":"IF($D13=\"\",\"\",INDEX(References!$AR$19:$AR$40,MATCH(ProposedEquipment0!$F13,References!$AF$19:$AF$40,0)))","v":""},{"$f":"IF($D13=\"\",\"\",INDEX(References!$AS$19:$AS$40,MATCH(ProposedEquipment0!$F13,References!$AF$19:$AF$40,0)))","v":""},{"$f":"IF($D13=\"\",\"\",INDEX(References!$AT$19:$AT$40,MATCH(ProposedEquipment0!$F13,References!$AF$19:$AF$40,0)))","v":""},{"$f":"IF(D13=\"\",\"\",ROUND((I13*T13)/(1-W13)*(1-U13+V13),References!$B$4))","v":""},{"$f":"IF(D13=\"\",\"\",ROUND(J13/(1-X13)*(1-U13+V13),References!$B$5))","v":""},{"$f":"IF(D13=\"\",\"\",ROUND((K13*T13)/(1-W13)*(1-U13+V13),References!$B$4))","v":""},{"$f":"IF(D13=\"\",\"\",ROUND(L13/(1-X13)*(1-U13+V13),References!$B$5))","v":""},{"$f":"IF(D13=\"\",\"\",Z13-AB13)","v":""},{"$f":"IF(D13=\"\",\"\",Y13*AU13)","v":""},{"$f":"IF(D13=\"\",\"\",Z13*AU13)","v":""},{"$f":"IF(D13=\"\",\"\",AA13*AU13)","v":""},{"$f":"IF(D13=\"\",\"\",AB13*AU13)","v":""},{"$f":"IF(D13=\"\",\"\",AE13-AG13)","v":""},{"$f":"IF(OR(References!$H$13=\"\",AE13=\"\"),\"\",Qualifying_Index!P42)","v":""},{"$f":"IF(OR(References!$H$13=\"\",AE13=\"\"),\"\",IF(References!$J$36=FALSE,0,Qualifying_Index!BM38))","v":""},{"$f":"IF(OR(References!$H$13=\"\",AE13=\"\"),\"\",Qualifying_Index!P42)","v":""},{"$f":"IF(D13=\"\",\"\",Qualifying_Index!O42)","v":""},{"$f":"IF(D13=\"\",\"\",0)","v":""},{"$f":"IF(D13=\"\",\"\",AL13+AM13)","v":""},null,null,{"$f":"IF(D13=\"\",\"\",Admin!AE14)","v":""},{"$f":"IF(AU13=\"\",\"\",AU13*Qualifying_Index!W42)","v":""},{"$f":"IF(OR('ASHP Equipment Information'!V39=\"DNQ\",AU13=\"\"),\"\",AR13*AU13)","v":""},null,{"$f":"IF(D13=\"\",\"\",1)","v":""},null,null,null,null,null,null,null,null,null,null,null,null,null,null,null,null,null,null,null,null,null,null,null,null,null,null,{"$f":"IF(E13=\"\",\"\",Qualifying_Index!J42)","v":""},{"$f":"IF(E13=\"\",\"\",Qualifying_Index!K42)","v":""},null,null,{"$f":"IF(D13=\"\",\"\",References!$H$13)","v":""},null,null,null,null,{"$f":"IF($E13=\"\",\"\",'Smart T-Stats'!F21)","v":""},null,null,null,null,null,null,null,null,null,null,null,null,{"$f":"IF($E13=\"\",\"\",'Smart T-Stats'!H21)","v":""},{"$f":"IF($E13=\"\",\"\",'Smart T-Stats'!I21)","v":""},null,null,null,null,null,null,null,null,null,null,null,null,null,null,null,null,null,null,null,null,null,null,null,null,null,null,null,null,null,{"$f":"IF(C13=\"\",\"\",'Customer Information'!$K$11)","v":""}]
[2,null,"",{"$f":"IF('Smart T-Stats'!K22=\"\",\"\",\"Residential HVAC Other\")","v":""},{"$f":"IF(D14=\"\",\"\",INDEX(References!$AI$33:$AI$40,MATCH(Qualifying_Index!T43,References!$AE$33:$AE$40,0)))","v":""},{"$f":"IF(D14=\"\",\"\",INDEX(References!$AF$33:$AF$40,MATCH(Qualifying_Index!T43,References!$AE$33:$AE$40,0)))","v":""},{"$f":"IF(D14=\"\",\"\",'Customer Information'!$L$48)","v":""},{"$f":"IF(C14=\"\",\"\",\"Whole House ASHP and ER v\"&Development!$A$2)","v":""},{"$f":"IF($D14=\"\",\"\",Qualifying_Index!X43)","v":""},{"$f":"IF($D14=\"\",\"\",Qualifying_Index!N43)","v":""},null,null,null,"","","",null,null,null,{"$f":"IF($D14=\"\",\"\",INDEX(References!$AM$19:$AM$40,MATCH(ProposedEquipment0!$F14,References!$AF$19:$AF$40,0)))","v":""},{"$f":"IF($D14=\"\",\"\",INDEX(References!$AQ$19:$AQ$40,MATCH(ProposedEquipment0!$F14,References!$AF$19:$AF$40,0)))","v":""},{"$f":"IF($D14=\"\",\"\",INDEX(References!$AR$19:$AR$40,MATCH(ProposedEquipment0!$F14,References!$AF$19:$AF$40,0)))","v":""},{"$f":"IF($D14=\"\",\"\",INDEX(References!$AS$19:$AS$40,MATCH(ProposedEquipment0!$F14,References!$AF$19:$AF$40,0)))","v":""},{"$f":"IF($D14=\"\",\"\",INDEX(References!$AT$19:$AT$40,MATCH(ProposedEquipment0!$F14,References!$AF$19:$AF$40,0)))","v":""},{"$f":"IF(D14=\"\",\"\",ROUND((I14*T14)/(1-W14)*(1-U14+V14),References!$B$4))","v":""},{"$f":"IF(D14=\"\",\"\",ROUND(J14/(1-X14)*(1-U14+V14),References!$B$5))","v":""},{"$f":"IF(D14=\"\",\"\",ROUND((K14*T14)/(1-W14)*(1-U14+V14),References!$B$4))","v":""},{"$f":"IF(D14=\"\",\"\",ROUND(L14/(1-X14)*(1-U14+V14),References!$B$5))","v":""},"","","","","","",{"$f":"IF(OR(References!$H$13=\"\",AE14=\"\"),\"\",Qualifying_Index!P43)","v":""},{"$f":"IF(OR(References!$H$13=\"\",AE14=\"\"),\"\",IF(References!$J$36=FALSE,0,Qualifying_Index!BM39))","v":""},{"$f":"IF(OR(References!$H$13=\"\",AE14=\"\"),\"\",Qualifying_Index!P43)","v":""},{"$f":"IF(D14=\"\",\"\",Qualifying_Index!O43)","v":""},{"$f":"IF(D14=\"\",\"\",0)","v":""},{"$f":"IF(D14=\"\",\"\",AL14+AM14)","v":""},null,null,{"$f":"IF(D14=\"\",\"\",Admin!AE15)","v":""},{"$f":"IF(AU14=\"\",\"\",AU14*Qualifying_Index!W43)","v":""},{"$f":"IF(OR('ASHP Equipment Information'!V40=\"DNQ\",AU14=\"\"),\"\",AR14*AU14)","v":""},null,"",null,null,null,null,null,null,null,null,null,null,null,null,null,null,null,null,null,null,null,null,null,null,null,null,null,null,{"$f":"IF(E14=\"\",\"\",Qualifying_Index!J43)","v":""},{"$f":"IF(E14=\"\",\"\",Qualifying_Index!K43)","v":""},null,null,{"$f":"IF(D14=\"\",\"\",References!$H$13)","v":""},null,null,null,null,{"$f":"IF($E14=\"\",\"\",'Smart T-Stats'!F22)","v":""},null,null,null,null,null,null,null,null,null,null,null,null,{"$f":"IF($E14=\"\",\"\",'Smart T-Stats'!H22)","v":""},{"$f":"IF($E14=\"\",\"\",'Smart T-Stats'!I22)","v":""},null,null,null,null,null,null,null,null,null,null,null,null,null,null,null,null,null,null,null,null,null,null,null,null,null,null,null,null,null,{"$f":"IF(C14=\"\",\"\",'Customer Information'!$K$11)","v":""}]
[3,null,"",{"$f":"IF('Smart T-Stats'!K23=\"\",\"\",\"Residential HVAC Other\")","v":""},{"$f":"IF(D15=\"\",\"\",INDEX(References!$AI$33:$AI$40,MATCH(Qualifying_Index!T44,References!$AE$33:$AE$40,0)))","v":""},{"$f":"IF(D15=\"\",\"\",INDEX(References!$AF$33:$AF$40,MATCH(Qualifying_Index!T44,References!$AE$33:$AE$40,0)))","v":""},{"$f":"IF(D15=\"\",\"\",'Customer Information'!$L$48)","v":""},{"$f":"IF(C15=\"\",\"\",\"Whole House ASHP and ER v\"&Development!$A$2)","v":""},{"$f":"IF($D15=\"\",\"\",Qualifying_Index!X44)","v":""},{"$f":"IF($D15=\"\",\"\",Qualifying_Index!N44)","v":""},null,null,null,"","","",null,null,null,{"$f":"IF($D15=\"\",\"\",INDEX(References!$AM$19:$AM$40,MATCH(ProposedEquipment0!$F15,References!$AF$19:$AF$40,0)))","v":""},{"$f":"IF($D15=\"\",\"\",INDEX(References!$AQ$19:$AQ$40,MATCH(ProposedEquipment0!$F15,References!$AF$19:$AF$40,0)))","v":""},{"$f":"IF($D15=\"\",\"\",INDEX(References!$AR$19:$AR$40,MATCH(ProposedEquipment0!$F15,References!$AF$19:$AF$40,0)))","v":""},{"$f":"IF($D15=\"\",\"\",INDEX(References!$AS$19:$AS$40,MATCH(ProposedEquipment0!$F15,References!$AF$19:$AF$40,0)))","v":""},{"$f":"IF($D15=\"\",\"\",INDEX(References!$AT$19:$AT$40,MATCH(ProposedEquipment0!$F15,References!$AF$19:$AF$40,0)))","v":""},{"$f":"IF(D15=\"\",\"\",ROUND((I15*T15)/(1-W15)*(1-U15+V15),References!$B$4))","v":""},{"$f":"IF(D15=\"\",\"\",ROUND(J15/(1-X15)*(1-U15+V15),References!$B$5))","v":""},{"$f":"IF(D15=\"\",\"\",ROUND((K15*T15)/(1-W15)*(1-U15+V15),References!$B$4))","v":""},{"$f":"IF(D15=\"\",\"\",ROUND(L15/(1-X15)*(1-U15+V15),References!$B$5))","v":""},"","","","","","",{"$f":"IF(OR(References!$H$13=\"\",AE15=\"\"),\"\",Qualifying_Index!P44)","v":""},{"$f":"IF(OR(References!$H$13=\"\",AE15=\"\"),\"\",IF(References!$J$36=FALSE,0,Qualifying_Index!BM40))","v":""},{"$f":"IF(OR(References!$H$13=\"\",AE15=\"\"),\"\",Qualifying_Index!P44)","v":""},{"$f":"IF(D15=\"\",\"\",Qualifying_Index!O44)","v":""},"","",null,null,{"$f":"IF(D15=\"\",\"\",Admin!AE16)","v":""},{"$f":"IF(AU15=\"\",\"\",AU15*Qualifying_Index!W44)","v":""},{"$f":"IF(OR('ASHP Equipment Information'!V41=\"DNQ\",AU15=\"\"),\"\",AR15*AU15)","v":""},null,"",null,null,null,null,null,null,null,null,null,null,null,null,null,null,null,null,null,null,null,null,null,null,null,null,null,null,{"$f":"IF(E15=\"\",\"\",Qualifying_Index!J44)","v":""},{"$f":"IF(E15=\"\",\"\",Qualifying_Index!K44)","v":""},null,null,{"$f":"IF(D15=\"\",\"\",References!$H$13)","v":""},null,null,null,null,{"$f":"IF($E15=\"\",\"\",'Smart T-Stats'!F23)","v":""},null,null,null,null,null,null,null,null,null,null,null,null,{"$f":"IF($E15=\"\",\"\",'Smart T-Stats'!H23)","v":""},{"$f":"IF($E15=\"\",\"\",'Smart T-Stats'!I23)","v":""},null,null,null,null,null,null,null,null,null,null,null,null,null,null,null,null,null,null,null,null,null,null,null,null,null,null,null,null,null,{"$f":"IF(C15=\"\",\"\",'Customer Information'!$K$11)","v":""}]
[4,null,"",{"$f":"IF('Smart T-Stats'!K24=\"\",\"\",\"Residential HVAC Other\")","v":""},{"$f":"IF(D16=\"\",\"\",INDEX(References!$AI$33:$AI$40,MATCH(Qualifying_Index!T45,References!$AE$33:$AE$40,0)))","v":""},{"$f":"IF(D16=\"\",\"\",INDEX(References!$AF$33:$AF$40,MATCH(Qualifying_Index!T45,References!$AE$33:$AE$40,0)))","v":""},{"$f":"IF(D16=\"\",\"\",'Customer Information'!$L$48)","v":""},{"$f":"IF(C16=\"\",\"\",\"Whole House ASHP and ER v\"&Development!$A$2)","v":""},{"$f":"IF($D16=\"\",\"\",Qualifying_Index!X45)","v":""},{"$f":"IF($D16=\"\",\"\",Qualifying_Index!N45)","v":""},null,null,null,"","","",null,null,null,{"$f":"IF($D16=\"\",\"\",INDEX(References!$AM$19:$AM$40,MATCH(ProposedEquipment0!$F16,References!$AF$19:$AF$40,0)))","v":""},{"$f":"IF($D16=\"\",\"\",INDEX(References!$AQ$19:$AQ$40,MATCH(ProposedEquipment0!$F16,References!$AF$19:$AF$40,0)))","v":""},{"$f":"IF($D16=\"\",\"\",INDEX(References!$AR$19:$AR$40,MATCH(ProposedEquipment0!$F16,References!$AF$19:$AF$40,0)))","v":""},{"$f":"IF($D16=\"\",\"\",INDEX(References!$AS$19:$AS$40,MATCH(ProposedEquipment0!$F16,References!$AF$19:$AF$40,0)))","v":""},{"$f":"IF($D16=\"\",\"\",INDEX(References!$AT$19:$AT$40,MATCH(ProposedEquipment0!$F16,References!$AF$19:$AF$40,0)))","v":""},{"$f":"IF(D16=\"\",\"\",ROUND((I16*T16)/(1-W16)*(1-U16+V16),References!$B$4))","v":""},{"$f":"IF(D16=\"\",\"\",ROUND(J16/(1-X16)*(1-U16+V16),References!$B$5))","v":""},{"$f":"IF(D16=\"\",\"\",ROUND((K16*T16)/(1-W16)*(1-U16+V16),References!$B$4))","v":""},{"$f":"IF(D16=\"\",\"\",ROUND(L16/(1-X16)*(1-U16+V16),References!$B$5))","v":""},"","","","","","",{"$f":"IF(OR(References!$H$13=\"\",AE16=\"\"),\"\",Qualifying_Index!P45)","v":""},{"$f":"IF(OR(References!$H$13=\"\",AE16=\"\"),\"\",IF(References!$J$36=FALSE,0,Qualifying_Index!BM41))","v":""},{"$f":"IF(OR(References!$H$13=\"\",AE16=\"\"),\"\",Qualifying_Index!P45)","v":""},{"$f":"IF(D16=\"\",\"\",Qualifying_Index!O45)","v":""},"","",null,null,{"$f":"IF(D16=\"\",\"\",Admin!AE17)","v":""},{"$f":"IF(AU16=\"\",\"\",AU16*Qualifying_Index!W45)","v":""},{"$f":"IF(OR('ASHP Equipment Information'!V42=\"DNQ\",AU16=\"\"),\"\",AR16*AU16)","v":""},null,"",null,null,null,null,null,null,null,null,null,null,null,null,null,null,null,null,null,null,null,null,null,null,null,null,null,null,{"$f":"IF(E16=\"\",\"\",Qualifying_Index!J45)","v":""},{"$f":"IF(E16=\"\",\"\",Qualifying_Index!K45)","v":""},null,null,{"$f":"IF(D16=\"\",\"\",References!$H$13)","v":""},null,null,null,null,{"$f":"IF($E16=\"\",\"\",'Smart T-Stats'!F24)","v":""},null,null,null,null,null,null,null,null,null,null,null,null,{"$f":"IF($E16=\"\",\"\",'Smart T-Stats'!H24)","v":""},{"$f":"IF($E16=\"\",\"\",'Smart T-Stats'!I24)","v":""},null,null,null,null,null,null,null,null,null,null,null,null,null,null,null,null,null,null,null,null,null,null,null,null,null,null,null,null,null,{"$f":"IF(C16=\"\",\"\",'Customer Information'!$K$11)","v":""}]
[5,null,"",{"$f":"IF('Smart T-Stats'!K25=\"\",\"\",\"Residential HVAC Other\")","v":""},{"$f":"IF(D17=\"\",\"\",INDEX(References!$AI$33:$AI$40,MATCH(Qualifying_Index!T46,References!$AE$33:$AE$40,0)))","v":""},{"$f":"IF(D17=\"\",\"\",INDEX(References!$AF$33:$AF$40,MATCH(Qualifying_Index!T46,References!$AE$33:$AE$40,0)))","v":""},{"$f":"IF(D17=\"\",\"\",'Customer Information'!$L$48)","v":""},{"$f":"IF(C17=\"\",\"\",\"Whole House ASHP and ER v\"&Development!$A$2)","v":""},{"$f":"IF($D17=\"\",\"\",Qualifying_Index!X46)","v":""},{"$f":"IF($D17=\"\",\"\",Qualifying_Index!N46)","v":""},null,null,null,"","","",null,null,null,{"$f":"IF($D17=\"\",\"\",INDEX(References!$AM$19:$AM$40,MATCH(ProposedEquipment0!$F17,References!$AF$19:$AF$40,0)))","v":""},{"$f":"IF($D17=\"\",\"\",INDEX(References!$AQ$19:$AQ$40,MATCH(ProposedEquipment0!$F17,References!$AF$19:$AF$40,0)))","v":""},{"$f":"IF($D17=\"\",\"\",INDEX(References!$AR$19:$AR$40,MATCH(ProposedEquipment0!$F17,References!$AF$19:$AF$40,0)))","v":""},{"$f":"IF($D17=\"\",\"\",INDEX(References!$AS$19:$AS$40,MATCH(ProposedEquipment0!$F17,References!$AF$19:$AF$40,0)))","v":""},{"$f":"IF($D17=\"\",\"\",INDEX(References!$AT$19:$AT$40,MATCH(ProposedEquipment0!$F17,References!$AF$19:$AF$40,0)))","v":""},{"$f":"IF(D17=\"\",\"\",ROUND((I17*T17)/(1-W17)*(1-U17+V17),References!$B$4))","v":""},{"$f":"IF(D17=\"\",\"\",ROUND(J17/(1-X17)*(1-U17+V17),References!$B$5))","v":""},{"$f":"IF(D17=\"\",\"\",ROUND((K17*T17)/(1-W17)*(1-U17+V17),References!$B$4))","v":""},{"$f":"IF(D17=\"\",\"\",ROUND(L17/(1-X17)*(1-U17+V17),References!$B$5))","v":""},"","","","","","",{"$f":"IF(OR(References!$H$13=\"\",AE17=\"\"),\"\",Qualifying_Index!P46)","v":""},{"$f":"IF(OR(References!$H$13=\"\",AE17=\"\"),\"\",IF(References!$J$36=FALSE,0,Qualifying_Index!BM42))","v":""},{"$f":"IF(OR(References!$H$13=\"\",AE17=\"\"),\"\",Qualifying_Index!P46)","v":""},{"$f":"IF(D17=\"\",\"\",Qualifying_Index!O46)","v":""},"","",null,null,{"$f":"IF(D17=\"\",\"\",Admin!AE18)","v":""},{"$f":"IF(AU17=\"\",\"\",AU17*Qualifying_Index!W46)","v":""},{"$f":"IF(OR('ASHP Equipment Information'!V43=\"DNQ\",AU17=\"\"),\"\",AR17*AU17)","v":""},null,"",null,null,null,null,null,null,null,null,null,null,null,null,null,null,null,null,null,null,null,null,null,null,null,null,null,null,{"$f":"IF(E17=\"\",\"\",Qualifying_Index!J46)","v":""},{"$f":"IF(E17=\"\",\"\",Qualifying_Index!K46)","v":""},null,null,{"$f":"IF(D17=\"\",\"\",References!$H$13)","v":""},null,null,null,null,{"$f":"IF($E17=\"\",\"\",'Smart T-Stats'!F25)","v":""},null,null,null,null,null,null,null,null,null,null,null,null,{"$f":"IF($E17=\"\",\"\",'Smart T-Stats'!H25)","v":""},{"$f":"IF($E17=\"\",\"\",'Smart T-Stats'!I25)","v":""},null,null,null,null,null,null,null,null,null,null,null,null,null,null,null,null,null,null,null,null,null,null,null,null,null,null,null,null,null,{"$f":"IF(C17=\"\",\"\",'Customer Information'!$K$11)","v":""}]
[6,null,"",{"$f":"IF('Smart T-Stats'!K26=\"\",\"\",\"Residential HVAC Other\")","v":""},{"$f":"IF(D18=\"\",\"\",INDEX(References!$AI$33:$AI$40,MATCH(Qualifying_Index!T47,References!$AE$33:$AE$40,0)))","v":""},{"$f":"IF(D18=\"\",\"\",INDEX(References!$AF$33:$AF$40,MATCH(Qualifying_Index!T47,References!$AE$33:$AE$40,0)))","v":""},{"$f":"IF(D18=\"\",\"\",'Customer Information'!$L$48)","v":""},{"$f":"IF(C18=\"\",\"\",\"Whole House ASHP and ER v\"&Development!$A$2)","v":""},{"$f":"IF($D18=\"\",\"\",Qualifying_Index!X47)","v":""},{"$f":"IF($D18=\"\",\"\",Qualifying_Index!N47)","v":""},null,null,null,"","","",null,null,null,{"$f":"IF($D18=\"\",\"\",INDEX(References!$AM$19:$AM$40,MATCH(ProposedEquipment0!$F18,References!$AF$19:$AF$40,0)))","v":""},{"$f":"IF($D18=\"\",\"\",INDEX(References!$AQ$19:$AQ$40,MATCH(ProposedEquipment0!$F18,References!$AF$19:$AF$40,0)))","v":""},{"$f":"IF($D18=\"\",\"\",INDEX(References!$AR$19:$AR$40,MATCH(ProposedEquipment0!$F18,References!$AF$19:$AF$40,0)))","v":""},{"$f":"IF($D18=\"\",\"\",INDEX(References!$AS$19:$AS$40,MATCH(ProposedEquipment0!$F18,References!$AF$19:$AF$40,0)))","v":""},{"$f":"IF($D18=\"\",\"\",INDEX(References!$AT$19:$AT$40,MATCH(ProposedEquipment0!$F18,References!$AF$19:$AF$40,0)))","v":""},{"$f":"IF(D18=\"\",\"\",ROUND((I18*T18)/(1-W18)*(1-U18+V18),References!$B$4))","v":""},{"$f":"IF(D18=\"\",\"\",ROUND(J18/(1-X18)*(1-U18+V18),References!$B$5))","v":""},{"$f":"IF(D18=\"\",\"\",ROUND((K18*T18)/(1-W18)*(1-U18+V18),References!$B$4))","v":""},{"$f":"IF(D18=\"\",\"\",ROUND(L18/(1-X18)*(1-U18+V18),References!$B$5))","v":""},"","","","","","",{"$f":"IF(OR(References!$H$13=\"\",AE18=\"\"),\"\",Qualifying_Index!P47)","v":""},{"$f":"IF(OR(References!$H$13=\"\",AE18=\"\"),\"\",IF(References!$J$36=FALSE,0,Qualifying_Index!BM43))","v":""},{"$f":"IF(OR(References!$H$13=\"\",AE18=\"\"),\"\",Qualifying_Index!P47)","v":""},{"$f":"IF(D18=\"\",\"\",Qualifying_Index!O47)","v":""},"","",null,null,{"$f":"IF(D18=\"\",\"\",Admin!AE19)","v":""},{"$f":"IF(AU18=\"\",\"\",AU18*Qualifying_Index!W47)","v":""},{"$f":"IF(OR('ASHP Equipment Information'!V44=\"DNQ\",AU18=\"\"),\"\",AR18*AU18)","v":""},null,"",null,null,null,null,null,null,null,null,null,null,null,null,null,null,null,null,null,null,null,null,null,null,null,null,null,null,{"$f":"IF(E18=\"\",\"\",Qualifying_Index!J47)","v":""},{"$f":"IF(E18=\"\",\"\",Qualifying_Index!K47)","v":""},null,null,{"$f":"IF(D18=\"\",\"\",References!$H$13)","v":""},null,null,null,null,{"$f":"IF($E18=\"\",\"\",'Smart T-Stats'!F26)","v":""},null,null,null,null,null,null,null,null,null,null,null,null,{"$f":"IF($E18=\"\",\"\",'Smart T-Stats'!H26)","v":""},{"$f":"IF($E18=\"\",\"\",'Smart T-Stats'!I26)","v":""},null,null,null,null,null,null,null,null,null,null,null,null,null,null,null,null,null,null,null,null,null,null,null,null,null,null,null,null,null,{"$f":"IF(C18=\"\",\"\",'Customer Information'!$K$11)","v":""}]
[7,null,"",{"$f":"IF('Smart T-Stats'!K27=\"\",\"\",\"Residential HVAC Other\")","v":""},{"$f":"IF(D19=\"\",\"\",INDEX(References!$AI$33:$AI$40,MATCH(Qualifying_Index!T48,References!$AE$33:$AE$40,0)))","v":""},{"$f":"IF(D19=\"\",\"\",INDEX(References!$AF$33:$AF$40,MATCH(Qualifying_Index!T48,References!$AE$33:$AE$40,0)))","v":""},{"$f":"IF(D19=\"\",\"\",'Customer Information'!$L$48)","v":""},{"$f":"IF(C19=\"\",\"\",\"Whole House ASHP and ER v\"&Development!$A$2)","v":""},{"$f":"IF($D19=\"\",\"\",Qualifying_Index!X48)","v":""},{"$f":"IF($D19=\"\",\"\",Qualifying_Index!N48)","v":""},null,null,null,"","","",null,null,null,{"$f":"IF($D19=\"\",\"\",INDEX(References!$AM$19:$AM$40,MATCH(ProposedEquipment0!$F19,References!$AF$19:$AF$40,0)))","v":""},{"$f":"IF($D19=\"\",\"\",INDEX(References!$AQ$19:$AQ$40,MATCH(ProposedEquipment0!$F19,References!$AF$19:$AF$40,0)))","v":""},{"$f":"IF($D19=\"\",\"\",INDEX(References!$AR$19:$AR$40,MATCH(ProposedEquipment0!$F19,References!$AF$19:$AF$40,0)))","v":""},{"$f":"IF($D19=\"\",\"\",INDEX(References!$AS$19:$AS$40,MATCH(ProposedEquipment0!$F19,References!$AF$19:$AF$40,0)))","v":""},{"$f":"IF($D19=\"\",\"\",INDEX(References!$AT$19:$AT$40,MATCH(ProposedEquipment0!$F19,References!$AF$19:$AF$40,0)))","v":""},{"$f":"IF(D19=\"\",\"\",ROUND((I19*T19)/(1-W19)*(1-U19+V19),References!$B$4))","v":""},{"$f":"IF(D19=\"\",\"\",ROUND(J19/(1-X19)*(1-U19+V19),References!$B$5))","v":""},{"$f":"IF(D19=\"\",\"\",ROUND((K19*T19)/(1-W19)*(1-U19+V19),References!$B$4))","v":""},{"$f":"IF(D19=\"\",\"\",ROUND(L19/(1-X19)*(1-U19+V19),References!$B$5))","v":""},"","","","","","",{"$f":"IF(OR(References!$H$13=\"\",AE19=\"\"),\"\",Qualifying_Index!P48)","v":""},{"$f":"IF(OR(References!$H$13=\"\",AE19=\"\"),\"\",IF(References!$J$36=FALSE,0,Qualifying_Index!BM44))","v":""},{"$f":"IF(OR(References!$H$13=\"\",AE19=\"\"),\"\",Qualifying_Index!P48)","v":""},{"$f":"IF(D19=\"\",\"\",Qualifying_Index!O48)","v":""},"","",null,null,{"$f":"IF(D19=\"\",\"\",Admin!AE20)","v":""},{"$f":"IF(AU19=\"\",\"\",AU19*Qualifying_Index!W48)","v":""},{"$f":"IF(OR('ASHP Equipment Information'!V45=\"DNQ\",AU19=\"\"),\"\",AR19*AU19)","v":""},null,"",null,null,null,null,null,null,null,null,null,null,null,null,null,null,null,null,null,null,null,null,null,null,null,null,null,null,{"$f":"IF(E19=\"\",\"\",Qualifying_Index!J48)","v":""},{"$f":"IF(E19=\"\",\"\",Qualifying_Index!K48)","v":""},null,null,{"$f":"IF(D19=\"\",\"\",References!$H$13)","v":""},null,null,null,null,{"$f":"IF($E19=\"\",\"\",'Smart T-Stats'!F27)","v":""},null,null,null,null,null,null,null,null,null,null,null,null,{"$f":"IF($E19=\"\",\"\",'Smart T-Stats'!H27)","v":""},{"$f":"IF($E19=\"\",\"\",'Smart T-Stats'!I27)","v":""},null,null,null,null,null,null,null,null,null,null,null,null,null,null,null,null,null,null,null,null,null,null,null,null,null,null,null,null,null,{"$f":"IF(C19=\"\",\"\",'Customer Information'!$K$11)","v":""}]
[8,null,"",{"$f":"IF('Smart T-Stats'!K28=\"\",\"\",\"Residential HVAC Other\")","v":""},{"$f":"IF(D20=\"\",\"\",INDEX(References!$AI$33:$AI$40,MATCH(Qualifying_Index!T49,References!$AE$33:$AE$40,0)))","v":""},{"$f":"IF(D20=\"\",\"\",INDEX(References!$AF$33:$AF$40,MATCH(Qualifying_Index!T49,References!$AE$33:$AE$40,0)))","v":""},{"$f":"IF(D20=\"\",\"\",'Customer Information'!$L$48)","v":""},{"$f":"IF(C20=\"\",\"\",\"Whole House ASHP and ER v\"&Development!$A$2)","v":""},{"$f":"IF($D20=\"\",\"\",Qualifying_Index!X49)","v":""},{"$f":"IF($D20=\"\",\"\",Qualifying_Index!N49)","v":""},null,null,null,"","","",null,null,null,{"$f":"IF($D20=\"\",\"\",INDEX(References!$AM$19:$AM$40,MATCH(ProposedEquipment0!$F20,References!$AF$19:$AF$40,0)))","v":""},{"$f":"IF($D20=\"\",\"\",INDEX(References!$AQ$19:$AQ$40,MATCH(ProposedEquipment0!$F20,References!$AF$19:$AF$40,0)))","v":""},{"$f":"IF($D20=\"\",\"\",INDEX(References!$AR$19:$AR$40,MATCH(ProposedEquipment0!$F20,References!$AF$19:$AF$40,0)))","v":""},{"$f":"IF($D20=\"\",\"\",INDEX(References!$AS$19:$AS$40,MATCH(ProposedEquipment0!$F20,References!$AF$19:$AF$40,0)))","v":""},{"$f":"IF($D20=\"\",\"\",INDEX(References!$AT$19:$AT$40,MATCH(ProposedEquipment0!$F20,References!$AF$19:$AF$40,0)))","v":""},{"$f":"IF(D20=\"\",\"\",ROUND((I20*T20)/(1-W20)*(1-U20+V20),References!$B$4))","v":""},{"$f":"IF(D20=\"\",\"\",ROUND(J20/(1-X20)*(1-U20+V20),References!$B$5))","v":""},{"$f":"IF(D20=\"\",\"\",ROUND((K20*T20)/(1-W20)*(1-U20+V20),References!$B$4))","v":""},{"$f":"IF(D20=\"\",\"\",ROUND(L20/(1-X20)*(1-U20+V20),References!$B$5))","v":""},"","","","","","",{"$f":"IF(OR(References!$H$13=\"\",AE20=\"\"),\"\",Qualifying_Index!P49)","v":""},{"$f":"IF(OR(References!$H$13=\"\",AE20=\"\"),\"\",IF(References!$J$36=FALSE,0,Qualifying_Index!BM45))","v":""},{"$f":"IF(OR(References!$H$13=\"\",AE20=\"\"),\"\",Qualifying_Index!P49)","v":""},{"$f":"IF(D20=\"\",\"\",Qualifying_Index!O49)","v":""},"","",null,null,{"$f":"IF(D20=\"\",\"\",Admin!AE21)","v":""},{"$f":"IF(AU20=\"\",\"\",AU20*Qualifying_Index!W49)","v":""},{"$f":"IF(OR('ASHP Equipment Information'!V46=\"DNQ\",AU20=\"\"),\"\",AR20*AU20)","v":""},null,"",null,null,null,null,null,null,null,null,null,null,null,null,null,null,null,null,null,null,null,null,null,null,null,null,null,null,{"$f":"IF(E20=\"\",\"\",Qualifying_Index!J49)","v":""},{"$f":"IF(E20=\"\",\"\",Qualifying_Index!K49)","v":""},null,null,{"$f":"IF(D20=\"\",\"\",References!$H$13)","v":""},null,null,null,null,{"$f":"IF($E20=\"\",\"\",'Smart T-Stats'!F28)","v":""},null,null,null,null,null,null,null,null,null,null,null,null,{"$f":"IF($E20=\"\",\"\",'Smart T-Stats'!H28)","v":""},{"$f":"IF($E20=\"\",\"\",'Smart T-Stats'!I28)","v":""},null,null,null,null,null,null,null,null,null,null,null,null,null,null,null,null,null,null,null,null,null,null,null,null,null,null,null,null,null,{"$f":"IF(C20=\"\",\"\",'Customer Information'!$K$11)","v":""}]
[9,null,"",{"$f":"IF('Smart T-Stats'!K29=\"\",\"\",\"Residential HVAC Other\")","v":""},{"$f":"IF(D21=\"\",\"\",INDEX(References!$AI$33:$AI$40,MATCH(Qualifying_Index!T50,References!$AE$33:$AE$40,0)))","v":""},{"$f":"IF(D21=\"\",\"\",INDEX(References!$AF$33:$AF$40,MATCH(Qualifying_Index!T50,References!$AE$33:$AE$40,0)))","v":""},{"$f":"IF(D21=\"\",\"\",'Customer Information'!$L$48)","v":""},{"$f":"IF(C21=\"\",\"\",\"Whole House ASHP and ER v\"&Development!$A$2)","v":""},{"$f":"IF($D21=\"\",\"\",Qualifying_Index!X50)","v":""},{"$f":"IF($D21=\"\",\"\",Qualifying_Index!N50)","v":""},null,null,null,"","","",null,null,null,{"$f":"IF($D21=\"\",\"\",INDEX(References!$AM$19:$AM$40,MATCH(ProposedEquipment0!$F21,References!$AF$19:$AF$40,0)))","v":""},{"$f":"IF($D21=\"\",\"\",INDEX(References!$AQ$19:$AQ$40,MATCH(ProposedEquipment0!$F21,References!$AF$19:$AF$40,0)))","v":""},{"$f":"IF($D21=\"\",\"\",INDEX(References!$AR$19:$AR$40,MATCH(ProposedEquipment0!$F21,References!$AF$19:$AF$40,0)))","v":""},{"$f":"IF($D21=\"\",\"\",INDEX(References!$AS$19:$AS$40,MATCH(ProposedEquipment0!$F21,References!$AF$19:$AF$40,0)))","v":""},{"$f":"IF($D21=\"\",\"\",INDEX(References!$AT$19:$AT$40,MATCH(ProposedEquipment0!$F21,References!$AF$19:$AF$40,0)))","v":""},{"$f":"IF(D21=\"\",\"\",ROUND((I21*T21)/(1-W21)*(1-U21+V21),References!$B$4))","v":""},{"$f":"IF(D21=\"\",\"\",ROUND(J21/(1-X21)*(1-U21+V21),References!$B$5))","v":""},{"$f":"IF(D21=\"\",\"\",ROUND((K21*T21)/(1-W21)*(1-U21+V21),References!$B$4))","v":""},{"$f":"IF(D21=\"\",\"\",ROUND(L21/(1-X21)*(1-U21+V21),References!$B$5))","v":""},"","","","","","",{"$f":"IF(OR(References!$H$13=\"\",AE21=\"\"),\"\",Qualifying_Index!P50)","v":""},{"$f":"IF(OR(References!$H$13=\"\",AE21=\"\"),\"\",IF(References!$J$36=FALSE,0,Qualifying_Index!BM46))","v":""},{"$f":"IF(OR(References!$H$13=\"\",AE21=\"\"),\"\",Qualifying_Index!P50)","v":""},{"$f":"IF(D21=\"\",\"\",Qualifying_Index!O50)","v":""},"","",null,null,{"$f":"IF(D21=\"\",\"\",Admin!AE22)","v":""},{"$f":"IF(AU21=\"\",\"\",AU21*Qualifying_Index!W50)","v":""},{"$f":"IF(OR('ASHP Equipment Information'!V47=\"DNQ\",AU21=\"\"),\"\",AR21*AU21)","v":""},null,"",null,null,null,null,null,null,null,null,null,null,null,null,null,null,null,null,null,null,null,null,null,null,null,null,null,null,{"$f":"IF(E21=\"\",\"\",Qualifying_Index!J50)","v":""},{"$f":"IF(E21=\"\",\"\",Qualifying_Index!K50)","v":""},null,null,{"$f":"IF(D21=\"\",\"\",References!$H$13)","v":""},null,null,null,null,{"$f":"IF($E21=\"\",\"\",'Smart T-Stats'!F29)","v":""},null,null,null,null,null,null,null,null,null,null,null,null,{"$f":"IF($E21=\"\",\"\",'Smart T-Stats'!H29)","v":""},{"$f":"IF($E21=\"\",\"\",'Smart T-Stats'!I29)","v":""},null,null,null,null,null,null,null,null,null,null,null,null,null,null,null,null,null,null,null,null,null,null,null,null,null,null,null,null,null,{"$f":"IF(C21=\"\",\"\",'Customer Information'!$K$11)","v":""}]
[10,null,"",{"$f":"IF('Smart T-Stats'!K30=\"\",\"\",\"Residential HVAC Other\")","v":""},{"$f":"IF(D22=\"\",\"\",INDEX(References!$AI$33:$AI$40,MATCH(Qualifying_Index!T51,References!$AE$33:$AE$40,0)))","v":""},{"$f":"IF(D22=\"\",\"\",INDEX(References!$AF$33:$AF$40,MATCH(Qualifying_Index!T51,References!$AE$33:$AE$40,0)))","v":""},{"$f":"IF(D22=\"\",\"\",'Customer Information'!$L$48)","v":""},{"$f":"IF(C22=\"\",\"\",\"Whole House ASHP and ER v\"&Development!$A$2)","v":""},{"$f":"IF($D22=\"\",\"\",Qualifying_Index!X51)","v":""},{"$f":"IF($D22=\"\",\"\",Qualifying_Index!N51)","v":""},null,null,null,"","","",null,null,null,{"$f":"IF($D22=\"\",\"\",INDEX(References!$AM$19:$AM$40,MATCH(ProposedEquipment0!$F22,References!$AF$19:$AF$40,0)))","v":""},{"$f":"IF($D22=\"\",\"\",INDEX(References!$AQ$19:$AQ$40,MATCH(ProposedEquipment0!$F22,References!$AF$19:$AF$40,0)))","v":""},{"$f":"IF($D22=\"\",\"\",INDEX(References!$AR$19:$AR$40,MATCH(ProposedEquipment0!$F22,References!$AF$19:$AF$40,0)))","v":""},{"$f":"IF($D22=\"\",\"\",INDEX(References!$AS$19:$AS$40,MATCH(ProposedEquipment0!$F22,References!$AF$19:$AF$40,0)))","v":""},{"$f":"IF($D22=\"\",\"\",INDEX(References!$AT$19:$AT$40,MATCH(ProposedEquipment0!$F22,References!$AF$19:$AF$40,0)))","v":""},{"$f":"IF(D22=\"\",\"\",ROUND((I22*T22)/(1-W22)*(1-U22+V22),References!$B$4))","v":""},{"$f":"IF(D22=\"\",\"\",ROUND(J22/(1-X22)*(1-U22+V22),References!$B$5))","v":""},{"$f":"IF(D22=\"\",\"\",ROUND((K22*T22)/(1-W22)*(1-U22+V22),References!$B$4))","v":""},{"$f":"IF(D22=\"\",\"\",ROUND(L22/(1-X22)*(1-U22+V22),References!$B$5))","v":""},"","","","","","",{"$f":"IF(OR(References!$H$13=\"\",AE22=\"\"),\"\",Qualifying_Index!P51)","v":""},{"$f":"IF(OR(References!$H$13=\"\",AE22=\"\"),\"\",IF(References!$J$36=FALSE,0,Qualifying_Index!BM47))","v":""},{"$f":"IF(OR(References!$H$13=\"\",AE22=\"\"),\"\",Qualifying_Index!P51)","v":""},{"$f":"IF(D22=\"\",\"\",Qualifying_Index!O51)","v":""},"","",null,null,{"$f":"IF(D22=\"\",\"\",Admin!AE23)","v":""},{"$f":"IF(AU22=\"\",\"\",AU22*Qualifying_Index!W51)","v":""},{"$f":"IF(OR('ASHP Equipment Information'!V48=\"DNQ\",AU22=\"\"),\"\",AR22*AU22)","v":""},null,"",null,null,null,null,null,null,null,null,null,null,null,null,null,null,null,null,null,null,null,null,null,null,null,null,null,null,{"$f":"IF(E22=\"\",\"\",Qualifying_Index!J51)","v":""},{"$f":"IF(E22=\"\",\"\",Qualifying_Index!K51)","v":""},null,null,{"$f":"IF(D22=\"\",\"\",References!$H$13)","v":""},null,null,null,null,{"$f":"IF($E22=\"\",\"\",'Smart T-Stats'!F30)","v":""},null,null,null,null,null,null,null,null,null,null,null,null,{"$f":"IF($E22=\"\",\"\",'Smart T-Stats'!H30)","v":""},{"$f":"IF($E22=\"\",\"\",'Smart T-Stats'!I30)","v":""},null,null,null,null,null,null,null,null,null,null,null,null,null,null,null,null,null,null,null,null,null,null,null,null,null,null,null,null,null,{"$f":"IF(C22=\"\",\"\",'Customer Information'!$K$11)","v":""}]
[11,null,null,null,{"$f":"IF(D23=\"\",\"\",INDEX(References!$AI$33:$AI$40,MATCH(Qualifying_Index!R52,References!$AE$33:$AE$40,0)))","v":""},{"$f":"IF(D23=\"\",\"\",INDEX(References!$AF$33:$AF$40,MATCH(Qualifying_Index!R52,References!$AE$33:$AE$40,0)))","v":""},{"$f":"IF(D23=\"\",\"\",'Customer Information'!$L$48)","v":""},{"$f":"IF(C23=\"\",\"\",\"Whole House ASHP and ER v\"&Development!$A$2)","v":""},{"$f":"IF($D23=\"\",\"\",Qualifying_Index!V52)","v":""},{"$f":"IF($D23=\"\",\"\",Qualifying_Index!M52)","v":""},null,null,null,"","","",null,null,null,{"$f":"IF($D23=\"\",\"\",INDEX(References!$AM$19:$AM$40,MATCH(ProposedEquipment0!$F23,References!$AF$19:$AF$40,0)))","v":""},{"$f":"IF($D23=\"\",\"\",INDEX(References!$AQ$19:$AQ$40,MATCH(ProposedEquipment0!$F23,References!$AF$19:$AF$40,0)))","v":""},{"$f":"IF($D23=\"\",\"\",INDEX(References!$AR$19:$AR$40,MATCH(ProposedEquipment0!$F23,References!$AF$19:$AF$40,0)))","v":""},{"$f":"IF($D23=\"\",\"\",INDEX(References!$AS$19:$AS$40,MATCH(ProposedEquipment0!$F23,References!$AF$19:$AF$40,0)))","v":""},{"$f":"IF($D23=\"\",\"\",INDEX(References!$AT$19:$AT$40,MATCH(ProposedEquipment0!$F23,References!$AF$19:$AF$40,0)))","v":""},{"$f":"IF(D23=\"\",\"\",ROUND((I23*T23)/(1-W23)*(1-U23+V23),References!$B$4))","v":""},{"$f":"IF(D23=\"\",\"\",ROUND(J23/(1-X23)*(1-U23+V23),References!$B$5))","v":""},{"$f":"IF(D23=\"\",\"\",ROUND((K23*T23)/(1-W23)*(1-U23+V23),References!$B$4))","v":""},{"$f":"IF(D23=\"\",\"\",ROUND(L23/(1-X23)*(1-U23+V23),References!$B$5))","v":""},"","","","","","",{"$f":"IF(OR(References!$H$13=\"\",AE23=\"\"),\"\",Qualifying_Index!O52)","v":""},{"$f":"IF(OR(References!$H$13=\"\",AE23=\"\"),\"\",IF(References!$J$36=FALSE,0,Qualifying_Index!BM48))","v":""},{"$f":"IF(OR(References!$H$13=\"\",AE23=\"\"),\"\",Qualifying_Index!O52)","v":""},{"$f":"IF(D23=\"\",\"\",Qualifying_Index!N52)","v":""},"","",null,null,{"$f":"IF(D23=\"\",\"\",Admin!AE24)","v":""},{"$f":"IF(AU23=\"\",\"\",AU23*Qualifying_Index!U52)","v":""},{"$f":"IF(OR('ASHP Equipment Information'!V49=\"DNQ\",AU23=\"\"),\"\",AR23*AU23)","v":""},null,"",null,null,null,null,null,null,null,null,null,null,null,null,null,null,null,null,null,null,null,null,null,null,null,null,null,null,{"$f":"IF(E23=\"\",\"\",Qualifying_Index!K52)","v":""},{"$f":"IF(E23=\"\",\"\",Qualifying_Index!L52)","v":""},null,null,{"$f":"IF(D23=\"\",\"\",References!$H$13)","v":""},null,null,null,null,{"$f":"IF($E23=\"\",\"\",'Smart T-Stats'!F32)","v":""},null,null,null,null,null,null,null,null,null,null,null,null,{"$f":"IF($E23=\"\",\"\",'Smart T-Stats'!H32)","v":""},{"$f":"IF($E23=\"\",\"\",'Smart T-Stats'!I32)","v":""},null,null,null,null,null,null,null,null,null,null,null,null,null,null,null,null,null,null,null,null,null,null,null,null,null,null,null,null,null,{"$f":"IF(C23=\"\",\"\",'Customer Information'!$K$11)","v":""}]
[null,null,null,null,null,null,null,null,null,null,null,null,null,""]
[1,null,{"$f":"IF(F25=\"\",\"\",References!$AH$38)","v":""},{"$f":"IF(F25=\"\",\"\",References!$AG$38)","v":""},{"$f":"IF(AND(Qualifying_Index!$C56<>\"\",References!$E$8,Qualifying_Index!$C56<>\"No Fossil Fuel Heater\"),INDEX(References!$AE$38:$AE$41,MATCH(Qualifying_Index!C56,References!$AE$38:$AE$41,0)),\"\")","v":""},{"$f":"IF(AND(Qualifying_Index!$C56<>\"\",References!$E$8,Qualifying_Index!$C56<>\"No Fossil Fuel Heater\"),INDEX(References!$AF$38:$AF$41,MATCH(Qualifying_Index!C56,References!$AE$38:$AE$41,0)),\"\")","v":""},{"$f":"IF(D25=\"\",\"\",'Customer Information'!$L$48)","v":""},{"$f":"IF(C25=\"\",\"\",\"Whole House ASHP and ER v\"&Development!$A$2)","v":""},{"$f":"IF($D25=\"\",\"\",0)","v":""},"","","","","",{"$f":"IF(F25=\"\",\"\",I25*N25*T25)","v":""},{"$f":"IF(D25=\"\",\"\",J25*N25)","v":""},null,null,null,{"$f":"IF($F25=\"\",\"\",INDEX(References!$AM$19:$AM$41,MATCH(ProposedEquipment0!$F25,References!$AF$19:$AF$41,0)))","v":""},{"$f":"IF($F25=\"\",\"\",INDEX(References!$AQ$19:$AQ$41,MATCH(ProposedEquipment0!$F25,References!$AF$19:$AF$41,0)))","v":""},{"$f":"IF($F25=\"\",\"\",INDEX(References!$AR$19:$AR$41,MATCH(ProposedEquipment0!$F25,References!$AF$19:$AF$41,0)))","v":""},{"$f":"IF($F25=\"\",\"\",INDEX(References!$AS$19:$AS$41,MATCH(ProposedEquipment0!$F25,References!$AF$19:$AF$41,0)))","v":""},{"$f":"IF($F25=\"\",\"\",INDEX(References!$AT$19:$AT$41,MATCH(ProposedEquipment0!$F25,References!$AF$19:$AF$41,0)))","v":""},{"$f":"IF(F25=\"\",\"\",ROUND((I25*T25)/(1-W25)*(1-U25+V25),References!$B$4))","v":""},{"$f":"IF(F25=\"\",\"\",ROUND(J25/(1-X25)*(1-U25+V25),References!$B$5))","v":""},{"$f":"IF(F25=\"\",\"\",ROUND((K25*T25)/(1-W25)*(1-U25+V25),References!$B$4))","v":""},{"$f":"IF(F25=\"\",\"\",ROUND(L25/(1-X25)*(1-U25+V25),References!$B$5))","v":""},{"$f":"IF(F25=\"\",\"\",Z25-AB25)","v":""},{"$f":"IF(F25=\"\",\"\",Y25*AU25)","v":""},{"$f":"IF(F25=\"\",\"\",Z25*AU25)","v":""},{"$f":"IF(F25=\"\",\"\",AA25*AU25)","v":""},{"$f":"IF(F25=\"\",\"\",AB25*AU25)","v":""},{"$f":"IF(F25=\"\",\"\",AE25-AG25)","v":""},null,null,null,null,null,null,null,null,null,{"$f":"IF(C25=\"\",\"\",'Integrated Controls'!I17)","v":""},{"$f":"IF(OR('ASHP Equipment Information'!V53=\"DNQ\",AU25=\"\"),\"\",AR25*AU25)","v":""},null,"",null,null,null,null,null,null,null,null,null,null,null,null,null,null,null,null,null,null,null,null,null,null,null,null,null,null,null,null,null,null,null,null,null,null,null,null,null,null,null,null,null,null,null,null,null,null,null,null,null,null,null,null,null,null,null,null,null,null,null,null,null,null,null,null,null,null,null,null,null,null,null,null,null,null,null,null,null,null,null,{"$f":"IF(C25=\"\",\"\",'Customer Information'!$K$11)","v":""}]
[2,null,{"$f":"IF(F26=\"\",\"\",References!$AH$38)","v":""},{"$f":"IF(F26=\"\",\"\",References!$AG$38)","v":""},{"$f":"IF(AND(Qualifying_Index!$C57<>\"\",References!$E$8,Qualifying_Index!$C57<>\"No Fossil Fuel Heater\"),INDEX(References!$AE$38:$AE$41,MATCH(Qualifying_Index!C57,References!$AE$38:$AE$41,0)),\"\")","v":""},{"$f":"IF(AND(Qualifying_Index!$C57<>\"\",References!$E$8,Qualifying_Index!$C57<>\"No Fossil Fuel Heater\"),INDEX(References!$AF$38:$AF$41,MATCH(Qualifying_Index!C57,References!$AE$38:$AE$41,0)),\"\")","v":""},{"$f":"IF(D26=\"\",\"\",'Customer Information'!$L$48)","v":""},{"$f":"IF(C26=\"\",\"\",\"Whole House ASHP and ER v\"&Development!$A$2)","v":""},"","","","","","",{"$f":"IF(F26=\"\",\"\",I26*N26*T26)","v":""},{"$f":"IF(D26=\"\",\"\",J26*N26)","v":""},null,null,null,{"$f":"IF($F26=\"\",\"\",INDEX(References!$AM$19:$AM$41,MATCH(ProposedEquipment0!$F26,References!$AF$19:$AF$41,0)))","v":""},{"$f":"IF($F26=\"\",\"\",INDEX(References!$AQ$19:$AQ$41,MATCH(ProposedEquipment0!$F26,References!$AF$19:$AF$41,0)))","v":""},{"$f":"IF($F26=\"\",\"\",INDEX(References!$AR$19:$AR$40,MATCH(ProposedEquipment0!$F26,References!$AF$19:$AF$40,0)))","v":""},{"$f":"IF($F26=\"\",\"\",INDEX(References!$AS$19:$AS$41,MATCH(ProposedEquipment0!$F26,References!$AF$19:$AF$41,0)))","v":""},{"$f":"IF($F26=\"\",\"\",INDEX(References!$AT$19:$AT$41,MATCH(ProposedEquipment0!$F26,References!$AF$19:$AF$41,0)))","v":""},{"$f":"IF(F26=\"\",\"\",ROUND((I26*T26)/(1-W26)*(1-U26+V26),References!$B$4))","v":""},{"$f":"IF(F26=\"\",\"\",ROUND(J26/(1-X26)*(1-U26+V26),References!$B$5))","v":""},{"$f":"IF(F26=\"\",\"\",ROUND((K26*T26)/(1-W26)*(1-U26+V26),References!$B$4))","v":""},{"$f":"IF(F26=\"\",\"\",ROUND(L26/(1-X26)*(1-U26+V26),References!$B$5))","v":""},{"$f":"IF(F26=\"\",\"\",Z26-AB26)","v":""},{"$f":"IF(F26=\"\",\"\",Y26*AU26)","v":""},{"$f":"IF(F26=\"\",\"\",Z26*AU26)","v":""},{"$f":"IF(F26=\"\",\"\",AA26*AU26)","v":""},{"$f":"IF(F26=\"\",\"\",AB26*AU26)","v":""},{"$f":"IF(F26=\"\",\"\",AE26-AG26)","v":""},null,null,null,null,null,null,null,null,null,{"$f":"IF(AND('ASHP Equipment Information'!$C$25<>\"\",References!$E$8),'Integrated Controls'!I18,\"\")","v":""},{"$f":"IF(OR('ASHP Equipment Information'!V54=\"DNQ\",AU26=\"\"),\"\",AR26*AU26)","v":""},null,{"$f":"IF(D26=\"\",\"\",1)","v":""},null,null,null,null,null,null,null,null,null,null,null,null,null,null,null,null,null,null,null,null,null,null,null,null,null,null,null,null,null,null,null,null,null,null,null,null,null,null,null,null,null,null,null,null,null,null,null,null,null,null,null,null,null,null,null,null,null,null,null,null,null,null,null,null,null,null,null,null,null,null,null,null,null,null,null,null,null,null,null,{"$f":"IF(C26=\"\",\"\",'Customer Information'!$K$11)","v":""}]
[null,null,null,null,null,null,null,null,null,null,null,null,null,""]
[null,null,null,null,null,null,null,null,null,null,null,null,null,""]
[null,null,null,null,null,null,null,null,null,null,null,null,null,""]
[null,null,null,null,null,null,null,null,null,null,null,null,null,""]
[null,null,null,null,null,null,null,null,null,null,null,null,null,""]
[null,null,null,null,null,null,null,null,null,null,null,null,null,""]
[1,null,{"$f":"IF(F33=\"\",\"\",INDEX(References!$BK$15:$BK$24,MATCH(F33,References!$BI$15:$BI$24,0)))","v":""},{"$f":"IF(F33=\"\",\"\",INDEX(References!$BJ$15:$BJ$24,MATCH(F33,References!$BI$15:$BI$24,0)))","v":""},{"$f":"IF(F33=\"\",\"\",INDEX(References!$BL$15:$BL$24,MATCH(F33,References!$BI$15:$BI$24,0)))","v":""},{"$f":"IF(Qualifying_Index!AQ71=\"\",\"\",Qualifying_Index!AQ71)","v":""},null,null,{"$f":"IF(C33=\"\",\"\",Qualifying_Index!AR71)","v":""},{"$f":"IF(C33=\"\",\"\",Qualifying_Index!AT71)","v":""},{"$f":"IF(C33=\"\",\"\",Qualifying_Index!AS71)","v":""},{"$f":"IF(C33=\"\",\"\",0)","v":""},{"$f":"IF(C33=\"\",\"\",J33+L33)","v":""},"",{"$f":"IF(F33=\"\",\"\",I33*N33*T33)","v":""},{"$f":"IF(D33=\"\",\"\",J33*N33)","v":""},null,null,null,{"$f":"IF($F33=\"\",\"\",1)","v":""},{"$f":"IF($F33=\"\",\"\",0)","v":""},{"$f":"IF($F33=\"\",\"\",0)","v":""},{"$f":"IF($F33=\"\",\"\",0.085)","v":""},{"$f":"IF($F33=\"\",\"\",0.06)","v":""},{"$f":"IF(F33=\"\",\"\",ROUND((I33*T33)/(1-W33)*(1-U33+V33),References!$B$4))","v":""},{"$f":"IF(F33=\"\",\"\",ROUND(J33/(1-X33)*(1-U33+V33),References!$B$5))","v":""},{"$f":"IF(F33=\"\",\"\",ROUND((K33*T33)/(1-W33)*(1-U33+V33),References!$B$4))","v":""},{"$f":"IF(F33=\"\",\"\",ROUND(L33/(1-X33)*(1-U33+V33),References!$B$5))","v":""},{"$f":"IF(F33=\"\",\"\",Z33-AB33)","v":""},{"$f":"IF(F33=\"\",\"\",Y33*AU33)","v":""},{"$f":"IF(F33=\"\",\"\",Z33*AU33)","v":""},{"$f":"IF(F33=\"\",\"\",AA33*AU33)","v":""},{"$f":"IF(F33=\"\",\"\",AB33*AU33)","v":""},{"$f":"IF(F33=\"\",\"\",AE33-AG33)","v":""},null,null,null,{"$f":"IF($C33=\"\",\"\",Qualifying_Index!AZ71)","v":""},{"$f":"IF($C33=\"\",\"\",0)","v":""},{"$f":"IF($C33=\"\",\"\",AL33+AM33)","v":""},{"$f":"IF($C33=\"\",\"\",HPwES!J54/SUM($AU$33:$AU$35))","v":""},null,{"$f":"IF($C33=\"\",\"\",AO33+AP33)","v":""},{"$f":"IF($C33=\"\",\"\",HPwES!J56/SUM($AU$33:$AU$35))","v":""},{"$f":"IF($C33=\"\",\"\",AR33*AU33)","v":""},null,{"$f":"IF(C33=\"\",\"\",1)","v":""}]
[2,null,{"$f":"IF(F34=\"\",\"\",INDEX(References!$BK$15:$BK$24,MATCH(F34,References!$BI$15:$BI$24,0)))","v":""},{"$f":"IF(F34=\"\",\"\",INDEX(References!$BJ$15:$BJ$24,MATCH(F34,References!$BI$15:$BI$24,0)))","v":""},{"$f":"IF(F34=\"\",\"\",INDEX(References!$BL$15:$BL$24,MATCH(F34,References!$BI$15:$BI$24,0)))","v":""},{"$f":"IF(Qualifying_Index!AQ72=\"\",\"\",Qualifying_Index!AQ72)","v":""},null,null,{"$f":"IF(C34=\"\",\"\",Qualifying_Index!AR72)","v":""},{"$f":"IF(C34=\"\",\"\",Qualifying_Index!AT72)","v":""},{"$f":"IF(C34=\"\",\"\",Qualifying_Index!AS72)","v":""},{"$f":"IF(C34=\"\",\"\",0)","v":""},{"$f":"IF(C34=\"\",\"\",J34+L34)","v":""},"","","",null,null,null,{"$f":"IF(F34=\"\",\"\",1)","v":""},{"$f":"IF($F34=\"\",\"\",0)","v":""},"",{"$f":"IF($F34=\"\",\"\",0.085)","v":""},{"$f":"IF($F34=\"\",\"\",0.06)","v":""},{"$f":"IF(F34=\"\",\"\",ROUND((I34*T34)/(1-W34)*(1-U34+V34),References!$B$4))","v":""},{"$f":"IF(F34=\"\",\"\",ROUND(J34/(1-X34)*(1-U34+V34),References!$B$5))","v":""},{"$f":"IF(F34=\"\",\"\",ROUND((K34*T34)/(1-W34)*(1-U34+V34),References!$B$4))","v":""},{"$f":"IF(F34=\"\",\"\",ROUND(L34/(1-X34)*(1-U34+V34),References!$B$5))","v":""},"","","","","","",null,null,null,{"$f":"IF(C34=\"\",\"\",Qualifying_Index!AZ72)","v":""},{"$f":"IF($C34=\"\",\"\",0)","v":""},{"$f":"IF($C34=\"\",\"\",AL34+AM34)","v":""},{"$f":"IF($C34=\"\",\"\",HPwES!J55/SUM($AU$33:$AU$35))","v":""},null,{"$f":"IF($C34=\"\",\"\",AO34+AP34)","v":""},{"$f":"IF($C34=\"\",\"\",HPwES!J57/SUM($AU$33:$AU$35))","v":""},{"$f":"IF($C34=\"\",\"\",AR34*AU34)","v":""},null,{"$f":"IF(C34=\"\",\"\",1)","v":""}]
[3,null,{"$f":"IF(F35=\"\",\"\",INDEX(References!$BK$15:$BK$24,MATCH(F35,References!$BI$15:$BI$24,0)))","v":""},{"$f":"IF(F35=\"\",\"\",INDEX(References!$BJ$15:$BJ$24,MATCH(F35,References!$BI$15:$BI$24,0)))","v":""},{"$f":"IF(F35=\"\",\"\",INDEX(References!$BL$15:$BL$24,MATCH(F35,References!$BI$15:$BI$24,0)))","v":""},{"$f":"IF(Qualifying_Index!AQ73=\"\",\"\",Qualifying_Index!AQ73)","v":""},null,null,{"$f":"IF(C35=\"\",\"\",Qualifying_Index!AR73)","v":""},{"$f":"IF(C35=\"\",\"\",Qualifying_Index!AT73)","v":""},{"$f":"IF(C35=\"\",\"\",Qualifying_Index!AS73)","v":""},"","","","","",null,null,null,"","","","","",{"$f":"IF(F35=\"\",\"\",ROUND((I35*T35)/(1-W35)*(1-U35+V35),References!$B$4))","v":""},{"$f":"IF(F35=\"\",\"\",ROUND(J35/(1-X35)*(1-U35+V35),References!$B$5))","v":""},{"$f":"IF(F35=\"\",\"\",ROUND((K35*T35)/(1-W35)*(1-U35+V35),References!$B$4))","v":""},{"$f":"IF(F35=\"\",\"\",ROUND(L35/(1-X35)*(1-U35+V35),References!$B$5))","v":""},"","","","","","",null,null,null,{"$f":"IF(C35=\"\",\"\",Qualifying_Index!AZ73)","v":""},"","",{"$f":"IF($C35=\"\",\"\",HPwES!J56/SUM($AU$33:$AU$35))","v":""},null,"",{"$f":"IF($C35=\"\",\"\",HPwES!J58/SUM($AU$33:$AU$35))","v":""},"",null,""]
[null,null,null,null,null,null,null,null,null,null,null,"","","","","",null,null,null,"","","","","",{"$f":"IF(F36=\"\",\"\",ROUND((I36*T36)/(1-W36)*(1-U36+V36),References!$B$4))","v":""},{"$f":"IF(F36=\"\",\"\",ROUND(J36/(1-X36)*(1-U36+V36),References!$B$5))","v":""},{"$f":"IF(F36=\"\",\"\",ROUND((K36*T36)/(1-W36)*(1-U36+V36),References!$B$4))","v":""},{"$f":"IF(F36=\"\",\"\",ROUND(L36/(1-X36)*(1-U36+V36),References!$B$5))","v":""},"","","","","","",null,null,null,{"$f":"IF(C36=\"\",\"\",Qualifying_Index!AZ74)","v":""},"","",{"$f":"IF($C36=\"\",\"\",HPwES!J57/SUM(AU36:AU38))","v":""},null,"",{"$f":"IF($C36=\"\",\"\",HPwES!J59/SUM($AU$33:$AU$35))","v":""},{"$f":"IF($C36=\"\",\"\",AR36*AU36)","v":""},null,""]
[null,null,null,null,null,null,null,null,null,null,null,"","","","","",null,null,null,"","","","","",{"$f":"IF(F37=\"\",\"\",ROUND((I37*T37)/(1-W37)*(1-U37+V37),References!$B$4))","v":""},{"$f":"IF(F37=\"\",\"\",ROUND(J37/(1-X37)*(1-U37+V37),References!$B$5))","v":""},{"$f":"IF(F37=\"\",\"\",ROUND((K37*T37)/(1-W37)*(1-U37+V37),References!$B$4))","v":""},{"$f":"IF(F37=\"\",\"\",ROUND(L37/(1-X37)*(1-U37+V37),References!$B$5))","v":""},"","","","","","",null,null,null,{"$f":"IF(C37=\"\",\"\",Qualifying_Index!AZ75)","v":""},"","",{"$f":"IF($C37=\"\",\"\",HPwES!J58/SUM(AU37:AU39))","v":""},null,"",{"$f":"IF($C37=\"\",\"\",HPwES!J60/SUM($AU$33:$AU$35))","v":""},"",null,""]
[null,null,null,null,null,null,null,null,null,null,null,"","","","","",null,null,null,"","","","","",{"$f":"IF(F38=\"\",\"\",ROUND((I38*T38)/(1-W38)*(1-U38+V38),References!$B$4))","v":""},{"$f":"IF(F38=\"\",\"\",ROUND(J38/(1-X38)*(1-U38+V38),References!$B$5))","v":""},{"$f":"IF(F38=\"\",\"\",ROUND((K38*T38)/(1-W38)*(1-U38+V38),References!$B$4))","v":""},{"$f":"IF(F38=\"\",\"\",ROUND(L38/(1-X38)*(1-U38+V38),References!$B$5))","v":""},"","","","","","",null,null,null,{"$f":"IF(C38=\"\",\"\",Qualifying_Index!AZ76)","v":""},"","",{"$f":"IF($C38=\"\",\"\",HPwES!J59/SUM(AU38:AU40))","v":""},null,"",{"$f":"IF($C38=\"\",\"\",HPwES!J61/SUM($AU$33:$AU$35))","v":""},"",null,""]
[1,null,{"$f":"IF(F39=\"\",\"\",INDEX(References!$BK$15:$BK$24,MATCH(F39,References!$BI$15:$BI$24,0)))","v":""},{"$f":"IF(F39=\"\",\"\",INDEX(References!$BJ$15:$BJ$24,MATCH(F39,References!$BI$15:$BI$24,0)))","v":""},{"$f":"IF(F39=\"\",\"\",INDEX(References!$BL$15:$BL$24,MATCH(F39,References!$BI$15:$BI$24,0)))","v":""},{"$f":"IF(Qualifying_Index!AQ81=\"\",\"\",Qualifying_Index!AQ81)","v":""},null,null,{"$f":"IF(C39=\"\",\"\",Qualifying_Index!AR81)","v":""},{"$f":"IF(C39=\"\",\"\",Qualifying_Index!AT81)","v":""},{"$f":"IF(C39=\"\",\"\",Qualifying_Index!AS81)","v":""},"","","","","",null,null,null,"","","","","",{"$f":"IF(F39=\"\",\"\",ROUND((I39*T39)/(1-W39)*(1-U39+V39),References!$B$4))","v":""},{"$f":"IF(F39=\"\",\"\",ROUND(J39/(1-X39)*(1-U39+V39),References!$B$5))","v":""},{"$f":"IF(F39=\"\",\"\",ROUND((K39*T39)/(1-W39)*(1-U39+V39),References!$B$4))","v":""},{"$f":"IF(F39=\"\",\"\",ROUND(L39/(1-X39)*(1-U39+V39),References!$B$5))","v":""},"","","","","","",null,null,null,{"$f":"IF(C39=\"\",\"\",Qualifying_Index!AW81)","v":""},"","",{"$f":"IF($C39=\"\",\"\",HPwES!J107)","v":""},null,"",{"$f":"IF($C39=\"\",\"\",HPwES!J109)","v":""},"",null,""]
[null,null,null,null,null,null,null,null,null,null,null,"","","","","",null,null,null,"","","","","",{"$f":"IF(F40=\"\",\"\",ROUND((I40*T40)/(1-W40)*(1-U40+V40),References!$B$4))","v":""},{"$f":"IF(F40=\"\",\"\",ROUND(J40/(1-X40)*(1-U40+V40),References!$B$5))","v":""},{"$f":"IF(F40=\"\",\"\",ROUND((K40*T40)/(1-W40)*(1-U40+V40),References!$B$4))","v":""},{"$f":"IF(F40=\"\",\"\",ROUND(L40/(1-X40)*(1-U40+V40),References!$B$5))","v":""},"","","","","","",null,null,null,{"$f":"IF(C40=\"\",\"\",Qualifying_Index!AZ78)","v":""},"","",{"$f":"IF($C40=\"\",\"\",HPwES!J108)","v":""},null,"",{"$f":"IF($C40=\"\",\"\",HPwES!J63/SUM($AU$33:$AU$35))","v":""},"",null,""]
[1,null,{"$f":"IF(F41=\"\",\"\",INDEX(References!$BK$15:$BK$24,MATCH(F41,References!$BI$15:$BI$24,0)))","v":""},{"$f":"IF(F41=\"\",\"\",INDEX(References!$BJ$15:$BJ$24,MATCH(F41,References!$BI$15:$BI$24,0)))","v":""},{"$f":"IF(F41=\"\",\"\",INDEX(References!$BL$15:$BL$24,MATCH(F41,References!$BI$15:$BI$24,0)))","v":""},{"$f":"IF(Qualifying_Index!AX87=\"\",\"\",Qualifying_Index!AX87)","v":""},null,null,{"$f":"IF(C41=\"\",\"\",Qualifying_Index!AO87)","v":""},{"$f":"IF(D41=\"\",\"\",Qualifying_Index!AQ87)","v":""},{"$f":"IF(E41=\"\",\"\",Qualifying_Index!AP87)","v":""},"","","","","",null,null,null,"","","","","",{"$f":"IF(F41=\"\",\"\",ROUND((I41*T41)/(1-W41)*(1-U41+V41),References!$B$4))","v":""},{"$f":"IF(F41=\"\",\"\",ROUND(J41/(1-X41)*(1-U41+V41),References!$B$5))","v":""},{"$f":"IF(F41=\"\",\"\",ROUND((K41*T41)/(1-W41)*(1-U41+V41),References!$B$4))","v":""},{"$f":"IF(F41=\"\",\"\",ROUND(L41/(1-X41)*(1-U41+V41),References!$B$5))","v":""},"","","","","","",null,null,null,{"$f":"IF(C41=\"\",\"\",Qualifying_Index!AV87)","v":""},"","",{"$f":"IF($C41=\"\",\"\",HPwES!J146/SUM($AU$41:$AU$45))","v":""},null,"",{"$f":"IF($C41=\"\",\"\",HPwES!J148/SUM($AU$41:$AU$45))","v":""},"",null,""]
[2,null,{"$f":"IF(F42=\"\",\"\",INDEX(References!$BK$15:$BK$24,MATCH(F42,References!$BI$15:$BI$24,0)))","v":""},{"$f":"IF(F42=\"\",\"\",INDEX(References!$BJ$15:$BJ$24,MATCH(F42,References!$BI$15:$BI$24,0)))","v":""},{"$f":"IF(F42=\"\",\"\",INDEX(References!$BL$15:$BL$24,MATCH(F42,References!$BI$15:$BI$24,0)))","v":""},{"$f":"IF(Qualifying_Index!AX88=\"\",\"\",Qualifying_Index!AX88)","v":""},null,null,{"$f":"IF(C42=\"\",\"\",Qualifying_Index!AO88)","v":""},{"$f":"IF(D42=\"\",\"\",Qualifying_Index!AQ88)","v":""},{"$f":"IF(E42=\"\",\"\",Qualifying_Index!AP88)","v":""},"","","","","",null,null,null,"","","","","",{"$f":"IF(F42=\"\",\"\",ROUND((I42*T42)/(1-W42)*(1-U42+V42),References!$B$4))","v":""},{"$f":"IF(F42=\"\",\"\",ROUND(J42/(1-X42)*(1-U42+V42),References!$B$5))","v":""},{"$f":"IF(F42=\"\",\"\",ROUND((K42*T42)/(1-W42)*(1-U42+V42),References!$B$4))","v":""},{"$f":"IF(F42=\"\",\"\",ROUND(L42/(1-X42)*(1-U42+V42),References!$B$5))","v":""},"","","","","","",null,null,null,{"$f":"IF(C42=\"\",\"\",Qualifying_Index!AV88)","v":""},"","",{"$f":"IF($C42=\"\",\"\",HPwES!J147/SUM($AU$41:$AU$45))","v":""},null,"",{"$f":"IF($C42=\"\",\"\",HPwES!J149/SUM($AU$41:$AU$45))","v":""},"",null,""]
[3,null,{"$f":"IF(F43=\"\",\"\",INDEX(References!$BK$15:$BK$24,MATCH(F43,References!$BI$15:$BI$24,0)))","v":""},{"$f":"IF(F43=\"\",\"\",INDEX(References!$BJ$15:$BJ$24,MATCH(F43,References!$BI$15:$BI$24,0)))","v":""},{"$f":"IF(F43=\"\",\"\",INDEX(References!$BL$15:$BL$24,MATCH(F43,References!$BI$15:$BI$24,0)))","v":""},{"$f":"IF(Qualifying_Index!AX89=\"\",\"\",Qualifying_Index!AX89)","v":""},null,null,{"$f":"IF(C43=\"\",\"\",Qualifying_Index!AO89)","v":""},{"$f":"IF(D43=\"\",\"\",Qualifying_Index!AQ89)","v":""},{"$f":"IF(E43=\"\",\"\",Qualifying_Index!AP89)","v":""},"","","","","",null,null,null,"","","","","",{"$f":"IF(F43=\"\",\"\",ROUND((I43*T43)/(1-W43)*(1-U43+V43),References!$B$4))","v":""},{"$f":"IF(F43=\"\",\"\",ROUND(J43/(1-X43)*(1-U43+V43),References!$B$5))","v":""},{"$f":"IF(F43=\"\",\"\",ROUND((K43*T43)/(1-W43)*(1-U43+V43),References!$B$4))","v":""},{"$f":"IF(F43=\"\",\"\",ROUND(L43/(1-X43)*(1-U43+V43),References!$B$5))","v":""},"","","","","","",null,null,null,{"$f":"IF(C43=\"\",\"\",Qualifying_Index!AV89)","v":""},"","",{"$f":"IF($C43=\"\",\"\",HPwES!J148/SUM($AU$41:$AU$45))","v":""},null,"",{"$f":"IF($C43=\"\",\"\",HPwES!J150/SUM($AU$41:$AU$45))","v":""},"",null,""]
[4,null,{"$f":"IF(F44=\"\",\"\",INDEX(References!$BK$15:$BK$24,MATCH(F44,References!$BI$15:$BI$24,0)))","v":""},{"$f":"IF(F44=\"\",\"\",INDEX(References!$BJ$15:$BJ$24,MATCH(F44,References!$BI$15:$BI$24,0)))","v":""},{"$f":"IF(F44=\"\",\"\",INDEX(References!$BL$15:$BL$24,MATCH(F44,References!$BI$15:$BI$24,0)))","v":""},{"$f":"IF(Qualifying_Index!AX90=\"\",\"\",Qualifying_Index!AX90)","v":""},null,null,{"$f":"IF(C44=\"\",\"\",Qualifying_Index!AO90)","v":""},{"$f":"IF(D44=\"\",\"\",Qualifying_Index!AQ90)","v":""},{"$f":"IF(E44=\"\",\"\",Qualifying_Index!AP90)","v":""},"","","","","",null,null,null,"","","","","",{"$f":"IF(F44=\"\",\"\",ROUND((I44*T44)/(1-W44)*(1-U44+V44),References!$B$4))","v":""},{"$f":"IF(F44=\"\",\"\",ROUND(J44/(1-X44)*(1-U44+V44),References!$B$5))","v":""},{"$f":"IF(F44=\"\",\"\",ROUND((K44*T44)/(1-W44)*(1-U44+V44),References!$B$4))","v":""},{"$f":"IF(F44=\"\",\"\",ROUND(L44/(1-X44)*(1-U44+V44),References!$B$5))","v":""},"","","","","","",null,null,null,{"$f":"IF(C44=\"\",\"\",Qualifying_Index!AV90)","v":""},"","",{"$f":"IF($C44=\"\",\"\",HPwES!J149/SUM($AU$41:$AU$45))","v":""},null,"",{"$f":"IF($C44=\"\",\"\",HPwES!J151/SUM($AU$41:$AU$45))","v":""},"",null,""]
[5,null,{"$f":"IF(F45=\"\",\"\",INDEX(References!$BK$15:$BK$24,MATCH(F45,References!$BI$15:$BI$24,0)))","v":""},{"$f":"IF(F45=\"\",\"\",INDEX(References!$BJ$15:$BJ$24,MATCH(F45,References!$BI$15:$BI$24,0)))","v":""},{"$f":"IF(F45=\"\",\"\",INDEX(References!$BL$15:$BL$24,MATCH(F45,References!$BI$15:$BI$24,0)))","v":""},{"$f":"IF(Qualifying_Index!AX91=\"\",\"\",Qualifying_Index!AX91)","v":""},null,null,{"$f":"IF(C45=\"\",\"\",Qualifying_Index!AO91)","v":""},{"$f":"IF(D45=\"\",\"\",Qualifying_Index!AQ91)","v":""},{"$f":"IF(E45=\"\",\"\",Qualifying_Index!AP91)","v":""},"","","","","",null,null,null,"","","","","",{"$f":"IF(F45=\"\",\"\",ROUND((I45*T45)/(1-W45)*(1-U45+V45),References!$B$4))","v":""},{"$f":"IF(F45=\"\",\"\",ROUND(J45/(1-X45)*(1-U45+V45),References!$B$5))","v":""},{"$f":"IF(F45=\"\",\"\",ROUND((K45*T45)/(1-W45)*(1-U45+V45),References!$B$4))","v":""},{"$f":"IF(F45=\"\",\"\",ROUND(L45/(1-X45)*(1-U45+V45),References!$B$5))","v":""},"","","","","","",null,null,null,{"$f":"IF(C45=\"\",\"\",Qualifying_Index!AV91)","v":""},"","",{"$f":"IF($C45=\"\",\"\",HPwES!J150/SUM($AU$41:$AU$45))","v":""},null,"",{"$f":"IF($C45=\"\",\"\",HPwES!J152/SUM($AU$41:$AU$45))","v":""},"",null,""]
[]
[]
[]
[]
[]
[1,null,{"$f":"IF(F51=\"\",\"\",\"Cooling - HVAC Equipment\")","v":""},{"$f":"IF(F51=\"\",\"\",\"Residential HVAC Other\")","v":""},{"$f":"IF(F51=\"\",\"\",INDEX(References!$CY$3:$CY$26,MATCH(F51,References!$CX$3:$CX$26,0)))","v":""},{"$f":"IF(Qualifying_Index!BU152=\"\",\"\",Qualifying_Index!BU152)","v":""},{"$f":"IF(D51=\"\",\"\",'Customer Information'!$L$48)","v":""},{"$f":"IF(C51=\"\",\"\",\"Whole House GSHP v\"&Development!$A$2)","v":""},{"$f":"IF($F51=\"\",\"\",Qualifying_Index!BI152)","v":""},{"$f":"IF($F51=\"\",\"\",Qualifying_Index!BK152)","v":""},{"$f":"Qualifying_Index!BJ152","v":""},{"$f":"Qualifying_Index!BL152","v":""},{"$f":"IF($F51=\"\",\"\",J51-L51)","v":""},{"$f":"IF(F51=\"\",\"\",1)","v":""},{"$f":"IF(F51=\"\",\"\",I51*N51*T51)","v":""},{"$f":"IF(D51=\"\",\"\",J51*N51)","v":""},{"$f":"IF(E51=\"\",\"\",K51*N51)","v":""},{"$f":"IF(F51=\"\",\"\",L51*N51)","v":""},{"$f":"IF(G51=\"\",\"\",M51*N51)","v":""},{"$f":"IF($F51=\"\",\"\",INDEX(References!$CZ$3:$CZ$26,MATCH($F51,References!$CX$3:$CX$26,0)))","v":""},{"$f":"IF($F51=\"\",\"\",INDEX(References!$DC$3:$DC$26,MATCH($F51,References!$CX$3:$CX$26,0)))","v":""},{"$f":"IF($F51=\"\",\"\",INDEX(References!$DD$3:$DD$26,MATCH($F51,References!$CX$3:$CX$26,0)))","v":""},{"$f":"IF($F51=\"\",\"\",INDEX(References!$DE$3:$DE$26,MATCH($F51,References!$CX$3:$CX$26,0)))","v":""},{"$f":"IF($F51=\"\",\"\",INDEX(References!$DF$3:$DF$26,MATCH($F51,References!$CX$3:$CX$26,0)))","v":""},{"$f":"IF(D51=\"\",\"\",ROUND((I51*T51)/(1-W51)*(1-U51+V51),References!$B$4))","v":""},{"$f":"IF(D51=\"\",\"\",ROUND(J51/(1-X51)*(1-U51+V51),References!$B$5))","v":""},{"$f":"IF(D51=\"\",\"\",ROUND((K51*T51)/(1-W51)*(1-U51+V51),References!$B$4))","v":""},{"$f":"IF(D51=\"\",\"\",ROUND(L51/(1-X51)*(1-U51+V51),References!$B$5))","v":""},{"$f":"IF(D51=\"\",\"\",Z51-AB51)","v":""},{"$f":"IF(D51=\"\",\"\",Y51*AU51)","v":""},{"$f":"IF(D51=\"\",\"\",Z51*AU51)","v":""},{"$f":"IF(D51=\"\",\"\",AA51*AU51)","v":""},{"$f":"IF(D51=\"\",\"\",AB51*AU51)","v":""},{"$f":"IF(D51=\"\",\"\",AE51-AG51)","v":""},null,null,null,{"$f":"IF(D51=\"\",\"\",Qualifying_Index!BM152)","v":""},{"$f":"IF(D51=\"\",\"\",Qualifying_Index!BN152)","v":""},{"$f":"IF(D51=\"\",\"\",AL51+AM51)","v":""},null,null,null,null,null,null,{"$f":"IF(F51=\"\",\"\",1)","v":""},null,null,null,null,null,null,null,null,null,null,null,null,null,null,null,null,null,{"$f":"IF($F51=\"\",\"\",Qualifying_Index!AQ152)","v":""},{"$f":"IF($F51=\"\",\"\",Qualifying_Index!AP152)","v":""},{"$f":"IF($F51=\"\",\"\",Qualifying_Index!I152)","v":""},{"$f":"IF($F51=\"\",\"\",Qualifying_Index!G152)","v":""},{"$f":"IF($F51=\"\",\"\",Qualifying_Index!H152)","v":""},{"$f":"IF($F51=\"\",\"\",Qualifying_Index!AT152)","v":""},{"$f":"IF($F51=\"\",\"\",Qualifying_Index!AY152)","v":""},{"$f":"IF($F51=\"\",\"\",Qualifying_Index!P152)","v":""},{"$f":"IF($F51=\"\",\"\",Qualifying_Index!K152)","v":""},{"$f":"IF($F51=\"\",\"\",Qualifying_Index!AO152)","v":""},{"$f":"IF($F51=\"\",\"\",Qualifying_Index!F152)","v":""},{"$f":"IF($F51=\"\",\"\",'Space Heating Worksheet'!M33)","v":""},{"$f":"IF($F51=\"\",\"\",'Space Heating Worksheet'!N33)","v":""},null,{"$f":"IF($F51=\"\",\"\",Qualifying_Index!AN152)","v":""},{"$f":"IF($F51=\"\",\"\",Qualifying_Index!E152)","v":""},null,null,null,null,null,null,null,null,null,null,null,null,null,null,null,{"$f":"IF($F51=\"\",\"\",Qualifying_Index!C152)","v":""},{"$f":"IF($F51=\"\",\"\",Qualifying_Index!D152)","v":""}]
[2,null,{"$f":"IF(F52=\"\",\"\",\"Cooling - HVAC Equipment\")","v":""},{"$f":"IF(F52=\"\",\"\",\"Residential HVAC Other\")","v":""},{"$f":"IF(F52=\"\",\"\",INDEX(References!$CY$3:$CY$26,MATCH(F52,References!$CX$3:$CX$26,0)))","v":""},{"$f":"IF(Qualifying_Index!BU153=\"\",\"\",Qualifying_Index!BU153)","v":""},{"$f":"IF(D52=\"\",\"\",'Customer Information'!$L$48)","v":""},{"$f":"IF(C52=\"\",\"\",\"Whole House GSHP v\"&Development!$A$2)","v":""},{"$f":"IF($F52=\"\",\"\",Qualifying_Index!BI153)","v":""},{"$f":"IF($F52=\"\",\"\",Qualifying_Index!BJ153)","v":""},{"$f":"IF($F52=\"\",\"\",Qualifying_Index!BK153)","v":""},{"$f":"IF($F52=\"\",\"\",Qualifying_Index!BL153)","v":""},{"$f":"IF($F52=\"\",\"\",Qualifying_Index!BM153)","v":""},null,null,null,null,null,null,{"$f":"IF(F52=\"\",\"\",INDEX(References!$CZ$3:$CZ$26,MATCH(F52,References!$CX$3:$CX$26,0)))","v":""},{"$f":"IF($F52=\"\",\"\",INDEX(References!$DC$3:$DC$26,MATCH($F52,References!$CX$3:$CX$26,0)))","v":""},{"$f":"IF($F52=\"\",\"\",INDEX(References!$DD$3:$DD$26,MATCH($F52,References!$CX$3:$CX$26,0)))","v":""},{"$f":"IF($F52=\"\",\"\",INDEX(References!$DE$3:$DE$26,MATCH($F52,References!$CX$3:$CX$26,0)))","v":""},{"$f":"IF($F52=\"\",\"\",INDEX(References!$DF$3:$DF$26,MATCH($F52,References!$CX$3:$CX$26,0)))","v":""},{"$f":"IF(D52=\"\",\"\",ROUND((I52*T52)/(1-W52)*(1-U52+V52),References!$B$4))","v":""},{"$f":"IF(D52=\"\",\"\",ROUND(J52/(1-X52)*(1-U52+V52),References!$B$5))","v":""},{"$f":"IF(D52=\"\",\"\",ROUND((K52*T52)/(1-W52)*(1-U52+V52),References!$B$4))","v":""},{"$f":"IF(D52=\"\",\"\",ROUND(L52/(1-X52)*(1-U52+V52),References!$B$5))","v":""},{"$f":"IF(D52=\"\",\"\",Z52-AB52)","v":""},{"$f":"IF(D52=\"\",\"\",Y52*AU52)","v":""},{"$f":"IF(D52=\"\",\"\",Z52*AU52)","v":""},{"$f":"IF(D52=\"\",\"\",AA52*AU52)","v":""},{"$f":"IF(D52=\"\",\"\",AB52*AU52)","v":""},{"$f":"IF(D52=\"\",\"\",AE52-AG52)","v":""},null,null,null,{"$f":"IF(D52=\"\",\"\",Qualifying_Index!BM153)","v":""},{"$f":"IF(D52=\"\",\"\",Qualifying_Index!BN153)","v":""},{"$f":"IF(D52=\"\",\"\",AL52+AM52)","v":""},null,null,null,null,null,null,{"$f":"IF(F52=\"\",\"\",1)","v":""},null,null,null,null,null,null,null,null,null,null,null,null,null,null,null,null,null,{"$f":"IF($F52=\"\",\"\",Qualifying_Index!AQ153)","v":""},{"$f":"IF($F52=\"\",\"\",Qualifying_Index!AP153)","v":""},{"$f":"IF($F52=\"\",\"\",Qualifying_Index!I153)","v":""},{"$f":"IF($F52=\"\",\"\",Qualifying_Index!G153)","v":""},{"$f":"IF($F52=\"\",\"\",Qualifying_Index!H153)","v":""},{"$f":"IF($F52=\"\",\"\",Qualifying_Index!AT153)","v":""},{"$f":"IF($F52=\"\",\"\",Qualifying_Index!AY153)","v":""},{"$f":"IF($F52=\"\",\"\",Qualifying_Index!P153)","v":""},{"$f":"IF($F52=\"\",\"\",Qualifying_Index!K153)","v":""},{"$f":"IF($F52=\"\",\"\",Qualifying_Index!AO153)","v":""},{"$f":"IF($F52=\"\",\"\",Qualifying_Index!F153)","v":""},{"$f":"IF($F52=\"\",\"\",'Space Heating Worksheet'!M34)","v":""},{"$f":"IF($F52=\"\",\"\",'Space Heating Worksheet'!N34)","v":""},null,{"$f":"IF($F52=\"\",\"\",Qualifying_Index!AN153)","v":""},{"$f":"IF($F52=\"\",\"\",Qualifying_Index!E153)","v":""},null,null,null,null,null,null,null,null,null,null,null,null,null,null,null,{"$f":"IF($F52=\"\",\"\",Qualifying_Index!C153)","v":""},{"$f":"IF($F52=\"\",\"\",Qualifying_Index!D153)","v":""}]
[3,null,"","",{"$f":"IF(F53=\"\",\"\",INDEX(References!$CY$3:$CY$26,MATCH(F53,References!$CX$3:$CX$26,0)))","v":""},{"$f":"IF(Qualifying_Index!BU154=\"\",\"\",Qualifying_Index!BU154)","v":""},{"$f":"IF(D53=\"\",\"\",'Customer Information'!$L$48)","v":""},{"$f":"IF(C53=\"\",\"\",\"Whole House GSHP v\"&Development!$A$2)","v":""},{"$f":"IF($F53=\"\",\"\",Qualifying_Index!BI154)","v":""},{"$f":"IF($F53=\"\",\"\",Qualifying_Index!BJ154)","v":""},{"$f":"IF($F53=\"\",\"\",Qualifying_Index!BK154)","v":""},{"$f":"IF($F53=\"\",\"\",Qualifying_Index!BL154)","v":""},{"$f":"IF($F53=\"\",\"\",Qualifying_Index!BM154)","v":""},null,null,null,null,null,null,{"$f":"IF(F53=\"\",\"\",INDEX(References!$CZ$3:$CZ$26,MATCH(F53,References!$CX$3:$CX$26,0)))","v":""},{"$f":"IF($F53=\"\",\"\",INDEX(References!$DC$3:$DC$26,MATCH($F53,References!$CX$3:$CX$26,0)))","v":""},{"$f":"IF($F53=\"\",\"\",INDEX(References!$DD$3:$DD$26,MATCH($F53,References!$CX$3:$CX$26,0)))","v":""},{"$f":"IF($F53=\"\",\"\",INDEX(References!$DE$3:$DE$26,MATCH($F53,References!$CX$3:$CX$26,0)))","v":""},{"$f":"IF($F53=\"\",\"\",INDEX(References!$DF$3:$DF$26,MATCH($F53,References!$CX$3:$CX$26,0)))","v":""},{"$f":"IF(D53=\"\",\"\",ROUND((I53*T53)/(1-W53)*(1-U53+V53),References!$B$4))","v":""},{"$f":"IF(D53=\"\",\"\",ROUND(J53/(1-X53)*(1-U53+V53),References!$B$5))","v":""},{"$f":"IF(D53=\"\",\"\",ROUND((K53*T53)/(1-W53)*(1-U53+V53),References!$B$4))","v":""},{"$f":"IF(D53=\"\",\"\",ROUND(L53/(1-X53)*(1-U53+V53),References!$B$5))","v":""},"","","","","","",null,null,null,{"$f":"IF(D53=\"\",\"\",Qualifying_Index!BM154)","v":""},{"$f":"IF(D53=\"\",\"\",Qualifying_Index!BN154)","v":""},"",null,null,null,null,null,null,"",null,null,null,null,null,null,null,null,null,null,null,null,null,null,null,null,null,{"$f":"IF($F53=\"\",\"\",Qualifying_Index!AQ154)","v":""},{"$f":"IF($F53=\"\",\"\",Qualifying_Index!AP154)","v":""},{"$f":"IF($F53=\"\",\"\",Qualifying_Index!I154)","v":""},{"$f":"IF($F53=\"\",\"\",Qualifying_Index!G154)","v":""},{"$f":"IF($F53=\"\",\"\",Qualifying_Index!H154)","v":""},{"$f":"IF($F53=\"\",\"\",Qualifying_Index!AT154)","v":""},{"$f":"IF($F53=\"\",\"\",Qualifying_Index!AY154)","v":""},{"$f":"IF($F53=\"\",\"\",Qualifying_Index!P154)","v":""},{"$f":"IF($F53=\"\",\"\",Qualifying_Index!K154)","v":""},{"$f":"IF($F53=\"\",\"\",Qualifying_Index!AO154)","v":""},{"$f":"IF($F53=\"\",\"\",Qualifying_Index!F154)","v":""},{"$f":"IF($F53=\"\",\"\",'Space Heating Worksheet'!M35)","v":""},{"$f":"IF($F53=\"\",\"\",'Space Heating Worksheet'!N35)","v":""},null,{"$f":"IF($F53=\"\",\"\",Qualifying_Index!AN154)","v":""},{"$f":"IF($F53=\"\",\"\",Qualifying_Index!E154)","v":""},null,null,null,null,null,null,null,null,null,null,null,null,null,null,null,{"$f":"IF($F53=\"\",\"\",Qualifying_Index!C154)","v":""},{"$f":"IF($F53=\"\",\"\",Qualifying_Index!D154)","v":""}]
[4,null,"","",{"$f":"IF(F54=\"\",\"\",INDEX(References!$CY$3:$CY$26,MATCH(F54,References!$CX$3:$CX$26,0)))","v":""},{"$f":"IF(Qualifying_Index!BU155=\"\",\"\",Qualifying_Index!BU155)","v":""},{"$f":"IF(D54=\"\",\"\",'Customer Information'!$L$48)","v":""},{"$f":"IF(C54=\"\",\"\",\"Whole House GSHP v\"&Development!$A$2)","v":""},{"$f":"IF($F54=\"\",\"\",Qualifying_Index!BI155)","v":""},{"$f":"IF($F54=\"\",\"\",Qualifying_Index!BJ155)","v":""},{"$f":"IF($F54=\"\",\"\",Qualifying_Index!BK155)","v":""},{"$f":"IF($F54=\"\",\"\",Qualifying_Index!BL155)","v":""},{"$f":"IF($F54=\"\",\"\",Qualifying_Index!BM155)","v":""},null,null,null,null,null,null,{"$f":"IF(F54=\"\",\"\",INDEX(References!$CZ$3:$CZ$26,MATCH(F54,References!$CX$3:$CX$26,0)))","v":""},{"$f":"IF($F54=\"\",\"\",INDEX(References!$DC$3:$DC$26,MATCH($F54,References!$CX$3:$CX$26,0)))","v":""},{"$f":"IF($F54=\"\",\"\",INDEX(References!$DD$3:$DD$26,MATCH($F54,References!$CX$3:$CX$26,0)))","v":""},{"$f":"IF($F54=\"\",\"\",INDEX(References!$DE$3:$DE$26,MATCH($F54,References!$CX$3:$CX$26,0)))","v":""},{"$f":"IF($F54=\"\",\"\",INDEX(References!$DF$3:$DF$26,MATCH($F54,References!$CX$3:$CX$26,0)))","v":""},{"$f":"IF(D54=\"\",\"\",ROUND((I54*T54)/(1-W54)*(1-U54+V54),References!$B$4))","v":""},{"$f":"IF(D54=\"\",\"\",ROUND(J54/(1-X54)*(1-U54+V54),References!$B$5))","v":""},{"$f":"IF(D54=\"\",\"\",ROUND((K54*T54)/(1-W54)*(1-U54+V54),References!$B$4))","v":""},{"$f":"IF(D54=\"\",\"\",ROUND(L54/(1-X54)*(1-U54+V54),References!$B$5))","v":""},"","","","","","",null,null,null,{"$f":"IF(D54=\"\",\"\",Qualifying_Index!BM155)","v":""},{"$f":"IF(D54=\"\",\"\",Qualifying_Index!BN155)","v":""},"",null,null,null,null,null,null,"",null,null,null,null,null,null,null,null,null,null,null,null,null,null,null,null,null,{"$f":"IF($F54=\"\",\"\",Qualifying_Index!AQ155)","v":""},{"$f":"IF($F54=\"\",\"\",Qualifying_Index!AP155)","v":""},{"$f":"IF($F54=\"\",\"\",Qualifying_Index!I155)","v":""},{"$f":"IF($F54=\"\",\"\",Qualifying_Index!G155)","v":""},{"$f":"IF($F54=\"\",\"\",Qualifying_Index!H155)","v":""},{"$f":"IF($F54=\"\",\"\",Qualifying_Index!AT155)","v":""},{"$f":"IF($F54=\"\",\"\",Qualifying_Index!AY155)","v":""},{"$f":"IF($F54=\"\",\"\",Qualifying_Index!P155)","v":""},{"$f":"IF($F54=\"\",\"\",Qualifying_Index!K155)","v":""},{"$f":"IF($F54=\"\",\"\",Qualifying_Index!AO155)","v":""},{"$f":"IF($F54=\"\",\"\",Qualifying_Index!F155)","v":""},{"$f":"IF($F54=\"\",\"\",'Space Heating Worksheet'!M36)","v":""},{"$f":"IF($F54=\"\",\"\",'Space Heating Worksheet'!N36)","v":""},null,{"$f":"IF($F54=\"\",\"\",Qualifying_Index!AN155)","v":""},{"$f":"IF($F54=\"\",\"\",Qualifying_Index!E155)","v":""},null,null,null,null,null,null,null,null,null,null,null,null,null,null,null,{"$f":"IF($F54=\"\",\"\",Qualifying_Index!C155)","v":""},{"$f":"IF($F54=\"\",\"\",Qualifying_Index!D155)","v":""}]
[5,null,"","",{"$f":"IF(F55=\"\",\"\",INDEX(References!$CY$3:$CY$26,MATCH(F55,References!$CX$3:$CX$26,0)))","v":""},{"$f":"IF(Qualifying_Index!BU156=\"\",\"\",Qualifying_Index!BU156)","v":""},{"$f":"IF(D55=\"\",\"\",'Customer Information'!$L$48)","v":""},{"$f":"IF(C55=\"\",\"\",\"Whole House GSHP v\"&Development!$A$2)","v":""},{"$f":"IF($F55=\"\",\"\",Qualifying_Index!BI156)","v":""},{"$f":"IF($F55=\"\",\"\",Qualifying_Index!BJ156)","v":""},{"$f":"IF($F55=\"\",\"\",Qualifying_Index!BK156)","v":""},{"$f":"IF($F55=\"\",\"\",Qualifying_Index!BL156)","v":""},{"$f":"IF($F55=\"\",\"\",Qualifying_Index!BM156)","v":""},null,null,null,null,null,null,{"$f":"IF(F55=\"\",\"\",INDEX(References!$CZ$3:$CZ$26,MATCH(F55,References!$CX$3:$CX$26,0)))","v":""},{"$f":"IF($F55=\"\",\"\",INDEX(References!$DC$3:$DC$26,MATCH($F55,References!$CX$3:$CX$26,0)))","v":""},{"$f":"IF($F55=\"\",\"\",INDEX(References!$DD$3:$DD$26,MATCH($F55,References!$CX$3:$CX$26,0)))","v":""},{"$f":"IF($F55=\"\",\"\",INDEX(References!$DE$3:$DE$26,MATCH($F55,References!$CX$3:$CX$26,0)))","v":""},{"$f":"IF($F55=\"\",\"\",INDEX(References!$DF$3:$DF$26,MATCH($F55,References!$CX$3:$CX$26,0)))","v":""},{"$f":"IF(D55=\"\",\"\",ROUND((I55*T55)/(1-W55)*(1-U55+V55),References!$B$4))","v":""},{"$f":"IF(D55=\"\",\"\",ROUND(J55/(1-X55)*(1-U55+V55),References!$B$5))","v":""},{"$f":"IF(D55=\"\",\"\",ROUND((K55*T55)/(1-W55)*(1-U55+V55),References!$B$4))","v":""},{"$f":"IF(D55=\"\",\"\",ROUND(L55/(1-X55)*(1-U55+V55),References!$B$5))","v":""},"","","","","","",null,null,null,{"$f":"IF(D55=\"\",\"\",Qualifying_Index!BM156)","v":""},{"$f":"IF(D55=\"\",\"\",Qualifying_Index!BN156)","v":""},"",null,null,null,null,null,null,"",null,null,null,null,null,null,null,null,null,null,null,null,null,null,null,null,null,{"$f":"IF($F55=\"\",\"\",Qualifying_Index!AQ156)","v":""},{"$f":"IF($F55=\"\",\"\",Qualifying_Index!AP156)","v":""},{"$f":"IF($F55=\"\",\"\",Qualifying_Index!I156)","v":""},{"$f":"IF($F55=\"\",\"\",Qualifying_Index!G156)","v":""},{"$f":"IF($F55=\"\",\"\",Qualifying_Index!H156)","v":""},{"$f":"IF($F55=\"\",\"\",Qualifying_Index!AT156)","v":""},{"$f":"IF($F55=\"\",\"\",Qualifying_Index!AY156)","v":""},{"$f":"IF($F55=\"\",\"\",Qualifying_Index!P156)","v":""},{"$f":"IF($F55=\"\",\"\",Qualifying_Index!K156)","v":""},{"$f":"IF($F55=\"\",\"\",Qualifying_Index!AO156)","v":""},{"$f":"IF($F55=\"\",\"\",Qualifying_Index!F156)","v":""},{"$f":"IF($F55=\"\",\"\",'Space Heating Worksheet'!M37)","v":""},{"$f":"IF($F55=\"\",\"\",'Space Heating Worksheet'!N37)","v":""},null,{"$f":"IF($F55=\"\",\"\",Qualifying_Index!AN156)","v":""},{"$f":"IF($F55=\"\",\"\",Qualifying_Index!E156)","v":""},null,null,null,null,null,null,null,null,null,null,null,null,null,null,null,{"$f":"IF($F55=\"\",\"\",Qualifying_Index!C156)","v":""},{"$f":"IF($F55=\"\",\"\",Qualifying_Index!D156)","v":""}]
[6,null,"","",{"$f":"IF(F56=\"\",\"\",INDEX(References!$CY$3:$CY$26,MATCH(F56,References!$CX$3:$CX$26,0)))","v":""},{"$f":"IF(Qualifying_Index!BU157=\"\",\"\",Qualifying_Index!BU157)","v":""},{"$f":"IF(D56=\"\",\"\",'Customer Information'!$L$48)","v":""},{"$f":"IF(C56=\"\",\"\",\"Whole House GSHP v\"&Development!$A$2)","v":""},{"$f":"IF($F56=\"\",\"\",Qualifying_Index!BI157)","v":""},{"$f":"IF($F56=\"\",\"\",Qualifying_Index!BJ157)","v":""},{"$f":"IF($F56=\"\",\"\",Qualifying_Index!BK157)","v":""},{"$f":"IF($F56=\"\",\"\",Qualifying_Index!BL157)","v":""},{"$f":"IF($F56=\"\",\"\",Qualifying_Index!BM157)","v":""},null,null,null,null,null,null,{"$f":"IF(F56=\"\",\"\",INDEX(References!$CZ$3:$CZ$26,MATCH(F56,References!$CX$3:$CX$26,0)))","v":""},{"$f":"IF($F56=\"\",\"\",INDEX(References!$DC$3:$DC$26,MATCH($F56,References!$CX$3:$CX$26,0)))","v":""},{"$f":"IF($F56=\"\",\"\",INDEX(References!$DD$3:$DD$26,MATCH($F56,References!$CX$3:$CX$26,0)))","v":""},{"$f":"IF($F56=\"\",\"\",INDEX(References!$DE$3:$DE$26,MATCH($F56,References!$CX$3:$CX$26,0)))","v":""},{"$f":"IF($F56=\"\",\"\",INDEX(References!$DF$3:$DF$26,MATCH($F56,References!$CX$3:$CX$26,0)))","v":""},{"$f":"IF(D56=\"\",\"\",ROUND((I56*T56)/(1-W56)*(1-U56+V56),References!$B$4))","v":""},{"$f":"IF(D56=\"\",\"\",ROUND(J56/(1-X56)*(1-U56+V56),References!$B$5))","v":""},{"$f":"IF(D56=\"\",\"\",ROUND((K56*T56)/(1-W56)*(1-U56+V56),References!$B$4))","v":""},{"$f":"IF(D56=\"\",\"\",ROUND(L56/(1-X56)*(1-U56+V56),References!$B$5))","v":""},"","","","","","",null,null,null,{"$f":"IF(D56=\"\",\"\",Qualifying_Index!BM157)","v":""},{"$f":"IF(D56=\"\",\"\",Qualifying_Index!BN157)","v":""},"",null,null,null,null,null,null,"",null,null,null,null,null,null,null,null,null,null,null,null,null,null,null,null,null,{"$f":"IF($F56=\"\",\"\",Qualifying_Index!AQ157)","v":""},{"$f":"IF($F56=\"\",\"\",Qualifying_Index!AP157)","v":""},{"$f":"IF($F56=\"\",\"\",Qualifying_Index!I157)","v":""},{"$f":"IF($F56=\"\",\"\",Qualifying_Index!G157)","v":""},{"$f":"IF($F56=\"\",\"\",Qualifying_Index!H157)","v":""},{"$f":"IF($F56=\"\",\"\",Qualifying_Index!AT157)","v":""},{"$f":"IF($F56=\"\",\"\",Qualifying_Index!AY157)","v":""},{"$f":"IF($F56=\"\",\"\",Qualifying_Index!P157)","v":""},{"$f":"IF($F56=\"\",\"\",Qualifying_Index!K157)","v":""},{"$f":"IF($F56=\"\",\"\",Qualifying_Index!AO157)","v":""},{"$f":"IF($F56=\"\",\"\",Qualifying_Index!F157)","v":""},{"$f":"IF($F56=\"\",\"\",'Space Heating Worksheet'!M38)","v":""},{"$f":"IF($F56=\"\",\"\",'Space Heating Worksheet'!N38)","v":""},null,{"$f":"IF($F56=\"\",\"\",Qualifying_Index!AN157)","v":""},{"$f":"IF($F56=\"\",\"\",Qualifying_Index!E157)","v":""},null,null,null,null,null,null,null,null,null,null,null,null,null,null,null,{"$f":"IF($F56=\"\",\"\",Qualifying_Index!C157)","v":""},{"$f":"IF($F56=\"\",\"\",Qualifying_Index!D157)","v":""}]
[7,null,"","",{"$f":"IF(F57=\"\",\"\",INDEX(References!$CY$3:$CY$26,MATCH(F57,References!$CX$3:$CX$26,0)))","v":""},{"$f":"IF(Qualifying_Index!BU158=\"\",\"\",Qualifying_Index!BU158)","v":""},{"$f":"IF(D57=\"\",\"\",'Customer Information'!$L$48)","v":""},{"$f":"IF(C57=\"\",\"\",\"Whole House GSHP v\"&Development!$A$2)","v":""},{"$f":"IF($F57=\"\",\"\",Qualifying_Index!BI158)","v":""},{"$f":"IF($F57=\"\",\"\",Qualifying_Index!BJ158)","v":""},{"$f":"IF($F57=\"\",\"\",Qualifying_Index!BK158)","v":""},{"$f":"IF($F57=\"\",\"\",Qualifying_Index!BL158)","v":""},{"$f":"IF($F57=\"\",\"\",Qualifying_Index!BM158)","v":""},null,null,null,null,null,null,{"$f":"IF(F57=\"\",\"\",INDEX(References!$CZ$3:$CZ$26,MATCH(F57,References!$CX$3:$CX$26,0)))","v":""},{"$f":"IF($F57=\"\",\"\",INDEX(References!$DC$3:$DC$26,MATCH($F57,References!$CX$3:$CX$26,0)))","v":""},{"$f":"IF($F57=\"\",\"\",INDEX(References!$DD$3:$DD$26,MATCH($F57,References!$CX$3:$CX$26,0)))","v":""},{"$f":"IF($F57=\"\",\"\",INDEX(References!$DE$3:$DE$26,MATCH($F57,References!$CX$3:$CX$26,0)))","v":""},{"$f":"IF($F57=\"\",\"\",INDEX(References!$DF$3:$DF$26,MATCH($F57,References!$CX$3:$CX$26,0)))","v":""},{"$f":"IF(D57=\"\",\"\",ROUND((I57*T57)/(1-W57)*(1-U57+V57),References!$B$4))","v":""},{"$f":"IF(D57=\"\",\"\",ROUND(J57/(1-X57)*(1-U57+V57),References!$B$5))","v":""},{"$f":"IF(D57=\"\",\"\",ROUND((K57*T57)/(1-W57)*(1-U57+V57),References!$B$4))","v":""},{"$f":"IF(D57=\"\",\"\",ROUND(L57/(1-X57)*(1-U57+V57),References!$B$5))","v":""},"","","","","","",null,null,null,{"$f":"IF(D57=\"\",\"\",Qualifying_Index!BM158)","v":""},{"$f":"IF(D57=\"\",\"\",Qualifying_Index!BN158)","v":""},"",null,null,null,null,null,null,"",null,null,null,null,null,null,null,null,null,null,null,null,null,null,null,null,null,{"$f":"IF($F57=\"\",\"\",Qualifying_Index!AQ158)","v":""},{"$f":"IF($F57=\"\",\"\",Qualifying_Index!AP158)","v":""},{"$f":"IF($F57=\"\",\"\",Qualifying_Index!I158)","v":""},{"$f":"IF($F57=\"\",\"\",Qualifying_Index!G158)","v":""},{"$f":"IF($F57=\"\",\"\",Qualifying_Index!H158)","v":""},{"$f":"IF($F57=\"\",\"\",Qualifying_Index!AT158)","v":""},{"$f":"IF($F57=\"\",\"\",Qualifying_Index!AY158)","v":""},{"$f":"IF($F57=\"\",\"\",Qualifying_Index!P158)","v":""},{"$f":"IF($F57=\"\",\"\",Qualifying_Index!K158)","v":""},{"$f":"IF($F57=\"\",\"\",Qualifying_Index!AO158)","v":""},{"$f":"IF($F57=\"\",\"\",Qualifying_Index!F158)","v":""},{"$f":"IF($F57=\"\",\"\",'Space Heating Worksheet'!M39)","v":""},{"$f":"IF($F57=\"\",\"\",'Space Heating Worksheet'!N39)","v":""},null,{"$f":"IF($F57=\"\",\"\",Qualifying_Index!AN158)","v":""},{"$f":"IF($F57=\"\",\"\",Qualifying_Index!E158)","v":""},null,null,null,null,null,null,null,null,null,null,null,null,null,null,null,{"$f":"IF($F57=\"\",\"\",Qualifying_Index!C158)","v":""},{"$f":"IF($F57=\"\",\"\",Qualifying_Index!D158)","v":""}]
[8,null,"","",{"$f":"IF(F58=\"\",\"\",INDEX(References!$CY$3:$CY$26,MATCH(F58,References!$CX$3:$CX$26,0)))","v":""},{"$f":"IF(Qualifying_Index!BU159=\"\",\"\",Qualifying_Index!BU159)","v":""},{"$f":"IF(D58=\"\",\"\",'Customer Information'!$L$48)","v":""},{"$f":"IF(C58=\"\",\"\",\"Whole House GSHP v\"&Development!$A$2)","v":""},{"$f":"IF($F58=\"\",\"\",Qualifying_Index!BI159)","v":""},{"$f":"IF($F58=\"\",\"\",Qualifying_Index!BJ159)","v":""},{"$f":"IF($F58=\"\",\"\",Qualifying_Index!BK159)","v":""},{"$f":"IF($F58=\"\",\"\",Qualifying_Index!BL159)","v":""},{"$f":"IF($F58=\"\",\"\",Qualifying_Index!BM159)","v":""},null,null,null,null,null,null,{"$f":"IF(F58=\"\",\"\",INDEX(References!$CZ$3:$CZ$26,MATCH(F58,References!$CX$3:$CX$26,0)))","v":""},{"$f":"IF($F58=\"\",\"\",INDEX(References!$DC$3:$DC$26,MATCH($F58,References!$CX$3:$CX$26,0)))","v":""},{"$f":"IF($F58=\"\",\"\",INDEX(References!$DD$3:$DD$26,MATCH($F58,References!$CX$3:$CX$26,0)))","v":""},{"$f":"IF($F58=\"\",\"\",INDEX(References!$DE$3:$DE$26,MATCH($F58,References!$CX$3:$CX$26,0)))","v":""},{"$f":"IF($F58=\"\",\"\",INDEX(References!$DF$3:$DF$26,MATCH($F58,References!$CX$3:$CX$26,0)))","v":""},{"$f":"IF(D58=\"\",\"\",ROUND((I58*T58)/(1-W58)*(1-U58+V58),References!$B$4))","v":""},{"$f":"IF(D58=\"\",\"\",ROUND(J58/(1-X58)*(1-U58+V58),References!$B$5))","v":""},{"$f":"IF(D58=\"\",\"\",ROUND((K58*T58)/(1-W58)*(1-U58+V58),References!$B$4))","v":""},{"$f":"IF(D58=\"\",\"\",ROUND(L58/(1-X58)*(1-U58+V58),References!$B$5))","v":""},"","","","","","",null,null,null,{"$f":"IF(D58=\"\",\"\",Qualifying_Index!BM159)","v":""},{"$f":"IF(D58=\"\",\"\",Qualifying_Index!BN159)","v":""},"",null,null,null,null,null,null,"",null,null,null,null,null,null,null,null,null,null,null,null,null,null,null,null,null,{"$f":"IF($F58=\"\",\"\",Qualifying_Index!AQ159)","v":""},{"$f":"IF($F58=\"\",\"\",Qualifying_Index!AP159)","v":""},{"$f":"IF($F58=\"\",\"\",Qualifying_Index!I159)","v":""},{"$f":"IF($F58=\"\",\"\",Qualifying_Index!G159)","v":""},{"$f":"IF($F58=\"\",\"\",Qualifying_Index!H159)","v":""},{"$f":"IF($F58=\"\",\"\",Qualifying_Index!AT159)","v":""},{"$f":"IF($F58=\"\",\"\",Qualifying_Index!AY159)","v":""},{"$f":"IF($F58=\"\",\"\",Qualifying_Index!P159)","v":""},{"$f":"IF($F58=\"\",\"\",Qualifying_Index!K159)","v":""},{"$f":"IF($F58=\"\",\"\",Qualifying_Index!AO159)","v":""},{"$f":"IF($F58=\"\",\"\",Qualifying_Index!F159)","v":""},{"$f":"IF($F58=\"\",\"\",'Space Heating Worksheet'!M40)","v":""},{"$f":"IF($F58=\"\",\"\",'Space Heating Worksheet'!N40)","v":""},null,{"$f":"IF($F58=\"\",\"\",Qualifying_Index!AN159)","v":""},{"$f":"IF($F58=\"\",\"\",Qualifying_Index!E159)","v":""},null,null,null,null,null,null,null,null,null,null,null,null,null,null,null,{"$f":"IF($F58=\"\",\"\",Qualifying_Index!C159)","v":""},{"$f":"IF($F58=\"\",\"\",Qualifying_Index!D159)","v":""}]
[9,null,"","",{"$f":"IF(F59=\"\",\"\",INDEX(References!$CY$3:$CY$26,MATCH(F59,References!$CX$3:$CX$26,0)))","v":""},{"$f":"IF(Qualifying_Index!BU160=\"\",\"\",Qualifying_Index!BU160)","v":""},{"$f":"IF(D59=\"\",\"\",'Customer Information'!$L$48)","v":""},{"$f":"IF(C59=\"\",\"\",\"Whole House GSHP v\"&Development!$A$2)","v":""},{"$f":"IF($F59=\"\",\"\",Qualifying_Index!BI160)","v":""},{"$f":"IF($F59=\"\",\"\",Qualifying_Index!BJ160)","v":""},{"$f":"IF($F59=\"\",\"\",Qualifying_Index!BK160)","v":""},{"$f":"IF($F59=\"\",\"\",Qualifying_Index!BL160)","v":""},{"$f":"IF($F59=\"\",\"\",Qualifying_Index!BM160)","v":""},null,null,null,null,null,null,{"$f":"IF(F59=\"\",\"\",INDEX(References!$CZ$3:$CZ$26,MATCH(F59,References!$CX$3:$CX$26,0)))","v":""},{"$f":"IF($F59=\"\",\"\",INDEX(References!$DC$3:$DC$26,MATCH($F59,References!$CX$3:$CX$26,0)))","v":""},{"$f":"IF($F59=\"\",\"\",INDEX(References!$DD$3:$DD$26,MATCH($F59,References!$CX$3:$CX$26,0)))","v":""},{"$f":"IF($F59=\"\",\"\",INDEX(References!$DE$3:$DE$26,MATCH($F59,References!$CX$3:$CX$26,0)))","v":""},{"$f":"IF($F59=\"\",\"\",INDEX(References!$DF$3:$DF$26,MATCH($F59,References!$CX$3:$CX$26,0)))","v":""},{"$f":"IF(D59=\"\",\"\",ROUND((I59*T59)/(1-W59)*(1-U59+V59),References!$B$4))","v":""},{"$f":"IF(D59=\"\",\"\",ROUND(J59/(1-X59)*(1-U59+V59),References!$B$5))","v":""},{"$f":"IF(D59=\"\",\"\",ROUND((K59*T59)/(1-W59)*(1-U59+V59),References!$B$4))","v":""},{"$f":"IF(D59=\"\",\"\",ROUND(L59/(1-X59)*(1-U59+V59),References!$B$5))","v":""},"","","","","","",null,null,null,{"$f":"IF(D59=\"\",\"\",Qualifying_Index!BM160)","v":""},{"$f":"IF(D59=\"\",\"\",Qualifying_Index!BN160)","v":""},"",null,null,null,null,null,null,"",null,null,null,null,null,null,null,null,null,null,null,null,null,null,null,null,null,{"$f":"IF($F59=\"\",\"\",Qualifying_Index!AQ160)","v":""},{"$f":"IF($F59=\"\",\"\",Qualifying_Index!AP160)","v":""},{"$f":"IF($F59=\"\",\"\",Qualifying_Index!I160)","v":""},{"$f":"IF($F59=\"\",\"\",Qualifying_Index!G160)","v":""},{"$f":"IF($F59=\"\",\"\",Qualifying_Index!H160)","v":""},{"$f":"IF($F59=\"\",\"\",Qualifying_Index!AT160)","v":""},{"$f":"IF($F59=\"\",\"\",Qualifying_Index!AY160)","v":""},{"$f":"IF($F59=\"\",\"\",Qualifying_Index!P160)","v":""},{"$f":"IF($F59=\"\",\"\",Qualifying_Index!K160)","v":""},{"$f":"IF($F59=\"\",\"\",Qualifying_Index!AO160)","v":""},{"$f":"IF($F59=\"\",\"\",Qualifying_Index!F160)","v":""},{"$f":"IF($F59=\"\",\"\",'Space Heating Worksheet'!M41)","v":""},{"$f":"IF($F59=\"\",\"\",'Space Heating Worksheet'!N41)","v":""},null,{"$f":"IF($F59=\"\",\"\",Qualifying_Index!AN160)","v":""},{"$f":"IF($F59=\"\",\"\",Qualifying_Index!E160)","v":""},null,null,null,null,null,null,null,null,null,null,null,null,null,null,null,{"$f":"IF($F59=\"\",\"\",Qualifying_Index!C160)","v":""},{"$f":"IF($F59=\"\",\"\",Qualifying_Index!D160)","v":""}]
[10,null,"","",{"$f":"IF(F60=\"\",\"\",INDEX(References!$CY$3:$CY$26,MATCH(F60,References!$CX$3:$CX$26,0)))","v":""},{"$f":"IF(Qualifying_Index!BU161=\"\",\"\",Qualifying_Index!BU161)","v":""},{"$f":"IF(D60=\"\",\"\",'Customer Information'!$L$48)","v":""},{"$f":"IF(C60=\"\",\"\",\"Whole House GSHP v\"&Development!$A$2)","v":""},{"$f":"IF($F60=\"\",\"\",Qualifying_Index!BI161)","v":""},{"$f":"IF($F60=\"\",\"\",Qualifying_Index!BJ161)","v":""},{"$f":"IF($F60=\"\",\"\",Qualifying_Index!BK161)","v":""},{"$f":"IF($F60=\"\",\"\",Qualifying_Index!BL161)","v":""},{"$f":"IF($F60=\"\",\"\",Qualifying_Index!BM161)","v":""},null,null,null,null,null,null,{"$f":"IF(F60=\"\",\"\",INDEX(References!$CZ$3:$CZ$26,MATCH(F60,References!$CX$3:$CX$26,0)))","v":""},{"$f":"IF($F60=\"\",\"\",INDEX(References!$DC$3:$DC$26,MATCH($F60,References!$CX$3:$CX$26,0)))","v":""},{"$f":"IF($F60=\"\",\"\",INDEX(References!$DD$3:$DD$26,MATCH($F60,References!$CX$3:$CX$26,0)))","v":""},{"$f":"IF($F60=\"\",\"\",INDEX(References!$DE$3:$DE$26,MATCH($F60,References!$CX$3:$CX$26,0)))","v":""},{"$f":"IF($F60=\"\",\"\",INDEX(References!$DF$3:$DF$26,MATCH($F60,References!$CX$3:$CX$26,0)))","v":""},{"$f":"IF(D60=\"\",\"\",ROUND((I60*T60)/(1-W60)*(1-U60+V60),References!$B$4))","v":""},{"$f":"IF(D60=\"\",\"\",ROUND(J60/(1-X60)*(1-U60+V60),References!$B$5))","v":""},{"$f":"IF(D60=\"\",\"\",ROUND((K60*T60)/(1-W60)*(1-U60+V60),References!$B$4))","v":""},{"$f":"IF(D60=\"\",\"\",ROUND(L60/(1-X60)*(1-U60+V60),References!$B$5))","v":""},"","","","","","",null,null,null,{"$f":"IF(D60=\"\",\"\",Qualifying_Index!BM161)","v":""},{"$f":"IF(D60=\"\",\"\",Qualifying_Index!BN161)","v":""},"",null,null,null,null,null,null,"",null,null,null,null,null,null,null,null,null,null,null,null,null,null,null,null,null,{"$f":"IF($F60=\"\",\"\",Qualifying_Index!AQ161)","v":""},{"$f":"IF($F60=\"\",\"\",Qualifying_Index!AP161)","v":""},{"$f":"IF($F60=\"\",\"\",Qualifying_Index!I161)","v":""},{"$f":"IF($F60=\"\",\"\",Qualifying_Index!G161)","v":""},{"$f":"IF($F60=\"\",\"\",Qualifying_Index!H161)","v":""},{"$f":"IF($F60=\"\",\"\",Qualifying_Index!AT161)","v":""},{"$f":"IF($F60=\"\",\"\",Qualifying_Index!AY161)","v":""},{"$f":"IF($F60=\"\",\"\",Qualifying_Index!P161)","v":""},{"$f":"IF($F60=\"\",\"\",Qualifying_Index!K161)","v":""},{"$f":"IF($F60=\"\",\"\",Qualifying_Index!AO161)","v":""},{"$f":"IF($F60=\"\",\"\",Qualifying_Index!F161)","v":""},{"$f":"IF($F60=\"\",\"\",'Space Heating Worksheet'!M42)","v":""},{"$f":"IF($F60=\"\",\"\",'Space Heating Worksheet'!N42)","v":""},null,{"$f":"IF($F60=\"\",\"\",Qualifying_Index!AN161)","v":""},{"$f":"IF($F60=\"\",\"\",Qualifying_Index!E161)","v":""},null,null,null,null,null,null,null,null,null,null,null,null,null,null,null,{"$f":"IF($F60=\"\",\"\",Qualifying_Index!C161)","v":""},{"$f":"IF($F60=\"\",\"\",Qualifying_Index!D161)","v":""}]
[1,null,{"$f":"IF(D61=\"\",\"\",\"Cooling - HVAC Equipment\")","v":""},{"$f":"IF('Smart T-Stats'!K69=\"\",\"\",\"Residential HVAC Other\")","v":""},null,{"$f":"IF(D61=\"\",\"\",Qualifying_Index!BU162)","v":""},{"$f":"IF(D61=\"\",\"\",'Customer Information'!$L$48)","v":""},{"$f":"IF(C61=\"\",\"\",\"Whole House GSHP v\"&Development!$A$2)","v":""}]
[2,null,"",{"$f":"IF('Smart T-Stats'!K70=\"\",\"\",\"Residential HVAC Other\")","v":""},null,{"$f":"IF(D62=\"\",\"\",Qualifying_Index!BU163)","v":""},{"$f":"IF(D62=\"\",\"\",'Customer Information'!$L$48)","v":""},{"$f":"IF(C62=\"\",\"\",\"Whole House GSHP v\"&Development!$A$2)","v":""}]
[3,null,"",{"$f":"IF('Smart T-Stats'!K71=\"\",\"\",\"Residential HVAC Other\")","v":""},null,{"$f":"IF(D63=\"\",\"\",Qualifying_Index!BU164)","v":""},{"$f":"IF(D63=\"\",\"\",'Customer Information'!$L$48)","v":""},{"$f":"IF(C63=\"\",\"\",\"Whole House GSHP v\"&Development!$A$2)","v":""}]
[4,null,"",{"$f":"IF('Smart T-Stats'!K72=\"\",\"\",\"Residential HVAC Other\")","v":""},null,{"$f":"IF(D64=\"\",\"\",Qualifying_Index!BU165)","v":""},{"$f":"IF(D64=\"\",\"\",'Customer Information'!$L$48)","v":""},{"$f":"IF(C64=\"\",\"\",\"Whole House GSHP v\"&Development!$A$2)","v":""}]
[5,null,"",{"$f":"IF('Smart T-Stats'!K73=\"\",\"\",\"Residential HVAC Other\")","v":""},null,{"$f":"IF(D65=\"\",\"\",Qualifying_Index!BU166)","v":""},{"$f":"IF(D65=\"\",\"\",'Customer Information'!$L$48)","v":""},{"$f":"IF(C65=\"\",\"\",\"Whole House GSHP v\"&Development!$A$2)","v":""}]
[6,null,"",{"$f":"IF('Smart T-Stats'!K74=\"\",\"\",\"Residential HVAC Other\")","v":""},null,{"$f":"IF(D66=\"\",\"\",Qualifying_Index!BU167)","v":""},{"$f":"IF(D66=\"\",\"\",'Customer Information'!$L$48)","v":""},{"$f":"IF(C66=\"\",\"\",\"Whole House GSHP v\"&Development!$A$2)","v":""}]
[7,null,"",{"$f":"IF('Smart T-Stats'!K75=\"\",\"\",\"Residential HVAC Other\")","v":""},null,{"$f":"IF(D67=\"\",\"\",Qualifying_Index!BU168)","v":""},{"$f":"IF(D67=\"\",\"\",'Customer Information'!$L$48)","v":""},{"$f":"IF(C67=\"\",\"\",\"Whole House GSHP v\"&Development!$A$2)","v":""}]
[8,null,"",{"$f":"IF('Smart T-Stats'!K76=\"\",\"\",\"Residential HVAC Other\")","v":""},null,{"$f":"IF(D68=\"\",\"\",Qualifying_Index!BU169)","v":""},{"$f":"IF(D68=\"\",\"\",'Customer Information'!$L$48)","v":""},{"$f":"IF(C68=\"\",\"\",\"Whole House GSHP v\"&Development!$A$2)","v":""}]
[9,null,"",{"$f":"IF('Smart T-Stats'!K77=\"\",\"\",\"Residential HVAC Other\")","v":""},null,{"$f":"IF(D69=\"\",\"\",Qualifying_Index!BU170)","v":""},{"$f":"IF(D69=\"\",\"\",'Customer Information'!$L$48)","v":""},{"$f":"IF(C69=\"\",\"\",\"Whole House GSHP v\"&Development!$A$2)","v":""}]
[10,null,"",{"$f":"IF('Smart T-Stats'!K78=\"\",\"\",\"Residential HVAC Other\")","v":""},null,{"$f":"IF(D70=\"\",\"\",Qualifying_Index!BU171)","v":""},{"$f":"IF(D70=\"\",\"\",'Customer Information'!$L$48)","v":""},{"$f":"IF(C70=\"\",\"\",\"Whole House GSHP v\"&Development!$A$2)","v":""}]

{"sheet":"Project Review","index":39,"n_rows":77,"n_cols":31,"rows_kept":77,"cut":false,"hidden":false,"merged":[]}
[]
[null,"Heat Pumps"]
["Unit Number","Product Name","Proposed/Installed EER","Proposed/Installed SEER","Proposed/Installed HSPF","Cooling Manual J","Heating Manual J","AHRI Cooling Capacity","AHRI Heating Capacity","Existing Cooling Equipment","Existing Heating Equipment","SEER","EER","HSPF/COP","AFUE","Qualifying Tier","Customer Rebate","Contractor Incentive","Utility Gross kW"]
[{"$f":"IF('ASHP Equipment Information'!D11=\"\",\"\",'ASHP Equipment Information'!B11)","v":""},{"$f":"IF('ASHP Equipment Information'!D11=\"\",\"\",'ASHP Equipment Information'!D11)","v":""},{"$f":"IF('ASHP Equipment Information'!G23=\"\",\"\",'ASHP Equipment Information'!G23)","v":""},{"$f":"IF('ASHP Equipment Information'!G21=\"\",\"\",'ASHP Equipment Information'!G21)","v":""},{"$f":"IF('ASHP Equipment Information'!G25=\"\",\"\",'ASHP Equipment Information'!G25)","v":""},{"$f":"IF(Qualifying_Index!AP27=\"\",\"\",Qualifying_Index!AP27)","v":0},{"$f":"IF(Qualifying_Index!AQ27=\"\",\"\",Qualifying_Index!AQ27)","v":0},{"$f":"IF('ASHP Equipment Information'!G17=\"\",\"\",'ASHP Equipment Information'!G17)","v":""},{"$f":"IF('ASHP Equipment Information'!G19=\"\",\"\",'ASHP Equipment Information'!G19)","v":""},{"$f":"IF(B4=\"\",\"\",Qualifying_Index!G27)","v":""},{"$f":"IF(B4=\"\",\"\",Qualifying_Index!H27)","v":""},{"$f":"IF(B4=\"\",\"\",Qualifying_Index!J27)","v":""},{"$f":"IF(B4=\"\",\"\",Qualifying_Index!I27)","v":""},{"$f":"IF(B4=\"\",\"\",IF('ASHP Equipment Information'!$G11=References!$Q$86,IF('Site Information'!$C$45=\"\",\"\",'Site Information'!$C$45),IF('Site Information'!$C$33=\"\",\"\",'Site Information'!$C$33)))","v":""},{"$f":"IF(B4=\"\",\"\",Qualifying_Index!M27)","v":""},{"$f":"IF(B4=\"\",\"\",Qualifying_Index!AH27)","v":""},{"$f":"IF(B4=\"\",\"\",Qualifying_Index!AJ27)","v":""},null,{"$f":"IF(Q4=\"\",\"\",ProposedEquipment0!O2*ProposedEquipment0!AU2)","v":""}]
[{"$f":"IF('ASHP Equipment Information'!D30=\"\",\"\",'ASHP Equipment Information'!B30)","v":""},{"$f":"IF('ASHP Equipment Information'!D30=\"\",\"\",'ASHP Equipment Information'!D30)","v":""},{"$f":"IF('ASHP Equipment Information'!G42=\"\",\"\",'ASHP Equipment Information'!G42)","v":""},{"$f":"IF('ASHP Equipment Information'!G40=\"\",\"\",'ASHP Equipment Information'!G40)","v":""},{"$f":"IF('ASHP Equipment Information'!G44=\"\",\"\",'ASHP Equipment Information'!G44)","v":""},{"$f":"IF(Qualifying_Index!AP28=\"\",\"\",Qualifying_Index!AP28)","v":0},{"$f":"IF(Qualifying_Index!AQ28=\"\",\"\",Qualifying_Index!AQ28)","v":0},{"$f":"IF('ASHP Equipment Information'!G36=\"\",\"\",'ASHP Equipment Information'!G36)","v":""},{"$f":"IF('ASHP Equipment Information'!G38=\"\",\"\",'ASHP Equipment Information'!G38)","v":""},{"$f":"IF(B5=\"\",\"\",Qualifying_Index!G28)","v":""},{"$f":"IF(B5=\"\",\"\",Qualifying_Index!H28)","v":""},{"$f":"IF(B5=\"\",\"\",Qualifying_Index!J28)","v":""},{"$f":"IF(B5=\"\",\"\",Qualifying_Index!I28)","v":""},{"$f":"IF(B5=\"\",\"\",IF('ASHP Equipment Information'!$G12=References!$Q$86,IF('Site Information'!$C$45=\"\",\"\",'Site Information'!$C$45),IF('Site Information'!$C$33=\"\",\"\",'Site Information'!$C$33)))","v":""},{"$f":"IF(B5=\"\",\"\",Qualifying_Index!M28)","v":""},{"$f":"IF(B5=\"\",\"\",Qualifying_Index!AH28)","v":""},{"$f":"IF(B5=\"\",\"\",Qualifying_Index!AJ28)","v":""},null,{"$f":"IF(Q5=\"\",\"\",ProposedEquipment0!O3*ProposedEquipment0!AU3)","v":""}]
[{"$f":"IF('ASHP Equipment Information'!D49=\"\",\"\",'ASHP Equipment Information'!B49)","v":""},{"$f":"IF('ASHP Equipment Information'!D49=\"\",\"\",'ASHP Equipment Information'!D49)","v":""},{"$f":"IF('ASHP Equipment Information'!G61=\"\",\"\",'ASHP Equipment Information'!G61)","v":""},{"$f":"IF('ASHP Equipment Information'!G59=\"\",\"\",'ASHP Equipment Information'!G59)","v":""},{"$f":"IF('ASHP Equipment Information'!G63=\"\",\"\",'ASHP Equipment Information'!G63)","v":""},{"$f":"IF(Qualifying_Index!AP29=\"\",\"\",Qualifying_Index!AP29)","v":0},{"$f":"IF(Qualifying_Index!AQ29=\"\",\"\",Qualifying_Index!AQ29)","v":0},{"$f":"IF('ASHP Equipment Information'!G55=\"\",\"\",'ASHP Equipment Information'!G55)","v":""},{"$f":"IF('ASHP Equipment Information'!G57=\"\",\"\",'ASHP Equipment Information'!G57)","v":""},{"$f":"IF(B6=\"\",\"\",Qualifying_Index!G29)","v":""},{"$f":"IF(B6=\"\",\"\",Qualifying_Index!H29)","v":""},{"$f":"IF(B6=\"\",\"\",Qualifying_Index!J29)","v":""},{"$f":"IF(B6=\"\",\"\",Qualifying_Index!I29)","v":""},{"$f":"IF(B6=\"\",\"\",IF('ASHP Equipment Information'!$G15=References!$Q$86,IF('Site Information'!$C$45=\"\",\"\",'Site Information'!$C$45),IF('Site Information'!$C$33=\"\",\"\",'Site Information'!$C$33)))","v":""},{"$f":"IF(B6=\"\",\"\",Qualifying_Index!M29)","v":""},{"$f":"IF(B6=\"\",\"\",Qualifying_Index!AH29)","v":""},{"$f":"IF(B6=\"\",\"\",Qualifying_Index!AJ29)","v":""},null,{"$f":"IF(Q6=\"\",\"\",ProposedEquipment0!O4*ProposedEquipment0!AU4)","v":""}]
[{"$f":"IF('ASHP Equipment Information'!D68=\"\",\"\",'ASHP Equipment Information'!B68)","v":""},{"$f":"IF('ASHP Equipment Information'!D68=\"\",\"\",'ASHP Equipment Information'!D68)","v":""},{"$f":"IF('ASHP Equipment Information'!G80=\"\",\"\",'ASHP Equipment Information'!G80)","v":""},{"$f":"IF('ASHP Equipment Information'!G78=\"\",\"\",'ASHP Equipment Information'!G78)","v":""},{"$f":"IF('ASHP Equipment Information'!G82=\"\",\"\",'ASHP Equipment Information'!G82)","v":""},{"$f":"IF(Qualifying_Index!AP30=\"\",\"\",Qualifying_Index!AP30)","v":0},{"$f":"IF(Qualifying_Index!AQ30=\"\",\"\",Qualifying_Index!AQ30)","v":0},{"$f":"IF('ASHP Equipment Information'!G74=\"\",\"\",'ASHP Equipment Information'!G74)","v":""},{"$f":"IF('ASHP Equipment Information'!G76=\"\",\"\",'ASHP Equipment Information'!G76)","v":""},{"$f":"IF(B7=\"\",\"\",Qualifying_Index!G30)","v":""},{"$f":"IF(B7=\"\",\"\",Qualifying_Index!H30)","v":""},{"$f":"IF(B7=\"\",\"\",Qualifying_Index!J30)","v":""},{"$f":"IF(B7=\"\",\"\",Qualifying_Index!I30)","v":""},{"$f":"IF(B7=\"\",\"\",IF('ASHP Equipment Information'!$G16=References!$Q$86,IF('Site Information'!$C$45=\"\",\"\",'Site Information'!$C$45),IF('Site Information'!$C$33=\"\",\"\",'Site Information'!$C$33)))","v":""},{"$f":"IF(B7=\"\",\"\",Qualifying_Index!M30)","v":""},{"$f":"IF(B7=\"\",\"\",Qualifying_Index!AH30)","v":""},{"$f":"IF(B7=\"\",\"\",Qualifying_Index!AJ30)","v":""},null,{"$f":"IF(Q7=\"\",\"\",ProposedEquipment0!O5*ProposedEquipment0!AU5)","v":""}]
[{"$f":"IF('ASHP Equipment Information'!D87=\"\",\"\",'ASHP Equipment Information'!B87)","v":""},{"$f":"IF('ASHP Equipment Information'!D87=\"\",\"\",'ASHP Equipment Information'!D87)","v":""},{"$f":"IF('ASHP Equipment Information'!G99=\"\",\"\",'ASHP Equipment Information'!G99)","v":""},{"$f":"IF('ASHP Equipment Information'!G97=\"\",\"\",'ASHP Equipment Information'!G97)","v":""},{"$f":"IF('ASHP Equipment Information'!G101=\"\",\"\",'ASHP Equipment Information'!G101)","v":""},{"$f":"IF(Qualifying_Index!AP31=\"\",\"\",Qualifying_Index!AP31)","v":0},{"$f":"IF(Qualifying_Index!AQ31=\"\",\"\",Qualifying_Index!AQ31)","v":0},{"$f":"IF('ASHP Equipment Information'!G93=\"\",\"\",'ASHP Equipment Information'!G93)","v":""},{"$f":"IF('ASHP Equipment Information'!G95=\"\",\"\",'ASHP Equipment Information'!G95)","v":""},{"$f":"IF(B8=\"\",\"\",Qualifying_Index!G31)","v":""},{"$f":"IF(B8=\"\",\"\",Qualifying_Index!H31)","v":""},{"$f":"IF(B8=\"\",\"\",Qualifying_Index!J31)","v":""},{"$f":"IF(B8=\"\",\"\",Qualifying_Index!I31)","v":""},{"$f":"IF(B8=\"\",\"\",IF('ASHP Equipment Information'!$G17=References!$Q$86,IF('Site Information'!$C$45=\"\",\"\",'Site Information'!$C$45),IF('Site Information'!$C$33=\"\",\"\",'Site Information'!$C$33)))","v":""},{"$f":"IF(B8=\"\",\"\",Qualifying_Index!M31)","v":""},{"$f":"IF(B8=\"\",\"\",Qualifying_Index!AH31)","v":""},{"$f":"IF(B8=\"\",\"\",Qualifying_Index!AJ31)","v":""},null,{"$f":"IF(Q8=\"\",\"\",ProposedEquipment0!O6*ProposedEquipment0!AU6)","v":""}]
[{"$f":"IF('ASHP Equipment Information'!D106=\"\",\"\",'ASHP Equipment Information'!B106)","v":""},{"$f":"IF('ASHP Equipment Information'!D106=\"\",\"\",'ASHP Equipment Information'!D106)","v":""},{"$f":"IF('ASHP Equipment Information'!G118=\"\",\"\",'ASHP Equipment Information'!G118)","v":""},{"$f":"IF('ASHP Equipment Information'!G116=\"\",\"\",'ASHP Equipment Information'!G116)","v":""},{"$f":"IF('ASHP Equipment Information'!G120=\"\",\"\",'ASHP Equipment Information'!G120)","v":""},{"$f":"IF(Qualifying_Index!AP32=\"\",\"\",Qualifying_Index!AP32)","v":0},{"$f":"IF(Qualifying_Index!AQ32=\"\",\"\",Qualifying_Index!AQ32)","v":0},{"$f":"IF('ASHP Equipment Information'!G112=\"\",\"\",'ASHP Equipment Information'!G112)","v":""},{"$f":"IF('ASHP Equipment Information'!G114=\"\",\"\",'ASHP Equipment Information'!G114)","v":""},{"$f":"IF(B9=\"\",\"\",Qualifying_Index!G32)","v":""},{"$f":"IF(B9=\"\",\"\",Qualifying_Index!H32)","v":""},{"$f":"IF(B9=\"\",\"\",Qualifying_Index!J32)","v":""},{"$f":"IF(B9=\"\",\"\",Qualifying_Index!I32)","v":""},{"$f":"IF(B9=\"\",\"\",IF('ASHP Equipment Information'!$G18=References!$Q$86,IF('Site Information'!$C$45=\"\",\"\",'Site Information'!$C$45),IF('Site Information'!$C$33=\"\",\"\",'Site Information'!$C$33)))","v":""},{"$f":"IF(B9=\"\",\"\",Qualifying_Index!M32)","v":""},{"$f":"IF(B9=\"\",\"\",Qualifying_Index!AH32)","v":""},{"$f":"IF(B9=\"\",\"\",Qualifying_Index!AJ32)","v":""},null,{"$f":"IF(Q9=\"\",\"\",ProposedEquipment0!O7*ProposedEquipment0!AU7)","v":""}]
[{"$f":"IF('ASHP Equipment Information'!D125=\"\",\"\",'ASHP Equipment Information'!B125)","v":""},{"$f":"IF('ASHP Equipment Information'!D125=\"\",\"\",'ASHP Equipment Information'!D125)","v":""},{"$f":"IF('ASHP Equipment Information'!G137=\"\",\"\",'ASHP Equipment Information'!G137)","v":""},{"$f":"IF('ASHP Equipment Information'!G135=\"\",\"\",'ASHP Equipment Information'!G135)","v":""},{"$f":"IF('ASHP Equipment Information'!G139=\"\",\"\",'ASHP Equipment Information'!G139)","v":""},{"$f":"IF(Qualifying_Index!AP33=\"\",\"\",Qualifying_Index!AP33)","v":0},{"$f":"IF(Qualifying_Index!AQ33=\"\",\"\",Qualifying_Index!AQ33)","v":0},{"$f":"IF('ASHP Equipment Information'!G131=\"\",\"\",'ASHP Equipment Information'!G131)","v":""},{"$f":"IF('ASHP Equipment Information'!G133=\"\",\"\",'ASHP Equipment Information'!G133)","v":""},{"$f":"IF(B10=\"\",\"\",Qualifying_Index!G33)","v":""},{"$f":"IF(B10=\"\",\"\",Qualifying_Index!H33)","v":""},{"$f":"IF(B10=\"\",\"\",Qualifying_Index!J33)","v":""},{"$f":"IF(B10=\"\",\"\",Qualifying_Index!I33)","v":""},{"$f":"IF(B10=\"\",\"\",IF('ASHP Equipment Information'!$G19=References!$Q$86,IF('Site Information'!$C$45=\"\",\"\",'Site Information'!$C$45),IF('Site Information'!$C$33=\"\",\"\",'Site Information'!$C$33)))","v":""},{"$f":"IF(B10=\"\",\"\",Qualifying_Index!M33)","v":""},{"$f":"IF(B10=\"\",\"\",Qualifying_Index!AH33)","v":""},{"$f":"IF(B10=\"\",\"\",Qualifying_Index!AJ33)","v":""},null,{"$f":"IF(Q10=\"\",\"\",ProposedEquipment0!O8*ProposedEquipment0!AU8)","v":""}]
[{"$f":"IF('ASHP Equipment Information'!D144=\"\",\"\",'ASHP Equipment Information'!B144)","v":""},{"$f":"IF('ASHP Equipment Information'!D144=\"\",\"\",'ASHP Equipment Information'!D144)","v":""},{"$f":"IF('ASHP Equipment Information'!G156=\"\",\"\",'ASHP Equipment Information'!G156)","v":""},{"$f":"IF('ASHP Equipment Information'!G154=\"\",\"\",'ASHP Equipment Information'!G154)","v":""},{"$f":"IF('ASHP Equipment Information'!G158=\"\",\"\",'ASHP Equipment Information'!G158)","v":""},{"$f":"IF(Qualifying_Index!AP34=\"\",\"\",Qualifying_Index!AP34)","v":0},{"$f":"IF(Qualifying_Index!AQ34=\"\",\"\",Qualifying_Index!AQ34)","v":0},{"$f":"IF('ASHP Equipment Information'!G150=\"\",\"\",'ASHP Equipment Information'!G150)","v":""},{"$f":"IF('ASHP Equipment Information'!G152=\"\",\"\",'ASHP Equipment Information'!G152)","v":""},{"$f":"IF(B11=\"\",\"\",Qualifying_Index!G34)","v":""},{"$f":"IF(B11=\"\",\"\",Qualifying_Index!H34)","v":""},{"$f":"IF(B11=\"\",\"\",Qualifying_Index!J34)","v":""},{"$f":"IF(B11=\"\",\"\",Qualifying_Index!I34)","v":""},{"$f":"IF(B11=\"\",\"\",IF('ASHP Equipment Information'!$G20=References!$Q$86,IF('Site Information'!$C$45=\"\",\"\",'Site Information'!$C$45),IF('Site Information'!$C$33=\"\",\"\",'Site Information'!$C$33)))","v":""},{"$f":"IF(B11=\"\",\"\",Qualifying_Index!M34)","v":""},{"$f":"IF(B11=\"\",\"\",Qualifying_Index!AH34)","v":""},{"$f":"IF(B11=\"\",\"\",Qualifying_Index!AJ34)","v":""},null,{"$f":"IF(Q11=\"\",\"\",ProposedEquipment0!O9*ProposedEquipment0!AU9)","v":""}]
[{"$f":"IF('ASHP Equipment Information'!D163=\"\",\"\",'ASHP Equipment Information'!B163)","v":""},{"$f":"IF('ASHP Equipment Information'!D163=\"\",\"\",'ASHP Equipment Information'!D163)","v":""},{"$f":"IF('ASHP Equipment Information'!G175=\"\",\"\",'ASHP Equipment Information'!G175)","v":""},{"$f":"IF('ASHP Equipment Information'!G173=\"\",\"\",'ASHP Equipment Information'!G173)","v":""},{"$f":"IF('ASHP Equipment Information'!G177=\"\",\"\",'ASHP Equipment Information'!G177)","v":""},{"$f":"IF(Qualifying_Index!AP35=\"\",\"\",Qualifying_Index!AP35)","v":0},{"$f":"IF(Qualifying_Index!AQ35=\"\",\"\",Qualifying_Index!AQ35)","v":0},{"$f":"IF('ASHP Equipment Information'!G169=\"\",\"\",'ASHP Equipment Information'!G169)","v":""},{"$f":"IF('ASHP Equipment Information'!G171=\"\",\"\",'ASHP Equipment Information'!G171)","v":""},{"$f":"IF(B12=\"\",\"\",Qualifying_Index!G35)","v":""},{"$f":"IF(B12=\"\",\"\",Qualifying_Index!H35)","v":""},{"$f":"IF(B12=\"\",\"\",Qualifying_Index!J35)","v":""},{"$f":"IF(B12=\"\",\"\",Qualifying_Index!I35)","v":""},{"$f":"IF(B12=\"\",\"\",IF('ASHP Equipment Information'!$G21=References!$Q$86,IF('Site Information'!$C$45=\"\",\"\",'Site Information'!$C$45),IF('Site Information'!$C$33=\"\",\"\",'Site Information'!$C$33)))","v":""},{"$f":"IF(B12=\"\",\"\",Qualifying_Index!M35)","v":""},{"$f":"IF(B12=\"\",\"\",Qualifying_Index!AH35)","v":""},{"$f":"IF(B12=\"\",\"\",Qualifying_Index!AJ35)","v":""},null,{"$f":"IF(Q12=\"\",\"\",ProposedEquipment0!O10*ProposedEquipment0!AU10)","v":""}]
[{"$f":"IF('ASHP Equipment Information'!D182=\"\",\"\",'ASHP Equipment Information'!B182)","v":""},{"$f":"IF('ASHP Equipment Information'!D182=\"\",\"\",'ASHP Equipment Information'!D182)","v":""},{"$f":"IF('ASHP Equipment Information'!G194=\"\",\"\",'ASHP Equipment Information'!G194)","v":""},{"$f":"IF('ASHP Equipment Information'!G192=\"\",\"\",'ASHP Equipment Information'!G192)","v":""},{"$f":"IF('ASHP Equipment Information'!G196=\"\",\"\",'ASHP Equipment Information'!G196)","v":""},{"$f":"IF(Qualifying_Index!AP36=\"\",\"\",Qualifying_Index!AP36)","v":0},{"$f":"IF(Qualifying_Index!AQ36=\"\",\"\",Qualifying_Index!AQ36)","v":0},{"$f":"IF('ASHP Equipment Information'!G188=\"\",\"\",'ASHP Equipment Information'!G188)","v":""},{"$f":"IF('ASHP Equipment Information'!G190=\"\",\"\",'ASHP Equipment Information'!G190)","v":""},{"$f":"IF(B13=\"\",\"\",Qualifying_Index!G36)","v":""},{"$f":"IF(B13=\"\",\"\",Qualifying_Index!H36)","v":""},{"$f":"IF(B13=\"\",\"\",Qualifying_Index!J36)","v":""},{"$f":"IF(B13=\"\",\"\",Qualifying_Index!I36)","v":""},{"$f":"IF(B13=\"\",\"\",IF('ASHP Equipment Information'!$G22=References!$Q$86,IF('Site Information'!$C$45=\"\",\"\",'Site Information'!$C$45),IF('Site Information'!$C$33=\"\",\"\",'Site Information'!$C$33)))","v":""},{"$f":"IF(B13=\"\",\"\",Qualifying_Index!M36)","v":""},{"$f":"IF(B13=\"\",\"\",Qualifying_Index!AH36)","v":""},{"$f":"IF(B13=\"\",\"\",Qualifying_Index!AJ36)","v":""},null,{"$f":"IF(Q13=\"\",\"\",ProposedEquipment0!O11*ProposedEquipment0!AU11)","v":""}]
["Smart Therms",{"$f":"IF(Qualifying_Index!B42=0,\"\",Qualifying_Index!B42)","v":""},null,null,null,null,null,null,null,null,null,null,null,null,null,null,{"$f":"Qualifying_Index!W42","v":""},null,{"$f":"IF(Q14=\"\",\"\",ProposedEquipment0!O13*ProposedEquipment0!AU13)","v":""}]
[null,{"$f":"IF(Qualifying_Index!B43=0,\"\",Qualifying_Index!B43)","v":""},null,null,null,null,null,null,null,null,null,null,null,null,null,null,{"$f":"Qualifying_Index!W43","v":""},null,{"$f":"IF(Q15=\"\",\"\",ProposedEquipment0!O14*ProposedEquipment0!AU14)","v":""}]
[null,{"$f":"IF(Qualifying_Index!B44=0,\"\",Qualifying_Index!B44)","v":""},null,null,null,null,null,null,null,null,null,null,null,null,null,null,{"$f":"Qualifying_Index!W44","v":""},null,{"$f":"IF(Q16=\"\",\"\",ProposedEquipment0!O15*ProposedEquipment0!AU15)","v":""}]
[null,{"$f":"IF(Qualifying_Index!B45=0,\"\",Qualifying_Index!B45)","v":""},null,null,null,null,null,null,null,null,null,null,null,null,null,null,{"$f":"Qualifying_Index!W45","v":""},null,{"$f":"IF(Q17=\"\",\"\",ProposedEquipment0!O16*ProposedEquipment0!AU16)","v":""}]
[null,{"$f":"IF(Qualifying_Index!B46=0,\"\",Qualifying_Index!B46)","v":""},null,null,null,null,null,null,null,null,null,null,null,null,null,null,{"$f":"Qualifying_Index!W46","v":""},null,{"$f":"IF(Q18=\"\",\"\",ProposedEquipment0!O17*ProposedEquipment0!AU17)","v":""}]
[null,{"$f":"IF(Qualifying_Index!B47=0,\"\",Qualifying_Index!B47)","v":""},null,null,null,null,null,null,null,null,null,null,null,null,null,null,{"$f":"Qualifying_Index!W47","v":""},null,{"$f":"IF(Q19=\"\",\"\",ProposedEquipment0!O18*ProposedEquipment0!AU18)","v":""}]
[null,{"$f":"IF(Qualifying_Index!B48=0,\"\",Qualifying_Index!B48)","v":""},null,null,null,null,null,null,null,null,null,null,null,null,null,null,{"$f":"Qualifying_Index!W48","v":""},null,{"$f":"IF(Q20=\"\",\"\",ProposedEquipment0!O19*ProposedEquipment0!AU19)","v":""}]
[null,{"$f":"IF(Qualifying_Index!B49=0,\"\",Qualifying_Index!B49)","v":""},null,null,null,null,null,null,null,null,null,null,null,null,null,null,{"$f":"Qualifying_Index!W49","v":""},null,{"$f":"IF(Q21=\"\",\"\",ProposedEquipment0!O20*ProposedEquipment0!AU20)","v":""}]
[null,{"$f":"IF(Qualifying_Index!B50=0,\"\",Qualifying_Index!B50)","v":""},null,null,null,null,null,null,null,null,null,null,null,null,null,null,{"$f":"Qualifying_Index!W50","v":""},null,{"$f":"IF(Q22=\"\",\"\",ProposedEquipment0!O21*ProposedEquipment0!AU21)","v":""}]
[null,{"$f":"IF(Qualifying_Index!B51=0,\"\",Qualifying_Index!B51)","v":""},null,null,null,null,null,null,null,null,null,null,null,null,null,null,{"$f":"Qualifying_Index!W51","v":""},null,{"$f":"IF(Q23=\"\",\"\",ProposedEquipment0!O22*ProposedEquipment0!AU22)","v":""}]
["Int Controls",{"$f":"IF(Qualifying_Index!C56=0,\"\",Qualifying_Index!C56)","v":"No Fossil Fuel Heater"},null,null,null,null,null,null,null,null,null,null,null,null,null,null,{"$f":"Qualifying_Index!S56","v":0},null,{"$f":"IF(OR(B24=\"\",B24=\"No Fossil Fuel Heater\"),\"\",ProposedEquipment0!O25*ProposedEquipment0!AU25)","v":""}]
[null,{"$f":"IF(Qualifying_Index!C57=0,\"\",Qualifying_Index!C57)","v":"No Fossil Fuel Heater"},null,null,null,null,null,null,null,null,null,null,null,null,null,null,{"$f":"Qualifying_Index!S57","v":0},null,{"$f":"IF(OR(B25=\"\",B25=\"No Fossil Fuel Heater\"),\"\",ProposedEquipment0!O26*ProposedEquipment0!AU26)","v":""}]
[]
[]
[]
[]
[]
[]
[null,"Home Performance"]
[null,"Product Name","Total Ductwork Linear Feet","Ductwork R-Value Installed","Total Air Sealing Square Footage","Total Insulation Square Footage","Insulation R-Value Installed","Customer Rebate","Utility Gross kW"]
[null,{"$f":"IF(HPwES!D60=\"\",\"\",ProposedEquipment0!E33)","v":""},{"$f":"IF(HPwES!D60=\"\",\"\",HPwES!D64)","v":""},{"$f":"IF(HPwES!D60=\"\",\"\",HPwES!D66)","v":""},null,null,null,{"$f":"IF(B34=\"\",\"\",HPwES!J56)","v":""},{"$f":"IF(B34=\"\",\"\",ProposedEquipment0!O33)","v":""}]
[null,{"$f":"IF(HPwES!J60=\"\",\"\",ProposedEquipment0!E34)","v":""},{"$f":"IF(HPwES!J60=\"\",\"\",HPwES!J64)","v":""},{"$f":"IF(HPwES!J60=\"\",\"\",HPwES!J66)","v":""},null,null,null,null,{"$f":"IF(B35=\"\",\"\",ProposedEquipment0!O34)","v":""}]
[null,{"$f":"IF(HPwES!D72=\"\",\"\",ProposedEquipment0!E35)","v":""},{"$f":"IF(HPwES!D72=\"\",\"\",HPwES!D76)","v":""},{"$f":"IF(HPwES!D72=\"\",\"\",HPwES!D78)","v":""},null,null,null,null,{"$f":"IF(B36=\"\",\"\",ProposedEquipment0!O35)","v":""}]
[null,{"$f":"IF(HPwES!D112=\"\",\"\",ProposedEquipment0!E39)","v":""},null,null,{"$f":"IF(HPwES!D112=\"\",\"\",HPwES!D119)","v":""},null,null,{"$f":"IF(B37=\"\",\"\",HPwES!J109)","v":""},{"$f":"IF(B37=\"\",\"\",ProposedEquipment0!M39)","v":""}]
[null,{"$f":"IF(HPwES!D152=\"\",\"\",ProposedEquipment0!E41)","v":""},null,null,null,{"$f":"IF(HPwES!D152=\"\",\"\",HPwES!D156)","v":""},{"$f":"IF(HPwES!D152=\"\",\"\",HPwES!D158)","v":""},{"$f":"IF(B38=\"\",\"\",HPwES!J148)","v":""},{"$f":"IF(B38=\"\",\"\",ProposedEquipment0!O41)","v":""}]
[null,{"$f":"IF(HPwES!J152=\"\",\"\",ProposedEquipment0!E42)","v":""},null,null,null,{"$f":"IF(HPwES!J152=\"\",\"\",HPwES!J156)","v":""},{"$f":"IF(HPwES!J152=\"\",\"\",HPwES!J158)","v":""},null,{"$f":"IF(B39=\"\",\"\",ProposedEquipment0!O42)","v":""}]
[null,{"$f":"IF(HPwES!D164=\"\",\"\",ProposedEquipment0!E43)","v":""},null,null,null,{"$f":"IF(HPwES!D164=\"\",\"\",HPwES!D168)","v":""},{"$f":"IF(HPwES!D164=\"\",\"\",HPwES!D170)","v":""},null,{"$f":"IF(B40=\"\",\"\",ProposedEquipment0!O43)","v":""}]
[null,{"$f":"IF(HPwES!J164=\"\",\"\",ProposedEquipment0!E44)","v":""},null,null,null,{"$f":"IF(HPwES!J164=\"\",\"\",HPwES!J168)","v":""},{"$f":"IF(HPwES!J164=\"\",\"\",HPwES!J170)","v":""},null,{"$f":"IF(B41=\"\",\"\",ProposedEquipment0!O44)","v":""}]
[null,{"$f":"IF(HPwES!D176=\"\",\"\",ProposedEquipment0!E45)","v":""},null,null,null,{"$f":"IF(HPwES!D176=\"\",\"\",HPwES!D180)","v":""},{"$f":"IF(HPwES!D176=\"\",\"\",HPwES!D182)","v":""},null,{"$f":"IF(B42=\"\",\"\",ProposedEquipment0!O45)","v":""}]
[]
[]
[]
[null,"Water Heating"]
[null,"Product Name","Customer Rebate","Contractor Incentive","Utility Gross kW"]
[null,{"$f":"IF('Water Heating Worksheet'!D21=\"\",\"\",'Water Heating Worksheet'!D21)","v":"Heat Pump Water Heater > 55 Gallons"},{"$f":"IF(B48=\"\",\"\",'Water Heating Worksheet'!D15)","v":0},{"$f":"IF(B48=\"\",\"\",'Water Heating Worksheet'!D17)","v":0},{"$f":"IF(Qualifying_Index!N103=\"\",\"\",Qualifying_Index!N103)","v":""}]
[]
[]
[]
[]
[null,"Tunes Ups"]
[null,"Product Name","Customer Rebate","Utility Gross kW"]
[null,{"$f":"IF('Tune Up Worksheet'!D15=\"\",\"\",'Tune Up Worksheet'!D15)","v":"Select…"},{"$f":"IF(B55=\"\",\"\",'Tune Up Worksheet'!G21)","v":""},{"$f":"IF(Qualifying_Index!X110=\"\",\"\",Qualifying_Index!X110)","v":""}]
[null,{"$f":"IF('Tune Up Worksheet'!D27=\"\",\"\",'Tune Up Worksheet'!D27)","v":"Select…"},{"$f":"IF(B56=\"\",\"\",'Tune Up Worksheet'!G33)","v":""},{"$f":"IF(Qualifying_Index!X111=\"\",\"\",Qualifying_Index!X111)","v":""}]
[null,{"$f":"IF('Tune Up Worksheet'!D39=\"\",\"\",'Tune Up Worksheet'!D39)","v":"Select…"},{"$f":"IF(B57=\"\",\"\",'Tune Up Worksheet'!G45)","v":""},{"$f":"IF(Qualifying_Index!X112=\"\",\"\",Qualifying_Index!X112)","v":""}]
[null,{"$f":"IF('Tune Up Worksheet'!D51=\"\",\"\",'Tune Up Worksheet'!D51)","v":"Select…"},{"$f":"IF(B58=\"\",\"\",'Tune Up Worksheet'!G57)","v":""},{"$f":"IF(Qualifying_Index!X113=\"\",\"\",Qualifying_Index!X113)","v":""}]
[null,{"$f":"IF('Tune Up Worksheet'!D63=\"\",\"\",'Tune Up Worksheet'!D63)","v":"Select…"},{"$f":"IF(B59=\"\",\"\",'Tune Up Worksheet'!G69)","v":""},{"$f":"IF(Qualifying_Index!X114=\"\",\"\",Qualifying_Index!X114)","v":""}]
[]
[]
[]
[null,"Total Rebate","Total Contractor Incentive","Total Utility Gross kW"]
[null,{"$f":"SUM(Q4:Q25,H34:H42,D48,C55:C59)","v":0},{"$f":"SUM(R4:R25,D48)","v":0},{"$f":"SUM(S4:S25,I34:I42,E48,D55:D59)","v":0}]
[]
[null,"Geothermal"]
[null,"Product Name","Product Quantity","Measure Code","Application ID","Baseline EER","Baseline SEER","Baseline COP","Baseline %","Cooling Btuh","Proposed/Installed EER","Proposed/Installed SEER","Proposed/Installed HSPF","Proposed/Installed COP","Heating Source","Cooling Source","Gross kW","Gross kWh","Gross Winter kW","Gross BE kWh","Delta Gross kWh","Net kW","Net kWh","Net Winter kW","Net BE kWh","Delta Net kWh","Total Net kW","Total Net kWh","Total Net Winter kW","Total Net BE kWh","Total Delta Net kWh"]
[1,{"$f":"ProposedEquipment0!E51","v":""},{"$f":"IF(D68=\"\",\"\",ProposedEquipment0!AU51)","v":""},{"$f":"ProposedEquipment0!F51","v":""},{"$f":"ProposedEquipment0!H51","v":""},{"$f":"ProposedEquipment0!BM51","v":""},{"$f":"ProposedEquipment0!BN51","v":""},{"$f":"ProposedEquipment0!BQ51","v":""},{"$f":"ProposedEquipment0!BP51","v":""},{"$f":"ProposedEquipment0!BX51","v":""},{"$f":"ProposedEquipment0!BR51","v":""},{"$f":"ProposedEquipment0!BS51","v":""},{"$f":"ProposedEquipment0!BT51","v":""},{"$f":"ProposedEquipment0!BU51","v":""},{"$f":"ProposedEquipment0!CS51","v":""},{"$f":"ProposedEquipment0!CR51","v":""},{"$f":"ProposedEquipment0!I51","v":""},{"$f":"ProposedEquipment0!J51","v":""},{"$f":"ProposedEquipment0!K51","v":""},{"$f":"ProposedEquipment0!L51","v":""},{"$f":"ProposedEquipment0!M51","v":""},{"$f":"ProposedEquipment0!Y51","v":""},{"$f":"ProposedEquipment0!Z51","v":""},{"$f":"ProposedEquipment0!AA51","v":""},{"$f":"ProposedEquipment0!AB51","v":""},{"$f":"ProposedEquipment0!AC51","v":""},{"$f":"ProposedEquipment0!AD51","v":""},{"$f":"ProposedEquipment0!AE51","v":""},{"$f":"ProposedEquipment0!AF51","v":""},{"$f":"ProposedEquipment0!AG51","v":""},{"$f":"ProposedEquipment0!AH51","v":""}]
[2,{"$f":"ProposedEquipment0!E52","v":""},{"$f":"IF(D69=\"\",\"\",ProposedEquipment0!AU52)","v":""},{"$f":"ProposedEquipment0!F52","v":""},{"$f":"ProposedEquipment0!H52","v":""},{"$f":"ProposedEquipment0!BM52","v":""},{"$f":"ProposedEquipment0!BN52","v":""},{"$f":"ProposedEquipment0!BQ52","v":""},{"$f":"ProposedEquipment0!BP52","v":""},{"$f":"ProposedEquipment0!BX52","v":""},{"$f":"ProposedEquipment0!BR52","v":""},{"$f":"ProposedEquipment0!BS52","v":""},{"$f":"ProposedEquipment0!BT52","v":""},{"$f":"ProposedEquipment0!BU52","v":""},{"$f":"ProposedEquipment0!CS52","v":""},{"$f":"ProposedEquipment0!CR52","v":""},{"$f":"ProposedEquipment0!I52","v":""},{"$f":"ProposedEquipment0!J52","v":""},{"$f":"ProposedEquipment0!K52","v":""},{"$f":"ProposedEquipment0!L52","v":""},{"$f":"ProposedEquipment0!M52","v":""},{"$f":"ProposedEquipment0!Y52","v":""},{"$f":"ProposedEquipment0!Z52","v":""},{"$f":"ProposedEquipment0!AA52","v":""},{"$f":"ProposedEquipment0!AB52","v":""},{"$f":"ProposedEquipment0!AC52","v":""},{"$f":"ProposedEquipment0!AD52","v":""},{"$f":"ProposedEquipment0!AE52","v":""},{"$f":"ProposedEquipment0!AF52","v":""},{"$f":"ProposedEquipment0!AG52","v":""},{"$f":"ProposedEquipment0!AH52","v":""}]
[3,{"$f":"ProposedEquipment0!E53","v":""},{"$f":"IF(D70=\"\",\"\",ProposedEquipment0!AU53)","v":""},{"$f":"ProposedEquipment0!F53","v":""},{"$f":"ProposedEquipment0!H53","v":""},{"$f":"ProposedEquipment0!BM53","v":""},{"$f":"ProposedEquipment0!BN53","v":""},{"$f":"ProposedEquipment0!BQ53","v":""},{"$f":"ProposedEquipment0!BP53","v":""},{"$f":"ProposedEquipment0!BX53","v":""},{"$f":"ProposedEquipment0!BR53","v":""},{"$f":"ProposedEquipment0!BS53","v":""},{"$f":"ProposedEquipment0!BT53","v":""},{"$f":"ProposedEquipment0!BU53","v":""},{"$f":"ProposedEquipment0!CS53","v":""},{"$f":"ProposedEquipment0!CR53","v":""},{"$f":"ProposedEquipment0!I53","v":""},{"$f":"ProposedEquipment0!J53","v":""},{"$f":"ProposedEquipment0!K53","v":""},{"$f":"ProposedEquipment0!L53","v":""},{"$f":"ProposedEquipment0!M53","v":""},{"$f":"ProposedEquipment0!Y53","v":""},{"$f":"ProposedEquipment0!Z53","v":""},{"$f":"ProposedEquipment0!AA53","v":""},{"$f":"ProposedEquipment0!AB53","v":""},{"$f":"ProposedEquipment0!AC53","v":""},{"$f":"ProposedEquipment0!AD53","v":""},{"$f":"ProposedEquipment0!AE53","v":""},{"$f":"ProposedEquipment0!AF53","v":""},{"$f":"ProposedEquipment0!AG53","v":""},{"$f":"ProposedEquipment0!AH53","v":""}]
[4,{"$f":"ProposedEquipment0!E54","v":""},{"$f":"IF(D71=\"\",\"\",ProposedEquipment0!AU54)","v":""},{"$f":"ProposedEquipment0!F54","v":""},{"$f":"ProposedEquipment0!H54","v":""},{"$f":"ProposedEquipment0!BM54","v":""},{"$f":"ProposedEquipment0!BN54","v":""},{"$f":"ProposedEquipment0!BQ54","v":""},{"$f":"ProposedEquipment0!BP54","v":""},{"$f":"ProposedEquipment0!BX54","v":""},{"$f":"ProposedEquipment0!BR54","v":""},{"$f":"ProposedEquipment0!BS54","v":""},{"$f":"ProposedEquipment0!BT54","v":""},{"$f":"ProposedEquipment0!BU54","v":""},{"$f":"ProposedEquipment0!CS54","v":""},{"$f":"ProposedEquipment0!CR54","v":""},{"$f":"ProposedEquipment0!I54","v":""},{"$f":"ProposedEquipment0!J54","v":""},{"$f":"ProposedEquipment0!K54","v":""},{"$f":"ProposedEquipment0!L54","v":""},{"$f":"ProposedEquipment0!M54","v":""},{"$f":"ProposedEquipment0!Y54","v":""},{"$f":"ProposedEquipment0!Z54","v":""},{"$f":"ProposedEquipment0!AA54","v":""},{"$f":"ProposedEquipment0!AB54","v":""},{"$f":"ProposedEquipment0!AC54","v":""},{"$f":"ProposedEquipment0!AD54","v":""},{"$f":"ProposedEquipment0!AE54","v":""},{"$f":"ProposedEquipment0!AF54","v":""},{"$f":"ProposedEquipment0!AG54","v":""},{"$f":"ProposedEquipment0!AH54","v":""}]
[5,{"$f":"ProposedEquipment0!E55","v":""},{"$f":"IF(D72=\"\",\"\",ProposedEquipment0!AU55)","v":""},{"$f":"ProposedEquipment0!F55","v":""},{"$f":"ProposedEquipment0!H55","v":""},{"$f":"ProposedEquipment0!BM55","v":""},{"$f":"ProposedEquipment0!BN55","v":""},{"$f":"ProposedEquipment0!BQ55","v":""},{"$f":"ProposedEquipment0!BP55","v":""},{"$f":"ProposedEquipment0!BX55","v":""},{"$f":"ProposedEquipment0!BR55","v":""},{"$f":"ProposedEquipment0!BS55","v":""},{"$f":"ProposedEquipment0!BT55","v":""},{"$f":"ProposedEquipment0!BU55","v":""},{"$f":"ProposedEquipment0!CS55","v":""},{"$f":"ProposedEquipment0!CR55","v":""},{"$f":"ProposedEquipment0!I55","v":""},{"$f":"ProposedEquipment0!J55","v":""},{"$f":"ProposedEquipment0!K55","v":""},{"$f":"ProposedEquipment0!L55","v":""},{"$f":"ProposedEquipment0!M55","v":""},{"$f":"ProposedEquipment0!Y55","v":""},{"$f":"ProposedEquipment0!Z55","v":""},{"$f":"ProposedEquipment0!AA55","v":""},{"$f":"ProposedEquipment0!AB55","v":""},{"$f":"ProposedEquipment0!AC55","v":""},{"$f":"ProposedEquipment0!AD55","v":""},{"$f":"ProposedEquipment0!AE55","v":""},{"$f":"ProposedEquipment0!AF55","v":""},{"$f":"ProposedEquipment0!AG55","v":""},{"$f":"ProposedEquipment0!AH55","v":""}]
[6,{"$f":"ProposedEquipment0!E56","v":""},{"$f":"IF(D73=\"\",\"\",ProposedEquipment0!AU56)","v":""},{"$f":"ProposedEquipment0!F56","v":""},{"$f":"ProposedEquipment0!H56","v":""},{"$f":"ProposedEquipment0!BM56","v":""},{"$f":"ProposedEquipment0!BN56","v":""},{"$f":"ProposedEquipment0!BQ56","v":""},{"$f":"ProposedEquipment0!BP56","v":""},{"$f":"ProposedEquipment0!BX56","v":""},{"$f":"ProposedEquipment0!BR56","v":""},{"$f":"ProposedEquipment0!BS56","v":""},{"$f":"ProposedEquipment0!BT56","v":""},{"$f":"ProposedEquipment0!BU56","v":""},{"$f":"ProposedEquipment0!CS56","v":""},{"$f":"ProposedEquipment0!CR56","v":""},{"$f":"ProposedEquipment0!I56","v":""},{"$f":"ProposedEquipment0!J56","v":""},{"$f":"ProposedEquipment0!K56","v":""},{"$f":"ProposedEquipment0!L56","v":""},{"$f":"ProposedEquipment0!M56","v":""},{"$f":"ProposedEquipment0!Y56","v":""},{"$f":"ProposedEquipment0!Z56","v":""},{"$f":"ProposedEquipment0!AA56","v":""},{"$f":"ProposedEquipment0!AB56","v":""},{"$f":"ProposedEquipment0!AC56","v":""},{"$f":"ProposedEquipment0!AD56","v":""},{"$f":"ProposedEquipment0!AE56","v":""},{"$f":"ProposedEquipment0!AF56","v":""},{"$f":"ProposedEquipment0!AG56","v":""},{"$f":"ProposedEquipment0!AH56","v":""}]
[7,{"$f":"ProposedEquipment0!E57","v":""},{"$f":"IF(D74=\"\",\"\",ProposedEquipment0!AU57)","v":""},{"$f":"ProposedEquipment0!F57","v":""},{"$f":"ProposedEquipment0!H57","v":""},{"$f":"ProposedEquipment0!BM57","v":""},{"$f":"ProposedEquipment0!BN57","v":""},{"$f":"ProposedEquipment0!BQ57","v":""},{"$f":"ProposedEquipment0!BP57","v":""},{"$f":"ProposedEquipment0!BX57","v":""},{"$f":"ProposedEquipment0!BR57","v":""},{"$f":"ProposedEquipment0!BS57","v":""},{"$f":"ProposedEquipment0!BT57","v":""},{"$f":"ProposedEquipment0!BU57","v":""},{"$f":"ProposedEquipment0!CS57","v":""},{"$f":"ProposedEquipment0!CR57","v":""},{"$f":"ProposedEquipment0!I57","v":""},{"$f":"ProposedEquipment0!J57","v":""},{"$f":"ProposedEquipment0!K57","v":""},{"$f":"ProposedEquipment0!L57","v":""},{"$f":"ProposedEquipment0!M57","v":""},{"$f":"ProposedEquipment0!Y57","v":""},{"$f":"ProposedEquipment0!Z57","v":""},{"$f":"ProposedEquipment0!AA57","v":""},{"$f":"ProposedEquipment0!AB57","v":""},{"$f":"ProposedEquipment0!AC57","v":""},{"$f":"ProposedEquipment0!AD57","v":""},{"$f":"ProposedEquipment0!AE57","v":""},{"$f":"ProposedEquipment0!AF57","v":""},{"$f":"ProposedEquipment0!AG57","v":""},{"$f":"ProposedEquipment0!AH57","v":""}]
[8,{"$f":"ProposedEquipment0!E58","v":""},{"$f":"IF(D75=\"\",\"\",ProposedEquipment0!AU58)","v":""},{"$f":"ProposedEquipment0!F58","v":""},{"$f":"ProposedEquipment0!H58","v":""},{"$f":"ProposedEquipment0!BM58","v":""},{"$f":"ProposedEquipment0!BN58","v":""},{"$f":"ProposedEquipment0!BQ58","v":""},{"$f":"ProposedEquipment0!BP58","v":""},{"$f":"ProposedEquipment0!BX58","v":""},{"$f":"ProposedEquipment0!BR58","v":""},{"$f":"ProposedEquipment0!BS58","v":""},{"$f":"ProposedEquipment0!BT58","v":""},{"$f":"ProposedEquipment0!BU58","v":""},{"$f":"ProposedEquipment0!CS58","v":""},{"$f":"ProposedEquipment0!CR58","v":""},{"$f":"ProposedEquipment0!I58","v":""},{"$f":"ProposedEquipment0!J58","v":""},{"$f":"ProposedEquipment0!K58","v":""},{"$f":"ProposedEquipment0!L58","v":""},{"$f":"ProposedEquipment0!M58","v":""},{"$f":"ProposedEquipment0!Y58","v":""},{"$f":"ProposedEquipment0!Z58","v":""},{"$f":"ProposedEquipment0!AA58","v":""},{"$f":"ProposedEquipment0!AB58","v":""},{"$f":"ProposedEquipment0!AC58","v":""},{"$f":"ProposedEquipment0!AD58","v":""},{"$f":"ProposedEquipment0!AE58","v":""},{"$f":"ProposedEquipment0!AF58","v":""},{"$f":"ProposedEquipment0!AG58","v":""},{"$f":"ProposedEquipment0!AH58","v":""}]
[9,{"$f":"ProposedEquipment0!E59","v":""},{"$f":"IF(D76=\"\",\"\",ProposedEquipment0!AU59)","v":""},{"$f":"ProposedEquipment0!F59","v":""},{"$f":"ProposedEquipment0!H59","v":""},{"$f":"ProposedEquipment0!BM59","v":""},{"$f":"ProposedEquipment0!BN59","v":""},{"$f":"ProposedEquipment0!BQ59","v":""},{"$f":"ProposedEquipment0!BP59","v":""},{"$f":"ProposedEquipment0!BX59","v":""},{"$f":"ProposedEquipment0!BR59","v":""},{"$f":"ProposedEquipment0!BS59","v":""},{"$f":"ProposedEquipment0!BT59","v":""},{"$f":"ProposedEquipment0!BU59","v":""},{"$f":"ProposedEquipment0!CS59","v":""},{"$f":"ProposedEquipment0!CR59","v":""},{"$f":"ProposedEquipment0!I59","v":""},{"$f":"ProposedEquipment0!J59","v":""},{"$f":"ProposedEquipment0!K59","v":""},{"$f":"ProposedEquipment0!L59","v":""},{"$f":"ProposedEquipment0!M59","v":""},{"$f":"ProposedEquipment0!Y59","v":""},{"$f":"ProposedEquipment0!Z59","v":""},{"$f":"ProposedEquipment0!AA59","v":""},{"$f":"ProposedEquipment0!AB59","v":""},{"$f":"ProposedEquipment0!AC59","v":""},{"$f":"ProposedEquipment0!AD59","v":""},{"$f":"ProposedEquipment0!AE59","v":""},{"$f":"ProposedEquipment0!AF59","v":""},{"$f":"ProposedEquipment0!AG59","v":""},{"$f":"ProposedEquipment0!AH59","v":""}]
[10,{"$f":"ProposedEquipment0!E60","v":""},{"$f":"IF(D77=\"\",\"\",ProposedEquipment0!AU60)","v":""},{"$f":"ProposedEquipment0!F60","v":""},{"$f":"ProposedEquipment0!H60","v":""},{"$f":"ProposedEquipment0!BM60","v":""},{"$f":"ProposedEquipment0!BN60","v":""},{"$f":"ProposedEquipment0!BQ60","v":""},{"$f":"ProposedEquipment0!BP60","v":""},{"$f":"ProposedEquipment0!BX60","v":""},{"$f":"ProposedEquipment0!BR60","v":""},{"$f":"ProposedEquipment0!BS60","v":""},{"$f":"ProposedEquipment0!BT60","v":""},{"$f":"ProposedEquipment0!BU60","v":""},{"$f":"ProposedEquipment0!CS60","v":""},{"$f":"ProposedEquipment0!CR60","v":""},{"$f":"ProposedEquipment0!I60","v":""},{"$f":"ProposedEquipment0!J60","v":""},{"$f":"ProposedEquipment0!K60","v":""},{"$f":"ProposedEquipment0!L60","v":""},{"$f":"ProposedEquipment0!M60","v":""},{"$f":"ProposedEquipment0!Y60","v":""},{"$f":"ProposedEquipment0!Z60","v":""},{"$f":"ProposedEquipment0!AA60","v":""},{"$f":"ProposedEquipment0!AB60","v":""},{"$f":"ProposedEquipment0!AC60","v":""},{"$f":"ProposedEquipment0!AD60","v":""},{"$f":"ProposedEquipment0!AE60","v":""},{"$f":"ProposedEquipment0!AF60","v":""},{"$f":"ProposedEquipment0!AG60","v":""},{"$f":"ProposedEquipment0!AH60","v":""}]

{"sheet":"Admin","index":40,"n_rows":77,"n_cols":31,"rows_kept":77,"cut":false,"hidden":true,"merged":[]}
[]
[null,"Cool Homes"]
[null,{"$f":"ProposedEquipment0!E1","v":"Product Name"},{"$f":"ProposedEquipment0!AU1","v":"Product Quantity"},{"$f":"ProposedEquipment0!F1","v":"Measure Code"},{"$f":"ProposedEquipment0!G1","v":"Application ID"},{"$f":"ProposedEquipment0!BM1","v":"Baseline EER"},{"$f":"ProposedEquipment0!BN1","v":"Baseline SEER"},{"$f":"ProposedEquipment0!BO1","v":"Baseline HSPF"},{"$f":"ProposedEquipment0!BX1","v":"Cooling Btuh"},{"$f":"ProposedEquipment0!BR1","v":"Proposed/Installed EER"},{"$f":"ProposedEquipment0!BS1","v":"Proposed/Installed SEER"},{"$f":"ProposedEquipment0!BT1","v":"Proposed/Installed HSPF"},{"$f":"ProposedEquipment0!BU1","v":"Proposed/Installed COP"},{"$f":"ProposedEquipment0!AR1","v":"Elec Util Cust Incentive"},{"$f":"ProposedEquipment0!AT1","v":"Contractor Incentive"},{"$f":"ProposedEquipment0!I1","v":"Gross kW"},{"$f":"ProposedEquipment0!J1","v":"Gross kWh"},{"$f":"ProposedEquipment0!K1","v":"Gross Winter kW"},{"$f":"ProposedEquipment0!L1","v":"Gross BE kWh"},{"$f":"ProposedEquipment0!M1","v":"Delta Gross kWh"},{"$f":"ProposedEquipment0!Y1","v":"Net kW"},{"$f":"ProposedEquipment0!Z1","v":"Net kWh"},{"$f":"ProposedEquipment0!AA1","v":"Net Winter kW"},{"$f":"ProposedEquipment0!AB1","v":"Net BE kWh"},{"$f":"ProposedEquipment0!AC1","v":"Delta Net kWh"},{"$f":"ProposedEquipment0!AD1","v":"Total Net kW"},{"$f":"ProposedEquipment0!AE1","v":"Total Net kWh"},{"$f":"ProposedEquipment0!AF1","v":"Total Net Winter kW"},{"$f":"ProposedEquipment0!AG1","v":"Total Net BE kWh"},{"$f":"ProposedEquipment0!AH1","v":"Total Delta Net kWh"},"Total Cost"]
[null,{"$f":"ProposedEquipment0!E2","v":""},{"$f":"ProposedEquipment0!AU2","v":""},{"$f":"ProposedEquipment0!F2","v":""},{"$f":"ProposedEquipment0!G2","v":""},{"$f":"ProposedEquipment0!BM2","v":""},{"$f":"ProposedEquipment0!BN2","v":""},{"$f":"ProposedEquipment0!BO2","v":""},{"$f":"ProposedEquipment0!BX2","v":""},{"$f":"ProposedEquipment0!BR2","v":""},{"$f":"ProposedEquipment0!BS2","v":""},{"$f":"ProposedEquipment0!BT2","v":""},{"$f":"ProposedEquipment0!BU2","v":""},{"$f":"ProposedEquipment0!AR2","v":""},{"$f":"ProposedEquipment0!AT2","v":""},{"$f":"ProposedEquipment0!I2","v":""},{"$f":"ProposedEquipment0!J2","v":""},{"$f":"ProposedEquipment0!K2","v":""},{"$f":"ProposedEquipment0!L2","v":""},{"$f":"ProposedEquipment0!M2","v":""},{"$f":"ProposedEquipment0!Y2","v":""},{"$f":"ProposedEquipment0!Z2","v":""},{"$f":"ProposedEquipment0!AA2","v":""},{"$f":"ProposedEquipment0!AB2","v":""},{"$f":"ProposedEquipment0!AC2","v":""},{"$f":"ProposedEquipment0!AD2","v":""},{"$f":"ProposedEquipment0!AE2","v":""},{"$f":"ProposedEquipment0!AF2","v":""},{"$f":"ProposedEquipment0!AG2","v":""},{"$f":"ProposedEquipment0!AH2","v":""}]
[null,{"$f":"ProposedEquipment0!E3","v":""},{"$f":"ProposedEquipment0!AU3","v":""},{"$f":"ProposedEquipment0!F3","v":""},{"$f":"ProposedEquipment0!G3","v":""},{"$f":"ProposedEquipment0!BM3","v":""},{"$f":"ProposedEquipment0!BN3","v":""},{"$f":"ProposedEquipment0!BO3","v":""},{"$f":"ProposedEquipment0!BX3","v":""},{"$f":"ProposedEquipment0!BR3","v":""},{"$f":"ProposedEquipment0!BS3","v":""},{"$f":"ProposedEquipment0!BT3","v":""},{"$f":"ProposedEquipment0!BU3","v":""},{"$f":"ProposedEquipment0!AR3","v":""},{"$f":"ProposedEquipment0!AT3","v":""},{"$f":"ProposedEquipment0!I3","v":""},{"$f":"ProposedEquipment0!J3","v":""},{"$f":"ProposedEquipment0!K3","v":""},{"$f":"ProposedEquipment0!L3","v":""},{"$f":"ProposedEquipment0!M3","v":""},{"$f":"ProposedEquipment0!Y3","v":""},{"$f":"ProposedEquipment0!Z3","v":""},{"$f":"ProposedEquipment0!AA3","v":""},{"$f":"ProposedEquipment0!AB3","v":""},{"$f":"ProposedEquipment0!AC3","v":""},{"$f":"ProposedEquipment0!AD3","v":""},{"$f":"ProposedEquipment0!AE3","v":""},{"$f":"ProposedEquipment0!AF3","v":""},{"$f":"ProposedEquipment0!AG3","v":""},{"$f":"ProposedEquipment0!AH3","v":""}]
[null,{"$f":"ProposedEquipment0!E4","v":""},{"$f":"ProposedEquipment0!AU4","v":""},{"$f":"ProposedEquipment0!F4","v":""},{"$f":"ProposedEquipment0!G4","v":""},{"$f":"ProposedEquipment0!BM4","v":""},{"$f":"ProposedEquipment0!BN4","v":""},{"$f":"ProposedEquipment0!BO4","v":""},{"$f":"ProposedEquipment0!BX4","v":""},{"$f":"ProposedEquipment0!BR4","v":""},{"$f":"ProposedEquipment0!BS4","v":""},{"$f":"ProposedEquipment0!BT4","v":""},{"$f":"ProposedEquipment0!BU4","v":""},{"$f":"ProposedEquipment0!AR4","v":""},{"$f":"ProposedEquipment0!AT4","v":""},{"$f":"ProposedEquipment0!I4","v":""},{"$f":"ProposedEquipment0!J4","v":""},{"$f":"ProposedEquipment0!K4","v":""},{"$f":"ProposedEquipment0!L4","v":""},{"$f":"ProposedEquipment0!M4","v":""},{"$f":"ProposedEquipment0!Y4","v":""},{"$f":"ProposedEquipment0!Z4","v":""},{"$f":"ProposedEquipment0!AA4","v":""},{"$f":"ProposedEquipment0!AB4","v":""},{"$f":"ProposedEquipment0!AC4","v":""},{"$f":"ProposedEquipment0!AD4","v":""},{"$f":"ProposedEquipment0!AE4","v":""},{"$f":"ProposedEquipment0!AF4","v":""},{"$f":"ProposedEquipment0!AG4","v":""},{"$f":"ProposedEquipment0!AH4","v":""}]
[null,{"$f":"ProposedEquipment0!E5","v":""},{"$f":"ProposedEquipment0!AU5","v":""},{"$f":"ProposedEquipment0!F5","v":""},{"$f":"ProposedEquipment0!G5","v":""},{"$f":"ProposedEquipment0!BM5","v":""},{"$f":"ProposedEquipment0!BN5","v":""},{"$f":"ProposedEquipment0!BO5","v":""},{"$f":"ProposedEquipment0!BX5","v":""},{"$f":"ProposedEquipment0!BR5","v":""},{"$f":"ProposedEquipment0!BS5","v":""},{"$f":"ProposedEquipment0!BT5","v":""},{"$f":"ProposedEquipment0!BU5","v":""},{"$f":"ProposedEquipment0!AR5","v":""},{"$f":"ProposedEquipment0!AT5","v":""},{"$f":"ProposedEquipment0!I5","v":""},{"$f":"ProposedEquipment0!J5","v":""},{"$f":"ProposedEquipment0!K5","v":""},{"$f":"ProposedEquipment0!L5","v":""},{"$f":"ProposedEquipment0!M5","v":""},{"$f":"ProposedEquipment0!Y5","v":""},{"$f":"ProposedEquipment0!Z5","v":""},{"$f":"ProposedEquipment0!AA5","v":""},{"$f":"ProposedEquipment0!AB5","v":""},{"$f":"ProposedEquipment0!AC5","v":""},{"$f":"ProposedEquipment0!AD5","v":""},{"$f":"ProposedEquipment0!AE5","v":""},{"$f":"ProposedEquipment0!AF5","v":""},{"$f":"ProposedEquipment0!AG5","v":""},{"$f":"ProposedEquipment0!AH5","v":""}]
[null,{"$f":"ProposedEquipment0!E6","v":""},{"$f":"ProposedEquipment0!AU6","v":""},{"$f":"ProposedEquipment0!F6","v":""},{"$f":"ProposedEquipment0!G6","v":""},{"$f":"ProposedEquipment0!BM6","v":""},{"$f":"ProposedEquipment0!BN6","v":""},{"$f":"ProposedEquipment0!BO6","v":""},{"$f":"ProposedEquipment0!BX6","v":""},{"$f":"ProposedEquipment0!BR6","v":""},{"$f":"ProposedEquipment0!BS6","v":""},{"$f":"ProposedEquipment0!BT6","v":""},{"$f":"ProposedEquipment0!BU6","v":""},{"$f":"ProposedEquipment0!AR6","v":""},{"$f":"ProposedEquipment0!AT6","v":""},{"$f":"ProposedEquipment0!I6","v":""},{"$f":"ProposedEquipment0!J6","v":""},{"$f":"ProposedEquipment0!K6","v":""},{"$f":"ProposedEquipment0!L6","v":""},{"$f":"ProposedEquipment0!M6","v":""},{"$f":"ProposedEquipment0!Y6","v":""},{"$f":"ProposedEquipment0!Z6","v":""},{"$f":"ProposedEquipment0!AA6","v":""},{"$f":"ProposedEquipment0!AB6","v":""},{"$f":"ProposedEquipment0!AC6","v":""},{"$f":"ProposedEquipment0!AD6","v":""},{"$f":"ProposedEquipment0!AE6","v":""},{"$f":"ProposedEquipment0!AF6","v":""},{"$f":"ProposedEquipment0!AG6","v":""},{"$f":"ProposedEquipment0!AH6","v":""}]
[null,{"$f":"ProposedEquipment0!E7","v":""},{"$f":"ProposedEquipment0!AU7","v":""},{"$f":"ProposedEquipment0!F7","v":""},{"$f":"ProposedEquipment0!G7","v":""},{"$f":"ProposedEquipment0!BM7","v":""},{"$f":"ProposedEquipment0!BN7","v":""},{"$f":"ProposedEquipment0!BO7","v":""},{"$f":"ProposedEquipment0!BX7","v":""},{"$f":"ProposedEquipment0!BR7","v":""},{"$f":"ProposedEquipment0!BS7","v":""},{"$f":"ProposedEquipment0!BT7","v":""},{"$f":"ProposedEquipment0!BU7","v":""},{"$f":"ProposedEquipment0!AR7","v":""},{"$f":"ProposedEquipment0!AT7","v":""},{"$f":"ProposedEquipment0!I7","v":""},{"$f":"ProposedEquipment0!J7","v":""},{"$f":"ProposedEquipment0!K7","v":""},{"$f":"ProposedEquipment0!L7","v":""},{"$f":"ProposedEquipment0!M7","v":""},{"$f":"ProposedEquipment0!Y7","v":""},{"$f":"ProposedEquipment0!Z7","v":""},{"$f":"ProposedEquipment0!AA7","v":""},{"$f":"ProposedEquipment0!AB7","v":""},{"$f":"ProposedEquipment0!AC7","v":""},{"$f":"ProposedEquipment0!AD7","v":""},{"$f":"ProposedEquipment0!AE7","v":""},{"$f":"ProposedEquipment0!AF7","v":""},{"$f":"ProposedEquipment0!AG7","v":""},{"$f":"ProposedEquipment0!AH7","v":""}]
[null,{"$f":"ProposedEquipment0!E8","v":""},{"$f":"ProposedEquipment0!AU8","v":""},{"$f":"ProposedEquipment0!F8","v":""},{"$f":"ProposedEquipment0!G8","v":""},{"$f":"ProposedEquipment0!BM8","v":""},{"$f":"ProposedEquipment0!BN8","v":""},{"$f":"ProposedEquipment0!BO8","v":""},{"$f":"ProposedEquipment0!BX8","v":""},{"$f":"ProposedEquipment0!BR8","v":""},{"$f":"ProposedEquipment0!BS8","v":""},{"$f":"ProposedEquipment0!BT8","v":""},{"$f":"ProposedEquipment0!BU8","v":""},{"$f":"ProposedEquipment0!AR8","v":""},{"$f":"ProposedEquipment0!AT8","v":""},{"$f":"ProposedEquipment0!I8","v":""},{"$f":"ProposedEquipment0!J8","v":""},{"$f":"ProposedEquipment0!K8","v":""},{"$f":"ProposedEquipment0!L8","v":""},{"$f":"ProposedEquipment0!M8","v":""},{"$f":"ProposedEquipment0!Y8","v":""},{"$f":"ProposedEquipment0!Z8","v":""},{"$f":"ProposedEquipment0!AA8","v":""},{"$f":"ProposedEquipment0!AB8","v":""},{"$f":"ProposedEquipment0!AC8","v":""},{"$f":"ProposedEquipment0!AD8","v":""},{"$f":"ProposedEquipment0!AE8","v":""},{"$f":"ProposedEquipment0!AF8","v":""},{"$f":"ProposedEquipment0!AG8","v":""},{"$f":"ProposedEquipment0!AH8","v":""}]
[null,{"$f":"ProposedEquipment0!E9","v":""},{"$f":"ProposedEquipment0!AU9","v":""},{"$f":"ProposedEquipment0!F9","v":""},{"$f":"ProposedEquipment0!G9","v":""},{"$f":"ProposedEquipment0!BM9","v":""},{"$f":"ProposedEquipment0!BN9","v":""},{"$f":"ProposedEquipment0!BO9","v":""},{"$f":"ProposedEquipment0!BX9","v":""},{"$f":"ProposedEquipment0!BR9","v":""},{"$f":"ProposedEquipment0!BS9","v":""},{"$f":"ProposedEquipment0!BT9","v":""},{"$f":"ProposedEquipment0!BU9","v":""},{"$f":"ProposedEquipment0!AR9","v":""},{"$f":"ProposedEquipment0!AT9","v":""},{"$f":"ProposedEquipment0!I9","v":""},{"$f":"ProposedEquipment0!J9","v":""},{"$f":"ProposedEquipment0!K9","v":""},{"$f":"ProposedEquipment0!L9","v":""},{"$f":"ProposedEquipment0!M9","v":""},{"$f":"ProposedEquipment0!Y9","v":""},{"$f":"ProposedEquipment0!Z9","v":""},{"$f":"ProposedEquipment0!AA9","v":""},{"$f":"ProposedEquipment0!AB9","v":""},{"$f":"ProposedEquipment0!AC9","v":""},{"$f":"ProposedEquipment0!AD9","v":""},{"$f":"ProposedEquipment0!AE9","v":""},{"$f":"ProposedEquipment0!AF9","v":""},{"$f":"ProposedEquipment0!AG9","v":""},{"$f":"ProposedEquipment0!AH9","v":""}]
[null,{"$f":"ProposedEquipment0!E10","v":""},{"$f":"ProposedEquipment0!AU10","v":""},{"$f":"ProposedEquipment0!F10","v":""},{"$f":"ProposedEquipment0!G10","v":""},{"$f":"ProposedEquipment0!BM10","v":""},{"$f":"ProposedEquipment0!BN10","v":""},{"$f":"ProposedEquipment0!BO10","v":""},{"$f":"ProposedEquipment0!BX10","v":""},{"$f":"ProposedEquipment0!BR10","v":""},{"$f":"ProposedEquipment0!BS10","v":""},{"$f":"ProposedEquipment0!BT10","v":""},{"$f":"ProposedEquipment0!BU10","v":""},{"$f":"ProposedEquipment0!AR10","v":""},{"$f":"ProposedEquipment0!AT10","v":""},{"$f":"ProposedEquipment0!I10","v":""},{"$f":"ProposedEquipment0!J10","v":""},{"$f":"ProposedEquipment0!K10","v":""},{"$f":"ProposedEquipment0!L10","v":""},{"$f":"ProposedEquipment0!M10","v":""},{"$f":"ProposedEquipment0!Y10","v":""},{"$f":"ProposedEquipment0!Z10","v":""},{"$f":"ProposedEquipment0!AA10","v":""},{"$f":"ProposedEquipment0!AB10","v":""},{"$f":"ProposedEquipment0!AC10","v":""},{"$f":"ProposedEquipment0!AD10","v":""},{"$f":"ProposedEquipment0!AE10","v":""},{"$f":"ProposedEquipment0!AF10","v":""},{"$f":"ProposedEquipment0!AG10","v":""},{"$f":"ProposedEquipment0!AH10","v":""}]
[null,{"$f":"ProposedEquipment0!E11","v":""},{"$f":"ProposedEquipment0!AU11","v":""},{"$f":"ProposedEquipment0!F11","v":""},{"$f":"ProposedEquipment0!G11","v":""},{"$f":"ProposedEquipment0!BM11","v":""},{"$f":"ProposedEquipment0!BN11","v":""},{"$f":"ProposedEquipment0!BO11","v":""},{"$f":"ProposedEquipment0!BX11","v":""},{"$f":"ProposedEquipment0!BR11","v":""},{"$f":"ProposedEquipment0!BS11","v":""},{"$f":"ProposedEquipment0!BT11","v":""},{"$f":"ProposedEquipment0!BU11","v":""},{"$f":"ProposedEquipment0!AR11","v":""},{"$f":"ProposedEquipment0!AT11","v":""},{"$f":"ProposedEquipment0!I11","v":""},{"$f":"ProposedEquipment0!J11","v":""},{"$f":"ProposedEquipment0!K11","v":""},{"$f":"ProposedEquipment0!L11","v":""},{"$f":"ProposedEquipment0!M11","v":""},{"$f":"ProposedEquipment0!Y11","v":""},{"$f":"ProposedEquipment0!Z11","v":""},{"$f":"ProposedEquipment0!AA11","v":""},{"$f":"ProposedEquipment0!AB11","v":""},{"$f":"ProposedEquipment0!AC11","v":""},{"$f":"ProposedEquipment0!AD11","v":""},{"$f":"ProposedEquipment0!AE11","v":""},{"$f":"ProposedEquipment0!AF11","v":""},{"$f":"ProposedEquipment0!AG11","v":""},{"$f":"ProposedEquipment0!AH11","v":""}]
[null,{"$f":"ProposedEquipment0!E13","v":""},{"$f":"ProposedEquipment0!AU13","v":""},{"$f":"ProposedEquipment0!F13","v":""},{"$f":"ProposedEquipment0!G13","v":""},null,null,null,null,null,null,null,null,{"$f":"ProposedEquipment0!AR13","v":""},null,{"$f":"ProposedEquipment0!I13","v":""},{"$f":"ProposedEquipment0!J13","v":""},{"$f":"ProposedEquipment0!K13","v":0},{"$f":"ProposedEquipment0!L13","v":0},{"$f":"ProposedEquipment0!M13","v":0},{"$f":"ProposedEquipment0!Y13","v":""},{"$f":"ProposedEquipment0!Z13","v":""},{"$f":"ProposedEquipment0!AA13","v":""},{"$f":"ProposedEquipment0!AB13","v":""},{"$f":"ProposedEquipment0!AC13","v":""},{"$f":"ProposedEquipment0!AD13","v":""},{"$f":"ProposedEquipment0!AE13","v":""},{"$f":"ProposedEquipment0!AF13","v":""},{"$f":"ProposedEquipment0!AG13","v":""},{"$f":"ProposedEquipment0!AH13","v":""}]
[null,{"$f":"ProposedEquipment0!E14","v":""},{"$f":"ProposedEquipment0!AU14","v":""},{"$f":"ProposedEquipment0!F14","v":""},{"$f":"ProposedEquipment0!G14","v":""},null,null,null,null,null,null,null,null,{"$f":"ProposedEquipment0!AR14","v":""},null,{"$f":"ProposedEquipment0!I14","v":""},{"$f":"ProposedEquipment0!J14","v":""},{"$f":"ProposedEquipment0!K14","v":0},{"$f":"ProposedEquipment0!L14","v":0},{"$f":"ProposedEquipment0!M14","v":0},{"$f":"ProposedEquipment0!Y14","v":""},{"$f":"ProposedEquipment0!Z14","v":""},{"$f":"ProposedEquipment0!AA14","v":""},{"$f":"ProposedEquipment0!AB14","v":""},{"$f":"ProposedEquipment0!AC14","v":""},{"$f":"ProposedEquipment0!AD14","v":""},{"$f":"ProposedEquipment0!AE14","v":""},{"$f":"ProposedEquipment0!AF14","v":""},{"$f":"ProposedEquipment0!AG14","v":""},{"$f":"ProposedEquipment0!AH14","v":""}]
[null,{"$f":"ProposedEquipment0!E15","v":""},{"$f":"ProposedEquipment0!AU15","v":""},{"$f":"ProposedEquipment0!F15","v":""},{"$f":"ProposedEquipment0!G15","v":""},null,null,null,null,null,null,null,null,{"$f":"ProposedEquipment0!AR15","v":""},null,{"$f":"ProposedEquipment0!I15","v":""},{"$f":"ProposedEquipment0!J15","v":""},{"$f":"ProposedEquipment0!K15","v":0},{"$f":"ProposedEquipment0!L15","v":0},{"$f":"ProposedEquipment0!M15","v":0},{"$f":"ProposedEquipment0!Y15","v":""},{"$f":"ProposedEquipment0!Z15","v":""},{"$f":"ProposedEquipment0!AA15","v":""},{"$f":"ProposedEquipment0!AB15","v":""},{"$f":"ProposedEquipment0!AC15","v":""},{"$f":"ProposedEquipment0!AD15","v":""},{"$f":"ProposedEquipment0!AE15","v":""},{"$f":"ProposedEquipment0!AF15","v":""},{"$f":"ProposedEquipment0!AG15","v":""},{"$f":"ProposedEquipment0!AH15","v":""}]
[null,{"$f":"ProposedEquipment0!E16","v":""},{"$f":"ProposedEquipment0!AU16","v":""},{"$f":"ProposedEquipment0!F16","v":""},{"$f":"ProposedEquipment0!G16","v":""},null,null,null,null,null,null,null,null,{"$f":"ProposedEquipment0!AR16","v":""},null,{"$f":"ProposedEquipment0!I16","v":""},{"$f":"ProposedEquipment0!J16","v":""},{"$f":"ProposedEquipment0!K16","v":0},{"$f":"ProposedEquipment0!L16","v":0},{"$f":"ProposedEquipment0!M16","v":0},{"$f":"ProposedEquipment0!Y16","v":""},{"$f":"ProposedEquipment0!Z16","v":""},{"$f":"ProposedEquipment0!AA16","v":""},{"$f":"ProposedEquipment0!AB16","v":""},{"$f":"ProposedEquipment0!AC16","v":""},{"$f":"ProposedEquipment0!AD16","v":""},{"$f":"ProposedEquipment0!AE16","v":""},{"$f":"ProposedEquipment0!AF16","v":""},{"$f":"ProposedEquipment0!AG16","v":""},{"$f":"ProposedEquipment0!AH16","v":""}]
[null,{"$f":"ProposedEquipment0!E17","v":""},{"$f":"ProposedEquipment0!AU17","v":""},{"$f":"ProposedEquipment0!F17","v":""},{"$f":"ProposedEquipment0!G17","v":""},null,null,null,null,null,null,null,null,{"$f":"ProposedEquipment0!AR17","v":""},null,{"$f":"ProposedEquipment0!I17","v":""},{"$f":"ProposedEquipment0!J17","v":""},{"$f":"ProposedEquipment0!K17","v":0},{"$f":"ProposedEquipment0!L17","v":0},{"$f":"ProposedEquipment0!M17","v":0},{"$f":"ProposedEquipment0!Y17","v":""},{"$f":"ProposedEquipment0!Z17","v":""},{"$f":"ProposedEquipment0!AA17","v":""},{"$f":"ProposedEquipment0!AB17","v":""},{"$f":"ProposedEquipment0!AC17","v":""},{"$f":"ProposedEquipment0!AD17","v":""},{"$f":"ProposedEquipment0!AE17","v":""},{"$f":"ProposedEquipment0!AF17","v":""},{"$f":"ProposedEquipment0!AG17","v":""},{"$f":"ProposedEquipment0!AH17","v":""}]
[null,{"$f":"ProposedEquipment0!E18","v":""},{"$f":"ProposedEquipment0!AU18","v":""},{"$f":"ProposedEquipment0!F18","v":""},{"$f":"ProposedEquipment0!G18","v":""},null,null,null,null,null,null,null,null,{"$f":"ProposedEquipment0!AR18","v":""},null,{"$f":"ProposedEquipment0!I18","v":""},{"$f":"ProposedEquipment0!J18","v":""},{"$f":"ProposedEquipment0!K18","v":0},{"$f":"ProposedEquipment0!L18","v":0},{"$f":"ProposedEquipment0!M18","v":0},{"$f":"ProposedEquipment0!Y18","v":""},{"$f":"ProposedEquipment0!Z18","v":""},{"$f":"ProposedEquipment0!AA18","v":""},{"$f":"ProposedEquipment0!AB18","v":""},{"$f":"ProposedEquipment0!AC18","v":""},{"$f":"ProposedEquipment0!AD18","v":""},{"$f":"ProposedEquipment0!AE18","v":""},{"$f":"ProposedEquipment0!AF18","v":""},{"$f":"ProposedEquipment0!AG18","v":""},{"$f":"ProposedEquipment0!AH18","v":""}]
[null,{"$f":"ProposedEquipment0!E19","v":""},{"$f":"ProposedEquipment0!AU19","v":""},{"$f":"ProposedEquipment0!F19","v":""},{"$f":"ProposedEquipment0!G19","v":""},null,null,null,null,null,null,null,null,{"$f":"ProposedEquipment0!AR19","v":""},null,{"$f":"ProposedEquipment0!I19","v":""},{"$f":"ProposedEquipment0!J19","v":""},{"$f":"ProposedEquipment0!K19","v":0},{"$f":"ProposedEquipment0!L19","v":0},{"$f":"ProposedEquipment0!M19","v":0},{"$f":"ProposedEquipment0!Y19","v":""},{"$f":"ProposedEquipment0!Z19","v":""},{"$f":"ProposedEquipment0!AA19","v":""},{"$f":"ProposedEquipment0!AB19","v":""},{"$f":"ProposedEquipment0!AC19","v":""},{"$f":"ProposedEquipment0!AD19","v":""},{"$f":"ProposedEquipment0!AE19","v":""},{"$f":"ProposedEquipment0!AF19","v":""},{"$f":"ProposedEquipment0!AG19","v":""},{"$f":"ProposedEquipment0!AH19","v":""}]
[null,{"$f":"ProposedEquipment0!E20","v":""},{"$f":"ProposedEquipment0!AU20","v":""},{"$f":"ProposedEquipment0!F20","v":""},{"$f":"ProposedEquipment0!G20","v":""},null,null,null,null,null,null,null,null,{"$f":"ProposedEquipment0!AR20","v":""},null,{"$f":"ProposedEquipment0!I20","v":""},{"$f":"ProposedEquipment0!J20","v":""},{"$f":"ProposedEquipment0!K20","v":0},{"$f":"ProposedEquipment0!L20","v":0},{"$f":"ProposedEquipment0!M20","v":0},{"$f":"ProposedEquipment0!Y20","v":""},{"$f":"ProposedEquipment0!Z20","v":""},{"$f":"ProposedEquipment0!AA20","v":""},{"$f":"ProposedEquipment0!AB20","v":""},{"$f":"ProposedEquipment0!AC20","v":""},{"$f":"ProposedEquipment0!AD20","v":""},{"$f":"ProposedEquipment0!AE20","v":""},{"$f":"ProposedEquipment0!AF20","v":""},{"$f":"ProposedEquipment0!AG20","v":""},{"$f":"ProposedEquipment0!AH20","v":""}]
[null,{"$f":"ProposedEquipment0!E21","v":""},{"$f":"ProposedEquipment0!AU21","v":""},{"$f":"ProposedEquipment0!F21","v":""},{"$f":"ProposedEquipment0!G21","v":""},null,null,null,null,null,null,null,null,{"$f":"ProposedEquipment0!AR21","v":""},null,{"$f":"ProposedEquipment0!I21","v":""},{"$f":"ProposedEquipment0!J21","v":""},{"$f":"ProposedEquipment0!K21","v":0},{"$f":"ProposedEquipment0!L21","v":0},{"$f":"ProposedEquipment0!M21","v":0},{"$f":"ProposedEquipment0!Y21","v":""},{"$f":"ProposedEquipment0!Z21","v":""},{"$f":"ProposedEquipment0!AA21","v":""},{"$f":"ProposedEquipment0!AB21","v":""},{"$f":"ProposedEquipment0!AC21","v":""},{"$f":"ProposedEquipment0!AD21","v":""},{"$f":"ProposedEquipment0!AE21","v":""},{"$f":"ProposedEquipment0!AF21","v":""},{"$f":"ProposedEquipment0!AG21","v":""},{"$f":"ProposedEquipment0!AH21","v":""}]
[null,{"$f":"ProposedEquipment0!E22","v":""},{"$f":"ProposedEquipment0!AU22","v":""},{"$f":"ProposedEquipment0!F22","v":""},{"$f":"ProposedEquipment0!G22","v":""},null,null,null,null,null,null,null,null,{"$f":"ProposedEquipment0!AR22","v":""},null,{"$f":"ProposedEquipment0!I22","v":""},{"$f":"ProposedEquipment0!J22","v":""},{"$f":"ProposedEquipment0!K22","v":0},{"$f":"ProposedEquipment0!L22","v":0},{"$f":"ProposedEquipment0!M22","v":0},{"$f":"ProposedEquipment0!Y22","v":""},{"$f":"ProposedEquipment0!Z22","v":""},{"$f":"ProposedEquipment0!AA22","v":""},{"$f":"ProposedEquipment0!AB22","v":""},{"$f":"ProposedEquipment0!AC22","v":""},{"$f":"ProposedEquipment0!AD22","v":""},{"$f":"ProposedEquipment0!AE22","v":""},{"$f":"ProposedEquipment0!AF22","v":""},{"$f":"ProposedEquipment0!AG22","v":""},{"$f":"ProposedEquipment0!AH22","v":""}]
[null,{"$f":"ProposedEquipment0!E23","v":""},{"$f":"ProposedEquipment0!AU23","v":""},{"$f":"ProposedEquipment0!F23","v":""},{"$f":"ProposedEquipment0!G23","v":""},null,null,null,null,null,null,null,null,{"$f":"ProposedEquipment0!AR23","v":""},null,{"$f":"ProposedEquipment0!I23","v":""},{"$f":"ProposedEquipment0!J23","v":""},{"$f":"ProposedEquipment0!K23","v":0},{"$f":"ProposedEquipment0!L23","v":0},{"$f":"ProposedEquipment0!M23","v":0},{"$f":"ProposedEquipment0!Y23","v":""},{"$f":"ProposedEquipment0!Z23","v":""},{"$f":"ProposedEquipment0!AA23","v":""},{"$f":"ProposedEquipment0!AB23","v":""},{"$f":"ProposedEquipment0!AC23","v":""},{"$f":"ProposedEquipment0!AD23","v":""},{"$f":"ProposedEquipment0!AE23","v":""},{"$f":"ProposedEquipment0!AF23","v":""},{"$f":"ProposedEquipment0!AG23","v":""},{"$f":"ProposedEquipment0!AH23","v":""}]
[null,{"$f":"ProposedEquipment0!E25","v":""},{"$f":"ProposedEquipment0!AU25","v":""},{"$f":"ProposedEquipment0!F25","v":""},{"$f":"ProposedEquipment0!G25","v":""},null,null,null,null,null,null,null,null,{"$f":"ProposedEquipment0!AR25","v":""},null,{"$f":"ProposedEquipment0!I25","v":""},{"$f":"ProposedEquipment0!J25","v":""},{"$f":"ProposedEquipment0!K25","v":""},{"$f":"ProposedEquipment0!L25","v":""},{"$f":"ProposedEquipment0!M25","v":""},{"$f":"ProposedEquipment0!Y25","v":""},{"$f":"ProposedEquipment0!Z25","v":""},{"$f":"ProposedEquipment0!AA25","v":""},{"$f":"ProposedEquipment0!AB25","v":""},{"$f":"ProposedEquipment0!AC25","v":""},{"$f":"ProposedEquipment0!AD25","v":""},{"$f":"ProposedEquipment0!AE25","v":""},{"$f":"ProposedEquipment0!AF25","v":""},{"$f":"ProposedEquipment0!AG25","v":""},{"$f":"ProposedEquipment0!AH25","v":""}]
[]
[]
[]
[]
[]
[]
[null,"Home Performance"]
[null,"Product Name","Product Quantity","Measure Code","Elec Util Cust Incentive","Contractor Incentive","Gross kW","Gross kWh","Gross Winter kW","Gross BE kWh","Delta Gross kWh","Net kW","Net kWh","Net Winter kW","Net BE kWh","Delta Net kWh","Total Net kW","Total Net kWh","Total Net Winter kW","Total Net BE kWh",{"$f":"ProposedEquipment0!AH1","v":"Total Delta Net kWh"},{"$f":"ProposedEquipment0!AL1","v":"EE MMBTU Savings"},{"$f":"ProposedEquipment0!AM1","v":"BE MMBTU Savings"},{"$f":"ProposedEquipment0!AN1","v":"Total MMBTU Savings"}]
[null,{"$f":"ProposedEquipment0!E33","v":""},{"$f":"ProposedEquipment0!AU33","v":""},{"$f":"ProposedEquipment0!F33","v":""},{"$f":"ProposedEquipment0!AR33","v":""},{"$f":"ProposedEquipment0!AT33","v":0},{"$f":"ProposedEquipment0!I33","v":""},{"$f":"ProposedEquipment0!J33","v":""},{"$f":"ProposedEquipment0!K33","v":""},{"$f":"ProposedEquipment0!L33","v":""},{"$f":"ProposedEquipment0!M33","v":""},{"$f":"ProposedEquipment0!Y33","v":""},{"$f":"ProposedEquipment0!Z33","v":""},{"$f":"ProposedEquipment0!AA33","v":""},{"$f":"ProposedEquipment0!AB33","v":""},{"$f":"ProposedEquipment0!AC33","v":""},{"$f":"ProposedEquipment0!AD33","v":""},{"$f":"ProposedEquipment0!AE33","v":""},{"$f":"ProposedEquipment0!AF33","v":""},{"$f":"ProposedEquipment0!AG33","v":""},{"$f":"ProposedEquipment0!AH33","v":""},{"$f":"ProposedEquipment0!AL33","v":""},{"$f":"ProposedEquipment0!AM33","v":""},{"$f":"ProposedEquipment0!AN33","v":""}]
[null,{"$f":"ProposedEquipment0!E34","v":""},{"$f":"ProposedEquipment0!AU34","v":""},{"$f":"ProposedEquipment0!F34","v":""},{"$f":"ProposedEquipment0!AR34","v":""},{"$f":"ProposedEquipment0!AT34","v":0},{"$f":"ProposedEquipment0!I34","v":""},{"$f":"ProposedEquipment0!J34","v":""},{"$f":"ProposedEquipment0!K34","v":""},{"$f":"ProposedEquipment0!L34","v":""},{"$f":"ProposedEquipment0!M34","v":""},{"$f":"ProposedEquipment0!Y34","v":""},{"$f":"ProposedEquipment0!Z34","v":""},{"$f":"ProposedEquipment0!AA34","v":""},{"$f":"ProposedEquipment0!AB34","v":""},{"$f":"ProposedEquipment0!AC34","v":""},{"$f":"ProposedEquipment0!AD34","v":""},{"$f":"ProposedEquipment0!AE34","v":""},{"$f":"ProposedEquipment0!AF34","v":""},{"$f":"ProposedEquipment0!AG34","v":""},{"$f":"ProposedEquipment0!AH34","v":""},{"$f":"ProposedEquipment0!AL34","v":""},{"$f":"ProposedEquipment0!AM34","v":""},{"$f":"ProposedEquipment0!AN34","v":""}]
[null,{"$f":"ProposedEquipment0!E35","v":""},{"$f":"ProposedEquipment0!AU35","v":""},{"$f":"ProposedEquipment0!F35","v":""},{"$f":"ProposedEquipment0!AR35","v":""},{"$f":"ProposedEquipment0!AT35","v":0},{"$f":"ProposedEquipment0!I35","v":""},{"$f":"ProposedEquipment0!J35","v":""},{"$f":"ProposedEquipment0!K35","v":""},{"$f":"ProposedEquipment0!L35","v":""},{"$f":"ProposedEquipment0!M35","v":""},{"$f":"ProposedEquipment0!Y35","v":""},{"$f":"ProposedEquipment0!Z35","v":""},{"$f":"ProposedEquipment0!AA35","v":""},{"$f":"ProposedEquipment0!AB35","v":""},{"$f":"ProposedEquipment0!AC35","v":""},{"$f":"ProposedEquipment0!AD35","v":""},{"$f":"ProposedEquipment0!AE35","v":""},{"$f":"ProposedEquipment0!AF35","v":""},{"$f":"ProposedEquipment0!AG35","v":""},{"$f":"ProposedEquipment0!AH35","v":""},{"$f":"ProposedEquipment0!AL35","v":""},{"$f":"ProposedEquipment0!AM35","v":""},{"$f":"ProposedEquipment0!AN35","v":""}]
[null,{"$f":"ProposedEquipment0!E36","v":0},{"$f":"ProposedEquipment0!AU36","v":""},{"$f":"ProposedEquipment0!F36","v":0},{"$f":"ProposedEquipment0!AR36","v":""},{"$f":"ProposedEquipment0!AT36","v":0},{"$f":"ProposedEquipment0!I36","v":0},{"$f":"ProposedEquipment0!J36","v":0},{"$f":"ProposedEquipment0!K36","v":0},{"$f":"ProposedEquipment0!L36","v":""},{"$f":"ProposedEquipment0!M36","v":""},{"$f":"ProposedEquipment0!Y36","v":""},{"$f":"ProposedEquipment0!Z36","v":""},{"$f":"ProposedEquipment0!AA36","v":""},{"$f":"ProposedEquipment0!AB36","v":""},{"$f":"ProposedEquipment0!AC36","v":""},{"$f":"ProposedEquipment0!AD36","v":""},{"$f":"ProposedEquipment0!AE36","v":""},{"$f":"ProposedEquipment0!AF36","v":""},{"$f":"ProposedEquipment0!AG36","v":""},{"$f":"ProposedEquipment0!AH36","v":""},{"$f":"ProposedEquipment0!AL36","v":""},{"$f":"ProposedEquipment0!AM36","v":""},{"$f":"ProposedEquipment0!AN36","v":""}]
[null,{"$f":"ProposedEquipment0!E37","v":0},{"$f":"ProposedEquipment0!AU37","v":""},{"$f":"ProposedEquipment0!F37","v":0},{"$f":"ProposedEquipment0!AR37","v":""},{"$f":"ProposedEquipment0!AT37","v":0},{"$f":"ProposedEquipment0!I37","v":0},{"$f":"ProposedEquipment0!J37","v":0},{"$f":"ProposedEquipment0!K37","v":0},{"$f":"ProposedEquipment0!L37","v":""},{"$f":"ProposedEquipment0!M37","v":""},{"$f":"ProposedEquipment0!Y37","v":""},{"$f":"ProposedEquipment0!Z37","v":""},{"$f":"ProposedEquipment0!AA37","v":""},{"$f":"ProposedEquipment0!AB37","v":""},{"$f":"ProposedEquipment0!AC37","v":""},{"$f":"ProposedEquipment0!AD37","v":""},{"$f":"ProposedEquipment0!AE37","v":""},{"$f":"ProposedEquipment0!AF37","v":""},{"$f":"ProposedEquipment0!AG37","v":""},{"$f":"ProposedEquipment0!AH37","v":""},{"$f":"ProposedEquipment0!AL37","v":""},{"$f":"ProposedEquipment0!AM37","v":""},{"$f":"ProposedEquipment0!AN37","v":""}]
[null,{"$f":"ProposedEquipment0!E38","v":0},{"$f":"ProposedEquipment0!AU38","v":""},{"$f":"ProposedEquipment0!F38","v":0},{"$f":"ProposedEquipment0!AR38","v":""},{"$f":"ProposedEquipment0!AT38","v":0},{"$f":"ProposedEquipment0!I38","v":0},{"$f":"ProposedEquipment0!J38","v":0},{"$f":"ProposedEquipment0!K38","v":0},{"$f":"ProposedEquipment0!L38","v":""},{"$f":"ProposedEquipment0!M38","v":""},{"$f":"ProposedEquipment0!Y38","v":""},{"$f":"ProposedEquipment0!Z38","v":""},{"$f":"ProposedEquipment0!AA38","v":""},{"$f":"ProposedEquipment0!AB38","v":""},{"$f":"ProposedEquipment0!AC38","v":""},{"$f":"ProposedEquipment0!AD38","v":""},{"$f":"ProposedEquipment0!AE38","v":""},{"$f":"ProposedEquipment0!AF38","v":""},{"$f":"ProposedEquipment0!AG38","v":""},{"$f":"ProposedEquipment0!AH38","v":""},{"$f":"ProposedEquipment0!AL38","v":""},{"$f":"ProposedEquipment0!AM38","v":""},{"$f":"ProposedEquipment0!AN38","v":""}]
[null,{"$f":"ProposedEquipment0!E39","v":""},{"$f":"ProposedEquipment0!AU39","v":""},{"$f":"ProposedEquipment0!F39","v":""},{"$f":"ProposedEquipment0!AR39","v":""},{"$f":"ProposedEquipment0!AT39","v":0},{"$f":"ProposedEquipment0!I39","v":""},{"$f":"ProposedEquipment0!J39","v":""},{"$f":"ProposedEquipment0!K39","v":""},{"$f":"ProposedEquipment0!L39","v":""},{"$f":"ProposedEquipment0!M39","v":""},{"$f":"ProposedEquipment0!Y39","v":""},{"$f":"ProposedEquipment0!Z39","v":""},{"$f":"ProposedEquipment0!AA39","v":""},{"$f":"ProposedEquipment0!AB39","v":""},{"$f":"ProposedEquipment0!AC39","v":""},{"$f":"ProposedEquipment0!AD39","v":""},{"$f":"ProposedEquipment0!AE39","v":""},{"$f":"ProposedEquipment0!AF39","v":""},{"$f":"ProposedEquipment0!AG39","v":""},{"$f":"ProposedEquipment0!AH39","v":""},{"$f":"ProposedEquipment0!AL39","v":""},{"$f":"ProposedEquipment0!AM39","v":""},{"$f":"ProposedEquipment0!AN39","v":""}]
[null,{"$f":"ProposedEquipment0!E40","v":0},{"$f":"ProposedEquipment0!AU40","v":""},{"$f":"ProposedEquipment0!F40","v":0},{"$f":"ProposedEquipment0!AR40","v":""},{"$f":"ProposedEquipment0!AT40","v":0},{"$f":"ProposedEquipment0!I40","v":0},{"$f":"ProposedEquipment0!J40","v":0},{"$f":"ProposedEquipment0!K40","v":0},{"$f":"ProposedEquipment0!L40","v":""},{"$f":"ProposedEquipment0!M40","v":""},{"$f":"ProposedEquipment0!Y40","v":""},{"$f":"ProposedEquipment0!Z40","v":""},{"$f":"ProposedEquipment0!AA40","v":""},{"$f":"ProposedEquipment0!AB40","v":""},{"$f":"ProposedEquipment0!AC40","v":""},{"$f":"ProposedEquipment0!AD40","v":""},{"$f":"ProposedEquipment0!AE40","v":""},{"$f":"ProposedEquipment0!AF40","v":""},{"$f":"ProposedEquipment0!AG40","v":""},{"$f":"ProposedEquipment0!AH40","v":""},{"$f":"ProposedEquipment0!AL40","v":""},{"$f":"ProposedEquipment0!AM40","v":""},{"$f":"ProposedEquipment0!AN40","v":""}]
[null,{"$f":"ProposedEquipment0!E41","v":""},{"$f":"ProposedEquipment0!AU41","v":""},{"$f":"ProposedEquipment0!F41","v":""},{"$f":"ProposedEquipment0!AR41","v":""},{"$f":"ProposedEquipment0!AT41","v":0},{"$f":"ProposedEquipment0!I41","v":""},{"$f":"ProposedEquipment0!J41","v":""},{"$f":"ProposedEquipment0!K41","v":""},{"$f":"ProposedEquipment0!L41","v":""},{"$f":"ProposedEquipment0!M41","v":""},{"$f":"ProposedEquipment0!Y41","v":""},{"$f":"ProposedEquipment0!Z41","v":""},{"$f":"ProposedEquipment0!AA41","v":""},{"$f":"ProposedEquipment0!AB41","v":""},{"$f":"ProposedEquipment0!AC41","v":""},{"$f":"ProposedEquipment0!AD41","v":""},{"$f":"ProposedEquipment0!AE41","v":""},{"$f":"ProposedEquipment0!AF41","v":""},{"$f":"ProposedEquipment0!AG41","v":""},{"$f":"ProposedEquipment0!AH41","v":""},{"$f":"ProposedEquipment0!AL41","v":""},{"$f":"ProposedEquipment0!AM41","v":""},{"$f":"ProposedEquipment0!AN41","v":""}]
[null,{"$f":"ProposedEquipment0!E42","v":""},{"$f":"ProposedEquipment0!AU42","v":""},{"$f":"ProposedEquipment0!F42","v":""},{"$f":"ProposedEquipment0!AR42","v":""},{"$f":"ProposedEquipment0!AT42","v":0},{"$f":"ProposedEquipment0!I42","v":""},{"$f":"ProposedEquipment0!J42","v":""},{"$f":"ProposedEquipment0!K42","v":""},{"$f":"ProposedEquipment0!L42","v":""},{"$f":"ProposedEquipment0!M42","v":""},{"$f":"ProposedEquipment0!Y42","v":""},{"$f":"ProposedEquipment0!Z42","v":""},{"$f":"ProposedEquipment0!AA42","v":""},{"$f":"ProposedEquipment0!AB42","v":""},{"$f":"ProposedEquipment0!AC42","v":""},{"$f":"ProposedEquipment0!AD42","v":""},{"$f":"ProposedEquipment0!AE42","v":""},{"$f":"ProposedEquipment0!AF42","v":""},{"$f":"ProposedEquipment0!AG42","v":""},{"$f":"ProposedEquipment0!AH42","v":""},{"$f":"ProposedEquipment0!AL42","v":""},{"$f":"ProposedEquipment0!AM42","v":""},{"$f":"ProposedEquipment0!AN42","v":""}]
[null,{"$f":"ProposedEquipment0!E43","v":""},{"$f":"ProposedEquipment0!AU43","v":""},{"$f":"ProposedEquipment0!F43","v":""},{"$f":"ProposedEquipment0!AR43","v":""},{"$f":"ProposedEquipment0!AT43","v":0},{"$f":"ProposedEquipment0!I43","v":""},{"$f":"ProposedEquipment0!J43","v":""},{"$f":"ProposedEquipment0!K43","v":""},{"$f":"ProposedEquipment0!L43","v":""},{"$f":"ProposedEquipment0!M43","v":""},{"$f":"ProposedEquipment0!Y43","v":""},{"$f":"ProposedEquipment0!Z43","v":""},{"$f":"ProposedEquipment0!AA43","v":""},{"$f":"ProposedEquipment0!AB43","v":""},{"$f":"ProposedEquipment0!AC43","v":""},{"$f":"ProposedEquipment0!AD43","v":""},{"$f":"ProposedEquipment0!AE43","v":""},{"$f":"ProposedEquipment0!AF43","v":""},{"$f":"ProposedEquipment0!AG43","v":""},{"$f":"ProposedEquipment0!AH43","v":""},{"$f":"ProposedEquipment0!AL43","v":""},{"$f":"ProposedEquipment0!AM43","v":""},{"$f":"ProposedEquipment0!AN43","v":""}]
[null,{"$f":"ProposedEquipment0!E44","v":""},{"$f":"ProposedEquipment0!AU44","v":""},{"$f":"ProposedEquipment0!F44","v":""},{"$f":"ProposedEquipment0!AR44","v":""},{"$f":"ProposedEquipment0!AT44","v":0},{"$f":"ProposedEquipment0!I44","v":""},{"$f":"ProposedEquipment0!J44","v":""},{"$f":"ProposedEquipment0!K44","v":""},{"$f":"ProposedEquipment0!L44","v":""},{"$f":"ProposedEquipment0!M44","v":""},{"$f":"ProposedEquipment0!Y44","v":""},{"$f":"ProposedEquipment0!Z44","v":""},{"$f":"ProposedEquipment0!AA44","v":""},{"$f":"ProposedEquipment0!AB44","v":""},{"$f":"ProposedEquipment0!AC44","v":""},{"$f":"ProposedEquipment0!AD44","v":""},{"$f":"ProposedEquipment0!AE44","v":""},{"$f":"ProposedEquipment0!AF44","v":""},{"$f":"ProposedEquipment0!AG44","v":""},{"$f":"ProposedEquipment0!AH44","v":""},{"$f":"ProposedEquipment0!AL44","v":""},{"$f":"ProposedEquipment0!AM44","v":""},{"$f":"ProposedEquipment0!AN44","v":""}]
[null,{"$f":"ProposedEquipment0!E45","v":""},{"$f":"ProposedEquipment0!AU45","v":""},{"$f":"ProposedEquipment0!F45","v":""},{"$f":"ProposedEquipment0!AR45","v":""},{"$f":"ProposedEquipment0!AT45","v":0},{"$f":"ProposedEquipment0!I45","v":""},{"$f":"ProposedEquipment0!J45","v":""},{"$f":"ProposedEquipment0!K45","v":""},{"$f":"ProposedEquipment0!L45","v":""},{"$f":"ProposedEquipment0!M45","v":""},{"$f":"ProposedEquipment0!Y45","v":""},{"$f":"ProposedEquipment0!Z45","v":""},{"$f":"ProposedEquipment0!AA45","v":""},{"$f":"ProposedEquipment0!AB45","v":""},{"$f":"ProposedEquipment0!AC45","v":""},{"$f":"ProposedEquipment0!AD45","v":""},{"$f":"ProposedEquipment0!AE45","v":""},{"$f":"ProposedEquipment0!AF45","v":""},{"$f":"ProposedEquipment0!AG45","v":""},{"$f":"ProposedEquipment0!AH45","v":""},{"$f":"ProposedEquipment0!AL45","v":""},{"$f":"ProposedEquipment0!AM45","v":""},{"$f":"ProposedEquipment0!AN45","v":""}]
[]
[]
[]
[]
[]
[]
[]
[]
[]
[]
[]
[]
[]
[]
[]
[]
[]
[]
[]
[null,"Geothermal"]
[null,"Product Name","Product Quantity","Measure Code","Application ID","Baseline EER","Baseline SEER","Baseline COP","Cooling Btuh","Proposed/Installed EER","Proposed/Installed SEER","Proposed/Installed HSPF","Proposed/Installed COP","Heating Source","Cooling Source","Gross kW","Gross kWh","Gross Winter kW","Gross BE kWh","Delta Gross kWh","Net kW","Net kWh","Net Winter kW","Net BE kWh","Delta Net kWh","Total Net kW","Total Net kWh","Total Net Winter kW","Total Net BE kWh","Total Delta Net kWh","Total Cost"]
[1,{"$f":"ProposedEquipment0!E51","v":""},{"$f":"IF(D68=\"\",\"\",ProposedEquipment0!AU51)","v":""},{"$f":"ProposedEquipment0!F51","v":""},{"$f":"ProposedEquipment0!H51","v":""},{"$f":"ProposedEquipment0!BM51","v":""},{"$f":"ProposedEquipment0!BN51","v":""},{"$f":"ProposedEquipment0!BQ51","v":""},{"$f":"ProposedEquipment0!BX51","v":""},{"$f":"ProposedEquipment0!BR51","v":""},{"$f":"IF(D68=\"\",\"\",ProposedEquipment0!BS51)","v":""},{"$f":"IF(D68=\"\",\"\",ProposedEquipment0!BT51)","v":""},{"$f":"ProposedEquipment0!BU51","v":""},{"$f":"ProposedEquipment0!CS51","v":""},{"$f":"ProposedEquipment0!CR51","v":""},{"$f":"ProposedEquipment0!I51","v":""},{"$f":"ProposedEquipment0!J51","v":""},{"$f":"ProposedEquipment0!K51","v":""},{"$f":"ProposedEquipment0!L51","v":""},{"$f":"ProposedEquipment0!M51","v":""},{"$f":"ProposedEquipment0!X51","v":""},{"$f":"ProposedEquipment0!Y51","v":""},{"$f":"ProposedEquipment0!Z51","v":""},{"$f":"ProposedEquipment0!AA51","v":""},{"$f":"ProposedEquipment0!AB51","v":""},{"$f":"ProposedEquipment0!AC51","v":""},{"$f":"ProposedEquipment0!AD51","v":""},{"$f":"ProposedEquipment0!AE51","v":""},{"$f":"ProposedEquipment0!AF51","v":""},{"$f":"ProposedEquipment0!AG51","v":""}]
[2,{"$f":"ProposedEquipment0!E52","v":""},{"$f":"IF(D69=\"\",\"\",ProposedEquipment0!AU52)","v":""},{"$f":"ProposedEquipment0!F52","v":""},{"$f":"ProposedEquipment0!H52","v":""},{"$f":"ProposedEquipment0!BM52","v":""},{"$f":"ProposedEquipment0!BN52","v":""},{"$f":"ProposedEquipment0!BQ52","v":""},{"$f":"ProposedEquipment0!BX52","v":""},{"$f":"ProposedEquipment0!BR52","v":""},{"$f":"IF(D69=\"\",\"\",ProposedEquipment0!BS52)","v":""},{"$f":"IF(D69=\"\",\"\",ProposedEquipment0!BT52)","v":""},{"$f":"ProposedEquipment0!BU52","v":""},{"$f":"ProposedEquipment0!CS52","v":""},{"$f":"ProposedEquipment0!CR52","v":""},{"$f":"ProposedEquipment0!I52","v":""},{"$f":"ProposedEquipment0!J52","v":""},{"$f":"ProposedEquipment0!K52","v":""},{"$f":"ProposedEquipment0!L52","v":""},{"$f":"ProposedEquipment0!M52","v":""},{"$f":"ProposedEquipment0!X52","v":""},{"$f":"ProposedEquipment0!Y52","v":""},{"$f":"ProposedEquipment0!Z52","v":""},{"$f":"ProposedEquipment0!AA52","v":""},{"$f":"ProposedEquipment0!AB52","v":""},{"$f":"ProposedEquipment0!AC52","v":""},{"$f":"ProposedEquipment0!AD52","v":""},{"$f":"ProposedEquipment0!AE52","v":""},{"$f":"ProposedEquipment0!AF52","v":""},{"$f":"ProposedEquipment0!AG52","v":""}]
[3,{"$f":"ProposedEquipment0!E53","v":""},{"$f":"IF(D70=\"\",\"\",ProposedEquipment0!AU53)","v":""},{"$f":"ProposedEquipment0!F53","v":""},{"$f":"ProposedEquipment0!H53","v":""},{"$f":"ProposedEquipment0!BM53","v":""},{"$f":"ProposedEquipment0!BN53","v":""},{"$f":"ProposedEquipment0!BQ53","v":""},{"$f":"ProposedEquipment0!BX53","v":""},{"$f":"ProposedEquipment0!BR53","v":""},{"$f":"IF(D70=\"\",\"\",ProposedEquipment0!BS53)","v":""},{"$f":"IF(D70=\"\",\"\",ProposedEquipment0!BT53)","v":""},{"$f":"ProposedEquipment0!BU53","v":""},{"$f":"ProposedEquipment0!CS53","v":""},{"$f":"ProposedEquipment0!CR53","v":""},{"$f":"ProposedEquipment0!I53","v":""},{"$f":"ProposedEquipment0!J53","v":""},{"$f":"ProposedEquipment0!K53","v":""},{"$f":"ProposedEquipment0!L53","v":""},{"$f":"ProposedEquipment0!M53","v":""},{"$f":"ProposedEquipment0!X53","v":""},{"$f":"ProposedEquipment0!Y53","v":""},{"$f":"ProposedEquipment0!Z53","v":""},{"$f":"ProposedEquipment0!AA53","v":""},{"$f":"ProposedEquipment0!AB53","v":""},{"$f":"ProposedEquipment0!AC53","v":""},{"$f":"ProposedEquipment0!AD53","v":""},{"$f":"ProposedEquipment0!AE53","v":""},{"$f":"ProposedEquipment0!AF53","v":""},{"$f":"ProposedEquipment0!AG53","v":""}]
[4,{"$f":"ProposedEquipment0!E54","v":""},{"$f":"IF(D71=\"\",\"\",ProposedEquipment0!AU54)","v":""},{"$f":"ProposedEquipment0!F54","v":""},{"$f":"ProposedEquipment0!H54","v":""},{"$f":"ProposedEquipment0!BM54","v":""},{"$f":"ProposedEquipment0!BN54","v":""},{"$f":"ProposedEquipment0!BQ54","v":""},{"$f":"ProposedEquipment0!BX54","v":""},{"$f":"ProposedEquipment0!BR54","v":""},{"$f":"IF(D71=\"\",\"\",ProposedEquipment0!BS54)","v":""},{"$f":"IF(D71=\"\",\"\",ProposedEquipment0!BT54)","v":""},{"$f":"ProposedEquipment0!BU54","v":""},{"$f":"ProposedEquipment0!CS54","v":""},{"$f":"ProposedEquipment0!CR54","v":""},{"$f":"ProposedEquipment0!I54","v":""},{"$f":"ProposedEquipment0!J54","v":""},{"$f":"ProposedEquipment0!K54","v":""},{"$f":"ProposedEquipment0!L54","v":""},{"$f":"ProposedEquipment0!M54","v":""},{"$f":"ProposedEquipment0!X54","v":""},{"$f":"ProposedEquipment0!Y54","v":""},{"$f":"ProposedEquipment0!Z54","v":""},{"$f":"ProposedEquipment0!AA54","v":""},{"$f":"ProposedEquipment0!AB54","v":""},{"$f":"ProposedEquipment0!AC54","v":""},{"$f":"ProposedEquipment0!AD54","v":""},{"$f":"ProposedEquipment0!AE54","v":""},{"$f":"ProposedEquipment0!AF54","v":""},{"$f":"ProposedEquipment0!AG54","v":""}]
[5,{"$f":"ProposedEquipment0!E55","v":""},{"$f":"IF(D72=\"\",\"\",ProposedEquipment0!AU55)","v":""},{"$f":"ProposedEquipment0!F55","v":""},{"$f":"ProposedEquipment0!H55","v":""},{"$f":"ProposedEquipment0!BM55","v":""},{"$f":"ProposedEquipment0!BN55","v":""},{"$f":"ProposedEquipment0!BQ55","v":""},{"$f":"ProposedEquipment0!BX55","v":""},{"$f":"ProposedEquipment0!BR55","v":""},{"$f":"IF(D72=\"\",\"\",ProposedEquipment0!BS55)","v":""},{"$f":"IF(D72=\"\",\"\",ProposedEquipment0!BT55)","v":""},{"$f":"ProposedEquipment0!BU55","v":""},{"$f":"ProposedEquipment0!CS55","v":""},{"$f":"ProposedEquipment0!CR55","v":""},{"$f":"ProposedEquipment0!I55","v":""},{"$f":"ProposedEquipment0!J55","v":""},{"$f":"ProposedEquipment0!K55","v":""},{"$f":"ProposedEquipment0!L55","v":""},{"$f":"ProposedEquipment0!M55","v":""},{"$f":"ProposedEquipment0!X55","v":""},{"$f":"ProposedEquipment0!Y55","v":""},{"$f":"ProposedEquipment0!Z55","v":""},{"$f":"ProposedEquipment0!AA55","v":""},{"$f":"ProposedEquipment0!AB55","v":""},{"$f":"ProposedEquipment0!AC55","v":""},{"$f":"ProposedEquipment0!AD55","v":""},{"$f":"ProposedEquipment0!AE55","v":""},{"$f":"ProposedEquipment0!AF55","v":""},{"$f":"ProposedEquipment0!AG55","v":""}]
[6,{"$f":"ProposedEquipment0!E56","v":""},{"$f":"IF(D73=\"\",\"\",ProposedEquipment0!AU56)","v":""},{"$f":"ProposedEquipment0!F56","v":""},{"$f":"ProposedEquipment0!H56","v":""},{"$f":"ProposedEquipment0!BM56","v":""},{"$f":"ProposedEquipment0!BN56","v":""},{"$f":"ProposedEquipment0!BQ56","v":""},{"$f":"ProposedEquipment0!BX56","v":""},{"$f":"ProposedEquipment0!BR56","v":""},{"$f":"IF(D73=\"\",\"\",ProposedEquipment0!BS56)","v":""},{"$f":"IF(D73=\"\",\"\",ProposedEquipment0!BT56)","v":""},{"$f":"ProposedEquipment0!BU56","v":""},{"$f":"ProposedEquipment0!CS56","v":""},{"$f":"ProposedEquipment0!CR56","v":""},{"$f":"ProposedEquipment0!I56","v":""},{"$f":"ProposedEquipment0!J56","v":""},{"$f":"ProposedEquipment0!K56","v":""},{"$f":"ProposedEquipment0!L56","v":""},{"$f":"ProposedEquipment0!M56","v":""},{"$f":"ProposedEquipment0!X56","v":""},{"$f":"ProposedEquipment0!Y56","v":""},{"$f":"ProposedEquipment0!Z56","v":""},{"$f":"ProposedEquipment0!AA56","v":""},{"$f":"ProposedEquipment0!AB56","v":""},{"$f":"ProposedEquipment0!AC56","v":""},{"$f":"ProposedEquipment0!AD56","v":""},{"$f":"ProposedEquipment0!AE56","v":""},{"$f":"ProposedEquipment0!AF56","v":""},{"$f":"ProposedEquipment0!AG56","v":""}]
[7,{"$f":"ProposedEquipment0!E57","v":""},{"$f":"IF(D74=\"\",\"\",ProposedEquipment0!AU57)","v":""},{"$f":"ProposedEquipment0!F57","v":""},{"$f":"ProposedEquipment0!H57","v":""},{"$f":"ProposedEquipment0!BM57","v":""},{"$f":"ProposedEquipment0!BN57","v":""},{"$f":"ProposedEquipment0!BQ57","v":""},{"$f":"ProposedEquipment0!BX57","v":""},{"$f":"ProposedEquipment0!BR57","v":""},{"$f":"IF(D74=\"\",\"\",ProposedEquipment0!BS57)","v":""},{"$f":"IF(D74=\"\",\"\",ProposedEquipment0!BT57)","v":""},{"$f":"ProposedEquipment0!BU57","v":""},{"$f":"ProposedEquipment0!CS57","v":""},{"$f":"ProposedEquipment0!CR57","v":""},{"$f":"ProposedEquipment0!I57","v":""},{"$f":"ProposedEquipment0!J57","v":""},{"$f":"ProposedEquipment0!K57","v":""},{"$f":"ProposedEquipment0!L57","v":""},{"$f":"ProposedEquipment0!M57","v":""},{"$f":"ProposedEquipment0!X57","v":""},{"$f":"ProposedEquipment0!Y57","v":""},{"$f":"ProposedEquipment0!Z57","v":""},{"$f":"ProposedEquipment0!AA57","v":""},{"$f":"ProposedEquipment0!AB57","v":""},{"$f":"ProposedEquipment0!AC57","v":""},{"$f":"ProposedEquipment0!AD57","v":""},{"$f":"ProposedEquipment0!AE57","v":""},{"$f":"ProposedEquipment0!AF57","v":""},{"$f":"ProposedEquipment0!AG57","v":""}]
[8,{"$f":"ProposedEquipment0!E58","v":""},{"$f":"IF(D75=\"\",\"\",ProposedEquipment0!AU58)","v":""},{"$f":"ProposedEquipment0!F58","v":""},{"$f":"ProposedEquipment0!H58","v":""},{"$f":"ProposedEquipment0!BM58","v":""},{"$f":"ProposedEquipment0!BN58","v":""},{"$f":"ProposedEquipment0!BQ58","v":""},{"$f":"ProposedEquipment0!BX58","v":""},{"$f":"ProposedEquipment0!BR58","v":""},{"$f":"IF(D75=\"\",\"\",ProposedEquipment0!BS58)","v":""},{"$f":"IF(D75=\"\",\"\",ProposedEquipment0!BT58)","v":""},{"$f":"ProposedEquipment0!BU58","v":""},{"$f":"ProposedEquipment0!CS58","v":""},{"$f":"ProposedEquipment0!CR58","v":""},{"$f":"ProposedEquipment0!I58","v":""},{"$f":"ProposedEquipment0!J58","v":""},{"$f":"ProposedEquipment0!K58","v":""},{"$f":"ProposedEquipment0!L58","v":""},{"$f":"ProposedEquipment0!M58","v":""},{"$f":"ProposedEquipment0!X58","v":""},{"$f":"ProposedEquipment0!Y58","v":""},{"$f":"ProposedEquipment0!Z58","v":""},{"$f":"ProposedEquipment0!AA58","v":""},{"$f":"ProposedEquipment0!AB58","v":""},{"$f":"ProposedEquipment0!AC58","v":""},{"$f":"ProposedEquipment0!AD58","v":""},{"$f":"ProposedEquipment0!AE58","v":""},{"$f":"ProposedEquipment0!AF58","v":""},{"$f":"ProposedEquipment0!AG58","v":""}]
[9,{"$f":"ProposedEquipment0!E59","v":""},{"$f":"IF(D76=\"\",\"\",ProposedEquipment0!AU59)","v":""},{"$f":"ProposedEquipment0!F59","v":""},{"$f":"ProposedEquipment0!H59","v":""},{"$f":"ProposedEquipment0!BM59","v":""},{"$f":"ProposedEquipment0!BN59","v":""},{"$f":"ProposedEquipment0!BQ59","v":""},{"$f":"ProposedEquipment0!BX59","v":""},{"$f":"ProposedEquipment0!BR59","v":""},{"$f":"IF(D76=\"\",\"\",ProposedEquipment0!BS59)","v":""},{"$f":"IF(D76=\"\",\"\",ProposedEquipment0!BT59)","v":""},{"$f":"ProposedEquipment0!BU59","v":""},{"$f":"ProposedEquipment0!CS59","v":""},{"$f":"ProposedEquipment0!CR59","v":""},{"$f":"ProposedEquipment0!I59","v":""},{"$f":"ProposedEquipment0!J59","v":""},{"$f":"ProposedEquipment0!K59","v":""},{"$f":"ProposedEquipment0!L59","v":""},{"$f":"ProposedEquipment0!M59","v":""},{"$f":"ProposedEquipment0!X59","v":""},{"$f":"ProposedEquipment0!Y59","v":""},{"$f":"ProposedEquipment0!Z59","v":""},{"$f":"ProposedEquipment0!AA59","v":""},{"$f":"ProposedEquipment0!AB59","v":""},{"$f":"ProposedEquipment0!AC59","v":""},{"$f":"ProposedEquipment0!AD59","v":""},{"$f":"ProposedEquipment0!AE59","v":""},{"$f":"ProposedEquipment0!AF59","v":""},{"$f":"ProposedEquipment0!AG59","v":""}]
[10,{"$f":"ProposedEquipment0!E60","v":""},{"$f":"IF(D77=\"\",\"\",ProposedEquipment0!AU60)","v":""},{"$f":"ProposedEquipment0!F60","v":""},{"$f":"ProposedEquipment0!H60","v":""},{"$f":"ProposedEquipment0!BM60","v":""},{"$f":"ProposedEquipment0!BN60","v":""},{"$f":"ProposedEquipment0!BQ60","v":""},{"$f":"ProposedEquipment0!BX60","v":""},{"$f":"ProposedEquipment0!BR60","v":""},{"$f":"IF(D77=\"\",\"\",ProposedEquipment0!BS60)","v":""},{"$f":"IF(D77=\"\",\"\",ProposedEquipment0!BT60)","v":""},{"$f":"ProposedEquipment0!BU60","v":""},{"$f":"ProposedEquipment0!CS60","v":""},{"$f":"ProposedEquipment0!CR60","v":""},{"$f":"ProposedEquipment0!I60","v":""},{"$f":"ProposedEquipment0!J60","v":""},{"$f":"ProposedEquipment0!K60","v":""},{"$f":"ProposedEquipment0!L60","v":""},{"$f":"ProposedEquipment0!M60","v":""},{"$f":"ProposedEquipment0!X60","v":""},{"$f":"ProposedEquipment0!Y60","v":""},{"$f":"ProposedEquipment0!Z60","v":""},{"$f":"ProposedEquipment0!AA60","v":""},{"$f":"ProposedEquipment0!AB60","v":""},{"$f":"ProposedEquipment0!AC60","v":""},{"$f":"ProposedEquipment0!AD60","v":""},{"$f":"ProposedEquipment0!AE60","v":""},{"$f":"ProposedEquipment0!AF60","v":""},{"$f":"ProposedEquipment0!AG60","v":""}]

{"sheet":"EFS Pre-Approval","index":41,"n_rows":20,"n_cols":8,"rows_kept":20,"cut":false,"hidden":true,"merged":[[19,2,19,3],[17,7,17,8],[17,2,17,3],[5,7,5,8],[7,7,7,8],[9,7,9,8],[15,2,15,3],[9,2,9,3],[7,2,7,3],[5,2,5,3],[15,7,15,8],[11,2,11,3],[11,7,11,8],[13,2,13,3],[13,7,13,8]]}
[1043]
[]
[null,"This form is to be used only for Home Comfort and Home Performance with ENERGY STAR projects where a loan from EFS is to be provided to the customer."]
[null,"Please fill in appropriate project data in grey fields."]
[]
[null,"Customer Name:",{"$f":"IF('Customer Information'!C6=\"\",\"\",'Customer Information'!C6)","v":""},null,null,null,"Application ID:",{"$f":"IF('Customer Information'!L48=\"\",\"\",'Customer Information'!L48)","v":""}]
[]
[null,"Customer Address:",{"$f":"IF('Customer Information'!C7=\"\",\"\",'Customer Information'!C7)","v":""},null,null,null,"Customer City:",{"$f":"IF('Customer Information'!I7=\"\",\"\",'Customer Information'!I7)","v":""}]
[]
[null,"Customer Zip:",{"$f":"IF('Customer Information'!L7=\"\",\"\",'Customer Information'!L7)","v":""},null,null,null,"Contractor:",{"$f":"IF('Customer Information'!C18=\"\",\"\",'Customer Information'!C18)","v":""}]
[]
[null,"Customer Incentive Amount:",{"$f":"'Customer Information'!K32","v":0},null,null,null,"Total Project Cost",{"$f":"(HPwES!J54+HPwES!J107+HPwES!J146)+(Admin!AE4+Admin!AE5+Admin!AE6+Admin!AE7+Admin!AE8+Admin!AE9+Admin!AE10+Admin!AE11+Admin!AE12+Admin!AE13+Admin!AE14+Admin!AE15+Admin!AE16+Admin!AE17+Admin!AE18+Admin!AE19+Admin!AE20+Admin!AE21+Admin!AE22+Admin!AE23+Admin!AE24)","v":0}]
[]
[null,"EFS Project ID Number:",null,null,null,null,"Project Type:"]
[]
[null,"Total Customer Down Payment:",null,null,null,null,"Customer Incentive Type:"]
[]
[null,"Loan Type Requested:",null,null,null,null,"Total Loan Amount*:"]
[null,null,null,null,null,null,"*Indicate if Loan Amount includes \n$150 EFS Fee"]
[null,"Non-Incentive Measure Cost Total:"]

{"sheet":"AIRFLOW FORM 2","index":42,"n_rows":125,"n_cols":15,"rows_kept":125,"cut":false,"hidden":true,"merged":[[29,2,29,11],[21,4,21,5],[45,4,45,5],[17,12,17,13],[17,4,17,5],[19,4,19,5],[24,4,24,5],[28,0,28,12],[38,8,38,9],[0,0,0,9],[1,0,1,9],[14,4,14,5],[14,12,14,13],[17,0,17,3],[4,7,4,8],[6,7,6,8],[8,1,8,2],[9,1,9,2],[117,12,118,12],[117,13,118,13],[124,3,124,5],[124,6,124,8],[70,4,70,5],[98,4,98,5],[117,0,118,4],[117,5,118,10],[99,0,100,1]]}
[{"$f":"Development!$A$3&\" Residential Efficiency Program\"","v":"2023 Residential Efficiency Program"}]
["Post Installation/Airflow & Refrigerant Charge Form"]
["Equipment Data"]
[]
["Unit Number: ",{"$f":"IF('ASHP Equipment Information'!B30=\"\",\"\",'ASHP Equipment Information'!B30)","v":2},null,null,null,null,"Manufacturer",{"$f":"IF('ASHP Equipment Information'!B34=\"\",\"\",'ASHP Equipment Information'!B34)","v":""}]
[]
[null,null,null,null,null,null,"Model No.",{"$f":"IF('ASHP Equipment Information'!B36=\"\",\"\",'ASHP Equipment Information'!B36)","v":""}]
["For Ducted Systems Only"]
[null,"Ducts Tested?",null,"Ducts Sealed?"]
[]
["Airflow"]
[]
["Please fill out all of the below fields as applicable for the installation"]
[]
["1. Rated Cooling Capacity (tons):",null,null,null,null,null,{"$f":"IF(OR(E15=\"\"),\"\",'Air Flow References'!G4)","v":""},null,null,null,null,"2. Target Airflow Volume (CFM) PER TON:",null,null,{"$f":"IF(OR(M15=\"\"),\"\",'Air Flow References'!G6)","v":""}]
[]
["Complete field 3a OR field 3b"]
["3a. Static pressure drop in inches of water column W.C. measures across evaporator coil if new installed:",null,null,null,null,null,{"$f":"IF(OR(E18=\"\"),\"\",'Air Flow References'!G5)","v":""},null,"OR",null,null,"3b. External static pressure for fan coil unit:",null,null,{"$f":"IF(OR(M18=\"\"),\"\",'Air Flow References'!G7)","v":""}]
[]
["4. Total static measured with:"]
[]
["5. CFM Air Flow Estimated from Total Static Measurement:",null,null,null,null,null,{"$f":"IF(OR(E22=\"\"),\"\",'Air Flow References'!G9)","v":""}]
["*If this field contains data, leave True Flow CFM field below blank"]
[]
["6. True Flow CFM measured:",null,null,null,null,null,{"$f":"IF(OR(E25=\"\"),\"\",'Air Flow References'!G8)","v":""}]
["*If this field contains data, no data input is required for field 3a/3b and field 5"]
[]
[]
["Installations must have visible and accessible ports for airflow and temperature measurements. Ports must be sealed with contrasting color plugs. Please indicate"]
["location of test ports:"]
[]
["Notes: "]
["Convert Pascals to inches of WC by dividing pascals by 249.09"]
["Copy of table or graph supplied by manufacturer and used to estimate airflow must be attached to this form."]
[]
[]
["Refrigerant Charge Method"]
[]
["Charging Method Used:"]
[]
["Option 1: SUBCOOLING Notes: Typical for most Thermal Expansion Valve systems when outdoor temperature is greater than OEM spec. (Typ. 60°F)"]
[]
["Inputs"]
["Refrigerant Type"]
[]
[]
[]
[]
[null,"Required Subcooling:",null,null,null,"°F",{"$f":"IF(OR(E49=\"\"),\"\",'Air Flow References'!G16)","v":""}]
[]
[null,"Outdoor Dry Bulb Temperature:",null,null,null,"°F",{"$f":"IF(OR(E51=\"\"),\"\",'Air Flow References'!G17)","v":""}]
[]
["Measurements"]
[]
["Liquid Line Pressure",null,null,null,null,"psig",{"$f":"IF(OR(E55=\"\"),\"\",'Air Flow References'!G18)","v":""}]
[]
["(F) Saturation temperature for measured pressure",null,null,null,null,"°F",{"$f":"IF(OR(E57=\"\"),\"\",'Air Flow References'!G19)","v":""}]
[]
["(G) Liquid Line temperature",null,null,null,null,"°F",{"$f":"IF(OR(E59=\"\"),\"\",'Air Flow References'!G20)","v":""}]
[]
["*Measured Subcooling (F minus G)",null,null,null,{"$f":"IF(OR(E57=\"\",E59=\"\"),\"\",E57-E59)","v":""},"°F",{"$f":"'Air Flow References'!G21","v":""}]
[]
["*Measured Subcooling must be within 3°F of the manufacturer specified Subcooling."]
[]
["Note: A copy of the documentation of the manufacturer's specified subcooling for the installed equipment must be attached to this form"]
["Option 2: SUPERHEAT Note: Can only be used for fixed orifice systems (Non-TXV) when outdoor temperature is greater than OEM spec. (Type 55°)"]
[]
["Inputs"]
["Refrigerant Type"]
[]
[]
[]
[]
[null,"Manufacturer Specified Superheat",null,null,null,"°F ",{"$f":"IF(OR(E74=\"\"),\"\",'Air Flow References'!G28)","v":""}]
[null,"(from manufacturer service guide or as per manufacturer's specification or cut sheet)"]
[]
[null,"Indoor Wet Bulb Temperature",null,null,null,"°F",{"$f":"IF(OR(E77=\"\"),\"\",'Air Flow References'!G29)","v":""}]
[]
[null,"Outdoor Dry Bulb Temperature",null,null,null,"°F",{"$f":"IF(OR(E79=\"\"),\"\",'Air Flow References'!G30)","v":""}]
[]
[]
["Measurements"]
[]
["Vapor (suction) pressure",null,null,null,null,"psig",{"$f":"IF(OR(E84=\"\"),\"\",'Air Flow References'!G31)","v":""}]
[]
["(D) Saturation temperature for measured pressure",null,null,null,null,"°F",{"$f":"IF(OR(E86=\"\"),\"\",'Air Flow References'!G32)","v":""}]
[]
["(E) Vapor (suction) line temperature near compressor",null,null,null,null,"°F",{"$f":"IF(OR(E88=\"\"),\"\",'Air Flow References'!G33)","v":""}]
[]
["*Measured Superheat (E minus D)",null,null,null,{"$f":"IF(OR(E86=\"\",E88=\"\"),\"\",E88-E86)","v":""},"°F",{"$f":"'Air Flow References'!G34","v":""}]
[]
["*Measured Superheat must be within 5°F of the manufacturer specified Superheat."]
[]
["Note: A copy of the documentation of the manufacturer's specified superheat for the installed equipment must be attached to this form."]
["Option 3: Weigh In (can be used for any system ONLY when outdoor ambient temperature is below OEM specification.):"]
[]
["Refrigerant Type:"]
[]
[null,null,null,null,null,null,"(specify)"]
["Capacity of Refrigerant Shipped With Outdoor Unit:"]
[null,null,null,"lbs.",null,"oz."]
[]
[]
["Does this capacity include an allowance for an evaporator?"]
[]
[]
["Does this capacity include an allowance for a line set?"]
[]
[]
["Allowed Line Set Length:",null,null,"feet"]
[]
["(A) Suction Line Outside Diameter",null,null,null,"inches","Net length*",null,"feet","x",null,"ounces/foot","=",null,"ounces"]
[]
["(B) Liquid Line Outside Diameter",null,null,null,"inches","Net length*",null,"feet","x",null,"ounces/foot","=",null,"ounces"]
[]
["(C) Driers, Accumulator, and Evaporator Capacities (if not included above):",null,null,null,null,null,null,null,null,null,null,null,null,"ounces"]
[]
["*Net Length = Measured Length Minus (-) Allowed Length",null,null,null,null,"Total charge weighed in (A) + (B) + (C)",null,null,null,null,null,null,{"$f":"IF(AND(M112=\"\",M114=\"\",M116=\"\"),\"\",M112+M114+M116)","v":""},"ounces"]
[]
[]
["Note: Copy of table or graph supplied by manufacturer and used to estimate charge must be attached to this form."]
[]
[]
[]
["Application Version:",null,{"$f":"Development!$A$4&\"_\"&Development!$A$2","v":"1.1.23_1.0"},null,null,null,null,null,null,null,null,null,null,"Effective:",{"$f":"Development!$A$4","v":"1.1.23"}]

{"sheet":"AIRFLOW FORM 3","index":43,"n_rows":123,"n_cols":15,"rows_kept":123,"cut":false,"hidden":true,"merged":[[17,12,17,13],[70,4,70,5],[122,3,122,5],[122,6,122,8],[45,4,45,5],[98,4,98,5],[110,7,110,8],[112,7,112,8],[115,5,116,10],[99,0,100,1],[38,8,38,9],[29,2,29,11],[24,4,24,5],[0,0,0,9],[1,0,1,9],[14,4,14,5],[19,4,19,5],[17,6,17,7],[21,4,21,5],[28,0,28,12],[14,12,14,13],[17,0,17,3],[17,4,17,5],[4,7,4,8],[6,7,6,8]]}
[{"$f":"Development!$A$3&\" Residential Efficiency Program\"","v":"2023 Residential Efficiency Program"}]
["Post Installation/Airflow & Refrigerant Charge Form"]
["Equipment Data"]
[]
["Unit Number: ",{"$f":"IF('ASHP Equipment Information'!B49=\"\",\"\",'ASHP Equipment Information'!B49)","v":3},null,null,null,null,"Manufacturer",{"$f":"IF('ASHP Equipment Information'!B53=\"\",\"\",'ASHP Equipment Information'!B53)","v":""}]
[]
[null,null,null,null,null,null,"Model No.",{"$f":"IF('ASHP Equipment Information'!B55=\"\",\"\",'ASHP Equipment Information'!B55)","v":""}]
["For Ducted Systems Only"]
[null,"Ducts Tested?",null,"Ducts Sealed?"]
[]
["Airflow"]
[]
["Please fill out all of the below fields as applicable for the installation"]
[]
["1. Rated Cooling Capacity (tons):",null,null,null,null,null,{"$f":"IF(OR(E15=\"\"),\"\",'Air Flow References'!K4)","v":""},null,null,null,null,"2. Target Airflow Volume (CFM) PER TON:",null,null,{"$f":"IF(OR(M15=\"\"),\"\",'Air Flow References'!K6)","v":""}]
[]
["Complete field 3a or 3b"]
["3a. Static pressure drop in inches of water column W.C. measures across evaporator coil if new installed:",null,null,null,null,null,{"$f":"IF(OR(E18=\"\"),\"\",'Air Flow References'!K5)","v":""},null,"OR",null,null,"3b. External static pressure for fan coil unit:",null,null,{"$f":"IF(OR(M18=\"\"),\"\",'Air Flow References'!K7)","v":""}]
[]
["4. Total Static measure with:"]
[]
["5. CFM Air Flow Estimated from Total Static Measurement:",null,null,null,null,null,{"$f":"IF(OR(E22=\"\"),\"\",'Air Flow References'!K9)","v":""}]
["If this field contains data, no data input is required for the True Flow CFM field below"]
[]
["6. True Flow CFM measured:",null,null,null,null,null,{"$f":"IF(OR(E25=\"\"),\"\",'Air Flow References'!K8)","v":""}]
["If this field contains data, no data input is required for field 3a/3b and field 5"]
[]
[]
["Installations must have visible and accessible ports for airflow and temperature measurements. Ports must be sealed with contrasting color plugs. Please indicate"]
["location of test ports:"]
[]
["Notes: "]
["Convert Pascals to inches of WC by dividing pascals by 249.09"]
["Copy of table or graph supplied by manufacturer and used to estimate airflow must be attached to this form."]
[]
[]
["Refrigerant Charge Method"]
[]
["Charging Method Used:"]
[]
["Option 1: SUBCOOLING Notes: Typical for most Thermal Expansion Valve systems when outdoor temperature is greater than OEM spec. (Typ. 60°F)"]
[]
["Inputs"]
["Refrigerant Type"]
[]
[]
[]
[]
[null,"Required Subcooling:",null,null,null,"°F",{"$f":"IF(OR(E49=\"\"),\"\",'Air Flow References'!K16)","v":""}]
[]
[null,"Outdoor Dry Bulb Temperature:",null,null,null,"°F",{"$f":"IF(OR(E51=\"\"),\"\",'Air Flow References'!K17)","v":""}]
[]
["Measurements"]
[]
["Liquid Line Pressure",null,null,null,null,"psig",{"$f":"IF(OR(E55=\"\"),\"\",'Air Flow References'!K18)","v":""}]
[]
["(F) Saturation temperature for measured pressure",null,null,null,null,"°F",{"$f":"IF(OR(E57=\"\"),\"\",'Air Flow References'!K19)","v":""}]
[]
["(G) Liquid Line temperature",null,null,null,null,"°F",{"$f":"IF(OR(E59=\"\"),\"\",'Air Flow References'!K20)","v":""}]
[]
["*Measured Subcooling (F minus G)",null,null,null,{"$f":"IF(OR(E57=\"\",E59=\"\"),\"\",E57-E59)","v":""},"°F",{"$f":"'Air Flow References'!K21","v":""}]
[]
["*Measured Subcooling must be within 3°F of the manufacturer specified Subcooling."]
[]
["Note: A copy of the documentation of the manufacturer's specified subcooling for the installed equipment must be attached to this form"]
["Option 2: SUPERHEAT Note: Can only be used for fixed orifice systems (Non-TXV) when outdoor temperature is greater than OEM spec. (Type 55°)"]
[]
["Inputs"]
["Refrigerant Type"]
[]
[]
[]
[]
[null,"Manufacturer Specified Superheat",null,null,null,"°F ",{"$f":"IF(OR(E74=\"\"),\"\",'Air Flow References'!K28)","v":""}]
[null,"(from manufacturer service guide or as per manufacturer's specification or cut sheet)"]
[]
[null,"Indoor Wet Bulb Temperature",null,null,null,"°F",{"$f":"IF(OR(E77=\"\"),\"\",'Air Flow References'!K29)","v":""}]
[]
[null,"Outdoor Dry Bulb Temperature",null,null,null,"°F",{"$f":"IF(OR(E79=\"\"),\"\",'Air Flow References'!K30)","v":""}]
[]
[]
["Measurements"]
[]
["Vapor (suction) pressure",null,null,null,null,"psig",{"$f":"IF(OR(E84=\"\"),\"\",'Air Flow References'!K31)","v":""}]
[]
["(D) Saturation temperature for measured pressure",null,null,null,null,"°F",{"$f":"IF(OR(E86=\"\"),\"\",'Air Flow References'!K32)","v":""}]
[]
["(E) Vapor (suction) line temperature near compressor",null,null,null,null,"°F",{"$f":"IF(OR(E88=\"\"),\"\",'Air Flow References'!K33)","v":""}]
[]
["*Measured Superheat (E minus D)",null,null,null,{"$f":"IF(OR(E86=\"\",E88=\"\"),\"\",E88-E86)","v":""},"°F",{"$f":"'Air Flow References'!K34","v":""}]
[]
["*Measured Superheat must be within 5°F of the manufacturer specified Superheat."]
[]
["Note: A copy of the documentation of the manufacturer's specified superheat for the installed equipment must be attached to this form."]
["Option 3: Weigh in (Can be used for any system ONLY when outdoor ambient temperature is below OEM specifications):"]
[]
["Refrigerant Type:"]
[]
[null,null,null,null,null,null,"(specify)"]
["Capacity of Refrigerant Shipped With Outdoor Unit:"]
[null,null,null,"lbs.",null,"oz."]
[]
[]
["Does this capacity include an allowance for an evaportator?"]
[]
["Does this capacity include an allowance for a line set?"]
[]
[]
["Allowed Line Set Length:",null,null,"feet"]
[]
["(A) Suction Line Outside Diameter",null,null,null,"inches","Net length*",null," x",null,null,"ounces/foot","=",null,"ounces"]
[]
["(B) Liquid Line Outside Diameter",null,null,null,"inches","Net length*",null,"x",null,null,"ounces/foot","=",null,"ounces"]
[]
["(C) Driers, Accumulator, and Evaporator Capcities (if not included above)",null,null,null,null,null,null,null,null,null,null,null,null,"ounces"]
[null,null,null,null,null,"Total charge weighed in (A) + (B) + (C) "]
[null,"*Net Length = Measured Length Minus (-) Allowed Length",null,null,null,null,null,null,null,null,null,null,{"$f":"IF(AND(M85=\"\",M87=\"\",M89=\"\"),\"\",M85+M87+M89)","v":""},"ounces"]
[]
["Note: Copy of table or graph supplied by manufacturer and used to estimate charge must be attached to this form."]
[]
[]
[]
["Application Version:",null,{"$f":"Development!$A$4&\"_\"&Development!$A$2","v":"1.1.23_1.0"},null,null,null,null,null,null,null,null,null,null,"Effective:",{"$f":"Development!$A$4","v":"1.1.23"}]

{"sheet":"AIRFLOW FORM 4","index":44,"n_rows":125,"n_cols":15,"rows_kept":125,"cut":false,"hidden":true,"merged":[[117,12,118,12],[117,13,118,13],[70,4,70,5],[44,4,44,5],[98,4,98,5],[117,0,118,4],[117,5,118,10],[99,0,100,1],[19,4,19,5],[17,12,17,13],[21,4,21,5],[28,0,28,12],[37,8,37,9],[29,2,29,11],[24,4,24,5],[0,0,0,9],[1,0,1,9],[14,4,14,5],[14,12,14,13],[17,0,17,3],[17,4,17,5],[4,7,4,8],[6,7,6,8]]}
[{"$f":"Development!$A$3&\" Residential Efficiency Program\"","v":"2023 Residential Efficiency Program"}]
["Post Installation/Airflow & Refrigerant Charge Form"]
["Equipment Data"]
[]
["Unit Number: ",{"$f":"IF('ASHP Equipment Information'!B68=\"\",\"\",'ASHP Equipment Information'!B68)","v":4},null,null,null,null,"Manufacturer",{"$f":"IF('ASHP Equipment Information'!B72=\"\",\"\",'ASHP Equipment Information'!B72)","v":""}]
[]
[null,null,null,null,null,null,"Model No.",{"$f":"IF('ASHP Equipment Information'!B74=\"\",\"\",'ASHP Equipment Information'!B74)","v":""}]
["For Ducted Systems Only"]
[null,"Ducts Tested?",null,"Ducts Sealed?"]
[]
["Airflow"]
[]
["Please fill out all of the below fields as applicable for the installation"]
[]
["1. Rated Cooling Capacity (tons):",null,null,null,null,null,{"$f":"IF(OR(E15=\"\"),\"\",'Air Flow References'!P4)","v":""},null,null,null,null,"2. Target Airflow Volume (CFM) PER TON:",null,null,{"$f":"IF(OR(M15=\"\"),\"\",'Air Flow References'!P6)","v":""}]
[]
["Complete field 3a or 3b"]
["3a. Static pressure drop in inches of water column W.C. measures across evaporator coil if new installed:",null,null,null,null,null,{"$f":"IF(OR(E18=\"\"),\"\",'Air Flow References'!P5)","v":""},null,"OR",null,null,"3b. External static pressure for fan coil unit:",null,null,{"$f":"IF(OR(M18=\"\"),\"\",'Air Flow References'!P7)","v":""}]
[]
["4. Total Static measured with:"]
[]
["5. CFM Air Flow Estimated from Total Static Measurement:",null,null,null,null,null,{"$f":"IF(OR(E22=\"\"),\"\",'Air Flow References'!P9)","v":""}]
["If this field contains data, no data input is required for the True Flow CFM field below"]
[]
["6. True Flow CFM measured:",null,null,null,null,null,{"$f":"IF(OR(E25=\"\"),\"\",'Air Flow References'!P8)","v":""}]
["If this field contains data, no data input is required for field 3a/3b and field 5"]
[]
[]
["Installations must have visible and accessible ports for airflow and temperature measurements. Ports must be sealed with contrasting color plugs. Please indicate"]
["location of test ports:"]
[]
["Notes: "]
["Convert Pascals to inches of WC by dividing pascals by 249.09"]
["Copy of table or graph supplied by manufacturer and used to estimate airflow must be attached to this form."]
[]
["Refrigerant Charge Method"]
[]
["Charging Method Used:"]
[]
["Option 1: SUBCOOLING Notes: Typical for most Thermal Expansion Valve systems when outdoor temperature is greater than OEM spec. (Typ. 60°F)"]
[]
["Inputs"]
["Refrigerant Type"]
[]
[]
[]
[]
[]
[null,"Required Subcooling:",null,null,null,"°F",{"$f":"IF(OR(E49=\"\"),\"\",'Air Flow References'!P16)","v":""}]
[]
[null,"Outdoor Dry Bulb Temperature:",null,null,null,"°F",{"$f":"IF(OR(E51=\"\"),\"\",'Air Flow References'!P17)","v":""}]
[]
["Measurements"]
[]
["Liquid Line Pressure",null,null,null,null,"psig",{"$f":"IF(OR(E55=\"\"),\"\",'Air Flow References'!P18)","v":""}]
[]
["(F) Saturation temperature for measured pressure",null,null,null,null,"°F",{"$f":"IF(OR(E57=\"\"),\"\",'Air Flow References'!P19)","v":""}]
[]
["(G) Liquid Line temperature",null,null,null,null,"°F",{"$f":"IF(OR(E59=\"\"),\"\",'Air Flow References'!P20)","v":""}]
[]
["*Measured Subcooling (F minus G)",null,null,null,{"$f":"IF(OR(E57=\"\",E59=\"\"),\"\",E57-E59)","v":""},"°F",{"$f":"'Air Flow References'!P21","v":""}]
[]
["*Measured Subcooling must be within 3°F of the manufacturer specified Subcooling."]
[]
["Note: A copy of the documentation of the manufacturer's specified subcooling for the installed equipment must be attached to this form"]
["Option 2: SUPERHEAT Note: Can only be used for fixed orifice systems (Non-TXV) when outdoor temperature is greater than OEM spec. (Type 55°)"]
[]
["Inputs"]
["Refrigerant Type"]
[]
[]
[]
[]
[null,"Manufacturer Specified Superheat",null,null,null,"°F ",{"$f":"IF(OR(E74=\"\"),\"\",'Air Flow References'!P28)","v":""}]
[null,"(from manufacturer service guide or as per manufacturer's specification or cut sheet)"]
[]
[null,"Indoor Wet Bulb Temperature",null,null,null,"°F",{"$f":"IF(OR(E77=\"\"),\"\",'Air Flow References'!P29)","v":""}]
[]
[null,"Outdoor Dry Bulb Temperature",null,null,null,"°F",{"$f":"IF(OR(E79=\"\"),\"\",'Air Flow References'!P30)","v":""}]
[]
[]
["Measurements"]
[]
["Vapor (suction) pressure",null,null,null,null,"psig",{"$f":"IF(OR(E84=\"\"),\"\",'Air Flow References'!P31)","v":""}]
[]
["(D) Saturation temperature for measured pressure",null,null,null,null,"°F",{"$f":"IF(OR(E86=\"\"),\"\",'Air Flow References'!P32)","v":""}]
[]
["(E) Vapor (suction) line temperature near compressor",null,null,null,null,"°F",{"$f":"IF(OR(E88=\"\"),\"\",'Air Flow References'!P33)","v":""}]
[]
["*Measured Superheat (E minus D)",null,null,null,{"$f":"IF(OR(E86=\"\",E88=\"\"),\"\",E88-E86)","v":""},"°F",{"$f":"'Air Flow References'!P34","v":""}]
[]
["*Measured Superheat must be within 5°F of the manufacturer specified Superheat."]
[]
["Note: A copy of the documentation of the manufacturer's specified superheat for the installed equipment must be attached to this form."]
["Option 3: Weigh In (can be used for any system ONLY when outdoor ambient temperature is below OEM specification.):"]
[]
["Refrigerant Type:"]
[]
[null,null,null,null,null,null,"(specify)"]
["Capacity of Refrigerant Shipped With Outdoor Unit:"]
[null,null,null,"lbs.",null,"oz."]
[]
[]
["Does this capacity include an allowance for an evaporator?"]
[]
[]
["Does this capacity include an allowance for a line set?"]
[]
[]
["Allowed Line Set Length:",null,null,"feet"]
[]
["(A) Suction Line Outside Diameter",null,null,null,"inches","Net length*",null,"feet","x",null,"ounces/foot","=",null,"ounces"]
[]
["(B) Liquid Line Outside Diameter",null,null,null,"inches","Net length*",null,"feet","x",null,"ounces/foot","=",null,"ounces"]
[]
["(C) Driers, Accumulator, and Evaporator Capacities (if not included above):",null,null,null,null,null,null,null,null,null,null,null,null,"ounces"]
[]
["*Net Length = Measured Length Minus (-) Allowed Length",null,null,null,null,"Total charge weighed in (A) + (B) + (C)",null,null,null,null,null,null,{"$f":"IF(AND(M112=\"\",M114=\"\",M116=\"\"),\"\",M112+M114+M116)","v":""},"ounces"]
[]
[]
["Note: Copy of table or graph supplied by manufacturer and used to estimate charge must be attached to this form."]
[]
[]
[]
["Application Version:",null,{"$f":"Development!$A$4&\"_\"&Development!$A$2","v":"1.1.23_1.0"},null,null,null,null,null,null,null,null,null,"Effective:",{"$f":"Development!A4","v":"1.1.23"}]

{"sheet":"AIRFLOW FORM 5","index":45,"n_rows":125,"n_cols":15,"rows_kept":125,"cut":false,"hidden":true,"merged":[[29,2,29,11],[24,4,24,5],[124,3,124,5],[124,6,124,8],[44,4,44,5],[98,4,98,5],[117,0,118,4],[117,5,118,10],[99,0,100,1],[117,12,118,12],[117,13,118,13],[70,4,70,5],[0,0,0,9],[1,0,1,9],[14,4,14,5],[14,12,14,13],[17,0,17,3],[17,4,17,5],[4,2,4,3],[4,7,4,8],[6,7,6,8],[17,12,17,13],[21,4,21,5],[28,0,28,12],[37,8,37,9]]}
[{"$f":"Development!$A$3&\" Residential Efficiency Program\"","v":"2023 Residential Efficiency Program"}]
["Post Installation/Airflow & Refrigerant Charge Form"]
["Equipment Data"]
[]
["Unit Number: ",{"$f":"IF('ASHP Equipment Information'!B87=\"\",\"\",'ASHP Equipment Information'!B87)","v":5},null,null,null,null,"Manufacturer",{"$f":"IF('ASHP Equipment Information'!B91=\"\",\"\",'ASHP Equipment Information'!B91)","v":""}]
[]
[null,null,null,null,null,null,"Model No.",{"$f":"IF('ASHP Equipment Information'!B93=\"\",\"\",'ASHP Equipment Information'!B93)","v":""}]
["For Ducted Systems Only"]
[null,"Ducts Tested?",null,"Ducts Sealed?"]
[]
["Airflow"]
[]
["Please fill out all of the below fields as applicable for the installation"]
[]
["1. Rated Cooling Capacity (tons):",null,null,null,null,null,{"$f":"IF(OR(E15=\"\"),\"\",'Air Flow References'!U4)","v":""},null,null,null,null,"2. Target Airflow Volume (CFM) PER TON:",null,null,{"$f":"IF(OR(M15=\"\"),\"\",'Air Flow References'!U6)","v":""}]
[]
["Complete field 3a or 3b"]
["3a. Static pressure drop in inches of water column W.C. measures across evaporator coil if new installed:",null,null,null,null,null,{"$f":"IF(OR(E18=\"\"),\"\",'Air Flow References'!U5)","v":""},null,"OR",null,null,"3b. External static pressure for fan coil unit:",null,null,{"$f":"IF(OR(M18=\"\"),\"\",'Air Flow References'!U7)","v":""}]
[]
["4. Total Static measured with:"]
[]
["5. CFM Air Flow Estimated from Total Static Measurement:",null,null,null,null,null,{"$f":"IF(OR(E22=\"\"),\"\",'Air Flow References'!U9)","v":""}]
["If this field contains data, no data input is required for the True Flow CFM field below"]
[]
["6. True Flow CFM measured:",null,null,null,null,null,{"$f":"IF(OR(E25=\"\"),\"\",'Air Flow References'!U8)","v":""}]
["If this field contains data, no data input is required for field 3a/3b and field 5"]
[]
[]
["Installations must have visible and accessible ports for airflow and temperature measurements. Ports must be sealed with contrasting color plugs. Please indicate"]
["location of test ports:"]
[]
["Notes: "]
["Convert Pascals to inches of WC by dividing pascals by 249.09"]
["Copy of table or graph supplied by manufacturer and used to estimate airflow must be attached to this form."]
[]
["Refrigerant Charge Method"]
[]
["Charging Method Used:"]
[]
["Option 1: SUBCOOLING Notes: Typical for most Thermal Expansion Valve systems when outdoor temperature is greater than OEM spec. (Typ. 60°F)"]
[]
["Inputs"]
["Refrigerant Type"]
[]
[]
[]
[]
[]
[null,"Required Subcooling:",null,null,null,"°F",{"$f":"IF(OR(E49=\"\"),\"\",'Air Flow References'!U16)","v":""}]
[]
[null,"Outdoor Dry Bulb Temperature:",null,null,null,"°F",{"$f":"IF(OR(E51=\"\"),\"\",'Air Flow References'!U17)","v":""}]
[]
["Measurements"]
[]
["Liquid Line Pressure",null,null,null,null,"psig",{"$f":"IF(OR(E55=\"\"),\"\",'Air Flow References'!U18)","v":""}]
[]
["(F) Saturation temperature for measured pressure",null,null,null,null,"°F",{"$f":"IF(OR(E57=\"\"),\"\",'Air Flow References'!U19)","v":""}]
[]
["(G) Liquid Line temperature",null,null,null,null,"°F",{"$f":"IF(OR(E59=\"\"),\"\",'Air Flow References'!U20)","v":""}]
[]
["*Measured Subcooling (F minus G)",null,null,null,{"$f":"IF(OR(E57=\"\",E59=\"\"),\"\",E57-E59)","v":""},"°F",{"$f":"'Air Flow References'!U21","v":""}]
[]
["*Measured Subcooling must be within 3°F of the manufacturer specified Subcooling."]
[]
["Note: A copy of the documentation of the manufacturer's specified subcooling for the installed equipment must be attached to this form"]
["Option 2: SUPERHEAT Note: Can only be used for fixed orifice systems (Non-TXV) when outdoor temperature is greater than OEM spec. (Type 55°)"]
[]
["Inputs"]
["Refrigerant Type"]
[]
[]
[]
[]
[null,"Manufacturer Specified Superheat",null,null,null,"°F ",{"$f":"IF(OR(E74=\"\"),\"\",'Air Flow References'!U28)","v":""}]
[null,"(from manufacturer service guide or as per manufacturer's specification or cut sheet)"]
[]
[null,"Indoor Wet Bulb Temperature",null,null,null,"°F",{"$f":"IF(OR(E77=\"\"),\"\",'Air Flow References'!U29)","v":""}]
[]
[null,"Outdoor Dry Bulb Temperature",null,null,null,"°F",{"$f":"IF(OR(E79=\"\"),\"\",'Air Flow References'!U30)","v":""}]
[]
[]
["Measurements"]
[]
["Vapor (suction) pressure",null,null,null,null,"psig",{"$f":"IF(OR(E84=\"\"),\"\",'Air Flow References'!U31)","v":""}]
[]
["(D) Saturation temperature for measured pressure",null,null,null,null,"°F",{"$f":"IF(OR(E86=\"\"),\"\",'Air Flow References'!U32)","v":""}]
[]
["(E) Vapor (suction) line temperature near compressor",null,null,null,null,"°F",{"$f":"IF(OR(E88=\"\"),\"\",'Air Flow References'!U33)","v":""}]
[]
["*Measured Superheat (E minus D)",null,null,null,{"$f":"IF(OR(E86=\"\",E88=\"\"),\"\",E88-E86)","v":""},"°F",{"$f":"'Air Flow References'!U34","v":""}]
[]
["*Measured Superheat must be within 5°F of the manufacturer specified Superheat."]
[]
["Note: A copy of the documentation of the manufacturer's specified superheat for the installed equipment must be attached to this form."]
["Option 3: Weigh In (can be used for any system ONLY when outdoor ambient temperature is below OEM specification.):"]
[]
["Refrigerant Type:"]
[]
[null,null,null,null,null,null,"(specify)"]
["Capacity of Refrigerant Shipped With Outdoor Unit:"]
[null,null,null,"lbs.",null,"oz."]
[]
[]
["Does this capacity include an allowance for an evaporator?"]
[]
[]
["Does this capacity include an allowance for a line set?"]
[]
[]
["Allowed Line Set Length:",null,null,"feet"]
[]
["(A) Suction Line Outside Diameter",null,null,null,"inches","Net length*",null,"feet","x",null,"ounces/foot","=",null,"ounces"]
[]
["(B) Liquid Line Outside Diameter",null,null,null,"inches","Net length*",null,"feet","x",null,"ounces/foot","=",null,"ounces"]
[]
["(C) Driers, Accumulator, and Evaporator Capacities (if not included above):",null,null,null,null,null,null,null,null,null,null,null,null,"ounces"]
[]
["*Net Length = Measured Length Minus (-) Allowed Length",null,null,null,null,"Total charge weighed in (A) + (B) + (C)",null,null,null,null,null,null,{"$f":"IF(AND(M112=\"\",M114=\"\",M116=\"\"),\"\",M112+M114+M116)","v":""},"ounces"]
[]
[]
[]
[]
[]
["Note: Copy of table or graph supplied by manufacturer and used to estimate charge must be attached to this form."]
["Application Version:",null,{"$f":"Development!$A$4&\"_\"&Development!$A$2","v":"1.1.23_1.0"},null,null,null,null,null,null,null,null,null,null,"Effective:",{"$f":"Development!$A$4","v":"1.1.23"}]

{"sheet":"AIRFLOW FORM 6","index":46,"n_rows":124,"n_cols":15,"rows_kept":124,"cut":false,"hidden":true,"merged":[[117,12,118,12],[117,13,118,13],[70,4,70,5],[123,3,123,5],[123,6,123,8],[98,4,98,5],[117,0,118,4],[117,5,118,10],[99,0,100,1],[21,4,21,5],[28,0,28,12],[29,2,29,11],[37,8,37,9],[44,4,44,5],[24,4,24,5],[14,4,14,5],[14,12,14,13],[17,0,17,3],[17,4,17,5],[17,12,17,13],[0,0,0,9],[1,0,1,9],[4,2,4,3],[4,7,4,8],[6,7,6,8]]}
[{"$f":"Development!$A$3&\" Residential Efficiency Program\"","v":"2023 Residential Efficiency Program"}]
["Post Installation/Airflow & Refrigerant Charge Form"]
["Equipment Data"]
[]
["Unit Number: ",{"$f":"IF('ASHP Equipment Information'!B106=\"\",\"\",'ASHP Equipment Information'!B106)","v":6},null,null,null,null,"Manufacturer",{"$f":"IF('ASHP Equipment Information'!B110=\"\",\"\",'ASHP Equipment Information'!B110)","v":""}]
[]
[null,null,null,null,null,null,"Model No.",{"$f":"IF('ASHP Equipment Information'!B112=\"\",\"\",'ASHP Equipment Information'!B112)","v":""}]
["For Ducted Systems Only"]
[null,"Ducts Tested?",null,"Ducts Sealed?"]
[]
["Airflow"]
[]
["Please fill out all of the below fields as applicable for the installation"]
[]
["1. Rated Cooling Capacity (tons):",null,null,null,null,null,{"$f":"IF(OR(E15=\"\"),\"\",'Air Flow References'!Z4)","v":""},null,null,null,null,"2. Target Airflow Volume (CFM) PER TON:",null,null,{"$f":"IF(OR(M15=\"\"),\"\",'Air Flow References'!Z6)","v":""}]
[]
["Complete field 3a or 3b"]
["3a. Static pressure drop in inches of water column W.C. measures across evaporator coil if new installed:",null,null,null,null,null,{"$f":"IF(OR(E18=\"\"),\"\",'Air Flow References'!Z5)","v":""},"OR",null,null,null,"3b. External static pressure for fan coil unit:",null,null,{"$f":"IF(OR(M18=\"\"),\"\",'Air Flow References'!Z7)","v":""}]
[]
["4. Total Static measured with:"]
[]
["5. CFM Air Flow Estimated from Total Static Measurement:",null,null,null,null,null,{"$f":"IF(OR(E22=\"\"),\"\",'Air Flow References'!Z9)","v":""}]
["If this field contains data, no data input is required for the True Flow CFM field below"]
[]
["6. True Flow CFM measured:",null,null,null,null,null,{"$f":"IF(OR(E25=\"\"),\"\",'Air Flow References'!Z8)","v":""}]
["If this field contains data, no data input is required for field 3a/3b and field 5"]
[]
[]
["Installations must have visible and accessible ports for airflow and temperature measurements. Ports must be sealed with contrasting color plugs. Please indicate"]
["location of test ports:"]
[]
["Notes: "]
["Convert Pascals to inches of WC by dividing pascals by 249.09"]
["Copy of table or graph supplied by manufacturer and used to estimate airflow must be attached to this form."]
[]
["Refrigerant Charge Method"]
[]
["Charging Method Used:"]
[]
["Option 1: SUBCOOLING Notes: Typical for most Thermal Expansion Valve systems when outdoor temperature is greater than OEM spec. (Typ. 60°F)"]
[]
["Inputs"]
["Refrigerant Type"]
[]
[]
[]
[]
[]
[null,"Required Subcooling:",null,null,null,"°F",{"$f":"IF(OR(E49=\"\"),\"\",'Air Flow References'!Z16)","v":""}]
[]
[null,"Outdoor Dry Bulb Temperature:",null,null,null,"°F",{"$f":"IF(OR(E51=\"\"),\"\",'Air Flow References'!Z17)","v":""}]
[]
["Measurements"]
[]
["Liquid Line Pressure",null,null,null,null,"psig",{"$f":"IF(OR(E55=\"\"),\"\",'Air Flow References'!Z18)","v":""}]
[]
["(F) Saturation temperature for measured pressure",null,null,null,null,"°F",{"$f":"IF(OR(E57=\"\"),\"\",'Air Flow References'!Z19)","v":""}]
[]
["(G) Liquid Line temperature",null,null,null,null,"°F",{"$f":"IF(OR(E59=\"\"),\"\",'Air Flow References'!Z20)","v":""}]
[]
["*Measured Subcooling (F minus G)",null,null,null,{"$f":"IF(OR(E57=\"\",E59=\"\"),\"\",E57-E59)","v":""},"°F",{"$f":"'Air Flow References'!Z21","v":""}]
[]
["*Measured Subcooling must be within 3°F of the manufacturer specified Subcooling."]
[]
["Note: A copy of the documentation of the manufacturer's specified subcooling for the installed equipment must be attached to this form"]
["Option 2: SUPERHEAT Note: Can only be used for fixed orifice systems (Non-TXV) when outdoor temperature is greater than OEM spec. (Type 55°)"]
[]
["Inputs"]
["Refrigerant Type"]
[]
[]
[]
[]
[null,"Manufacturer Specified Superheat",null,null,null,"°F ",{"$f":"IF(OR(E74=\"\"),\"\",'Air Flow References'!Z28)","v":""}]
[null,"(from manufacturer service guide or as per manufacturer's specification or cut sheet)"]
[]
[null,"Indoor Wet Bulb Temperature",null,null,null,"°F",{"$f":"IF(OR(E77=\"\"),\"\",'Air Flow References'!Z29)","v":""}]
[]
[null,"Outdoor Dry Bulb Temperature",null,null,null,"°F",{"$f":"IF(OR(E79=\"\"),\"\",'Air Flow References'!Z30)","v":""}]
[]
[]
["Measurements"]
[]
["Vapor (suction) pressure",null,null,null,null,"psig",{"$f":"IF(OR(E84=\"\"),\"\",'Air Flow References'!Z31)","v":""}]
[]
["(D) Saturation temperature for measured pressure",null,null,null,null,"°F",{"$f":"IF(OR(E86=\"\"),\"\",'Air Flow References'!Z32)","v":""}]
[]
["(E) Vapor (suction) line temperature near compressor",null,null,null,null,"°F",{"$f":"IF(OR(E88=\"\"),\"\",'Air Flow References'!Z33)","v":""}]
[]
["*Measured Superheat (E minus D)",null,null,null,{"$f":"IF(OR(E86=\"\",E88=\"\"),\"\",E88-E86)","v":""},"°F",{"$f":"'Air Flow References'!Z34","v":""}]
[]
["*Measured Superheat must be within 5°F of the manufacturer specified Superheat."]
[]
["Note: A copy of the documentation of the manufacturer's specified superheat for the installed equipment must be attached to this form."]
["Option 3: Weigh In (can be used for any system ONLY when outdoor ambient temperature is below OEM specification.):"]
[]
["Refrigerant Type:"]
[]
[null,null,null,null,null,null,"(specify)"]
["Capacity of Refrigerant Shipped With Outdoor Unit:"]
[null,null,null,"lbs.",null,"oz."]
[]
[]
["Does this capacity include an allowance for an evaporator?"]
[]
[]
["Does this capacity include an allowance for a line set?"]
[]
[]
["Allowed Line Set Length:",null,null,"feet"]
[]
["(A) Suction Line Outside Diameter",null,null,null,"inches","Net length*",null,"feet","x",null,"ounces/foot","=",null,"ounces"]
[]
["(B) Liquid Line Outside Diameter",null,null,null,"inches","Net length*",null,"feet","x",null,"ounces/foot","=",null,"ounces"]
[]
["(C) Driers, Accumulator, and Evaporator Capacities (if not included above):",null,null,null,null,null,null,null,null,null,null,null,null,"ounces"]
[]
["*Net Length = Measured Length Minus (-) Allowed Length",null,null,null,null,"Total charge weighed in (A) + (B) + (C)",null,null,null,null,null,null,{"$f":"IF(AND(M112=\"\",M114=\"\",M116=\"\"),\"\",M112+M114+M116)","v":""},"ounces"]
[]
[]
[]
[]
["Note: Copy of table or graph supplied by manufacturer and used to estimate charge must be attached to this form."]
["Application Version:",null,{"$f":"Development!$A$4&\"_\"&Development!$A$2","v":"1.1.23_1.0"},null,null,null,null,null,null,null,null,null,null,"Effective:",{"$f":"Development!$A$4","v":"1.1.23"}]

{"sheet":"AIRFLOW FORM 7","index":47,"n_rows":125,"n_cols":15,"rows_kept":125,"cut":false,"hidden":true,"merged":[[117,12,118,12],[117,13,118,13],[70,4,70,5],[98,4,98,5],[117,0,118,4],[117,5,118,10],[99,0,100,1],[21,4,21,5],[28,0,28,12],[29,2,29,11],[37,8,37,9],[44,4,44,5],[24,4,24,5],[14,4,14,5],[14,12,14,13],[17,0,17,3],[17,4,17,5],[17,12,17,13],[0,0,0,9],[1,0,1,9],[4,2,4,3],[4,7,4,8],[6,7,6,8]]}
[{"$f":"Development!$A$3&\" Residential Efficiency Program\"","v":"2023 Residential Efficiency Program"}]
["Post Installation/Airflow & Refrigerant Charge Form"]
["Equipment Data"]
[]
["Unit Number: ",{"$f":"IF('ASHP Equipment Information'!B125=\"\",\"\",'ASHP Equipment Information'!B125)","v":7},null,null,null,null,"Manufacturer",{"$f":"IF('ASHP Equipment Information'!B129=\"\",\"\",'ASHP Equipment Information'!B129)","v":""}]
[]
[null,null,null,null,null,null,"Model No.",{"$f":"IF('ASHP Equipment Information'!B131=\"\",\"\",'ASHP Equipment Information'!B131)","v":""}]
["For Ducted Systems Only"]
[null,"Ducts Tested?",null,"Ducts Sealed?"]
[]
["Airflow"]
[]
["Please fill out all of the below fields as applicable for the installation"]
[]
["1. Rated Cooling Capacity (tons):",null,null,null,null,null,{"$f":"IF(OR(E15=\"\"),\"\",'Air Flow References'!AE4)","v":""},null,null,null,null,"2. Target Airflow Volume (CFM) PER TON:",null,null,{"$f":"IF(OR(M15=\"\"),\"\",'Air Flow References'!AE6)","v":""}]
[]
["Complete field 3a or 3b"]
["3a. Static pressure drop in inches of water column W.C. measures across evaporator coil if new installed:",null,null,null,null,null,{"$f":"IF(OR(E18=\"\"),\"\",'Air Flow References'!AE5)","v":""},null,"OR",null,null,"3b. External static pressure for fan coil unit:",null,null,{"$f":"IF(OR(M18=\"\"),\"\",'Air Flow References'!AE7)","v":""}]
[]
["4. Total Static measured with:"]
[]
["5. CFM Air Flow Estimated from Total Static Measurement:",null,null,null,null,null,{"$f":"IF(OR(E22=\"\"),\"\",'Air Flow References'!AE9)","v":""}]
["If this field contains data, no data input is required for the True Flow CFM field below"]
[]
["6. True Flow CFM measured:",null,null,null,null,null,{"$f":"IF(OR(E25=\"\"),\"\",'Air Flow References'!AE8)","v":""}]
["If this field contains data, no data input is required for field 3a/3b and field 5"]
[]
[]
["Installations must have visible and accessible ports for airflow and temperature measurements. Ports must be sealed with contrasting color plugs. Please indicate"]
["location of test ports:"]
[]
["Notes: "]
["Convert Pascals to inches of WC by dividing pascals by 249.09"]
["Copy of table or graph supplied by manufacturer and used to estimate airflow must be attached to this form."]
[]
["Refrigerant Charge Method"]
[]
["Charging Method Used:"]
[]
["Option 1: SUBCOOLING Notes: Typical for most Thermal Expansion Valve systems when outdoor temperature is greater than OEM spec. (Typ. 60°F)"]
[]
["Inputs"]
["Refrigerant Type"]
[]
[]
[]
[]
[]
[null,"Required Subcooling:",null,null,null,"°F",{"$f":"IF(OR(E49=\"\"),\"\",'Air Flow References'!AE16)","v":""}]
[]
[null,"Outdoor Dry Bulb Temperature:",null,null,null,"°F",{"$f":"IF(OR(E51=\"\"),\"\",'Air Flow References'!AE17)","v":""}]
[]
["Measurements"]
[]
["Liquid Line Pressure",null,null,null,null,"psig",{"$f":"IF(OR(E55=\"\"),\"\",'Air Flow References'!AE18)","v":""}]
[]
["(F) Saturation temperature for measured pressure",null,null,null,null,"°F",{"$f":"IF(OR(E57=\"\"),\"\",'Air Flow References'!AE19)","v":""}]
[]
["(G) Liquid Line temperature",null,null,null,null,"°F",{"$f":"IF(OR(E59=\"\"),\"\",'Air Flow References'!AE20)","v":""}]
[]
["*Measured Subcooling (F minus G)",null,null,null,{"$f":"IF(OR(E57=\"\",E59=\"\"),\"\",E57-E59)","v":""},"°F",{"$f":"'Air Flow References'!AE21","v":""}]
[]
["*Measured Subcooling must be within 3°F of the manufacturer specified Subcooling."]
[]
["Note: A copy of the documentation of the manufacturer's specified subcooling for the installed equipment must be attached to this form"]
["Option 2: SUPERHEAT Note: Can only be used for fixed orifice systems (Non-TXV) when outdoor temperature is greater than OEM spec. (Type 55°)"]
[]
["Inputs"]
["Refrigerant Type"]
[]
[]
[]
[]
[null,"Manufacturer Specified Superheat",null,null,null,"°F ",{"$f":"IF(OR(E74=\"\"),\"\",'Air Flow References'!AE28)","v":""}]
[null,"(from manufacturer service guide or as per manufacturer's specification or cut sheet)"]
[]
[null,"Indoor Wet Bulb Temperature",null,null,null,"°F",{"$f":"IF(OR(E77=\"\"),\"\",'Air Flow References'!AE29)","v":""}]
[]
[null,"Outdoor Dry Bulb Temperature",null,null,null,"°F",{"$f":"IF(OR(E79=\"\"),\"\",'Air Flow References'!AE30)","v":""}]
[]
[]
["Measurements"]
[]
["Vapor (suction) pressure",null,null,null,null,"psig",{"$f":"IF(OR(E84=\"\"),\"\",'Air Flow References'!AE31)","v":""}]
[]
["(D) Saturation temperature for measured pressure",null,null,null,null,"°F",{"$f":"IF(OR(E86=\"\"),\"\",'Air Flow References'!AE32)","v":""}]
[]
["(E) Vapor (suction) line temperature near compressor",null,null,null,null,"°F",{"$f":"IF(OR(E88=\"\"),\"\",'Air Flow References'!AE33)","v":""}]
[]
["*Measured Superheat (E minus D)",null,null,null,{"$f":"IF(OR(E86=\"\",E88=\"\"),\"\",E88-E86)","v":""},"°F",{"$f":"'Air Flow References'!AE34","v":""}]
[]
["*Measured Superheat must be within 5°F of the manufacturer specified Superheat."]
[]
["Note: A copy of the documentation of the manufacturer's specified superheat for the installed equipment must be attached to this form."]
["Option 3: Weigh In (can be used for any system ONLY when outdoor ambient temperature is below OEM specification.):"]
[]
["Refrigerant Type:"]
[]
[null,null,null,null,null,null,"(specify)"]
["Capacity of Refrigerant Shipped With Outdoor Unit:"]
[null,null,null,"lbs.",null,"oz."]
[]
[]
["Does this capacity include an allowance for an evaporator?"]
[]
[]
["Does this capacity include an allowance for a line set?"]
[]
[]
["Allowed Line Set Length:",null,null,"feet"]
[]
["(A) Suction Line Outside Diameter",null,null,null,"inches","Net length*",null,"feet","x",null,"ounces/foot","=",null,"ounces"]
[]
["(B) Liquid Line Outside Diameter",null,null,null,"inches","Net length*",null,"feet","x",null,"ounces/foot","=",null,"ounces"]
[]
["(C) Driers, Accumulator, and Evaporator Capacities (if not included above):",null,null,null,null,null,null,null,null,null,null,null,null,"ounces"]
[]
["*Net Length = Measured Length Minus (-) Allowed Length",null,null,null,null,"Total charge weighed in (A) + (B) + (C)",null,null,null,null,null,null,{"$f":"IF(AND(M112=\"\",M114=\"\",M116=\"\"),\"\",M112+M114+M116)","v":""},"ounces"]
[]
[]
["Note: Copy of table or graph supplied by manufacturer and used to estimate charge must be attached to this form."]
[]
[]
[]
["Application Version:",null,{"$f":"Development!$A$4&\"_\"&Development!$A$2","v":"1.1.23_1.0"},null,null,null,null,null,null,null,null,null,"Effective:",{"$f":"Development!A4","v":"1.1.23"}]

{"sheet":"AIRFLOW FORM 8","index":48,"n_rows":126,"n_cols":15,"rows_kept":126,"cut":false,"hidden":true,"merged":[[117,12,118,12],[117,13,118,13],[70,4,70,5],[125,3,125,5],[125,6,125,8],[98,4,98,5],[117,0,118,4],[117,5,118,10],[99,0,100,1],[21,4,21,5],[28,0,28,12],[29,2,29,11],[37,8,37,9],[44,4,44,5],[24,4,24,5],[14,4,14,5],[14,12,14,13],[17,0,17,3],[17,4,17,5],[17,12,17,13],[0,0,0,9],[1,0,1,9],[4,2,4,3],[4,7,4,8],[6,7,6,8]]}
[{"$f":"Development!$A$3&\" Residential Efficiency Program\"","v":"2023 Residential Efficiency Program"}]
["Post Installation/Airflow & Refrigerant Charge Form"]
["Equipment Data"]
[]
["Unit Number: ",{"$f":"IF('ASHP Equipment Information'!B144=\"\",\"\",'ASHP Equipment Information'!B144)","v":8},null,null,null,null,"Manufacturer",{"$f":"IF('ASHP Equipment Information'!B148=\"\",\"\",'ASHP Equipment Information'!B148)","v":""}]
[]
[null,null,null,null,null,null,"Model No.",{"$f":"IF('ASHP Equipment Information'!B150=\"\",\"\",'ASHP Equipment Information'!B150)","v":""}]
["For Ducted Systems Only"]
[null,"Ducts Tested?",null,"Ducts Sealed?"]
[]
["Airflow"]
[]
["Please fill out all of the below fields as applicable for the installation"]
[]
["1. Rated Cooling Capacity (tons):",null,null,null,null,null,{"$f":"IF(OR(E15=\"\"),\"\",'Air Flow References'!AJ4)","v":""},null,null,null,null,"2. Target Airflow Volume (CFM) PER TON:",null,null,{"$f":"IF(OR(M15=\"\"),\"\",'Air Flow References'!AJ6)","v":""}]
[]
["Complete field 3a or 3b"]
["3a. Static pressure drop in inches of water column W.C. measures across evaporator coil if new installed:",null,null,null,null,null,{"$f":"IF(OR(E18=\"\"),\"\",'Air Flow References'!AJ5)","v":""},null,"OR",null,null,"3b. External static pressure for fan coil unit:",null,null,{"$f":"IF(OR(M18=\"\"),\"\",'Air Flow References'!AJ7)","v":""}]
[]
["4. Total Static measured with:"]
[]
["5. CFM Air Flow Estimated from Total Static Measurement:",null,null,null,null,null,{"$f":"IF(OR(E22=\"\"),\"\",'Air Flow References'!AJ9)","v":""}]
["If this field contains data, no data input is required for the True Flow CFM field below"]
[]
["6. True Flow CFM measured:",null,null,null,null,null,{"$f":"IF(OR(E25=\"\"),\"\",'Air Flow References'!AJ8)","v":""}]
["If this field contains data, no data input is required for field 3a/3b and field 5"]
[]
[]
["Installations must have visible and accessible ports for airflow and temperature measurements. Ports must be sealed with contrasting color plugs. Please indicate"]
["location of test ports:"]
[]
["Notes: "]
["Convert Pascals to inches of WC by dividing pascals by 249.09"]
["Copy of table or graph supplied by manufacturer and used to estimate airflow must be attached to this form."]
[]
["Refrigerant Charge Method"]
[]
["Charging Method Used:"]
[]
["Option 1: SUBCOOLING Notes: Typical for most Thermal Expansion Valve systems when outdoor temperature is greater than OEM spec. (Typ. 60°F)"]
[]
["Inputs"]
["Refrigerant Type"]
[]
[]
[]
[]
[]
[null,"Required Subcooling:",null,null,null,"°F",{"$f":"IF(OR(E49=\"\"),\"\",'Air Flow References'!AJ16)","v":""}]
[]
[null,"Outdoor Dry Bulb Temperature:",null,null,null,"°F",{"$f":"IF(OR(E51=\"\"),\"\",'Air Flow References'!AJ17)","v":""}]
[]
["Measurements"]
[]
["Liquid Line Pressure",null,null,null,null,"psig",{"$f":"IF(OR(E55=\"\"),\"\",'Air Flow References'!AJ18)","v":""}]
[]
["(F) Saturation temperature for measured pressure",null,null,null,null,"°F",{"$f":"IF(OR(E57=\"\"),\"\",'Air Flow References'!AJ19)","v":""}]
[]
["(G) Liquid Line temperature",null,null,null,null,"°F",{"$f":"IF(OR(E59=\"\"),\"\",'Air Flow References'!AJ20)","v":""}]
[]
["*Measured Subcooling (F minus G)",null,null,null,{"$f":"IF(OR(E57=\"\",E59=\"\"),\"\",E57-E59)","v":""},"°F",{"$f":"'Air Flow References'!AJ21","v":""}]
[]
["*Measured Subcooling must be within 3°F of the manufacturer specified Subcooling."]
[]
["Note: A copy of the documentation of the manufacturer's specified subcooling for the installed equipment must be attached to this form"]
["Option 2: SUPERHEAT Note: Can only be used for fixed orifice systems (Non-TXV) when outdoor temperature is greater than OEM spec. (Type 55°)"]
[]
["Inputs"]
["Refrigerant Type"]
[]
[]
[]
[]
[null,"Manufacturer Specified Superheat",null,null,null,"°F ",{"$f":"IF(OR(E74=\"\"),\"\",'Air Flow References'!AJ28)","v":""}]
[null,"(from manufacturer service guide or as per manufacturer's specification or cut sheet)"]
[]
[null,"Indoor Wet Bulb Temperature",null,null,null,"°F",{"$f":"IF(OR(E77=\"\"),\"\",'Air Flow References'!AJ29)","v":""}]
[]
[null,"Outdoor Dry Bulb Temperature",null,null,null,"°F",{"$f":"IF(OR(E79=\"\"),\"\",'Air Flow References'!AJ30)","v":""}]
[]
[]
["Measurements"]
[]
["Vapor (suction) pressure",null,null,null,null,"psig",{"$f":"IF(OR(E84=\"\"),\"\",'Air Flow References'!AJ31)","v":""}]
[]
["(D) Saturation temperature for measured pressure",null,null,null,null,"°F",{"$f":"IF(OR(E86=\"\"),\"\",'Air Flow References'!AJ32)","v":""}]
[]
["(E) Vapor (suction) line temperature near compressor",null,null,null,null,"°F",{"$f":"IF(OR(E88=\"\"),\"\",'Air Flow References'!AJ33)","v":""}]
[]
["*Measured Superheat (E minus D)",null,null,null,{"$f":"IF(OR(E86=\"\",E88=\"\"),\"\",E88-E86)","v":""},"°F",{"$f":"'Air Flow References'!AJ34","v":""}]
[]
["*Measured Superheat must be within 5°F of the manufacturer specified Superheat."]
[]
["Note: A copy of the documentation of the manufacturer's specified superheat for the installed equipment must be attached to this form."]
["Option 3: Weigh In (can be used for any system ONLY when outdoor ambient temperature is below OEM specification.):"]
[]
["Refrigerant Type:"]
[]
[null,null,null,null,null,null,"(specify)"]
["Capacity of Refrigerant Shipped With Outdoor Unit:"]
[null,null,null,"lbs.",null,"oz."]
[]
[]
["Does this capacity include an allowance for an evaporator?"]
[]
[]
["Does this capacity include an allowance for a line set?"]
[]
[]
["Allowed Line Set Length:",null,null,"feet"]
[]
["(A) Suction Line Outside Diameter",null,null,null,"inches","Net length*",null,"feet","x",null,"ounces/foot","=",null,"ounces"]
[]
["(B) Liquid Line Outside Diameter",null,null,null,"inches","Net length*",null,"feet","x",null,"ounces/foot","=",null,"ounces"]
[]
["(C) Driers, Accumulator, and Evaporator Capacities (if not included above):",null,null,null,null,null,null,null,null,null,null,null,null,"ounces"]
[]
["*Net Length = Measured Length Minus (-) Allowed Length",null,null,null,null,"Total charge weighed in (A) + (B) + (C)",null,null,null,null,null,null,{"$f":"IF(AND(M112=\"\",M114=\"\",M116=\"\"),\"\",M112+M114+M116)","v":""},"ounces"]
[]
[]
["Note: Copy of table or graph supplied by manufacturer and used to estimate charge must be attached to this form."]
[]
[]
[]
[]
["Application Version:",null,{"$f":"Development!$A$4&\"_\"&Development!$A$2","v":"1.1.23_1.0"},null,null,null,null,null,null,null,null,null,null,"Effective:",{"$f":"Development!$A$4","v":"1.1.23"}]

{"sheet":"AIRFLOW FORM 9","index":49,"n_rows":124,"n_cols":15,"rows_kept":124,"cut":false,"hidden":true,"merged":[[117,12,118,12],[117,13,118,13],[70,4,70,5],[123,3,123,5],[123,6,123,8],[98,4,98,5],[117,0,118,4],[117,5,118,10],[99,0,100,1],[21,4,21,5],[28,0,28,12],[29,2,29,11],[37,8,37,9],[44,4,44,5],[24,4,24,5],[14,4,14,5],[14,12,14,13],[17,0,17,3],[17,4,17,5],[17,12,17,13],[0,0,0,9],[1,0,1,9],[4,2,4,3],[4,7,4,8],[6,7,6,8]]}
[{"$f":"Development!$A$3&\" Residential Efficiency Program\"","v":"2023 Residential Efficiency Program"}]
["Post Installation/Airflow & Refrigerant Charge Form"]
["Equipment Data"]
[]
["Unit Number: ",{"$f":"IF('ASHP Equipment Information'!B163=\"\",\"\",'ASHP Equipment Information'!B163)","v":9},null,null,null,null,"Manufacturer",{"$f":"IF('ASHP Equipment Information'!B167=\"\",\"\",'ASHP Equipment Information'!B167)","v":""}]
[]
[null,null,null,null,null,null,"Model No.",{"$f":"IF('ASHP Equipment Information'!B169=\"\",\"\",'ASHP Equipment Information'!B169)","v":""}]
["For Ducted Systems Only"]
[null,"Ducts Tested?",null,"Ducts Sealed?"]
[]
["Airflow"]
[]
["Please fill out all of the below fields as applicable for the installation"]
[]
["1. Rated Cooling Capacity (tons):",null,null,null,null,null,{"$f":"IF(OR(E15=\"\"),\"\",'Air Flow References'!AO4)","v":""},null,null,null,null,"2. Target Airflow Volume (CFM) PER TON:",null,null,{"$f":"IF(OR(M15=\"\"),\"\",'Air Flow References'!AO6)","v":""}]
[]
["Complete field 3a or 3b"]
["3a. Static pressure drop in inches of water column W.C. measures across evaporator coil if new installed:",null,null,null,null,null,{"$f":"IF(OR(E18=\"\"),\"\",'Air Flow References'!AO5)","v":""},null,"OR",null,null,"3b. External static pressure for fan coil unit:",null,null,{"$f":"IF(OR(M18=\"\"),\"\",'Air Flow References'!AO7)","v":""}]
[]
["4. Total Static measured with:"]
[]
["5. CFM Air Flow Estimated from Total Static Measurement:",null,null,null,null,null,{"$f":"IF(OR(E22=\"\"),\"\",'Air Flow References'!AO9)","v":""}]
["If this field contains data, no data input is required for the True Flow CFM field below"]
[]
["6. True Flow CFM measured:",null,null,null,null,null,{"$f":"IF(OR(E25=\"\"),\"\",'Air Flow References'!AO8)","v":""}]
["If this field contains data, no data input is required for field 3a/3b and field 5"]
[]
[]
["Installations must have visible and accessible ports for airflow and temperature measurements. Ports must be sealed with contrasting color plugs. Please indicate"]
["location of test ports:"]
[]
["Notes: "]
["Convert Pascals to inches of WC by dividing pascals by 249.09"]
["Copy of table or graph supplied by manufacturer and used to estimate airflow must be attached to this form."]
[]
["Refrigerant Charge Method"]
[]
["Charging Method Used:"]
[]
["Option 1: SUBCOOLING Notes: Typical for most Thermal Expansion Valve systems when outdoor temperature is greater than OEM spec. (Typ. 60°F)"]
[]
["Inputs"]
["Refrigerant Type"]
[]
[]
[]
[]
[]
[null,"Required Subcooling:",null,null,null,"°F",{"$f":"IF(OR(E49=\"\"),\"\",'Air Flow References'!AO16)","v":""}]
[]
[null,"Outdoor Dry Bulb Temperature:",null,null,null,"°F",{"$f":"IF(OR(E51=\"\"),\"\",'Air Flow References'!AO17)","v":""}]
[]
["Measurements"]
[]
["Liquid Line Pressure",null,null,null,null,"psig",{"$f":"IF(OR(E55=\"\"),\"\",'Air Flow References'!AO18)","v":""}]
[]
["(F) Saturation temperature for measured pressure",null,null,null,null,"°F",{"$f":"IF(OR(E57=\"\"),\"\",'Air Flow References'!AO19)","v":""}]
[]
["(G) Liquid Line temperature",null,null,null,null,"°F",{"$f":"IF(OR(E59=\"\"),\"\",'Air Flow References'!AO20)","v":""}]
[]
["*Measured Subcooling (F minus G)",null,null,null,{"$f":"IF(OR(E57=\"\",E59=\"\"),\"\",E57-E59)","v":""},"°F",{"$f":"'Air Flow References'!AO21","v":""}]
[]
["*Measured Subcooling must be within 3°F of the manufacturer specified Subcooling."]
[]
["Note: A copy of the documentation of the manufacturer's specified subcooling for the installed equipment must be attached to this form"]
["Option 2: SUPERHEAT Note: Can only be used for fixed orifice systems (Non-TXV) when outdoor temperature is greater than OEM spec. (Type 55°)"]
[]
["Inputs"]
["Refrigerant Type"]
[]
[]
[]
[]
[null,"Manufacturer Specified Superheat",null,null,null,"°F ",{"$f":"IF(OR(E74=\"\"),\"\",'Air Flow References'!AO28)","v":""}]
[null,"(from manufacturer service guide or as per manufacturer's specification or cut sheet)"]
[]
[null,"Indoor Wet Bulb Temperature",null,null,null,"°F",{"$f":"IF(OR(E77=\"\"),\"\",'Air Flow References'!AO29)","v":""}]
[]
[null,"Outdoor Dry Bulb Temperature",null,null,null,"°F",{"$f":"IF(OR(E79=\"\"),\"\",'Air Flow References'!AO30)","v":""}]
[]
[]
["Measurements"]
[]
["Vapor (suction) pressure",null,null,null,null,"psig",{"$f":"IF(OR(E84=\"\"),\"\",'Air Flow References'!AO31)","v":""}]
[]
["(D) Saturation temperature for measured pressure",null,null,null,null,"°F",{"$f":"IF(OR(E86=\"\"),\"\",'Air Flow References'!AO32)","v":""}]
[]
["(E) Vapor (suction) line temperature near compressor",null,null,null,null,"°F",{"$f":"IF(OR(E88=\"\"),\"\",'Air Flow References'!AO33)","v":""}]
[]
["*Measured Superheat (E minus D)",null,null,null,{"$f":"IF(OR(E86=\"\",E88=\"\"),\"\",E88-E86)","v":""},"°F",{"$f":"'Air Flow References'!AO34","v":""}]
[]
["*Measured Superheat must be within 5°F of the manufacturer specified Superheat."]
[]
["Note: A copy of the documentation of the manufacturer's specified superheat for the installed equipment must be attached to this form."]
["Option 3: Weigh In (can be used for any system ONLY when outdoor ambient temperature is below OEM specification.):"]
[]
["Refrigerant Type:"]
[]
[null,null,null,null,null,null,"(specify)"]
["Capacity of Refrigerant Shipped With Outdoor Unit:"]
[null,null,null,"lbs.",null,"oz."]
[]
[]
["Does this capacity include an allowance for an evaporator?"]
[]
[]
["Does this capacity include an allowance for a line set?"]
[]
[]
["Allowed Line Set Length:",null,null,"feet"]
[]
["(A) Suction Line Outside Diameter",null,null,null,"inches","Net length*",null,"feet","x",null,"ounces/foot","=",null,"ounces"]
[]
["(B) Liquid Line Outside Diameter",null,null,null,"inches","Net length*",null,"feet","x",null,"ounces/foot","=",null,"ounces"]
[]
["(C) Driers, Accumulator, and Evaporator Capacities (if not included above):",null,null,null,null,null,null,null,null,null,null,null,null,"ounces"]
[]
["*Net Length = Measured Length Minus (-) Allowed Length",null,null,null,null,"Total charge weighed in (A) + (B) + (C)",null,null,null,null,null,null,{"$f":"IF(AND(M112=\"\",M114=\"\",M116=\"\"),\"\",M112+M114+M116)","v":""},"ounces"]
[]
[]
[]
["Note: Copy of table or graph supplied by manufacturer and used to estimate charge must be attached to this form."]
[]
["Application Version:",null,{"$f":"Development!$A$4&\"_\"&Development!$A$2","v":"1.1.23_1.0"},null,null,null,null,null,null,null,null,null,null,"Effective:",{"$f":"Development!$A$4","v":"1.1.23"}]

{"sheet":"AIRFLOW FORM 10","index":50,"n_rows":123,"n_cols":15,"rows_kept":123,"cut":false,"hidden":true,"merged":[[117,0,118,4],[117,5,118,10],[117,12,118,12],[117,13,118,13],[70,4,70,5],[98,4,98,5],[99,0,100,1],[21,4,21,5],[28,0,28,12],[29,2,29,11],[37,8,37,9],[44,4,44,5],[24,4,24,5],[14,4,14,5],[14,12,14,13],[17,0,17,3],[17,4,17,5],[17,12,17,13],[0,0,0,9],[1,0,1,9],[4,2,4,3],[4,7,4,8],[6,7,6,8]]}
[{"$f":"Development!$A$3&\" Residential Efficiency Program\"","v":"2023 Residential Efficiency Program"}]
["Post Installation/Airflow & Refrigerant Charge Form"]
["Equipment Data"]
[]
["Unit Number: ",{"$f":"IF('ASHP Equipment Information'!B182=\"\",\"\",'ASHP Equipment Information'!B182)","v":10},null,null,null,null,"Manufacturer",{"$f":"IF('ASHP Equipment Information'!B186=\"\",\"\",'ASHP Equipment Information'!B186)","v":""}]
[]
[null,null,null,null,null,null,"Model No.",{"$f":"IF('ASHP Equipment Information'!B188=\"\",\"\",'ASHP Equipment Information'!B188)","v":""}]
["For Ducted Systems Only"]
[null,"Ducts Tested?",null,"Ducts Sealed?"]
[]
["Airflow"]
[]
["Please fill out all of the below fields as applicable for the installation"]
[]
["1. Rated Cooling Capacity (tons):",null,null,null,null,null,{"$f":"IF(OR(E15=\"\"),\"\",'Air Flow References'!AT4)","v":""},null,null,null,null,"2. Target Airflow Volume (CFM) PER TON:",null,null,{"$f":"IF(OR(M15=\"\"),\"\",'Air Flow References'!AT6)","v":""}]
[]
["Complete field 3a or 3b"]
["3a. Static pressure drop in inches of water column W.C. measures across evaporator coil if new installed:",null,null,null,null,null,{"$f":"IF(OR(E18=\"\"),\"\",'Air Flow References'!AT5)","v":""},null,"OR",null,null,"3b. External static pressure for fan coil unit:",null,null,{"$f":"IF(OR(M18=\"\"),\"\",'Air Flow References'!AT7)","v":""}]
[]
["4. Total Static measured with:"]
[]
["5. CFM Air Flow Estimated from Total Static Measurement:",null,null,null,null,null,{"$f":"IF(OR(E22=\"\"),\"\",'Air Flow References'!AT9)","v":""}]
["If this field contains data, no data input is required for the True Flow CFM field below"]
[]
["6. True Flow CFM measured:",null,null,null,null,null,{"$f":"IF(OR(E25=\"\"),\"\",'Air Flow References'!AT8)","v":""}]
["If this field contains data, no data input is required for field 3a/3b and field 5"]
[]
[]
["Installations must have visible and accessible ports for airflow and temperature measurements. Ports must be sealed with contrasting color plugs. Please indicate"]
["location of test ports:"]
[]
["Notes: "]
["Convert Pascals to inches of WC by dividing pascals by 249.09"]
["Copy of table or graph supplied by manufacturer and used to estimate airflow must be attached to this form."]
[]
["Refrigerant Charge Method"]
[]
["Charging Method Used:"]
[]
["Option 1: SUBCOOLING Notes: Typical for most Thermal Expansion Valve systems when outdoor temperature is greater than OEM spec. (Typ. 60°F)"]
[]
["Inputs"]
["Refrigerant Type"]
[]
[]
[]
[]
[]
[null,"Required Subcooling:",null,null,null,"°F",{"$f":"IF(OR(E49=\"\"),\"\",'Air Flow References'!AT16)","v":""}]
[]
[null,"Outdoor Dry Bulb Temperature:",null,null,null,"°F",{"$f":"IF(OR(E51=\"\"),\"\",'Air Flow References'!AT17)","v":""}]
[]
["Measurements"]
[]
["Liquid Line Pressure",null,null,null,null,"psig",{"$f":"IF(OR(E55=\"\"),\"\",'Air Flow References'!AT18)","v":""}]
[]
["(F) Saturation temperature for measured pressure",null,null,null,null,"°F",{"$f":"IF(OR(E57=\"\"),\"\",'Air Flow References'!AT19)","v":""}]
[]
["(G) Liquid Line temperature",null,null,null,null,"°F",{"$f":"IF(OR(E59=\"\"),\"\",'Air Flow References'!AT20)","v":""}]
[]
["*Measured Subcooling (F minus G)",null,null,null,{"$f":"IF(OR(E57=\"\",E59=\"\"),\"\",E57-E59)","v":""},"°F",{"$f":"'Air Flow References'!AT21","v":""}]
[]
["*Measured Subcooling must be within 3°F of the manufacturer specified Subcooling."]
[]
["Note: A copy of the documentation of the manufacturer's specified subcooling for the installed equipment must be attached to this form"]
["Option 2: SUPERHEAT Note: Can only be used for fixed orifice systems (Non-TXV) when outdoor temperature is greater than OEM spec. (Type 55°)"]
[]
["Inputs"]
["Refrigerant Type"]
[]
[]
[]
[]
[null,"Manufacturer Specified Superheat",null,null,null,"°F ",{"$f":"IF(OR(E74=\"\"),\"\",'Air Flow References'!AT28)","v":""}]
[null,"(from manufacturer service guide or as per manufacturer's specification or cut sheet)"]
[]
[null,"Indoor Wet Bulb Temperature",null,null,null,"°F",{"$f":"IF(OR(E77=\"\"),\"\",'Air Flow References'!AT29)","v":""}]
[]
[null,"Outdoor Dry Bulb Temperature",null,null,null,"°F",{"$f":"IF(OR(E79=\"\"),\"\",'Air Flow References'!AT30)","v":""}]
[]
[]
["Measurements"]
[]
["Vapor (suction) pressure",null,null,null,null,"psig",{"$f":"IF(OR(E84=\"\"),\"\",'Air Flow References'!AT31)","v":""}]
[]
["(D) Saturation temperature for measured pressure",null,null,null,null,"°F",{"$f":"IF(OR(E86=\"\"),\"\",'Air Flow References'!AT32)","v":""}]
[]
["(E) Vapor (suction) line temperature near compressor",null,null,null,null,"°F",{"$f":"IF(OR(E88=\"\"),\"\",'Air Flow References'!AT33)","v":""}]
[]
["*Measured Superheat (E minus D)",null,null,null,{"$f":"IF(OR(E86=\"\",E88=\"\"),\"\",E88-E86)","v":""},"°F",{"$f":"'Air Flow References'!AT34","v":""}]
[]
["*Measured Superheat must be within 5°F of the manufacturer specified Superheat."]
[]
["Note: A copy of the documentation of the manufacturer's specified superheat for the installed equipment must be attached to this form."]
["Option 3: Weigh In (can be used for any system ONLY when outdoor ambient temperature is below OEM specification.):"]
[]
["Refrigerant Type:"]
[]
[null,null,null,null,null,null,"(specify)"]
["Capacity of Refrigerant Shipped With Outdoor Unit:"]
[null,null,null,"lbs.",null,"oz."]
[]
[]
["Does this capacity include an allowance for an evaporator?"]
[]
[]
["Does this capacity include an allowance for a line set?"]
[]
[]
["Allowed Line Set Length:",null,null,"feet"]
[]
["(A) Suction Line Outside Diameter",null,null,null,"inches","Net length*",null,"feet","x",null,"ounces/foot","=",null,"ounces"]
[]
["(B) Liquid Line Outside Diameter",null,null,null,"inches","Net length*",null,"feet","x",null,"ounces/foot","=",null,"ounces"]
[]
["(C) Driers, Accumulator, and Evaporator Capacities (if not included above):",null,null,null,null,null,null,null,null,null,null,null,null,"ounces"]
[]
["*Net Length = Measured Length Minus (-) Allowed Length",null,null,null,null,"Total charge weighed in (A) + (B) + (C)",null,null,null,null,null,null,{"$f":"IF(AND(M112=\"\",M114=\"\",M116=\"\"),\"\",M112+M114+M116)","v":""},"ounces"]
[]
[]
["Note: Copy of table or graph supplied by manufacturer and used to estimate charge must be attached to this form."]
[]
["Application Version:",null,{"$f":"Development!$A$4&\"_\"&Development!$A$2","v":"1.1.23_1.0"},null,null,null,null,null,null,null,null,null,null,"Effective:",{"$f":"Development!A4","v":"1.1.23"}]

{"sheet":"Project Completion Form","index":51,"n_rows":79,"n_cols":11,"rows_kept":79,"cut":false,"hidden":true,"merged":[[0,191,0,200],[0,221,0,230],[1,241,1,250],[0,171,0,180],[1,231,1,240],[1,191,1,200],[0,231,0,240],[1,221,1,230],[0,241,0,250],[0,201,0,210],[1,201,1,210],[0,251,0,255],[1,251,1,255],[0,101,0,110],[1,81,1,90],[1,211,1,220],[1,101,1,110],[0,131,0,140],[0,161,0,170],[0,211,0,220],[0,181,0,190],[0,151,0,160],[1,151,1,160],[1,181,1,190],[1,161,1,170],[1,171,1,180],[0,121,0,130],[1,131,1,140],[1,61,1,70],[4,0,4,1],[4,2,4,5],[4,9,4,11],[1,111,1,120],[1,121,1,130],[2,0,2,11],[1,91,1,100],[1,31,1,40],[1,71,1,80],[1,51,1,60],[22,0,22,11],[0,141,0,150],[0,71,0,80],[0,61,0,70],[0,111,0,120],[0,81,0,90],[0,91,0,100],[0,21,0,30],[0,31,0,40],[0,41,0,50],[0,51,0,60],[1,21,1,30],[1,41,1,50],[3,0,3,11],[1,141,1,150],[5,0,5,1],[18,10,18,11],[18,0,18,2],[7,0,7,1],[7,2,7,5],[10,0,10,11],[8,2,8,5],[8,0,8,1],[5,9,5,11],[6,0,6,1],[5,2,5,5],[15,0,15,11],[6,2,6,5],[5,7,5,8],[30,0,30,11],[27,0,27,11],[42,2,42,8],[42,10,42,11],[32,0,32,1],[32,2,32,8],[34,0,34,1],[35,0,35,11],[34,10,34,11],[36,0,36,11],[37,0,37,11],[40,2,40,8],[34,2,34,8],[28,0,28,11],[29,0,29,11],[33,0,33,1]]}
[{"$f":"Development!$A$3&\" Residential Efficiency Program\"","v":"2023 Residential Efficiency Program"}]
["       Project Completion Form"]
["Use this form to self certify project completion. \nAll customer and installation fields must be completed. Ensure customer name and signature match the account holder of record as found on the PSEG Long Island bill."]
["Customer Information"]
["Account No:",null,{"$f":"IF('Customer Information'!C5=\"\",\"\",'Customer Information'!C5)","v":""},null,null,null,null,null,"Home Phone:",{"$f":"IF('Customer Information'!K9=\"\",\"\",'Customer Information'!K9)","v":""}]
["Customer Name:",null,{"$f":"IF('Customer Information'!C6=\"\",\"\",'Customer Information'!C6)","v":""},null,null,null,null,"Cell Phone:",null,{"$f":"IF('Customer Information'!K10=\"\",\"\",'Customer Information'!K10)","v":""}]
["Installation Address:",null,{"$f":"IF('Customer Information'!C7=\"\",\"\",'Customer Information'!C7)","v":""}]
["Mailing Address:\n(if different than above)",null,{"$f":"IF('Customer Information'!C8=\"\",\"\",'Customer Information'!C8)","v":""}]
["Loan Project ID Number:\n(if applicable)",null,{"$f":"IF('EFS Pre-Approval'!C14=\"\",\"\",'EFS Pre-Approval'!C14)","v":""}]
[]
["Airflow"]
[]
[]
[]
[]
["Installation Information"]
[]
[]
["Installation Completion Date :",null,null,null,null,null,null,null,null,"Project Cost ( as reflected on invoice ) :"]
[]
[null,null,null,null,null,null,null,null,null,null,"Customer Payment:"]
[]
["I would like customer rebate: (check one)"]
[]
[]
[null,"(must complete a Rebate Assignment Form / This option may not be offered by all Contractors)"]
[]
["Customer Verification Statement: "]
[]
["I, the Customer, certify that the equipment listed on the rebate application has been purchased and installed at the address indicated on the application.  I understand that PSEG Long Island reserves the right to verify any equipment purchases or installations which may include a site visit.  I further understand that PSEG Long Island may adjust the incentive amount before issuing the rebate based upon the verification and documentation provided by me or my Contractors responsible for the installation of the equipment."]
["Disclaimer: Terms and conditions are subject to change without notice, including early termination of this promotion. No additional fees apply. The rebate will be issued in the form of a check unless otherwise indicated. PSEG Long Island administers the rebate program on behalf of the Long Island Power Authority, the rebate program sponsor. Please visit www.psegliny.com/efficiency for more details. "]
[]
["Customer Name*:\n(Print)"]
["*Must be the Account Holder of Record"]
["Customer Signature:",null,null,null,null,null,null,null,null,"Date:"]
[]
["Contractor Verification Statement:"]
["I, the Contractor, certify that the equipment listed on the rebate application has been purchased and installed at the address indicated on the application.  I understand that PSEG Long Island reserves the right to verify any equipment purchases or installations which may include a site visit.  I further understand that PSEG Long Island may adjust the incentive amount before issuing the rebate based upon the verification and documentation provided by me or my technicians responsible for the installation of the equipment."]
[null,null,"DO NOT SIGN THIS DOCUMENT UNTIL THE WORK IS 100% COMPLETE"]
[]
["Contractor Name:\n(Print)",null,{"$f":"IF('Customer Information'!C20=\"\",\"\",'Customer Information'!C20)","v":""}]
[]
["Contractor Signature:",null,null,null,null,null,null,null,null,"Date:"]
[]
["Please send all required documents to ",null,null,"HomeComfortLI@pseg.com"]
[]
[]
[]
[]
[]
[]
[]
[]
[]
[]
[]
[]
[]
[]
[]
[]
[]
[]
[]
[]
[]
[]
[]
[]
[]
[]
[]
[]
[]
[]
[]
[]
[]
[null,"Application Version:",{"$f":"Development!$A$2","v":"1.0"},null,null,null,null,null,null,"Effective:",{"$f":"Development!$A$4","v":"1.1.23"}]

{"sheet":"Development","index":52,"n_rows":1033,"n_cols":4,"rows_kept":1033,"cut":false,"hidden":true,"merged":[]}
["All Electric Homes"]
["1.0","Version Number"]
[2023,"Program Year"]
["1.1.23","Effective Date"]
[]
["Date","Description","Initials","Version"]
["5.8.19","Legacy 2019 Home Comfort Application v1.0","MT","1.0_Draft 1.0"]
["5.8.19","Rebate tables on the Worksheet tab were updated to show the new efficiency tier levels and rebates","MT","1.0_Draft 1.0"]
["5.20.19","Added Existing Heating Equipment table to the References tab ","MCR","1.0_Draft 1.2"]
["5.20.19","Added TRUE of FALSE for Beneficial electrification for each existing heating type on the Existing Heating Equipment table","MCR","1.0_Draft 1.2"]
["5.20.19","Added New Construction to both the Existing Heating Tpye and Primary Heating Source check boxes on the Customer Information tab","MCR","1.0_Draft 1.2"]
["5.20.19","Added New Construction and Air Source Heat Pump to the list of Existing Heating Equipment","MCR","1.0_Draft 1.2"]
["5.20.19","Added values for Efficiency, Displacement, and CO2 emissions","MCR","1.0_Draft 1.2"]
["5.20.19","Added Existing Cooling Equipment table to the References tab ","MCR","1.0_Draft 1.2"]
["5.20.19","Updated Baseline EER, Baseline SEER, Baseline HSPF, and Displacement Factor on the Worksheet tab to reference the Existing Heating Equipment table ","MCR","1.0_Draft 1.2"]
["5.20.19","Updated rebates on the References tab to be consistent with the proposal","MCR","1.0_Draft 1.2"]
["5.20.19","Reduced the size of the New Equipment Type drop down on the Worksheet tab to only include this offering","MCR","1.0_Draft 1.2"]
["5.20.19","Moved Naming tab information to table in References tab, and deleted the Naming tab","MCR","1.0_Draft 1.2"]
["5.20.19","Updated the Prop0 formulas to reference the References tab instead of the Naming tab","MCR","1.0_Draft 1.2"]
["5.20.19","Updated the Tier EER SEER and HSPF values on the Reference tab to be consistent with the proposal","MCR","1.0_Draft 1.2"]
["5.21.19","Added Pre Inspection tab","MCR","1.0_Draft 1.3"]
["5.21.19","Changed the name of the Inspection Form Tab to say Post Inspection Form","MCR","1.0_Draft 1.3"]
["5.21.19","Added True/False for each heating equipment type able to be selected on the Customer Information tab","MCR","1.0_Draft 1.3"]
["5.22.19","Moved hidden calculation in the Worksheet tab to the Qualifying Index tab","MCR","1.0_Draft 1.3.1"]
["5.22.19","Added Existing Building and New Construction option buttons to the Customer Information tab and put them in a Group box","MCR","1.0_Draft 1.3.1"]
["5.22.19","Shifted columns for Unit Efficiency on the Worksheet tab to columns J:M","MCR","1.0_Draft 1.3.1"]
["5.22.19","Added the Existing Equipment Type and Efficiency to colmns P:S on the Worksheet tab","MCR","1.0_Draft 1.3.1"]
["5.22.19","Added the Existing Equipment Operation, Manufactur, and Model to colmns O51:S61 on the Worksheet tab ","MCR","1.0_Draft 1.3.1"]
["5.23.19","Wrote marco to hide and unhide Columns O:S on the Worksheet tab depending on whather the project is for a Existing Building or New Construction. Macro will also clear contents when hidden.","MCR","1.0_Draft 1.3.1"]
["5.23.19","Moved Smart Thermostat check box, QIV contractor check box, and Clear All button Worksheet tab so that columns could hide without objects error","MCR","1.0_Draft 1.3.1"]
["5.24.19","Added Ductless Mini Split and Other to list of existing equipment on the References tab, and expanded the drop down on the worksheet tab","MCR","1.0_Draft 1.3.1"]
["5.24.19","Adjust the Prop0 to the Mater Prop0 layout","MCR","1.0_Draft 1.3.1"]
["5.24.19","Adjusted the Existing Equipment table on the Reference tab to organize by fuel type and equipment type","MCR","1.0_Draft 1.3.1"]
["5.24.19","Added Tonnage to Existing Equipment on the Worksheet tab","MCR","1.0_Draft 1.3.1"]
["5.28.19","Added Cooling and Heating Savings section to the Qualifying Index tab","MCR","1.0_Draft 1.3.2"]
["5.28.19","Cooling and Heating Savings will calculte the cooling kW, kWh, MMBTU, and CO2 savings, as well as the heating kW, kWh, MMBTU beneficial electrification, and kW, kWh, MMBTU, and CO2 savings","MCR","1.0_Draft 1.3.2"]
["5.28.19","Mapped the correct savings value to the right column of the Prop0 tab","MCR","1.0_Draft 1.3.2"]
["5.28.19","Extended Prop0 tab to include field from Comprehensive lighting, FT lighting, Outdoor Lighting, HVAC, Refrigeration, Standard, HPDI, REAP, and Geothermal Applications. This application will have the first master Prop0 tab","MCR","1.0_Draft 1.3.2"]
["5.29.19","Removed QIV language","MCR","1.0_Draft 1.3.2"]
["5.29.19","Removed pink comments from Customer Information, T&Cs, Required Documents, and Guidelines","MCR","1.0_Draft 1.3.2"]
["5.29.19","Changed the application submission date from January 1, 2019 to the effective date of the application","MCR","1.0_Draft 1.3.2"]
["6.5.19","Customer Information tab: added field to collect square footage of home","MT","1.0_Draft 1.3.4"]
["6.5.19","Adjusted row heights and column width on guidelines tab so text can be fully visible.","MT","1.0_Draft 1.3.4"]
["6.5.19","Corrected typo on guidelines tab","MT","1.0_Draft 1.3.4"]
["6.5.19","On worksheet tab: merged and centered cells for input of serial number under Installed System Specifications section","MT","1.0_Draft 1.3.4"]
["6.5.19","Hid formulas within tables on both inspection tabs","MT","1.0_Draft 1.3.4"]
["6.5.19","Locked all cells not requiring data input on inspection tabs","MT","1.0_Draft 1.3.4"]
["6.6.19","Formatted PSEG-LI Logos across each tab","MT","1.0_Draft 1.3.4"]
["6.6.19","Changed settings for QIV Contractor checkbox on the Worksheet tab to move and size with cells","MCR","1.0_Draft 1.3.4"]
["6.6.19","Hid rows that are connected to the QIV Contractor checkbox so the checkbox will also be hidden","MCR","1.0_Draft 1.3.4"]
["6.6.19","Removed \"Check her to Assign Rebate\" check box because it is already checked under Rebate Payment Method in the section above","MCR","1.0_Draft 1.3.4"]
["6.6.19","Moved the formula that shos/hides the Assignment Form tab to the \"Assigned Installation Contractor\" check box","MCR","1.0_Draft 1.3.4"]
["6.6.19","Reinstated the Ductless HP options in the table on the Worksheet tab with the old teir values of 18 SEER and 8.5 or 10 HSPF","MCR","1.0_Draft 1.3.4"]
["6.6.19","Added new rebate and incentive values to the Ductless HPs on the Worksheets tab table","MCR","1.0_Draft 1.3.4"]
["6.6.19","Added the Word \"Ducted\" before all non-ductless heat pumps listed on the Worksheet tab table","MCR","1.0_Draft 1.3.4"]
["6.7.19","Require ccASHP for new construction Whole House Solutions","MCR","1.0_Draft 1.3.5"]
["6.7.19","Added Option 3 on Airflow Form","MCR","1.0_Draft 1.3.5"]
["6.7.19","Noted that Option 1 was the preferred method for Airflow testing on the Airflow tab","MCR","1.0_Draft 1.3.5"]
["6.7.19","On the Qualifying Index tab the logic for Equipment + Tier was updated to say <> CAC PTHP or Ductless, as opposed to = ASHP or Ductless HP","MCR","1.0_Draft 1.3.5"]
["6.7.19","Added EE and BE CO2 columns to Prop 0 which will reference the CO2 savings calculated on the Qualifying index tab","MCR","1.0_Draft 1.3.5"]
["6.7.19","Added Heating CO2 Savings from kWh and ff to Qualifying Index tab to properly separate out the CO2 savings","MCR","1.0_Draft 1.3.5"]
["6.7.19","Updated Product Names and Measure codes to be more consistan with the current method to set up Measure Codes","MCR","1.0_Draft 1.3.5"]
["6.7.19","Added Ducted ccASHP EH Tier II, Ductless Mini Split - ASHP EH Tier II, and Ductless Mini Split - ccASHP EH Tier II to the Rebate lookup table on the References tab","MCR","1.0_Draft 1.3.5"]
["6.7.19","Updated the table on the worksheet to only reflect the ccASHPs offered for New Construction Whole House Solutions","MCR","1.0_Draft 1.3.5"]
["6.7.19","Adjusted Existing Building/ New Construction button code to clear the new Existing equipment table range","MCR","1.0_Draft 1.3.5"]
["6.7.19","Added space on the Post Inspection form to collect secondary heating systems as well as integrated controls","MCR","1.0_Draft 1.3.5"]
["6.7.19","Added Requirement for Integrated Controls on the Guidelines tab","MCR","1.0_Draft 1.3.5"]
["6.7.19","Added check box for Integrated controls on the Worksheet tab","MCR","1.0_Draft 1.3.5"]
["6.7.19","Added row for Integrated controls on the Prop0, Only populated fields for Product Line, Class, Name, Measure Code, Savings (0), and Rebate. Currently not requiring additional info on controls.","MCR","1.0_Draft 1.3.5"]
["6.7.19","Added Integrated controls to the table on the Worksheet tab","MCR","1.0_Draft 1.3.5"]
["6.7.19","Updated language prefacing Assignment Letter","MT","1.0_Draft 1.3.5"]
["6.7.19","Updated Terms & Conditions and Guidelines with new policy related to secondary heating source. Updated Guidelines to reflect newsizing requirements ","MT","1.0_Draft 1.3.5"]
["6.10.19","Added QIV factor savings to Heating EE kW and kWh savings on the Qualifying Index","MCR","1.0_Draft 1.3.6"]
["6.10.19","Updated Winter kW Savings to be depndant on whether the heating is EE or BE","MCR","1.0_Draft 1.3.6"]
["6.10.19","Chnaged the Qualifying Index to always have negative kW for BE savings","MCR","1.0_Draft 1.3.6"]
["6.10.19","Added an \"IF\" statement to the Integrated Controls on the Prop0 tab so savings will apear as \"\" if there are no Integrated controls","MCR","1.0_Draft 1.3.6"]
["6.12.19","Worksheet tab: split eligibility and rebate table into two; one for new construction and the other for electric resistance heating customers","MT","1.0_Draft 1.3.7"]
["6.12.19","Increased row height on Terms & Conditions tab so text is legible","MT","1.0_Draft 1.3.7"]
["6.12.19","Required Documents Tab: made sure manual j requirement applied to heating and cooling load calculations","MT","1.0_Draft 1.3.7"]
["6.13.19","Moved Worksheet tables to be one on top of the other","MCR","1.0_Draft 1.3.8"]
["6.13.19","Added PopUp and Note on Customer Information to notify the contractor this offering is only available to NC whole house or existing ER","MCR","1.0_Draft 1.3.8"]
["6.13.19","Added Learning vs Connected table to references to differentiate between ENERGYSTAR rated Learning/geofencing thermostats, and ones only with Wifi capability","MCR","1.0_Draft 1.3.8"]
["6.13.19","Added Smart Tstat Savings calcs to Qualifying index using ASHP real data or TRM assumptions","MCR","1.0_Draft 1.3.8"]
["6.13.19","Smart Tstat Savings will follow the original Index and Match protocol for connected thermostats, and will calculate using HVAC info and energy savings factors for Leanring thermostats","MCR","1.0_Draft 1.3.8"]
["6.13.19","Populated Qualifying Index Smart Tstat saving to Prop0","MCR","1.0_Draft 1.3.8"]
["6.13.19","Ductless ccASHP tier 2 was changed to be be $1000 per ton. It was incorrectly written as $800","MCR","1.0_Draft 1.3.9"]
["6.13.19","Rebate calculation on the Worksheet was updated to search if References cell H14 was blank instead of G14","MCR","1.0_Draft 1.3.9"]
["6.13.19","Updated Coincidence factor to be 65% to be consistant with the ODC TRM","MCR","1.0_Draft 1.3.9"]
["6.13.19","Measure codes for whole House Solutions were updated to show WH-NC for whole house new construction","MCR","1.0_Draft 1.3.9"]
["6.14.19","Increased row height on Terms & Conditions tab even more so text is legible","MT","1.0_Draft 1.4"]
["6.18.19","Draft 1.0 approved by client and ready for release. ","MT",1]
["7.9.19","Fixed QIV kWh savings to allow heating QIV savings when \"Ducted ccASHP\" is selected. Previously, it was only for \"Ducted ASHP\".","MCR","1.1_Draft 1.0"]
["7.9.19","Adjusted formatting for SqFt. On Customer Information tab. Previously it was following the phone number format","MCR","1.1_Draft 1.0"]
["7.9.19","Added \"WH\" to the Product Name of Whole House Heat Pumps","MCR","1.1_Draft 1.0"]
["7.9.19","Removed \"EE\" from renamed savings fields to make mapping easier for the first iteration of the Master Prop0","MCR","1.1_Draft 1.0"]
["7.9.19","Updated formula on References tab I36:N36 to allow formulas to work when NC is selected without a source or primary heating","MCR","1.1_Draft 1.0"]
["7.9.19","Updated EE and BE MMBTU formulas on Prop0 to have positive kWh MMBTU (Heating MMBTU Savings (kWh)) savings be counted as EE MMBTU and Negative kWh MMBTU counted as BE MMBTU","MCR","1.1_Draft 1.0"]
["7.10.19","Mapped Building SqFt to Prop0 column DW","MCR","1.1_Draft 1.1"]
["7.10.19","Changed contractor incentive to reference ReferencesH36 instead of ReferencesG14, because incentive was not appearing if NC was selected w/o a heating source or equipment","MCR","1.1_Draft 1.1"]
["7.11.19","Changed rounding values on Reference tab to be 7 and 5 for kW and kWh savings respectively","MCR","1.1_Draft 1.1"]
["7.11.19","Customer and contractor information were not populating to the Pre-Isection Form tab. Formulas were added to match the Post-Inspection Form tab.","MCR","1.1_Draft 1.1"]
["7.23.19","EFLH was correctly displayed for calculations, but incorrectly mapped to Prop0. Prop0 Full load hours now reference the Qualifying Index tab","MCR","1.1_Draft 1.2"]
["7.23.19","Added NOT ISNUMBER function for Existing equipment logic on the Qualifying Index to avoid non-number values from being used in formulas","MCR","1.1_Draft 1.2"]
["7.23.19","Changed Qualifying Index Winter kW calcs to reference HSPF not EER","MCR","1.1_Draft 1.2"]
["7.24.19","Changed font and border colors, and logos to match LM colors and logos on all tabs","MCR","1.1_Draft 1.2"]
["7.25.19","Changed Winter kW to look at heating efficiencies ","MCR","1.1_Draft 1.3"]
["7.25.19","Changed NC SEER baseline to 14 SEER to be consistant with the WH proposal ","MCR","1.1_Draft 1.3"]
["7.25.19","Rounded rebate to the nearest dollar","MCR","1.1_Draft 1.3"]
["7.29.19","Removed \"New Construction\" from the Elecrtic Heating table on the Worksheet","MCR","1.1_Draft 1.4"]
["7.29.19","Removed Coincidence Factor from Winter kW Savings as there is not Winter Peak yet","MCR","1.1_Draft 1.5"]
["7.31.19","Worksheet: Updated number formatting in \"existing\" table for cooling btuh","ED","1.1_Draft1.6"]
["7.31.19","Prop 0: Updated formula in Column K (Gross Winter kW) to drag down References I36 to all equipment lines","Ed","1.1_Draft1.7"]
["7.31.19","Qualifying Index: Column BC - Changed formula to reference column AJ instead of AI","ED","1.1_Draft1.7"]
["7.31.19","Prop 0: kW and MMBTU BE/EE Formulas dragged down","ED","1.1_Draft1.7"]
[]
["8.6.19","Locked up and finalized workbook per client approval; updated effective date to 8.6.2019 and version to 1.0 since this is the first INTERNAL version of the workbook","ED",1]
[]
["9.18.19","Reference: Changed the Ductless mini split ccASHP Tier 2 for Electric Heat measure code from CH302 to CH220","MCR","draft1.0"]
["9.18.19","Reference: Changed the Ductless mini split ccASHP Tier 2 for Whole House measure code from CH313 to CH220","MCR","draft1.0"]
["9.18.19","Reference: Changed the Ducted ccASHP Tier 2 for Electric Heat measure code from CH312 to CH221","MCR","draft1.0"]
["9.18.19","Reference: Changed the Ducted ccASHP Tier 2 for Whole House measure code from CH312 to CH221","MCR","draft1.0"]
["9.18.19","Refrences: Updated contractor incentive from $500 to $1,500 this will be effective for Sept 1st through October 31st","MCR","draft1.0"]
["9.18.19","Worksheet: changed Contractor Incentive on electric heat  eligibility table from $500 to $1,500","MCR","draft1.0"]
[]
["10.17.19","Early release of Whole House Application with senarios 2 & 3 available","MCR","2.0_draft1.0"]
["10.17.19","Customer Information: Added \"Whole House Existing Building\" and \"Whole House New Construction\" Option buttons","MCR","2.0_draft1.0"]
["10.17.19","Customer Information: Linked new Option buttons to References A21 & Macro","MCR","2.0_draft1.0"]
["10.17.19","References: Added a Whole House TRUE FALSE in C21","MCR","2.0_draft1.0"]
["10.17.19","Qualifying_Index: Added Column I to track which WH scenario is true","MCR","2.0_draft1.0"]
["10.17.19","Qualifying_Index: Cooling and Heating EFLH will change based on whether the project is Whole house, new constrcution, etc.","MCR","2.0_draft1.0"]
["10.17.19","Qualifying_Index: Revised New or Retrofit column to include Whole House","MCR","2.0_draft1.0"]
["10.17.19","Qualifying_Index: Revised New Equipment + Tier to include Whole House Scenario","MCR","2.0_draft1.0"]
["10.17.19","References: Added Scenarios 2 & 3 from 2020 Master Internal Resi draft 1.2.2","MCR","2.0_draft1.0"]
["10.18.19","Qualifying_Index: Adjusted rebate formula to include new Whole House scenarios","MCR","2.0_draft1.1"]
["10.18.19","Qualifying Index: Adjusted formulas in AG AH AJ AK to check if project is Whole House instead of New Construction","MCR","2.0_draft1.1"]
["10.18.19","Worksheet: Expanded rebate table","MCR","2.0_draft1.2"]
[]
["10.18.19","Change to External worksheet: Remove \"INTERNAL\", change colors to orange, logos are all PSEGLI","MCR","2.0_draft1.0"]
[]
["10.22.19","Worksheet: Changed logic in P38  formula to include Whole House New Construction","MCR","2.0_draft1.1"]
["10.22.19","Worksheet: Removed tables","MCR","2.0_draft1.1"]
["10.22.19","Added new tab \"Tables\"","MCR","2.0_draft1.1"]
["10.22.19","Tables: Recreated Electric Heat and Whole House eligibility tables","MCR","2.0_draft1.1"]
["10.22.19","Worksheet: Copied tables from \"Tables\" as pictures","MCR","2.0_draft1.1"]
["10.22.19","Customer Macro: Added two new Macros for the two Whole House option buttons that will trigger a pop up explaining the main criteria for whole house","MCR","2.0_draft1.1"]
["10.22.19","Customer Macro: Added two new Macros for the two Whole House option buttons that will trigger a pop up explaining the main criteria for whole house","MCR","2.0_draft1.1"]
["10.22.19","References: Changed H14 formula to include Whole House New Construction","MCR","2.0_draft1.1"]
["10.22.19","Qualifying_Index: Changed New or Retrofit to look for Whole House first","MCR","2.0_draft1.1"]
["11.4.19","References: Added Integrated Controls Section Listing Manufactures, and Models for both Dual Fuel Thermostats and Integrated controls. Based on masssave 10/18 list","MCR ","2.0_draft1.2"]
["11.4.19","Integrated Controls: Copied Dual Fuel Thermostat Tab and renamed \"Integrated Controls\"","MCR ","2.0_draft1.2"]
["11.4.19","Integrated Controls: Hid all but one row for User inputs","MCR ","2.0_draft1.3"]
["11.4.19","Integrated Controls: Linked drop downs to new Integrated Controls section in References. Manufacturers will update based on whether Thermostat or Control is selected.","MCR ","2.0_draft1.3"]
["11.4.19","Integrated Controls: Updated Customer and Contractor incentive based on 10/30/19 meeting. Contractor will get larger incentive for their labor.","MCR ","2.0_draft1.3"]
["11.4.19","Integrated Controls: Updated Instructions","MCR ","2.0_draft1.3"]
["11.4.19","Integrated Controls: Changed the eligibilty explanation in row 4 to be more relevant for dual fuel thermostats and integrated controls","MCR ","2.0_draft1.3"]
["11.4.19","Worksheet: Linked Integrated Control Check box to Integrated control sheet to hide/unhide","MCR ","2.0_draft1.3"]
["11.4.19","Worksheet: Removed Integrated Control incentive","MCR ","2.0_draft1.3"]
["11.4.19","Integrated Control: Added Contractor Incentive Column to table","MCR ","2.0_draft1.3"]
["11.4.19","Qualifying_Index: Added Integrated controls Section","MCR ","2.0_draft1.3"]
["11.4.19","Prop0: Linked Savings for integrated controls to the Qualifying Index","MCR ","2.0_draft1.3"]
["11.4.19","Prop0: Linked customer and contractor incentives, manufacturer, and model for integrated controls to the Integrated controls tab","MCR ","2.0_draft1.3"]
["11.4.19","Integrated Controls: Added instructions for smart thermostats","MCR ","2.0_draft1.3"]
["11.5.19","Qualifying_Index: Added Logic for SEER, HSPF Teirs 1 and 2 to find EH specific Minimum efficiencies","MCR","2.0_draft 1.4"]
["11.5.19","References: Populated Minimum efficiencies for Ductless ccASHP EH replacements","MCR","2.0_draft 1.4"]
["11.5.19","Integrated Controls: Deleted the Customer Incentive column","MCR","2.0_draft 1.4"]
["11.5.19","Integrated Controls: Chnaged Contractor Incentive to $500","MCR","2.0_draft 1.4"]
["11.6.19","References: Chnaged \"Air Source HP\" to \"Ducted Air Source HP\"","MCR","2.0_draft 1.4.1"]
["11.6.19","Qualifying Index:  Added logic to Whole House Scenario to generate scenario 3 for existing ducted ASHPs","MCR","2.0_draft 1.4.1"]
["11.7.19","Worksheet: Changed instructions to inform user to fill in the Customer Inouts tab first","MCR","2.0_draft 1.4.2"]
["11.7.19","Customer Information: Updated language at the top to explain which customers are eligible for the two rebate offerings on this application.","MCR","2.0_draft 1.4.2"]
["11.8.19","Integrated Controls: Switched Rebate back to Customer","MCR","2.0_draft 1.4.3"]
["11.8.19","Prop0: Moved Contractor incentive to Customer Rebate column","MCR","2.0_draft 1.4.3"]
["11.14.19","HPwES: Moved from PSEGLI_2020 Home Comfort_VERSION draft_2.4","MCR","1.0_draft 2.5"]
["11.14.19","HPwES H&S: Moved from PSEGLI_2020 Home Comfort_VERSION draft_2.4","MCR","1.0_draft 2.5"]
["11.14.19","References: Cut and Paste HP tables on draft 2.4 Reference tab to this Reference tab","MCR","1.0_draft 2.5"]
["11.14.19","HPwES: Changed Data Validation to use Offset formula for D110, J110, D122, J122, & D134","MCR","1.0_draft 2.5"]
["11.14.19","References: Cut and Paste DHW tabled from 2020 HPDI draft 4 References tab to this References tab","MCR","1.0_draft 2.5"]
["11.14.19","Customer Information: added 2 rows below Application Type & Named row Project Type","MCR","1.0_draft 2.5"]
["11.14.19","Customer Information: added 2 Check Boxes to Project Type called \"Whole House\" & \"Income Eligible\"","MCR","1.0_draft 2.5"]
["11.14.19","Customer Information: Linked \"Whole House\" check box to References cell C21","MCR","1.0_draft 2.5"]
["11.14.19","Customer Information: Linked \"Income Eligible\" check box to References cell C17","MCR","1.0_draft 2.5"]
["11.14.19","Macro: Added macro for \"Whole House\" (checkbox1) so that when TRUE a pop-up explains what whole house is","MCR","1.0_draft 2.5"]
["11.14.19","Macro: Added macro for \"Income Eligible\" (chackbox3) so that when TRUE a pop-up explains where they can learn if they are income eligible","MCR","1.0_draft 2.5"]
["11.15.19","Tables: Added Regular HC offerings table","MCR","1.0_draft 2.6"]
["11.25.19","Name Manager: Remove duplicate names","MCR","1.0_draft 2.7"]
["11.25.19","Qualifying Index: Added HPwES Duct Sealing table for calcs","MCR","1.0_draft 2.7"]
["11.25.19","Qualifying Index: Added HPwES Duct Sealing table to HPwES tab Heating and cooling information","MCR","1.0_draft 2.7"]
["11.25.19","References: Created a new table under Home Performance to show all locations for the duct sealing ","MCR","1.0_draft 2.7"]
["11.25.19","References: Added columns to new table for TRF and Distribution efficiency","MCR","1.0_draft 2.7"]
["11.25.19","Qualifying idex: Separated Heating and Cooling information from duct information on Duct Sealing table","MCR","1.0_draft 2.7"]
["11.25.19","Qualifying idex: Added third section under duct sealing for savings calcs","MCR","1.0_draft 2.8"]
["11.27.19","References: Filled out TRF and Distribution efficiency table","MCR","1.0_draft 2.8"]
["11.27.19","Qualifying Index: Linked Duct information table to References tab"]
["12.1.19","Ref Tab: Added table : Duct Attribute - Instulation (Added to name Manager)","ED","1.0_Draft2.9"]
["12.1.19","Ref Tab: Added \"Heating & Cooling 1\" and \"Heating & Cooling 2\" to Heating/Cooling Table (Updated Name Manager as needed)","ED","1.0_Draft2.9"]
["12.1.19","HPwES Tab: Added Heating & Cooling 2\" section under Heating and Cooling","ED","1.0_Draft2.9"]
["12.1.19","HPwES Tab: Heating and Cooling Section - Added \"btu\" after Heating and Cooling Capacity fields","ED","1.0_Draft2.9"]
["12.1.19","HPwES Tab: Added %Heating and % Cooling fields under Heating and Cooling Section","ED","1.0_Draft2.9"]
["12.1.19","HPwES Tab: Added field for \"Total Ductwork Performed\" under Duct Sealing Section","ED","1.0_Draft2.9"]
["12.1.19","HPwES Tab: Added \"Location Attribute\" field under Duct Sealing for Crawl Space Insulated/Uninsulated","ED","1.0_Draft2.9"]
["12.1.19","HPwES Tab: Changed Duct Square Footage to Linear Footage","ED","1.0_Draft2.9"]
["12.1.19","HPwES Tab: Added Location 3 under duct sealing section","ED","1.0_Draft2.9"]
["12.2.19","HPwES H&S: Removed references to Home Comfort draft 2.4_Testing Development tab","MCR","1.0_Draft3.0"]
["12.3.19","Project Completion Form HPwES Tab: Added tab per current HPwES requirements","ED","1.0_Draft 3.1"]
["12.05.19","Ref Tab: Added in Wall Insulation and Ceiling Insulation Tables per NYS TRM V 7 ","ED","1.0_Draft 3.3"]
["12.06.19","HPwES Tab: Added conditional formatting to duct section to hide \"Location Attribute\" fields unless Crawl Space is selected"]
["12.06.19","HPwES Tab: Removed option for \"Cooling\" and \"heating\" from system drop down and replaced with \"Heating and Coolin (1)\" and \"Heating and Cooling (1&2)\""]
["12.06.19","Name Manager: Changed Duct_Location range","MCR","1.0_Draft 3.5"]
["12.06.19","References: Added Unconditioned Basement Uninsulated to Duct Location & TRF table","MCR","1.0_Draft 3.5"]
["12.06.19","References: Expanded Duct Attribute table","MCR","1.0_Draft 3.5"]
["12.06.19","Qualifying Index: Added Additional Attribute and Duct Info columns to Duct Information Table under Duct Sealing","MCR","1.0_Draft 3.5"]
["12.06.19","Qualifying Index: Linked Additional Attribute to HPwES tab","MCR","1.0_Draft 3.5"]
["12.06.19","Qualifying Index: Updated TRF formulas","MCR","1.0_Draft 3.5"]
["12.06.19","Qualifying Index: Added Heating 1 Fuel and Heating 2 Fuel to HVAC Info Table under Duct Sealing","MCR","1.0_Draft 3.5"]
["12.09.19","HPwES: Changed Data Validation for Duct Attribute to reference different cells for Crawl Spaces","MCR","1.0_Draft 3.6"]
["12.09.19","References: Differentiated between Electric Resistance and Electric Heat Pump for Heating Sources under Home Performance w/ ES","MCR","1.0_Draft 3.6"]
["12.09.19","Qualifying Index added Air Sealing Information table which will Show CFM50 info, HVAc info for kWh/CFM lookups, kW/CFM lookups, and Therm/CFM lookups","MCR","1.0_Draft 3.6"]
["12.09.19","HPwES: Changed Existing R-Value data validation for Insulation to greater than or equal to 0","MCR","1.0_Draft 3.6"]
["12.09.19","Qualifying Index: Added Insulation Info Tbale","MCR","1.0_Draft 3.6"]
["12.09.19","References: Expanded Insulation tables to include \"in between\" values of installed insulation. Values found through linear interpolation","MCR","1.0_Draft 3.6"]
["12.10.19","References: Added a table for Existing and Installed R Values - Added both to Name Manager - \"Insulation_Existing_Rvalue\" and \"Insulation_Installed_Rvalue\"","ED","1.0_Draft3.7"]
["12.10.19","HPwES Tab: Added Total Cost and Rebate fields to each section (Duct Sealing, Air Sealing, and Insulation)","ED","1.0_Draft3.7"]
["12.10.19","HPwES Tab: Insulation - Existing R Value and R Value Installed fields - Added data validation to both fields to populate with drop down selections based on \"Insulation_Existing_Rvalue\" \nand \"Insulation_Installed_Rvalue\"","ED","1.0_Draft3.7"]
["12.10.19","HpwES Tab: Air Sealing - Added \"cubic feet\" after Conditioned Air Volume","ED","1.0_Draft3.7"]
["12.10.19","References: Expanded Insulation tables to include \"in between\" values of installed insulation. Values found through linear interpolation (done for HVAC:Heat Pump)","ED","1.0_Draft3.7"]
["12.11.19","References: Expanded Insulation tables to include \"in between\" values of installed insulation. Values found through linear interpolation (done for HVAC: AC with Electric Heart)","Ed","1.0_Draft3.8"]
["12.11.19","HPwES Tab: Removed drop down data validation from R-Value fields- Updated fields to reflect Whole Number Data Validation and added validation to ensure installed R value is greater than existing","ED","1.0_Draft3.8"]
["12.11.19","References: Expanded Insulation tables to include \"in between\" values of installed insulation. Values found through linear interpolation (done for Ceiling HVAC:AC with Gas)","MCR","1.0_Draft3.9"]
["12.11.19","References: Expanded Insulation tables to include \"in between\" values of installed insulation. Values found through linear interpolation (done for Ceiling HVAC:AC with Electric Heat)","MCR","1.0_Draft3.9"]
["12.11.19","References: Expanded Insulation tables to include \"in between\" values of installed insulation. Values found through linear interpolation (done for Ceiling HVAC:Heat Pump)","MCR","1.0_Draft3.9"]
["12.11.19","References: Expanded Insulation tables to include \"in between\" values of installed insulation. Values found through linear interpolation (done for Ceiling HVAC:Gas Heat only)","MCR","1.0_Draft3.9"]
["12.11.19","References: Expanded Insulation tables to include \"in between\" values of installed insulation. Values found through linear interpolation (done for Ceiling HVAC:Electric Heat only)","MCR","1.0_Draft3.9"]
["12.11.19","Qualifying Index: Finished Calculating Delta (kW,kWh,therms)/1000 sqft","MCR","1.0_Draft3.9"]
["12.11.19","Qualifying Index: Removed extra rows from Duct Sealing, Air Sealing, and Insulation","MCR","1.0_Draft3.9"]
["12.11.19","References: Updated Distribution Efficiencies for Duct Sealing to Average R-4+ and R-8+ Insulation for post sealing efficiency","MCR","1.0_Draft3.9"]
["12.12.19","References: Expanded Insulation tables to include \"in between\" values of installed insulation. Values found through linear interpolation (done for HVAC: Electric Heat No AC)"]
["12.12.19","References: Expanded Insulation tables to include \"in between\" values of installed insulation. Values found through linear interpolation (done for HVAC: Gas Heat No AC)"]
["12.12.19","HPwES Tab: Ductwork - Added a field to each duct section to collect \"R-Vaue Installed\""]
["12.12.19","HPwES Tab: Ductwork - Added a field to capture \"System Impacted\" - Added a drop down from the Name Manager \"Ductwork_HeatingCooling_System\""]
["12.12.19","Ref Tab: Added a table for Duct Heating and Cooling System - Added to Name Manager"]
["12.12.19","Qualifying Index: Added logic for HVAC portion of Duct Sealing","MCR","1.0_Draft4.2"]
["12.13.19","Worksheet: Removed Conditional Formatting in H52:H61 so that you do not have to enter \"HP\". All systems should be heat pumps","MCR","1.0_Draft4.3"]
["12.13.19","Worksheet: Expanded C52:C61 Data Validation to include PTHPs","MCR","1.0_Draft4.3"]
["12.13.19","Customer Information: Chnaged \"Customer Name\" to \"Account Holder Name\"","MCR","1.0_Draft4.3"]
["12.13.19","Qualifying Index: Adjusted Manual J Pass/Fail to require Manual J for all Whole House Systems, and Ducted non-Whole House only","MCR","1.0_Draft4.3"]
["12.13.19","Qualifying Index: Added Heating FF Laod to Duct Info under Duct sealing","MCR","1.0_Draft4.3"]
["12.13.19","Qualifying Index: Changed Logic in Savings formula to account for new Manual J PASS/FAIL criteria","MCR","1.0_Draft4.3"]
["12.16.19","Qualifying Index: Adjusted Dut Sealing Savings","MCR","1.0_Draft4.4"]
["12.17.19","Qualifying Index: Adjusted Air Sealing Savings","MCR","1.0_Draft4.5"]
["12.17.19","Qualifying Index: Adjusted Insulation Savings","MCR","1.0_Draft4.5"]
["12.17.19","References: Created a HP measure codes table","MCR","1.0_Draft4.5"]
["12.17.19","Qualifying Index: Added Duct Sealing lookup","MCR","1.0_Draft4.5"]
["12.17.19","Qualifying Index: Added Air Sealing lookup","MCR","1.0_Draft4.5"]
["12.17.19","Qualifying Index: Added Insulation lookup","MCR","1.0_Draft4.5"]
["12.17.19","HPwES: Changed formulas in C146, I146, C158, I158, C170, and I170 to look for \"Basement Ceiling\"","MCR","1.0_Draft4.5"]
["12.17.19","HPwES: Changed Conditional formatting in D146, J146, D158, J158, D170, and J170 to look for \"Basement Ceiling\"","MCR","1.0_Draft4.5"]
["12.17.19","References: Changed Sealing to Ceiling in cell AN68","MCR","1.0_Draft4.5"]
["12.17.19","References: Added Rebate lookup table","MCR","1.0_Draft4.5"]
["12.17.19","Qualifying Index: Added Rebate calculation to all three measures","MCR","1.0_Draft4.5"]
["12.17.19","HPwES: Linked Rebate to Qualifying Index tab calculations","MCR","1.0_Draft4.5"]
["12.17.19","Prop0: Linked Measure codes to Qualifying Index tab","MCR","1.0_Draft4.5"]
["12.17.19","EFS Pre-Approval Tab: Added this new tab to build  EFS Loan approval letter using fields provided by Steve Wagner"]
["12.17.19","Macro: Udated Check box Macro for Whole House, Income Eligible, and Electric Resistance to Hide/Unhide tables","MCR","1.0_Draft4.7"]
["12.18.19","References: Extended Rebate lookup table to include LMI rebates","MCR","1.0_Draft4.8"]
["12.18.19","Qualifying Index: Changed Rebate calculations for HP measures to change to LMI if \"Income Eligible\" is selected","MCR","1.0_Draft4.8"]
["12.18.19","Macro: Module5: Un-comment New Construction Option button","MCR","1.0_Draft4.8"]
["12.18.19","Macro: Module5: Change New Construction Clear range to be consistent with added rows, and move unlock to after the clear content","MCR","1.0_Draft4.8"]
["12.18.19","References: Added Gas/Oil split for New Construction in table N2:O4","MCR","1.0_Draft4.8"]
["12.18.19","References: Changed New Construction Efficiency to weighted average of Gas and Oil","MCR","1.0_Draft4.8"]
["12.18.19","References: Changed New Construction CO2 to weighted average of Gas and Oil ","MCR","1.0_Draft4.8"]
["12.18.19","Calculations: Changed Displacement factor formula","MCR","1.0_Draft4.8"]
["12.18.19","EFS Pre-Approval Tab: Finished Tab based on SW comments. Added conditional formatting to generate fields based on code 1043","ED","1.0_Draft4.9"]
["12.18.19","PCF Tab: Added a field under Customer Information to captuer \"Loan Project ID\" and linked to EFS Project ID cell on EFS Pre-App Tab","ED","1.0_Draft4.9"]
["12.18.19","PCF Tab: Added \"Loan - Rebate assigned to EFS\" as a radio button for customer rebate method","ED","1.0_Draft4.9"]
["12.18.19","HPwES PCF Tab: Added a field under Customer Information to captuer \"Loan Project ID\" and linked to EFS Project ID cell on EFS Pre-App Tab","ED","1.0_Draft4.9"]
["12.18.19","Hpwes PCF Tab: Added \"Loan - Rebate assigned to EFS\" as a radio button for customer rebate method","ED","1.0_Draft5"]
["12.18.19","Required Docs Tab: Added Required Documents for HPwES, Loan, and LMI","ED","1.0_Draft5"]
["12.18.19","Airflow tabs: Updated all air flow tabs 2-10 to include section 3 like tab 1","ED","1.0_Draft5.1"]
["12.19.19","PCF Tabs - Removed \"Loan-Rebate assigned to EFS\" radio buttons","ED","1.0_Draft5.2"]
["12.19.19","Customer Info Tab - Removed \"Loan\" checkbox associated with Rebate Payment Type","ED","1.0_Draft5.2"]
["12.19.19","Guidelines Tab: Reworked guidelnes tab to include specifics for All Project types, Home Comfort Projects, and HPwES Projects","ED","1.0_Draft5.2"]
["12.19.19","Name Managed - Added \"HP_Content1\" \"HP_Content2\", \"HP_Content3\" and tied to HPwES tab \"Clear Input\" Button - Updated Code as well","ED","1.0_Draft5.3"]
["12.19.19","Customer Information: Changed Primary Heating to Existing Primary Heating","MCR","1.0_Draft5.4"]
["12.19.19","References: Updated rebates for non-whole house and non electric replacements","MCR","1.0_Draft5.4"]
["12.20.19","Tables: Adjusted columns to show contractor incentive is (per Project)","MCR","1.0_Draft5.6"]
[null,"Tables: Updated Contractor incentive"]
[null,"Worksheet: Added adjusted tables"]
[null,"References: Updated Partial Rebate Values to match \"SystemToTonNonWHashp_v1\" proposal"]
[null,"EFS Pre-Approval: Adjusted Customer Incentive formula to change \"\" values to 0"]
["12.21.19","Review of formatting ","ED","1.0_draft5.7"]
["12.23.19","Integrated Controls: Added link to NYSERDA Qualified Integrated Controls list","MCR","1.0_draft5.8"]
["12.23.19","Integrated Controls: If Incomeligible is selected the rebate is $750 for an integrted control","MCR","1.0_draft5.9"]
["12.23.19","Worksheet: Partial House rebate typo incetive was change to incentive","MCR","1.0_draft5.9"]
["1.6.2020","References: Added \"per Project\", \"per ton\", and \"per control\" to the appropriate rebate and incentive columns (X21:Z21) [Voltz request]","MCR","1.0_draft1.6"]
["1.6.20","References: changed Learning thermostat rebate to $50 per control","MCR","1.0_draft1.6"]
["1.6.20","Smart T-stat: Customer Incentive now shows $35 for Wifi Enabled and $50 for Learning","MCR","1.0_draft1.6"]
["1.6.20","Worksheet: PTHP can receive Contractor Incentive","MCR","1.0_draft1.6"]
["1.6.20","Workbook Locked for Use","MCR","version 1.0"]
["1.7.20","Worksheet: Allow PTHP to receive contractor incentive","MCR","version 1.1_draft1"]
["1.7.20","References: Removed Ductless ASHP tier 2","MCR","draft1"]
["1.7.20","Qualified index: Whole House Scenario should look for ReferencesA21=2 not 4","MCR","draft1"]
[]
["1.7.20","Locked and finalized workbook as Version 1.1 (Version 1.0 was sent internally but with a glitch)","ED","Version 1.1"]
[]
["3.4.20","Changed version to 1.2 in preparation of Q2 launch","MCR","Version 1.2_draft 1"]
["3.4.20","Custom Information: Added Data validation to the Building Size cell so only numbers are entered","MCR","draft 1"]
["3.4.20","References: Added Freeze Stat to the integrated drop dpwn list for Technology Type","MCR","draft 1"]
["3.4.20","Integrated Controls: adjusted data validation to allow user entry of Manufacturer name and Model. (This should only be used for freeze stats.)","MCR","draft 1"]
["3.4.20","Qualifying Index: Chnaged Connected Cooling and Heating to Connected Heating and Cooling","MCR","draft 1"]
["3.4.20","Prop0: Changed Measure code lookup to reference Qualifying Index column R","MCR","draft 1"]
["3.4.20","Prop0: Changed per unit rebate to reference Qualifying Index column U","MCR","draft 1"]
["3.4.20","References: Added Freeze Stat to the Home Comfort measure code table","MCR","draft 1"]
["3.4.20","HPwES: Added Data Validation message for r-values less than 11 for installed insulation","MCR","draft 1"]
["3.6.20","References: Added Freeze Stat Rebate of $350","MCR","Draft 2"]
["3.6.20","Integrated Controls: Added Instruction \"4\" stating that the Freeze Stat must switch at 32 degrees or less","MCR","Draft 2"]
["3.6.20","Integrated Controls: added \"Freeze Stats\" to rebate table","MCR","Draft 2"]
["3.6.20","Integrated Controls: Added 2nd row ","MCR","Draft 2"]
["3.6.20","Post-Inspection: Added addition row for integrated contrls","MCR","Draft 2"]
["3.6.20","Qualifying_Index: Added row to Integrated control table","MCR","Draft 2"]
["3.6.20","Qualifying_Index: Added column to Integrated control table that calculates the rebate, but doesn't allow more than one","MCR","Draft 2"]
["3.6.20","Integrated Controls: Linked rebate column to the Qualifying Index","MCR","Draft 2"]
["3.6.20","Qualifying Index: Changed Whole House Manual J requirements to 90%-125%","MCR","Draft 2"]
["3.6.20","Home Comfort Worksheet: Changed AHRI heating header to say AHRI Heating BTUh @ 17⁰F","MCR","Draft 2"]
["3.12.20","Qualifying Index: Added Heating QIV kWh column","MCR","Draft 3"]
["3.12.20","Qualifying Index: Adjusted QIV kWh to Cooling QIV kWh","MCR","Draft 3"]
["3.12.20","Qualifying Index: Adjusted QIV kW column","MCR","Draft 3"]
["3.12.20","Qualifying Index: Adjusted Heating kWh Savings to reference new heating QIV kWh","MCR","Draft 3"]
["3.12.20","HPwES: Added formula next t rebate when rebate is capped that the rebate cannot be higher than the cost ","MCR","Draft 3"]
["3.12.20","Air Flow References: Created","MCR","Draft 3"]
["3.12.20","References: Cut and pasted Air flow tables to Air Flow References","MCR","Draft 3"]
["3.12.20","References: Moved Home Comfort Measure Code table and HPwES info to columns AB through BP","MCR","Draft 3"]
["3.20.20","Qualifying Index: Changed Whole House Manual J requirements FROM 90%-125% TO 100%-130%"]
["3.20.20","EFS Pre-Approval: Added field for Steve","MCR","Draft 4"]
["3.20.20","Qualifying Index: Added QIV savings to heating kWh savings when fuel switching is present","MCR","Draft 5"]
["3.20.20","Qualifyinig Index: Adjusted MMBTU Heating from kWh formula for QIV savings","MCR","Draft 5"]
["3.20.20","Prop0: Integrated Control formulas were extended to include Freeze Stats","MCR","Draft 5"]
["3.20.20","Air Flow Tabs 1-10: Fixed workinf under Option 3","MCR","Draft 5"]
["3.24.20","Guidelines Tab: Added additional language and made edits to existing language as per Josh Ebner (PA for Home Comfort ) - Also re-organized lines per JE's request","ED","Draft 6"]
["3.24.20","Required Documents Tab: Updated Responsible Party for Pre/Post INS to \"Customer and PSEG LI Representative\"","ED","Draft 6"]
["3.24.20","Ts and Cs/Required Documents/Guidelines Tabs: Added box for initials to the bottom of each tab","ED","Draft 6"]
["3.24.20","Ts and CS Tab: Line 4 - added Pre and Post inspections are required (in bold text)","ED","Draft 6"]
["3.24.20","Ts and Cs Tab: Line 10 - Added language that the ASHP must be the primary heating source in the space","ED","Draft 6"]
["3.24.20","Worksheet Tab: Added the following language to the \"Important\" header:  *Pre and Post Inspections are required for all projects. Where a Whole House installation is completed, the PSEG Long Island Inspector will need to access the inside of the home to verify the removal of the existing heating source and confirm installation of integrated controls.","ED","Draft 6"]
["3.24.20","Guidelnes Tab: Added language to line 25 stating that the Whole House ASHP must meet 100-130 of the load and also be used at that capacity","ED","Draft 6"]
["3.24.20","HPwES Tab: Removed COP field from Cooling System 1 and 2","ED","Draft 6"]
["3.24.20","HPwES Tab: Name Manager - \"HP Content 1\" - Updated cells to account for removal of COP fields (this allows Clear Inputs button to function properly)","ED","Draft 6"]
["3.24.20","HPwES Tab: Corrected the misspelling of \"Efficiency\"","ED","Draft 6"]
["3.26.20","Had to re-save draft as 6.1 - draft 6 was giving an error message that draft was in-use, but it was not","ED","Draft6.1"]
[]
["4.6.2020","T&Cs: Formated \"Initials\" cell to not \"Locked\"","MCR","Draft 7"]
["4.6.2020","Guidelines: Formated \"Initials\" cell to not \"Locked\"","MCR","Draft 7"]
["4.6.2020","Required Docs: Formated \"Initials\" cell to not \"Locked\"","MCR","Draft 7"]
["4.6.2020","Qualilfying Index: Dragged down cell R42 to R51","MCR","Draft 7"]
["4.6.2020","Smart Tstats: Hide column J","MCR","Draft 7"]
["4.6.2020","Integrated Controls: Changed wording in Row 4 to\"If the customer will have fossil fuel back up heat present after the proposed equipment is installed, Integrated Controls, Freeze Stats, or Dual Fuel Thermostats must be installed. For Ductless Systems, installation of Integrated Controls or Freeze Stats is required.\"","MCR","Draft 7"]
["4.6.2020","Air Flow References: testing ranges C11:F12","MCR","Draft 7"]
["4.6.2020","Smart Tstats: Hide row 31","MCR","Draft 7"]
["4.8.2020","Prop0: Changed per unit incentive to reference Integrated Controls","MCR","Draft 8"]
["4.8.2020","Prop0: Changed Product Line and Product Class of Integrated Controls to only show up if measure code shows up","MCR","Draft 8"]
["4.8.2020","EFS Approval: Changed Customer Incentive amount to add up the individual Home Comfort tabs","MCR","Draft 8"]
["4.8.2020","T&Cs: Added #5. to specify ccASHPs must be NEEP listed","MCR","Draft 8"]
["4.9.2020","Integrated Controls: Added language to Instructions to inform customer that Freeze Stat inputs are manual entries and not selectable in the dropdown","ED","Draft 9"]
["4.10.2020","Worksheet: Removed \"@ 17 degrees\" from heating","MCR","Draft 10"]
["4.10.2020","Worksheet: Changed Partial Home Eligibility Table to have ccASHPs be tier 2","MCR","Draft 10"]
["4.10.2020","References: Changed AX90 to \"Fossil Fuel Only\"","MCR","Draft 10"]
["4.10.2020","Qualifying Index: Extended formula in AG78 down to other rows","MCR","Draft 10"]
["4.10.2020","Air Flow References: Chnaged CFM Air flow range to a formula based on ACCA Standard 5","MCR","Draft 10"]
["4.10.2020","Air Flow References: Changed Sub cooling Outdoor Dry Bulb Temp to 114","MCR","Draft 10"]
["4.10.2020","Air Flow References: Changed Superheat Outdoor Dry Bulb Temp to 114","MCR","Draft 10"]
["4.10.2020","Air Flow References: Changed Measured Subcooling to moving range based on Required Subcooling","MCR","Draft 10"]
["4.10.2020","Air Flow References: Changed Measured Superheat to moving range based on Required Subcooling","MCR","Draft 10"]
["4.10.2020","Air Flow Form: Added space for Measured Subcooling and Super heat to FAIL based on value compared to Required Subcooling","MCR","Draft 10"]
["4.14.20","Air Flow References: Chnaged CFM Air flow range to a formula based on ACCA Standard 5 (Air Flow tabs 3-10)","MCR","Draft 11"]
["4.14.20","Air Flow References: Changed Sub cooling Outdoor Dry Bulb Temp to 114 (Air Flow tabs 3-10)","MCR","Draft 11"]
["4.14.20","Air Flow References: Changed Superheat Outdoor Dry Bulb Temp to 114 (Air Flow tabs 3-10)","MCR","Draft 11"]
["4.14.20","Air Flow References: Changed Measured Subcooling to moving range based on Required Subcooling (Air Flow tabs 3-10)","MCR","Draft 11"]
["4.14.20","Air Flow References: Changed Measured Superheat to moving range based on Required Subcooling (Air Flow tabs 3-10)","MCR","Draft 11"]
["4.14.20","Air Flow Form: Added space for Measured Subcooling and Super heat to FAIL based on value compared to Required Subcooling (Air Flow tabs 3-10)","MCR","Draft 11"]
["4.15.20","Macro: Hide/Unhide Integrated controls check box if Whole House is not checked off","MCR","Draft 12"]
["4.17.20","Integrated Controls: Changed Dual Fuel Thermostat Named Range to be C17:G18","MCR","Draft 12"]
["4.27.20","Air Flow tabs 1-10: Changed wording in Notes to say DIVIDE pascals by 249.09, in place of multiply","MCR","Draft 13"]
["4.27.20","Air Flow tabs 1-10: Updated Capacity of refrigerant to say lbs. and oz.","MCR","Draft 13"]
["4.29.20","Qualifying Index: Heating Manual J check to make sure its whole house and not Electric","MCR","Draft 14"]
["4.29.20","Macro: changed explanation of Manual J to 100%","MCR","Draft 14"]
["5.22.20","Admin Tab: Re-aligned HPwES savings with Prop0","MCR","Draft 15"]
["5.22.20","Prop0: Linked savings to Qualifying Index tab","MCR","Draft 15"]
["5.26.20","Qualifying Index: Changed Insulation logic for fossil fuel only systems","MCR","Draft 16"]
["6.12.20","Airflow Form 1-10: Added decimals for inches and oz/feet in the wiegh in method ","MCR","Draft 17"]
["6.22.20","Prop0: Expanded Integrated control reference to References row 34","MCR","Draft 18"]
["6.22.20","Qualifying Index: Added kW savings for connectd thermostats","MCR","Draft 18"]
["6.22.20","Prop0: References Qualifying index for thermostat kW savings","MCR","Draft 18"]
["6.22.20","References: Changed the CF for connect thermostats to 0"]
["6.24.20","Worksheet: Added data validation for Existing equipment: Numbers greater than 0","MCR","Draft 19"]
["6.24.20","References: Fixed Electric Resistance heating with AC insulation interpolation","MCR","Draft 19"]
["6.24.20","Qualifying Index: HPwES Insualtion Delta kWh 2 High Reference AE instead of AD","MCR","Draft 19"]
["7.06.20","HPwES: Data Validation so that no one can enter more than 100% of the load","MCR","Draft 20"]
["7.07.20","Customer Information: Added additional language to the Whole House Check Box about the Integrated controls tab","MCR","Draft 21"]
["7.07.20","Customer Information: Changed the Whole House Message box to an Exclamation","MCR","Draft 21"]
["7.07.20","Integrated Controls: Chnaged color and move to the right of Whole House","MCR","Draft 21"]
["7.07.20","Customer Information: Changed the Whole House check box function to open Integrated Controls tab","MCR","Draft 21"]
["7.15.20","Worksheet: Round Rebate values to have no decimals","MCR","Draft 23"]
["7.21.20","Customer Information: Macro: Changed Electric Resistance pop-up message to have homecomfortLI@pseg.com as the website","MCR","Draft 24"]
[]
["7.27.20","Per Brian L. 7.20.20 email the following changes were made:","MCR","Draft 25"]
[null,"Required Doc: Rows 37 - 42 were hidden, and the check boxes for loan docs were removed."]
[null,"T&C: removed \"For Loan project, send all Loan ProFormas directly to EFS\" from row 9 "]
[null,"Guidelines: Changes row 15 language to “For Loan project, send all Loan ProFormas directly to EFS”"]
[null,"Guidelines: Changed Row 8 (item 4) to \"Pre and post verification of installed equipment is required. PSEG will accept photo verification in lieu of inspection.\""]
[null,"Worksheet: Changed language about inspectins to \"Pre and post verification of installed equipment is required. PSEG will accept photo verification in lieu of inspection.\""]
[null,"Development tab: Changed effective range to 7.1.20 - 9.30.20"]
[]
["9.3.2020","Working off draft to develop mock-up For 2021 Version 1.0","ED","MockUp"]
["11.10.2020","Saved Mock-Up as version1.0","ED","Version 1.0_Draft1"]
["11.10.2020","Instructiosn Tab: Added Instructions tab that inclued instructions for all tabs except air flow tabs","ED","Version 1.0_Draft1"]
["11.10.2020","Customer Information : Removed existing heating equpiment and project type radio buttons","ED","Version 1.0_Draft1"]
["11.10.2020","Customer Information: Added drop down to capture Rebate Payment Method","ED","Version 1.0_Draft1"]
["11.10.2020","Site Information Tab: Added Site Information tab to capture Existing equipment info, project type, Income eligible, existing system efficiencies","ED","Version 1.0_Draft1"]
["11.10.2020","Site Information Tab: Added Logic to Project Type drop down to inform user of Whole House requirements when whole house is selected - A red font message will appear to the right of the dropdown selection","ED","Version 1.0_Draft1"]
["11.10.2020","Site information tab: Added logic to Income Eligible type dron down to inform user of Required documents - a red font message will appear to the right of the dropdown selection","ED","Version 1.0_Draft1"]
["11.10.2020","Site Information Tab: Added checkbox to generate secondary equipment inputs - added code to checkbox to generate rows 24-28 and 42-52 to capture all secondary equipment","ED","Version 1.0_Draft1"]
["11.10.2020","Dev Tab: Updated Program Year, effective date (quarterly release), and Version #","ED","Version 1.0_Draft1"]
["11.10.2020","Equpiment Tab: Reformatted existing worksheet tab ","ED","Version 1.0_Draft1"]
["11.10.2020","Equipment Tab: Added field to capture new equipment fields","ED","Version 1.0_Draft1"]
["11.10.2020","Equipment Tab: Added all Heating and Cooling Sections for data entry","ED","Version 1.0_Draft1"]
["11.10.2020","Equipment Tab: Added checkboxes under each table that say \"Click here to enter Heating and Cooling System X\" - Code tied to each checkbox to hide and unhide additional equipment rows","ED","Version 1.0_Draft1"]
["11.10.2020","Load Calculations Tab: Added All 10 Manual J tables for data entry","ED","Version 1.0_Draft1"]
["11.10.2020","Eligbility Tab: Added Eligibility tab - Includes all rebate tables and eliligibility for each project type","ED","Version 1.0_Draft1"]
["11.11.20","Equipment Information Tab: Updated incorrect New Equipment fields to reflect Existing Equipment","ED","Version1.0_Draft2"]
["11.11.20","References Tab: Added a Rebate Payment Method Table beginning in cell O8 - Added Rebate_Payment_Method to Name Manager","ED","Version1.0_Draft2"]
["11.11.20","Cust Info Tab: Added dropdown data validation to the Rebate Payment Method Cell - Used \"Rebate_Payment_Method_ from name manager","ED","Version1.0_Draft2"]
["11.11.20","References Tab: Added a Residence Type table beginning in Cell Q2 - Added \"Residence_Type\" Name Manager","ED","Version1.0_Draft2"]
["11.11.20","Site Info Tab: Added dropdown data validation to Residence Type Cell- Used \"Residence_Type\" Name Manager","ED","Version1.0_Draft2"]
["11.11.20","References Tab: Added a Project Type Heat Pumptable beginning in Cell Q8 - Added \"Project_Type_HP\" Name Manager","ED","Version1.0_Draft2"]
["11.11.20","Site Info Tab: Added dropdown data validation to Project Type _ Heat Pump Cell- Used \"Project_Type_HP\" Name Manager","ED","Version1.0_Draft2"]
["11.11.20","Site Info Tab: Updated formula in Cell E10 to allow for \"Select..\" to appear without an error message","ED","Version1.0_Draft2"]
["11.11.20","References Tab: Added a Project Type Weatherization table beginning in Cell Q15 - Added \"Project_Type_Weatherization\" Name Manager","ED","Version1.0_Draft2"]
["11.11.20","Site Info Tab: Added dropdown data validation to Project Type _ Weatherization Cell- Used \"Project_Type_Weatherization\" Name Manager","ED","Version1.0_Draft2"]
["11.11.20","References Tab: Added an Income table beginning in Cell Q21 - Added \"Income_Eligible\" Name Manager","ED","Version1.0_Draft2"]
["11.11.20","Site Info Tab: Added dropdown data validation to Income Eligible Cell- Used \"Income Eligible\" Name Manager","ED","Version1.0_Draft2"]
["11.11.20","Site Info Tab: Updated formula in Cell E14 to allow for \"Select..\" to appear without an error message","ED","Version1.0_Draft2"]
["11.11.20","Ref Tab: Beginning in Cell Q27 - Added Table for Primary Heating Source - Added \"Primary_Heat_Source\" to Name Manager","ED","Version1.0_Draft2"]
["11.11.20","Ref Tab: Beginning in Cell Q35 - Added Table for Secondary Heating Source - Added \"Secondary_Heat_Source\" to Name Manager","ED","Version1.0_Draft2"]
["11.11.20","Ref Tab: Beginning in Cell Q43 - Added Table for Primary Heating Equipment - Added \"Primary_Heat_Equipment\" to Name Manager","ED","Version1.0_Draft2"]
["11.11.20","Ref Tab: Beginning in Cell Q53 - Added Table for Secondary Heating Equipment - Added \"Secondary_Heat_Equipment\" to Name Manager","ED","Version1.0_Draft2"]
["11.11.20","Ref Tab: Beginning in Cell Q63 - Added Table for Primary Cooling Equipment - Added \"Primary_Cooling_Equipment\" to Name Manager","ED","Version1.0_Draft2"]
["11.11.20","Ref Tab: Beginning in Cell Q73 - Added Table for Secondary Cooling Equipment - Added \"Secondary_Cooling_Equipment\" to Name Manager","ED","Version1.0_Draft2"]
["11.11.20","Ref Tab: Updated Integrated Controls tables to match Home Comfort Version 1.3","ED","Version1.0_Draft2"]
["11.11.20","Int Control Tab: Updated ranges in Data Validation formula to account for new controls","ED","Version1.0_Draft2"]
["11.11.20","Project Completion HPwES Tab: Fixed \"Option\" typo in row 54","ED","Version1.0_Draft2"]
["11.11.20","Site Info Tab: Added dropdown data validation for Primary Heating Source/Heating Equipment/Cooling Equipment (Used Name Managers created on Ref tab)","ED","Version1.0_Draft2"]
["11.11.20","Site Info Tab: Added dropdown data validation for Secondary Heating Source/Heating Equipment/Cooling Equipment (Used Name Managers created on Ref tab)","ED","Version1.0_Draft2"]
["11.11.20","Equipment Information Tab: Updated checkboc Code to hide/unhide corresponding worksheet rows on Load Calculations Tab","ED","Version1.0_Draft2"]
["11.11.20","Equipment Information Tab: Added Data Validation dropdown to Existing Equipment Type Cells - Links to =References!$Q$45:$Q$50","ED","Version1.0_Draft2"]
["11.11.20","Load Calcs Tab: Added formulas to New Equipment field to link to Equipment Formation tab","ED","Version1.0_Draft2"]
["11.11.20","Qualifying Index Tab: Updated all formulas  in ASHP Equipment table to link to Equipment Info Tab and Load Calc Tab ","ED","Version1.0_Draft2"]
["11.11.20","References Tab: Updated formula in Income Eligible True/False (C16) table to link to dropdown on Site Info tab since radio buttons have been removed","ED","Version1.0_Draft2"]
["11.11.20","References Tab: Updated formula in Whole House True/False table (C20) to link to dropdown on Site Info tab since radio buttons have been removed","ED","Version1.0_Draft2"]
["11.11.20","References Tab: Updated formula in existing heating equipment Cell L4 to link to dropdown on site info tab since radio buttons have been removed","ED","Version1.0_Draft2"]
["11.11.20","Load Cal Tab: Add Missing Info Fomula to the following cells in Column I 11,22,33,44,55,70,81,92,103,114","ED","Version1.0_Draft2"]
["11.11.20","Load Calc Tab: Added Pass/Fail formulas to all Manual J  Pass/Fail fields","ED","Version1.0_Draft2"]
["11.11.20","Load Calc Tab: Added formulas to add Qualifying Tier cells","ED","Version1.0_Draft2"]
["11.11.20","Load Calc Tab: Added formulas to all Rebate Cells","ED","Version1.0_Draft2"]
["11.11.20","Load Calc Tab: Added field to sum total equipment rebate and total contractorrebate","ED","Version1.0_Draft2"]
["11.12.20","Ref Tab; Updated Line Losses to 7.19 Demand and 5.67 energy","ED","Version1.0_Draft3"]
["11.17.20","Equipment Info Tab: Fixed \"Serial\" typo in all tables","ED","Version1.0_Draft4"]
["11.17.20","Load Cal Tab: Added (To table 1 only) \"Unit Controlled\" field for Smart Therm and IC unit controoled","ED","Version1.0_Draft4"]
["11.17.20","Ref Tab: Updated the Unit Controlled table to include the word \"Unit\" in front of the 1-10 inputs","ED","Version1.0_Draft4"]
["11.17.20","QUalifying Index Tab: Updated/Reformatted ASHP tables to match Internal application (This includes addition of IC data table)","ED","Version1.0_Draft4"]
["11.17.20","Site Info Tab: Added a field to collect AFUE for Primary Heating System Information 1 and Secondary Heating System Information 2 - Shifted VBA code one cell to accommodate the Hide/unhide logic for secondary heating system info","ED","Version1.0_Draft4"]
["11.17.20","Int Control Tab: Shifted data entry table over one cell to begin in column C","ED","Version1.0_Draft4"]
["11.17.20","Int Control Tab: Added Unit 1 and Unit 2 in column B","ED","Version1.0_Draft4"]
["11.17.20","Ref Tab: Primary and Secondary Heating Equipment Tables (Column Q) - Updated selections to include all existing heating equipment found in BE Factor table in column H - Update Name Manager ranges to accommodate new selections","ED","Version1.0_Draft4"]
["11.17.20","Ref Tab: Updated BE table beginning in column H to match Matster Internal BE table","ED","Version1.0_Draft4"]
["11.17.20","Ref Tab: Updated NC Fuel Split table (Cell N2) to match internal"]
["11.17.20","Ref Tab: Added Climate Adjustment Factor in Cell H50 to match internal"]
["11.17.20","Ref Tab: Updated Cooling Baselines table in J8 to match internal - Updated Primary and Secondary Cooling Equipment Name Managers"]
["11.17.20","Cust Info Tab: Added the following language before customer signature \"Signature also confirms that to the best of my knowledge this PSEG Long Account has not received any HPwES rebates in the past.  If rebates have already been claimed for the HPwES program, PSEG Long Island has the authority to deny additional rebate claims\" Per SW and BL"]
["11.17.20","All tabs - Updated color scheme","ED","Draft5"]
["11.18.20","Ref Tab:Emission Factor Table - Updated to 1.1962","ED","Draft5"]
["11.18.20","Ref Tab: Qual Index - Updated formulas to match internl (ASHP table)","ED","Draft5"]
["11.18.20","Site Info Tab: Added a field for Projecr Type - Water Heating","ED","Draft5"]
["11.18.20","Site Info Tab: Added a field for Projecr Type - Tune Up","ED","Draft5"]
["11.18.20","Ref Tab: Added an existing water heating and proposed water heating table (beginning in Cells A202 and C202) - Added both to Name Manager","ED","Draft5"]
["11.18.20","Ref Tab: Added Heat Pump Water Heater Assumptions beginning in Cells A222 and D222","ED","Draft5"]
["11.18.20","Ref Tab: Added Tankless Water Heater Assumptions beginning in Cells A273","ED","Draft5"]
["11.18.20","Ref Tab: Added NTG table for water heating equipment beginning in Cell L202","ED","Draft5"]
["11.18.20","Water Heating Worksheet Tab: Added new tab","ED","Draft5"]
["11.18.20","Ref Tab: Added Tune Up Assumptions from Planning Tool beginning in Cell A321","ED","Draft6"]
["11.20.20","Tune Up Tab: Added tab and 5 tables for data collection ","ED","Draftt8"]
["11.20.20","Ref Tab: Added Tune-Up Type table beginning in Cell J202 - Added to Name Manager","ED","Draftt8"]
["11.20.20","Tune Up tab: Updated fields to reflect data collection needs ","ED","Draftt8"]
["11.24.20","Table Tab: Added two tables for HPwES rebates (market and income eligible)","ED","Draft10"]
["11.24.20","Eligibility table: added section for HPwES eligibility and included rebate tables","ED","Draft10"]
["11.24.20","Table Tab: Added table for Water Heating Equipment","ED","Draft10"]
["11.24.20","Table Tab: Added table for Tune Up","ED","Draft10"]
["11.24.20","Tune Up Tab: Added eligibility requirement and rebate table","ED","Draft10"]
["11.24.20","Water Heating Worksheet Tab: Added eligibility requirements and rebate table","ED","Draft10"]
["11.24.20","Ref Tab: Updated measure codes for WaterHeating equipment to reflect CH600, CH610, and CH650","ED","Draft10"]
["11.24.20","Ref Tab: Updated value for BE CO2 for Tankless Water Heater","ED","Draft10"]
["11.24.20","Equipment Tab: Updated the heating capacity field to include 17F for cold climate equipment only","ED","Draft10"]
["11.24.20","Tune Up Tab: Added checkboxes under tune-up tables that will generate additional tables when clicked - Added code to checkboxes","ED","Draft10"]
["11.24.20","Load Calc Tab: Reformatted \"Unit Controlled\" and \"Technology Type\"","ED","Draft10"]
["11.24.20","Equipment Tab: Added Numbers 1-10 in white text to the left of the New equipment dropdown (this is to match with the Smart Thermostats tab)","ED","Draft10"]
["11.24.20","Qual Index: Updated formulas for Smart Therms - SEER, HSPF, Cooling, and Heating to accommodate new tab layouts","ED","Draft10"]
["11.25.20","Qual Index: Updated formulas for Integrated Controls - SEER, HSPF, Cooling, and Heating to accommodate new tab layouts","ED","Draft11"]
["11.25.20","Qual Index: Added column Q CO2 Baseline to ASHP table","ED","Draft11"]
["12.01.20","Int Controls Tab: Updated Rebate table on tab to include \"Integrated/Modulating Controls\", \"Integrated/Fixed Controls\"","ED","Draft12"]
["12.01.20","Equipment Info Tab: Added code to Smart Therm and Int Controls checkboxes to hide and unhide tabs","ED","Draft12"]
["12.01.20","Equipment Info Tab: Added eligibility language under Smart Therm and Int Control checkboxes ","ED","Draft12"]
["12.01.20","Instructions Tab: Updated language on tab per Home Comfort team - Added language aboout NEEP and AHRI validiation","ED","Draft12"]
["12.01.20","Site Info Tab: Changed \"Efficiency\" in cells A37 and A49 to \"Combustion Efficiency\"","ED","Draft12"]
["12.01.20","Equipment Info Tab: Added to the bottom of each table *All Cold Climate systems must be NEEP listed","ED","Draft12"]
["12.01.20","Elig Tab: Added language that Whole House CC will be rebated at 17F and partial CC wil be rebated at 17F, non CC at 47F Heating capacity","ED","Draft12"]
["12.01.20","Project Completion Form Tab: Under Customer Signature added *Must be Account Holder of Record","ED","Draft12"]
["12.01.20","Assignment Form Tab: Under Customer Signature added *Must be Account Holder of Record","ED","Draft12"]
["12.01.20","Int Controls Tab: Added row 5 and the following language \"All Serial Numbers entered must match invoice\"","ED","Draft12"]
["12.02.20","Load Calculations: G14 Added formula to pull Control Type","MCR","Draft 13"]
[null,"Load Calculations: B19 Added Warning for Integrated Controls and heat pump combo"]
[null,"References: Aded table for Existing System drop down (primary/secondary)"]
[null,"Load Calculations: Added existing Equipment to first table "]
[null,"References: Added Multi Splits to the cold climate scenario table"]
[null,"Qualifying Index: Adjusted search area for cold climate scenarios"]
[null,"References: Added Multisplit measure codes and rebates"]
["12.02.20","Qualifying Index: Chnaged Whole House Manual J PASS/FAIL criteria to 90%-120%","MCR","Draft 14"]
[null,"Qualifying Index: Changed Manual J PASS FAIL to look for all ducted or cold climate units"]
[null,"Qualifying Index: Chnaged Integrated Controls formula to include Separate controls"]
[null,"References: Added units 3-10 for controls"]
[null,"Load Calculation: Extended Unit Controller drop down to include Units 3-10"]
["12.02.20","Site Equipment: Removed Primary and Secondary Heating Sources","MCR","Draft 15"]
[null,"Macro: Chnaged hide/unhide ranges for secondary heating source"]
[null,"Qualifying Index: Fixed Baseline Efficiencies formula to use either primary or secondary cooling system efficiencies if entered and selected"]
["12.03.20","Qualifying Index: Updated COP and AFUE formulas","MCR","Draft 16"]
[null,"Qualifying Index: Updated Integrated Controls formula"]
[null,"Site Information: HSPF, COP, and AFUE were updated with a note describing the purpose of each field "]
[null,"Qualifying Index: Added Water Heating Savings Section"]
[null,"Qualifying Index: Added Tune Up Savings Section"]
["12.04.20","References: Updated Water Heating CO2 Calcs","MCR","Draft 17"]
[null,"References: Added Tune Up Measure Codes"]
[null,"Qualifying Index: Added Tune Up savings"]
[null,"Tune Up Worksheet: Removed Name Plate Efficiency Fields"]
[null,"Qualifying Index: Completed Tune Up links"]
[12.07,"Cust Info Tab\" Updated Rebate Total in cell K31 to account for new tabs and layout","ED","Draft18"]
[12.07,"Equipment Info Tab: Updated code for Load Calcs to account for shifting of cells down","ED","Draft18"]
[12.07,"Tune Up: Added rebate formulas to individual tables","ED","Draft18"]
[null,"Ref Tab: L207 - changed Heat Pump to Air Source Heat Pump"]
["12.08.20","Water Heating: Changed Tankless Water Heater PASS/FAIL to 0.93 UEF","MCR","Draft 19"]
[null,"Water Heating: Chnaged format of PASS/FAIL to Locked and Hidden"]
[null,"References: Updated Smart T rebate"]
[null,"Qualifying Index: Changed Controlled Unit Look Up"]
[null,"Site Information: Changed Format of Existing Equipment"]
[null,"Smart Tstat: Added Look up for Primary Cooling or Heating"]
["12.09.20","Water Heating: Changed Eligibility table to include UEF requirements","MCR","Draft 20"]
[null,"Pre Inspection: Re aligned Space Heating and Cooling look ups"]
[null,"Post Inspection: Re aligned Heat Pump Look Ups"]
[null,"Post Inspection: Added Water Heating Table"]
["12.9.20","Project Review Tab: Added columns for Existing Heating and Cooling linked to Qual Index for Macro use","ED","Draft21"]
[null,"Equpiment Tab: Udpated all existing equipment drop downs to \"Primary, Secondary\" selections","ED","Draft21"]
["12.10.20","Water Heating Worksheet: Moved PASS/FAIL down 2 rows","MCR","Draft 22"]
[null,"Water Heating Worksheet: Added new Quantity field"]
[null,"Qualifying Index: Changed Quantity for water heating to reference the Water Heating tab"]
[null,"HPwES: Updated Heat & Cooling Systems 1&2 to look for new or xisting system information"]
[null,"Qualifying Index: Re-did reference to HPwES tab "]
[null,"References: Added AC & Gas Ceiling Insulation table inputs"]
["12.11.20","HPwES: Updated Instructions for filling out Heating and Cooling Information","MCR","Draft 23"]
[null,"Water Heating: Changed \"\" when information isn't entered to $0 to avoid #VALUE error on Customer Information tab"]
["12.12.20","Instructions Tab: Updated Whole House threshold from 100% to 90-120% in row 24"]
["12.12.20","Instructions Tab: Added 4/02/20 to row 82 for submittal date of docs"]
[null,"Elig Table: Updated Whole House threshold from 100% to 90-120% in row 8"]
[null,"Guidelines Tab: Updated Whole House threshold from 100% to 90-120% in row 26"]
["12.12.20","Equipment Information - Updated tab name to \"ASHP Equipment Information\""]
[null,"ASHP Equipment Info Tab: Updated code for sheet name to include \"ASHP\""]
[null,"ASHP Equipment Info Tab: Added \"Number\" to Coil and Air Handler fields"]
[null,"ASHP Equip Info Tab: Added \"btuh\" to Cooling/heating capacity fields, changed AHRI Ref ID to AHRI Ref #, added *47F degree language under heating capacity field"]
[null,"ASHP Equip Info Tab: Updated data validation and cell formatting for all cells"]
[null,"ASHP: Added additiona data validation to match 2020 HC App - SEER/EER (Decimal between 5 and 150) HSPF (Decimal between .9 and 99) Cooling/Heating Caps (1000 to 500000)"]
[null,"Load Calc Tab: Changed name to ASHP Load Calculations"]
[null,"ASHP Equip Info Tab: Updated code any code for Load Calculations to ASHP Load Calculations"]
[null,"ASHP Load Calc Tab: Updated Manual J fields to include more details  I.E. BTUH and Latent/Sensible for Cooling"]
[null,"ASHP Load Calc Tab: Changed \"technology type\" to Smart Thermostat/Integrated Control Type"]
[null,"Tune Up: Added the following language to eligibility reqs: Systems 5 years and older are eligible for rebate"]
["12.12.20","Site Info: Added data validation and cell data formatting to Heating and Cooling system tables","ED"]
[null,"All Air flow Tabs: updated formulas for unit, mfg, model #","Ed"]
[null,"Qual Index: Updated COP formula beginning in Cell AG27"]
[null,"Dev Tab: U[dated formulas on Project Review tab for ASHP table"]
["12.14.20","Qualifying Index: Updated SEER,EER, and HSPF Tier look up t look at H27 for ER ","MCR","Draft 26"]
[null,"Equipment Information: Added formula to AHRI Heating Capacity to change * to @17 dregrees if a ccASHP is selected as the Technology Type"]
[null,"Site Information: Chnaged Whole House Warning from 100% to 90%"]
[null,"Qualifying Index: Changed WH scenario look up for S2"]
[null,"Load Calculations: Removed additional drop down in cell G40"]
[null,"References: C21 changed \"TRUE\" to TRUE"]
[null,"References: Added Integrated/Modulating and Integrated/Fixed to Measure and rebate table"]
["12.15.20","Ref Tab: Changed \"true\" to True for income eligible true/false table","ED","Draft27"]
[null,"Ref Tab: Updated Measures for cold climate multisplit to be \"CH222\"; Updated measure codes for Ics to CH426 for Integrated/Modulating and CH427 for Integrated/Fixed","ED","Draft27"]
["12.15.20","Prop 0: started updating Prop 0 formulas to align with new layout - left off in Cell CC4 **Please note, did not updae any additional formulas because we only need to have the correct savings formulas on Prop 0"]
["12.16.20","Instructions: Wrap text on G13 to show full line of text","MCR","Draft 28"]
[null,"Instructions: Fixed Typo in last sentence of Air Flow"]
[null,"Instructions: Added @PSEG to HPwES email"]
[null,"ASHP Load Calculation: Manual J PASS FAIL updated to include the new technology type"]
[null,"ASHP Load Calculation: Changed Rebate formula to reference Equipment instead of ReferencesH4"]
[null,"References: Added Tankless Water Heater >12 kW and Tankless Water Heater < 12 kW"]
[null,"Water Heater Worksheet: Updated Quantity data validation to 3 for <12 kW, and 1 for everything else"]
[null,"Water Heater Worksheet: Updated Rebate table"]
["12.17.20","Instructions Tab: Added section for Tune Ups and Water Heating; included link to Resi OLA in watr heating section with direction to apply through OLA if isntalling water heating equipment only","ED","Draft 29"]
["12.17.20","Tune Ups Tab: Added additional Eligibility criteria","ED","Draft 29"]
["12.17.20","Site Info Tab: Added pop-up message if customer installing water heating to direct them to Resi OLA if applying for water heating rebate only","ED","Draft 29"]
["12.17.20","Guidelines Tab: Added section for Tune Ups and a section for Water Heating equipment","ED","Draft 29"]
["12.17.20","Required Docs Tab: Added Pre-Approval and Payment sections for Tune Ups and Water Heatign Equipment","ED","Draft 29"]
["12.17.20","Water Heating Tab: Added additional eligibility criteria and updated rebate vauues for HPWH to $600","ED","Draft 29"]
["12.17.20","Project Review Tab: Added column for Utility Gross kW and formula (Prop 0 - Utility Gross kW *Quantity)","ED","Draft 29"]
["12.17.20","Tune Up Tab - Reworded Test Results in guidelines ","ED","Draft 29"]
["12.18.20","Ref Tab: Updated rebate value for HPWH to $600","ED","Draft31"]
["12.18.20","Guidelines: Fixed formatting in row 36 for Tune Up post ins requirement","ED","Draft31"]
["12.18.20","ASHP Equip Info Tab: Added \"Equip_Clear 1\" \"Equip_Clear2\" \"Equip_Clear 3\" for clean inuts button","ED","Draft31"]
["12.18.20","ASHP Equip Info Tab: Added \"Equip_Clear 1\" \"Equip_Clear2\" \"Equip_Clear 3\" to VBA code for clear inputs button","ED","Draft31"]
["12.18.20","ASHP Load Calc Tab: Added \"LoadC_Clear 1\" \"LoadC_Clear2\" for clear inputs button","ED","Draft31"]
["12.18.20","ASHP Load Calc Tab: Added \"LoadC_Clear 1\" \"LoadC_Clear2\" for clear inputs button - Added to VBA Code for clear inputs","ED","Draft31"]
["12.23.20","References: Changed Cell A21 to change based on Site Info drop down selection of Existing or New Construction","MCR","Draft 32"]
[null,"Qualifying Index: row 6 column E references the wrong cell for the tier"]
[null,"Tune Up: Added data validation for Cooling capacity and Heating Capacity to be more than 0"]
[null,"Tune Up: Added Data Validation for % charge less than 200%"]
[null,"Qualifying Index: Tune up Measure code requires heating capacity input"]
[null,"Qualifying Index: Water Heating Quantity set to 1 unless it is <12 kW tankless"]
[null,"HPwES: Fixed Conditional formatting to have black font"]
[null,"All tabs: Locked White Cells"]
[12.28,"Tables Tab: Updated all tables to include ccASHP Multi Split","ED","draft33"]
[12.28,"Eligib Table: Updated all images of tables to include ccASHP MultiSplit","ED","draft33"]
[12.28,"Int Controls Tab: Updated instruction language to inform participant to mnually enter data for integrated controls","ED","draft33"]
[12.28,"Project Review Tab: Added tables for Water Heating and Tune Up","ED","draft33"]
[12.28,"HPwES: Fixed Clear Inputs Button (Had to adjust cells in \"HP_Content1\" in Name Manager","ED","draft33"]
[12.28,"ASHP Equip Tab: Re-did the Name Managagers for Clear Inputs button to correct \"debug\" issue","ED","draft33"]
[12.28,"Qual Index: fixed formula for in cell BZ 36 (Cooling kW) to link with proper cells on Load Calc Tab","ED","draft34"]
[12.28,"Qual Index: fixed formula in Cell E36 (New Equipment and Tier) to link to correct cell in Load Calcs Tab","ED","draft34"]
["12.28.20","ASHP Load Calculations: Added MultiSplit to IC Warning","MCR","draft 34.1"]
["12.29.20","IC Tab: Added definitions for Integrated and Fixed Controls","ED","Draft35"]
["12.29.20","Project Review Tab: Added Unit Number column for ASHP","ED","Draft35"]
[null,"Qual Idex: Updated Heating MMBTU Savings formula in column CI","ED","Draft36"]
["12.30.20","Qual Index: fixed tune up forumula reference in cell F102 to link to right right on Tune Up Worksheet","ED","DRaft37"]
["12.30.20","ProjectReview Tab: Updated formulas in row 8 to link to proper cells on ASHP Equip Info tab","ED","DRaft37"]
["12.30.20","Instructions Tab: Reviewed and fixed typos","ED","DRaft37"]
["12.30.20","Qualifying Index: Changed Normilized Efficiency formula to find the closest value to the Factory Charge","MCR","DRaft38"]
[null,"Eligibility Table: Added IC language for cold climate heat pumps"]
[null,"ASHP Load Calcs: Added No Fossil Fuel Heater as an acceptable entry for Ductless options"]
[null,"Qualifying Index: Updated Heating fuel MMBTU to include cc vs non-cc"]
[null,"Qualifying Index: Updated smart thermostat HSPF formula to column W from U"]
["1.4.20","Qualifying Index: Changed Heating kW Savings and Heating kWh to include Qiv Savings","MCR","Draft 39"]
[]
["1.4.21","Updated to Version 1.0 and finalized for 2021 Launch","ED","Version 1.0"]
[]
["1.15.2021","Using 2021 Home Comfort V1.0 application as base for All Electric Homes"]
["1.15.2021","Instructions Tab: Changed Home Comfort references in row 4 and row 8 to reflect \"All Electric Homes\""]
[null,"Instructions Tab: Row 8 - Edited language to reflect only All Electric Homes measures"]
[null,"Cust Info Tab: Changed name of application to All Electric Homes"]
[null,"Cust Info Tab: Updated header paragraph to include only Whole House ASHPs and energy efficient electric appliances are eligible"]
[null,"VBA: Flagged all sheets related to HPwES, Water Heating, and Tune Ups as \"Sheet Very Hidden\""]
[null,"Site Info Tab: Hid Project type selections for HPwES, Tune Ups, Water Heating, and Income Eligible"]
[null,"Site Info Tab: Updated Whole House warning message to read if \"Not Applicable\" is selected that Whole House ASHP must be installed to be eligible for rebates"]
[null,"Site Info Tab: Added Project Type Appliances drop down and warning message to read if \"not applicable\" is selected that appliances must be installed to be eligible for rebates"]
[null,"Ref Tab: Updated Name Manager and Referneces table for Project Type Heat Pump to remove Partial House selection"]
[null,"Ref Tab: Added table and Name manager for Fossil fuel heater removed"]
[null,"Site Info Tab: Added field and drop down selections for Fossil Fuel Heater Removed (Yes, No, New Construction)"]
[null,"Site Info Tab: Added warning message to pop-up if \"no\" is selected that fossil fuel heater must be removed to be eligible for rebates"]
[null,"Appliances Worksheet Tab: Added new tab to account for Appliances"]
[null,"Appliances References Tab: Moved the Appliances References tab from the Multi-Family Application to this application"]
[null,"Appliances Worksheet Tab: Added Tier I appliances (Dryer, Tankless Water Heater, and Smart Therm- Connected)"]
[null,"Appliances Worksheet Tab: Added Tier II appliances (HP Dryer, HPWH, ME Washer and Smart Therm-Learning)"]
[null,"Appliances Worksheet Tab: Added code to Tier I and Tier II checkboxes","ED","Version1.0_Draft2"]
["1.18.20","Application Selection tab made","MCR","Draft 3"]
[null,"Application Selection: Frmat cpoied from Site Information tab"]
[null,"Application Selection: Space Heating section and check boxes added"]
[null,"Application Selection: Water Heating section and check boxes added"]
[null,"Application Selection: Appliance (required) section and check boxes made"]
[null,"Application Selection: Appliance (Add-on) section and check boxes made"]
[null,"Application Selection: photos added"]
[null,"References: List of all All-eletric homes measures entered"]
[null,"Application Selection: Check boxes linked to References tab"]
[null,"References: List of all required entries added with TRUE/False Formulas"]
[null,"References: List of all Tier 2 required equipment added with TRUE/FALSE"]
[null,"References: Logic to create language about all missing appliances added"]
[null,"Application Selection: Language in formula added to top of the tab (references Reference tab)"]
[null,"Application Selection: Added Hide/Unhide frmula to Cold Climate Air Source Heat Pump check box to affect ASHP tabs"]
["1.18.20","Space Heating Worksheet transferred over","MCR","Draft 4"]
[null,"Dedicated Water Heating transferred over"]
[null,"Qualifying Index: Copied over geo Calculations and Qualifying Index"]
[null,"References: Copied over geo References"]
[null,"Application Selection: Added Hide/Unhide frmula to Geothermal Heat Pump check box to affect GSHP tabs"]
[null,"Application Selection: Added Hide/Unhide frmula to Geothermal Heat Pump Water Heater check box to affect GSHP tabs"]
["1.20.21","Appliances Tab: Added optional appliances to tab (Dehumidifier, Air Purifier, Pool Pump, Pool Heater, Lawn Equipment)","ED","Draft5"]
[null,"Appliances Ref Tab: Moved Measure Table to row M - Needed more space to add measures"]
["1.22.2021","Appliances Ref Tab: Added EEP measure codes to measure table","ED","Draft6"]
[null,"Appliances Ref Tab: Added additional EEP measures to table (Lawn Equipment, Pool Equipment)","ED","Draft6"]
[null,"Appliances Ref Tab: Added assumptions tables from 2021 Program Planning Tool for Pool Equipment and Lawn Equipment","ED","Draft6"]
["**MR Please add in BE CO2 formulas**","Appliances ref Tab: linked new measures in Measure table to assumption tables","ED","Draft6"]
[null,"Appliances Worksheet Tab: Hid rows for Smart Therms","ED","Draft6"]
["1.22.2021","Appliances Worsheet Tab: Added formulas for rebate values to measure header rows","ED","Draft7"]
["1.22.2021","Appliances Calc Tab: Moved tab from MF application"]
["1.22.2021","Appliances Calc Tab: Started adding formulas for measures - left off at Room Air Purifer section beginning in Cell A116"]
["1.25.2021","Appliances Calc Tab: Finished remaining appliances - added rows and formulas","ED","Draft8"]
["1.25.2021","Cust info tab: Highlighted Total Rebate cell as reminder to update fomrula"]
[null,"Project Review Tab: Highlighted Summary table cells as a reminder to update formulas"]
["1.25.21","Application References: Changed CO2 savings ff percentages","MCR","Draft 9"]
["1.25.21","Added Appliances inspection tab","ED","Draft 10"]
["1.25.21","Appliance References: Added new CO2 savings for new BE measures","MCR","Draft 10.1"]
["1.26.21","Appliances Inspection Form: added rows and formulas for measure inspection data","ed","draft11"]
["1.27.21","Appliance References: Appliance fromulas were added back in for kWh and MMBTU","MCR","draft 13"]
[null,"Appliances: All Fossil Fuel Savings removed for parasitic savings (space heating, water heating, dryers)"]
["1.29.2021","Guidelines Tab: Added guidelines in rows 10-14, 20-21 specific to all measures and rebate requirements","ED","Draft14"]
[null,"Eligibility Tab: Started added eligiblity language dpecific to all measures and rebates in rows 5-8","ED","Draft14"]
[null,"Eligibility Tab: added Eligible Equipment table for Tier I and Tier II homes","AW","Draft 15"]
[null,"Eligibility Tab: added electric appliances table and started writing eligibility language for appliances","AW","Draft 15"]
[null,"Eligibility Tab: Added table with optional add-on measures","AW","Draft 15"]
[null,"Eligibility Tab: Added section/placeholder for Geothermal tables Tier I & II - need pw to unlock Geo Worksheet","AW","Draft 15"]
[null,"Guidelines Tab: Added guidelines in rows 24-26 regarding Geothermal rebates","AW","Draft 15"]
["2.01.2021","Eligibility Tab: Added Geothermal eligibility table - taken from Geo worksheet v1.0","AW","Draft 16"]
[null,"Tables Tab: added Geothermal eligibility table to bottom of tab for future reference","AW","Draft 16"]
[null,"Guidelines Tab: Moved Geothermal guidelines in rows 24-26to rows 41-43","AW","Draft 16"]
["2.02.2021","Appliances Worksheet Tab: Added additional appliances to tab for Refrigerators, washers,a dn kitchen equipment","ED","Draft 17"]
[null,"Appliances Worksheet Tab: Added formulas to rebate cells","ED","Draft 17"]
["2.03.21","Appliances INF Form: Added Refrigerators, Ovens, Washers to INS form (includes formulas)","ED","Draft 18"]
["2.03.21","Appliances Ref Tab: Added space for non-rebated measures in measures table","ED","Draft 18"]
[null,"Appliances INS Form: Added Update Button and VBA Code to hide/unhide populated cells","ED","Draft 18"]
[null,"Guidelines Tab: Added guidelines for Geo, Ccashp, Appliances, Water Heating","Ed","Draft 18"]
["2.05.21","Guidelines Tab: Finished adding AEH information to Guidelines - Reworked the \"Steps to Participate\" section to account for HC/Geo/HP and Appliances","ED","Draft20"]
[null,"Cust Info Tab: Changed \"Contractor Information\" section to \"General Contractor/Developer\" section"]
[null,"Contractor Information Tab: New tab"]
[null,"Contractor Information Tab: Added table for Home Comfort, Geothermal, HPwES, HPWH, Pool Equipment"]
[null,"Ref Tab: Updated Existing Heating/Cooling Equipment tables to make New Construction or None as first two selections in drop down lists"]
[null,"Site Info Tab: Unhide row to select \"Weatherization\" as a project type"]
[null,"Site Info Tab: Added If statement to Weatherization Project Type to inform customer HPwES is eligible for Existing Residences only if selected"]
[null,"HPwES Tab/HPwES H&S Tab/EFS Pre-Approval Tab: Unhid all of these tabs to allow Existing building customer to participate in HPwES"]
[null,"Eligibility Tab: Added Eligibiliy tables and language for Geo, Appliances, and Water Heating"]
["2.05.21","Guidelines Tab: Inserted row on line 10 and moved statement “A PSEG Long Island representative may contact you to schedule a post-inspection\" from the bottom of the page to row 10","AW","Draft21"]
[null,"Guidelintes Tab: Added punctuation to every line (where appropriate) for consistency.","AW","Draft21"]
[null,"Eligibility Table Tab: adjusted spacing throughout tab for consistency.","AW","Draft21"]
["2.08.21","Ref Tab: Added row for Other Smart Control to Checklist table (Cell BQ22)","ED","Draft22"]
[null,"Ref Tab: Tier I Smart Therms - Added \"BR22\" to Controls  formula in Cell BU12 (accounts for Other Smart Therm selection)","ED","Draft22"]
[null,"Ref Tab: Tier II Smart Therms - Added \"BR22\" to Controls  formula in Cell BX10 (accounts for Other Smart Therm selection)","ED","Draft22"]
[null,"Equip Info Tab: Added photo of ductless heat pump in space heating section","ED","Draft22"]
[null,"Appliances Worksheet Tab: Added a Total Rebate table at the top of the tab - Includes formula","ED","Draft22"]
[null,"Equip Info Tab: Added Code to hide and uhide all appliances on Appliances Worksheet tab","ED","Draft22"]
[null,"ASHP Equip Info Tabb: Removed Checkboxes for Smart Therms and Controls","ED","Draft22"]
[null,"ASHP Equip Info Tab: Removed language about Integrated Controls","ED","Draft22"]
[null,"Smart tStat Tab: Removed HPwES checkbox","ED","Draft22"]
[null,"Tables Tab: Added Refrigators to Tier I and Tier II table","ED","Draft22"]
[null,"Eligiblty Table Tab: Replaced Tier I/Tier II table with updated table","ED","Draft22"]
["2.10.21","Assign Form: Updated Home Comfort reference to All Electric Homes","ED","Draft23"]
[null,"Assign Form: Changed Contractor section to \"Developer/General Contractor\"","ED","Draft23"]
[null,"Instructions Tab: Started editing instructions to be applicable to AEH - Left off with Appliances sectrion","ED","Draft23"]
[null,"Appliances worksheet: Added Proposed Efficiency to Tankless Water Heater and Heat pump water heater","ED","Draft23"]
["2.11.21","Equipment Selection Tab: Corrected spelling for ME Refrigerator","ED","Draft24"]
[null,"Equipment Selection Tab: Added \"ENERGY STAR\" to LED Lamp selection","ED","Draft24"]
[null,"Instructions: Added section for Equipment Selection tab","ED","Draft24"]
["2.12.21","Guildes Tab: Added Row 15 to inform customer of participation bonuses for rebated measures","ED","Draft25"]
[null,"Elig Tab: Row 9 - Added language that bonus is based on rebated measures only","ED","Draft 25"]
["2.12.21","Instructions Tab: Added Geothermal Guidelines","ED","Draft25"]
["2.12.21","Appliances References Tab: ME Refrigerators measure algorithm table copy and pasted from 2021 Planning Tool","AW","Draft 26"]
[null,"Appliances References Tab: ES Refrigerators measure algorithm table copy and pasted from 2021 Planning Tool","AW","Draft 26"]
["MR to review*","Appliances References Tab: Added measure algorithm table for ES Clothes Washer. Please note: this measure is NOT in the Planning Tool and values came from ODC TRM. I built out calcs in reference to values identified from TRM by MR. May reference document: \"Washers_Non ME\" in 2021 Planning > Research > All Electric Homes","AW","Draft 26"]
["MR to review*","Appliances References Tab: Added measure algorithm table for ES Dish Washer. Please note: this measure is NOT in the Planning Tool and values came from ODC TRM. I built out calcs in reference to values identified from TRM by MR. May reference document: \"Washers_Non ME\" in 2021 Planning > Research > All Electric Homes","AW","Draft 26"]
["2.15.21","Appliances References Tab: Reviewed","MCR","Draft 27"]
[null,"Appliance References: ME Refrigerator, ES Refrigerator, ES washers, and ES Dryers linked to references table"]
[null,"References: Table for Bonus % made for selecting the % bonus"]
[null,"Appliance Calculations: Added Total Rebate + Bonus column was added to show the Total rebate * 1 + bonus"]
["2.15.21","Appliances Ref Tab: Added SO, FR, rebates, and CF for Refrigerators, Dishwasher and Clothes Washer (NTGs from 2021 ODC TRM","ED","Draft 28"]
["2.15.21","Appliances Ref Tab: Added measure codes for Refrigerators, Dishwasher, ClothesWasher and Ovens - Measure codes also created in Captures","ED","Draft 28"]
["2.15.21","Equipment Selection Tab: Added a section for HPwES for Existing building only - added checkbox and code that will prompt HPwES tabs to generate upon click","ED","Draft 28"]
[null,"Space Heating Worksheet: Removed instruction 2 that said contractor incentive available (unde rebate table)","ED","Draft 28"]
[null,"Space Heating Worksheet: Removed contractor incentive table","ED","Draft 28"]
[null,"Space Heating worksheet: Instruction 2 - Removed Geothermal HP references so only Geothermal Systerm information is present","ED","Draft 28"]
[null,"ASHP Load Calcs Tab: Removed Field for Contractor Incentive","ED","Draft 28"]
[null,"Space Heating Worksheet Tab: Merged Customer rebate and contractor incentive column to become just customer rebate column","ED","Draft 28"]
[null,"Rquired Documents: Removed Required Docs sections for Tune-Ups and Water Heating ","ED","Draft 28"]
[null,"Required Documents: Started merging sections to be Pre-Approval and Payment","ED","Draft 28"]
["2.16.21","Cust Info Tab: Row 24 - Added certification statement for Geothermal Installs and Manual S requirement","ED","Draft 29"]
["2.16.21","Req Docs: Changed Developer/Gen Contractor references to \"Applicant\"","ED","Draft 29"]
["2.16.21","Appliances Worksheet Tab: Changed LED Speciality Bulbs to LED Bulbs","ED","Draft 29"]
["2.16.21","Appliances Calculation: Added Bonus column","MCR","Draft 30"]
[null,"Qualifying Index: Added Bonus Column for ASHPs"]
[null,"Qualifying Index: Created Bonus column for GSHPs that calculates the bonus off of ASHP levels ($1000 NC or $800 EB)"]
[null,"Qualifying Index: Updated Existing Heating and Cooling formulas to look up"]
[null,"Qualifying Index: Created Bonus column for GSHP water heaters that calculates the bonus off of HPWH levels ($600)"]
["2.17.21","Space Heating: Added Bonus Column for gshp ","MCR","Draft 31"]
[null,"Dedicated Water Heating: Added Bonus column for gshp"]
[null,"Qualifying Index: added Bonus Column for Smart thermostats"]
[null,"Smart tStat Tab: Added Bonus column"]
["2.17.21","Appliances Ref Tab: Changed Dishwasher rebate to 0.00","ED","Draft32"]
[null,"Appliances Calc Tab: Added Refrigerators, Dishwashers, ES Clothes Washers, and Bulbs"]
[null,"Appliances Workksheet Tab: Added rows for LED Speciality Bulbs"]
[null,"Appliances Ref Tab: Changed LED Lamp rebates to 0.00"]
[null,"Equipment Selection Tab: Updated Code attached to LED Lighting checkbox to account for LED Standard and Speciality rows on Appliances worksheet tab"]
["2.18.21","ASHP Equipment Information: added Total Bonus field  at the top","MCR","Draft 33"]
[null,"Appliance References: Added Specialty and Standard lighting savings"]
[null,"Appliance References: connected lighting formulas to measure table"]
[null,"Space Heating Worksheet: Added Total Bonus cell"]
[null,"Water Heating Worksheet: Added Total Bonus cell"]
["2.19.21","Name Manager: Removed links #REF errors","MCR","Drfat 34"]
[null,"Name Manager: Removed links to outside workbooks"]
["2.22.21","Site Info Tab: Removed dropdown for Tune Ups","ED","Draft35"]
["2.22.21","Appliances Worksheet Tab: Unlocked Proposed Efficiency Cells for Tankless Water Heater and HPWH","ED","Draft35"]
[null,"Appliances Worksheet Tab: Added data validation and error message for Tankless Water Heater UEF (Greater than or equal to 0.93)","ED","Draft35"]
[null,"Appliances Worksheet Tab: Fixed formatting in cells and in header","ED","Draft35"]
[null,"EFS Approval Letter: Linked Customer Incentive Cell to total Customer rebate feld on Customer Info Tab","ED","Draft35"]
[null,"Project Review Tab: made sheet very hidden","ED","Draft35"]
[null,"Integrated Controls Tab: made sheet very hidden","ED","Draft35"]
["2.23.21","ASHP Load Calculation: Updated Smart Thermostat/Integrated Controls formula to reference only Smart T-stat tab","MCR","Draft 36"]
["2.24.21","Qualifying Index: Updated Integrated Controls formula AZ to look up Integrated controls on the Integrated controls tab","MCR","Draft 37"]
[null,"ASHP Load Calculations: Removed Warning for integrated controls with ccASHPs because all projects should have No Fossil Fuel Heater"]
["2.24.21","Ref Tab: Primary and Secondary Heating  Equipment Selections - Moved Natural Gas selections to bottom of list - Also updated Name Manager to exclude those selections in dropdown on Site Info tab since nat gas conversion are not eligible","ED","Draft38"]
[null,"Ref Tab: Primary and Secondary Heating Source Selections - Moved Natural Gas selections to bottom of list - Also updated Name Manager to exclude those selections in dropdown on Site Info tab since nat gas conversion are not eligible","ED","Draft38"]
[null,"Equipment Selection Tab: Fixed formatting and font color for header language that shows what measures are missing from project","ED","Draft38"]
[null,"Appliances Worksheet Tab: Fixed formatting for ES Refrigerator photot to Move and Size with Cells ","ED","Draft38"]
[null,"Appliances Worklsheet Tab: Updated rebate formulas for Tankless Water Heater and Heat Pump Water Heater to only populate rebate once a size has been selected","ED","Draft38"]
[null,"Appliances Worksheet Tab: Foxied formatting for LED Cells, and Oven Cells","ED","Draft38"]
[null,"Elig Tab: Row 9 - Added Water Heating Equipment to bonus/rebate language","ED","Draft38"]
[null,"Appliances worksheet tab: Added a Total Bonus field at top of tab next to total rebate field","ED","Draft38"]
[null,"Appliances ref Tab: Updated Lawn Mower Size \"4-4ah\" to 4-5AH in Cell O24","ED","Draft38"]
[null,"Appliances INS Form: Updated formula in Proposed/Installed cells to reflect correct ranges on Appliances Reference Tab ","ED","Draft38"]
["2.25.21","ASP Equip Info Tab: Removed 47F logic for AHRI Heating Capacity and replaced all language with \"AHRI Heating Capacity (BTUh)*:\n*@17⁰F for Cold Climate Units\" because all units are Whole House Cold Climate units","ED","Draft39"]
[null,"Load Calcs Tab: Changed \"Unit Controlled\" language to say \"Unit Controlled - From Smart Thermostats Tab\"","ED","Draft39"]
[null,"Load Cals TabL Changed Smart Thermostats/Intergrated Controls Type\" to just reflect \"Smart Thermostats\"","ED","Draft39"]
[null,"Equipment Selection Tab: Added code to ccASHP and GSHPs checkboxes to hide and unhide inspections forms with the equipment tabs","ED","Draft39"]
[null,"HC INS Post Form: Fixed formulas in manual J table","ED","Draft39"]
[null,"Smart Tstat Data - Updated code tied to clear inputs button","ED","Draft39"]
["2.25.21","Appliance Worksheet: Added Coefficient of Performance (COP) input for HPPHs","MCR","Draft 40"]
["3.01.21","Appliance Worksheet: Removed Data validation from locked cells in tankless water heater section","MCR","Draft 41"]
["3.02.21","Site Information: Updated \"btu\" to \"btuh\" for the existing equipment (per Z's comments)","MCR","Draft 42"]
[null,"Pre-Inspection Form: Updated Customer and Contractor Information to reference this workbook"]
[null,"Smart Thermostat: Bonus Total was added"]
[null,"Eligibility Table: Updated Appliances Table to remove secong Lawn Mower >5aH"]
[null,"Pre Inspection Form: Changed the Equipment Tonnage formula to divide by 12000"]
[null,"Appliance Worksheet: Added data validation to HPWH UEF to be Energy Star minimum requirements "]
[null,"Post Inspection Form: Unlocked some grey cells"]
["3.04.21","Updated eligibility language to exclude Rate 580 customers (these customers are already all electric)","AW","Draft 43"]
[null,"Updated guidelines to allow Natural Gas conversions","AW","Draft 43"]
[null,"Updated GSHP eligibility language to explain bonus will be calculated off of $1k/ton, regardless of system tonnage","Aw","Draft 43"]
["3.09.21","Ref Tab: Updated Whole House Heat Pump Rebates to $1,000/ton for Scenario 2 and $800/ton for Scenario 3"]
["3.09.21","Ref Tab: Updated Partial House rebates to $375 for Ducted ccASHP and $325 for Ductless ccASHP (This offering not available to AEH but updating for consistency across apps)","ED","Draft44"]
["x","Ref Tab: Updated LMI Whole House rebates to $3,000/Ton (This offering not available to AEH but updating for consistency across apps)","ED","Draft44"]
[null,"Tables Tab: Updated Whole House Rebate table to reflect $1,000/ton for Scenario 2 and $800/ton for Scenario 3","ED","Draft44"]
[null,"Elig Table Tab: Replaced Whole House rebate table with updated table","ED","Draft44"]
[null,"Dev Tab: Updated effective date to 4.05.21-7.02.21","ED","Draft44"]
[null,"Ts and Cs: Row 18 - Updated effective date to 7.02.21","ED","Draft44"]
[null,"Elig Tab: Row 3 - Removed Integrated Controls from end of statement and changed to Smart Thermostat","ED","Draft44"]
[null,"Ref Tab: Updated Name Mjanagers on Ref Tab to include Natural Gas selections back in dropdowns (Primary and Secondary heating source and heating type)","ED","Draft44"]
["3.9.21","Equipment Selection: Changed qualification formula to state what tier bonus the customer qualifies for","MCR","Drfat 45"]
[null,"Customer Information: Added Qualifying Tier to the Rebate section"]
[null,"Customer Informatio: Added Tier to the header (temporary so PSEG can see what it looks like)"]
["3.10.21","Language Scrub","AW","Draft 46"]
[]
["3.24.21","Load Cal Tab: Added \"IFNA\" clause to bonus field so \"#N/A\" wont show when page is blank","ED","Draft47"]
["3.24.21","Req Docs: Fixed typos in Geothermal Partner fields","ED","Draft47"]
[null,"All Tabs: Remove yellow highlighted language","ED","Draft47"]
["3.25.21","Appliances INS Form: Fixed code tied to update button to hide and unhide rows","ED","Draft 48"]
["3.26.21","Cust Info Tab: Added a cell that sums rebate and bonus for customer","Ed","Draft 49"]
["3.26.21","Guidelines Tab: Added the following language to row 8 regarding the 580 rate code","Ed","Draft 49"]
["3.29.21","Smart T-stat: Allowed Geothermal systems to appear for Primary Cooling and Heating","MCR","Draft 50"]
["3.30.21","References: Added to Capacity and Efficiency formulas for Smart Tstats to include Geo","MCR","Drfat 51"]
[]
["3.30.21","Locked and finalized for launch","ED","Version 1.0"]
["6.09.21","Dev Tab: Updated version to 1.1_Draft","AW","Version 1.1_Draft1"]
["6.09.21","Dev Tab: Updated effective date to 7.05.21-10.01.21","AW","Version 1.1_Draft1"]
["6.29.21","Dev Tab: Updated version to 1.1","AW","Version 1.1"]
["6.29.21","Locked and finalized for Q3 release","AW","Version 1.1"]
["6.30.21","Pre-Inspection Form (Geo): Added COVID screening questions","AW","Version 1.1_Draft2"]
["6.30.21","Inspection Form (Geo): Added COVID screening questions","AW","Version 1.1_Draft2"]
["6.30.21","Post-Inspection Form (HC): Added COVID screening questions","AW","Version 1.1_Draft2"]
["6.30.21","Pre-Inspection Form (HC): Added COVID screening questions","AW","Version 1.1_Draft2"]
["6.30.21","Appliances Inspection Form: Added COVID screening questions","AW","Version 1.1_Draft2"]
["6.30.21","Updated Macros on the Appliances Inspection form to accommodate new row range due to addition of COVID screening questions","AW","Version 1.1_Draft2"]
["6.30.21","Locked and finalized for Q3 release","AW","Version 1.1"]
["8.19.21","Dev tab: updated version number","AW","Version 2.0_draft2"]
["8.19.21","Appliances Reference: copy and pasted updated tables from Resi Master Internal","AW","Version 2.0_draft2"]
["8.19.21","Appliances Worksheet: hid rows 100-111 in order to remove Variable Speed Pool Pumps","AW","Version 2.0_draft2"]
["8.19.21","Appliances Worksheet: hid rows 160-183 in order to remove Lawn Mowers (sizes)","AW","Version 2.0_draft2"]
["8.19.21","Equipment Selection: removed checlbox for Variable Speed Pool Pumps","AW","Version 2.0_draft2"]
["8.19.21","Equipment Selection: updated macros to accomodate hiden lawn mower rows (new range: 148 to 159)","AW","Version 2.0_draft2"]
["8.23.21 ","Site Info: set the Income Eligible drop down to \"No\"","MR","Version 2.0_draft3"]
["8.23.21","Required docs: removed line 35, which mentioned income eligible verification","AW","Version 2.0_draft3"]
["8.23.21","Appliances References: updated rebate value for Electric Lawn Mower (All Sizes) to $30","AW","Version 2.0_draft3"]
["8.23.21","Ts and Cs: Updated date in row 18 to 12/31","ED","Version2.0_Draft4"]
["8.23.21","Instructions Tab: Removed Pool Pump from Equipment Selection instructions","ED","Version2.0_Draft4"]
["8.23.21","Contractor Information Tab: Removed Pool Pump Contractor (section now reflects Pool Heater Contractor only)","ED","Version2.0_Draft4"]
["8.23.21","Tables Tab: Edited Add-On Optional Measure to remove pool pumps and consolidate lawn mowers","ED","Version2.0_Draft4"]
["8.23.21","Elig Table Tab: Updated Add-On Option Measure table to account for removal of pool pumps and consolidation of lawn mowers","ED","Version2.0_Draft4"]
["9.7.21","Project Review: Updated HSPF/COP formula to populate \"\" when values are blank","MCR","Draft5"]
["9.9.21","PCF: Added language \"DO NOT SIGN THIS DOCUMENT UNTIL THE WORK IS 100% COMPLETE\"","AW","Draft 6"]
["9.10.21","Locked and saved draft 6 for retest","AW","Draft 6"]
["9.24.21","Guidelines tab: added the following language to row 32:","AW","Draft 7"]
[null,"If customer has participated in any other state or utility sponsored rebate program, related to the technology in this application, please contact a PSEG Long Island Representative to determine whether the project is also eligible under this program."]
["9.27.21","Appliances Refereances Tab: Updated Air Purifier sizing from 200 to 150 in the Measure Table (Product name)","AW","Draft 8"]
[null,"Eligibility Table Tab: Updated Appliances Table to reflect adjustment to Air Purifier sizing"]
[null,"Guidelines Tab: Language regarding quarterly release removed from row 6"]
["11.15.21","Development tab: Updated Year and Version for 2022 Version 1.0","MCR","Draft1"]
[null,"References: Changed the New Construction baseline split to 96% oil"]
[null,"References: Updated Baseline SEER and EER values"]
[null,"Qualifying Index: Updated QIV kW formula"]
[null,"References: Updated QIV kW factor"]
[null,"Qualifying Index: Added EFS cooling and heating columns to Smart T stat table"]
[null,"Qualifying Index: Updated Smart Tstat kWh formula to not change with connected and learning"]
[null,"Qualifying Index: Added Electric Boiler and Electric Furnace to EH measure discription"]
[null,"References: Added Desuperheater table like geo"]
[null,"Qualifying Index: Added desuperheater formula to desuperheater kWh (fossil fuel not needed for all electric homes with electric water heating)"]
["11.16.21","Appliances References tab: added $75 rebate amount to Solar Pool Cover on Measure table","AW","Draft2"]
[null,"Appliances Worksheet tab: Added Solar Pool Cover under \"other appliances\" (row 100-110)"]
[null,"Equipment Selection tab: added checkbox fod Solar Pool Cover under \"other appliances\""]
["11.17.21","Equipment Selection Tab: Formatted solar pool cover checkbox and changed to Active X Control","ED","Draft 3"]
["11.17.21","References: Added Basement configurations to HPwES insulation","MCR","Draft 4"]
["11.17.21","Guidelines tab: added eligbility language regarding Solar Pool Covers: \"To be eligible for a solar pool cover rebate in 2022, a solar pool cover must be installed with a Heat Pump Pool Heater or at a customer site that's received a Heat Pump Pool Heater through our program in the past.\" (see row 27)","AW","Draft 5"]
["11.18.21","Guidelines tab: added eligibility language for solar pool covers under Appliances section","AW","Draft 5"]
["11.18.21","Eligibility Table Tab: Updated Appliances Table to include Solar Pool Covers","AW","Draft 5"]
["11.19.21","Guidelines tab: Removed Solar Pool Cover language from row 27","AW","Draft 6"]
["11.19.21","Eligibility Table Tab: added Solar Pool Covers to row 107","AW","Draft 6"]
["11.19.21","Locked and saved draft 6 for testing","AW","Draft 6"]
["11.22.21","Appliance References Tab: updated measure codes for Room Air Purifiers","AW","Draft 7"]
["11.22.21","Saved and locked draft 7 for testing"]
["11.29.21","Copied the Admin tab in order to build a tab for Heat Pump Costs - retitled the copied tab \"Heat Pump Cost\"","AW","Draft 8"]
["11.30.21","Appliance Calculations: Updated logic for Air Purifiers in the Measure Code field ","AW","Draft 8"]
["11.30.21","Appliances Worksheet: Updated logic for bonus rebates under Tankless Water Heaters and Heat Pump Water heaters so that bonus rebate amount does not populate unless rebate field has data","AW","Draft 9"]
["11.30.21","Heat Pump Costs tab: reformatted tables to match HPC tab in Home Comfort application","AW","Draft 9"]
["12.1.21","ASHP Load Calcs: Updated logic in rebate field to prompt *Please enter cost on Heat Pump Costs tab* if applicant has not entered cost information","AW","Draft 10"]
["12.2.21","Heat Costs: updated logic in HPC table","AW","Draft 11"]
["12.6.21","References: Extended list of existing cooling and heating tables for geo to match the site info tab more closely","MCR","Draft 13"]
[null,"Prop0: Populated all geo fields"]
[null,"Project Review: Added geothermal information"]
["12.7.21","Load Calculations: Hid Controls and added \"Unit 1\" for all units","MCR","Draft 14"]
[null,"Load Calculations: Changed Smart Thermostat formula to look for the unit in Smart Tsats"]
["12.7.21","Project Review: Realigned geothermal table","MCR","draft15"]
["12.8.21","References: Updated Smart Thermostat Manufacturers nd models","MCR","Draft 16"]
[null,"References: Updated Smart Thermostat connected vs lerning criteria"]
[null,"Smart Tstat: Hid Column E"]
[null,"Locked for re-test"]
["12.15.21","Site Info: added pop-up language to cell C7  to read \"If residence type is existing building, please contact a PSEG Long Island representative\" when 'Existing Building' is selected from the dropdown in cell C6.","AW","Draft 17"]
[null,"HPwES tab: changed name of tab to \"Close Out Agreement\"","AW","Draft 17"]
[null,"Project Completion Form: set tab to Very Hidden so that standalone PCC can be used in its place going forward","AW","Draft 17"]
["12.20.21","All tabs: updated PSEG LI logo to most current version","AW","Draft 18"]
["12.21.21","Assignment Form tab: set sheet to Very Hidden","AW","Draft 19"]
["12.21.21","Close Out Agreement tab: renamed tab to \"Completion Information Form\"","AW","Draft 19"]
["12.21.21","Completion Info Form: changed \"TRC Companies\" to \"PSEG Long Island\" in row 13","AW","Draft 19"]
["12.21.21","Instructions Tab: set sheet to Very Hidden","AW","Draft 19"]
["12.30.21","References: Updated abcd Fcooling and Fheating tables for ccASHPs","MCR","Draft 20"]
["12.30.21","Locked Up Worksheet for Launch","MCR"]
["4.11.22","Dev tab: updated version and draft number","AW","2.0_draft1"]
["4.11.22","Eligibility Table: removed language in row 40","AW","2.0_draft1"]
["4.14.22","Qualifying Index: Added logic to HPwES rebate to not populate unless Total Cost is entered","AW","2.0_draft2"]
["4.14.22","References: Changed ccASHP efficiency requirements to match NEEP","AW","2.0_draft2"]
["4.14.22","References: Changed WH S3 rebate to be equivalent to S1 to S2","AW","2.0_draft2"]
["4.14.22","Tables: Created new Eligibility Table for Whole House Projects","AW","2.0_draft2"]
["4.14.22","Eligibility Table: Added new tables to the tab","AW","2.0_draft2"]
["4.14.22","Qualifying Index: Changed New Equipment + Tier formula not include \"EH\" logic","AW","2.0_draft2"]
["4.14.22","Qualifying Index: Changed Heating Manual J Pass/Fail to not include \"EH\" logic","AW","2.0_draft2"]
["4.14.22","Qualifying Index: Removed EH logic based on Heating Type \"<> Electric Resistance\"","AW","2.0_draft2"]
["4.19.2022","Dev Tab: Updated effective date to 5.1.22","AW","2.0_draft3"]
["4.20.2022","Guidelines tab: reformatted rows 45 & 46 to fit font","AW","2.0_draft4"]
["4.20.2022","Tables: created new Eligibility Table for Whole House Projects without income eligible rebates","AW","2.0_draft4"]
["4.20.2022","Eligibility Table: added new tables to the tab without income eligible rebates","AW","2.0_draft4"]
["4.20.2022","Eligibility Table: revised Geo guidelines to be more concise - removed language regarding water heating since it was covered in tables below","AW","2.0_draft4"]
["4.27.22","Loop Field Cx: reformatted fields in cells C40 and C48 in order to align with Engineering Specifications for COP","AW","2.0_draft5"]
["5.4.2022","Tables: edited Whole House table to remove Contractor Incentive","AW","2.0_draft6"]
["5.4.2022","Eligbility Table: Updated Whole House projects table","AW","2.0_draft6"]
[null," "]
["6.3.22","Customer Info Tab: Added a row for \"Estimated contractor incentive\"","ED","2.0_Draft7"]
[null,"Appliances Worksheet Tab: Added rows for Propane Cooking and image","ED","2.0_Draft7"]
[null,"Equipment Selection Tab: Added checkbox and image for Propane Stove","ED","2.0_Draft7"]
[null,"Ref Tab: Added Propane Stove to All Electric checklist","ED","2.0_Draft7"]
[null,"Tables Tab: Updated Appliance Tables to include Propane Cooking","ED","2.0_Draft7"]
[null,"Eligibility Table Tab: Updated images of Appliance tables to include Propance Cooking","ED","2.0_Draft7"]
[null,"Eligibility Table Tab: Added contractor incentive language in rows 15 and 16 per PSEG approval","ED","2.0_Draft7"]
["6.6.22","Guidelines Tab: Corrected wrap text in Geo row 53","ED","2.0_Draft8"]
["6.7.22","Ref tabL Added propance Stove to AEH measure table","ED","2.0_Draft9"]
[null,"Appliances Calcs: Added rows for Propane Stove","ED","2.0_Draft9"]
["6.22.22","Dev tab: updated draft number","AW","2.0_Draft11"]
[null,"GSHP Costs tab: added new tab","AW","2.0_Draft11"]
["6.23.22","GSHP Costs Tab: copied over Costs Table from Geothermal Application"]
["6.23.22","GSHP Costs tab: Added formulas for Product Info, Total Cost, and Incentive cap","MCR","Draft13"]
[null,"Space Heating Worksheet: Added Warning to fill in GSHP Costs tab"]
[null,"Space Heating Worksheet: changed Rebate formula to reference GSHP Costs tab"]
[null,"Space Heating Worksheet: Removed Desuperheater rebate table as incentives are not available in this worksheet"]
[null,"Qualifying Index: Removed Desuperheater savings"]
[null,"GSHP Costs tab: Added Dedicated Water Heating Product Info, Total Cost, and Incentive cap"]
[null,"Dedicated Water Heating: Added Warning to fill in GSHP Costs tab"]
[null,"Dedicated Water  Heating tab: changed rebate formula to reference GSHP costs"]
["7.18.22","Appliance References: Updated HPWH rebate to be $1000","MCR","Draft14"]
[null,"Eligibility tab: Updated HPWH rebate table to $1000"]
[null,"References: Updated HPwES rebates to 2023 levels per approved memo"]
["7.22.22","HPwES: Updated Heating Type to say \"Electric Heat Pump\"","MCR","Draft15"]
["8.1.22","Locked and saved for launch","AW"]
[]
["10.27.22","Dev Tab: Updated Year, Effective Date, version for 2023","ED","V1_D1"]
[null,"Equip Selection Tab: Removed lawn equipment check boxes"]
[null,"Elig Table Tab: Removed Lawn Equipment from Table"]
[null,"Elig Table Tab: Updated rebate in table for HPPH to $1,000"]
[null,"Appliances Ref Tab: Updated Rebate for HPPH to $1,000"]
[null,"Appliances Ref Tab: Added Text box to inform user that savings will no longer be updated and can be found in Resi Internal - Rebate vaues only will be updated on tab"]
["10.28.22","Guidelines Tab: Updated all 2022 references to 2023 and removed lawn equipment language","ED","V1_D2"]
["11.15.22","Elig Table Tab: Hid row 16 - Incentive doubled if completed by end of year","ED","V1_D3"]
[null,"Ref Tab: Updated Cooling Baselines Table for ASHPs"]
[null,"Ref Tab: Updated BE Table for ASHPS"]
[null,"Ref Tab: Updated Operating Hours for ASHPs"]
[null,"Ref tab: Updated CF to 69% for ASHPs"]
[null,"Heat Pump Cost: Rebate reference changed to Qualifying Index"]
[null,"Heat Pump Cost: Rebate reference changed to select minimum of cost cap or incentive"]
[null,"Load Calc Tab: Added Capping language to each rebate table"]
[11.16,"HPwES Tab: Added Data Validation Formula to Heating and Cooling dropdowns to populate HeatPump in dropdown only","ED","V1_D4"]
[null,"HPwES Tab: Updated Data Validation - Duct Sealing - Linear Footage of Ductwork and R-Value Installed"]
[null,"Site Info Tab: Updated Data validation fields for Existing Equipment "]
[null,"Ref Tab- Added NYS TR Insulation Table beginning in cell AX497"]
[null,"Qual Index: Started Making NYS TRM Insulation Updates. Left off at highlighted field"]
["11.17.22","Qual Index: Completed Insulation calc updates","ED","V1_D5"]
["11.21.22","References: Updated Baseline SEER, HSPF and EER values to new Standard","ED","V1_D6"]
[null,"References: Updated Commercial EFLH Hours - DOES NOT APPLY TO THIS APPLICATION, BUT UPDATED FOR CONSISTENCY ACROSS GEOTHERMAL APP"]
["12.5.22","Eligibility Table: Added language distinguishing max and rated sizing","ED","V1-D7"]
[null,"Tables Tab: Add \"Rated\" to Whole House CCASHP Table"]
[null,"Eligiblity table tab: updated Heat Pump table"]
[null,"ASHP Equipment Information: Added space for Max 17 degrees "]
[null,"ASH Equp Info Tab: Added rating method to confirm SEER or SEER2 testing"]
[null,"Ref Tab: Added table for SEER2/EER2/HSPF2"]
["12.6.22","Qualifying Index: Updated formulas to include the max heating capacity"]
[null,"Qualifying Index: Updated formulas for SEER/EER/HSPF to change based on SEER2/EER2/HSPF2 selection"]
[null,"Qualifying Index: Updated Heating min and max formulas"]
[null,"Ref Tab: Updated Integrated Control scenario table"]
[null,"Int Controls: Added rows 2-10"]
[null,"Qualiyinf Index: Added additional 8 rows for Int Control"]
["12.7.22","ASHP Load Calculations: Added language about rebates based on heating rated","ED","V1_D10"]
[null,"ASHP Equip Info Tab: Removed hide and unhide checkboxes for Heating and Cooling input tables"]
[null,"Load Calcs: Corrected capping formula "]
["12.19.22","Qual Inde: Updated rounding in SEER, EER< HSPF Formulas","ED","V11"]
[null,"Ref tab: Updated Rebates for Smart Stats - Connected =$100, Learning = $130"]
[null,"INS Forms: Added INS signature fields"]
[null,"Ref tab: Updated Rebates for RAPS - Less Than 150 CADR = $60, Greater than = $80"]
["12.23.22","Qual Index: Corrected Geo Bonus Formula","ED","V12"]
[]
["12.29.22","Removed all highlights","ED","v13"]
[]
["1.3.23","Locked and Final per client approval","ED","Version 1.0"]