{"text_format":"1","workbook":"xlsx","n_sheets":32,"sheets":["Application Form","Customer Information","Ts and Cs","Required Documents","AssignmentForm","Guidelines ","Smart T-Stats","Worksheet","Insulation Eligibility","HPwES H&S","Glossary","Inspection Form","Qualifying_Index","References","Air Flow References","Tables","ProposedEquipment0","Admin","EFS Pre-Approval","AIRFLOW FORM","AIRFLOW FORM 2","AIRFLOW FORM 3","AIRFLOW FORM 4","AIRFLOW FORM 5","AIRFLOW FORM 6","AIRFLOW FORM 7","AIRFLOW FORM 8","AIRFLOW FORM 9","AIRFLOW FORM 10","Project Completion Form","Project Completion Form HPwES","Development"],"not_rendered":{"charts":0,"images":97,"macros":1,"external_links":5,"defined_names":277,"comments":8,"pivot_tables":0},"unopened":[],"bounds":{"document_bytes":16777216,"sheet_cells":100000,"rows_first":2000,"rows_last":500,"rows_between":2000,"halvings":0,"cell_chars":16384,"cell_head_chars":4096},"cells_cut":0,"cells_raw":0,"read":"whole","date_system":"1900"}

{"sheet":"Application Form","index":0,"n_rows":127,"n_cols":9,"rows_kept":127,"cut":false,"hidden":true,"merged":[[68,1,68,10],[0,1,0,10],[1,2,1,8],[3,1,3,10],[9,2,9,10],[45,2,45,10],[46,2,46,10],[47,2,47,10],[48,2,48,10],[60,1,60,10],[65,1,65,10],[66,2,66,8],[92,1,92,9],[70,7,70,9],[72,4,72,6],[72,8,72,9],[74,4,74,6],[76,4,76,5],[78,4,78,5],[80,4,80,6],[82,4,82,5],[84,4,84,6],[86,4,86,5],[88,1,88,10],[93,1,93,3],[93,4,93,6],[93,8,93,9],[94,1,94,3],[94,4,94,6],[94,8,94,9],[95,1,95,3],[95,4,95,6],[95,8,95,9],[96,1,96,3],[96,4,96,6],[96,8,96,9],[97,1,97,3],[97,4,97,6],[97,8,97,9],[99,1,99,9],[100,1,100,3],[100,4,100,6],[100,8,100,9],[107,1,107,3],[107,4,107,6],[107,8,107,9],[101,1,101,3],[101,4,101,6],[101,8,101,9],[102,1,102,3],[102,4,102,6],[102,8,102,9],[104,1,104,3],[105,1,105,9],[106,1,106,3],[106,4,106,6],[106,8,106,9],[108,1,108,3],[108,4,108,6],[108,8,108,9],[109,1,109,3],[109,4,109,6],[109,8,109,9],[110,1,110,3],[110,4,110,6],[110,8,110,9],[112,1,112,9],[113,1,113,3],[113,4,113,6],[113,8,113,9],[119,1,119,10],[121,4,121,6],[124,1,124,10],[126,1,126,10],[114,1,114,3],[114,4,114,6],[114,8,114,9],[115,1,115,3],[115,4,115,6],[115,8,115,9]]}
[null,{"$f":"Development!A3&\" Residential Rebate Application Form\"","v":"2023 Residential Rebate Application Form"}]
[null,null,"PSEG Long Island's Residential Central Air Conditioning Program, Central Air Conditioners, Heat Pumps, Ductless Mini Split Systems."]
[]
[null,"REBATE OPTION 2: Choose any Central Air Conditioning (CAC) Contractor"]
[]
[null,"Directions:"]
[null,"1.","Customer hires a contractor (at least three estimates are recommended prior to selection)."]
[null,"2.","Customer has a qualifying system installed."]
[null,"3.",{"$f":"\"Customer fills out and signs the \"&Development!A3&\" Residential Rebate Application Form.\"","v":"Customer fills out and signs the 2023 Residential Rebate Application Form."}]
[null,"4.",{"$f":"\"Customer submits \"&Development!A3&\" Residential Rebate Application Form and all required documentation listed below. Copy all forms prior to submission/keep a copy for your records.\"","v":"Customer submits 2023 Residential Rebate Application Form and all required documentation listed below. Copy all forms prior to submission/keep a copy for your records."}]
[null,"5.","If all required paperwork is correct and all rebate requirements are fulfilled, a rebate check will be sent to the customer."]
[]
[null,"Required Documents Checklist:"]
[]
[]
[]
[]
[null,null,"▪","Customer name and installation address matching electric account holder information"]
[null,null,"▪","Equipment manufacturer"]
[null,null,"▪","Condenser model number and serial number"]
[null,null,"▪","Coil/Air Handler model number and serial number"]
[null,null,"▪","Total Cost"]
[]
[]
[null,null,"Eligible Equipment Table:"]
[]
[]
[]
[]
[]
[]
[]
[]
[]
[]
[]
[]
[]
[]
[null,"Rebate Requirements / Terms and Conditions:"]
[null,"1.","There must be a PSEG Long Island residential electric account at the installation site in the applicant’s name."]
[null,"2.",{"$f":"\"Unit(s) must be purchased and installed between \"&TEXT(DATE(Development!A3,1,1),\"M/D/YY\")&\" and \"&TEXT(DATE(Development!A3,12,31),\"M/D/YY\")&\".\"","v":"Unit(s) must be purchased and installed between 1/1/23 and 12/31/23."}]
[null,"3.",{"$f":"\"Rebate application must be submitted within 90 days of purchase and postmarked no later than \"&TEXT(DATE(Development!A3,12,31),\"M/D/YY\")&\".\"","v":"Rebate application must be submitted within 90 days of purchase and postmarked no later than 12/31/23."}]
[null,"4.","Please allow up to 60 days for delivery of the rebate check."]
[null,"5.","Some ENERGY STAR® qualified equipment may not be eligible for this rebate. Qualifying units must be listed in the AHRI directory."]
[null,"6.","It is the customer’s responsibility to ensure contractor has proper licenses, certifications and insurance. Installation is to be properly permitted (or received authorization). Documents, including but not limited to, permits and surveys are to be provided upon request."]
[null,"7.","Replacement of systems less than five years old, that were rebated, are not eligible for a rebate unless the SEER level of the\nreplacement unit is higher than the existing unit by at least one full SEER level."]
[null,"8.","All units, including Ductless Mini Split Systems, must be installed with the matching pieces specified in the AHRI directory. These rebates apply to new and replacement total system installations performed during the term of this rebate program. The Condenser (outdoor), and Coil/ Air Handler (indoor) must be installed new and constitute one unit. Partial system replacements do not qualify."]
[null,"9.","PSEG Long Island reserves the right to inspect the equipment installation to ensure compliance with program requirements.\nFailure to allow PSEG Long Island access to the equipment will result in a denial of the rebate application."]
[null,"10.","PSEG Long Island is not responsible for any tax liability imposed as a result of rebate payments."]
[null,"11.","PSEG Long Island reserves the right to use the customer rebate to credit accounts in arrears."]
[null,"12.","PSEG Long Island is not responsible for lost or undeliverable mail or email."]
[]
[null,"Submit Signed Application Form and all Required Documents:"]
[null,null,"By Email: Preferred method for timely processing - coolhomesli@pseg.com"]
[null,null,"By Mail: PSEG Long Island's Residential CAC Program"]
[null,null,null,"395 North Service Road, Suite 409, Melville, NY 11747"]
[]
[]
[]
[null,"Any Questions? Call PSEG Long Island's Infoline at 1-800-692-2626 or visit PSEG Long Island's website for more information at www.psegliny.com/efficiency"]
[]
[]
[]
[]
[null,{"$f":"Development!A3&\" Residential Rebate Application Form\"","v":"2023 Residential Rebate Application Form"}]
[null,null,"PSEG Long Island's Residential Central Air Conditioning Program, Central Air Conditioners, Heat Pumps, Ductless Mini Split Systems."]
[]
[null,"Customer Information:"]
[]
[null,"Your PSEG Long Island Residential Account Number (found on the back of your bill): "]
[]
[null,"Your Name:",null,null,null,null,null,"E-Mail:"]
[]
[null,"Account/Installation Address:"]
[]
[null,"City:",null,null,null,null,"State:",null,"Zip:"]
[]
[null,"Home Telephone:",null,null,null,null,"Work Telephone:"]
[]
[null,"Mailing Address: (if different)"]
[]
[null,"City:",null,null,null,null,"State:",null,"Zip:"]
[]
[null,"Installation Contractor Name:",null,null,null,null,null,null,"Contractor Telephone:"]
[]
[null,"Installation Date:"]
[]
[null,"Product Information:"]
[]
[null,"Unit Number 1:"]
[]
[null,"New Equipment"]
[null,"Manufacturer:",null,null,null,null,null,"AHRI Reference No:"]
[null,"Condenser Model No. (outdoor):",null,null,null,null,null,"SEER Rating:"]
[null,"Condenser Serial No. (outdoor):",null,null,null,null,null,"EER Rating:"]
[null,"Coil/Air Handler Model No. (Indoor):",null,null,null,null,null,"HSPF Rating (Heat Pump Only):"]
[null,"Coil/Air Handler Serial No. (Indoor):",null,null,null,null,null,"Tons:"]
[]
[null,"Existing Equipment"]
[null,"Manufacturer:",null,null,null,null,null,"SEER Rating:"]
[null,"Condenser Model No. (outdoor):",null,null,null,null,null,"EER Rating:"]
[null,"Coil/Air Handler Model No. (Indoor):",null,null,null,null,null,"Tons:"]
[]
[null,"Unit Number 2:\n(if applicable)"]
[null,"New Equipment"]
[null,"Manufacturer:",null,null,null,null,null,"AHRI Reference No:"]
[null,"Condenser Model No. (outdoor):",null,null,null,null,null,"SEER Rating:"]
[null,"Condenser Serial No. (outdoor):",null,null,null,null,null,"EER Rating:"]
[null,"Coil/Air Handler Model No. (Indoor):",null,null,null,null,null,"HSPF Rating (Heat Pump Only):"]
[null,"Coil/Air Handler Serial No. (Indoor):",null,null,null,null,null,"Tons:"]
[]
[null,"Existing Equipment"]
[null,"Manufacturer:",null,null,null,null,null,"SEER Rating:"]
[null,"Condenser Model No. (outdoor):",null,null,null,null,null,"EER Rating:"]
[null,"Coil/Air Handler Model No. (Indoor):",null,null,null,null,null,"Tons:"]
[]
[null,null,null,null,null,null,null,null,"Total Rebate Amount Expected: $"]
[]
[null,"I certify that I purchased the unit(s) on the enclosed invoice and /or contract and that they were installed at the location indicated. I agree to the terms and conditions stated on this application (see rebate requirements)."]
[]
[null,"Customer's Signature:",null,null,null,null,null,null,"Date:"]
[]
[]
[null,"PSEG Long Island administrators the rebate program on behalf of the Long Island Power Authority, the rebate program sponsor. Please visit www.psegliny.com/efficiency for more details."]
[]
[null,"Any Questions? Call PSEG Long Island's Infoline at 1-800-692-2626 or visit PSEG Long Island's website for more information at www.psegliny.com/efficiency"]

{"sheet":"Customer Information","index":1,"n_rows":44,"n_cols":12,"rows_kept":44,"cut":false,"hidden":false,"merged":[[13,2,13,3],[18,2,18,4],[16,2,16,3],[32,10,32,11],[8,10,8,11],[14,2,14,8],[23,8,23,9],[19,2,19,8],[19,9,19,11],[21,0,21,11],[24,10,24,11],[25,10,25,11],[26,10,26,11],[28,0,28,11],[29,0,29,1],[29,2,29,5],[9,2,9,5],[5,0,5,1],[5,2,5,5],[5,10,5,11],[6,0,6,1],[6,2,6,5],[0,0,0,7],[1,0,1,7],[2,0,2,11],[3,0,3,11],[4,0,4,1],[4,2,4,5],[4,10,4,11],[13,0,13,1],[13,9,13,10],[6,8,6,9],[7,0,7,1],[7,2,7,5],[7,8,7,9],[8,0,8,1],[8,2,8,5],[8,8,8,9],[9,8,9,9],[9,10,9,11],[10,0,10,1],[10,2,10,5],[10,8,10,9],[10,10,10,11],[9,0,9,1],[22,0,22,1],[22,2,22,5],[23,0,23,1],[23,2,23,5],[24,0,24,1],[24,2,24,5],[16,9,16,10],[29,8,29,11],[31,0,31,11],[43,3,43,5],[43,6,43,8],[33,0,33,11],[35,0,35,11],[36,0,36,1],[36,2,36,8],[38,0,38,1],[38,2,38,8],[38,10,38,11],[25,0,25,1],[25,2,25,5],[26,0,26,1],[26,2,26,5]]}
[{"$f":"Development!A3&\" \"&Development!A5","v":"2023 Commercial Efficiency Program"}]
[{"$f":"\"Commercial Weatherization Rebate Application, Version \"&Development!$A$2","v":"Commercial Weatherization Rebate Application, Version 1.0"},null,null,null,{"$f":"References!$C$24&References!#REF!&\"Home Comfort and Home Performance \nRebate Application, Version \"&Development!$A$2","v":{"$error":"#REF!"}}]
["The Commercial Efficiency Program offers rebates to commercial, industrial, institutional, educational, municipal or multi-family building customers who install qualifying energy efficient equipment. Customers must have an existing business to participate. Rebates require pre-approval."]
["Customer Information"]
["Account No:",null,null,null,null,null,null,null,null,"Rate Code:"]
["Account Name:",null,null,null,null,null,null,null,null,"Tax ID:"]
["Facility Address:",null,null,null,null,null,null,"City:",null,null,"Zip:"]
["Mailing Address:\n(If different than above)",null,null,null,null,null,null,"City:",null,null,"Zip:"]
["DBA:",null,null,null,null,null,null,null,"Home Phone:"]
["Contact Name/Title:",null,null,null,null,null,null,null,"Cell Phone:"]
["E-Mail Address:",null,null,null,null,null,null,null,"Fax:"]
[]
[]
["Organization Type:",null,"…please select…",null,null,null,null,null,null,"Building Size (ft2):"]
[]
[]
["Building Type:",null,"… please select …",null,null,null,null,null,null,"Daily Facility Hours:"]
[]
["Rebate Payment Method:",null,"…please select…"]
[]
[]
["Contractor Information"]
["Contractor Name:"]
["Contractor Address:",null,null,null,null,null,null,"City:",null,null,"Zip:"]
["Contact Name/Title:",null,null,null,null,null,null,null,null,"Business Phone:"]
["Tax ID #:",null,null,null,null,null,null,null,null,"Cell Phone:"]
["E-Mail Address:",null,null,null,null,null,null,null,null,"Fax:"]
[]
["Disclaimer: Terms and conditions are subject to change without notice, including early termination of this promotion. No additional fees apply. The rebate will be issued in the form of a check unless otherwise indicated. PSEG Long Island administers the rebate program on behalf of the Long Island Power Authority, the rebate program sponsor. Please visit www.psegliny.com/efficiency for more details. "]
["Contact Name/Title:",null,{"$f":"IF($C$25=\"\",\"\",$C$25)","v":""},null,null,null,null,"Signature: "]
[]
["Rebate"]
[null,null,null,null,null,null,null,null,null,"Total Estimated Customer Rebate Amount:",{"$f":"SUM(Worksheet!J48,Worksheet!J87,Worksheet!J107,Worksheet!J147,Worksheet!J165)","v":0}]
["*Disclaimer: Terms and conditions are subject to change without notice, including early termination of this promotion. No additional fees apply. The rebate may be issued in the form of a check. PSEG Long Island administers the rebate program on behalf of the Long Island Power Authority, the rebate program sponsor. Please visit https://www.PSEGLIny.com/Efficiency for more details."]
[]
["Certification Statement:  \nCustomer has read, understands and agrees to be bound by the Terms and Conditions set forth herein, and agrees to abide by them.  By participating in this program, Customer agrees on behalf of itself and any successor in interest or assignee that PSEG Long Island obtains and/or retains ownership of all rights to existing and future emission credits, renewable energy rights to existing and future emissions credits, renewable energy green tags, tradable renewable certificates and/or any and all other environmental benefits associated with the installation of the ECMs. Customer certifies that the information provided in the herein is true and accurate.  Customer further certifies that the energy saving products described herein have or will be installed in the facility indicated above and will not be resold.  As specified herein, Customer agrees to permit PSEG Long Island to: (1) verify the purchase invoices and product installations and (2) upon request, install and remove load-monitoring equipment at the facility.  Customer acknowledges that the rights and obligations in this application shall be binding upon assignees, successors and future owners of the facility.  Customer agrees to include restrictions contained in this agreement in any leases, sales, contracts, or other similar documents relating to the use and ownership of the facility.  Customer acknowledge that, consistent with PSEG Long Island’s Efficiency Long Island program policies and procedures, PSEG Long Island may pro-rate a rebate or incentive (the “Rebate”) if the Customer purchases less than its full electric requirements from PSEG Long Island.  Customer further acknowledges that PSEG Long Island may require the Customer to repay all or a portion of the Rebate received if, within five (5) years of receipt of the Rebate, the Customer ceases purchasing its full electric requirements from PSEG Long Island or increases its use of electric power from non-PSEG Long Island sources at the facility, other than through the Long Island Choice Program.\n"]
["Account Holder Name:\n(Print)"]
[]
["Customer Signature:\nDuly authorized representative",null,null,null,null,null,null,null,null,"Date:"]
[]
[]
[null,null,null,null,null,null,null,null,null,"For PSEG Long Island use only:","Application ID:"]
[]
["Application Version:",{"$f":"Development!A2","v":"1.0"},null,null,null,null,null,null,null,null,"Effective:",{"$f":"Development!A4","v":"11.14.22"}]

{"sheet":"Ts and Cs","index":2,"n_rows":79,"n_cols":11,"rows_kept":79,"cut":false,"hidden":false,"merged":[[73,1,73,10],[61,1,61,10],[63,1,63,10],[65,1,65,10],[69,1,69,10],[72,1,72,10],[53,1,53,10],[55,1,55,10],[57,1,57,10],[58,1,58,10],[60,1,60,10],[41,1,41,10],[45,1,45,10],[47,1,47,10],[48,1,48,10],[49,1,49,10],[30,1,30,10],[33,1,33,10],[35,1,35,10],[37,1,37,10],[39,1,39,10],[23,1,23,10],[24,1,24,10],[26,1,26,10],[27,1,27,10],[29,1,29,10],[85,1,85,11],[0,0,0,6],[1,0,1,6],[2,0,2,4],[82,1,82,11],[84,1,84,11],[4,1,4,10],[5,1,5,10],[8,1,8,10],[9,1,9,10],[11,1,11,10],[14,1,14,10],[16,1,16,10],[17,1,17,10],[19,1,19,10],[22,1,22,10],[77,2,77,10],[81,1,81,11],[78,3,78,5],[78,6,78,8],[79,1,79,11],[128,1,128,11],[113,1,113,11],[115,1,115,11],[116,1,116,11],[118,1,118,11],[120,1,120,11],[124,1,124,11],[110,1,110,11],[126,1,126,11],[127,1,127,11],[112,1,112,11],[88,1,88,11],[90,1,90,11],[103,1,103,11],[104,1,104,11],[108,1,108,11],[100,1,100,11],[102,1,102,11],[96,1,96,11],[92,1,92,11],[94,1,94,11]]}
[{"$f":"'Customer Information'!A1","v":"2023 Commercial Efficiency Program"}]
[{"$f":"'Customer Information'!A2:H2","v":"Commercial Weatherization Rebate Application, Version 1.0"}]
["Terms and Conditions"]
["1. Rebates"]
["a)","Subject to these Terms and Conditions, PSEG Long Island and/or its subsidiary, the Long Island Lighting Company d/b/a PSEG Long Island (hereinafter referred to individually or collectively as “PSEG Long Island”), will pay rebates to eligible Customers (hereinafter “Customers”) for the installation of Energy Conservation Measures (“ECMs”) listed on PSEG Long Island’s Commercial Weatherization application forms."]
["b)","ECMs are those electric conservation measures identified as such in program materials issued by PSEG Long Island and other site-specific Custom or Whole Building Design Measures that are approved by PSEG Long Island.  The installation of ECMs and other site-specific Custom or Whole Building Design Measures will be referred to as (“Project”) in these Terms and Conditions. "]
["c)","All ECMs must be new equipment and installed by licensed contractors where required by code and/or law."]
["2. Customer Eligibility"]
["a)","The PSEG Long Island Commercial Weatherization Program (“Program”) is available to all non-residential electric customers in the PSEG Long Island “Service Area,” which includes Nassau and Suffolk counties and a portion of Queens County known as the Rockaways."]
["b)","By participating in this Program, Customer agrees that PSEG Long Island obtains and/or retains ownership of all rights to existing and future emissions credits, renewable energy rights to existing and future emissions credits, renewable energy green tags, tradable renewable certificates and/or any and all other environmental benefits associated with the installation of the eligible equipment."]
["3. Pre-Approval and Pre-Installation Survey"]
["a)","PSEG Long Island will not pay any rebates unless PSEG Long Island pre-approves the ECMs proposed by the Customer and completes, to PSEG Long Island’s satisfaction, a pre-installation survey of the Customer’s facilities, unless PSEG Long Island has expressly waived such pre-approval/inspection requirement."]
["b)","PSEG Long Island reserves sole discretion to approve or disapprove of any proposed ECMs."]
["4. Post-Installation Verification"]
[null,"PSEG Long Island will not pay any rebates until it has performed, to PSEG Long Island’s satisfaction a post-installation verification of the installation, unless PSEG Long Island has expressly waived such post-installation verification requirement.  If PSEG Long Island determines that the ECMs were not installed in a manner that is consistent with the purpose of achieving energy savings, or if the installation was not consistent with generally accepted good engineering practices, PSEG Long Island reserves the right to require changes before making any rebate payments.  PSEG Long Island will not pay rebates until it has been verified that the Customer has received, as appropriate, final drawings, operation and maintenance manuals, and operator training."]
["5. Customer Application and Analysis"]
["a)","In addition to completing the application, the Customer may be required by PSEG Long Island to provide an analysis of the demand and energy reduction potential of the proposed ECMs.  In some cases, a Professional Engineer licensed in the state of New York must prepare the analysis.  Nameplate data may be required at PSEG Long Island’s discretion.  "]
["b)","PSEG Long Island may review the Customer’s application and analysis to make an independent determination of the energy saving and demand reduction potential.  PSEG Long Island reserves the right to reject or modify any calculations, based on PSEG Long Island’s own analysis."]
["6. Site-Specific Custom Measures"]
[null,"PSEG Long Island will only approve of those site-specific Custom ECMs that PSEG Long Island believes have cost-effective energy and/or demand reduction potential.  In any case, PSEG Long Island reserves sole discretion to approve or disapprove of payment of rebates for any such proposed ECMs."]
["7. Rebate Amounts"]
["a)","Before pre-approving any rebate amounts requested by the Customer, PSEG Long Island reserves the right to adjust the rebate amount."]
["b)","Once a rebate amount is pre-approved, PSEG Long Island will pay the customer no more than 80% of the installed cost of the ECM, or the pre-approved rebate amount, whichever is less."]
["c)","PSEG Long Island reserves the right to lower the rebate amount if the quantity and/or cost of ECMs actually installed by the Customer differ from the pre-approved amounts.  "]
["d)","Notwithstanding any other provision of these Terms and Conditions, PSEG Long Island reserves the right to a refund of any rebates paid if, at any time, it learns that any agreed to ECMs were not actually, or properly installed, or have subsequently been disconnected."]
["e)","Custom Applications – The approved rebate cannot exceed PSEG Long Island’s electric savings benefits, as determined by PSEG Long Island through its analysis of the project"]
["f)","PSEG Long Island reserves the right to withhold payment or to award the rebate in the form of a bill credit.  Customers in arrears at the time of rebate payment may not be eligible to receive a rebate."]
["g)","The UL classification of Energy Verification Services (EVS) for the appropriate product classification is required.  PSEG Long Island reserves the right to withhold rebate payments for or disqualify any ECM’s that do not carry the Underwriter’s Laboratory (UL) Classification Mark or, with the written consent of PSEG Long Island, an equivalent independent efficiency and product safety certification organization.  "]
["8. ECM and Installation Proof of Payment  "]
["a)","The Customer must provide copies of all invoices (including itemization of all materials, labor, and equipment discounts) reflecting the costs of purchasing and installing the ECMs.  The invoices shall include a breakdown of all ECMs purchased for installation under the Program.  In addition, PSEG Long Island may require any other reasonable documentation or verification of the cost to the Customer of purchasing and installing the ECM.  PSEG Long Island may require invoices from Customer’s contractor to determine the price paid by the contractor (including any discounts or rebates) for the ECMs.  For custom ECMs, PSEG Long Island reserves the right to use the contractor’s reasonable costs in order to determine the correct rebate amount.  "]
["b)","PSEG Long Island may require copies of the construction specifications, including relevant ECMs, provided to the construction/installation contractors for certain Projects. PSEG Long Island may refuse to pay rebates if the specifications do not adequately provide for installation of the ECMs consistent with good engineering and energy-efficient design practices.  Customer will, upon request by PSEG Long Island, provide a copy of the as-built drawings and equipment submittals for the facility.  "]
["c)","Title to all of the equipment purchased under this agreement shall rest with the Customer."]
["9. Installation Service Costs Recognized"]
[null,"PSEG Long Island will recognize installation costs only to the extent that they are determined by PSEG Long Island to be reasonable and actually incurred by the Customer."]
["10. Contractor Shared Savings Arrangements"]
[null,"If Custom ECMs are being installed by Customer’s contractor under a “shared savings” contract or other situation where the customer’s contract is not based upon the price of installed equipment, PSEG Long Island reserves the right to determine the cost of purchasing and installing the ECMs based on the reasonable retail costs in purchasing the equipment and installing the ECMs."]
["11. Date of Rebate Payments"]
[null,"PSEG Long Island expects to pay the rebate within sixty (60) days after all of the following conditions are met:  (1) construction/renovation of Customer’s facility is completed; (2) Customer has received an occupancy permit; and (3) PSEG Long Island has verified equipment and installation costs and satisfactory installation of the ECMs, all in accordance with the specifications. (4) All documents required by the application have been received by PSEG Long Island. "]
[]
[]
["12. Monitoring and Evaluation Follow-up Visits"]
["a)","PSEG Long Island reserves the right to make a reasonable number of installation follow-up visits to Customer’s Facility during the 24 months following the actual completion date noted on this application.  Such visit(s) are not meant to inconvenience the Customer, PSEG Long Island, and the Customer agrees to provide access within a reasonable timeframe of receiving the request for a follow up visit."]
["b)","The purpose of the follow-up visit(s) is to provide PSEG Long Island with an opportunity to review the operation of the ECMs for program evaluation purposes.  "]
["13. Limited Scope of Review"]
[null,"PSEG Long Island is under no obligation to:  (1) make follow-up visits, (2) review the operation of the ECMs, or (3) make any suggestions of any kind to the Customer.  "]
[null,"The scope of review by PSEG Long Island of the design and installation of the ECMs is limited solely to determining whether Program conditions have been met.  It does not include any kind of safety review."]
["14. Changes in the Program"]
["a)","PSEG Long Island may change the program and the Terms & Conditions at any time without notice.  PSEG Long Island, however, will process pre-approved applications, to completion under the Terms & Conditions in effect at the time of the pre-approval."]
["b)","PSEG Long Island reserves the right, for any reason, to stop pre-approving ECMs at any time without notice.  In particular, PSEG Long Island is not obligated to pre-approve any application for an rebate that may result in PSEG Long Island exceeding its program budget"]
["c)","The Program described in the application may be altered, suspended, or canceled by PSEG Long Island at any time without prior notice.  Under such circumstances, the Customer is not entitled to any Program benefits in excess of those approved prior to such action by PSEG Long Island.  Submission of a completed application does not entitle the Customer to program participation.  Entitlement to Program participation can only occur after PSEG Long Island has signed a copy of the application and granted pre-approval"]
["15. Payments Assignable to Contractors"]
[null,"The Customer may direct that rebates be paid directly to the Customer’s contractor.  This request must be made expressly in writing."]
["16. Publicity of Customer Participation"]
[null,"PSEG Long Island may publicize the Customer’s participation in the Program, the results, the amount of rebates paid to the Customer, and any other information which reasonably relates to the Customer’s participation. "]
["17. Installation Schedule Requirements"]
[null,"Where there is no deadline indicating otherwise on the application, PSEG Long Island may terminate the application and any approved rebate if the Customer is not engaged in installation of the pre-approved ECMs by the end of 180 days from the date PSEG Long Island approves the Customer’s Retrofit application and One year for all Custom applications."]
["18. Limitation of Liability and Indemnification"]
[null,"PSEG Long Island’s liability is limited to paying the approved rebates. .  Neither PSEG Long Island,  nor its affiliates, subsidiaries, Manager, employees, consultants, agents and contractors (“PSEG Long Island Parties”) shall be liable to the Customer for any consequential or incidental damages or for any damages in tort (including negligence) caused by any activities associated with this application or  the Program."]
[null,"The Customer shall protect, indemnify, and hold harmless PSEG Long Island, and the PSEG Long Island Parties from and against all liabilities, losses, claims, damages, judgments, penalties, causes of action, costs and expenses (including, without limitation, attorney’s fees and expenses) imposed upon or incurred by or assessed against PSEG Long Island, and the PSEG Long Island Parties resulting from, arising out of, or relating to the Program."]
["19. No Warranties"]
["a)","PSEG Long Island does not endorse, guarantee, or warrant any particular manufacturer or product, and PSEG Long Island provides no warranties, expressed or implied, for any product or services.   "]
["b)","The Customer acknowledges that neither PSEG Long Island nor any of the PSEG Long Island Parties are responsible for assuring that the design, engineering and construction of Customer’s Project or that the installation of the ECMs is proper or complies with any particular laws (including patent laws), codes, or industry standards.  PSEG Long Island does not make any representations of any kind regarding the results to be achieved by the ECMs or the adequacy or safety of such measures."]
["20. Customer Must Pay All Taxes"]
[null,"The benefits conferred upon the Customer through participation in this program may be taxable by the federal, state, and local government.  The Customer is responsible for declaring any benefits and paying any associated  taxes.   "]
["21. Pre-Approval Letter"]
[null,"After an application is approved by PSEG Long Island’s authorized executive, the Customer will receive written notification of the pre-approved rebate amount and the date that the ECMs must be fully installed to qualify for rebate payments.  Any ECMs installed prior to the issuance of PSEG Long Island’s written authorization will be deemed as an unauthorized installation and PSEG Long Island will have no obligation to pay rebates for those ECMs."]
["22. Vendor Selection"]
[null,"It is the Customer’s responsibility to select a vendor to perform the work indicated on the Customer’s Application."]
["23. Removal of Equipment"]
[null,"The Customer agrees, as a condition of participation in the Program, to remove and dispose of all equipment being replaced by the ECMs and further agrees to carry out such removal and disposal in accordance with all laws, rules, and regulations.  The Customer agrees not to reinstall any of this equipment in the Service Area of PSEG Long Island."]
["24. Miscellaneous"]
["a)","By providing a telephone number you are giving consent to be contacted at that number about matters that are closely related to the utility service."]
["b)","These Terms and Conditions and program requirements outline the conditions under which PSEG Long Island will pay rebates.  These Terms and Conditions are subject to change at PSEG Long Island’s discretion. "]
["c)","If any provision of the Terms and Conditions is deemed invalid by any court or administrative body having jurisdiction, such ruling shall not invalidate any other provision, and the remaining Terms and Conditions shall remain in full force and effect in accordance with their terms.  "]
["d)","The Customer’s acceptance of final payment releases PSEG Long Island from all claims and liabilities to the Customer, and its representatives or assigns."]
[]
[null,"I have read and understand the terms and conditions detailed above.",null,null,null,null,"(initials)"]
[]
["Application Version:",null,{"$f":"Development!$A$2","v":"1.0"},null,null,null,null,null,null,"Effective:",{"$f":"Development!$A$4","v":"11.14.22"}]

{"sheet":"Required Documents","index":3,"n_rows":33,"n_cols":8,"rows_kept":33,"cut":false,"hidden":false,"merged":[[0,0,0,3],[28,1,28,8],[27,1,27,7],[25,1,25,2]]}
[{"$f":"'Customer Information'!A1","v":"2023 Commercial Efficiency Program"}]
[{"$f":"'Customer Information'!A2:H2","v":"Commercial Weatherization Rebate Application, Version 1.0"}]
[null,"Required Documents for All Projects"]
[null,"Document:",null,"Responsible Party",null,null,"Deliverable Timeline"]
[null,null,null,"Customer",null,null,"Pre-Installation"]
[null,null,null,"Customer/Applicant",null,null,"Pre-Installation"]
[null,null,null,"Customer",null,null,"Pre-Installation"]
[null,null,null,"Customer/Applicant",null,null,"Pre-Installation"]
[null,null,null,"PSEG Long Island Project Manager",null,null,"Pre-Installation"]
[null,null,null,"Customer",null,null,"Pre-Installation"]
[null,null,null,"PSEG Long Island Project Manager",null,null,"Pre-Installation"]
[null,null,null,"Customer/Applicant",null,null,"Pre-Installation"]
[null,null,null,"Customer",null,null,"Post-Installation"]
[null,null,null,"Customer",null,null,"Post-Installation"]
[null,null,null,"PSEG Long Island Project Manager",null,null,"Post-Installation"]
[null,null,null,"Customer/Applicant",null,null,"Post Installation"]
[]
[null,"Required Documents for Whole Building ccASHP Projects"]
[null,"Document:",null,"Responsible Party",null,null,"Deliverable Timeline"]
[null,null,null,"Contractor",null,null,"Pre-Installation"]
[null,null,null,"Contractor",null,null,"Pre-Installation"]
[]
[]
[null,"PSEG Long Island may require additional documentation not listed in the check boxes above as deemed necessary to properly process any rebates."]
[]
[null,"I have read and understand the information listed above.",null,null,"(initials)"]
[]
[null,"PSEG Long Island may require additional documentation not listed above as deemed necessary to properly process any rebates."]
[null,"Any hard copy documents provided by Customer must be scanned and emailed  to PSEG Long Island or uploaded to the Lead Partner Portal by a participating Partner"]
[]
[]
[]
[null,"Application Version:",{"$f":"Development!$A$2","v":"1.0"},null,null,null,"Effective:",{"$f":"Development!$A$4","v":"11.14.22"}]

{"sheet":"AssignmentForm","index":4,"n_rows":41,"n_cols":12,"rows_kept":41,"cut":false,"hidden":true,"merged":[[40,3,40,5],[40,6,40,8],[17,8,17,9],[21,10,21,11],[28,0,28,1],[28,2,28,8],[28,10,28,11],[29,1,29,2],[29,3,29,5],[29,6,29,8],[29,9,29,10],[30,0,30,1],[30,2,30,8],[32,0,32,1],[32,2,32,8],[32,10,32,11],[20,0,20,11],[23,1,23,11],[26,0,26,1],[26,2,26,8],[16,0,16,1],[16,2,16,5],[17,0,17,1],[17,2,17,5],[16,8,16,9],[14,0,14,1],[14,2,14,5],[14,8,14,9],[15,0,15,1],[15,2,15,5],[15,8,15,9],[9,10,9,11],[12,0,12,11],[13,0,13,1],[13,2,13,5],[13,8,13,10],[9,0,9,1],[9,2,9,5],[9,8,9,9],[8,2,8,5],[8,8,8,9],[8,10,8,11],[5,0,5,1],[5,2,5,5],[5,8,5,9],[6,0,6,1],[6,2,6,5],[6,8,6,9],[7,2,7,5],[7,8,7,9],[7,10,7,11],[8,0,8,1],[7,0,7,1],[0,0,0,7],[1,0,1,7],[2,0,2,11],[3,0,3,11],[4,0,4,1],[4,2,4,5],[4,10,4,11]]}
[{"$f":"Development!$A$3&\" Residential Efficiency Program\"","v":"2023 Residential Efficiency Program"}]
["Home Comfort Participating Contractors Assignment Form"]
["The Home Comfort Rebate Program offers rebates to PSEG Long Island customers who install an energy efficient, properly sized heating or air conditioning system. \nProjects are subject to post-inspection."]
["Customer Information"]
["Customer Name:",null,{"$f":"IF('Customer Information'!C6=\"\",\"\",'Customer Information'!C6)","v":""}]
["Installation Address:",null,{"$f":"IF('Customer Information'!C7=\"\",\"\",'Customer Information'!C7)","v":""},null,null,null,null,"City:",{"$f":"IF('Customer Information'!I7=\"\",\"\",'Customer Information'!I7)","v":""},null,"Zip:",{"$f":"IF('Customer Information'!L7=\"\",\"\",'Customer Information'!L7)","v":""}]
["Mailing Address:\n(If different than above)",null,{"$f":"IF('Customer Information'!C8=\"\",\"\",'Customer Information'!C8)","v":""},null,null,null,null,"City:",{"$f":"IF('Customer Information'!I8=\"\",\"\",'Customer Information'!I8)","v":""},null,"Zip:",{"$f":"IF('Customer Information'!L8=\"\",\"\",'Customer Information'!L8)","v":""}]
[null,null,{"$f":"IF('Customer Information'!C9=\"\",\"\",'Customer Information'!C9)","v":""},null,null,null,null,null,"Home Phone:",null,{"$f":"IF('Customer Information'!K9=\"\",\"\",'Customer Information'!K9)","v":""}]
["Alternate Contact:",null,{"$f":"IF('Customer Information'!C10=\"\",\"\",'Customer Information'!C10)","v":""},null,null,null,null,null,"Cell Phone:",null,{"$f":"IF('Customer Information'!K10=\"\",\"\",'Customer Information'!K10)","v":""}]
["E-Mail Address:",null,{"$f":"IF('Customer Information'!C11=\"\",\"\",'Customer Information'!C11)","v":""}]
[]
[]
["Contractor Information"]
["Contractor Name:",null,{"$f":"IF('Customer Information'!C23=\"\",\"\",'Customer Information'!C23)","v":""}]
["Contractor Address:",null,{"$f":"IF('Customer Information'!C24=\"\",\"\",'Customer Information'!C24)","v":""},null,null,null,null,"City:",{"$f":"IF('Customer Information'!I24=\"\",\"\",'Customer Information'!I24)","v":""},null,"Zip:",{"$f":"IF('Customer Information'!L24=\"\",\"\",'Customer Information'!L24)","v":""}]
["Contact Name/Title:",null,{"$f":"IF('Customer Information'!C25=\"\",\"\",'Customer Information'!C25)","v":""},null,null,null,null,"Business Phone:",{"$f":"IF('Customer Information'!K25=\"\",\"\",'Customer Information'!K25)","v":""}]
["Tax ID #:",null,{"$f":"IF('Customer Information'!C26=\"\",\"\",'Customer Information'!C26)","v":""},null,null,null,null,"Cell Phone:",{"$f":"IF('Customer Information'!K26=\"\",\"\",'Customer Information'!K26)","v":""}]
["E-Mail Address:",null,{"$f":"IF('Customer Information'!C27=\"\",\"\",'Customer Information'!C27)","v":""},null,null,null,null,"Fax:",{"$f":"IF('Customer Information'!K27=\"\",\"\",'Customer Information'!K27)","v":""}]
[]
[]
["Rebate"]
[null,null,null,null,null,null,null,null,null,"Total Estimated Customer Rebate Amount (Calculated from Equipment Worksheet and Smart Thermostat Worksheet):",{"$f":"IF('Customer Information'!#REF!=\"\",\"\",'Customer Information'!#REF!)","v":{"$error":"#REF!"}}]
[]
[null,"As the payee of the above referenced Home Comfort Rebate, I, Customer, hereby assign my rights and interest in the payment of said rebate to Assignee as indicated below.\n \nI certify that the electric account listed above is not in arrears and that I have supplied the contractor with a copy of the latest PSEGLI bill for the listed account, showing that the account is active and that there is no previous balance owed on the account.  Rebates can not be assigned to the contractor if the PSEGLI account is in arrears.\n\nIf the PSEGLI account goes into arrears while the rebate is being processed, PSEGLI will apply the Home Comfort Rebate to those arrears before remitting the balance of the rebate, if any, to my Assignee.  I also understand that PSEGLI’s application of all, or a portion of, the Rebate to any arrears on my PSEGLI account does not reduce the amount I am responsible to pay my Assignee (I will still owe my contractor the Rebate amount applied to my PSEGLI account). Please forward my rebate to the Assignee listed directly above. \n\nI also understand that I am responsible to inform PSEGLI (via email to homecomfortli@pseg.com or in writing to PSEG Long Island, Home Comfort Program, 395 N Service Rd, Melville, NY 11747) of any changes to this assignment.\n"]
[]
[]
["Customer Name:\n(Print)"]
[]
["Accepted and Agreed To Payee:\n(Customer Signature)",null,null,null,null,null,null,null,null,"Date:"]
[]
["Contractor Name\n(Print)",null,{"$f":"IF('Customer Information'!C25=\"\",\"\",'Customer Information'!C25)","v":""}]
[]
["Accepted and Agreed To Assignee:\n(Duly Authorized Representative Signature)",null,null,null,null,null,null,null,null,"Date:"]
[]
[]
[]
[]
[]
[]
[]
["Application Version:",{"$f":"Development!$A$4&\"_\"&Development!$A$2","v":"11.14.22_1.0"},null,null,null,null,null,null,null,null,"Effective:",{"$f":"Development!$A$4","v":"11.14.22"}]

{"sheet":"Guidelines ","index":5,"n_rows":49,"n_cols":12,"rows_kept":49,"cut":false,"hidden":false,"merged":[[22,1,22,11],[24,0,24,11],[0,41,0,50],[0,51,0,60],[18,1,18,11],[13,1,13,11],[14,1,14,11],[6,1,6,11],[1,61,1,70],[0,61,0,70],[12,1,12,11],[1,51,1,60],[1,41,1,50],[10,1,10,11],[2,0,2,11],[3,1,3,11],[5,1,5,11],[11,1,11,11],[0,131,0,140],[0,121,0,130],[1,131,1,140],[1,121,1,130],[1,71,1,80],[0,101,0,110],[0,91,0,100],[0,71,0,80],[0,81,0,90],[1,111,1,120],[48,3,48,5],[48,6,48,8],[0,0,0,6],[0,21,0,30],[0,31,0,40],[1,31,1,40],[23,1,23,11],[1,0,1,6],[1,21,1,30],[7,1,7,11],[26,1,26,11],[27,1,27,11],[39,1,39,11],[19,1,19,11],[20,1,20,11],[21,1,21,10],[0,251,0,255],[0,151,0,160],[1,81,1,90],[1,91,1,100],[1,101,1,110],[1,231,1,240],[1,181,1,190],[1,191,1,200],[0,221,0,230],[0,111,0,120],[0,161,0,170],[0,141,0,150],[1,141,1,150],[1,151,1,160],[0,231,0,240],[0,241,0,250],[0,171,0,180],[0,181,0,190],[0,191,0,200],[0,201,0,210],[0,211,0,220],[1,251,1,255],[1,161,1,170],[1,171,1,180],[1,201,1,210],[1,211,1,220],[1,221,1,230],[1,241,1,250]]}
[{"$f":"'Customer Information'!A1","v":"2023 Commercial Efficiency Program"}]
[{"$f":"'Customer Information'!A2:H2","v":"Commercial Weatherization Rebate Application, Version 1.0"}]
["Rebate Guidelines"]
["*","For Lighting and Standard rebates please visit:"]
[null,"https://www.psegliny.com/businessandcontractorservices/businessandcommercialsavings/businessandcommercialrebates"]
["*","Pre-approval is required."]
["*","If customer has participated in any other state or utility sponsored rebate program, related to the technology in this application, please contact a PSEG Long Island Representative to determine whether the project is also eligible under this program."]
["*","All projects are subject to a Pre-inspection. Existing buildings qualify only; New Construction buildings are not eligible."]
["*","Building must be 10,000 Square Feet or less to be eligible."]
["*","Both Insulation and Air Sealing must be installed for project to qualify for rebates."]
["*",{"$f":"\"Project must be started after \"&Development!A4&\" and completed within 180 days at time of application submittal.\"","v":"Project must be started after 11.14.22 and completed within 180 days at time of application submittal."}]
["*","All projects are subject to Post-inspection."]
["*","If the proposed equipment is listed in the eligibility table, use the appropirate Worksheet to calculate the estimated rebate."]
["*","If the proposed equipment is not listed on the Worksheet tab, refer to the Custom/Custom Retrofit Eligibility requirements and documentation and contact a PSEG Long Island Representative or PSEG Long Island's Infoline at 1-800-692-2626.  Rebate eligibility and amount will be calculated on a case by case basis. "]
["*","Eligible equipment may be updated or modified regularly. For the  most recent applications and worksheets please visit:"]
[null,"https://www.psegliny.com/businessandcontractorservices/businessandcommercialsavings/businessandcommercialrebates"]
["*","Only applications and worksheets in effect at the time of submittal will be accepted.  Please visit our website for the most recent applications and worksheets:"]
[null,"https://www.psegliny.com/businessandcontractorservices/businessandcommercialsavings/businessandcommercialrebates"]
["*","Where eligible products are required to be listed with an approved rating agency (i.e. ENERGY STAR, CEE, UL, or other approved equivalent), products must be installed and used in accordance with the rating condition for which it was approved at the time such approval was given."]
["*","All installations must be installed in accordance with all applicable local, state and national codes and ordinances.\n"]
["*","All eligibility requirements and deadlines apply.  Eligibility is listed by measure on the Worksheet tab and Insulation Eligibility."]
["*","Total rebates will be capped at 80% of total project cost."]
["*","If  submitting electronically, applicant must either submit an e-mail in lieu of signature or provide a hard copy with signature (fax, pdf, printed original, etc.)."]
[]
["Program Requirements/Steps to Participate"]
["*","Before you purchase and install equipment, send the following to PSEG Long Island to receive your Pre-Approval Letter:"]
["*","Completed Customer Information section of application and appropriate worksheets.  (Incomplete applications will not be accepted.)"]
["*","Submit required documents (see Required Documents check sheet)"]
[null,null,"For Electronic Submissions e-mail documents to:  "]
[null,null,null,"CEPLI@pseg.com",null,"or via Lead Partner Portal Online Application"]
[null,null,null,"Each required document must be a separate file (no zipped files)"]
[null,null,null,"Applications must be saved as:  23ComWeaWor_<<<customer Name>>MMDDYYYY.xls"]
[null,null,"For Online Submissions:","www.pseglinyportal.com"]
[null,null,"For hardcopy submissions:  PSEG Long Island CEP, \u009f395 North Service Rd, Suite 409, Melville, NY 11747"]
[]
["*","AFTER you receive your Pre-Approval Letter, complete the project. "]
["*","Once Project is Complete:"]
["*","Submit copies of customer validated proof of payment (e.g. itemized invoice) showing the facility address, date and place of purchase and the model/part numbers of installed equipment. "]
["*","A PSEG Long Island representative will contact you to schedule a post-inspection. "]
["*","After verification that all necessary requirements have been met, a PSEG Long Island representative will authorize payment and either mail a check to the applicant/assignee or apply a bill credit to the applicant’s account."]
[]
[]
[]
[]
[]
[]
[null,"I have read and understand the Guidelines listed above.",null,null,null,null,"(initials)"]
[]
["Application Version:",null,{"$f":"Development!$A$2","v":"1.0"},null,null,null,null,null,null,null,"Effective:",{"$f":"Development!$A$4","v":"11.14.22"}]

{"sheet":"Smart T-Stats","index":6,"n_rows":43,"n_cols":11,"rows_kept":43,"cut":false,"hidden":true,"merged":[[3,1,3,10],[19,1,19,2],[20,1,20,2],[21,1,21,2],[11,2,11,3],[11,4,11,5],[8,2,8,8],[12,2,12,3],[13,2,13,3],[12,4,12,5],[13,4,13,5],[27,1,27,2],[28,1,28,2],[29,1,29,2],[30,1,30,2],[22,1,22,2],[23,1,23,2],[24,1,24,2],[25,1,25,2],[26,1,26,2]]}
[]
[null,{"$f":"Development!$A$3&\" Residential Efficiency Program\"","v":"2023 Residential Efficiency Program"}]
[null,{"$f":"\"Smart Thermostat Eligibility Table & Worksheet, Version \"&Development!A2","v":"Smart Thermostat Eligibility Table & Worksheet, Version 1.0"}]
[null,"Smart thermostat incentives are limited to one thermostat per unit and cannot replace an existing Smart thermostat. Smart thermostat must control the installed unit in order to be eligible for an incentive.Thermostats must be installed by a QIV contractor or by a Home Performance with ENERGY STAR contractor."]
[]
[null,"Instructions:"]
[]
[null,"1.","Enter Manufacturer, Approved Thermostat, Model Number and Serial Number."]
[null,"2.","If new thermostat is to be connected to a unit identified on the Worksheet tab, please indicate the unit number from Column B. of the Worksheet tab in Column G under \"Unit Controlled\"."]
[null,"3.","If thermostat was installed during a Home Performance with ENERGY STAR project, please check the appropriate check box"]
[]
[null,null,"Eligible Equipment",null,"Customer Incentive (per unit)"]
[null,null,"Wi-Fi Enabled Smart Thermostat",null,35]
[null,null,"Learning Smart Thermostat",null,50]
[]
[]
[]
[null,"In order to qualify for an incentive, Smart thermostats must be listed at. ",null,null,"https://enrollmythermostat.com/faqs/pseg-long-island-faq/"]
[]
[null,"Manufacturer",null,"Approved Thermostat","Model Number","Serial Number","Unit Controlled","Primary Cooling","Heating Type",null,"Customer Incentive"]
[1,null,null,null,null,null,null,null,null,{"$f":"IF(H21=\"\",\"\",IF(References!#REF!=TRUE,\"HP Thermostat\",IF(OR(RIGHT(H21,2)=\"HP\",I21=\"Electric Heat\"),\"CH Thermostat Heating Cooling\",\"CH Thermostat Cooling\")))","v":""},{"$f":"IF(OR(B21=\"\",D21=\"\",F21=\"\",,H21=\"\",I21=\"\"),\"\",Qualifying_Index!Y42)","v":""}]
[2,null,null,null,null,null,null,null,null,{"$f":"IF(H22=\"\",\"\",IF(References!#REF!=TRUE,\"HP Thermostat\",IF(OR(RIGHT(H22,2)=\"HP\",I22=\"Electric Heat\"),\"CH Thermostat Heating Cooling\",\"CH Thermostat Cooling\")))","v":""},{"$f":"IF(OR(B22=\"\",D22=\"\",F22=\"\",,H22=\"\",I22=\"\"),\"\",Qualifying_Index!Y43)","v":""}]
[3,null,null,null,null,null,null,null,null,{"$f":"IF(H23=\"\",\"\",IF(References!#REF!=TRUE,\"HP Thermostat\",IF(OR(RIGHT(H23,2)=\"HP\",I23=\"Electric Heat\"),\"CH Thermostat Heating Cooling\",\"CH Thermostat Cooling\")))","v":""},{"$f":"IF(OR(B23=\"\",D23=\"\",F23=\"\",,H23=\"\",I23=\"\"),\"\",Qualifying_Index!Y44)","v":""}]
[4,null,null,null,null,null,null,null,null,{"$f":"IF(H24=\"\",\"\",IF(References!#REF!=TRUE,\"HP Thermostat\",IF(OR(RIGHT(H24,2)=\"HP\",I24=\"Electric Heat\"),\"CH Thermostat Heating Cooling\",\"CH Thermostat Cooling\")))","v":""},{"$f":"IF(OR(B24=\"\",D24=\"\",F24=\"\",,H24=\"\",I24=\"\"),\"\",Qualifying_Index!Y45)","v":""}]
[5,null,null,null,null,null,null,null,null,{"$f":"IF(H25=\"\",\"\",IF(References!#REF!=TRUE,\"HP Thermostat\",IF(OR(RIGHT(H25,2)=\"HP\",I25=\"Electric Heat\"),\"CH Thermostat Heating Cooling\",\"CH Thermostat Cooling\")))","v":""},{"$f":"IF(OR(B25=\"\",D25=\"\",F25=\"\",,H25=\"\",I25=\"\"),\"\",Qualifying_Index!Y46)","v":""}]
[6,null,null,null,null,null,null,null,null,{"$f":"IF(H26=\"\",\"\",IF(References!#REF!=TRUE,\"HP Thermostat\",IF(OR(RIGHT(H26,2)=\"HP\",I26=\"Electric Heat\"),\"CH Thermostat Heating Cooling\",\"CH Thermostat Cooling\")))","v":""},{"$f":"IF(OR(B26=\"\",D26=\"\",F26=\"\",,H26=\"\",I26=\"\"),\"\",Qualifying_Index!Y47)","v":""}]
[7,null,null,null,null,null,null,null,null,{"$f":"IF(H27=\"\",\"\",IF(References!#REF!=TRUE,\"HP Thermostat\",IF(OR(RIGHT(H27,2)=\"HP\",I27=\"Electric Heat\"),\"CH Thermostat Heating Cooling\",\"CH Thermostat Cooling\")))","v":""},{"$f":"IF(OR(B27=\"\",D27=\"\",F27=\"\",,H27=\"\",I27=\"\"),\"\",Qualifying_Index!Y48)","v":""}]
[8,null,null,null,null,null,null,null,null,{"$f":"IF(H28=\"\",\"\",IF(References!#REF!=TRUE,\"HP Thermostat\",IF(OR(RIGHT(H28,2)=\"HP\",I28=\"Electric Heat\"),\"CH Thermostat Heating Cooling\",\"CH Thermostat Cooling\")))","v":""},{"$f":"IF(OR(B28=\"\",D28=\"\",F28=\"\",,H28=\"\",I28=\"\"),\"\",Qualifying_Index!Y49)","v":""}]
[9,null,null,null,null,null,null,null,null,{"$f":"IF(H29=\"\",\"\",IF(References!#REF!=TRUE,\"HP Thermostat\",IF(OR(RIGHT(H29,2)=\"HP\",I29=\"Electric Heat\"),\"CH Thermostat Heating Cooling\",\"CH Thermostat Cooling\")))","v":""},{"$f":"IF(OR(B29=\"\",D29=\"\",F29=\"\",,H29=\"\",I29=\"\"),\"\",Qualifying_Index!Y50)","v":""}]
[10,null,null,null,null,null,null,null,null,{"$f":"IF(H30=\"\",\"\",IF(References!#REF!=TRUE,\"HP Thermostat\",IF(OR(RIGHT(H30,2)=\"HP\",I30=\"Electric Heat\"),\"CH Thermostat Heating Cooling\",\"CH Thermostat Cooling\")))","v":""},{"$f":"IF(OR(B30=\"\",D30=\"\",F30=\"\",,H30=\"\",I30=\"\"),\"\",Qualifying_Index!Y51)","v":""}]
[null,null,null,null,null,null,null,null,null,{"$f":"IF(H31=\"\",\"\",IF(References!#REF!=TRUE,\"HP Thermostat\",IF(OR(RIGHT(H31,2)=\"HP\",I31=\"Electric Heat\"),\"CH Thermostat Heating Cooling\",\"CH Thermostat Cooling\")))","v":""},{"$f":"IF(OR(B31=\"\",D31=\"\",F31=\"\",,H31=\"\",I31=\"\"),\"\",Qualifying_Index!Y52)","v":""}]
[]
[null,null,null,null,null,null,null,"Smart Thermostat Rebate Amount:",null,null,{"$f":"SUM(K21:K31)","v":0}]
[]
[]
[]
[]
[]
[]
[]
[]
[]
[null,"Application Version:",null,{"$f":"Development!$A$2","v":"1.0"},null,null,null,"Effective:",null,null,{"$f":"Development!$A$4","v":"11.14.22"}]

{"sheet":"Worksheet","index":7,"n_rows":174,"n_cols":11,"rows_kept":174,"cut":false,"hidden":false,"merged":[[3,1,3,12],[4,1,4,2],[46,10,48,12],[37,2,37,9],[84,10,86,12],[89,3,89,5],[144,10,146,12],[162,10,164,12],[105,10,106,12],[95,2,96,2],[95,8,96,8]]}
[null,{"$f":"'Customer Information'!A1","v":"2023 Commercial Efficiency Program"}]
[]
[null,"Commercial Weatherization "]
[null,"Commercial Weatherization rebates are available to all PSEG Long Island commercial customers."]
[null,"Instructions:"]
[null,"1)","Enter applicable Heating and Cooling System information"]
[null,"2)","Check the box of each measure being installed"]
[null,"3)","Enter all data inputs fields for installed measures"]
[null,"4)","Rebates will be capped based on the total cost of the project"]
[]
[null,null,"Primary Heating System:",null,null,null,null,null,"Primary Cooling System:"]
[]
[null,null,"Heating Source:",null,null,null,null,null,"Cooling Source:"]
[]
[null,null,"Heating Capacity:",null,"(btu)",null,null,null,"Cooling Capacity:",null,"(tons)"]
[]
[null,null,"Efficiency:",null,null,null,null,null,"SEER:"]
[]
[null,null,"HSPF:",null,null,null,null,null,"EER:"]
[]
[null,null,"% of Heating Load",null,null,null,null,null,"% of Cooling Load"]
[]
[]
[null,null,"Secondary Heating System:",null,null,null,null,null,"Secondary Cooling System:"]
[]
[null,null,"Heating Source:",null,null,null,null,null,"Cooling Source:"]
[]
[null,null,"Heating Capacity:",null,"(btu)",null,null,null,"Cooling Capacity:",null,"(tons)"]
[]
[null,null,"Efficiency:",null,null,null,null,null,"SEER:"]
[]
[null,null,"HSPF:",null,null,null,null,null,"EER:"]
[]
[null,null,"COP:",null,null,null,null,null,"% of Cooling Load"]
[]
[null,null,"% of Heating Load"]
[]
[null,null,"Don't forget to check out PSEG Long Island's Commercial HVAC Rebates: "]
[null,null,"https://www.psegliny.com/businessandcontractorservices/businessandcommercialsavings/rebates"]
[]
[null,null,null,null,null,"1)","A Total Duct Leakage Test should be preformed both before and after sealing"]
[null,null,null,null,null,"2)","If resealing duct work as part of an HVAC replacement, the duct sealing rebate is not eligible"]
[null,null,null,null,null,"3)","Test results are in CFM @ 25 Pascals"]
[null,null,null,null,null,"4)","Ducts in unconditioned areas should be insulated with a minimum R-6"]
[null,null,null,null,null,"5)","All ducts outside the building must be insulated with a minimum R-8"]
[null,null,null,null,null,"6)","Post installation must be compliant with State code ECCCNYS"]
[null,null,null,null,null,null,null,null,null,null,{"$f":"IF(D48=\"\",\"\",IF(Qualifying_Index!U96=1,\"\",\"*Please note the rebate cannot be higher than the Total Project Cost\"))","v":""}]
[null,null,"Total Cost:",null,null,null,null,null,"Rebate:",{"$f":"IF(OR(D48=\"\",SUM(Qualifying_Index!AE103:AE105)=0),\"\",SUM(Qualifying_Index!AF103:AF105))","v":""}]
[]
[null,null,"Location 1:",null,null,null,null,null,"Location 2:"]
[]
[null,null,"Duct Location:",null,null,null,null,null,"Duct Location:"]
[]
[null,null,"Location Attribute:",null,null,null,null,null,"Location Attribute:"]
[]
[null,null,"Pre CFM(25)",null,null,null,null,null,"Pre CFM(25)"]
[]
[null,null,"Post CFM(25)",null,null,null,null,null,"Post CFM(25)"]
[]
[null,null,"Conditioned Floor Area:",null,"(Square Footage)",null,null,null,"Conditioned Floor Area:",null,"(Square Footage)"]
[]
[null,null,"System Impacted:",null,null,null,null,null,"System Impacted:"]
[]
[null,null,"Location 3:"]
[]
[null,null,"Duct Location:"]
[]
[null,null,"Location Attribute:"]
[]
[null,null,"Pre CFM(25)"]
[]
[null,null,"Post CFM(25)"]
[]
[null,null,"Conditioned Floor Area:",null,"(Square Footage)"]
[]
[null,null,"System Impacted:"]
[]
[]
[]
[null,null,null,null,null,"1)","Air Sealing must be installed for all projects"]
[null,null,null,null,null,"2)","A Blower Door Test must be conducted before and after air sealing is performed"]
[null,null,null,null,null,"3)","Post Blower Door Test CFM results must be less than the Pre Air Sealing test results"]
[null,null,null,null,null,"4)","Post Blower Door Test CFM must meet IECC 2018 criteria"]
[null,null,null,null,null,"5)","Air Sealing square footage entered should match the square footage of insulation"]
[null,null,null,null,null,null,null,null,null,null,{"$f":"IF(D87=\"\",\"\",IF(Qualifying_Index!U96=1,\"\",\"*Please note the rebate cannot be higher than the Total Project Cost\"))","v":""}]
[]
[null,null,"Total Cost:",null,null,null,null,null,"Rebate:",{"$f":"IF(OR(D87=\"\",SUM(Qualifying_Index!AB114)=0),\"\",Qualifying_Index!AC114)","v":""}]
[null,null,"Location 1:"]
[]
[null,null,"Shielding Class"]
[]
[null,null,"Pre CFM75:"]
[]
[null,null,"Post CFM75:"]
[]
[null,null,"Total Air Sealing Square Footage:"]
[]
[]
[]
[]
[null,null,null,null,null,"1)","Insulation must be installed for all projects"]
[null,null,null,null,null,"2)","Minimum required R-Value ASHRAE 90.1 2016; See reference table on the Insulation Eligibility tab",null,null,null,"here"]
[null,null,null,null,null,"3)","Insulation rebates are available for ceiling and wall insulation"]
[null,null,null,null,null,"4)","New Insulation R-Value must exceed existing insulation R-Value"]
[]
[null,null,null,null,null,null,null,null,null,null,{"$f":"IF(D107=\"\",\"\",IF(Qualifying_Index!U96=1,\"\",\"*Please note the rebate cannot be higher than the Total Project Cost\"))","v":""}]
[null,null,"Total Cost:",null,null,null,null,null,"Rebate:",{"$f":"IF(OR(D107=\"\",SUM(Qualifying_Index!W120:W124)=0),\"\",SUM(Qualifying_Index!X120:X124))","v":""}]
[null,null,"Location 1:",null,null,null,null,null,"Location 2:"]
[]
[null,null,"Location:",null,null,null,null,null,"Location:"]
[]
[null,null,"Installed Square Footage:",null,null,null,null,null,"Installed Square Footage:"]
[]
[null,null,"Existing R-Value:",null,null,null,null,null,"Existing R-Value:"]
[]
[null,null,"R-Value Installed:",null,null,null,null,null,"R-Value Installed:"]
[]
[null,null,"Location 3:",null,null,null,null,null,"Location 4:"]
[]
[null,null,"Location:",null,null,null,null,null,"Location:"]
[]
[null,null,"Installed Square Footage:",null,null,null,null,null,"Installed Square Footage:"]
[]
[null,null,"Existing R-Value:",null,null,null,null,null,"Existing R-Value:"]
[]
[null,null,"R-Value Installed:",null,null,null,null,null,"R-Value Installed:"]
[]
[null,null,"Location 5:"]
[]
[null,null,"Location:"]
[]
[null,null,"Installed Square Footage:",null,null,"    "]
[]
[null,null,"Existing R-Value:"]
[]
[null,null,"R-Value Installed:"]
[]
[]
[]
[]
[null,null,null,null,null,"1)","Cannot be installed in place of an existing Air Curtain"]
[null,null,null,null,null,"2)","Must be installed between a conditioned indoor space and unconditioned space"]
[null,null,null,null,null,"3)","Must carry the designated Underwriters Laboratory (UL) or Electrical Testing Laboratory (ETL) label"]
[]
[null,null,null,null,null,null,null,null,null,null,{"$f":"IF(D147=\"\",\"\",IF(Qualifying_Index!U96=1,\"\",\"*Please note the rebate cannot be higher than the Total Project Cost\"))","v":""}]
[]
[null,null,"Total Cost:",null,null,null,null,null,"Rebate:",{"$f":"IF(OR(D147=\"\",SUM(Qualifying_Index!AR135)=0),\"\",Qualifying_Index!AS135)","v":""}]
[null,null,"Location 1",null,null,null,null,null,null,{"$f":"IF(AND(D147<>\"\",OR('Customer Information'!L17=\"\",'Customer Information'!L17=0)),\"*Please Enter the Daily Facility Hours on the Customer Information tab*\",\"\")","v":""}]
[]
[null,null,"Horsepower:"]
[]
[null,null,"Length:",null,"(Feet)"]
[]
[null,null,"Height:",null,"(Feet)"]
[]
[]
[]
[]
[null,null,null,null,null,"1)","A minimum of 0.5 inches of insulation should be installed"]
[null,null,null,null,null,"2)","Only Electric Domestic Hot Water Heating is eligible for pipe insulation rebate"]
[null,null,null,null,null,"3)","The thickness of the pipe insulation installed must exceed the thickness of the existing pipe insulation"]
[null,null,null,null,null,"4)","If the exact diameter or thickness is not available, please select the closest value"]
[null,null,null,null,null,null,null,null,null,null,{"$f":"IF(D165=\"\",\"\",IF(Qualifying_Index!U96=1,\"\",\"*Please note the rebate cannot be higher than the Total Project Cost\"))","v":""}]
[]
[null,null,"Total Cost:",null,null,null,null,null,"Rebate:",{"$f":"IF(OR(D165=\"\",SUM(Qualifying_Index!Z142)=0),\"\",Qualifying_Index!AA142)","v":""}]
[null,null,"Location 1"]
[]
[null,null,"Water Heating Source:"]
[]
[null,null,"Length of Pipe:",null,"(Linear Feet)"]
[]
[null,null,"Diameter of Pipe:",null,"(Inches)"]
[]
[null,null,"Thickness of Insulation:",null,"(Inches)"]

{"sheet":"Insulation Eligibility","index":8,"n_rows":82,"n_cols":12,"rows_kept":82,"cut":false,"hidden":false,"merged":[[74,1,74,8],[75,1,76,3],[75,4,76,4],[75,5,76,6],[75,7,76,8],[66,5,73,6],[66,7,73,8],[68,1,69,3],[70,1,71,3],[72,1,73,3],[66,4,67,4],[68,4,69,4],[70,4,71,4],[72,4,73,4],[64,1,65,3],[64,4,65,4],[66,1,67,3],[64,5,65,8],[24,6,25,8],[23,4,23,8],[26,1,26,8],[27,6,28,8],[29,6,30,8],[60,1,61,3],[60,4,61,5],[62,1,63,3],[60,6,61,8],[62,4,63,4],[62,5,63,6],[62,7,63,8],[55,1,56,3],[55,4,56,5],[58,1,59,3],[58,4,59,5],[55,6,56,8],[57,1,57,8],[58,6,59,8],[50,1,51,3],[50,4,51,5],[53,1,54,3],[53,4,54,5],[50,6,51,8],[52,1,52,8],[53,6,54,8],[46,1,47,3],[46,4,47,5],[48,1,49,3],[48,4,49,5],[46,6,47,8],[48,6,49,8],[43,1,44,3],[43,4,44,5],[36,6,37,8],[38,6,39,8],[40,6,41,8],[42,1,42,8],[43,6,44,8],[36,1,37,3],[38,1,39,3],[40,1,41,3],[0,61,0,70],[0,0,0,6],[0,21,0,30],[0,31,0,40],[0,41,0,50],[0,51,0,60],[5,1,5,11],[7,1,7,11],[34,4,35,5],[34,1,35,3],[31,6,32,8],[33,1,33,8],[34,6,35,8],[29,1,30,3],[31,1,32,3],[0,181,0,190],[0,71,0,80],[0,81,0,90],[0,91,0,100],[0,101,0,110],[0,111,0,120],[0,121,0,130],[0,131,0,140],[0,141,0,150],[0,151,0,160],[0,161,0,170],[0,171,0,180],[0,251,0,255],[1,0,1,6],[1,21,1,30],[1,31,1,40],[1,41,1,50],[1,51,1,60],[1,61,1,70],[1,71,1,80],[1,81,1,90],[1,91,1,100],[0,191,0,200],[0,201,0,210],[0,211,0,220],[0,221,0,230],[0,231,0,240],[0,241,0,250],[1,241,1,250],[1,251,1,255],[1,161,1,170],[1,171,1,180],[1,181,1,190],[1,191,1,200],[1,201,1,210],[1,211,1,220],[1,221,1,230],[1,231,1,240],[81,3,81,5],[81,6,81,8],[17,1,17,10],[23,1,25,3],[24,4,25,5],[27,1,28,3],[1,101,1,110],[1,111,1,120],[1,121,1,130],[1,131,1,140],[1,141,1,150],[1,151,1,160],[8,1,8,11],[14,1,14,11],[15,1,15,2],[27,4,28,5],[29,4,30,5],[31,4,32,5],[36,4,37,5],[38,4,39,5],[40,4,41,5],[45,1,45,8]]}
[{"$f":"'Customer Information'!A1","v":"2023 Commercial Efficiency Program"}]
[{"$f":"'Customer Information'!A2:H2","v":"Commercial Weatherization Rebate Application, Version 1.0"}]
["Duct Sealing"]
[]
[]
[]
[]
[]
[]
[]
["Air Sealing"]
[]
[]
[]
[]
[]
[]
[]
["Insulation"]
[]
[null,"Table 5.5-4 Building Envelope Requirements for Climate Zone 4 (A,B,C)"]
[]
[]
[null,"Opaque Elements",null,null,"Nonresidential"]
[null,null,null,null,"Assembly Maximum",null,"Insulation Min. R-Value"]
[]
[null,"Roofs"]
[null,"Insulation entirely above deck",null,null,"U-0.032",null,"R-30 c.i."]
[]
[null,"Metal building",null,null,"U-0.037",null,"R-19 + R-11 Ls or\nR-25 + R-8 Ls"]
[]
[null,"Attic and other",null,null,"U-0.021",null,"R-49"]
[]
[null,"Wall, above Grade"]
[null,"Mass",null,null,"U-0.104",null,"R-9.5 c.i."]
[]
[null,"Metal building",null,null,"U-.060",null,"R-0 +R-15.8 c.i."]
[]
[null,"Steel-framed",null,null,"U-0.064",null,"R-13 + R-7.5 c.i."]
[]
[null,"Wood-framed and other",null,null,"U-0.064",null,"R-13 + R-3.8 c.i. \nor R-20"]
[]
[null,"Wall, below Grade"]
[null,"Below-grade wall",null,null,"C-0.119",null,"R-7.5 c.i."]
[]
[null,"Floors"]
[null,"Mass",null,null,"U-0.057",null,"R-14.6 c.i."]
[]
[null,"Steel joist",null,null,"U-0.038",null,"R-30"]
[]
[null,"Wood-framed and other",null,null,"U-0.033",null,"R-30"]
[]
[null,"Slab-on-Grade Floors"]
[null,"Unheated",null,null,"F-0.520",null,"R-15 for 24in."]
[]
[null,"Heated",null,null,"F-0.843",null,"R-20 for 24in."]
[]
[null,"Opaque Doors"]
[null,"Swinging",null,null,"U-0.370"]
[]
[null,"Nonswinging",null,null,"U-0.310"]
[]
[null,"Fenestration",null,null,"Assembly Max. U","Assembly Max. SHGC",null,"Assembly Min. VTISHGC"]
[]
[null,"Vertical Fenestration, 0% to 40% of Wall",null,null,null,"for all frame types"]
[]
[null,"Nnmetal framing, all",null,null,0.31,0.36,null,1.1000000000000001]
[]
[null,"Metal framing, fixed",null,null,0.38]
[]
[null,"Metal framing, operable",null,null,0.46]
[]
[null,"Metal framing, entrance door",null,null,0.68]
[]
[null,"Skylight, 0% to 3% of Roof"]
[null,"All types",null,null,0.5,0.4,null,"NR"]
[]
[]
[]
[]
[]
["Application Version:",null,{"$f":"Development!$A$2","v":"1.0"},null,null,null,null,null,null,null,"Effective:",{"$f":"Development!$A$4","v":"11.14.22"}]

{"sheet":"HPwES H&S","index":9,"n_rows":78,"n_cols":14,"rows_kept":78,"cut":false,"hidden":true,"merged":[[70,10,70,12],[72,3,73,13],[75,5,75,13],[66,5,66,6],[66,8,66,9],[66,11,66,12],[67,5,67,6],[67,8,67,9],[67,11,67,12],[69,7,69,9],[69,10,69,12],[70,4,70,5],[63,3,63,4],[63,9,63,12],[64,3,64,6],[65,5,65,6],[65,8,65,9],[65,11,65,12],[60,3,60,4],[60,9,60,12],[61,3,61,4],[61,9,61,12],[62,3,62,4],[62,9,62,12],[53,4,53,5],[53,10,53,12],[55,3,56,13],[58,2,58,13],[59,3,59,4],[59,9,59,12],[50,5,50,6],[50,8,50,9],[50,11,50,12],[52,4,52,5],[52,7,52,9],[52,10,52,12],[47,3,47,6],[48,5,48,6],[48,8,48,9],[48,11,48,12],[49,5,49,6],[49,8,49,9],[49,11,49,12],[44,3,44,4],[44,9,44,12],[45,3,45,4],[45,9,45,12],[46,3,46,4],[46,9,46,12],[37,4,37,5],[37,10,37,12],[39,3,40,13],[42,2,42,13],[43,3,43,4],[43,9,43,12],[34,5,34,6],[34,8,34,9],[34,11,34,12],[36,4,36,5],[36,7,36,9],[36,10,36,12],[31,3,31,6],[32,5,32,6],[32,8,32,9],[32,11,32,12],[33,5,33,6],[33,8,33,9],[33,11,33,12],[28,3,28,4],[28,9,28,12],[29,3,29,4],[29,9,29,12],[30,3,30,4],[30,9,30,12],[19,2,19,3],[19,4,19,5],[23,3,24,11],[26,2,26,13],[27,3,27,4],[27,9,27,12],[7,2,7,5],[12,3,12,5],[13,3,14,11],[16,2,16,5],[18,2,18,3],[18,4,18,5]]}
[null,{"$f":"'Customer Information'!A1","v":"2023 Commercial Efficiency Program"}]
[null,null,"Health & Safety: Heating and Air Conditioning"]
[]
[]
[null,null,"Project Number",""]
[null,null,"Date",""]
[]
[null,null,"CAZ Pressure Diagnostics"]
[null,null,null,null,null,null,null,"Test In",null,null,"Test Out"]
[null,null,"Baseline Pressure WRTO:",null,null,null,null,null,"Pa",null,null,"Pa"]
[null,null,"Worst Case Pressure WRTO:",null,null,null,null,null,"Pa",null,null,"Pa"]
[null,null,"Pressure Difference:",null,null,null,null,null,"Pa",null,null,"Pa"]
[]
[null,null,"Notes:"]
[]
[]
[null,null,"Combustion Safety test in (Tested at worst case)"]
[null,null,null,null,null,null,null,"Test In",null,null,"Test Out"]
[null,null,"CAZ Ambient CO:",null,null,null,null,null,"ppm",null,null,"ppm"]
[null,null,"Worst Case Pressure WRTO:",null,null,null,null,null,"ppm",null,null,"ppm"]
[]
[null,null,"Gas Leak:"]
[]
[null,null,"Notes:"]
[null,null,null,null,null,null,null,null,null,null,null,null," "]
[]
[null,null,"Combustion Appliance No. 1"]
[null,null,"Location:",null,null,null,null,null,"Detail:"]
[null,null,"Type:",null,null,null,null,null,"Venting:"]
[null,null,"B.T.U.:",null,null,null,null,null,"Distribution:"]
[null,null,"Fuel:",null,null,null,null,null,"Year of Mfg.:"]
[null,null,null,"Test In",null,null,null,null,null,null,"Test Out"]
[null,null,"CO Flue:",null,"ppm",null,null,null,null,null,"ppm"]
[null,null,"CO Ambient:",null,"ppm",null,null,null,null,null,"ppm"]
[null,null,"Draft:",null,"Pa",null,null,null,null,null,"Pa"]
[]
[null,null,null,null,"Test In",null,null,null,null,null,"Test Out"]
[null,null,null,"Spillage:"]
[]
[null,null,"Notes:"]
[]
[]
[null,null,"Combustion Appliance No. 2"]
[null,null,"Location:",null,null,null,null,null,"Detail:"]
[null,null,"Type:",null,null,null,null,null,"Venting:"]
[null,null,"B.T.U.:",null,null,null,null,null,"Distribution:"]
[null,null,"Fuel:",null,null,null,null,null,"Year of Mfg.:"]
[null,null,null,"Test In",null,null,null,null,null,null,"Test Out"]
[null,null,"CO Flue:",null,"ppm",null,null,null,null,null,"ppm"]
[null,null,"CO Ambient:",null,"ppm",null,null,null,null,null,"ppm"]
[null,null,"Draft:",null,"Pa",null,null,null,null,null,"Pa"]
[]
[null,null,null,null,"Test In",null,null,null,null,null,"Test Out"]
[null,null,null,"Spillage:"]
[]
[null,null,"Notes:"]
[]
[]
[null,null,"DHW"]
[null,null,"Location:",null,null,null,null,null,"Detail:"]
[null,null,"Type:",null,null,null,null,null,"Venting:"]
[null,null,"B.T.U.:",null,null,null,null,null,"Distribution:"]
[null,null,"Fuel:",null,null,null,null,null,"Year of Mfg.:"]
[null,null,"Size(gallons):",null,null,null,null,null,"Energy Factor:"]
[null,null,null,"Test In",null,null,null,null,null,null,"Test Out"]
[null,null,"CO Flue:",null,"ppm",null,null,null,null,null,"ppm"]
[null,null,"CO Ambient:",null,"ppm",null,null,null,null,null,"ppm"]
[null,null,"Draft:",null,"Pa",null,null,null,null,null,"Pa"]
[]
[null,null,null,null,"Test In",null,null,null,null,null,"Test Out"]
[null,null,null,"Spillage:"]
[]
[null,null,"Notes:"]
[]
[]
[]
[]
[null,"Application Version:",null,{"$f":"Development!A2","v":"1.0"},null,null,null,null,null,null,null,null,"Effective:",{"$f":"Development!A4","v":"11.14.22"}]

{"sheet":"Glossary","index":10,"n_rows":89,"n_cols":12,"rows_kept":89,"cut":false,"hidden":false,"merged":[[0,61,0,70],[0,0,0,6],[0,21,0,30],[0,31,0,40],[0,41,0,50],[0,51,0,60],[0,181,0,190],[0,71,0,80],[0,81,0,90],[0,91,0,100],[0,101,0,110],[0,111,0,120],[0,121,0,130],[0,131,0,140],[0,141,0,150],[0,151,0,160],[0,161,0,170],[0,171,0,180],[0,251,0,255],[1,0,1,6],[1,21,1,30],[1,31,1,40],[1,41,1,50],[1,51,1,60],[1,61,1,70],[1,71,1,80],[1,81,1,90],[1,91,1,100],[0,191,0,200],[0,201,0,210],[0,211,0,220],[0,221,0,230],[0,231,0,240],[0,241,0,250],[1,231,1,240],[1,241,1,250],[1,251,1,255],[5,1,5,11],[7,1,7,11],[1,161,1,170],[1,171,1,180],[1,181,1,190],[1,191,1,200],[1,201,1,210],[1,211,1,220],[1,101,1,110],[1,111,1,120],[1,121,1,130],[1,131,1,140],[1,141,1,150],[8,1,8,11],[14,1,14,11],[15,1,15,2],[17,1,17,10],[1,221,1,230],[1,151,1,160],[88,3,88,5],[88,6,88,8],[19,0,20,3],[22,0,23,10],[35,0,36,10],[38,0,40,10]]}
[{"$f":"'Customer Information'!A1","v":"2023 Commercial Efficiency Program"}]
[{"$f":"'Customer Information'!A2:H2","v":"Commercial Weatherization Rebate Application, Version 1.0"}]
["Duct Sealing"]
[]
[]
[]
[]
[]
[]
[]
["Air Sealing"]
[]
[]
[]
[]
[]
[]
[]
["Insulation"]
["Glossary"]
[]
[]
["Blower Door Test: A test is performed to measure the leakage rate by depressurizing the building to a standard pressure difference of 75 Pascals or 0.3 inches of water. The flowrate indicates the leakage rate, or infiltration and exfiltration rate, of the building shell."]
[]
[]
["Manometer: A tool that measures both air pressure, velocity, and air volume for a blower door test"]
[]
["Primary Cooling System: The main, or larger cooling systems used to cool the majority of the indoor space indoor space."]
[]
["Primary Heating System: The main, or larger heating systems used to heat the majority of the  indoor space."]
[]
["Secondary Cooling System: The smaller cooling system, used in cases where additional cooling is needed"]
[]
["Secondary Heating System: The smaller heating system, used in cases where additional heat is needed"]
[]
["Sheilding Class: Used to determine the surrounding area of the building being weatherized. The sheilding class notes if there are many surrounding buildings, trees and structures, or not."]
[]
[]
["Total Duct Leakage Test: Measures how much air leakage there is for all of the ductwork connected to the HVAC system, including ducts located both outdoors and indoors. A Duct Blaster fan is used  to pressurize (or depressurize) the ductwork to 25 pascals. Leave at least one door or window open between the building and outside to prevent changes in building pressure. Once a steady 25 pascals of pressure is reached in the duct system, note the manometer reading for CFM."]
[]
[]
[]
[]
[]
[]
[]
[]
[]
[]
[]
[]
[]
[]
[]
[]
[]
[]
[]
[]
[]
[]
[]
[]
[]
[]
[]
[]
[]
[]
[]
[]
[]
[]
[]
[]
[]
[]
[]
[]
[]
[]
[]
[]
[]
[]
[]
[]
[]
["Application Version:",null,{"$f":"Development!$A$2","v":"1.0"},null,null,null,null,null,null,null,"Effective:",{"$f":"Development!$A$4","v":"11.14.22"}]

{"sheet":"Inspection Form","index":11,"n_rows":68,"n_cols":10,"rows_kept":68,"cut":false,"hidden":true,"merged":[[41,8,41,11],[42,8,42,11],[43,8,43,11],[44,8,44,11],[45,8,45,11],[46,8,46,11],[48,9,48,10],[48,11,48,12],[52,1,52,2],[44,2,44,3],[44,4,44,5],[44,6,44,7],[45,2,45,3],[45,4,45,5],[45,6,45,7],[46,2,46,3],[46,4,46,5],[46,6,46,7],[49,2,49,3],[49,6,49,7],[48,2,48,3],[48,6,48,7],[41,2,41,3],[41,4,41,5],[27,8,27,11],[28,8,28,11],[29,8,29,11],[33,9,33,10],[33,11,33,12],[34,9,34,10],[34,11,34,12],[38,1,38,2],[34,2,34,3],[33,2,33,3],[33,6,33,7],[34,6,34,7],[38,3,38,6],[30,2,30,3],[31,8,31,9],[27,2,27,3],[27,4,27,5],[27,6,27,7],[28,6,28,7],[28,4,28,5],[28,2,28,3],[67,3,67,6],[64,1,64,11],[65,1,65,11],[63,2,63,11],[67,10,67,11],[62,3,62,4],[62,5,62,6],[62,7,62,8],[62,9,62,10],[6,2,6,5],[6,8,6,11],[10,2,10,5],[10,8,10,11],[12,2,12,5],[12,8,12,11],[14,2,14,5],[18,2,18,5],[18,8,18,11],[20,2,20,5],[20,8,20,11],[14,8,14,9],[25,2,25,3],[25,4,25,5],[25,6,25,7],[25,8,25,9],[25,10,25,11],[26,2,26,3],[26,4,26,5],[26,6,26,7],[26,8,26,11],[41,6,41,7],[42,2,42,3],[42,4,42,5],[42,6,42,7],[31,10,31,11],[29,2,29,3],[29,4,29,5],[29,6,29,7],[30,10,30,11],[30,8,30,9],[30,6,30,7],[30,4,30,5],[38,9,38,11],[31,2,31,3],[31,4,31,5],[31,6,31,7],[35,2,35,3],[35,6,35,7],[37,2,37,3],[40,2,40,3],[40,4,40,5],[40,6,40,7],[40,8,40,9],[40,10,40,11],[60,6,60,7],[57,6,57,7],[57,8,57,11],[56,2,56,3],[57,2,57,3],[56,4,56,5],[57,4,57,5],[59,8,59,10],[43,2,43,3],[43,4,43,5],[43,6,43,7],[51,1,51,2],[51,3,51,5],[52,3,52,5],[51,6,51,7],[52,6,52,7],[51,8,51,11],[52,8,52,11],[56,6,56,7],[56,8,56,11]]}
[null,{"$f":"'Customer Information'!A1","v":"2023 Commercial Efficiency Program"}]
[]
[]
[null,{"$f":"\"Inspection Form, Version \"&Development!A2","v":"Inspection Form, Version 1.0"}]
[]
[]
[null,"Performed By:",null,null,null,null,null,"Account No:",{"$f":"IF('Customer Information'!C5=\"\",\"\",'Customer Information'!C5)","v":""}]
[]
[]
[null,"Customer Information"]
[null,"Account Holder Name:",{"$f":"IF('Customer Information'!C6=\"\",\"\",'Customer Information'!C6)","v":""},null,null,null,null,"Address:",{"$f":"IF('Customer Information'!C7=\"\",\"\",'Customer Information'!C7)","v":""}]
[]
[null,"Town:",{"$f":"IF('Customer Information'!I7=\"\",\"\",'Customer Information'!I7)","v":""},null,null,null,null,"Phone:",{"$f":"IF('Customer Information'!K9=\"\",\"\",'Customer Information'!K9)","v":""}]
[]
[null,"Inspector:",null,null,null,null,null,"Date:"]
[]
[]
[null,"Contractor Information"]
[null,"Company:",{"$f":"IF('Customer Information'!C24=\"\",\"\",'Customer Information'!C24)","v":""},null,null,null,null,"Contact Name:",{"$f":"IF('Customer Information'!C25=\"\",\"\",'Customer Information'!C25)","v":""}]
[]
[null,"Phone:",{"$f":"IF('Customer Information'!K26=\"\",\"\",'Customer Information'!K26)","v":""},null,null,null,null,"Application ID:",{"$f":"IF('Customer Information'!L42=\"\",\"\",'Customer Information'!L42)","v":""}]
[]
[null,"New Equipment Details"]
[]
[null,"Duct Sealing"]
[]
[null,"Location","System",null,"Test In (CFM 25)",null,"Test Out (CFM 25)",null,"Notes"]
[null,{"$f":"IF(Worksheet!D52=\"\",\"\",Worksheet!D52)","v":""},{"$f":"IF(Worksheet!D62=\"\",\"\",IF(Qualifying_Index!F103=0,\"\",Qualifying_Index!H103)&IF(Qualifying_Index!G103=0,\"\",IF(Qualifying_Index!F103=0,Qualifying_Index!I103,\" & \"&Qualifying_Index!I103)))","v":""}]
[null,{"$f":"IF(Worksheet!J52=\"\",\"\",Worksheet!J52)","v":""},{"$f":"IF(Worksheet!J62=\"\",\"\",IF(Qualifying_Index!F104=0,\"\",Qualifying_Index!H104)&IF(Qualifying_Index!G104=0,\"\",IF(Qualifying_Index!F104=0,Qualifying_Index!I104,\" & \"&Qualifying_Index!I104)))","v":""}]
[null,{"$f":"IF(Worksheet!D66=\"\",\"\",Worksheet!D66)","v":""},{"$f":"IF(Worksheet!D76=\"\",\"\",IF(Qualifying_Index!F105=0,\"\",Qualifying_Index!H105)&IF(Qualifying_Index!G105=0,\"\",IF(Qualifying_Index!F105=0,Qualifying_Index!I105,\" & \"&Qualifying_Index!I105)))","v":""}]
[]
[null,"Air Sealing"]
[null,"Enter \"Yes\" for areas that have been sealed between conditioned and unconditioned spaces:"]
[null,"Windows:",null,null,null,"Flue:",null,null,null,"Kitchen Vent:"]
[null,"Chimney:",null,null,null,"Dryer Vent:",null,null,null,"HVAC Vents:"]
[null,"Plumbing:",null,null,null,"Wire Penetrations:"]
[]
[null,"Blower Door Test:","Test in (CFM75):",null,null,null,"Test out (CFM75):"]
[]
[null,"Insulation"]
[]
[null,"Location","Square Footage ",null,"R-Value",null,"Insulation Material",null,"Notes*"]
[null,{"$f":"IF(Worksheet!D110=\"\",\"\",Worksheet!D110)","v":""},{"$f":"IF(Worksheet!D112=\"\",\"\",Worksheet!D112)","v":""},null,{"$f":"IF(Worksheet!D116=\"\",\"\",Worksheet!D116)","v":""}]
[null,{"$f":"IF(Worksheet!J110=\"\",\"\",Worksheet!J110)","v":""},{"$f":"IF(Worksheet!J112=\"\",\"\",Worksheet!J112)","v":""},null,{"$f":"IF(Worksheet!J116=\"\",\"\",Worksheet!J116)","v":""}]
[null,{"$f":"IF(Worksheet!D120=\"\",\"\",Worksheet!D120)","v":""},{"$f":"IF(Worksheet!D122=\"\",\"\",Worksheet!D122)","v":""},null,{"$f":"IF(Worksheet!D126=\"\",\"\",Worksheet!D126)","v":""}]
[null,{"$f":"IF(Worksheet!J120=\"\",\"\",Worksheet!J120)","v":""},{"$f":"IF(Worksheet!J122=\"\",\"\",Worksheet!J122)","v":""},null,{"$f":"IF(Worksheet!J126=\"\",\"\",Worksheet!J126)","v":""}]
[null,{"$f":"IF(Worksheet!D130=\"\",\"\",Worksheet!D130)","v":""},{"$f":"IF(Worksheet!D132=\"\",\"\",Worksheet!D132)","v":""},null,{"$f":"IF(Worksheet!D136=\"\",\"\",Worksheet!D136)","v":""}]
[null,"*If Spray Foam is used, please not if thermal barrier or ignition is used"]
[]
[null,"Air Curtain"]
[]
[null,"New Air Curtain Installed?",null,"Length of Doorway",null,null,"Height of Doorway",null,"Notes"]
[null,{"$f":"IF(Worksheet!J147=\"\",\"\",\"Yes\")","v":""},null,{"$f":"IF(Worksheet!D152=\"\",\"\",Worksheet!D152&\" feet\")","v":""},null,null,{"$f":"IF(Worksheet!D154=\"\",\"\",Worksheet!D154&\" feet\")","v":""}]
[]
[null,"Pipe Insulation"]
[]
[null,"Water Heater Type","Length of Insulation",null,"Pipe Diameter",null,"Insulation Thickness",null,"Notes"]
[null,{"$f":"IF(Worksheet!D168=\"\",\"\",Worksheet!D168)","v":""},{"$f":"IF(Worksheet!D170=\"\",\"\",Worksheet!D170&\" feet\")","v":""},null,{"$f":"IF(Worksheet!D172=\"\",\"\",Worksheet!D172&\" inches\")","v":""},null,{"$f":"IF(Worksheet!D174=\"\",\"\",Worksheet!D174&\" inches\")","v":""}]
[]
[null,"Are there breaks in the insulation, gaps between lengths, or uninsulated corners?"]
[null,"Is the insulation fastend down with zip ties or othermeans?"]
[]
[]
[null,"Notes:"]
[]
[]
[]
[null,"Customer Signature:",null,null,null,null,null,null,null,"Date:"]

{"sheet":"Qualifying_Index","index":12,"n_rows":142,"n_cols":70,"rows_kept":142,"cut":false,"hidden":true,"merged":[[24,53,25,53],[69,50,70,50],[69,51,70,51],[25,31,25,32],[24,31,24,32],[25,34,25,35],[24,42,24,44],[24,38,24,40],[25,36,25,37],[24,34,24,37],[59,51,60,51],[59,48,60,48],[59,49,60,49],[139,1,139,12],[75,27,76,27],[24,28,24,30],[24,16,24,18],[24,19,24,20],[45,21,45,23],[46,18,46,20],[46,21,46,23],[24,21,24,22],[24,23,24,25],[24,12,25,12],[41,18,41,20],[41,4,41,5],[24,4,24,6],[24,8,25,8],[24,13,24,15],[24,56,24,69],[24,45,24,48],[59,55,60,55],[69,52,70,52],[59,46,60,46],[69,46,70,46],[69,47,70,47],[69,49,70,49],[69,48,70,48],[59,47,60,47],[59,53,60,53],[59,54,60,54],[59,52,60,52],[24,50,25,50],[24,51,25,51],[59,50,60,50],[24,54,25,54],[46,4,46,5],[47,4,47,5],[48,4,48,5],[49,4,49,5],[43,21,43,23],[44,18,44,20],[44,21,44,23],[45,18,45,20],[42,18,42,20],[42,21,42,23],[43,18,43,20],[44,4,44,5],[45,4,45,5],[42,4,42,5],[43,4,43,5],[50,4,50,5],[90,1,90,17],[50,18,50,20],[69,2,69,24],[75,2,75,24],[41,21,41,23],[50,21,50,23],[47,21,47,23],[48,18,48,20],[48,21,48,23],[49,18,49,20],[49,21,49,23],[47,18,47,20],[132,19,132,26],[132,1,132,17],[55,4,55,5],[59,2,59,24],[56,4,56,5],[69,26,70,26],[59,26,60,26],[75,26,76,26],[100,1,100,15],[111,1,111,9]]}
[]
[]
[]
[]
[]
[]
[]
[]
[]
[]
[]
[]
[]
[]
[]
[]
[]
[]
[]
[]
[]
[]
[]
["Worksheet tab- ASHP"]
[null,null,"Cold Climate ",null,"Baseline",null,null,null,"Displacement Factor",null,"New Equipment + Tier","New or Retrofit","Whole House Scenario?","Proposed",null,null,"SEER",null,null,"EER",null,"COP/HSPF",null,"Tier Requirements",null,null,null,null,"Incentives",null,null,"Contractor Incentive",null,null,"Manual J btu Range",null,null,null,"Pass/Fail",null,null,null,"Missing Info Lookups",null,null,"QI Savings Calculations",null,null,null,null,"Named Range","Conditional Formatting",null,"Cooling Hours","Heating hours",null,"Savings and Beneficial Electrification Calculation"]
["Unit Number",null,"Lookup",null,"EER","SEER","HSPF",null,null,null,null,null,null,"SEER","EER","HSPF","Tier I","Tier II","Tier III","Tier I","Tier II","Tier I","Tier II","SEER","EER","COP/HSPF",null,null,"LMI Y/N","Customer ","Contractor ","Logic",null,null,"Cooling",null,"Heating",null,"Cooling","Heating","Final",null,"PTHP","QIV","EO","kW C&A","kW RS","Cooling kWh","Heating kWh",null,null,null,null,null,null,null,"Cooling kW Savings","Cooling kWh Savings","Cooling MMBTU Savings","Cooling CO2 savings (lbs)","Heating kW Savings","Heating kWh Savings","Heating BE kW","Heating BE kWh","Heating MMBTU Savings (kWh)","Heating MMBTU Savings (fuel)","Heating MMBTU Savings Total","Heating kWh CO2 Savings (lbs)","Heating ff CO2 Savings (lbs)","Heating CO2 Savings (lbs)"]
[1,null,{"$f":"IF(OR(#REF!=\"Ducted ccASHP\",#REF!=\"Ductless Mini Split - ccASHP\"),\"Cold Climate\",\"\")","v":{"$error":"#REF!"}},null,{"$f":"IF(OR(#REF!=\"\",#REF!=\"\",NOT(ISNUMBER(#REF!))),IF(Qualifying_Index!AY27=\"PTHP\",References!#REF!,IF(ISERROR(SEARCH(\"HP\",#REF!,1)),References!#REF!,References!#REF!)),#REF!)","v":{"$error":"#REF!"}},{"$f":"IF(OR(#REF!=\"\",#REF!=\"\",NOT(ISNUMBER(#REF!))),IF(Qualifying_Index!AY27=\"PTHP\",References!$M$12,IF(ISERROR(SEARCH(\"HP\",#REF!,1)),References!$M$10,References!$M$9)),#REF!)","v":{"$error":"#REF!"}},{"$f":"IF(AND(OR(References!$H$14=\"Electric\",References!$H$14=\"Air Source HP\",#REF!=\"Air Source HP\"),#REF!<>\"\"),IF(OR(#REF!=\"\",NOT(ISNUMBER(#REF!))),IF(Qualifying_Index!AY27=\"PTHP\",References!$M$40,References!$M$42),#REF!),0)","v":{"$error":"#REF!"}},null,{"$f":"IF(#REF!=\"\",\"\",IF(OR(WholeHouse_TF=FALSE,References!H4=TRUE),References!#REF!,1))","v":{"$error":"#REF!"}},null,{"$f":"IF(AND(References!$H$4=TRUE,OR(AY27<>\"PTHP\",AY27<>\"Ductless\",AY27<>\"CAC\")),#REF!&\" EH\"&\" \"&#REF!,L27&\" \"&#REF!&\" \"&#REF!&M27)","v":{"$error":"#REF!"}},{"$f":"IF(References!#REF!=TRUE,\"Whole House\",IF(RIGHT(References!#REF!,2)=\"HP\",\"Retrofit\",\"New\"))","v":{"$error":"#REF!"}},{"$f":"IF(References!#REF!<>TRUE,\"\",IF(References!#REF!=2,1,IF(AND(#REF!<>\"Central Air Conditioner\",#REF!<>\"Ducted Air Source HP\",References!$H$14=\"Oil\"),2,3)))","v":{"$error":"#REF!"}},{"$f":"IF(#REF!=\"\",\"\",#REF!)","v":{"$error":"#REF!"}},{"$f":"IF(#REF!=\"\",\"\",#REF!)","v":{"$error":"#REF!"}},{"$f":"IF(#REF!=\"\",\"\",#REF!)","v":{"$error":"#REF!"}},{"$f":"IF(#REF!=\"\",\"\",IF(References!$H$4=TRUE,INDEX(References!#REF!,MATCH(#REF!&\" EH\",References!$W$7:$W$15,0)),INDEX(References!#REF!,MATCH(#REF!,References!$W$7:$W$23,0))))","v":{"$error":"#REF!"}},{"$f":"IF(#REF!=\"\",\"\",IF(References!$H$4=TRUE,INDEX(References!#REF!,MATCH(#REF!&\" EH\",References!$W$7:$W$15,0)),INDEX(References!#REF!,MATCH(#REF!,References!$W$7:$W$23,0))))","v":{"$error":"#REF!"}},{"$f":"IF(#REF!=\"\",\"\",IF(References!$H$4=TRUE,INDEX(References!#REF!,MATCH(#REF!&\" EH\",References!$W$7:$W$15,0)),INDEX(References!#REF!,MATCH(#REF!,References!$W$7:$W$23,0))))","v":{"$error":"#REF!"}},{"$f":"IF(#REF!=\"\",\"\",INDEX(References!$AC$12:$AC$12,MATCH(#REF!,References!$W$7:$W$23,0)))","v":{"$error":"#REF!"}},{"$f":"IF(#REF!=\"\",\"\",INDEX(References!$AD$7:$AD$23,MATCH(#REF!,References!$W$7:$W$23,0)))","v":{"$error":"#REF!"}},{"$f":"IF(#REF!=\"\",\"\",IF(References!$H$4=TRUE,INDEX(References!$X$24:$X$24,MATCH(#REF!&\" EH\",References!$W$7:$W$15,0)),INDEX(References!$X$24:$X$24,MATCH(#REF!,References!$W$7:$W$23,0))))","v":{"$error":"#REF!"}},{"$f":"IF(#REF!=\"\",\"\",IF(References!$H$4=TRUE,INDEX(References!$AB$12:$AB$12,MATCH(#REF!&\" EH\",References!$W$7:$W$15,0)),INDEX(References!$AB$12:$AB$12,MATCH(#REF!,References!$W$7:$W$23,0))))","v":{"$error":"#REF!"}},{"$f":"IF(OR(N27=\"\",AY27=\"PTHP\"),\"\",IF(AND(N27<Q27,N27<R27),\"DNQ\",IF(N27>=S27,\"Tier III\",IF(N27>=R27,\"Tier II\",\"Tier I\"))))","v":{"$error":"#REF!"}},{"$f":"IF(O27=\"\",\"\",IF(AND(AY27=\"PTHP\",O27<T27),\"DNQ\",X27))","v":{"$error":"#REF!"}},{"$f":"IF(#REF!=\"\",\"\",IF(V27=0,\"\",IF(AND(P27<V27,P27<W27),\"DNQ\",IF(P27>=W27,\"Tier II\",\"Tier I\"))))","v":{"$error":"#REF!"}},null,{"$f":"IF(OR(X27=\"DNQ\",Y27=\"DNQ\",Z27=\"DNQ\",#REF!=\"FAIL\"),\"DNQ\",IF(OR(X27=\"Tier I\",Z27=\"Tier I\"),\"Tier I\",IF(OR(X27=\"Tier II\",Z27=\"Tier II\"),\"Tier II\",\"Tier III\")))","v":{"$error":"#REF!"}},{"$f":"References!$C$24","v":0},{"$f":"IF(#REF!=\"\",\"\",IF(AB27=\"DNQ\",\"DNQ\",INDEX(IF(AC27=\"Income Eligible \",References!$AO$3:$AO$36,References!$AN$3:$AN$36),MATCH(K27,References!$AI$3:$AI$36,0))*(#REF!/12000)))","v":{"$error":"#REF!"}},{"$f":"IF(#REF!=\"\",\"\",IF(AD27=\"DNQ\",0,INDEX(References!$AP$3:$AP$36,MATCH(Qualifying_Index!K27,References!$AI$3:$AI$36,0))))","v":{"$error":"#REF!"}},{"$f":"IF(AE27>0,1,2)","v":{"$error":"#REF!"}},{"$f":"AE27","v":{"$error":"#REF!"}},null,{"$f":"((#REF!*0.65))","v":{"$error":"#REF!"}},{"$f":"((#REF!*1.35))","v":{"$error":"#REF!"}},{"$f":"IF(AND(References!#REF!=TRUE,References!$H$4=FALSE),(#REF!*1),#REF!*0.65)","v":{"$error":"#REF!"}},{"$f":"IF(AND(References!#REF!=TRUE,References!$H$4=FALSE),(#REF!*1.3),#REF!*1.35)","v":{"$error":"#REF!"}},{"$f":"IF(AND(#REF!>=Qualifying_Index!AI27,#REF!<=Qualifying_Index!AJ27),\"PASS\",\"FAIL\")","v":{"$error":"#REF!"}},{"$f":"IF(OR(AK27=0,AL27=0),\"FAIL\",IF(AND(IF(AND(References!#REF!=TRUE,References!$H$4=FALSE),#REF!,#REF!)>=AK27,IF(References!#REF!=TRUE,#REF!,#REF!)<=AL27),\"PASS\",\"FAIL\"))","v":{"$error":"#REF!"}},{"$f":"IF(References!#REF!=TRUE,IF(AND(#REF!=\"\",#REF!=\"\"),\"Missing Info\",IF(AN27=\"PASS\",\"PASS\",\"FAIL\")),IF(AND(#REF!=\"\",#REF!=\"\",LEFT(#REF!,6)=\"Ducted\"),\"Missing Info\",IF(OR(AM27=\"PASS\",AN27=\"PASS\",LEFT(#REF!,6)<>\"Ducted\"),\"PASS\",\"FAIL\")))","v":{"$error":"#REF!"}},null,{"$f":"IF(OR(#REF!=\"\",#REF!=\"\",#REF!=\"\",#REF!=\"\",#REF!=\"\",#REF!=\"\",#REF!=\"\",#REF!=\"\",#REF!=\"\",#REF!=\"\"),\"Missing Info\",\"\")","v":{"$error":"#REF!"}},{"$f":"IF(AND(AZ27=1,#REF!=\"\"),\"Missing Info\",IF(AY27=\"PTHP\",AQ27,IF(OR(#REF!=\"\",#REF!=\"\",#REF!=\"\",#REF!=\"\",#REF!=\"\",#REF!=\"\",#REF!=\"\",#REF!=\"\",#REF!=\"\",AO27=\"Missing Info\"),\"Missing Info\",\"\")))","v":{"$error":"#REF!"}},{"$f":"IF(AND(AZ27=1,#REF!=\"\"),\"Missing Info\",IF(AY27=\"PTHP\",AQ27,IF(OR(#REF!=\"\",#REF!=\"\",#REF!=\"\",#REF!=\"\",#REF!=\"\",#REF!=\"\",#REF!=\"\",#REF!=\"\"),\"Missing Info\",\"\")))","v":{"$error":"#REF!"}},{"$f":"IF(OR(#REF!=\"\",#REF!=\"\"),\"\",IF(OR(#REF!=\"Ducted ASHP\",#REF!=\"Ducted ccASHP\"),#REF!/12000*(12/#REF!)*kW_CA,0))","v":{"$error":"#REF!"}},{"$f":"IF(#REF!=\"\",\"\",IF(OR(#REF!=\"\"),\"\",#REF!*(12/#REF!)*kW_RS))","v":{"$error":"#REF!"}},{"$f":"IF(OR(#REF!=\"\",#REF!=\"\",#REF!=\"\"),\"\",IF(OR(#REF!=\"Ducted ASHP\",#REF!=\"Ducted ccASHP\"),#REF!/12000*(12/#REF!*FLH_Cool)*QI_kWh,0))","v":{"$error":"#REF!"}},{"$f":"IF(OR(#REF!=\"\",#REF!=\"\",#REF!=\"\"),\"\",IF(OR(#REF!=\"Ducted ASHP\",#REF!=\"Ducted ccASHP\"),#REF!/12000*(12/#REF!*FLH_Heat)*QI_kWh,0))","v":{"$error":"#REF!"}},null,{"$f":"IF(#REF!=\"\",\"\",INDEX(References!$AF$7:$AF$23,MATCH(#REF!,Equipment_Type,0)))","v":{"$error":"#REF!"}},{"$f":"IF(#REF!=\"\",\"\",INDEX(References!$AE$7:$AE$23,MATCH(#REF!,Equipment_Type,0)))","v":{"$error":"#REF!"}},null,{"$f":"IF(WholeHouse_TF=FALSE,References!#REF!,IF(References!$H$14=\"New Construction\",FLH_Cool,IF(References!$H$14=\"\",0,References!#REF!)))","v":{"$error":"#REF!"}},{"$f":"IF(WholeHouse_TF=FALSE,References!#REF!,IF(References!$H$14=\"New Construction\",FLH_Heat,IF(References!$H$14=\"\",0,References!#REF!)))","v":{"$error":"#REF!"}},null,{"$f":"IF(OR($AO27=\"FAIL\",#REF!=\"\",AO27=\"Missing Info\",AB27=\"DNQ\"),0,((#REF!/12000)*((12/E27)-(12/O27)))+SUM(AT27:AU27))","v":{"$error":"#REF!"}},{"$f":"IF(OR($AO27=\"FAIL\",#REF!=\"\",AO27=\"Missing Info\",AB27=\"DNQ\"),0,IF(AY27=\"PTHP\",((#REF!/12000)*(12/E27-12/O27)*BB27),(((#REF!/12000)*((12/F27)-(12/N27))*BB27))+AV27))","v":{"$error":"#REF!"}},{"$f":"IF(OR($AO27=\"FAIL\",#REF!=\"\",AO27=\"Missing Info\",AB27=\"DNQ\"),0,BF27*References!$E$12/1000)","v":{"$error":"#REF!"}},{"$f":"BF27*References!$A$12","v":{"$error":"#REF!"}},{"$f":"IF(OR($AO27=\"FAIL\",#REF!=\"\",AO27=\"Missing Info\",AB27=\"DNQ\",References!#REF!=FALSE),0,((#REF!/12000)*((1/(G27/3.412))-(1/(P27/3.412))))+SUM(AT27:AU27))","v":{"$error":"#REF!"}},{"$f":"IF(OR($AO27=\"FAIL\",#REF!=\"\",AO27=\"Missing Info\",AB27=\"DNQ\"),0,IF(References!#REF!=FALSE,AW27,((#REF!/12000)*((12/G27)-(12/P27))*BC27*I27)+AW27))","v":{"$error":"#REF!"}},{"$f":"IF(OR($AO27=\"FAIL\",#REF!=\"\",AO27=\"Missing Info\",AB27=\"DNQ\",References!#REF!=FALSE),0,-((#REF!/12000)*(1/(P27/3.412))))","v":{"$error":"#REF!"}},{"$f":"IF(OR($AO27=\"FAIL\",#REF!=\"\",AO27=\"Missing Info\",AB27=\"DNQ\",References!#REF!=FALSE),0,((#REF!/12000)*(12/P27)*(BC27*I27))-(#REF!*BC27/1000000)*References!#REF!*I27)","v":{"$error":"#REF!"}},{"$f":"IF(OR($AO27=\"FAIL\",AO27=\"Missing Info\",#REF!=\"\"),0,IF(References!#REF!=TRUE,BJ27*References!$E$12/1000,((BJ27-BL27)*References!$E$12/1000)))","v":{"$error":"#REF!"}},{"$f":"IF(OR($AO27=\"FAIL\",AO27=\"Missing Info\",#REF!=\"\"),0,IF(References!#REF!=TRUE,((#REF!*BC27/References!$M$42)/1000000)*I27,0))","v":{"$error":"#REF!"}},{"$f":"BM27+BN27","v":{"$error":"#REF!"}},{"$f":"(BJ27-BL27)*References!$A$12","v":{"$error":"#REF!"}},{"$f":"BN27*References!$N$42*References!$A$15","v":{"$error":"#REF!"}},{"$f":"IF(References!#REF!=TRUE,(BN27*References!$N$42*References!$A$15)-(BL27*References!$A$12),BJ27*References!$A$12)","v":{"$error":"#REF!"}}]
[{"$f":"A27+1","v":2},null,{"$f":"IF(OR(#REF!=\"Ducted ccASHP\",#REF!=\"Ductless Mini Split - ccASHP\"),\"Cold Climate\",\"\")","v":{"$error":"#REF!"}},null,{"$f":"IF(OR(#REF!=\"\",#REF!=\"\",NOT(ISNUMBER(#REF!))),IF(Qualifying_Index!AY28=\"PTHP\",References!#REF!,IF(ISERROR(SEARCH(\"HP\",#REF!,1)),References!#REF!,References!#REF!)),#REF!)","v":{"$error":"#REF!"}},{"$f":"IF(OR(#REF!=\"\",#REF!=\"\",NOT(ISNUMBER(#REF!))),IF(Qualifying_Index!AY28=\"PTHP\",References!$M$12,IF(ISERROR(SEARCH(\"HP\",#REF!,1)),References!$M$10,References!$M$9)),#REF!)","v":{"$error":"#REF!"}},{"$f":"IF(AND(OR(References!$H$14=\"Electric\",References!$H$14=\"Air Source HP\",#REF!=\"Air Source HP\"),#REF!<>\"\"),IF(OR(#REF!=\"\",NOT(ISNUMBER(#REF!))),IF(Qualifying_Index!AY28=\"PTHP\",References!$M$40,References!$M$42),#REF!),0)","v":{"$error":"#REF!"}},null,{"$f":"IF(#REF!=\"\",\"\",IF(OR(WholeHouse_TF=FALSE,References!H5=TRUE),References!#REF!,1))","v":{"$error":"#REF!"}},null,{"$f":"IF(AND(References!$H$4=TRUE,OR(AY28<>\"PTHP\",AY28<>\"Ductless\",AY28<>\"CAC\")),#REF!&\" EH\"&\" \"&#REF!,L28&\" \"&#REF!&\" \"&#REF!&M28)","v":{"$error":"#REF!"}},{"$f":"IF(References!#REF!=TRUE,\"Whole House\",IF(RIGHT(References!#REF!,2)=\"HP\",\"Retrofit\",\"New\"))","v":{"$error":"#REF!"}},{"$f":"IF(References!#REF!<>TRUE,\"\",IF(References!#REF!=2,1,IF(AND(#REF!<>\"Central Air Conditioner\",#REF!<>\"Ducted Air Source HP\",References!$H$14=\"Oil\"),2,3)))","v":{"$error":"#REF!"}},{"$f":"IF(#REF!=\"\",\"\",#REF!)","v":{"$error":"#REF!"}},{"$f":"IF(#REF!=\"\",\"\",#REF!)","v":{"$error":"#REF!"}},{"$f":"IF(#REF!=\"\",\"\",#REF!)","v":{"$error":"#REF!"}},{"$f":"IF(#REF!=\"\",\"\",IF(References!$H$4=TRUE,INDEX(References!#REF!,MATCH(#REF!&\" EH\",References!$W$7:$W$15,0)),INDEX(References!#REF!,MATCH(#REF!,References!$W$7:$W$23,0))))","v":{"$error":"#REF!"}},{"$f":"IF(#REF!=\"\",\"\",IF(References!$H$4=TRUE,INDEX(References!#REF!,MATCH(#REF!&\" EH\",References!$W$7:$W$15,0)),INDEX(References!#REF!,MATCH(#REF!,References!$W$7:$W$23,0))))","v":{"$error":"#REF!"}},{"$f":"IF(#REF!=\"\",\"\",IF(References!$H$4=TRUE,INDEX(References!#REF!,MATCH(#REF!&\" EH\",References!$W$7:$W$15,0)),INDEX(References!#REF!,MATCH(#REF!,References!$W$7:$W$23,0))))","v":{"$error":"#REF!"}},{"$f":"IF(#REF!=\"\",\"\",INDEX(References!$AC$12:$AC$12,MATCH(#REF!,References!$W$7:$W$23,0)))","v":{"$error":"#REF!"}},{"$f":"IF(#REF!=\"\",\"\",INDEX(References!$AD$7:$AD$23,MATCH(#REF!,References!$W$7:$W$23,0)))","v":{"$error":"#REF!"}},{"$f":"IF(#REF!=\"\",\"\",IF(References!$H$4=TRUE,INDEX(References!$X$24:$X$24,MATCH(#REF!&\" EH\",References!$W$7:$W$15,0)),INDEX(References!$X$24:$X$24,MATCH(#REF!,References!$W$7:$W$23,0))))","v":{"$error":"#REF!"}},{"$f":"IF(#REF!=\"\",\"\",IF(References!$H$4=TRUE,INDEX(References!$AB$12:$AB$12,MATCH(#REF!&\" EH\",References!$W$7:$W$15,0)),INDEX(References!$AB$12:$AB$12,MATCH(#REF!,References!$W$7:$W$23,0))))","v":{"$error":"#REF!"}},{"$error":"#REF!"},{"$error":"#REF!"},{"$f":"IF(#REF!=\"\",\"\",IF(V28=0,\"\",IF(AND(P28<V28,P28<W28),\"DNQ\",IF(P28>=W28,\"Tier II\",\"Tier I\"))))","v":{"$error":"#REF!"}},null,{"$f":"IF(OR(X28=\"DNQ\",Y28=\"DNQ\",Z28=\"DNQ\",#REF!=\"FAIL\"),\"DNQ\",IF(OR(X28=\"Tier I\",Z28=\"Tier I\"),\"Tier I\",IF(OR(X28=\"Tier II\",Z28=\"Tier II\"),\"Tier II\",\"Tier III\")))","v":{"$error":"#REF!"}},{"$f":"References!$C$24","v":0},{"$f":"IF(#REF!=\"\",\"\",IF(AB28=\"DNQ\",\"DNQ\",INDEX(IF(AC28=\"Income Eligible \",References!$AO$3:$AO$36,References!$AN$3:$AN$36),MATCH(K28,References!$AI$3:$AI$36,0))*(#REF!/12000)))","v":{"$error":"#REF!"}},{"$f":"IF(#REF!=\"\",\"\",IF(AD28=\"DNQ\",0,INDEX(References!$AP$3:$AP$36,MATCH(Qualifying_Index!K28,References!$AI$3:$AI$36,0))))","v":{"$error":"#REF!"}},{"$error":"#REF!"},{"$f":"IF(COUNTIF(AF27,1),0,AE28)","v":{"$error":"#REF!"}},null,{"$f":"((#REF!*0.65))","v":{"$error":"#REF!"}},{"$f":"((#REF!*1.35))","v":{"$error":"#REF!"}},{"$f":"IF(AND(References!#REF!=TRUE,References!$H$4=FALSE),(#REF!*1),#REF!*0.65)","v":{"$error":"#REF!"}},{"$f":"IF(AND(References!#REF!=TRUE,References!$H$4=FALSE),(#REF!*1.3),#REF!*1.35)","v":{"$error":"#REF!"}},{"$f":"IF(AND(#REF!>=Qualifying_Index!AI28,#REF!<=Qualifying_Index!AJ28),\"PASS\",\"FAIL\")","v":{"$error":"#REF!"}},{"$f":"IF(OR(AK28=0,AL28=0),\"FAIL\",IF(AND(IF(AND(References!#REF!=TRUE,References!$H$4=FALSE),#REF!,#REF!)>=AK28,IF(References!#REF!=TRUE,#REF!,#REF!)<=AL28),\"PASS\",\"FAIL\"))","v":{"$error":"#REF!"}},{"$f":"IF(References!#REF!=TRUE,IF(AND(#REF!=\"\",#REF!=\"\"),\"Missing Info\",IF(AN28=\"PASS\",\"PASS\",\"FAIL\")),IF(AND(#REF!=\"\",#REF!=\"\",LEFT(#REF!,6)=\"Ducted\"),\"Missing Info\",IF(OR(AM28=\"PASS\",AN28=\"PASS\",LEFT(#REF!,6)<>\"Ducted\"),\"PASS\",\"FAIL\")))","v":{"$error":"#REF!"}},null,{"$f":"IF(OR(#REF!=\"\",#REF!=\"\",#REF!=\"\",#REF!=\"\",#REF!=\"\",#REF!=\"\",#REF!=\"\",#REF!=\"\",#REF!=\"\",#REF!=\"\"),\"Missing Info\",\"\")","v":{"$error":"#REF!"}},{"$f":"IF(AND(AZ28=1,#REF!=\"\"),\"Missing Info\",IF(AY28=\"PTHP\",AQ28,IF(OR(#REF!=\"\",#REF!=\"\",#REF!=\"\",#REF!=\"\",#REF!=\"\",#REF!=\"\",#REF!=\"\",#REF!=\"\",#REF!=\"\",AO28=\"Missing Info\"),\"Missing Info\",\"\")))","v":{"$error":"#REF!"}},{"$f":"IF(AND(AZ28=1,#REF!=\"\"),\"Missing Info\",IF(AY28=\"PTHP\",AQ28,IF(OR(#REF!=\"\",#REF!=\"\",#REF!=\"\",#REF!=\"\",#REF!=\"\",#REF!=\"\",#REF!=\"\",#REF!=\"\"),\"Missing Info\",\"\")))","v":{"$error":"#REF!"}},{"$f":"IF(OR(#REF!=\"\",#REF!=\"\"),\"\",IF(OR(#REF!=\"Ducted ASHP\",#REF!=\"Ducted ccASHP\"),#REF!/12000*(12/#REF!)*kW_CA,0))","v":{"$error":"#REF!"}},{"$f":"IF(#REF!=\"\",\"\",IF(OR(#REF!=\"\"),\"\",#REF!*(12/#REF!)*kW_RS))","v":{"$error":"#REF!"}},{"$f":"IF(OR(#REF!=\"\",#REF!=\"\",#REF!=\"\"),\"\",IF(OR(#REF!=\"Ducted ASHP\",#REF!=\"Ducted ccASHP\"),#REF!/12000*(12/#REF!*FLH_Cool)*QI_kWh,0))","v":{"$error":"#REF!"}},{"$f":"IF(OR(#REF!=\"\",#REF!=\"\",#REF!=\"\"),\"\",IF(OR(#REF!=\"Ducted ASHP\",#REF!=\"Ducted ccASHP\"),#REF!/12000*(12/#REF!*FLH_Heat)*QI_kWh,0))","v":{"$error":"#REF!"}},null,{"$f":"IF(#REF!=\"\",\"\",INDEX(References!$AF$7:$AF$23,MATCH(#REF!,Equipment_Type,0)))","v":{"$error":"#REF!"}},{"$f":"IF(#REF!=\"\",\"\",INDEX(References!$AE$7:$AE$23,MATCH(#REF!,Equipment_Type,0)))","v":{"$error":"#REF!"}},null,{"$f":"IF(WholeHouse_TF=FALSE,References!#REF!,IF(References!$H$14=\"New Construction\",FLH_Cool,IF(References!$H$14=\"\",0,References!#REF!)))","v":{"$error":"#REF!"}},{"$f":"IF(WholeHouse_TF=FALSE,References!#REF!,IF(References!$H$14=\"New Construction\",FLH_Heat,IF(References!$H$14=\"\",0,References!#REF!)))","v":{"$error":"#REF!"}},null,{"$f":"IF(OR($AO28=\"FAIL\",#REF!=\"\",AO28=\"Missing Info\",AB28=\"DNQ\"),0,((#REF!/12000)*((12/E28)-(12/O28)))+SUM(AT28:AU28))","v":{"$error":"#REF!"}},{"$f":"IF(OR($AO28=\"FAIL\",#REF!=\"\",AO28=\"Missing Info\",AB28=\"DNQ\"),0,IF(AY28=\"PTHP\",((#REF!/12000)*(12/E28-12/O28)*BB28),(((#REF!/12000)*((12/F28)-(12/N28))*BB28))+AV28))","v":{"$error":"#REF!"}},{"$f":"IF(OR($AO28=\"FAIL\",#REF!=\"\",AO28=\"Missing Info\",AB28=\"DNQ\"),0,BF28*References!$E$12/1000)","v":{"$error":"#REF!"}},{"$f":"BF28*References!$A$12","v":{"$error":"#REF!"}},{"$f":"IF(OR($AO28=\"FAIL\",#REF!=\"\",AO28=\"Missing Info\",AB28=\"DNQ\",References!#REF!=FALSE),0,((#REF!/12000)*((1/(G28/3.412))-(1/(P28/3.412))))+SUM(AT28:AU28))","v":{"$error":"#REF!"}},{"$f":"IF(OR($AO28=\"FAIL\",#REF!=\"\",AO28=\"Missing Info\",AB28=\"DNQ\"),0,IF(References!#REF!=FALSE,AW28,((#REF!/12000)*((12/G28)-(12/P28))*BC28*I28)+AW28))","v":{"$error":"#REF!"}},{"$f":"IF(OR($AO28=\"FAIL\",#REF!=\"\",AO28=\"Missing Info\",AB28=\"DNQ\",References!#REF!=FALSE),0,-((#REF!/12000)*(1/(P28/3.412))))","v":{"$error":"#REF!"}},{"$f":"IF(OR($AO28=\"FAIL\",#REF!=\"\",AO28=\"Missing Info\",AB28=\"DNQ\",References!#REF!=FALSE),0,((#REF!/12000)*(12/P28)*(BC28*I28))-(#REF!*BC28/1000000)*References!#REF!*I28)","v":{"$error":"#REF!"}},{"$f":"IF(OR($AO28=\"FAIL\",AO28=\"Missing Info\",#REF!=\"\"),0,IF(References!#REF!=TRUE,BJ28*References!$E$12/1000,((BJ28-BL28)*References!$E$12/1000)))","v":{"$error":"#REF!"}},{"$f":"IF(OR($AO28=\"FAIL\",AO28=\"Missing Info\",#REF!=\"\"),0,IF(References!#REF!=TRUE,((#REF!*BC28/References!$M$42)/1000000)*I28,0))","v":{"$error":"#REF!"}},{"$f":"BM28+BN28","v":{"$error":"#REF!"}},{"$f":"(BJ28-BL28)*References!$A$12","v":{"$error":"#REF!"}},{"$f":"BN28*References!$N$42*References!$A$15","v":{"$error":"#REF!"}},{"$f":"IF(References!#REF!=TRUE,(BN28*References!$N$42*References!$A$15)-(BL28*References!$A$12),BJ28*References!$A$12)","v":{"$error":"#REF!"}}]
[{"$f":"A28+1","v":3},null,{"$f":"IF(OR(#REF!=\"Ducted ccASHP\",#REF!=\"Ductless Mini Split - ccASHP\"),\"Cold Climate\",\"\")","v":{"$error":"#REF!"}},null,{"$f":"IF(OR(#REF!=\"\",#REF!=\"\",NOT(ISNUMBER(#REF!))),IF(Qualifying_Index!AY29=\"PTHP\",References!#REF!,IF(ISERROR(SEARCH(\"HP\",#REF!,1)),References!#REF!,References!#REF!)),#REF!)","v":{"$error":"#REF!"}},{"$f":"IF(OR(#REF!=\"\",#REF!=\"\",NOT(ISNUMBER(#REF!))),IF(Qualifying_Index!AY29=\"PTHP\",References!$M$12,IF(ISERROR(SEARCH(\"HP\",#REF!,1)),References!$M$10,References!$M$9)),#REF!)","v":{"$error":"#REF!"}},{"$f":"IF(AND(OR(References!$H$14=\"Electric\",References!$H$14=\"Air Source HP\",#REF!=\"Air Source HP\"),#REF!<>\"\"),IF(OR(#REF!=\"\",NOT(ISNUMBER(#REF!))),IF(Qualifying_Index!AY29=\"PTHP\",References!$M$40,References!$M$42),#REF!),0)","v":{"$error":"#REF!"}},null,{"$f":"IF(#REF!=\"\",\"\",IF(OR(WholeHouse_TF=FALSE,References!H6=TRUE),References!#REF!,1))","v":{"$error":"#REF!"}},null,{"$f":"IF(AND(References!$H$4=TRUE,OR(AY29<>\"PTHP\",AY29<>\"Ductless\",AY29<>\"CAC\")),#REF!&\" EH\"&\" \"&#REF!,L29&\" \"&#REF!&\" \"&#REF!&M29)","v":{"$error":"#REF!"}},{"$f":"IF(References!#REF!=TRUE,\"Whole House\",IF(RIGHT(References!#REF!,2)=\"HP\",\"Retrofit\",\"New\"))","v":{"$error":"#REF!"}},{"$f":"IF(References!#REF!<>TRUE,\"\",IF(References!#REF!=2,1,IF(AND(#REF!<>\"Central Air Conditioner\",#REF!<>\"Ducted Air Source HP\",References!$H$14=\"Oil\"),2,3)))","v":{"$error":"#REF!"}},{"$f":"IF(#REF!=\"\",\"\",#REF!)","v":{"$error":"#REF!"}},{"$f":"IF(#REF!=\"\",\"\",#REF!)","v":{"$error":"#REF!"}},{"$f":"IF(#REF!=\"\",\"\",#REF!)","v":{"$error":"#REF!"}},{"$f":"IF(#REF!=\"\",\"\",IF(References!$H$4=TRUE,INDEX(References!#REF!,MATCH(#REF!&\" EH\",References!$W$7:$W$15,0)),INDEX(References!#REF!,MATCH(#REF!,References!$W$7:$W$23,0))))","v":{"$error":"#REF!"}},{"$f":"IF(#REF!=\"\",\"\",IF(References!$H$4=TRUE,INDEX(References!#REF!,MATCH(#REF!&\" EH\",References!$W$7:$W$15,0)),INDEX(References!#REF!,MATCH(#REF!,References!$W$7:$W$23,0))))","v":{"$error":"#REF!"}},{"$f":"IF(#REF!=\"\",\"\",IF(References!$H$4=TRUE,INDEX(References!#REF!,MATCH(#REF!&\" EH\",References!$W$7:$W$15,0)),INDEX(References!#REF!,MATCH(#REF!,References!$W$7:$W$23,0))))","v":{"$error":"#REF!"}},{"$f":"IF(#REF!=\"\",\"\",INDEX(References!$AC$12:$AC$12,MATCH(#REF!,References!$W$7:$W$23,0)))","v":{"$error":"#REF!"}},{"$f":"IF(#REF!=\"\",\"\",INDEX(References!$AD$7:$AD$23,MATCH(#REF!,References!$W$7:$W$23,0)))","v":{"$error":"#REF!"}},{"$f":"IF(#REF!=\"\",\"\",IF(References!$H$4=TRUE,INDEX(References!$X$24:$X$24,MATCH(#REF!&\" EH\",References!$W$7:$W$15,0)),INDEX(References!$X$24:$X$24,MATCH(#REF!,References!$W$7:$W$23,0))))","v":{"$error":"#REF!"}},{"$f":"IF(#REF!=\"\",\"\",IF(References!$H$4=TRUE,INDEX(References!$AB$12:$AB$12,MATCH(#REF!&\" EH\",References!$W$7:$W$15,0)),INDEX(References!$AB$12:$AB$12,MATCH(#REF!,References!$W$7:$W$23,0))))","v":{"$error":"#REF!"}},{"$error":"#REF!"},{"$error":"#REF!"},{"$f":"IF(#REF!=\"\",\"\",IF(V29=0,\"\",IF(AND(P29<V29,P29<W29),\"DNQ\",IF(P29>=W29,\"Tier II\",\"Tier I\"))))","v":{"$error":"#REF!"}},null,{"$f":"IF(OR(X29=\"DNQ\",Y29=\"DNQ\",Z29=\"DNQ\",#REF!=\"FAIL\"),\"DNQ\",IF(OR(X29=\"Tier I\",Z29=\"Tier I\"),\"Tier I\",IF(OR(X29=\"Tier II\",Z29=\"Tier II\"),\"Tier II\",\"Tier III\")))","v":{"$error":"#REF!"}},{"$f":"References!$C$24","v":0},{"$f":"IF(#REF!=\"\",\"\",IF(AB29=\"DNQ\",\"DNQ\",INDEX(IF(AC29=\"Income Eligible \",References!$AO$3:$AO$36,References!$AN$3:$AN$36),MATCH(K29,References!$AI$3:$AI$36,0))*(#REF!/12000)))","v":{"$error":"#REF!"}},{"$f":"IF(#REF!=\"\",\"\",IF(AD29=\"DNQ\",0,INDEX(References!$AP$3:$AP$36,MATCH(Qualifying_Index!K29,References!$AI$3:$AI$36,0))))","v":{"$error":"#REF!"}},{"$error":"#REF!"},{"$f":"IF(COUNTIF(AF27:AF28,1),0,AE29)","v":{"$error":"#REF!"}},null,{"$f":"((#REF!*0.65))","v":{"$error":"#REF!"}},{"$f":"((#REF!*1.35))","v":{"$error":"#REF!"}},{"$f":"IF(AND(References!#REF!=TRUE,References!$H$4=FALSE),(#REF!*1),#REF!*0.65)","v":{"$error":"#REF!"}},{"$f":"IF(AND(References!#REF!=TRUE,References!$H$4=FALSE),(#REF!*1.3),#REF!*1.35)","v":{"$error":"#REF!"}},{"$f":"IF(AND(#REF!>=Qualifying_Index!AI29,#REF!<=Qualifying_Index!AJ29),\"PASS\",\"FAIL\")","v":{"$error":"#REF!"}},{"$f":"IF(OR(AK29=0,AL29=0),\"FAIL\",IF(AND(IF(AND(References!#REF!=TRUE,References!$H$4=FALSE),#REF!,#REF!)>=AK29,IF(References!#REF!=TRUE,#REF!,#REF!)<=AL29),\"PASS\",\"FAIL\"))","v":{"$error":"#REF!"}},{"$f":"IF(References!#REF!=TRUE,IF(AND(#REF!=\"\",#REF!=\"\"),\"Missing Info\",IF(AN29=\"PASS\",\"PASS\",\"FAIL\")),IF(AND(#REF!=\"\",#REF!=\"\",LEFT(#REF!,6)=\"Ducted\"),\"Missing Info\",IF(OR(AM29=\"PASS\",AN29=\"PASS\",LEFT(#REF!,6)<>\"Ducted\"),\"PASS\",\"FAIL\")))","v":{"$error":"#REF!"}},null,{"$f":"IF(OR(#REF!=\"\",#REF!=\"\",#REF!=\"\",#REF!=\"\",#REF!=\"\",#REF!=\"\",#REF!=\"\",#REF!=\"\",#REF!=\"\",#REF!=\"\"),\"Missing Info\",\"\")","v":{"$error":"#REF!"}},{"$f":"IF(AND(AZ29=1,#REF!=\"\"),\"Missing Info\",IF(AY29=\"PTHP\",AQ29,IF(OR(#REF!=\"\",#REF!=\"\",#REF!=\"\",#REF!=\"\",#REF!=\"\",#REF!=\"\",#REF!=\"\",#REF!=\"\",#REF!=\"\",AO29=\"Missing Info\"),\"Missing Info\",\"\")))","v":{"$error":"#REF!"}},{"$f":"IF(AND(AZ29=1,#REF!=\"\"),\"Missing Info\",IF(AY29=\"PTHP\",AQ29,IF(OR(#REF!=\"\",#REF!=\"\",#REF!=\"\",#REF!=\"\",#REF!=\"\",#REF!=\"\",#REF!=\"\",#REF!=\"\"),\"Missing Info\",\"\")))","v":{"$error":"#REF!"}},{"$f":"IF(OR(#REF!=\"\",#REF!=\"\"),\"\",IF(OR(#REF!=\"Ducted ASHP\",#REF!=\"Ducted ccASHP\"),#REF!/12000*(12/#REF!)*kW_CA,0))","v":{"$error":"#REF!"}},{"$f":"IF(#REF!=\"\",\"\",IF(OR(#REF!=\"\"),\"\",#REF!*(12/#REF!)*kW_RS))","v":{"$error":"#REF!"}},{"$f":"IF(OR(#REF!=\"\",#REF!=\"\",#REF!=\"\"),\"\",IF(OR(#REF!=\"Ducted ASHP\",#REF!=\"Ducted ccASHP\"),#REF!/12000*(12/#REF!*FLH_Cool)*QI_kWh,0))","v":{"$error":"#REF!"}},{"$f":"IF(OR(#REF!=\"\",#REF!=\"\",#REF!=\"\"),\"\",IF(OR(#REF!=\"Ducted ASHP\",#REF!=\"Ducted ccASHP\"),#REF!/12000*(12/#REF!*FLH_Heat)*QI_kWh,0))","v":{"$error":"#REF!"}},null,{"$f":"IF(#REF!=\"\",\"\",INDEX(References!$AF$7:$AF$23,MATCH(#REF!,Equipment_Type,0)))","v":{"$error":"#REF!"}},{"$f":"IF(#REF!=\"\",\"\",INDEX(References!$AE$7:$AE$23,MATCH(#REF!,Equipment_Type,0)))","v":{"$error":"#REF!"}},null,{"$f":"IF(WholeHouse_TF=FALSE,References!#REF!,IF(References!$H$14=\"New Construction\",FLH_Cool,IF(References!$H$14=\"\",0,References!#REF!)))","v":{"$error":"#REF!"}},{"$f":"IF(WholeHouse_TF=FALSE,References!#REF!,IF(References!$H$14=\"New Construction\",FLH_Heat,IF(References!$H$14=\"\",0,References!#REF!)))","v":{"$error":"#REF!"}},null,{"$f":"IF(OR($AO29=\"FAIL\",#REF!=\"\",AO29=\"Missing Info\",AB29=\"DNQ\"),0,((#REF!/12000)*((12/E29)-(12/O29)))+SUM(AT29:AU29))","v":{"$error":"#REF!"}},{"$f":"IF(OR($AO29=\"FAIL\",#REF!=\"\",AO29=\"Missing Info\",AB29=\"DNQ\"),0,IF(AY29=\"PTHP\",((#REF!/12000)*(12/E29-12/O29)*BB29),(((#REF!/12000)*((12/F29)-(12/N29))*BB29))+AV29))","v":{"$error":"#REF!"}},{"$f":"IF(OR($AO29=\"FAIL\",#REF!=\"\",AO29=\"Missing Info\",AB29=\"DNQ\"),0,BF29*References!$E$12/1000)","v":{"$error":"#REF!"}},{"$f":"BF29*References!$A$12","v":{"$error":"#REF!"}},{"$f":"IF(OR($AO29=\"FAIL\",#REF!=\"\",AO29=\"Missing Info\",AB29=\"DNQ\",References!#REF!=FALSE),0,((#REF!/12000)*((1/(G29/3.412))-(1/(P29/3.412))))+SUM(AT29:AU29))","v":{"$error":"#REF!"}},{"$f":"IF(OR($AO29=\"FAIL\",#REF!=\"\",AO29=\"Missing Info\",AB29=\"DNQ\"),0,IF(References!#REF!=FALSE,AW29,((#REF!/12000)*((12/G29)-(12/P29))*BC29*I29)+AW29))","v":{"$error":"#REF!"}},{"$f":"IF(OR($AO29=\"FAIL\",#REF!=\"\",AO29=\"Missing Info\",AB29=\"DNQ\",References!#REF!=FALSE),0,-((#REF!/12000)*(1/(P29/3.412))))","v":{"$error":"#REF!"}},{"$f":"IF(OR($AO29=\"FAIL\",#REF!=\"\",AO29=\"Missing Info\",AB29=\"DNQ\",References!#REF!=FALSE),0,((#REF!/12000)*(12/P29)*(BC29*I29))-(#REF!*BC29/1000000)*References!#REF!*I29)","v":{"$error":"#REF!"}},{"$f":"IF(OR($AO29=\"FAIL\",AO29=\"Missing Info\",#REF!=\"\"),0,IF(References!#REF!=TRUE,BJ29*References!$E$12/1000,((BJ29-BL29)*References!$E$12/1000)))","v":{"$error":"#REF!"}},{"$f":"IF(OR($AO29=\"FAIL\",AO29=\"Missing Info\",#REF!=\"\"),0,IF(References!#REF!=TRUE,((#REF!*BC29/References!$M$42)/1000000)*I29,0))","v":{"$error":"#REF!"}},{"$error":"#REF!"},{"$f":"(BJ29-BL29)*References!$A$12","v":{"$error":"#REF!"}},{"$f":"BN29*References!$N$42*References!$A$15","v":{"$error":"#REF!"}},{"$f":"IF(References!#REF!=TRUE,(BN29*References!$N$42*References!$A$15)-(BL29*References!$A$12),BJ29*References!$A$12)","v":{"$error":"#REF!"}}]
[4,null,{"$f":"IF(OR(#REF!=\"Ducted ccASHP\",#REF!=\"Ductless Mini Split - ccASHP\"),\"Cold Climate\",\"\")","v":{"$error":"#REF!"}},null,{"$f":"IF(OR(#REF!=\"\",#REF!=\"\",NOT(ISNUMBER(#REF!))),IF(Qualifying_Index!AY30=\"PTHP\",References!#REF!,IF(ISERROR(SEARCH(\"HP\",#REF!,1)),References!#REF!,References!#REF!)),#REF!)","v":{"$error":"#REF!"}},{"$f":"IF(OR(#REF!=\"\",#REF!=\"\",NOT(ISNUMBER(#REF!))),IF(Qualifying_Index!AY30=\"PTHP\",References!$M$12,IF(ISERROR(SEARCH(\"HP\",#REF!,1)),References!$M$10,References!$M$9)),#REF!)","v":{"$error":"#REF!"}},{"$f":"IF(AND(OR(References!$H$14=\"Electric\",References!$H$14=\"Air Source HP\",#REF!=\"Air Source HP\"),#REF!<>\"\"),IF(OR(#REF!=\"\",NOT(ISNUMBER(#REF!))),IF(Qualifying_Index!AY30=\"PTHP\",References!$M$40,References!$M$42),#REF!),0)","v":{"$error":"#REF!"}},null,{"$f":"IF(#REF!=\"\",\"\",IF(OR(WholeHouse_TF=FALSE,References!H7=TRUE),References!#REF!,1))","v":{"$error":"#REF!"}},null,{"$f":"IF(AND(References!$H$4=TRUE,OR(AY30<>\"PTHP\",AY30<>\"Ductless\",AY30<>\"CAC\")),#REF!&\" EH\"&\" \"&#REF!,L30&\" \"&#REF!&\" \"&#REF!&M30)","v":{"$error":"#REF!"}},{"$f":"IF(References!#REF!=TRUE,\"Whole House\",IF(RIGHT(References!#REF!,2)=\"HP\",\"Retrofit\",\"New\"))","v":{"$error":"#REF!"}},{"$f":"IF(References!#REF!<>TRUE,\"\",IF(References!#REF!=2,1,IF(AND(#REF!<>\"Central Air Conditioner\",#REF!<>\"Ducted Air Source HP\",References!$H$14=\"Oil\"),2,3)))","v":{"$error":"#REF!"}},{"$f":"IF(#REF!=\"\",\"\",#REF!)","v":{"$error":"#REF!"}},{"$f":"IF(#REF!=\"\",\"\",#REF!)","v":{"$error":"#REF!"}},{"$f":"IF(#REF!=\"\",\"\",#REF!)","v":{"$error":"#REF!"}},{"$f":"IF(#REF!=\"\",\"\",IF(References!$H$4=TRUE,INDEX(References!#REF!,MATCH(#REF!&\" EH\",References!$W$7:$W$15,0)),INDEX(References!#REF!,MATCH(#REF!,References!$W$7:$W$23,0))))","v":{"$error":"#REF!"}},{"$f":"IF(#REF!=\"\",\"\",IF(References!$H$4=TRUE,INDEX(References!#REF!,MATCH(#REF!&\" EH\",References!$W$7:$W$15,0)),INDEX(References!#REF!,MATCH(#REF!,References!$W$7:$W$23,0))))","v":{"$error":"#REF!"}},{"$f":"IF(#REF!=\"\",\"\",IF(References!$H$4=TRUE,INDEX(References!#REF!,MATCH(#REF!&\" EH\",References!$W$7:$W$15,0)),INDEX(References!#REF!,MATCH(#REF!,References!$W$7:$W$23,0))))","v":{"$error":"#REF!"}},{"$f":"IF(#REF!=\"\",\"\",INDEX(References!$AC$12:$AC$12,MATCH(#REF!,References!$W$7:$W$23,0)))","v":{"$error":"#REF!"}},{"$f":"IF(#REF!=\"\",\"\",INDEX(References!$AD$7:$AD$23,MATCH(#REF!,References!$W$7:$W$23,0)))","v":{"$error":"#REF!"}},{"$f":"IF(#REF!=\"\",\"\",IF(References!$H$4=TRUE,INDEX(References!$X$24:$X$24,MATCH(#REF!&\" EH\",References!$W$7:$W$15,0)),INDEX(References!$X$24:$X$24,MATCH(#REF!,References!$W$7:$W$23,0))))","v":{"$error":"#REF!"}},{"$f":"IF(#REF!=\"\",\"\",IF(References!$H$4=TRUE,INDEX(References!$AB$12:$AB$12,MATCH(#REF!&\" EH\",References!$W$7:$W$15,0)),INDEX(References!$AB$12:$AB$12,MATCH(#REF!,References!$W$7:$W$23,0))))","v":{"$error":"#REF!"}},{"$error":"#REF!"},{"$error":"#REF!"},{"$f":"IF(#REF!=\"\",\"\",IF(V30=0,\"\",IF(AND(P30<V30,P30<W30),\"DNQ\",IF(P30>=W30,\"Tier II\",\"Tier I\"))))","v":{"$error":"#REF!"}},null,{"$f":"IF(OR(X30=\"DNQ\",Y30=\"DNQ\",Z30=\"DNQ\",#REF!=\"FAIL\"),\"DNQ\",IF(OR(X30=\"Tier I\",Z30=\"Tier I\"),\"Tier I\",IF(OR(X30=\"Tier II\",Z30=\"Tier II\"),\"Tier II\",\"Tier III\")))","v":{"$error":"#REF!"}},{"$f":"References!$C$24","v":0},{"$f":"IF(#REF!=\"\",\"\",IF(AB30=\"DNQ\",\"DNQ\",INDEX(IF(AC30=\"Income Eligible \",References!$AO$3:$AO$36,References!$AN$3:$AN$36),MATCH(K30,References!$AI$3:$AI$36,0))*(#REF!/12000)))","v":{"$error":"#REF!"}},{"$f":"IF(#REF!=\"\",\"\",IF(AD30=\"DNQ\",0,INDEX(References!$AP$3:$AP$36,MATCH(Qualifying_Index!K30,References!$AI$3:$AI$36,0))))","v":{"$error":"#REF!"}},{"$error":"#REF!"},{"$f":"IF(COUNTIF(AF27:AF29,1),0,AE30)","v":{"$error":"#REF!"}},null,{"$f":"((#REF!*0.65))","v":{"$error":"#REF!"}},{"$f":"((#REF!*1.35))","v":{"$error":"#REF!"}},{"$f":"IF(AND(References!#REF!=TRUE,References!$H$4=FALSE),(#REF!*1),#REF!*0.65)","v":{"$error":"#REF!"}},{"$f":"IF(AND(References!#REF!=TRUE,References!$H$4=FALSE),(#REF!*1.3),#REF!*1.35)","v":{"$error":"#REF!"}},{"$f":"IF(AND(#REF!>=Qualifying_Index!AI30,#REF!<=Qualifying_Index!AJ30),\"PASS\",\"FAIL\")","v":{"$error":"#REF!"}},{"$f":"IF(OR(AK30=0,AL30=0),\"FAIL\",IF(AND(IF(AND(References!#REF!=TRUE,References!$H$4=FALSE),#REF!,#REF!)>=AK30,IF(References!#REF!=TRUE,#REF!,#REF!)<=AL30),\"PASS\",\"FAIL\"))","v":{"$error":"#REF!"}},{"$f":"IF(References!#REF!=TRUE,IF(AND(#REF!=\"\",#REF!=\"\"),\"Missing Info\",IF(AN30=\"PASS\",\"PASS\",\"FAIL\")),IF(AND(#REF!=\"\",#REF!=\"\",LEFT(#REF!,6)=\"Ducted\"),\"Missing Info\",IF(OR(AM30=\"PASS\",AN30=\"PASS\",LEFT(#REF!,6)<>\"Ducted\"),\"PASS\",\"FAIL\")))","v":{"$error":"#REF!"}},null,{"$f":"IF(OR(#REF!=\"\",#REF!=\"\",#REF!=\"\",#REF!=\"\",#REF!=\"\",#REF!=\"\",#REF!=\"\",#REF!=\"\",#REF!=\"\",#REF!=\"\"),\"Missing Info\",\"\")","v":{"$error":"#REF!"}},{"$f":"IF(AND(AZ30=1,#REF!=\"\"),\"Missing Info\",IF(AY30=\"PTHP\",AQ30,IF(OR(#REF!=\"\",#REF!=\"\",#REF!=\"\",#REF!=\"\",#REF!=\"\",#REF!=\"\",#REF!=\"\",#REF!=\"\",#REF!=\"\",AO30=\"Missing Info\"),\"Missing Info\",\"\")))","v":{"$error":"#REF!"}},{"$f":"IF(AND(AZ30=1,#REF!=\"\"),\"Missing Info\",IF(AY30=\"PTHP\",AQ30,IF(OR(#REF!=\"\",#REF!=\"\",#REF!=\"\",#REF!=\"\",#REF!=\"\",#REF!=\"\",#REF!=\"\",#REF!=\"\"),\"Missing Info\",\"\")))","v":{"$error":"#REF!"}},{"$f":"IF(OR(#REF!=\"\",#REF!=\"\"),\"\",IF(OR(#REF!=\"Ducted ASHP\",#REF!=\"Ducted ccASHP\"),#REF!/12000*(12/#REF!)*kW_CA,0))","v":{"$error":"#REF!"}},{"$f":"IF(#REF!=\"\",\"\",IF(OR(#REF!=\"\"),\"\",#REF!*(12/#REF!)*kW_RS))","v":{"$error":"#REF!"}},{"$f":"IF(OR(#REF!=\"\",#REF!=\"\",#REF!=\"\"),\"\",IF(OR(#REF!=\"Ducted ASHP\",#REF!=\"Ducted ccASHP\"),#REF!/12000*(12/#REF!*FLH_Cool)*QI_kWh,0))","v":{"$error":"#REF!"}},{"$f":"IF(OR(#REF!=\"\",#REF!=\"\",#REF!=\"\"),\"\",IF(OR(#REF!=\"Ducted ASHP\",#REF!=\"Ducted ccASHP\"),#REF!/12000*(12/#REF!*FLH_Heat)*QI_kWh,0))","v":{"$error":"#REF!"}},null,{"$f":"IF(#REF!=\"\",\"\",INDEX(References!$AF$7:$AF$23,MATCH(#REF!,Equipment_Type,0)))","v":{"$error":"#REF!"}},{"$f":"IF(#REF!=\"\",\"\",INDEX(References!$AE$7:$AE$23,MATCH(#REF!,Equipment_Type,0)))","v":{"$error":"#REF!"}},null,{"$f":"IF(WholeHouse_TF=FALSE,References!#REF!,IF(References!$H$14=\"New Construction\",FLH_Cool,IF(References!$H$14=\"\",0,References!#REF!)))","v":{"$error":"#REF!"}},{"$f":"IF(WholeHouse_TF=FALSE,References!#REF!,IF(References!$H$14=\"New Construction\",FLH_Heat,IF(References!$H$14=\"\",0,References!#REF!)))","v":{"$error":"#REF!"}},null,{"$f":"IF(OR($AO30=\"FAIL\",#REF!=\"\",AO30=\"Missing Info\",AB30=\"DNQ\"),0,((#REF!/12000)*((12/E30)-(12/O30)))+SUM(AT30:AU30))","v":{"$error":"#REF!"}},{"$f":"IF(OR($AO30=\"FAIL\",#REF!=\"\",AO30=\"Missing Info\",AB30=\"DNQ\"),0,IF(AY30=\"PTHP\",((#REF!/12000)*(12/E30-12/O30)*BB30),(((#REF!/12000)*((12/F30)-(12/N30))*BB30))+AV30))","v":{"$error":"#REF!"}},{"$f":"IF(OR($AO30=\"FAIL\",#REF!=\"\",AO30=\"Missing Info\",AB30=\"DNQ\"),0,BF30*References!$E$12/1000)","v":{"$error":"#REF!"}},{"$f":"BF30*References!$A$12","v":{"$error":"#REF!"}},{"$f":"IF(OR($AO30=\"FAIL\",#REF!=\"\",AO30=\"Missing Info\",AB30=\"DNQ\",References!#REF!=FALSE),0,((#REF!/12000)*((1/(G30/3.412))-(1/(P30/3.412))))+SUM(AT30:AU30))","v":{"$error":"#REF!"}},{"$f":"IF(OR($AO30=\"FAIL\",#REF!=\"\",AO30=\"Missing Info\",AB30=\"DNQ\"),0,IF(References!#REF!=FALSE,AW30,((#REF!/12000)*((12/G30)-(12/P30))*BC30*I30)+AW30))","v":{"$error":"#REF!"}},{"$f":"IF(OR($AO30=\"FAIL\",#REF!=\"\",AO30=\"Missing Info\",AB30=\"DNQ\",References!#REF!=FALSE),0,-((#REF!/12000)*(1/(P30/3.412))))","v":{"$error":"#REF!"}},{"$f":"IF(OR($AO30=\"FAIL\",#REF!=\"\",AO30=\"Missing Info\",AB30=\"DNQ\",References!#REF!=FALSE),0,((#REF!/12000)*(12/P30)*(BC30*I30))-(#REF!*BC30/1000000)*References!#REF!*I30)","v":{"$error":"#REF!"}},{"$f":"IF(OR($AO30=\"FAIL\",AO30=\"Missing Info\",#REF!=\"\"),0,IF(References!#REF!=TRUE,BJ30*References!$E$12/1000,((BJ30-BL30)*References!$E$12/1000)))","v":{"$error":"#REF!"}},{"$f":"IF(OR($AO30=\"FAIL\",AO30=\"Missing Info\",#REF!=\"\"),0,IF(References!#REF!=TRUE,((#REF!*BC30/References!$M$42)/1000000)*I30,0))","v":{"$error":"#REF!"}},{"$error":"#REF!"},{"$f":"(BJ30-BL30)*References!$A$12","v":{"$error":"#REF!"}},{"$f":"BN30*References!$N$42*References!$A$15","v":{"$error":"#REF!"}},{"$f":"IF(References!#REF!=TRUE,(BN30*References!$N$42*References!$A$15)-(BL30*References!$A$12),BJ30*References!$A$12)","v":{"$error":"#REF!"}}]
[5,null,{"$f":"IF(OR(#REF!=\"Ducted ccASHP\",#REF!=\"Ductless Mini Split - ccASHP\"),\"Cold Climate\",\"\")","v":{"$error":"#REF!"}},null,{"$f":"IF(OR(#REF!=\"\",#REF!=\"\",NOT(ISNUMBER(#REF!))),IF(Qualifying_Index!AY31=\"PTHP\",References!#REF!,IF(ISERROR(SEARCH(\"HP\",#REF!,1)),References!#REF!,References!#REF!)),#REF!)","v":{"$error":"#REF!"}},{"$f":"IF(OR(#REF!=\"\",#REF!=\"\",NOT(ISNUMBER(#REF!))),IF(Qualifying_Index!AY31=\"PTHP\",References!$M$12,IF(ISERROR(SEARCH(\"HP\",#REF!,1)),References!$M$10,References!$M$9)),#REF!)","v":{"$error":"#REF!"}},{"$f":"IF(AND(OR(References!$H$14=\"Electric\",References!$H$14=\"Air Source HP\",#REF!=\"Air Source HP\"),#REF!<>\"\"),IF(OR(#REF!=\"\",NOT(ISNUMBER(#REF!))),IF(Qualifying_Index!AY31=\"PTHP\",References!$M$40,References!$M$42),#REF!),0)","v":{"$error":"#REF!"}},null,{"$f":"IF(#REF!=\"\",\"\",IF(OR(WholeHouse_TF=FALSE,References!H8=TRUE),References!#REF!,1))","v":{"$error":"#REF!"}},null,{"$f":"IF(AND(References!$H$4=TRUE,OR(AY31<>\"PTHP\",AY31<>\"Ductless\",AY31<>\"CAC\")),#REF!&\" EH\"&\" \"&#REF!,L31&\" \"&#REF!&\" \"&#REF!&M31)","v":{"$error":"#REF!"}},{"$f":"IF(References!#REF!=TRUE,\"Whole House\",IF(RIGHT(References!#REF!,2)=\"HP\",\"Retrofit\",\"New\"))","v":{"$error":"#REF!"}},{"$f":"IF(References!#REF!<>TRUE,\"\",IF(References!#REF!=2,1,IF(AND(#REF!<>\"Central Air Conditioner\",#REF!<>\"Ducted Air Source HP\",References!$H$14=\"Oil\"),2,3)))","v":{"$error":"#REF!"}},{"$f":"IF(#REF!=\"\",\"\",#REF!)","v":{"$error":"#REF!"}},{"$f":"IF(#REF!=\"\",\"\",#REF!)","v":{"$error":"#REF!"}},{"$f":"IF(#REF!=\"\",\"\",#REF!)","v":{"$error":"#REF!"}},{"$f":"IF(#REF!=\"\",\"\",IF(References!$H$4=TRUE,INDEX(References!#REF!,MATCH(#REF!&\" EH\",References!$W$7:$W$15,0)),INDEX(References!#REF!,MATCH(#REF!,References!$W$7:$W$23,0))))","v":{"$error":"#REF!"}},{"$f":"IF(#REF!=\"\",\"\",IF(References!$H$4=TRUE,INDEX(References!#REF!,MATCH(#REF!&\" EH\",References!$W$7:$W$15,0)),INDEX(References!#REF!,MATCH(#REF!,References!$W$7:$W$23,0))))","v":{"$error":"#REF!"}},{"$f":"IF(#REF!=\"\",\"\",IF(References!$H$4=TRUE,INDEX(References!#REF!,MATCH(#REF!&\" EH\",References!$W$7:$W$15,0)),INDEX(References!#REF!,MATCH(#REF!,References!$W$7:$W$23,0))))","v":{"$error":"#REF!"}},{"$f":"IF(#REF!=\"\",\"\",INDEX(References!$AC$12:$AC$12,MATCH(#REF!,References!$W$7:$W$23,0)))","v":{"$error":"#REF!"}},{"$f":"IF(#REF!=\"\",\"\",INDEX(References!$AD$7:$AD$23,MATCH(#REF!,References!$W$7:$W$23,0)))","v":{"$error":"#REF!"}},{"$f":"IF(#REF!=\"\",\"\",IF(References!$H$4=TRUE,INDEX(References!$X$24:$X$24,MATCH(#REF!&\" EH\",References!$W$7:$W$15,0)),INDEX(References!$X$24:$X$24,MATCH(#REF!,References!$W$7:$W$23,0))))","v":{"$error":"#REF!"}},{"$f":"IF(#REF!=\"\",\"\",IF(References!$H$4=TRUE,INDEX(References!$AB$12:$AB$12,MATCH(#REF!&\" EH\",References!$W$7:$W$15,0)),INDEX(References!$AB$12:$AB$12,MATCH(#REF!,References!$W$7:$W$23,0))))","v":{"$error":"#REF!"}},{"$error":"#REF!"},{"$error":"#REF!"},{"$f":"IF(#REF!=\"\",\"\",IF(V31=0,\"\",IF(AND(P31<V31,P31<W31),\"DNQ\",IF(P31>=W31,\"Tier II\",\"Tier I\"))))","v":{"$error":"#REF!"}},null,{"$f":"IF(OR(X31=\"DNQ\",Y31=\"DNQ\",Z31=\"DNQ\",#REF!=\"FAIL\"),\"DNQ\",IF(OR(X31=\"Tier I\",Z31=\"Tier I\"),\"Tier I\",IF(OR(X31=\"Tier II\",Z31=\"Tier II\"),\"Tier II\",\"Tier III\")))","v":{"$error":"#REF!"}},{"$f":"References!$C$24","v":0},{"$f":"IF(#REF!=\"\",\"\",IF(AB31=\"DNQ\",\"DNQ\",INDEX(IF(AC31=\"Income Eligible \",References!$AO$3:$AO$36,References!$AN$3:$AN$36),MATCH(K31,References!$AI$3:$AI$36,0))*(#REF!/12000)))","v":{"$error":"#REF!"}},{"$f":"IF(#REF!=\"\",\"\",IF(AD31=\"DNQ\",0,INDEX(References!$AP$3:$AP$36,MATCH(Qualifying_Index!K31,References!$AI$3:$AI$36,0))))","v":{"$error":"#REF!"}},{"$error":"#REF!"},{"$f":"IF(COUNTIF(AF27:AF30,1),0,AE31)","v":{"$error":"#REF!"}},null,{"$f":"((#REF!*0.65))","v":{"$error":"#REF!"}},{"$f":"((#REF!*1.35))","v":{"$error":"#REF!"}},{"$f":"IF(AND(References!#REF!=TRUE,References!$H$4=FALSE),(#REF!*1),#REF!*0.65)","v":{"$error":"#REF!"}},{"$f":"IF(AND(References!#REF!=TRUE,References!$H$4=FALSE),(#REF!*1.3),#REF!*1.35)","v":{"$error":"#REF!"}},{"$f":"IF(AND(#REF!>=Qualifying_Index!AI31,#REF!<=Qualifying_Index!AJ31),\"PASS\",\"FAIL\")","v":{"$error":"#REF!"}},{"$f":"IF(OR(AK31=0,AL31=0),\"FAIL\",IF(AND(IF(AND(References!#REF!=TRUE,References!$H$4=FALSE),#REF!,#REF!)>=AK31,IF(References!#REF!=TRUE,#REF!,#REF!)<=AL31),\"PASS\",\"FAIL\"))","v":{"$error":"#REF!"}},{"$f":"IF(References!#REF!=TRUE,IF(AND(#REF!=\"\",#REF!=\"\"),\"Missing Info\",IF(AN31=\"PASS\",\"PASS\",\"FAIL\")),IF(AND(#REF!=\"\",#REF!=\"\",LEFT(#REF!,6)=\"Ducted\"),\"Missing Info\",IF(OR(AM31=\"PASS\",AN31=\"PASS\",LEFT(#REF!,6)<>\"Ducted\"),\"PASS\",\"FAIL\")))","v":{"$error":"#REF!"}},null,{"$f":"IF(OR(#REF!=\"\",#REF!=\"\",#REF!=\"\",#REF!=\"\",#REF!=\"\",#REF!=\"\",#REF!=\"\",#REF!=\"\",#REF!=\"\",#REF!=\"\"),\"Missing Info\",\"\")","v":{"$error":"#REF!"}},{"$f":"IF(AND(AZ31=1,#REF!=\"\"),\"Missing Info\",IF(AY31=\"PTHP\",AQ31,IF(OR(#REF!=\"\",#REF!=\"\",#REF!=\"\",#REF!=\"\",#REF!=\"\",#REF!=\"\",#REF!=\"\",#REF!=\"\",#REF!=\"\",AO31=\"Missing Info\"),\"Missing Info\",\"\")))","v":{"$error":"#REF!"}},{"$f":"IF(AND(AZ31=1,#REF!=\"\"),\"Missing Info\",IF(AY31=\"PTHP\",AQ31,IF(OR(#REF!=\"\",#REF!=\"\",#REF!=\"\",#REF!=\"\",#REF!=\"\",#REF!=\"\",#REF!=\"\",#REF!=\"\"),\"Missing Info\",\"\")))","v":{"$error":"#REF!"}},{"$f":"IF(OR(#REF!=\"\",#REF!=\"\"),\"\",IF(OR(#REF!=\"Ducted ASHP\",#REF!=\"Ducted ccASHP\"),#REF!/12000*(12/#REF!)*kW_CA,0))","v":{"$error":"#REF!"}},{"$f":"IF(#REF!=\"\",\"\",IF(OR(#REF!=\"\"),\"\",#REF!*(12/#REF!)*kW_RS))","v":{"$error":"#REF!"}},{"$f":"IF(OR(#REF!=\"\",#REF!=\"\",#REF!=\"\"),\"\",IF(OR(#REF!=\"Ducted ASHP\",#REF!=\"Ducted ccASHP\"),#REF!/12000*(12/#REF!*FLH_Cool)*QI_kWh,0))","v":{"$error":"#REF!"}},{"$f":"IF(OR(#REF!=\"\",#REF!=\"\",#REF!=\"\"),\"\",IF(OR(#REF!=\"Ducted ASHP\",#REF!=\"Ducted ccASHP\"),#REF!/12000*(12/#REF!*FLH_Heat)*QI_kWh,0))","v":{"$error":"#REF!"}},null,{"$f":"IF(#REF!=\"\",\"\",INDEX(References!$AF$7:$AF$23,MATCH(#REF!,Equipment_Type,0)))","v":{"$error":"#REF!"}},{"$f":"IF(#REF!=\"\",\"\",INDEX(References!$AE$7:$AE$23,MATCH(#REF!,Equipment_Type,0)))","v":{"$error":"#REF!"}},null,{"$f":"IF(WholeHouse_TF=FALSE,References!#REF!,IF(References!$H$14=\"New Construction\",FLH_Cool,IF(References!$H$14=\"\",0,References!#REF!)))","v":{"$error":"#REF!"}},{"$f":"IF(WholeHouse_TF=FALSE,References!#REF!,IF(References!$H$14=\"New Construction\",FLH_Heat,IF(References!$H$14=\"\",0,References!#REF!)))","v":{"$error":"#REF!"}},null,{"$f":"IF(OR($AO31=\"FAIL\",#REF!=\"\",AO31=\"Missing Info\",AB31=\"DNQ\"),0,((#REF!/12000)*((12/E31)-(12/O31)))+SUM(AT31:AU31))","v":{"$error":"#REF!"}},{"$f":"IF(OR($AO31=\"FAIL\",#REF!=\"\",AO31=\"Missing Info\",AB31=\"DNQ\"),0,IF(AY31=\"PTHP\",((#REF!/12000)*(12/E31-12/O31)*BB31),(((#REF!/12000)*((12/F31)-(12/N31))*BB31))+AV31))","v":{"$error":"#REF!"}},{"$f":"IF(OR($AO31=\"FAIL\",#REF!=\"\",AO31=\"Missing Info\",AB31=\"DNQ\"),0,BF31*References!$E$12/1000)","v":{"$error":"#REF!"}},{"$f":"BF31*References!$A$12","v":{"$error":"#REF!"}},{"$f":"IF(OR($AO31=\"FAIL\",#REF!=\"\",AO31=\"Missing Info\",AB31=\"DNQ\",References!#REF!=FALSE),0,((#REF!/12000)*((1/(G31/3.412))-(1/(P31/3.412))))+SUM(AT31:AU31))","v":{"$error":"#REF!"}},{"$f":"IF(OR($AO31=\"FAIL\",#REF!=\"\",AO31=\"Missing Info\",AB31=\"DNQ\"),0,IF(References!#REF!=FALSE,AW31,((#REF!/12000)*((12/G31)-(12/P31))*BC31*I31)+AW31))","v":{"$error":"#REF!"}},{"$f":"IF(OR($AO31=\"FAIL\",#REF!=\"\",AO31=\"Missing Info\",AB31=\"DNQ\",References!#REF!=FALSE),0,-((#REF!/12000)*(1/(P31/3.412))))","v":{"$error":"#REF!"}},{"$f":"IF(OR($AO31=\"FAIL\",#REF!=\"\",AO31=\"Missing Info\",AB31=\"DNQ\",References!#REF!=FALSE),0,((#REF!/12000)*(12/P31)*(BC31*I31))-(#REF!*BC31/1000000)*References!#REF!*I31)","v":{"$error":"#REF!"}},{"$f":"IF(OR($AO31=\"FAIL\",AO31=\"Missing Info\",#REF!=\"\"),0,IF(References!#REF!=TRUE,BJ31*References!$E$12/1000,((BJ31-BL31)*References!$E$12/1000)))","v":{"$error":"#REF!"}},{"$f":"IF(OR($AO31=\"FAIL\",AO31=\"Missing Info\",#REF!=\"\"),0,IF(References!#REF!=TRUE,((#REF!*BC31/References!$M$42)/1000000)*I31,0))","v":{"$error":"#REF!"}},{"$error":"#REF!"},{"$f":"(BJ31-BL31)*References!$A$12","v":{"$error":"#REF!"}},{"$f":"BN31*References!$N$42*References!$A$15","v":{"$error":"#REF!"}},{"$f":"IF(References!#REF!=TRUE,(BN31*References!$N$42*References!$A$15)-(BL31*References!$A$12),BJ31*References!$A$12)","v":{"$error":"#REF!"}}]
[6,null,{"$f":"IF(OR(#REF!=\"Ducted ccASHP\",#REF!=\"Ductless Mini Split - ccASHP\"),\"Cold Climate\",\"\")","v":{"$error":"#REF!"}},null,{"$f":"IF(OR(#REF!=\"\",#REF!=\"\",NOT(ISNUMBER(#REF!))),IF(Qualifying_Index!AY32=\"PTHP\",References!#REF!,IF(ISERROR(SEARCH(\"HP\",#REF!,1)),References!#REF!,References!#REF!)),#REF!)","v":{"$error":"#REF!"}},{"$f":"IF(OR(#REF!=\"\",#REF!=\"\",NOT(ISNUMBER(#REF!))),IF(Qualifying_Index!AY32=\"PTHP\",References!$M$12,IF(ISERROR(SEARCH(\"HP\",#REF!,1)),References!$M$10,References!$M$9)),#REF!)","v":{"$error":"#REF!"}},{"$f":"IF(AND(OR(References!$H$14=\"Electric\",References!$H$14=\"Air Source HP\",#REF!=\"Air Source HP\"),#REF!<>\"\"),IF(OR(#REF!=\"\",NOT(ISNUMBER(#REF!))),IF(Qualifying_Index!AY32=\"PTHP\",References!$M$40,References!$M$42),#REF!),0)","v":{"$error":"#REF!"}},null,{"$f":"IF(#REF!=\"\",\"\",IF(OR(WholeHouse_TF=FALSE,References!H9=TRUE),References!#REF!,1))","v":{"$error":"#REF!"}},null,{"$f":"IF(AND(References!$H$4=TRUE,OR(AY32<>\"PTHP\",AY32<>\"Ductless\",AY32<>\"CAC\")),#REF!&\" EH\"&\" \"&#REF!,L32&\" \"&#REF!&\" \"&#REF!&M32)","v":{"$error":"#REF!"}},{"$f":"IF(References!#REF!=TRUE,\"Whole House\",IF(RIGHT(References!#REF!,2)=\"HP\",\"Retrofit\",\"New\"))","v":{"$error":"#REF!"}},{"$f":"IF(References!#REF!<>TRUE,\"\",IF(References!#REF!=2,1,IF(AND(#REF!<>\"Central Air Conditioner\",#REF!<>\"Ducted Air Source HP\",References!$H$14=\"Oil\"),2,3)))","v":{"$error":"#REF!"}},{"$f":"IF(#REF!=\"\",\"\",#REF!)","v":{"$error":"#REF!"}},{"$f":"IF(#REF!=\"\",\"\",#REF!)","v":{"$error":"#REF!"}},{"$f":"IF(#REF!=\"\",\"\",#REF!)","v":{"$error":"#REF!"}},{"$f":"IF(#REF!=\"\",\"\",IF(References!$H$4=TRUE,INDEX(References!#REF!,MATCH(#REF!&\" EH\",References!$W$7:$W$15,0)),INDEX(References!#REF!,MATCH(#REF!,References!$W$7:$W$23,0))))","v":{"$error":"#REF!"}},{"$f":"IF(#REF!=\"\",\"\",IF(References!$H$4=TRUE,INDEX(References!#REF!,MATCH(#REF!&\" EH\",References!$W$7:$W$15,0)),INDEX(References!#REF!,MATCH(#REF!,References!$W$7:$W$23,0))))","v":{"$error":"#REF!"}},{"$f":"IF(#REF!=\"\",\"\",IF(References!$H$4=TRUE,INDEX(References!#REF!,MATCH(#REF!&\" EH\",References!$W$7:$W$15,0)),INDEX(References!#REF!,MATCH(#REF!,References!$W$7:$W$23,0))))","v":{"$error":"#REF!"}},{"$f":"IF(#REF!=\"\",\"\",INDEX(References!$AC$12:$AC$12,MATCH(#REF!,References!$W$7:$W$23,0)))","v":{"$error":"#REF!"}},{"$f":"IF(#REF!=\"\",\"\",INDEX(References!$AD$7:$AD$23,MATCH(#REF!,References!$W$7:$W$23,0)))","v":{"$error":"#REF!"}},{"$f":"IF(#REF!=\"\",\"\",IF(References!$H$4=TRUE,INDEX(References!$X$24:$X$24,MATCH(#REF!&\" EH\",References!$W$7:$W$15,0)),INDEX(References!$X$24:$X$24,MATCH(#REF!,References!$W$7:$W$23,0))))","v":{"$error":"#REF!"}},{"$f":"IF(#REF!=\"\",\"\",IF(References!$H$4=TRUE,INDEX(References!$AB$12:$AB$12,MATCH(#REF!&\" EH\",References!$W$7:$W$15,0)),INDEX(References!$AB$12:$AB$12,MATCH(#REF!,References!$W$7:$W$23,0))))","v":{"$error":"#REF!"}},{"$error":"#REF!"},{"$error":"#REF!"},{"$f":"IF(#REF!=\"\",\"\",IF(V32=0,\"\",IF(AND(P32<V32,P32<W32),\"DNQ\",IF(P32>=W32,\"Tier II\",\"Tier I\"))))","v":{"$error":"#REF!"}},null,{"$f":"IF(OR(X32=\"DNQ\",Y32=\"DNQ\",Z32=\"DNQ\",#REF!=\"FAIL\"),\"DNQ\",IF(OR(X32=\"Tier I\",Z32=\"Tier I\"),\"Tier I\",IF(OR(X32=\"Tier II\",Z32=\"Tier II\"),\"Tier II\",\"Tier III\")))","v":{"$error":"#REF!"}},{"$f":"References!$C$24","v":0},{"$f":"IF(#REF!=\"\",\"\",IF(AB32=\"DNQ\",\"DNQ\",INDEX(IF(AC32=\"Income Eligible \",References!$AO$3:$AO$36,References!$AN$3:$AN$36),MATCH(K32,References!$AI$3:$AI$36,0))*(#REF!/12000)))","v":{"$error":"#REF!"}},{"$f":"IF(#REF!=\"\",\"\",IF(AD32=\"DNQ\",0,INDEX(References!$AP$3:$AP$36,MATCH(Qualifying_Index!K32,References!$AI$3:$AI$36,0))))","v":{"$error":"#REF!"}},{"$error":"#REF!"},{"$f":"IF(COUNTIF(AF27:AF31,1),0,AE32)","v":{"$error":"#REF!"}},null,{"$f":"((#REF!*0.65))","v":{"$error":"#REF!"}},{"$f":"((#REF!*1.35))","v":{"$error":"#REF!"}},{"$f":"IF(AND(References!#REF!=TRUE,References!$H$4=FALSE),(#REF!*1),#REF!*0.65)","v":{"$error":"#REF!"}},{"$f":"IF(AND(References!#REF!=TRUE,References!$H$4=FALSE),(#REF!*1.3),#REF!*1.35)","v":{"$error":"#REF!"}},{"$f":"IF(AND(#REF!>=Qualifying_Index!AI32,#REF!<=Qualifying_Index!AJ32),\"PASS\",\"FAIL\")","v":{"$error":"#REF!"}},{"$f":"IF(OR(AK32=0,AL32=0),\"FAIL\",IF(AND(IF(AND(References!#REF!=TRUE,References!$H$4=FALSE),#REF!,#REF!)>=AK32,IF(References!#REF!=TRUE,#REF!,#REF!)<=AL32),\"PASS\",\"FAIL\"))","v":{"$error":"#REF!"}},{"$f":"IF(References!#REF!=TRUE,IF(AND(#REF!=\"\",#REF!=\"\"),\"Missing Info\",IF(AN32=\"PASS\",\"PASS\",\"FAIL\")),IF(AND(#REF!=\"\",#REF!=\"\",LEFT(#REF!,6)=\"Ducted\"),\"Missing Info\",IF(OR(AM32=\"PASS\",AN32=\"PASS\",LEFT(#REF!,6)<>\"Ducted\"),\"PASS\",\"FAIL\")))","v":{"$error":"#REF!"}},null,{"$f":"IF(OR(#REF!=\"\",#REF!=\"\",#REF!=\"\",#REF!=\"\",#REF!=\"\",#REF!=\"\",#REF!=\"\",#REF!=\"\",#REF!=\"\",#REF!=\"\"),\"Missing Info\",\"\")","v":{"$error":"#REF!"}},{"$f":"IF(AND(AZ32=1,#REF!=\"\"),\"Missing Info\",IF(AY32=\"PTHP\",AQ32,IF(OR(#REF!=\"\",#REF!=\"\",#REF!=\"\",#REF!=\"\",#REF!=\"\",#REF!=\"\",#REF!=\"\",#REF!=\"\",#REF!=\"\",AO32=\"Missing Info\"),\"Missing Info\",\"\")))","v":{"$error":"#REF!"}},{"$f":"IF(AND(AZ32=1,#REF!=\"\"),\"Missing Info\",IF(AY32=\"PTHP\",AQ32,IF(OR(#REF!=\"\",#REF!=\"\",#REF!=\"\",#REF!=\"\",#REF!=\"\",#REF!=\"\",#REF!=\"\",#REF!=\"\"),\"Missing Info\",\"\")))","v":{"$error":"#REF!"}},{"$f":"IF(OR(#REF!=\"\",#REF!=\"\"),\"\",IF(OR(#REF!=\"Ducted ASHP\",#REF!=\"Ducted ccASHP\"),#REF!/12000*(12/#REF!)*kW_CA,0))","v":{"$error":"#REF!"}},{"$f":"IF(#REF!=\"\",\"\",IF(OR(#REF!=\"\"),\"\",#REF!*(12/#REF!)*kW_RS))","v":{"$error":"#REF!"}},{"$f":"IF(OR(#REF!=\"\",#REF!=\"\",#REF!=\"\"),\"\",IF(OR(#REF!=\"Ducted ASHP\",#REF!=\"Ducted ccASHP\"),#REF!/12000*(12/#REF!*FLH_Cool)*QI_kWh,0))","v":{"$error":"#REF!"}},{"$f":"IF(OR(#REF!=\"\",#REF!=\"\",#REF!=\"\"),\"\",IF(OR(#REF!=\"Ducted ASHP\",#REF!=\"Ducted ccASHP\"),#REF!/12000*(12/#REF!*FLH_Heat)*QI_kWh,0))","v":{"$error":"#REF!"}},null,{"$f":"IF(#REF!=\"\",\"\",INDEX(References!$AF$7:$AF$23,MATCH(#REF!,Equipment_Type,0)))","v":{"$error":"#REF!"}},{"$f":"IF(#REF!=\"\",\"\",INDEX(References!$AE$7:$AE$23,MATCH(#REF!,Equipment_Type,0)))","v":{"$error":"#REF!"}},null,{"$f":"IF(WholeHouse_TF=FALSE,References!#REF!,IF(References!$H$14=\"New Construction\",FLH_Cool,IF(References!$H$14=\"\",0,References!#REF!)))","v":{"$error":"#REF!"}},{"$f":"IF(WholeHouse_TF=FALSE,References!#REF!,IF(References!$H$14=\"New Construction\",FLH_Heat,IF(References!$H$14=\"\",0,References!#REF!)))","v":{"$error":"#REF!"}},null,{"$f":"IF(OR($AO32=\"FAIL\",#REF!=\"\",AO32=\"Missing Info\",AB32=\"DNQ\"),0,((#REF!/12000)*((12/E32)-(12/O32)))+SUM(AT32:AU32))","v":{"$error":"#REF!"}},{"$f":"IF(OR($AO32=\"FAIL\",#REF!=\"\",AO32=\"Missing Info\",AB32=\"DNQ\"),0,IF(AY32=\"PTHP\",((#REF!/12000)*(12/E32-12/O32)*BB32),(((#REF!/12000)*((12/F32)-(12/N32))*BB32))+AV32))","v":{"$error":"#REF!"}},{"$f":"IF(OR($AO32=\"FAIL\",#REF!=\"\",AO32=\"Missing Info\",AB32=\"DNQ\"),0,BF32*References!$E$12/1000)","v":{"$error":"#REF!"}},{"$f":"BF32*References!$A$12","v":{"$error":"#REF!"}},{"$f":"IF(OR($AO32=\"FAIL\",#REF!=\"\",AO32=\"Missing Info\",AB32=\"DNQ\",References!#REF!=FALSE),0,((#REF!/12000)*((1/(G32/3.412))-(1/(P32/3.412))))+SUM(AT32:AU32))","v":{"$error":"#REF!"}},{"$f":"IF(OR($AO32=\"FAIL\",#REF!=\"\",AO32=\"Missing Info\",AB32=\"DNQ\"),0,IF(References!#REF!=FALSE,AW32,((#REF!/12000)*((12/G32)-(12/P32))*BC32*I32)+AW32))","v":{"$error":"#REF!"}},{"$f":"IF(OR($AO32=\"FAIL\",#REF!=\"\",AO32=\"Missing Info\",AB32=\"DNQ\",References!#REF!=FALSE),0,-((#REF!/12000)*(1/(P32/3.412))))","v":{"$error":"#REF!"}},{"$f":"IF(OR($AO32=\"FAIL\",#REF!=\"\",AO32=\"Missing Info\",AB32=\"DNQ\",References!#REF!=FALSE),0,((#REF!/12000)*(12/P32)*(BC32*I32))-(#REF!*BC32/1000000)*References!#REF!*I32)","v":{"$error":"#REF!"}},{"$f":"IF(OR($AO32=\"FAIL\",AO32=\"Missing Info\",#REF!=\"\"),0,IF(References!#REF!=TRUE,BJ32*References!$E$12/1000,((BJ32-BL32)*References!$E$12/1000)))","v":{"$error":"#REF!"}},{"$f":"IF(OR($AO32=\"FAIL\",AO32=\"Missing Info\",#REF!=\"\"),0,IF(References!#REF!=TRUE,((#REF!*BC32/References!$M$42)/1000000)*I32,0))","v":{"$error":"#REF!"}},{"$error":"#REF!"},{"$f":"(BJ32-BL32)*References!$A$12","v":{"$error":"#REF!"}},{"$f":"BN32*References!$N$42*References!$A$15","v":{"$error":"#REF!"}},{"$f":"IF(References!#REF!=TRUE,(BN32*References!$N$42*References!$A$15)-(BL32*References!$A$12),BJ32*References!$A$12)","v":{"$error":"#REF!"}}]
[7,null,{"$f":"IF(OR(#REF!=\"Ducted ccASHP\",#REF!=\"Ductless Mini Split - ccASHP\"),\"Cold Climate\",\"\")","v":{"$error":"#REF!"}},null,{"$f":"IF(OR(#REF!=\"\",#REF!=\"\",NOT(ISNUMBER(#REF!))),IF(Qualifying_Index!AY33=\"PTHP\",References!#REF!,IF(ISERROR(SEARCH(\"HP\",#REF!,1)),References!#REF!,References!#REF!)),#REF!)","v":{"$error":"#REF!"}},{"$f":"IF(OR(#REF!=\"\",#REF!=\"\",NOT(ISNUMBER(#REF!))),IF(Qualifying_Index!AY33=\"PTHP\",References!$M$12,IF(ISERROR(SEARCH(\"HP\",#REF!,1)),References!$M$10,References!$M$9)),#REF!)","v":{"$error":"#REF!"}},{"$f":"IF(AND(OR(References!$H$14=\"Electric\",References!$H$14=\"Air Source HP\",#REF!=\"Air Source HP\"),#REF!<>\"\"),IF(OR(#REF!=\"\",NOT(ISNUMBER(#REF!))),IF(Qualifying_Index!AY33=\"PTHP\",References!$M$40,References!$M$42),#REF!),0)","v":{"$error":"#REF!"}},null,{"$f":"IF(#REF!=\"\",\"\",IF(OR(WholeHouse_TF=FALSE,References!H10=TRUE),References!#REF!,1))","v":{"$error":"#REF!"}},null,{"$f":"IF(AND(References!$H$4=TRUE,OR(AY33<>\"PTHP\",AY33<>\"Ductless\",AY33<>\"CAC\")),#REF!&\" EH\"&\" \"&#REF!,L33&\" \"&#REF!&\" \"&#REF!&M33)","v":{"$error":"#REF!"}},{"$f":"IF(References!#REF!=TRUE,\"Whole House\",IF(RIGHT(References!#REF!,2)=\"HP\",\"Retrofit\",\"New\"))","v":{"$error":"#REF!"}},{"$f":"IF(References!#REF!<>TRUE,\"\",IF(References!#REF!=2,1,IF(AND(#REF!<>\"Central Air Conditioner\",#REF!<>\"Ducted Air Source HP\",References!$H$14=\"Oil\"),2,3)))","v":{"$error":"#REF!"}},{"$f":"IF(#REF!=\"\",\"\",#REF!)","v":{"$error":"#REF!"}},{"$f":"IF(#REF!=\"\",\"\",#REF!)","v":{"$error":"#REF!"}},{"$f":"IF(#REF!=\"\",\"\",#REF!)","v":{"$error":"#REF!"}},{"$f":"IF(#REF!=\"\",\"\",IF(References!$H$4=TRUE,INDEX(References!#REF!,MATCH(#REF!&\" EH\",References!$W$7:$W$15,0)),INDEX(References!#REF!,MATCH(#REF!,References!$W$7:$W$23,0))))","v":{"$error":"#REF!"}},{"$f":"IF(#REF!=\"\",\"\",IF(References!$H$4=TRUE,INDEX(References!#REF!,MATCH(#REF!&\" EH\",References!$W$7:$W$15,0)),INDEX(References!#REF!,MATCH(#REF!,References!$W$7:$W$23,0))))","v":{"$error":"#REF!"}},{"$f":"IF(#REF!=\"\",\"\",IF(References!$H$4=TRUE,INDEX(References!#REF!,MATCH(#REF!&\" EH\",References!$W$7:$W$15,0)),INDEX(References!#REF!,MATCH(#REF!,References!$W$7:$W$23,0))))","v":{"$error":"#REF!"}},{"$f":"IF(#REF!=\"\",\"\",INDEX(References!$AC$12:$AC$12,MATCH(#REF!,References!$W$7:$W$23,0)))","v":{"$error":"#REF!"}},{"$f":"IF(#REF!=\"\",\"\",INDEX(References!$AD$7:$AD$23,MATCH(#REF!,References!$W$7:$W$23,0)))","v":{"$error":"#REF!"}},{"$f":"IF(#REF!=\"\",\"\",IF(References!$H$4=TRUE,INDEX(References!$X$24:$X$24,MATCH(#REF!&\" EH\",References!$W$7:$W$15,0)),INDEX(References!$X$24:$X$24,MATCH(#REF!,References!$W$7:$W$23,0))))","v":{"$error":"#REF!"}},{"$f":"IF(#REF!=\"\",\"\",IF(References!$H$4=TRUE,INDEX(References!$AB$12:$AB$12,MATCH(#REF!&\" EH\",References!$W$7:$W$15,0)),INDEX(References!$AB$12:$AB$12,MATCH(#REF!,References!$W$7:$W$23,0))))","v":{"$error":"#REF!"}},{"$error":"#REF!"},{"$error":"#REF!"},{"$f":"IF(#REF!=\"\",\"\",IF(V33=0,\"\",IF(AND(P33<V33,P33<W33),\"DNQ\",IF(P33>=W33,\"Tier II\",\"Tier I\"))))","v":{"$error":"#REF!"}},null,{"$f":"IF(OR(X33=\"DNQ\",Y33=\"DNQ\",Z33=\"DNQ\",#REF!=\"FAIL\"),\"DNQ\",IF(OR(X33=\"Tier I\",Z33=\"Tier I\"),\"Tier I\",IF(OR(X33=\"Tier II\",Z33=\"Tier II\"),\"Tier II\",\"Tier III\")))","v":{"$error":"#REF!"}},{"$f":"References!$C$24","v":0},{"$f":"IF(#REF!=\"\",\"\",IF(AB33=\"DNQ\",\"DNQ\",INDEX(IF(AC33=\"Income Eligible \",References!$AO$3:$AO$36,References!$AN$3:$AN$36),MATCH(K33,References!$AI$3:$AI$36,0))*(#REF!/12000)))","v":{"$error":"#REF!"}},{"$f":"IF(#REF!=\"\",\"\",IF(AD33=\"DNQ\",0,INDEX(References!$AP$3:$AP$36,MATCH(Qualifying_Index!K33,References!$AI$3:$AI$36,0))))","v":{"$error":"#REF!"}},{"$error":"#REF!"},{"$f":"IF(COUNTIF(AF27:AF32,1),0,AE33)","v":{"$error":"#REF!"}},null,{"$f":"((#REF!*0.65))","v":{"$error":"#REF!"}},{"$f":"((#REF!*1.35))","v":{"$error":"#REF!"}},{"$f":"IF(AND(References!#REF!=TRUE,References!$H$4=FALSE),(#REF!*1),#REF!*0.65)","v":{"$error":"#REF!"}},{"$f":"IF(AND(References!#REF!=TRUE,References!$H$4=FALSE),(#REF!*1.3),#REF!*1.35)","v":{"$error":"#REF!"}},{"$f":"IF(AND(#REF!>=Qualifying_Index!AI33,#REF!<=Qualifying_Index!AJ33),\"PASS\",\"FAIL\")","v":{"$error":"#REF!"}},{"$f":"IF(OR(AK33=0,AL33=0),\"FAIL\",IF(AND(IF(AND(References!#REF!=TRUE,References!$H$4=FALSE),#REF!,#REF!)>=AK33,IF(References!#REF!=TRUE,#REF!,#REF!)<=AL33),\"PASS\",\"FAIL\"))","v":{"$error":"#REF!"}},{"$f":"IF(References!#REF!=TRUE,IF(AND(#REF!=\"\",#REF!=\"\"),\"Missing Info\",IF(AN33=\"PASS\",\"PASS\",\"FAIL\")),IF(AND(#REF!=\"\",#REF!=\"\",LEFT(#REF!,6)=\"Ducted\"),\"Missing Info\",IF(OR(AM33=\"PASS\",AN33=\"PASS\",LEFT(#REF!,6)<>\"Ducted\"),\"PASS\",\"FAIL\")))","v":{"$error":"#REF!"}},null,{"$f":"IF(OR(#REF!=\"\",#REF!=\"\",#REF!=\"\",#REF!=\"\",#REF!=\"\",#REF!=\"\",#REF!=\"\",#REF!=\"\",#REF!=\"\",#REF!=\"\"),\"Missing Info\",\"\")","v":{"$error":"#REF!"}},{"$f":"IF(AND(AZ33=1,#REF!=\"\"),\"Missing Info\",IF(AY33=\"PTHP\",AQ33,IF(OR(#REF!=\"\",#REF!=\"\",#REF!=\"\",#REF!=\"\",#REF!=\"\",#REF!=\"\",#REF!=\"\",#REF!=\"\",#REF!=\"\",AO33=\"Missing Info\"),\"Missing Info\",\"\")))","v":{"$error":"#REF!"}},{"$f":"IF(AND(AZ33=1,#REF!=\"\"),\"Missing Info\",IF(AY33=\"PTHP\",AQ33,IF(OR(#REF!=\"\",#REF!=\"\",#REF!=\"\",#REF!=\"\",#REF!=\"\",#REF!=\"\",#REF!=\"\",#REF!=\"\"),\"Missing Info\",\"\")))","v":{"$error":"#REF!"}},{"$f":"IF(OR(#REF!=\"\",#REF!=\"\"),\"\",IF(OR(#REF!=\"Ducted ASHP\",#REF!=\"Ducted ccASHP\"),#REF!/12000*(12/#REF!)*kW_CA,0))","v":{"$error":"#REF!"}},{"$f":"IF(#REF!=\"\",\"\",IF(OR(#REF!=\"\"),\"\",#REF!*(12/#REF!)*kW_RS))","v":{"$error":"#REF!"}},{"$f":"IF(OR(#REF!=\"\",#REF!=\"\",#REF!=\"\"),\"\",IF(OR(#REF!=\"Ducted ASHP\",#REF!=\"Ducted ccASHP\"),#REF!/12000*(12/#REF!*FLH_Cool)*QI_kWh,0))","v":{"$error":"#REF!"}},{"$f":"IF(OR(#REF!=\"\",#REF!=\"\",#REF!=\"\"),\"\",IF(OR(#REF!=\"Ducted ASHP\",#REF!=\"Ducted ccASHP\"),#REF!/12000*(12/#REF!*FLH_Heat)*QI_kWh,0))","v":{"$error":"#REF!"}},null,{"$f":"IF(#REF!=\"\",\"\",INDEX(References!$AF$7:$AF$23,MATCH(#REF!,Equipment_Type,0)))","v":{"$error":"#REF!"}},{"$f":"IF(#REF!=\"\",\"\",INDEX(References!$AE$7:$AE$23,MATCH(#REF!,Equipment_Type,0)))","v":{"$error":"#REF!"}},null,{"$f":"IF(WholeHouse_TF=FALSE,References!#REF!,IF(References!$H$14=\"New Construction\",FLH_Cool,IF(References!$H$14=\"\",0,References!#REF!)))","v":{"$error":"#REF!"}},{"$f":"IF(WholeHouse_TF=FALSE,References!#REF!,IF(References!$H$14=\"New Construction\",FLH_Heat,IF(References!$H$14=\"\",0,References!#REF!)))","v":{"$error":"#REF!"}},null,{"$f":"IF(OR($AO33=\"FAIL\",#REF!=\"\",AO33=\"Missing Info\",AB33=\"DNQ\"),0,((#REF!/12000)*((12/E33)-(12/O33)))+SUM(AT33:AU33))","v":{"$error":"#REF!"}},{"$f":"IF(OR($AO33=\"FAIL\",#REF!=\"\",AO33=\"Missing Info\",AB33=\"DNQ\"),0,IF(AY33=\"PTHP\",((#REF!/12000)*(12/E33-12/O33)*BB33),(((#REF!/12000)*((12/F33)-(12/N33))*BB33))+AV33))","v":{"$error":"#REF!"}},{"$f":"IF(OR($AO33=\"FAIL\",#REF!=\"\",AO33=\"Missing Info\",AB33=\"DNQ\"),0,BF33*References!$E$12/1000)","v":{"$error":"#REF!"}},{"$f":"BF33*References!$A$12","v":{"$error":"#REF!"}},{"$f":"IF(OR($AO33=\"FAIL\",#REF!=\"\",AO33=\"Missing Info\",AB33=\"DNQ\",References!#REF!=FALSE),0,((#REF!/12000)*((1/(G33/3.412))-(1/(P33/3.412))))+SUM(AT33:AU33))","v":{"$error":"#REF!"}},{"$f":"IF(OR($AO33=\"FAIL\",#REF!=\"\",AO33=\"Missing Info\",AB33=\"DNQ\"),0,IF(References!#REF!=FALSE,AW33,((#REF!/12000)*((12/G33)-(12/P33))*BC33*I33)+AW33))","v":{"$error":"#REF!"}},{"$f":"IF(OR($AO33=\"FAIL\",#REF!=\"\",AO33=\"Missing Info\",AB33=\"DNQ\",References!#REF!=FALSE),0,-((#REF!/12000)*(1/(P33/3.412))))","v":{"$error":"#REF!"}},{"$f":"IF(OR($AO33=\"FAIL\",#REF!=\"\",AO33=\"Missing Info\",AB33=\"DNQ\",References!#REF!=FALSE),0,((#REF!/12000)*(12/P33)*(BC33*I33))-(#REF!*BC33/1000000)*References!#REF!*I33)","v":{"$error":"#REF!"}},{"$f":"IF(OR($AO33=\"FAIL\",AO33=\"Missing Info\",#REF!=\"\"),0,IF(References!#REF!=TRUE,BJ33*References!$E$12/1000,((BJ33-BL33)*References!$E$12/1000)))","v":{"$error":"#REF!"}},{"$f":"IF(OR($AO33=\"FAIL\",AO33=\"Missing Info\",#REF!=\"\"),0,IF(References!#REF!=TRUE,((#REF!*BC33/References!$M$42)/1000000)*I33,0))","v":{"$error":"#REF!"}},{"$error":"#REF!"},{"$f":"(BJ33-BL33)*References!$A$12","v":{"$error":"#REF!"}},{"$f":"BN33*References!$N$42*References!$A$15","v":{"$error":"#REF!"}},{"$f":"IF(References!#REF!=TRUE,(BN33*References!$N$42*References!$A$15)-(BL33*References!$A$12),BJ33*References!$A$12)","v":{"$error":"#REF!"}}]
[8,null,{"$f":"IF(OR(#REF!=\"Ducted ccASHP\",#REF!=\"Ductless Mini Split - ccASHP\"),\"Cold Climate\",\"\")","v":{"$error":"#REF!"}},null,{"$f":"IF(OR(#REF!=\"\",#REF!=\"\",NOT(ISNUMBER(#REF!))),IF(Qualifying_Index!AY34=\"PTHP\",References!#REF!,IF(ISERROR(SEARCH(\"HP\",#REF!,1)),References!#REF!,References!#REF!)),#REF!)","v":{"$error":"#REF!"}},{"$f":"IF(OR(#REF!=\"\",#REF!=\"\",NOT(ISNUMBER(#REF!))),IF(Qualifying_Index!AY34=\"PTHP\",References!$M$12,IF(ISERROR(SEARCH(\"HP\",#REF!,1)),References!$M$10,References!$M$9)),#REF!)","v":{"$error":"#REF!"}},{"$f":"IF(AND(OR(References!$H$14=\"Electric\",References!$H$14=\"Air Source HP\",#REF!=\"Air Source HP\"),#REF!<>\"\"),IF(OR(#REF!=\"\",NOT(ISNUMBER(#REF!))),IF(Qualifying_Index!AY34=\"PTHP\",References!$M$40,References!$M$42),#REF!),0)","v":{"$error":"#REF!"}},null,{"$f":"IF(#REF!=\"\",\"\",IF(OR(WholeHouse_TF=FALSE,References!H11=TRUE),References!#REF!,1))","v":{"$error":"#REF!"}},null,{"$f":"IF(AND(References!$H$4=TRUE,OR(AY34<>\"PTHP\",AY34<>\"Ductless\",AY34<>\"CAC\")),#REF!&\" EH\"&\" \"&#REF!,L34&\" \"&#REF!&\" \"&#REF!&M34)","v":{"$error":"#REF!"}},{"$f":"IF(References!#REF!=TRUE,\"Whole House\",IF(RIGHT(References!#REF!,2)=\"HP\",\"Retrofit\",\"New\"))","v":{"$error":"#REF!"}},{"$f":"IF(References!#REF!<>TRUE,\"\",IF(References!#REF!=2,1,IF(AND(#REF!<>\"Central Air Conditioner\",#REF!<>\"Ducted Air Source HP\",References!$H$14=\"Oil\"),2,3)))","v":{"$error":"#REF!"}},{"$f":"IF(#REF!=\"\",\"\",#REF!)","v":{"$error":"#REF!"}},{"$f":"IF(#REF!=\"\",\"\",#REF!)","v":{"$error":"#REF!"}},{"$f":"IF(#REF!=\"\",\"\",#REF!)","v":{"$error":"#REF!"}},{"$f":"IF(#REF!=\"\",\"\",IF(References!$H$4=TRUE,INDEX(References!#REF!,MATCH(#REF!&\" EH\",References!$W$7:$W$15,0)),INDEX(References!#REF!,MATCH(#REF!,References!$W$7:$W$23,0))))","v":{"$error":"#REF!"}},{"$f":"IF(#REF!=\"\",\"\",IF(References!$H$4=TRUE,INDEX(References!#REF!,MATCH(#REF!&\" EH\",References!$W$7:$W$15,0)),INDEX(References!#REF!,MATCH(#REF!,References!$W$7:$W$23,0))))","v":{"$error":"#REF!"}},{"$f":"IF(#REF!=\"\",\"\",IF(References!$H$4=TRUE,INDEX(References!#REF!,MATCH(#REF!&\" EH\",References!$W$7:$W$15,0)),INDEX(References!#REF!,MATCH(#REF!,References!$W$7:$W$23,0))))","v":{"$error":"#REF!"}},{"$f":"IF(#REF!=\"\",\"\",INDEX(References!$AC$12:$AC$12,MATCH(#REF!,References!$W$7:$W$23,0)))","v":{"$error":"#REF!"}},{"$f":"IF(#REF!=\"\",\"\",INDEX(References!$AD$7:$AD$23,MATCH(#REF!,References!$W$7:$W$23,0)))","v":{"$error":"#REF!"}},{"$f":"IF(#REF!=\"\",\"\",IF(References!$H$4=TRUE,INDEX(References!$X$24:$X$24,MATCH(#REF!&\" EH\",References!$W$7:$W$15,0)),INDEX(References!$X$24:$X$24,MATCH(#REF!,References!$W$7:$W$23,0))))","v":{"$error":"#REF!"}},{"$f":"IF(#REF!=\"\",\"\",IF(References!$H$4=TRUE,INDEX(References!$AB$12:$AB$12,MATCH(#REF!&\" EH\",References!$W$7:$W$15,0)),INDEX(References!$AB$12:$AB$12,MATCH(#REF!,References!$W$7:$W$23,0))))","v":{"$error":"#REF!"}},{"$error":"#REF!"},{"$error":"#REF!"},{"$f":"IF(#REF!=\"\",\"\",IF(V34=0,\"\",IF(AND(P34<V34,P34<W34),\"DNQ\",IF(P34>=W34,\"Tier II\",\"Tier I\"))))","v":{"$error":"#REF!"}},null,{"$f":"IF(OR(X34=\"DNQ\",Y34=\"DNQ\",Z34=\"DNQ\",#REF!=\"FAIL\"),\"DNQ\",IF(OR(X34=\"Tier I\",Z34=\"Tier I\"),\"Tier I\",IF(OR(X34=\"Tier II\",Z34=\"Tier II\"),\"Tier II\",\"Tier III\")))","v":{"$error":"#REF!"}},{"$f":"References!$C$24","v":0},{"$f":"IF(#REF!=\"\",\"\",IF(AB34=\"DNQ\",\"DNQ\",INDEX(IF(AC34=\"Income Eligible \",References!$AO$3:$AO$36,References!$AN$3:$AN$36),MATCH(K34,References!$AI$3:$AI$36,0))*(#REF!/12000)))","v":{"$error":"#REF!"}},{"$f":"IF(#REF!=\"\",\"\",IF(AD34=\"DNQ\",0,INDEX(References!$AP$3:$AP$36,MATCH(Qualifying_Index!K34,References!$AI$3:$AI$36,0))))","v":{"$error":"#REF!"}},{"$error":"#REF!"},{"$f":"IF(COUNTIF(AF27:AF33,1),0,AE34)","v":{"$error":"#REF!"}},null,{"$f":"((#REF!*0.65))","v":{"$error":"#REF!"}},{"$f":"((#REF!*1.35))","v":{"$error":"#REF!"}},{"$f":"IF(AND(References!#REF!=TRUE,References!$H$4=FALSE),(#REF!*1),#REF!*0.65)","v":{"$error":"#REF!"}},{"$f":"IF(AND(References!#REF!=TRUE,References!$H$4=FALSE),(#REF!*1.3),#REF!*1.35)","v":{"$error":"#REF!"}},{"$f":"IF(AND(#REF!>=Qualifying_Index!AI34,#REF!<=Qualifying_Index!AJ34),\"PASS\",\"FAIL\")","v":{"$error":"#REF!"}},{"$f":"IF(OR(AK34=0,AL34=0),\"FAIL\",IF(AND(IF(AND(References!#REF!=TRUE,References!$H$4=FALSE),#REF!,#REF!)>=AK34,IF(References!#REF!=TRUE,#REF!,#REF!)<=AL34),\"PASS\",\"FAIL\"))","v":{"$error":"#REF!"}},{"$f":"IF(References!#REF!=TRUE,IF(AND(#REF!=\"\",#REF!=\"\"),\"Missing Info\",IF(AN34=\"PASS\",\"PASS\",\"FAIL\")),IF(AND(#REF!=\"\",#REF!=\"\",LEFT(#REF!,6)=\"Ducted\"),\"Missing Info\",IF(OR(AM34=\"PASS\",AN34=\"PASS\",LEFT(#REF!,6)<>\"Ducted\"),\"PASS\",\"FAIL\")))","v":{"$error":"#REF!"}},null,{"$f":"IF(OR(#REF!=\"\",#REF!=\"\",#REF!=\"\",#REF!=\"\",#REF!=\"\",#REF!=\"\",#REF!=\"\",#REF!=\"\",#REF!=\"\",#REF!=\"\"),\"Missing Info\",\"\")","v":{"$error":"#REF!"}},{"$f":"IF(AND(AZ34=1,#REF!=\"\"),\"Missing Info\",IF(AY34=\"PTHP\",AQ34,IF(OR(#REF!=\"\",#REF!=\"\",#REF!=\"\",#REF!=\"\",#REF!=\"\",#REF!=\"\",#REF!=\"\",#REF!=\"\",#REF!=\"\",AO34=\"Missing Info\"),\"Missing Info\",\"\")))","v":{"$error":"#REF!"}},{"$f":"IF(AND(AZ34=1,#REF!=\"\"),\"Missing Info\",IF(AY34=\"PTHP\",AQ34,IF(OR(#REF!=\"\",#REF!=\"\",#REF!=\"\",#REF!=\"\",#REF!=\"\",#REF!=\"\",#REF!=\"\",#REF!=\"\"),\"Missing Info\",\"\")))","v":{"$error":"#REF!"}},{"$f":"IF(OR(#REF!=\"\",#REF!=\"\"),\"\",IF(OR(#REF!=\"Ducted ASHP\",#REF!=\"Ducted ccASHP\"),#REF!/12000*(12/#REF!)*kW_CA,0))","v":{"$error":"#REF!"}},{"$f":"IF(#REF!=\"\",\"\",IF(OR(#REF!=\"\"),\"\",#REF!*(12/#REF!)*kW_RS))","v":{"$error":"#REF!"}},{"$f":"IF(OR(#REF!=\"\",#REF!=\"\",#REF!=\"\"),\"\",IF(OR(#REF!=\"Ducted ASHP\",#REF!=\"Ducted ccASHP\"),#REF!/12000*(12/#REF!*FLH_Cool)*QI_kWh,0))","v":{"$error":"#REF!"}},{"$f":"IF(OR(#REF!=\"\",#REF!=\"\",#REF!=\"\"),\"\",IF(OR(#REF!=\"Ducted ASHP\",#REF!=\"Ducted ccASHP\"),#REF!/12000*(12/#REF!*FLH_Heat)*QI_kWh,0))","v":{"$error":"#REF!"}},null,{"$f":"IF(#REF!=\"\",\"\",INDEX(References!$AF$7:$AF$23,MATCH(#REF!,Equipment_Type,0)))","v":{"$error":"#REF!"}},{"$f":"IF(#REF!=\"\",\"\",INDEX(References!$AE$7:$AE$23,MATCH(#REF!,Equipment_Type,0)))","v":{"$error":"#REF!"}},null,{"$f":"IF(WholeHouse_TF=FALSE,References!#REF!,IF(References!$H$14=\"New Construction\",FLH_Cool,IF(References!$H$14=\"\",0,References!#REF!)))","v":{"$error":"#REF!"}},{"$f":"IF(WholeHouse_TF=FALSE,References!#REF!,IF(References!$H$14=\"New Construction\",FLH_Heat,IF(References!$H$14=\"\",0,References!#REF!)))","v":{"$error":"#REF!"}},null,{"$f":"IF(OR($AO34=\"FAIL\",#REF!=\"\",AO34=\"Missing Info\",AB34=\"DNQ\"),0,((#REF!/12000)*((12/E34)-(12/O34)))+SUM(AT34:AU34))","v":{"$error":"#REF!"}},{"$f":"IF(OR($AO34=\"FAIL\",#REF!=\"\",AO34=\"Missing Info\",AB34=\"DNQ\"),0,IF(AY34=\"PTHP\",((#REF!/12000)*(12/E34-12/O34)*BB34),(((#REF!/12000)*((12/F34)-(12/N34))*BB34))+AV34))","v":{"$error":"#REF!"}},{"$f":"IF(OR($AO34=\"FAIL\",#REF!=\"\",AO34=\"Missing Info\",AB34=\"DNQ\"),0,BF34*References!$E$12/1000)","v":{"$error":"#REF!"}},{"$f":"BF34*References!$A$12","v":{"$error":"#REF!"}},{"$f":"IF(OR($AO34=\"FAIL\",#REF!=\"\",AO34=\"Missing Info\",AB34=\"DNQ\",References!#REF!=FALSE),0,((#REF!/12000)*((1/(G34/3.412))-(1/(P34/3.412))))+SUM(AT34:AU34))","v":{"$error":"#REF!"}},{"$f":"IF(OR($AO34=\"FAIL\",#REF!=\"\",AO34=\"Missing Info\",AB34=\"DNQ\"),0,IF(References!#REF!=FALSE,AW34,((#REF!/12000)*((12/G34)-(12/P34))*BC34*I34)+AW34))","v":{"$error":"#REF!"}},{"$f":"IF(OR($AO34=\"FAIL\",#REF!=\"\",AO34=\"Missing Info\",AB34=\"DNQ\",References!#REF!=FALSE),0,-((#REF!/12000)*(1/(P34/3.412))))","v":{"$error":"#REF!"}},{"$f":"IF(OR($AO34=\"FAIL\",#REF!=\"\",AO34=\"Missing Info\",AB34=\"DNQ\",References!#REF!=FALSE),0,((#REF!/12000)*(12/P34)*(BC34*I34))-(#REF!*BC34/1000000)*References!#REF!*I34)","v":{"$error":"#REF!"}},{"$f":"IF(OR($AO34=\"FAIL\",AO34=\"Missing Info\",#REF!=\"\"),0,IF(References!#REF!=TRUE,BJ34*References!$E$12/1000,((BJ34-BL34)*References!$E$12/1000)))","v":{"$error":"#REF!"}},{"$f":"IF(OR($AO34=\"FAIL\",AO34=\"Missing Info\",#REF!=\"\"),0,IF(References!#REF!=TRUE,((#REF!*BC34/References!$M$42)/1000000)*I34,0))","v":{"$error":"#REF!"}},{"$error":"#REF!"},{"$f":"(BJ34-BL34)*References!$A$12","v":{"$error":"#REF!"}},{"$f":"BN34*References!$N$42*References!$A$15","v":{"$error":"#REF!"}},{"$f":"IF(References!#REF!=TRUE,(BN34*References!$N$42*References!$A$15)-(BL34*References!$A$12),BJ34*References!$A$12)","v":{"$error":"#REF!"}}]
[9,null,{"$f":"IF(OR(#REF!=\"Ducted ccASHP\",#REF!=\"Ductless Mini Split - ccASHP\"),\"Cold Climate\",\"\")","v":{"$error":"#REF!"}},null,{"$f":"IF(OR(#REF!=\"\",#REF!=\"\",NOT(ISNUMBER(#REF!))),IF(Qualifying_Index!AY35=\"PTHP\",References!#REF!,IF(ISERROR(SEARCH(\"HP\",#REF!,1)),References!#REF!,References!#REF!)),#REF!)","v":{"$error":"#REF!"}},{"$f":"IF(OR(#REF!=\"\",#REF!=\"\",NOT(ISNUMBER(#REF!))),IF(Qualifying_Index!AY35=\"PTHP\",References!$M$12,IF(ISERROR(SEARCH(\"HP\",#REF!,1)),References!$M$10,References!$M$9)),#REF!)","v":{"$error":"#REF!"}},{"$f":"IF(AND(OR(References!$H$14=\"Electric\",References!$H$14=\"Air Source HP\",#REF!=\"Air Source HP\"),#REF!<>\"\"),IF(OR(#REF!=\"\",NOT(ISNUMBER(#REF!))),IF(Qualifying_Index!AY35=\"PTHP\",References!$M$40,References!$M$42),#REF!),0)","v":{"$error":"#REF!"}},null,{"$f":"IF(#REF!=\"\",\"\",IF(OR(WholeHouse_TF=FALSE,References!H12=TRUE),References!#REF!,1))","v":{"$error":"#REF!"}},null,{"$f":"IF(AND(References!$H$4=TRUE,OR(AY35<>\"PTHP\",AY35<>\"Ductless\",AY35<>\"CAC\")),#REF!&\" EH\"&\" \"&#REF!,L35&\" \"&#REF!&\" \"&#REF!&M35)","v":{"$error":"#REF!"}},{"$f":"IF(References!#REF!=TRUE,\"Whole House\",IF(RIGHT(References!#REF!,2)=\"HP\",\"Retrofit\",\"New\"))","v":{"$error":"#REF!"}},{"$f":"IF(References!#REF!<>TRUE,\"\",IF(References!#REF!=2,1,IF(AND(#REF!<>\"Central Air Conditioner\",#REF!<>\"Ducted Air Source HP\",References!$H$14=\"Oil\"),2,3)))","v":{"$error":"#REF!"}},{"$f":"IF(#REF!=\"\",\"\",#REF!)","v":{"$error":"#REF!"}},{"$f":"IF(#REF!=\"\",\"\",#REF!)","v":{"$error":"#REF!"}},{"$f":"IF(#REF!=\"\",\"\",#REF!)","v":{"$error":"#REF!"}},{"$f":"IF(#REF!=\"\",\"\",IF(References!$H$4=TRUE,INDEX(References!#REF!,MATCH(#REF!&\" EH\",References!$W$7:$W$15,0)),INDEX(References!#REF!,MATCH(#REF!,References!$W$7:$W$23,0))))","v":{"$error":"#REF!"}},{"$f":"IF(#REF!=\"\",\"\",IF(References!$H$4=TRUE,INDEX(References!#REF!,MATCH(#REF!&\" EH\",References!$W$7:$W$15,0)),INDEX(References!#REF!,MATCH(#REF!,References!$W$7:$W$23,0))))","v":{"$error":"#REF!"}},{"$f":"IF(#REF!=\"\",\"\",IF(References!$H$4=TRUE,INDEX(References!#REF!,MATCH(#REF!&\" EH\",References!$W$7:$W$15,0)),INDEX(References!#REF!,MATCH(#REF!,References!$W$7:$W$23,0))))","v":{"$error":"#REF!"}},{"$f":"IF(#REF!=\"\",\"\",INDEX(References!$AC$12:$AC$12,MATCH(#REF!,References!$W$7:$W$23,0)))","v":{"$error":"#REF!"}},{"$f":"IF(#REF!=\"\",\"\",INDEX(References!$AD$7:$AD$23,MATCH(#REF!,References!$W$7:$W$23,0)))","v":{"$error":"#REF!"}},{"$f":"IF(#REF!=\"\",\"\",IF(References!$H$4=TRUE,INDEX(References!$X$24:$X$24,MATCH(#REF!&\" EH\",References!$W$7:$W$15,0)),INDEX(References!$X$24:$X$24,MATCH(#REF!,References!$W$7:$W$23,0))))","v":{"$error":"#REF!"}},{"$f":"IF(#REF!=\"\",\"\",IF(References!$H$4=TRUE,INDEX(References!$AB$12:$AB$12,MATCH(#REF!&\" EH\",References!$W$7:$W$15,0)),INDEX(References!$AB$12:$AB$12,MATCH(#REF!,References!$W$7:$W$23,0))))","v":{"$error":"#REF!"}},{"$error":"#REF!"},{"$error":"#REF!"},{"$f":"IF(#REF!=\"\",\"\",IF(V35=0,\"\",IF(AND(P35<V35,P35<W35),\"DNQ\",IF(P35>=W35,\"Tier II\",\"Tier I\"))))","v":{"$error":"#REF!"}},null,{"$f":"IF(OR(X35=\"DNQ\",Y35=\"DNQ\",Z35=\"DNQ\",#REF!=\"FAIL\"),\"DNQ\",IF(OR(X35=\"Tier I\",Z35=\"Tier I\"),\"Tier I\",IF(OR(X35=\"Tier II\",Z35=\"Tier II\"),\"Tier II\",\"Tier III\")))","v":{"$error":"#REF!"}},{"$f":"References!$C$24","v":0},{"$f":"IF(#REF!=\"\",\"\",IF(AB35=\"DNQ\",\"DNQ\",INDEX(IF(AC35=\"Income Eligible \",References!$AO$3:$AO$36,References!$AN$3:$AN$36),MATCH(K35,References!$AI$3:$AI$36,0))*(#REF!/12000)))","v":{"$error":"#REF!"}},{"$f":"IF(#REF!=\"\",\"\",IF(AD35=\"DNQ\",0,INDEX(References!$AP$3:$AP$36,MATCH(Qualifying_Index!K35,References!$AI$3:$AI$36,0))))","v":{"$error":"#REF!"}},{"$error":"#REF!"},{"$f":"IF(COUNTIF(AF27:AF34,1),0,AE35)","v":{"$error":"#REF!"}},null,{"$f":"((#REF!*0.65))","v":{"$error":"#REF!"}},{"$f":"((#REF!*1.35))","v":{"$error":"#REF!"}},{"$f":"IF(AND(References!#REF!=TRUE,References!$H$4=FALSE),(#REF!*1),#REF!*0.65)","v":{"$error":"#REF!"}},{"$f":"IF(AND(References!#REF!=TRUE,References!$H$4=FALSE),(#REF!*1.3),#REF!*1.35)","v":{"$error":"#REF!"}},{"$f":"IF(AND(#REF!>=Qualifying_Index!AI35,#REF!<=Qualifying_Index!AJ35),\"PASS\",\"FAIL\")","v":{"$error":"#REF!"}},{"$f":"IF(OR(AK35=0,AL35=0),\"FAIL\",IF(AND(IF(AND(References!#REF!=TRUE,References!$H$4=FALSE),#REF!,#REF!)>=AK35,IF(References!#REF!=TRUE,#REF!,#REF!)<=AL35),\"PASS\",\"FAIL\"))","v":{"$error":"#REF!"}},{"$f":"IF(References!#REF!=TRUE,IF(AND(#REF!=\"\",#REF!=\"\"),\"Missing Info\",IF(AN35=\"PASS\",\"PASS\",\"FAIL\")),IF(AND(#REF!=\"\",#REF!=\"\",LEFT(#REF!,6)=\"Ducted\"),\"Missing Info\",IF(OR(AM35=\"PASS\",AN35=\"PASS\",LEFT(#REF!,6)<>\"Ducted\"),\"PASS\",\"FAIL\")))","v":{"$error":"#REF!"}},null,{"$f":"IF(OR(#REF!=\"\",#REF!=\"\",#REF!=\"\",#REF!=\"\",#REF!=\"\",#REF!=\"\",#REF!=\"\",#REF!=\"\",#REF!=\"\",#REF!=\"\"),\"Missing Info\",\"\")","v":{"$error":"#REF!"}},{"$f":"IF(AND(AZ35=1,#REF!=\"\"),\"Missing Info\",IF(AY35=\"PTHP\",AQ35,IF(OR(#REF!=\"\",#REF!=\"\",#REF!=\"\",#REF!=\"\",#REF!=\"\",#REF!=\"\",#REF!=\"\",#REF!=\"\",#REF!=\"\",AO35=\"Missing Info\"),\"Missing Info\",\"\")))","v":{"$error":"#REF!"}},{"$f":"IF(AND(AZ35=1,#REF!=\"\"),\"Missing Info\",IF(AY35=\"PTHP\",AQ35,IF(OR(#REF!=\"\",#REF!=\"\",#REF!=\"\",#REF!=\"\",#REF!=\"\",#REF!=\"\",#REF!=\"\",#REF!=\"\"),\"Missing Info\",\"\")))","v":{"$error":"#REF!"}},{"$f":"IF(OR(#REF!=\"\",#REF!=\"\"),\"\",IF(OR(#REF!=\"Ducted ASHP\",#REF!=\"Ducted ccASHP\"),#REF!/12000*(12/#REF!)*kW_CA,0))","v":{"$error":"#REF!"}},{"$f":"IF(#REF!=\"\",\"\",IF(OR(#REF!=\"\"),\"\",#REF!*(12/#REF!)*kW_RS))","v":{"$error":"#REF!"}},{"$f":"IF(OR(#REF!=\"\",#REF!=\"\",#REF!=\"\"),\"\",IF(OR(#REF!=\"Ducted ASHP\",#REF!=\"Ducted ccASHP\"),#REF!/12000*(12/#REF!*FLH_Cool)*QI_kWh,0))","v":{"$error":"#REF!"}},{"$f":"IF(OR(#REF!=\"\",#REF!=\"\",#REF!=\"\"),\"\",IF(OR(#REF!=\"Ducted ASHP\",#REF!=\"Ducted ccASHP\"),#REF!/12000*(12/#REF!*FLH_Heat)*QI_kWh,0))","v":{"$error":"#REF!"}},null,{"$f":"IF(#REF!=\"\",\"\",INDEX(References!$AF$7:$AF$23,MATCH(#REF!,Equipment_Type,0)))","v":{"$error":"#REF!"}},{"$f":"IF(#REF!=\"\",\"\",INDEX(References!$AE$7:$AE$23,MATCH(#REF!,Equipment_Type,0)))","v":{"$error":"#REF!"}},null,{"$f":"IF(WholeHouse_TF=FALSE,References!#REF!,IF(References!$H$14=\"New Construction\",FLH_Cool,IF(References!$H$14=\"\",0,References!#REF!)))","v":{"$error":"#REF!"}},{"$f":"IF(WholeHouse_TF=FALSE,References!#REF!,IF(References!$H$14=\"New Construction\",FLH_Heat,IF(References!$H$14=\"\",0,References!#REF!)))","v":{"$error":"#REF!"}},null,{"$f":"IF(OR($AO35=\"FAIL\",#REF!=\"\",AO35=\"Missing Info\",AB35=\"DNQ\"),0,((#REF!/12000)*((12/E35)-(12/O35)))+SUM(AT35:AU35))","v":{"$error":"#REF!"}},{"$f":"IF(OR($AO35=\"FAIL\",#REF!=\"\",AO35=\"Missing Info\",AB35=\"DNQ\"),0,IF(AY35=\"PTHP\",((#REF!/12000)*(12/E35-12/O35)*BB35),(((#REF!/12000)*((12/F35)-(12/N35))*BB35))+AV35))","v":{"$error":"#REF!"}},{"$f":"IF(OR($AO35=\"FAIL\",#REF!=\"\",AO35=\"Missing Info\",AB35=\"DNQ\"),0,BF35*References!$E$12/1000)","v":{"$error":"#REF!"}},{"$f":"BF35*References!$A$12","v":{"$error":"#REF!"}},{"$f":"IF(OR($AO35=\"FAIL\",#REF!=\"\",AO35=\"Missing Info\",AB35=\"DNQ\",References!#REF!=FALSE),0,((#REF!/12000)*((1/(G35/3.412))-(1/(P35/3.412))))+SUM(AT35:AU35))","v":{"$error":"#REF!"}},{"$f":"IF(OR($AO35=\"FAIL\",#REF!=\"\",AO35=\"Missing Info\",AB35=\"DNQ\"),0,IF(References!#REF!=FALSE,AW35,((#REF!/12000)*((12/G35)-(12/P35))*BC35*I35)+AW35))","v":{"$error":"#REF!"}},{"$f":"IF(OR($AO35=\"FAIL\",#REF!=\"\",AO35=\"Missing Info\",AB35=\"DNQ\",References!#REF!=FALSE),0,-((#REF!/12000)*(1/(P35/3.412))))","v":{"$error":"#REF!"}},{"$f":"IF(OR($AO35=\"FAIL\",#REF!=\"\",AO35=\"Missing Info\",AB35=\"DNQ\",References!#REF!=FALSE),0,((#REF!/12000)*(12/P35)*(BC35*I35))-(#REF!*BC35/1000000)*References!#REF!*I35)","v":{"$error":"#REF!"}},{"$f":"IF(OR($AO35=\"FAIL\",AO35=\"Missing Info\",#REF!=\"\"),0,IF(References!#REF!=TRUE,BJ35*References!$E$12/1000,((BJ35-BL35)*References!$E$12/1000)))","v":{"$error":"#REF!"}},{"$f":"IF(OR($AO35=\"FAIL\",AO35=\"Missing Info\",#REF!=\"\"),0,IF(References!#REF!=TRUE,((#REF!*BC35/References!$M$42)/1000000)*I35,0))","v":{"$error":"#REF!"}},{"$error":"#REF!"},{"$f":"(BJ35-BL35)*References!$A$12","v":{"$error":"#REF!"}},{"$f":"BN35*References!$N$42*References!$A$15","v":{"$error":"#REF!"}},{"$f":"IF(References!#REF!=TRUE,(BN35*References!$N$42*References!$A$15)-(BL35*References!$A$12),BJ35*References!$A$12)","v":{"$error":"#REF!"}}]
[10,null,{"$f":"IF(OR(#REF!=\"Ducted ccASHP\",#REF!=\"Ductless Mini Split - ccASHP\"),\"Cold Climate\",\"\")","v":{"$error":"#REF!"}},null,{"$f":"IF(OR(#REF!=\"\",#REF!=\"\",NOT(ISNUMBER(#REF!))),IF(Qualifying_Index!AY36=\"PTHP\",References!#REF!,IF(ISERROR(SEARCH(\"HP\",#REF!,1)),References!#REF!,References!#REF!)),#REF!)","v":{"$error":"#REF!"}},{"$f":"IF(OR(#REF!=\"\",#REF!=\"\",NOT(ISNUMBER(#REF!))),IF(Qualifying_Index!AY36=\"PTHP\",References!$M$12,IF(ISERROR(SEARCH(\"HP\",#REF!,1)),References!$M$10,References!$M$9)),#REF!)","v":{"$error":"#REF!"}},{"$f":"IF(AND(OR(References!$H$14=\"Electric\",References!$H$14=\"Air Source HP\",#REF!=\"Air Source HP\"),#REF!<>\"\"),IF(OR(#REF!=\"\",NOT(ISNUMBER(#REF!))),IF(Qualifying_Index!AY36=\"PTHP\",References!$M$40,References!$M$42),#REF!),0)","v":{"$error":"#REF!"}},null,{"$f":"IF(#REF!=\"\",\"\",IF(OR(WholeHouse_TF=FALSE,References!H13=TRUE),References!#REF!,1))","v":{"$error":"#REF!"}},null,{"$f":"IF(AND(References!$H$4=TRUE,OR(AY36<>\"PTHP\",AY36<>\"Ductless\",AY36<>\"CAC\")),#REF!&\" EH\"&\" \"&#REF!,L36&\" \"&#REF!&\" \"&#REF!&M36)","v":{"$error":"#REF!"}},{"$f":"IF(References!#REF!=TRUE,\"Whole House\",IF(RIGHT(References!#REF!,2)=\"HP\",\"Retrofit\",\"New\"))","v":{"$error":"#REF!"}},{"$f":"IF(References!#REF!<>TRUE,\"\",IF(References!#REF!=2,1,IF(AND(#REF!<>\"Central Air Conditioner\",#REF!<>\"Ducted Air Source HP\",References!$H$14=\"Oil\"),2,3)))","v":{"$error":"#REF!"}},{"$f":"IF(#REF!=\"\",\"\",#REF!)","v":{"$error":"#REF!"}},{"$f":"IF(#REF!=\"\",\"\",#REF!)","v":{"$error":"#REF!"}},{"$f":"IF(#REF!=\"\",\"\",#REF!)","v":{"$error":"#REF!"}},{"$f":"IF(#REF!=\"\",\"\",IF(References!$H$4=TRUE,INDEX(References!#REF!,MATCH(#REF!&\" EH\",References!$W$7:$W$15,0)),INDEX(References!#REF!,MATCH(#REF!,References!$W$7:$W$23,0))))","v":{"$error":"#REF!"}},{"$f":"IF(#REF!=\"\",\"\",IF(References!$H$4=TRUE,INDEX(References!#REF!,MATCH(#REF!&\" EH\",References!$W$7:$W$15,0)),INDEX(References!#REF!,MATCH(#REF!,References!$W$7:$W$23,0))))","v":{"$error":"#REF!"}},{"$f":"IF(#REF!=\"\",\"\",IF(References!$H$4=TRUE,INDEX(References!#REF!,MATCH(#REF!&\" EH\",References!$W$7:$W$15,0)),INDEX(References!#REF!,MATCH(#REF!,References!$W$7:$W$23,0))))","v":{"$error":"#REF!"}},{"$f":"IF(#REF!=\"\",\"\",INDEX(References!$AC$12:$AC$12,MATCH(#REF!,References!$W$7:$W$23,0)))","v":{"$error":"#REF!"}},{"$f":"IF(#REF!=\"\",\"\",INDEX(References!$AD$7:$AD$23,MATCH(#REF!,References!$W$7:$W$23,0)))","v":{"$error":"#REF!"}},{"$f":"IF(#REF!=\"\",\"\",IF(References!$H$4=TRUE,INDEX(References!$X$24:$X$24,MATCH(#REF!&\" EH\",References!$W$7:$W$15,0)),INDEX(References!$X$24:$X$24,MATCH(#REF!,References!$W$7:$W$23,0))))","v":{"$error":"#REF!"}},{"$f":"IF(#REF!=\"\",\"\",IF(References!$H$4=TRUE,INDEX(References!$AB$12:$AB$12,MATCH(#REF!&\" EH\",References!$W$7:$W$15,0)),INDEX(References!$AB$12:$AB$12,MATCH(#REF!,References!$W$7:$W$23,0))))","v":{"$error":"#REF!"}},{"$error":"#REF!"},{"$error":"#REF!"},{"$f":"IF(#REF!=\"\",\"\",IF(V36=0,\"\",IF(AND(P36<V36,P36<W36),\"DNQ\",IF(P36>=W36,\"Tier II\",\"Tier I\"))))","v":{"$error":"#REF!"}},null,{"$f":"IF(OR(X36=\"DNQ\",Y36=\"DNQ\",Z36=\"DNQ\",#REF!=\"FAIL\"),\"DNQ\",IF(OR(X36=\"Tier I\",Z36=\"Tier I\"),\"Tier I\",IF(OR(X36=\"Tier II\",Z36=\"Tier II\"),\"Tier II\",\"Tier III\")))","v":{"$error":"#REF!"}},{"$f":"References!$C$24","v":0},{"$f":"IF(#REF!=\"\",\"\",IF(AB36=\"DNQ\",\"DNQ\",INDEX(IF(AC36=\"Income Eligible \",References!$AO$3:$AO$36,References!$AN$3:$AN$36),MATCH(K36,References!$AI$3:$AI$36,0))*(#REF!/12000)))","v":{"$error":"#REF!"}},{"$f":"IF(#REF!=\"\",\"\",IF(AD36=\"DNQ\",0,INDEX(References!$AP$3:$AP$36,MATCH(Qualifying_Index!K36,References!$AI$3:$AI$36,0))))","v":{"$error":"#REF!"}},{"$error":"#REF!"},{"$f":"IF(COUNTIF(AF27:AF35,1),0,AE36)","v":{"$error":"#REF!"}},null,{"$f":"((#REF!*0.65))","v":{"$error":"#REF!"}},{"$f":"((#REF!*1.35))","v":{"$error":"#REF!"}},{"$f":"IF(AND(References!#REF!=TRUE,References!$H$4=FALSE),(#REF!*1),#REF!*0.65)","v":{"$error":"#REF!"}},{"$f":"IF(AND(References!#REF!=TRUE,References!$H$4=FALSE),(#REF!*1.3),#REF!*1.35)","v":{"$error":"#REF!"}},{"$f":"IF(AND(#REF!>=Qualifying_Index!AI36,#REF!<=Qualifying_Index!AJ36),\"PASS\",\"FAIL\")","v":{"$error":"#REF!"}},{"$f":"IF(OR(AK36=0,AL36=0),\"FAIL\",IF(AND(IF(AND(References!#REF!=TRUE,References!$H$4=FALSE),#REF!,#REF!)>=AK36,IF(References!#REF!=TRUE,#REF!,#REF!)<=AL36),\"PASS\",\"FAIL\"))","v":{"$error":"#REF!"}},{"$f":"IF(References!#REF!=TRUE,IF(AND(#REF!=\"\",#REF!=\"\"),\"Missing Info\",IF(AN36=\"PASS\",\"PASS\",\"FAIL\")),IF(AND(#REF!=\"\",#REF!=\"\",LEFT(#REF!,6)=\"Ducted\"),\"Missing Info\",IF(OR(AM36=\"PASS\",AN36=\"PASS\",LEFT(#REF!,6)<>\"Ducted\"),\"PASS\",\"FAIL\")))","v":{"$error":"#REF!"}},null,{"$f":"IF(OR(#REF!=\"\",#REF!=\"\",#REF!=\"\",#REF!=\"\",#REF!=\"\",#REF!=\"\",#REF!=\"\",#REF!=\"\",#REF!=\"\",#REF!=\"\"),\"Missing Info\",\"\")","v":{"$error":"#REF!"}},{"$f":"IF(AND(AZ36=1,#REF!=\"\"),\"Missing Info\",IF(AY36=\"PTHP\",AQ36,IF(OR(#REF!=\"\",#REF!=\"\",#REF!=\"\",#REF!=\"\",#REF!=\"\",#REF!=\"\",#REF!=\"\",#REF!=\"\",#REF!=\"\",AO36=\"Missing Info\"),\"Missing Info\",\"\")))","v":{"$error":"#REF!"}},{"$f":"IF(AND(AZ36=1,#REF!=\"\"),\"Missing Info\",IF(AY36=\"PTHP\",AQ36,IF(OR(#REF!=\"\",#REF!=\"\",#REF!=\"\",#REF!=\"\",#REF!=\"\",#REF!=\"\",#REF!=\"\",#REF!=\"\"),\"Missing Info\",\"\")))","v":{"$error":"#REF!"}},{"$f":"IF(OR(#REF!=\"\",#REF!=\"\"),\"\",IF(OR(#REF!=\"Ducted ASHP\",#REF!=\"Ducted ccASHP\"),#REF!/12000*(12/#REF!)*kW_CA,0))","v":{"$error":"#REF!"}},{"$f":"IF(#REF!=\"\",\"\",IF(OR(#REF!=\"\"),\"\",#REF!*(12/#REF!)*kW_RS))","v":{"$error":"#REF!"}},{"$f":"IF(OR(#REF!=\"\",#REF!=\"\",#REF!=\"\"),\"\",IF(OR(#REF!=\"Ducted ASHP\",#REF!=\"Ducted ccASHP\"),#REF!/12000*(12/#REF!*FLH_Cool)*QI_kWh,0))","v":{"$error":"#REF!"}},{"$f":"IF(OR(#REF!=\"\",#REF!=\"\",#REF!=\"\"),\"\",IF(OR(#REF!=\"Ducted ASHP\",#REF!=\"Ducted ccASHP\"),#REF!/12000*(12/#REF!*FLH_Heat)*QI_kWh,0))","v":{"$error":"#REF!"}},null,{"$f":"IF(#REF!=\"\",\"\",INDEX(References!$AF$7:$AF$23,MATCH(#REF!,Equipment_Type,0)))","v":{"$error":"#REF!"}},{"$f":"IF(#REF!=\"\",\"\",INDEX(References!$AE$7:$AE$23,MATCH(#REF!,Equipment_Type,0)))","v":{"$error":"#REF!"}},null,{"$f":"IF(WholeHouse_TF=FALSE,References!#REF!,IF(References!$H$14=\"New Construction\",FLH_Cool,IF(References!$H$14=\"\",0,References!#REF!)))","v":{"$error":"#REF!"}},{"$f":"IF(WholeHouse_TF=FALSE,References!#REF!,IF(References!$H$14=\"New Construction\",FLH_Heat,IF(References!$H$14=\"\",0,References!#REF!)))","v":{"$error":"#REF!"}},null,{"$f":"IF(OR($AO36=\"FAIL\",#REF!=\"\",AO36=\"Missing Info\",AB36=\"DNQ\"),0,((#REF!/12000)*((12/E36)-(12/O36)))+SUM(AT36:AU36))","v":{"$error":"#REF!"}},{"$f":"IF(OR($AO36=\"FAIL\",#REF!=\"\",AO36=\"Missing Info\",AB36=\"DNQ\"),0,IF(AY36=\"PTHP\",((#REF!/12000)*(12/E36-12/O36)*BB36),(((#REF!/12000)*((12/F36)-(12/N36))*BB36))+AV36))","v":{"$error":"#REF!"}},{"$f":"IF(OR($AO36=\"FAIL\",#REF!=\"\",AO36=\"Missing Info\",AB36=\"DNQ\"),0,BF36*References!$E$12/1000)","v":{"$error":"#REF!"}},{"$f":"BF36*References!$A$12","v":{"$error":"#REF!"}},{"$f":"IF(OR($AO36=\"FAIL\",#REF!=\"\",AO36=\"Missing Info\",AB36=\"DNQ\",References!#REF!=FALSE),0,((#REF!/12000)*((1/(G36/3.412))-(1/(P36/3.412))))+SUM(AT36:AU36))","v":{"$error":"#REF!"}},{"$f":"IF(OR($AO36=\"FAIL\",#REF!=\"\",AO36=\"Missing Info\",AB36=\"DNQ\"),0,IF(References!#REF!=FALSE,AW36,((#REF!/12000)*((12/G36)-(12/P36))*BC36*I36)+AW36))","v":{"$error":"#REF!"}},{"$f":"IF(OR($AO36=\"FAIL\",#REF!=\"\",AO36=\"Missing Info\",AB36=\"DNQ\",References!#REF!=FALSE),0,-((#REF!/12000)*(1/(P36/3.412))))","v":{"$error":"#REF!"}},{"$f":"IF(OR($AO36=\"FAIL\",#REF!=\"\",AO36=\"Missing Info\",AB36=\"DNQ\",References!#REF!=FALSE),0,((#REF!/12000)*(12/P36)*(BC36*I36))-(#REF!*BC36/1000000)*References!#REF!*I36)","v":{"$error":"#REF!"}},{"$f":"IF(OR($AO36=\"FAIL\",AO36=\"Missing Info\",#REF!=\"\"),0,IF(References!#REF!=TRUE,BJ36*References!$E$12/1000,((BJ36-BL36)*References!$E$12/1000)))","v":{"$error":"#REF!"}},{"$f":"IF(OR($AO36=\"FAIL\",AO36=\"Missing Info\",#REF!=\"\"),0,IF(References!#REF!=TRUE,((#REF!*BC36/References!$M$42)/1000000)*I36,0))","v":{"$error":"#REF!"}},{"$error":"#REF!"},{"$f":"(BJ36-BL36)*References!$A$12","v":{"$error":"#REF!"}},{"$f":"BN36*References!$N$42*References!$A$15","v":{"$error":"#REF!"}},{"$f":"IF(References!#REF!=TRUE,(BN36*References!$N$42*References!$A$15)-(BL36*References!$A$12),BJ36*References!$A$12)","v":{"$error":"#REF!"}}]
[]
[]
["Smart T-Stats tab- Thermostats"]
[]
["Unit Number",null,"Model",null,"Learning vs. Connected",null,"Controlled Unit",null,"Cooling BTUH",null,"Heating BTUH","SEER","HSPF","Cooling Hours","Heating Hours","kWh Savings","MMBTU savings","CO2 savings (lbs)",null,null,null,null,null,null,"Rebate","kW"]
[1,null,{"$f":"'Smart T-Stats'!D21","v":0},null,{"$f":"IF(C42<>0,INDEX(References!$C$95:$D$127,MATCH(C42,References!$C$95:$C$127,0),2),\"\")","v":""},null,{"$f":"'Smart T-Stats'!G21","v":0},null,{"$f":"IF(C42<>0,IF(G42<>0,INDEX(#REF!,MATCH('Smart T-Stats'!G21,#REF!,0),5),36000),0)","v":0},null,{"$f":"IF(C42<>0,IF(G42<>0,INDEX(#REF!,MATCH('Smart T-Stats'!G21,#REF!,0),7),36000),0)","v":0},{"$f":"IF(C42<>0,IF(G42<>0,INDEX(#REF!,MATCH('Smart T-Stats'!G21,#REF!,0),9),References!$M$9),0)","v":0},{"$f":"IF(C42<>0,IF(G42<>0,INDEX(#REF!,MATCH('Smart T-Stats'!G21,#REF!,0),11),References!$M$35),0)","v":0},{"$f":"BB27","v":{"$error":"#REF!"}},{"$f":"BC27","v":{"$error":"#REF!"}},{"$f":"IF(E42<>\"\",IF(E42=\"Learning\",((I42/12000)*(12/L42)*N42*References!#REF!)+((K42/12000)*(12/M42)*O42*References!#REF!),INDEX(References!$E$50:$E$52,MATCH('Smart T-Stats'!J21,References!$D$50:$D$52,0))),0)","v":0},{"$f":"P42*References!$E$12/1000","v":0},{"$f":"P42*References!$A$12","v":0},{"$f":"IF('Smart T-Stats'!H21=\"\",\"\",IF(References!#REF!=TRUE,\"HP Thermostat\",IF(OR(RIGHT('Smart T-Stats'!H21,2)=\"HP\",'Smart T-Stats'!I21=\"Electric Heat\"),\"CH Thermostat Heating Cooling\",\"CH Thermostat Cooling\")))","v":""},null,null,{"$f":"IF(S42=\"\",\"\",IF(LEFT(S42)=\"HP\",S42,IF(RIGHT(S42,9)=\"t Cooling\",IF(E42=\"Learning\",\"Learning for Cooling\",\"Connected for Cooling\"),IF(E42=\"Learning\",\"Learning for Heating and Cooling\",\"Connected for Heating and Cooling\"))))","v":""},null,null,{"$f":"IF(V42=\"\",\"\",INDEX(References!$AN$33:$AN$45,MATCH(V42,References!$AI$33:$AI$49,0)))","v":""},{"$f":"IF(E42=\"\",\"\",IF(E42=\"Learning\",0,INDEX(References!#REF!,MATCH('Smart T-Stats'!J21,References!$D$50:$D$52,0))))","v":""}]
[2,null,{"$f":"'Smart T-Stats'!D22","v":0},null,{"$f":"IF(C43<>0,INDEX(References!$C$95:$D$127,MATCH(C43,References!$C$95:$C$127,0),2),\"\")","v":""},null,{"$f":"'Smart T-Stats'!G22","v":0},null,{"$f":"IF(C43<>0,IF(G43<>0,INDEX(#REF!,MATCH('Smart T-Stats'!G22,#REF!,0),5),36000),0)","v":0},null,{"$f":"IF(C43<>0,IF(G43<>0,INDEX(#REF!,MATCH('Smart T-Stats'!G22,#REF!,0),7),36000),0)","v":0},{"$f":"IF(C43<>0,IF(G43<>0,INDEX(#REF!,MATCH('Smart T-Stats'!G22,#REF!,0),9),References!$M$9),0)","v":0},{"$f":"IF(C43<>0,IF(G43<>0,INDEX(#REF!,MATCH('Smart T-Stats'!G22,#REF!,0),11),References!$M$35),0)","v":0},{"$error":"#REF!"},{"$error":"#REF!"},{"$f":"IF(E43<>\"\",IF(E43=\"Learning\",((I43/12000)*(12/L43)*N43*References!#REF!)+((K43/12000)*(12/M43)*O43*References!#REF!),INDEX(References!$E$50:$E$52,MATCH('Smart T-Stats'!J22,References!$D$50:$D$52,0))),0)","v":0},{"$f":"P43*References!$E$12/1000","v":0},{"$f":"P43*References!$A$12","v":0},{"$f":"IF('Smart T-Stats'!H22=\"\",\"\",IF(References!#REF!=TRUE,\"HP Thermostat\",IF(OR(RIGHT('Smart T-Stats'!H22,2)=\"HP\",'Smart T-Stats'!I22=\"Electric Heat\"),\"CH Thermostat Heating Cooling\",\"CH Thermostat Cooling\")))","v":""},null,null,{"$f":"IF(S43=\"\",\"\",IF(LEFT(S43)=\"HP\",S43,IF(RIGHT(S43,9)=\"t Cooling\",IF(E43=\"Learning\",\"Learning for Cooling\",\"Connected for Cooling\"),IF(E43=\"Learning\",\"Learning for Heating and Cooling\",\"Connected for Heating and Cooling\"))))","v":""},null,null,{"$f":"IF(V43=\"\",\"\",INDEX(References!$AN$33:$AN$45,MATCH(V43,References!$AI$33:$AI$49,0)))","v":""},{"$f":"IF(E43=\"\",\"\",IF(E43=\"Learning\",0,INDEX(References!#REF!,MATCH('Smart T-Stats'!J22,References!$D$50:$D$52,0))))","v":""}]
[3,null,{"$f":"'Smart T-Stats'!D23","v":0},null,{"$f":"IF(C44<>0,INDEX(References!$C$95:$D$127,MATCH(C44,References!$C$95:$C$127,0),2),\"\")","v":""},null,{"$f":"'Smart T-Stats'!G23","v":0},null,{"$f":"IF(C44<>0,IF(G44<>0,INDEX(#REF!,MATCH('Smart T-Stats'!G23,#REF!,0),5),36000),0)","v":0},null,{"$f":"IF(C44<>0,IF(G44<>0,INDEX(#REF!,MATCH('Smart T-Stats'!G23,#REF!,0),7),36000),0)","v":0},{"$f":"IF(C44<>0,IF(G44<>0,INDEX(#REF!,MATCH('Smart T-Stats'!G23,#REF!,0),9),References!$M$9),0)","v":0},{"$f":"IF(C44<>0,IF(G44<>0,INDEX(#REF!,MATCH('Smart T-Stats'!G23,#REF!,0),11),References!$M$35),0)","v":0},{"$error":"#REF!"},{"$error":"#REF!"},{"$f":"IF(E44<>\"\",IF(E44=\"Learning\",((I44/12000)*(12/L44)*N44*References!#REF!)+((K44/12000)*(12/M44)*O44*References!#REF!),INDEX(References!$E$50:$E$52,MATCH('Smart T-Stats'!J23,References!$D$50:$D$52,0))),0)","v":0},{"$f":"P44*References!$E$12/1000","v":0},{"$f":"P44*References!$A$12","v":0},{"$f":"IF('Smart T-Stats'!H23=\"\",\"\",IF(References!#REF!=TRUE,\"HP Thermostat\",IF(OR(RIGHT('Smart T-Stats'!H23,2)=\"HP\",'Smart T-Stats'!I23=\"Electric Heat\"),\"CH Thermostat Heating Cooling\",\"CH Thermostat Cooling\")))","v":""},null,null,"",null,null,{"$f":"IF(V44=\"\",\"\",INDEX(References!$AN$33:$AN$45,MATCH(V44,References!$AI$33:$AI$49,0)))","v":""},{"$f":"IF(E44=\"\",\"\",IF(E44=\"Learning\",0,INDEX(References!#REF!,MATCH('Smart T-Stats'!J23,References!$D$50:$D$52,0))))","v":""}]
[4,null,{"$f":"'Smart T-Stats'!D24","v":0},null,{"$f":"IF(C45<>0,INDEX(References!$C$95:$D$127,MATCH(C45,References!$C$95:$C$127,0),2),\"\")","v":""},null,{"$f":"'Smart T-Stats'!G24","v":0},null,{"$f":"IF(C45<>0,IF(G45<>0,INDEX(#REF!,MATCH('Smart T-Stats'!G24,#REF!,0),5),36000),0)","v":0},null,{"$f":"IF(C45<>0,IF(G45<>0,INDEX(#REF!,MATCH('Smart T-Stats'!G24,#REF!,0),7),36000),0)","v":0},{"$f":"IF(C45<>0,IF(G45<>0,INDEX(#REF!,MATCH('Smart T-Stats'!G24,#REF!,0),9),References!$M$9),0)","v":0},{"$f":"IF(C45<>0,IF(G45<>0,INDEX(#REF!,MATCH('Smart T-Stats'!G24,#REF!,0),11),References!$M$35),0)","v":0},{"$error":"#REF!"},{"$error":"#REF!"},{"$f":"IF(E45<>\"\",IF(E45=\"Learning\",((I45/12000)*(12/L45)*N45*References!#REF!)+((K45/12000)*(12/M45)*O45*References!#REF!),INDEX(References!$E$50:$E$52,MATCH('Smart T-Stats'!J24,References!$D$50:$D$52,0))),0)","v":0},{"$f":"P45*References!$E$12/1000","v":0},{"$f":"P45*References!$A$12","v":0},{"$f":"IF('Smart T-Stats'!H24=\"\",\"\",IF(References!#REF!=TRUE,\"HP Thermostat\",IF(OR(RIGHT('Smart T-Stats'!H24,2)=\"HP\",'Smart T-Stats'!I24=\"Electric Heat\"),\"CH Thermostat Heating Cooling\",\"CH Thermostat Cooling\")))","v":""},null,null,"",null,null,{"$f":"IF(V45=\"\",\"\",INDEX(References!$AN$33:$AN$45,MATCH(V45,References!$AI$33:$AI$49,0)))","v":""},{"$f":"IF(E45=\"\",\"\",IF(E45=\"Learning\",0,INDEX(References!#REF!,MATCH('Smart T-Stats'!J24,References!$D$50:$D$52,0))))","v":""}]
[5,null,{"$f":"'Smart T-Stats'!D25","v":0},null,{"$f":"IF(C46<>0,INDEX(References!$C$95:$D$127,MATCH(C46,References!$C$95:$C$127,0),2),\"\")","v":""},null,{"$f":"'Smart T-Stats'!G25","v":0},null,{"$f":"IF(C46<>0,IF(G46<>0,INDEX(#REF!,MATCH('Smart T-Stats'!G25,#REF!,0),5),36000),0)","v":0},null,{"$f":"IF(C46<>0,IF(G46<>0,INDEX(#REF!,MATCH('Smart T-Stats'!G25,#REF!,0),7),36000),0)","v":0},{"$f":"IF(C46<>0,IF(G46<>0,INDEX(#REF!,MATCH('Smart T-Stats'!G25,#REF!,0),9),References!$M$9),0)","v":0},{"$f":"IF(C46<>0,IF(G46<>0,INDEX(#REF!,MATCH('Smart T-Stats'!G25,#REF!,0),11),References!$M$35),0)","v":0},{"$error":"#REF!"},{"$error":"#REF!"},{"$f":"IF(E46<>\"\",IF(E46=\"Learning\",((I46/12000)*(12/L46)*N46*References!#REF!)+((K46/12000)*(12/M46)*O46*References!#REF!),INDEX(References!$E$50:$E$52,MATCH('Smart T-Stats'!J25,References!$D$50:$D$52,0))),0)","v":0},{"$f":"P46*References!$E$12/1000","v":0},{"$f":"P46*References!$A$12","v":0},{"$f":"IF('Smart T-Stats'!H25=\"\",\"\",IF(References!#REF!=TRUE,\"HP Thermostat\",IF(OR(RIGHT('Smart T-Stats'!H25,2)=\"HP\",'Smart T-Stats'!I25=\"Electric Heat\"),\"CH Thermostat Heating Cooling\",\"CH Thermostat Cooling\")))","v":""},null,null,"",null,null,{"$f":"IF(V46=\"\",\"\",INDEX(References!$AN$33:$AN$45,MATCH(V46,References!$AI$33:$AI$49,0)))","v":""},{"$f":"IF(E46=\"\",\"\",IF(E46=\"Learning\",0,INDEX(References!#REF!,MATCH('Smart T-Stats'!J25,References!$D$50:$D$52,0))))","v":""}]
[6,null,{"$f":"'Smart T-Stats'!D26","v":0},null,{"$f":"IF(C47<>0,INDEX(References!$C$95:$D$127,MATCH(C47,References!$C$95:$C$127,0),2),\"\")","v":""},null,{"$f":"'Smart T-Stats'!G26","v":0},null,{"$f":"IF(C47<>0,IF(G47<>0,INDEX(#REF!,MATCH('Smart T-Stats'!G26,#REF!,0),5),36000),0)","v":0},null,{"$f":"IF(C47<>0,IF(G47<>0,INDEX(#REF!,MATCH('Smart T-Stats'!G26,#REF!,0),7),36000),0)","v":0},{"$f":"IF(C47<>0,IF(G47<>0,INDEX(#REF!,MATCH('Smart T-Stats'!G26,#REF!,0),9),References!$M$9),0)","v":0},{"$f":"IF(C47<>0,IF(G47<>0,INDEX(#REF!,MATCH('Smart T-Stats'!G26,#REF!,0),11),References!$M$35),0)","v":0},{"$error":"#REF!"},{"$error":"#REF!"},{"$f":"IF(E47<>\"\",IF(E47=\"Learning\",((I47/12000)*(12/L47)*N47*References!#REF!)+((K47/12000)*(12/M47)*O47*References!#REF!),INDEX(References!$E$50:$E$52,MATCH('Smart T-Stats'!J26,References!$D$50:$D$52,0))),0)","v":0},{"$f":"P47*References!$E$12/1000","v":0},{"$f":"P47*References!$A$12","v":0},{"$f":"IF('Smart T-Stats'!H26=\"\",\"\",IF(References!#REF!=TRUE,\"HP Thermostat\",IF(OR(RIGHT('Smart T-Stats'!H26,2)=\"HP\",'Smart T-Stats'!I26=\"Electric Heat\"),\"CH Thermostat Heating Cooling\",\"CH Thermostat Cooling\")))","v":""},null,null,"",null,null,{"$f":"IF(V47=\"\",\"\",INDEX(References!$AN$33:$AN$45,MATCH(V47,References!$AI$33:$AI$49,0)))","v":""},{"$f":"IF(E47=\"\",\"\",IF(E47=\"Learning\",0,INDEX(References!#REF!,MATCH('Smart T-Stats'!J26,References!$D$50:$D$52,0))))","v":""}]
[7,null,{"$f":"'Smart T-Stats'!D27","v":0},null,{"$f":"IF(C48<>0,INDEX(References!$C$95:$D$127,MATCH(C48,References!$C$95:$C$127,0),2),\"\")","v":""},null,{"$f":"'Smart T-Stats'!G27","v":0},null,{"$f":"IF(C48<>0,IF(G48<>0,INDEX(#REF!,MATCH('Smart T-Stats'!G27,#REF!,0),5),36000),0)","v":0},null,{"$f":"IF(C48<>0,IF(G48<>0,INDEX(#REF!,MATCH('Smart T-Stats'!G27,#REF!,0),7),36000),0)","v":0},{"$f":"IF(C48<>0,IF(G48<>0,INDEX(#REF!,MATCH('Smart T-Stats'!G27,#REF!,0),9),References!$M$9),0)","v":0},{"$f":"IF(C48<>0,IF(G48<>0,INDEX(#REF!,MATCH('Smart T-Stats'!G27,#REF!,0),11),References!$M$35),0)","v":0},{"$error":"#REF!"},{"$error":"#REF!"},{"$f":"IF(E48<>\"\",IF(E48=\"Learning\",((I48/12000)*(12/L48)*N48*References!#REF!)+((K48/12000)*(12/M48)*O48*References!#REF!),INDEX(References!$E$50:$E$52,MATCH('Smart T-Stats'!J27,References!$D$50:$D$52,0))),0)","v":0},{"$f":"P48*References!$E$12/1000","v":0},{"$f":"P48*References!$A$12","v":0},{"$f":"IF('Smart T-Stats'!H27=\"\",\"\",IF(References!#REF!=TRUE,\"HP Thermostat\",IF(OR(RIGHT('Smart T-Stats'!H27,2)=\"HP\",'Smart T-Stats'!I27=\"Electric Heat\"),\"CH Thermostat Heating Cooling\",\"CH Thermostat Cooling\")))","v":""},null,null,"",null,null,{"$f":"IF(V48=\"\",\"\",INDEX(References!$AN$33:$AN$45,MATCH(V48,References!$AI$33:$AI$49,0)))","v":""},{"$f":"IF(E48=\"\",\"\",IF(E48=\"Learning\",0,INDEX(References!#REF!,MATCH('Smart T-Stats'!J27,References!$D$50:$D$52,0))))","v":""}]
[8,null,{"$f":"'Smart T-Stats'!D28","v":0},null,{"$f":"IF(C49<>0,INDEX(References!$C$95:$D$127,MATCH(C49,References!$C$95:$C$127,0),2),\"\")","v":""},null,{"$f":"'Smart T-Stats'!G28","v":0},null,{"$f":"IF(C49<>0,IF(G49<>0,INDEX(#REF!,MATCH('Smart T-Stats'!G28,#REF!,0),5),36000),0)","v":0},null,{"$f":"IF(C49<>0,IF(G49<>0,INDEX(#REF!,MATCH('Smart T-Stats'!G28,#REF!,0),7),36000),0)","v":0},{"$f":"IF(C49<>0,IF(G49<>0,INDEX(#REF!,MATCH('Smart T-Stats'!G28,#REF!,0),9),References!$M$9),0)","v":0},{"$f":"IF(C49<>0,IF(G49<>0,INDEX(#REF!,MATCH('Smart T-Stats'!G28,#REF!,0),11),References!$M$35),0)","v":0},{"$error":"#REF!"},{"$error":"#REF!"},{"$f":"IF(E49<>\"\",IF(E49=\"Learning\",((I49/12000)*(12/L49)*N49*References!#REF!)+((K49/12000)*(12/M49)*O49*References!#REF!),INDEX(References!$E$50:$E$52,MATCH('Smart T-Stats'!J28,References!$D$50:$D$52,0))),0)","v":0},{"$f":"P49*References!$E$12/1000","v":0},{"$f":"P49*References!$A$12","v":0},{"$f":"IF('Smart T-Stats'!H28=\"\",\"\",IF(References!#REF!=TRUE,\"HP Thermostat\",IF(OR(RIGHT('Smart T-Stats'!H28,2)=\"HP\",'Smart T-Stats'!I28=\"Electric Heat\"),\"CH Thermostat Heating Cooling\",\"CH Thermostat Cooling\")))","v":""},null,null,"",null,null,{"$f":"IF(V49=\"\",\"\",INDEX(References!$AN$33:$AN$45,MATCH(V49,References!$AI$33:$AI$49,0)))","v":""},{"$f":"IF(E49=\"\",\"\",IF(E49=\"Learning\",0,INDEX(References!#REF!,MATCH('Smart T-Stats'!J28,References!$D$50:$D$52,0))))","v":""}]
[9,null,{"$f":"'Smart T-Stats'!D29","v":0},null,{"$f":"IF(C50<>0,INDEX(References!$C$95:$D$127,MATCH(C50,References!$C$95:$C$127,0),2),\"\")","v":""},null,{"$f":"'Smart T-Stats'!G29","v":0},null,{"$f":"IF(C50<>0,IF(G50<>0,INDEX(#REF!,MATCH('Smart T-Stats'!G29,#REF!,0),5),36000),0)","v":0},null,{"$f":"IF(C50<>0,IF(G50<>0,INDEX(#REF!,MATCH('Smart T-Stats'!G29,#REF!,0),7),36000),0)","v":0},{"$f":"IF(C50<>0,IF(G50<>0,INDEX(#REF!,MATCH('Smart T-Stats'!G29,#REF!,0),9),References!$M$9),0)","v":0},{"$f":"IF(C50<>0,IF(G50<>0,INDEX(#REF!,MATCH('Smart T-Stats'!G29,#REF!,0),11),References!$M$35),0)","v":0},{"$error":"#REF!"},{"$error":"#REF!"},{"$f":"IF(E50<>\"\",IF(E50=\"Learning\",((I50/12000)*(12/L50)*N50*References!#REF!)+((K50/12000)*(12/M50)*O50*References!#REF!),INDEX(References!$E$50:$E$52,MATCH('Smart T-Stats'!J29,References!$D$50:$D$52,0))),0)","v":0},{"$f":"P50*References!$E$12/1000","v":0},{"$f":"P50*References!$A$12","v":0},{"$f":"IF('Smart T-Stats'!H29=\"\",\"\",IF(References!#REF!=TRUE,\"HP Thermostat\",IF(OR(RIGHT('Smart T-Stats'!H29,2)=\"HP\",'Smart T-Stats'!I29=\"Electric Heat\"),\"CH Thermostat Heating Cooling\",\"CH Thermostat Cooling\")))","v":""},null,null,"",null,null,{"$f":"IF(V50=\"\",\"\",INDEX(References!$AN$33:$AN$45,MATCH(V50,References!$AI$33:$AI$49,0)))","v":""},{"$f":"IF(E50=\"\",\"\",IF(E50=\"Learning\",0,INDEX(References!#REF!,MATCH('Smart T-Stats'!J29,References!$D$50:$D$52,0))))","v":""}]
[10,null,{"$f":"'Smart T-Stats'!D30","v":0},null,{"$f":"IF(C51<>0,INDEX(References!$C$95:$D$127,MATCH(C51,References!$C$95:$C$127,0),2),\"\")","v":""},null,{"$f":"'Smart T-Stats'!G30","v":0},null,{"$f":"IF(C51<>0,IF(G51<>0,INDEX(#REF!,MATCH('Smart T-Stats'!G30,#REF!,0),5),36000),0)","v":0},null,{"$f":"IF(C51<>0,IF(G51<>0,INDEX(#REF!,MATCH('Smart T-Stats'!G30,#REF!,0),7),36000),0)","v":0},{"$f":"IF(C51<>0,IF(G51<>0,INDEX(#REF!,MATCH('Smart T-Stats'!G30,#REF!,0),9),References!$M$9),0)","v":0},{"$f":"IF(C51<>0,IF(G51<>0,INDEX(#REF!,MATCH('Smart T-Stats'!G30,#REF!,0),11),References!$M$35),0)","v":0},{"$error":"#REF!"},{"$error":"#REF!"},{"$f":"IF(E51<>\"\",IF(E51=\"Learning\",((I51/12000)*(12/L51)*N51*References!#REF!)+((K51/12000)*(12/M51)*O51*References!#REF!),INDEX(References!$E$50:$E$52,MATCH('Smart T-Stats'!J30,References!$D$50:$D$52,0))),0)","v":0},{"$f":"P51*References!$E$12/1000","v":0},{"$f":"P51*References!$A$12","v":0},{"$f":"IF('Smart T-Stats'!H30=\"\",\"\",IF(References!#REF!=TRUE,\"HP Thermostat\",IF(OR(RIGHT('Smart T-Stats'!H30,2)=\"HP\",'Smart T-Stats'!I30=\"Electric Heat\"),\"CH Thermostat Heating Cooling\",\"CH Thermostat Cooling\")))","v":""},null,null,"",null,null,{"$f":"IF(V51=\"\",\"\",INDEX(References!$AN$33:$AN$45,MATCH(V51,References!$AI$33:$AI$49,0)))","v":""},{"$f":"IF(E51=\"\",\"\",IF(E51=\"Learning\",0,INDEX(References!#REF!,MATCH('Smart T-Stats'!J30,References!$D$50:$D$52,0))))","v":""}]
[]
["Integrated Controls"]
[]
["Unit Number",null,"Model",null,"Dual Fuel vs. Kit",null,"Controlled Unit",null,"Cooling BTUH",null,"Heating BTUH","SEER","HSPF","Cooling Hours","Heating Hours","kWh Savings","MMBTU savings","CO2 savings (lbs)",null,null,null,null,"Rebate"]
[11,null,{"$f":"'Smart T-Stats'!D35","v":0},null,{"$f":"IF(#REF!=\"\",\"\",#REF!)","v":{"$error":"#REF!"}},null,{"$f":"'Smart T-Stats'!G35","v":0},null,null,null,{"$f":"IF(C56<>0,IF(G56<>0,INDEX(#REF!,MATCH(A56,#REF!,0),7),36000),0)","v":0},{"$f":"IF(C56<>0,IF(G56<>0,INDEX(#REF!,MATCH(A56,#REF!,0),9),References!$M$9),0)","v":0},{"$f":"IF(C56<>0,IF(G56<>0,INDEX(#REF!,MATCH(A56,#REF!,0),11),References!$M$35),0)","v":0},{"$f":"BA41","v":0},{"$f":"BB41","v":0},0,0,{"$f":"P56*References!$A$12","v":0},null,null,null,null,{"$f":"_xlfn.IFNA(INDEX(IF(References!$C$23=FALSE,References!$AN$38:$AN$40,References!$AO$38:$AO$40),MATCH(E56,References!$AI$38:$AI$40,0)),0)","v":{"$error":"#REF!"}}]
[12,null,{"$f":"'Smart T-Stats'!D36","v":0},null,{"$f":"IF(#REF!=\"\",\"\",#REF!)","v":{"$error":"#REF!"}},null,{"$f":"'Smart T-Stats'!G36","v":0},null,null,null,{"$f":"IF(C57<>0,IF(G57<>0,INDEX(#REF!,MATCH(A57,#REF!,0),7),36000),0)","v":0},{"$f":"IF(C57<>0,IF(G57<>0,INDEX(#REF!,MATCH(A57,#REF!,0),9),References!$M$9),0)","v":0},{"$f":"IF(C57<>0,IF(G57<>0,INDEX(#REF!,MATCH(A57,#REF!,0),11),References!$M$35),0)","v":0},{"$f":"BA42","v":0},{"$f":"BB42","v":0},0,0,{"$f":"P57*References!$A$12","v":0},null,null,null,null,{"$f":"IF(W56>0,0,_xlfn.IFNA(INDEX(IF(References!$C$23=FALSE,References!$AN$38:$AN$40,References!$AO$38:$AO$40),MATCH(E57,References!$AI$38:$AI$40,0)),0))","v":{"$error":"#REF!"}}]
[]
["HPwES tab - Duct Sealing"]
[null,null,"HVAC Info",null,null,null,null,null,null,null,null,null,null,null,null,null,null,null,null,null,null,null,null,null,null,null,"EFLH Heating","Displacement Factor",null,null,null,null,null,null,null,null,null,null,null,null,null,null,null,null,null,null,"Measure Codes","kW Savings Cooling","kW Savings Heating","kWh Savings Cooling","MMBTU Savings Cooling","kWh Savings Heating","MMBTU Savings Heating (kWh)","MMBTU Savings Heating (FF)","Total kWh Savings","Total MMBTU Savings"]
["Unit Number",null,"Cooling 1 Capacity",null,"Cooling 1 EER","Cooling 1 SEER","Cooling 1 %",null,"Cooling 2 Capacity",null,"Cooling 2 EER","Cooling 2 SEER","Cooling 2 %","Heating 1 Capacity","Heating 1 HSPF","Heating 1 COP","Heating 1 Efficiency","Heating 1\nFuel","Heating 1 %","Heating 2 Capacity","Heating 2 HSPF","Heating 2 COP","Heating 2 Efficiency","Heating 2\nFuel","Heating 2 %","EFLH Cooling"]
[1,null,null,null,{"$f":"Worksheet!$J$19","v":0},{"$f":"Worksheet!$J$17","v":0},{"$f":"Worksheet!$J$21","v":0},null,null,null,{"$f":"Worksheet!$J$32","v":0},{"$f":"Worksheet!$J$30","v":0},{"$f":"Worksheet!$J$34","v":0},{"$f":"Worksheet!$D$15","v":0},{"$f":"IF(Worksheet!$D$19=\"\",Worksheet!#REF!*3.412,Worksheet!$D$19)","v":{"$error":"#REF!"}},{"$f":"IF(Worksheet!#REF!=\"\",Worksheet!$D$19/3.412,Worksheet!#REF!)","v":{"$error":"#REF!"}},{"$f":"Worksheet!$D$17","v":0},{"$f":"Worksheet!$D$13","v":0},{"$f":"Worksheet!$D$21","v":0},{"$f":"Worksheet!$D$28","v":0},{"$f":"IF(Worksheet!$D$32=\"\",Worksheet!$D$34*3.412,Worksheet!$D$32)","v":0},{"$f":"IF(Worksheet!$D$34=\"\",Worksheet!$D$32/3.412,Worksheet!$D$34)","v":0},{"$f":"Worksheet!$D$30","v":0},{"$f":"Worksheet!$D$26","v":0},{"$f":"Worksheet!$D$36","v":0},{"$f":"$BB$27","v":{"$error":"#REF!"}},{"$f":"$BC$27","v":{"$error":"#REF!"}},null,null,null,null,null,null,null,null,null,null,null,null,null,null,null,null,null,null,null,{"$f":"IF(OR(AG103=\"\",#REF!=\"\",#REF!=0,#REF!=\"\",#REF!=0,AR103=0,AR103=\"- Please Select -\"),\"\",INDEX(References!$BM$15:$BM$25,MATCH(AG103,References!$BL$15:$BL$25,0)))","v":{"$error":"#REF!"}},{"$f":"IF(OR(AR103=0,LEFT(AR103,9)=\"Heating (\"),0,IF(OR(AR103=\"Cooling (1)\",AR103=\"Heating & Cooling (1)\"),(#REF!/#REF!)*((C62/1000)*(1/E62)),IF(OR(AR103=\"Cooling (2)\",AR103=\"Heating & Cooling (2)\"),(#REF!/#REF!)*(I62/1000)*(1/K62),(#REF!/#REF!)*((C62/1000)*(1/E62)*G62+(I62/1000)*(1/K62)*M62))))*(1-(AN103/AP103))*(1-AJ103)","v":{"$error":"#VALUE!"}},{"$f":"IF(OR(AR103=0,AX103=0),0,IF(OR(AR103=\"Heating (1)\",AR103=\"Heating & Cooling (1)\"),(#REF!/#REF!)*((N62/1000)*(1/P62)),IF(OR(AR103=\"Heating (2)\",AR103=\"Heating & Cooling (2)\"),(#REF!/#REF!)*(T62/1000)*(1/V62),(#REF!/#REF!)*((N62/1000)*(1/P62)*S62+(T62/1000)*(1/V62)*Y62))))*(1-(AN103/AP103))*(1-AJ103)","v":{"$error":"#VALUE!"}},{"$f":"(#REF!/#REF!)*AW103*(1-(AN103/AP103))*(1-AJ103)","v":{"$error":"#REF!"}},{"$f":"AX62*References!$D$12","v":{"$error":"#REF!"}},{"$f":"(#REF!/#REF!)*AX103*(1-(AO103/AQ103))*(1-AK103)","v":{"$error":"#REF!"}},{"$f":"AZ62*References!$D$12","v":{"$error":"#REF!"}},{"$f":"((#REF!/#REF!)*AY103*(1-(AO103/AQ103))*(1-AK103))/10","v":{"$error":"#REF!"}},{"$f":"AX62+AZ62","v":{"$error":"#REF!"}},{"$f":"AY62+BA62+BB62","v":{"$error":"#REF!"}}]
[{"$f":"A62+1","v":2},null,null,null,{"$f":"Worksheet!$J$19","v":0},{"$f":"Worksheet!$J$17","v":0},{"$f":"Worksheet!$J$21","v":0},null,null,null,{"$f":"Worksheet!$J$32","v":0},{"$f":"Worksheet!$J$30","v":0},{"$f":"Worksheet!$J$34","v":0},{"$f":"Worksheet!$D$15","v":0},{"$f":"IF(Worksheet!$D$19=\"\",Worksheet!#REF!*3.412,Worksheet!$D$19)","v":{"$error":"#REF!"}},{"$f":"IF(Worksheet!#REF!=\"\",Worksheet!$D$19/3.412,Worksheet!#REF!)","v":{"$error":"#REF!"}},{"$f":"Worksheet!$D$17","v":0},{"$f":"Worksheet!$D$13","v":0},{"$f":"Worksheet!$D$21","v":0},{"$f":"Worksheet!$D$28","v":0},{"$f":"IF(Worksheet!$D$32=\"\",Worksheet!$D$34*3.412,Worksheet!$D$32)","v":0},{"$f":"IF(Worksheet!$D$34=\"\",Worksheet!$D$32/3.412,Worksheet!$D$34)","v":0},{"$f":"Worksheet!$D$30","v":0},{"$f":"Worksheet!$D$26","v":0},{"$f":"Worksheet!$D$36","v":0},{"$f":"$BB$27","v":{"$error":"#REF!"}},{"$f":"$BC$27","v":{"$error":"#REF!"}},null,null,null,null,null,null,null,null,null,null,null,null,null,null,null,null,null,null,null,{"$f":"IF(OR(AG104=\"\",#REF!=\"\",#REF!=0,#REF!=\"\",#REF!=0,AR104=0,AR104=\"- Please Select -\"),\"\",INDEX(References!$BM$15:$BM$25,MATCH(AG104,References!$BL$15:$BL$25,0)))","v":{"$error":"#REF!"}},{"$f":"IF(OR(AR104=0,LEFT(AR104,9)=\"Heating (\"),0,IF(OR(AR104=\"Cooling (1)\",AR104=\"Heating & Cooling (1)\"),(#REF!/#REF!)*((C63/1000)*(1/E63)),IF(OR(AR104=\"Cooling (2)\",AR104=\"Heating & Cooling (2)\"),(#REF!/#REF!)*(I63/1000)*(1/K63),(#REF!/#REF!)*((C63/1000)*(1/E63)*G63+(I63/1000)*(1/K63)*M63))))*(1-(AN104/AP104))*(1-AJ104)","v":{"$error":"#VALUE!"}},{"$f":"IF(OR(AR104=0,AX104=0),0,IF(OR(AR104=\"Heating (1)\",AR104=\"Heating & Cooling (1)\"),(#REF!/#REF!)*((N63/1000)*(1/P63)),IF(OR(AR104=\"Heating (2)\",AR104=\"Heating & Cooling (2)\"),(#REF!/#REF!)*(T63/1000)*(1/V63),(#REF!/#REF!)*((N63/1000)*(1/P63)*S63+(T63/1000)*(1/V63)*Y63))))*(1-(AN104/AP104))*(1-AJ104)","v":{"$error":"#VALUE!"}},{"$f":"(#REF!/#REF!)*AW104*(1-(AN104/AP104))*(1-AJ104)","v":{"$error":"#REF!"}},{"$f":"AX63*References!$D$12","v":{"$error":"#REF!"}},{"$f":"(#REF!/#REF!)*AX104*(1-(AO104/AQ104))*(1-AK104)","v":{"$error":"#REF!"}},{"$f":"AZ63*References!$D$12","v":{"$error":"#REF!"}},{"$f":"((#REF!/#REF!)*AY104*(1-(AO104/AQ104))*(1-AK104))/10","v":{"$error":"#REF!"}},{"$f":"AX63+AZ63","v":{"$error":"#REF!"}},{"$f":"AY63+BA63+BB63","v":{"$error":"#REF!"}}]
[{"$f":"A63+1","v":3},null,null,null,{"$f":"Worksheet!$J$19","v":0},{"$f":"Worksheet!$J$17","v":0},{"$f":"Worksheet!$J$21","v":0},null,null,null,{"$f":"Worksheet!$J$32","v":0},{"$f":"Worksheet!$J$30","v":0},{"$f":"Worksheet!$J$34","v":0},{"$f":"Worksheet!$D$15","v":0},{"$f":"IF(Worksheet!$D$19=\"\",Worksheet!#REF!*3.412,Worksheet!$D$19)","v":{"$error":"#REF!"}},{"$f":"IF(Worksheet!#REF!=\"\",Worksheet!$D$19/3.412,Worksheet!#REF!)","v":{"$error":"#REF!"}},{"$f":"Worksheet!$D$17","v":0},{"$f":"Worksheet!$D$13","v":0},{"$f":"Worksheet!$D$21","v":0},{"$f":"Worksheet!$D$28","v":0},{"$f":"IF(Worksheet!$D$32=\"\",Worksheet!$D$34*3.412,Worksheet!$D$32)","v":0},{"$f":"IF(Worksheet!$D$34=\"\",Worksheet!$D$32/3.412,Worksheet!$D$34)","v":0},{"$f":"Worksheet!$D$30","v":0},{"$f":"Worksheet!$D$26","v":0},{"$f":"Worksheet!$D$36","v":0},{"$f":"$BB$27","v":{"$error":"#REF!"}},{"$f":"$BC$27","v":{"$error":"#REF!"}},null,null,null,null,null,null,null,null,null,null,null,null,null,null,null,null,null,null,null,{"$f":"IF(OR(AG105=\"\",#REF!=\"\",#REF!=0,#REF!=\"\",#REF!=0,AR105=0,AR105=\"- Please Select -\"),\"\",INDEX(References!$BM$15:$BM$25,MATCH(AG105,References!$BL$15:$BL$25,0)))","v":{"$error":"#REF!"}},{"$f":"IF(OR(AR105=0,LEFT(AR105,9)=\"Heating (\"),0,IF(OR(AR105=\"Cooling (1)\",AR105=\"Heating & Cooling (1)\"),(#REF!/#REF!)*((C64/1000)*(1/E64)),IF(OR(AR105=\"Cooling (2)\",AR105=\"Heating & Cooling (2)\"),(#REF!/#REF!)*(I64/1000)*(1/K64),(#REF!/#REF!)*((C64/1000)*(1/E64)*G64+(I64/1000)*(1/K64)*M64))))*(1-(AN105/AP105))*(1-AJ105)","v":{"$error":"#VALUE!"}},{"$f":"IF(OR(AR105=0,AX105=0),0,IF(OR(AR105=\"Heating (1)\",AR105=\"Heating & Cooling (1)\"),(#REF!/#REF!)*((N64/1000)*(1/P64)),IF(OR(AR105=\"Heating (2)\",AR105=\"Heating & Cooling (2)\"),(#REF!/#REF!)*(T64/1000)*(1/V64),(#REF!/#REF!)*((N64/1000)*(1/P64)*S64+(T64/1000)*(1/V64)*Y64))))*(1-(AN105/AP105))*(1-AJ105)","v":{"$error":"#VALUE!"}},{"$f":"(#REF!/#REF!)*AW105*(1-(AN105/AP105))*(1-AJ105)","v":{"$error":"#REF!"}},{"$f":"AX64*References!$D$12","v":{"$error":"#REF!"}},{"$f":"(#REF!/#REF!)*AX105*(1-(AO105/AQ105))*(1-AK105)","v":{"$error":"#REF!"}},{"$f":"AZ64*References!$D$12","v":{"$error":"#REF!"}},{"$f":"((#REF!/#REF!)*AY105*(1-(AO105/AQ105))*(1-AK105))/10","v":{"$error":"#REF!"}},{"$error":"#REF!"},{"$error":"#REF!"}]
[4]
[5]
[6]
[null,null,null,null,null,null,null,null,null,null,null,null,null,null,null,null,null,null,null,null,null,null,null,null,null,null,null,null,null,null,null,null,null,null,null,null,null,null,null,null,null,null,null,null,null,null,null,null,null,null,null,null,null,null,"Rebate:",{"$f":"IF(AND(AU62=\"\",AU63=\"\",AU64=\"\"),0,IF(References!$C$23=TRUE,MIN(References!$BN$5,Worksheet!$D$48),MIN(References!$BM$5,Worksheet!$D$48)))","v":{"$error":"#REF!"}}]
["HPwES tab - Air Sealing"]
[null,null,"HVAC Info",null,null,null,null,null,null,null,null,null,null,null,null,null,null,null,null,null,null,null,null,null,null,null,"EFLH Heating","Displacement Factor",null,null,null,null,null,null,null,null,null,null,null,null,null,null,null,null,null,null,"Measure Codes","kW Savings Cooling","kW Savings Heating","kWh Savings","MMBTU (kWh) Savings","MMBTU (FF) Savings","Total MMBTU Savings"]
["Unit Number",null,"Cooling 1 Capacity",null,"Cooling 1 EER","Cooling 1 SEER","Cooling 1 %",null,"Cooling 2 Capacity",null,"Cooling 2 EER","Cooling 2 SEER","Cooling 2 %","Heating 1 Capacity","Heating 1 HSPF","Heating 1 COP","Heating 1 Efficiency","Heating 1\nFuel","Heating 1 %","Heating 2 Capacity","Heating 2 HSPF","Heating 2 COP","Heating 2 Efficiency","Heating 2\nFuel","Heating 2 %","EFLH Cooling"]
[1,null,null,null,{"$f":"Worksheet!$J$19","v":0},{"$f":"Worksheet!$J$17","v":0},{"$f":"Worksheet!$J$21","v":0},null,null,null,{"$f":"Worksheet!$J$32","v":0},{"$f":"Worksheet!$J$30","v":0},{"$f":"Worksheet!$J$34","v":0},{"$f":"Worksheet!$D$15","v":0},{"$f":"Worksheet!$D$19","v":0},{"$f":"Worksheet!#REF!","v":{"$error":"#REF!"}},{"$f":"Worksheet!$D$17","v":0},{"$f":"Worksheet!$D$13","v":0},{"$f":"Worksheet!$D$21","v":0},{"$f":"Worksheet!$D$28","v":0},{"$f":"Worksheet!$D$32","v":0},{"$f":"Worksheet!$D$34","v":0},{"$f":"Worksheet!$D$30","v":0},{"$f":"Worksheet!$D$26","v":0},{"$f":"Worksheet!$D$36","v":0},{"$f":"$BB$27","v":{"$error":"#REF!"}},{"$f":"$BC$27","v":{"$error":"#REF!"}},null,null,null,null,null,null,null,null,null,null,null,null,null,null,null,null,null,null,null,{"$f":"IF(OR(B114=\"\",C114=\"\",B114=0,C114=0),\"\",References!$BM$26)","v":""},{"$f":"(D114/(G114*H114))*(#REF!*G72+#REF!*M72)","v":{"$error":"#REF!"}},{"$f":"(D114/(G114*H114))*(IF(RIGHT(I114,4)=\"Only\",0,#REF!*S72)+IF(RIGHT(J114,4)=\"Only\",0,#REF!*Y72))","v":{"$error":"#REF!"}},{"$f":"(D114/(G114*H114))*(IF(LEFT(I114,4)=\"Only\",0,#REF!*S72)+IF(LEFT(J114,4)=\"Only\",0,#REF!*Y72))","v":{"$error":"#REF!"}},{"$f":"AX72*References!$D$12","v":{"$error":"#REF!"}},{"$f":"(D114/(G114*H114))*(#REF!*G72+#REF!*Y72)/10","v":{"$error":"#REF!"}},{"$f":"AY72+AZ72","v":{"$error":"#REF!"}}]
[{"$f":"A72+1","v":2}]
[null,null,null,null,null,null,null,null,null,null,null,null,null,null,null,null,null,null,null,null,null,null,null,null,null,null,null,null,null,null,null,null,null,null,null,null,null,null,null,null,null,null,null,null,null,null,null,null,null,null,null,"Rebate:",{"$f":"IF(AU72=\"\",0,IF(References!$C$23=TRUE,MIN(References!$BN$6,Worksheet!$D$87),MIN(References!$BM$6,Worksheet!$D$87)))","v":0}]
["HPwES tab - Insulation"]
[null,null,"HVAC Info",null,null,null,null,null,null,null,null,null,null,null,null,null,null,null,null,null,null,null,null,null,null,null,"EFLH Heating","Displacement Factor"]
["Unit Number",null,"Cooling 1 Capacity",null,"Cooling 1 EER","Cooling 1 SEER","Cooling 1 %",null,"Cooling 2 Capacity",null,"Cooling 2 EER","Cooling 2 SEER","Cooling 2 %","Heating 1 Capacity","Heating 1 HSPF","Heating 1 COP","Heating 1 Efficiency","Heating 1\nFuel","Heating 1 %","Heating 2 Capacity","Heating 2 HSPF","Heating 2 COP","Heating 2 Efficiency","Heating 2\nFuel","Heating 2 %","EFLH Cooling",null,null,null,null,null,null,null,null,null,null,null,null,null,null,null,null,null,null,null,null,null,null,null,null,null,null,null,null,null,null,null,"Delta kW/1000sqft","Delta kWh/1000sqft","Delta therm/1000sqft",null,"Measure Code","Summer kW Savings","kW Savings Heating","kWh Savings ","MMBTU (kWh) Savings","MMBTU (FF) Savings","Total MMBTU Savings"]
[1,null,null,null,{"$f":"Worksheet!$J$19","v":0},{"$f":"Worksheet!$J$17","v":0},{"$f":"Worksheet!$J$21","v":0},null,null,null,{"$f":"Worksheet!$J$32","v":0},{"$f":"Worksheet!$J$30","v":0},{"$f":"Worksheet!$J$34","v":0},{"$f":"Worksheet!$D$15","v":0},{"$f":"Worksheet!$D$19","v":0},{"$f":"Worksheet!#REF!","v":{"$error":"#REF!"}},{"$f":"Worksheet!$D$17","v":0},{"$f":"Worksheet!$D$13","v":0},{"$f":"Worksheet!$D$21","v":0},{"$f":"Worksheet!$D$28","v":0},{"$f":"Worksheet!$D$32","v":0},{"$f":"Worksheet!$D$34","v":0},{"$f":"Worksheet!$D$30","v":0},{"$f":"Worksheet!$D$26","v":0},{"$f":"Worksheet!$D$36","v":0},{"$f":"$BB$27","v":{"$error":"#REF!"}},{"$f":"$BC$27","v":{"$error":"#REF!"}},null,null,null,null,null,null,null,null,null,null,null,null,null,null,null,null,null,null,null,null,null,null,null,null,null,null,null,null,null,null,{"$f":"AQ120*G78+AT120*M78","v":0},{"$f":"IF(AF120=\"AC w/ Fossil Fuel\",AK120*G78+AN120*M78,AK120*S78+AN120*Y78)","v":0},{"$f":"AW120*S78+AZ120*Y78","v":0},null,{"$f":"IF(OR(B120=\"\",C120=\"\",D120=\"\",AC120=0,AC120=\"\"),\"\",INDEX(References!$BM$27:$BM$30,MATCH(IF(AC120=\"Attic 2\",\"Attic\",AC120),References!$BL$27:$BL$30,0)))","v":""},{"$f":"BF78*$D120/1000","v":0},{"$f":"BF78*$D120/1000","v":0},0,{"$f":"BM78*References!$D$12","v":0},{"$f":"BH78/10*$D120/1000","v":0},{"$f":"BN78+BO78","v":0}]
[{"$f":"A78+1","v":2},null,null,null,{"$f":"Worksheet!$J$19","v":0},{"$f":"Worksheet!$J$17","v":0},{"$f":"Worksheet!$J$21","v":0},null,null,null,{"$f":"Worksheet!$J$32","v":0},{"$f":"Worksheet!$J$30","v":0},{"$f":"Worksheet!$J$34","v":0},{"$f":"Worksheet!$D$15","v":0},{"$f":"Worksheet!$D$19","v":0},{"$f":"Worksheet!#REF!","v":{"$error":"#REF!"}},{"$f":"Worksheet!$D$17","v":0},{"$f":"Worksheet!$D$13","v":0},{"$f":"Worksheet!$D$21","v":0},{"$f":"Worksheet!$D$28","v":0},{"$f":"Worksheet!$D$32","v":0},{"$f":"Worksheet!$D$34","v":0},{"$f":"Worksheet!$D$30","v":0},{"$f":"Worksheet!$D$26","v":0},{"$f":"Worksheet!$D$36","v":0},{"$f":"$BB$27","v":{"$error":"#REF!"}},{"$f":"$BC$27","v":{"$error":"#REF!"}},null,null,null,null,null,null,null,null,null,null,null,null,null,null,null,null,null,null,null,null,null,null,null,null,null,null,null,null,null,null,{"$f":"AQ121*G79+AT121*M79","v":0},{"$f":"IF(AF121=\"AC w/ Fossil Fuel\",AK121*G79+AN121*M79,AK121*S79+AN121*Y79)","v":0},{"$f":"AW121*S79+AZ121*Y79","v":0},null,{"$f":"IF(OR(B121=\"\",C121=\"\",D121=\"\",AC121=0,AC121=\"\"),\"\",INDEX(References!$BM$27:$BM$30,MATCH(IF(AC121=\"Attic 2\",\"Attic\",AC121),References!$BL$27:$BL$30,0)))","v":""},{"$f":"BF79*$D121/1000","v":0},0,0,{"$f":"BM79*References!$D$12","v":0},{"$f":"BH79/10*$D121/1000","v":0},{"$f":"BN79+BO79","v":0}]
[{"$f":"A79+1","v":3},null,null,null,{"$f":"Worksheet!$J$19","v":0},{"$f":"Worksheet!$J$17","v":0},{"$f":"Worksheet!$J$21","v":0},null,null,null,{"$f":"Worksheet!$J$32","v":0},{"$f":"Worksheet!$J$30","v":0},{"$f":"Worksheet!$J$34","v":0},{"$f":"Worksheet!$D$15","v":0},{"$f":"Worksheet!$D$19","v":0},{"$f":"Worksheet!#REF!","v":{"$error":"#REF!"}},{"$f":"Worksheet!$D$17","v":0},{"$f":"Worksheet!$D$13","v":0},{"$f":"Worksheet!$D$21","v":0},{"$f":"Worksheet!$D$28","v":0},{"$f":"Worksheet!$D$32","v":0},{"$f":"Worksheet!$D$34","v":0},{"$f":"Worksheet!$D$30","v":0},{"$f":"Worksheet!$D$26","v":0},{"$f":"Worksheet!$D$36","v":0},{"$f":"$BB$27","v":{"$error":"#REF!"}},{"$f":"$BC$27","v":{"$error":"#REF!"}},null,null,null,null,null,null,null,null,null,null,null,null,null,null,null,null,null,null,null,null,null,null,null,null,null,null,null,null,null,null,{"$f":"AQ122*G80+AT122*M80","v":0},{"$f":"IF(AF122=\"AC w/ Fossil Fuel\",AK122*G80+AN122*M80,AK122*S80+AN122*Y80)","v":0},{"$f":"AW122*S80+AZ122*Y80","v":0},null,{"$f":"IF(OR(B122=\"\",C122=\"\",D122=\"\",AC122=0,AC122=\"\"),\"\",INDEX(References!$BM$27:$BM$30,MATCH(IF(AC122=\"Attic 2\",\"Attic\",AC122),References!$BL$27:$BL$30,0)))","v":""},{"$f":"BF80*$D122/1000","v":0},0,0,{"$f":"BM80*References!$D$12","v":0},{"$f":"BH80/10*$D122/1000","v":0},0]
[4,null,null,null,{"$f":"Worksheet!$J$19","v":0},{"$f":"Worksheet!$J$17","v":0},{"$f":"Worksheet!$J$21","v":0},null,null,null,{"$f":"Worksheet!$J$32","v":0},{"$f":"Worksheet!$J$30","v":0},{"$f":"Worksheet!$J$34","v":0},{"$f":"Worksheet!$D$15","v":0},{"$f":"Worksheet!$D$19","v":0},{"$f":"Worksheet!#REF!","v":{"$error":"#REF!"}},{"$f":"Worksheet!$D$17","v":0},{"$f":"Worksheet!$D$13","v":0},{"$f":"Worksheet!$D$21","v":0},{"$f":"Worksheet!$D$28","v":0},{"$f":"Worksheet!$D$32","v":0},{"$f":"Worksheet!$D$34","v":0},{"$f":"Worksheet!$D$30","v":0},{"$f":"Worksheet!$D$26","v":0},{"$f":"Worksheet!$D$36","v":0},{"$f":"$BB$27","v":{"$error":"#REF!"}},{"$f":"$BC$27","v":{"$error":"#REF!"}},null,null,null,null,null,null,null,null,null,null,null,null,null,null,null,null,null,null,null,null,null,null,null,null,null,null,null,null,null,null,{"$f":"AQ123*G81+AT123*M81","v":0},{"$f":"IF(AF123=\"AC w/ Fossil Fuel\",AK123*G81+AN123*M81,AK123*S81+AN123*Y81)","v":0},{"$f":"AW123*S81+AZ123*Y81","v":0},null,{"$f":"IF(OR(B123=\"\",C123=\"\",D123=\"\",AC123=0,AC123=\"\"),\"\",INDEX(References!$BM$27:$BM$30,MATCH(IF(AC123=\"Attic 2\",\"Attic\",AC123),References!$BL$27:$BL$30,0)))","v":""},{"$f":"BF81*$D123/1000","v":0},0,0,{"$f":"BM81*References!$D$12","v":0},{"$f":"BH81/10*$D123/1000","v":0},0]
[5,null,null,null,{"$f":"Worksheet!$J$19","v":0},{"$f":"Worksheet!$J$17","v":0},{"$f":"Worksheet!$J$21","v":0},null,null,null,{"$f":"Worksheet!$J$32","v":0},{"$f":"Worksheet!$J$30","v":0},{"$f":"Worksheet!$J$34","v":0},{"$f":"Worksheet!$D$15","v":0},{"$f":"Worksheet!$D$19","v":0},{"$f":"Worksheet!#REF!","v":{"$error":"#REF!"}},{"$f":"Worksheet!$D$17","v":0},{"$f":"Worksheet!$D$13","v":0},{"$f":"Worksheet!$D$21","v":0},{"$f":"Worksheet!$D$28","v":0},{"$f":"Worksheet!$D$32","v":0},{"$f":"Worksheet!$D$34","v":0},{"$f":"Worksheet!$D$30","v":0},{"$f":"Worksheet!$D$26","v":0},{"$f":"Worksheet!$D$36","v":0},{"$f":"$BB$27","v":{"$error":"#REF!"}},{"$f":"$BC$27","v":{"$error":"#REF!"}},null,null,null,null,null,null,null,null,null,null,null,null,null,null,null,null,null,null,null,null,null,null,null,null,null,null,null,null,null,null,{"$f":"AQ124*G82+AT124*M82","v":0},{"$f":"IF(AF124=\"AC w/ Fossil Fuel\",AK124*G82+AN124*M82,AK124*S82+AN124*Y82)","v":0},{"$f":"AW124*S82+AZ124*Y82","v":0},null,{"$f":"IF(OR(B124=\"\",C124=\"\",D124=\"\",AC124=0,AC124=\"\"),\"\",INDEX(References!$BM$27:$BM$30,MATCH(IF(AC124=\"Attic 2\",\"Attic\",AC124),References!$BL$27:$BL$30,0)))","v":""},{"$f":"BF82*$D124/1000","v":0},0,0,{"$f":"BM82*References!$D$12","v":0},{"$f":"BH82/10*$D124/1000","v":0},0]
[6]
[7]
[8]
[9]
[10]
[null,null,null,null,null,null,null,null,null,null,null,null,null,null,null,null,null,null,null,null,null,null,null,null,null,null,null,null,null,null,null,null,null,null,null,null,null,null,null,null,null,null,null,null,null,null,null,null,null,null,null,null,null,null,null,null,null,null,null,null,null,null,null,null,null,null,"Rebate:",{"$f":"IF(AND(BJ78=\"\",BJ79=\"\",BJ80=\"\",BJ81=\"\",BJ82=\"\"),0,IF(References!$C$23=TRUE,MIN(References!$BN$7,Worksheet!$D$107),MIN(References!$BM$7,Worksheet!$D$107)))","v":0}]
[]
[]
[null,"HVAC Info"]
[null,"Cooling Type","Cooling Capacity","Cooling Equipment Efficiency Look Up","Cooling EER","Cooling SEER/IEER","Cooling %","Cooling CO2","Heating Type","Heating Capacity","Heating Equipment Efficiency Look Up","Heating HSPF","Heating COP/Efficiency","Fossil Fuel Source T/F","Heating %","Heating CO2","EFLH Cooling","EFLH Heating"]
["System 1",{"$f":"IF(Worksheet!$J$13=\"\",\"\",Worksheet!$J$13)","v":""},{"$f":"IF(Worksheet!$J$15=\"\",0,Worksheet!$J$15*12000)","v":0},{"$f":"IF(OR(B93=\"\",C93=0),\"\",B93&\" \"&INDEX(References!$C$27:$M$46,MATCH(Qualifying_Index!B93,References!$A$27:$A$46,0),MATCH(Qualifying_Index!C93,References!$B$26:$M$26,1)))","v":""},{"$f":"IF(D93=\"\",\"\",INDEX(References!$K$51:$K$104,MATCH(D93,References!$J$51:$J$104,0)))","v":""},{"$f":"IF(D93=\"\",\"\",INDEX(References!$L$51:$L$104,MATCH(D93,References!$J$51:$J$104,0)))","v":""},{"$f":"IF(D93=\"\",0,C93/(C93+C94))","v":0},{"$f":"IF(D93=\"\",0,INDEX(References!$O$51:$O$104,MATCH(D93,References!$J$51:$J$104,0)))","v":0},{"$f":"IF(Worksheet!$D$13=\"\",\"\",Worksheet!$D$13)","v":""},{"$f":"Worksheet!$D$15","v":0},{"$f":"IF(OR(I93=\"\",J93=0),\"\",I93&\" \"&INDEX(References!$C$27:$M$47,MATCH(I93,References!$A$27:$A$47,0),MATCH(J93,References!$B$26:$M$26,1)))","v":""},{"$f":"IF(K93=\"\",\"\",INDEX(References!$M$51:$M$104,MATCH(K93,References!$J$51:$J$104,0)))","v":""},{"$f":"IF(K93=\"\",\"\",INDEX(References!$N$51:$N$104,MATCH(K93,References!$J$51:$J$104,0)))","v":""},{"$f":"IF(K93=\"\",\"\",INDEX(References!$P$51:$P$104,MATCH(K93,References!$J$51:$J$104,0)))","v":""},{"$f":"IF(K93=\"\",\"\",J93/(J93+J94))","v":""},{"$f":"IF(K93=\"\",0,INDEX(References!$O$51:$O$104,MATCH(K93,References!$J$51:$J$104,0)))","v":0},{"$f":"References!C$74","v":{"$error":"#N/A"}},{"$f":"References!D$74","v":{"$error":"#N/A"}},null,"Total Rebate",{"$f":"SUM(AE103:AE105,AB114,W120:W124,AR135,Z142)","v":0}]
["System 2",{"$f":"IF(Worksheet!$J$26=\"\",\"\",Worksheet!$J$26)","v":""},{"$f":"IF(Worksheet!$J$28=\"\",0,Worksheet!$J$28*12000)","v":0},{"$f":"IF(OR(B94=\"\",C94=0),\"\",B94&\" \"&INDEX(References!$C$27:$M$46,MATCH(Qualifying_Index!B94,References!$A$27:$A$46,0),MATCH(Qualifying_Index!C94,References!$B$26:$M$26,1)))","v":""},{"$f":"IF(D94=\"\",0,INDEX(References!$K$51:$K$104,MATCH(D94,References!$J$51:$J$104,0)))","v":0},{"$f":"IF(D94=\"\",0,INDEX(References!$L$51:$L$104,MATCH(D94,References!$J$51:$J$104,0)))","v":0},{"$f":"IF(D94=\"\",0,C94/(C94+C93))","v":0},{"$f":"IF(D94=\"\",0,INDEX(References!$O$51:$O$104,MATCH(D94,References!$J$51:$J$104,0)))","v":0},{"$f":"IF(Worksheet!$D$26=\"\",\"\",Worksheet!$D$26)","v":""},{"$f":"Worksheet!$D$28","v":0},{"$f":"IF(OR(I94=\"\",J94=0),\"\",I94&\" \"&INDEX(References!$C$27:$M$47,MATCH(I94,References!$A$27:$A$47,0),MATCH(J94,References!$B$26:$M$26,1)))","v":""},{"$f":"IF(K94=\"\",\"\",INDEX(References!$M$51:$M$104,MATCH(K94,References!$J$51:$J$104,0)))","v":""},{"$f":"IF(K94=\"\",\"\",INDEX(References!$N$51:$N$104,MATCH(K94,References!$J$51:$J$104,0)))","v":""},{"$f":"IF(K94=\"\",FALSE,INDEX(References!$P$51:$P$104,MATCH(K94,References!$J$51:$J$104,0)))","v":false},{"$f":"IF(K94=\"\",0,J94/(J94+J93))","v":0},{"$f":"IF(K94=\"\",0,INDEX(References!$O$51:$O$104,MATCH(K94,References!$J$51:$J$104,0)))","v":0},{"$f":"References!C$74","v":{"$error":"#N/A"}},{"$f":"References!D$74","v":{"$error":"#N/A"}},null,"Total Cost",{"$f":"SUM(Worksheet!D48,Worksheet!D87,Worksheet!D107,Worksheet!D147,Worksheet!D165)","v":0}]
["Electric Average:",null,null,null,{"$f":"IFERROR((E93*G93)+(E94*G94),\"\")","v":""},{"$f":"IFERROR((F93*G93)+(F94*G94),\"\")","v":""},{"$f":"IF(SUM(G93:G94)=0,\"\",SUM(G93:G94))","v":""},{"$f":"(H93*G93)+(H94*G94)","v":0},null,null,null,{"$f":"IFERROR(IF(NOT(N93),L93*(O93/O95))+IF(AND(NOT(N94),L94=0),L94*(O94/O95)),0)","v":0},{"$f":"IFERROR(IF(NOT(N93),M93*(O93/O95))+IF(AND(NOT(N94)),M94*(O94/O95)),0)","v":0},null,{"$f":"SUMIF(N93:N94,FALSE,O93:O94)","v":0},{"$f":"IF(O95=0,0,IF(N93=FALSE,P93*(O93/O95))+IF(N94=FALSE,P94*(O94/O95)))","v":0},null,{"$f":"IF(N93=FALSE,R93*(O93/O95))+IF(N94=FALSE,R94*(O94/O95))","v":{"$error":"#N/A"}},null,"Calculated Rebate",{"$f":"U94*References!$A$20","v":0}]
["FF Average:",null,null,null,null,null,null,null,null,null,null,null,{"$f":"IFERROR(IF(N93,M93*(O93/O96))+IF(N94,M94*(O94/O96)),0)","v":0},null,{"$f":"SUMIF(N93:N94,TRUE,O93:O94)","v":0},{"$f":"IF(O96=0,0,IF(N93,P93*(O93/O96))+IF(N94,P94*(O94/O96)))","v":0},null,{"$f":"IF(N93=TRUE,R93*(O93/O96))+IF(N94=TRUE,R94*(O94/O96))","v":0},null,"Calculated rebate to expected rebate percentage",{"$f":"IF(U95>U93,100%,U95/U93)","v":{"$error":"#DIV/0!"}}]
[]
[]
[]
["Duct Sealing"]
[null,"Duct Sealing Information",null,null,null,null,null,null,null,null,null,null,null,null,null,null,null,null,null,null,null,null,null,null,null,null,null,null,null,null,null,null,"Duct Information"]
[null,"Pre CFM","Post CFM","Delta CFM","Heating and Cooling Selection","Cooling System","Heating System","Cooling System Name","Heating System Name","Delta Temp, cooling","Delta Temp, heating","SEER","Heating HSPF","Heating COP/Thermal Efficiency","EFLH Cooling","ELH Heating",null,"Cooling kWh","Heating kWh","Fossil Fuel MMBTUs","Summer kW","Winter kW","EE MMBTU Savings","BE MMBTU Savings","Total MMBTU Savings","EE CO2 Savings","BE CO2 Savings","Total CO2 Savings",null,"Measure Code","Rebate","Calculated Rebate","Duct  Location","Additional Attribute","Duct Info","Thermal Regain Factor cooling","Thermal Regain Factor heating","Duct Leakage Pre","Duct Leakage Post","Cooling Distribution Efficiency Baseline","Heating Distribution Efficiency Baseline","Cooling Distribution Efficiency ee","Heating Distribution Efficiency ee","HVAC System","Cooling 1 Y/N","Cooling 2 Y/N","Heating 1 Y/N","Heating 2 Y/N","HVAC Cooling Load","HVAC Electric Heating Load","HVAC FF Heating Load",null,null,"Measure Code","Cooling kWh","Heating kWh","Heating MMBTUs","Summer kW","Winter kW","EE MMBTU Savings","BE MMBTU Savings","Total MMBTU Savings","EE CO2 Savings","BE CO2 Savings","Total CO2 Savings"]
[null,{"$f":"Worksheet!D56","v":0},{"$f":"Worksheet!D58","v":0},{"$f":"B103-C103","v":0},{"$f":"Worksheet!D62","v":0},{"$f":"IF(E103=0,0,IF(OR(E103=References!$X$4,E103=References!$X$7),\"Cooling (1)\",IF(OR(E103=References!$X$5,E103=References!$X$9),\"Cooling (2)\",0)))","v":0},{"$f":"IF(E103=0,0,IF(OR(E103=References!$X$4,E103=References!$X$6),\"Heating (1)\",IF(OR(E103=References!$X$5,E103=References!$X$8),\"Heating (2)\",0)))","v":0},{"$f":"IF(F103=0,\"\",IF(F103=\"Cooling (1)\",$D$93,IF(F103=\"Cooling (2)\",$D$94,\"\")))","v":""},{"$f":"IF(G103=0,\"\",IF(G103=\"Heating (1)\",$K$93,IF(G103=\"Heating (2)\",$K$94,\"\")))","v":""},{"$f":"IF(H103=\"\",0,References!$AB$17)","v":0},{"$f":"IF(I103=\"\",0,References!$AB$18)","v":0},{"$f":"IF(F103=0,0,INDEX($F$93:$F$94,MATCH(H103,$D$93:$D$94,0)))","v":0},{"$f":"IF(G103=0,0,INDEX($L$93:$L$94,MATCH(I103,$K$93:$K$94,0)))","v":0},{"$f":"IF(G103=0,0,INDEX($M$93:$M$94,MATCH(I103,$K$93:$K$94,0)))","v":0},{"$f":"IF(F103=0,0,INDEX($Q$93:$Q$94,MATCH(H103,$D$93:$D$94,0)))","v":0},{"$f":"IF(G103=0,0,INDEX($R$93:$R$94,MATCH(I103,$K$93:$K$94,0)))","v":0},null,{"$f":"IF(OR(B103=0,C103=0,H103=\"\"),0,60*D103*J103*References!$AB$19*References!$AB$20*O103/(1000*Qualifying_Index!L103))","v":0},{"$f":"IF(OR(B103=0,C103=0,I103=\"\"),0,IF(INDEX($N$93:$N$94,MATCH(I103,$K$93:$K$94,0))=TRUE,0,IF(M103=0,60*D103*K103*References!$AB$19*References!$AB$20*P103/(3412*N103),60*D103*K103*References!$AB$19*References!$AB$20*P103/(1000*M103))))","v":0},{"$f":"IF(OR(B103=0,C103=0,I103=\"\"),0,IF(INDEX($N$93:$N$94,MATCH(I103,$K$93:$K$94,0))=FALSE,0,60*D103*K103*References!$AB$19*P103/(1000000*Qualifying_Index!N103)))","v":0},{"$f":"IF(OR(B103=0,C103=0,H103=\"\"),0,R103/O103)","v":0},{"$f":"IF(OR(B103=0,C103=0,I103=\"\"),0,S103/P103)","v":0},{"$f":"R103*References!$A$17+S103*References!$A$17+T103","v":0},{"$f":"0","v":0},{"$f":"W103+X103","v":0},{"$f":"IF(K103=0,\"\",R103*$H$95+S103*$P$95+T103*$P$96)","v":""},{"$f":"0","v":0},{"$f":"IF(K103=0,\"\",Z103+AA103)","v":""},null,null,{"$f":"IF(OR(Y103=0,Y103=\"\"),0,200)","v":0},{"$f":"IF(OR(AE103=\"\",AE103=0),0,$U$96*AE103)","v":0},{"$f":"Worksheet!$D$52","v":0},{"$f":"IF(OR(Worksheet!$D$54=\"\",RIGHT(Worksheet!$D$52,5)=\"Attic\",RIGHT(Worksheet!$D$52,6)=\"Garage\"),\"\",Worksheet!$D$54)","v":""},{"$f":"AG103&\" \"&AH103","v":"0 "},{"$f":"IF(OR($AG103=\"\",$AG103=0),0,INDEX(References!$AB$4:$AB$11,MATCH($AI103,References!$AA$4:$AA$11,0)))","v":0},{"$f":"IF(OR($AG103=\"\",$AG103=0),0,INDEX(References!$AC$4:$AC$11,MATCH($AI103,References!$AA$4:$AA$11,0)))","v":0},{"$f":"IF(Worksheet!D60=0,0,ROUND(Worksheet!$D$56/Worksheet!D60,2))","v":0},{"$f":"IF(Worksheet!D60=0,0,ROUND(Worksheet!$D$58/Worksheet!D60,2))","v":0},{"$f":"IF(OR($AG103=\"\",$AG103=0),\"\",INDEX(IF(References!$B$74=References!$B$52,References!$Z$35:$Z$58,IF(References!$B$74=References!$B$57,References!$Y$83:$Y$106,IF(References!$B$74=References!$B$69,References!$Y$107:$Y$130,References!$Y$131:$Y$154))),MATCH(AL103,References!$Y$35:$Y$58,1)))","v":""},{"$f":"IF(OR($AG103=\"\",$AG103=0),\"\",INDEX(IF(References!$B$74=References!$B$52,References!$AA$35:$AA$58,IF(References!$B$74=References!$B$57,References!$AA$83:$AA$106,IF(References!$B$74=References!$B$69,References!$AA$107:$AA$130,References!$AA$131:$AA$154))),MATCH(AL103,References!$Y$35:$Y$58,1)))","v":""},{"$f":"IF(OR($AG103=\"\",$AG103=0),\"\",INDEX(IF(References!$B$74=References!$B$52,References!$AB$35:$AB$58,IF(References!$B$74=References!$B$57,References!$AB$83:$AB$106,IF(References!$B$74=References!$B$69,References!$AB$107:$AB$130,References!$AB$131:$AB$154))),MATCH(AM103,References!$Y$35:$Y$58,1)))","v":""},{"$f":"IF(OR($AG103=\"\",$AG103=0),\"\",INDEX(IF(References!$B$74=References!$B$52,References!$AC$35:$AC$58,IF(References!$B$74=References!$B$57,References!$AC$83:$AC$106,IF(References!$B$74=References!$B$69,References!$AC$107:$AC$130,References!$AC$131:$AC$154))),MATCH(AM103,References!$Y$35:$Y$58,1)))","v":""},{"$f":"Worksheet!$D$62","v":0},{"$f":"IF(OR(AR103=References!$X$4,AR103=References!$X$10,AR103=References!$X$7,AR103=References!$X$12),TRUE)","v":false},{"$f":"IF(OR(AR103=References!$X$10,AR103=References!$X$5,AR103=References!$X$9,AR103=References!$X$12),TRUE)","v":false},{"$f":"IF(OR(AR103=References!$X$4,AR103=References!$X$10,AR103=References!$X$6,AR103=References!$X$11),TRUE)","v":false},{"$f":"IF(OR(AR103=References!$X$5,AR103=References!$X$10,AR103=References!$X$6,AR103=References!$X$11),TRUE)","v":false},{"$f":"IF(AS103,($C$93/1000)*(1/$F$93)*$Q$93,0)+IF(AT103,($C$94/1000)*(1/$F$94)*$Q$94,0)","v":0},{"$f":"IF(AND(AU103=TRUE,$N$93=FALSE),($J$93/1000)*(1/$L$93)*$R$93,0)+IF(AND(AV103=TRUE,$N$94=FALSE),($J$94/1000)*(1/$L$94)*$R$94,0)","v":0},{"$f":"IF(AND(AU103=TRUE,$N$93=TRUE),($J$93/1000000)*(1/$M$93)*$R$93,0)+IF(AND(AV103=TRUE,$N$94=TRUE),($J$94/1000000)*(1/$M$94)*$R$94,0)","v":0},null,null,{"$f":"IF(OR(AG103=0,AH103=0,AL103=0,AM103=0,AR103=0),\"\",References!$G$3)","v":""},{"$f":"IF(OR(AR103=0,AI103=0),0,AW103*(1-(AN103/AP103))*(1-AJ103))","v":0},{"$f":"IF(OR(AR103=0,AI103=0),0,AX103*(1-(AO103/AQ103))*(1-AK103))","v":0},{"$f":"IF(OR(AR103=0,AI103=0),0,AY103*(1-(AO103/AQ103))*(1-AK103))","v":0},{"$f":"IF(OR(AR103=0,AI103=0),0,(IF(AS103,($C$93/1000)*(1/$E$93),0)+IF(AT103,($C$94/1000)*(1/$E$94),0))*(1-(AN103/AP103))*(1-AJ103))","v":0},{"$f":"IF(OR(AR103=0,AI103=0),0,(IF(AND(AU103=TRUE,$N$93=FALSE),($J$93/1000)*(1/$M$93),0)+IF(AND(AV103=TRUE,$N$94=FALSE),($J$94/1000)*(1/$M$94),0))*(1-(AO103/AQ103))*(1-AK103))","v":0},{"$f":"BC103*References!$A$17+BD103*References!$A$17+BE103","v":0},{"$f":"0","v":0},{"$f":"BH103+BI103","v":0},{"$f":"(BC103*IF(AS103,$H$93,IF(AT103,$H$94,0)))+(BD103*IF(AND(AU103,NOT($N$93)),$P$93,IF(AND(AV103,NOT($N$94)),$P$94,0)))+BE103*IF(AND(AU103,$N$93),$P$93,IF(AND(AV103,$N$94),$P$94,0))","v":{"$error":"#VALUE!"}},{"$f":"0","v":0},{"$f":"BK103+BL103","v":{"$error":"#VALUE!"}}]
[null,{"$f":"Worksheet!J56","v":0},{"$f":"Worksheet!J58","v":0},{"$f":"B104-C104","v":0},{"$f":"Worksheet!J62","v":0},{"$f":"IF(E104=0,0,IF(OR(E104=References!$X$4,E104=References!$X$7),\"Cooling (1)\",IF(OR(E104=References!$X$5,E104=References!$X$9),\"Cooling (2)\",0)))","v":0},{"$f":"IF(E104=0,0,IF(OR(E104=References!$X$4,E104=References!$X$6),\"Heating (1)\",IF(OR(E104=References!$X$5,E104=References!$X$8),\"Heating (2)\",0)))","v":0},{"$f":"IF(F104=0,\"\",IF(F104=\"Cooling (1)\",$D$93,IF(F104=\"Cooling (2)\",$D$94,\"\")))","v":""},{"$f":"IF(G104=0,\"\",IF(G104=\"Heating (1)\",$K$93,IF(G104=\"Heating (2)\",$K$94,\"\")))","v":""},{"$f":"IF(H104=\"\",0,References!$AB$17)","v":0},{"$f":"IF(I104=\"\",0,References!$AB$18)","v":0},{"$f":"IF(F104=0,0,INDEX($F$93:$F$94,MATCH(H104,$D$93:$D$94,0)))","v":0},{"$f":"IF(G104=0,0,INDEX($L$93:$L$94,MATCH(I104,$K$93:$K$94,0)))","v":0},{"$f":"IF(G104=0,0,INDEX($M$93:$M$94,MATCH(I104,$K$93:$K$94,0)))","v":0},{"$f":"IF(F104=0,0,INDEX($Q$93:$Q$94,MATCH(H104,$D$93:$D$94,0)))","v":0},{"$f":"IF(G104=0,0,INDEX($R$93:$R$94,MATCH(I104,$K$93:$K$94,0)))","v":0},null,{"$f":"IF(OR(B104=0,C104=0,H104=\"\"),0,60*D104*J104*References!$AB$19*References!$AB$20*O104/(1000*Qualifying_Index!L104))","v":0},{"$f":"IF(OR(B104=0,C104=0,I104=\"\"),0,IF(INDEX($N$93:$N$94,MATCH(I104,$K$93:$K$94,0))=TRUE,0,IF(M104=0,60*D104*K104*References!$AB$19*References!$AB$20*P104/(3412*N104),60*D104*K104*References!$AB$19*References!$AB$20*P104/(1000*M104))))","v":0},{"$f":"IF(OR(B104=0,C104=0,I104=\"\"),0,IF(INDEX($N$93:$N$94,MATCH(I104,$K$93:$K$94,0))=FALSE,0,60*D104*K104*References!$AB$19*P104/(1000000*Qualifying_Index!N104)))","v":0},{"$f":"IF(OR(B104=0,C104=0,H104=\"\"),0,R104/O104)","v":0},{"$f":"IF(OR(B104=0,C104=0,I104=\"\"),0,S104/P104)","v":0},{"$f":"R104*References!$A$17+S104*References!$A$17+T104","v":0},{"$f":"0","v":0},{"$f":"W104+X104","v":0},{"$f":"IF(K104=0,\"\",R104*$H$95+S104*$P$95+T104*$P$96)","v":""},{"$f":"0","v":0},{"$f":"IF(K104=0,\"\",Z104+AA104)","v":""},null,null,{"$f":"IF(OR(Y104=0,Y104=\"\"),0,200)","v":0},{"$f":"IF(OR(AE104=\"\",AE104=0),0,$U$96*AE104)","v":0},{"$f":"Worksheet!$J$52","v":0},{"$f":"IF(OR(Worksheet!J54=\"\",RIGHT(Worksheet!J52,5)=\"Attic\",RIGHT(Worksheet!J52,6)=\"Garage\"),\"\",Worksheet!$J$54)","v":""},{"$f":"AG104&\" \"&AH104","v":"0 "},{"$f":"IF(OR($AG104=\"\",$AG104=0),0,INDEX(References!$AB$4:$AB$11,MATCH($AI104,References!$AA$4:$AA$11,0)))","v":0},{"$f":"IF(OR($AG104=\"\",$AG104=0),0,INDEX(References!$AC$4:$AC$11,MATCH($AI104,References!$AA$4:$AA$11,0)))","v":0},{"$f":"IF(Worksheet!J60=0,0,ROUND(Worksheet!$J$56/Worksheet!J60,2))","v":0},{"$f":"IF(Worksheet!J60=0,0,ROUND(Worksheet!$J$58/Worksheet!J60,2))","v":0},{"$f":"IF(OR($AG104=\"\",$AG104=0),\"\",INDEX(IF(References!$B$74=References!$B$52,References!$Z$35:$Z$58,IF(References!$B$74=References!$B$57,References!$Y$83:$Y$106,IF(References!$B$74=References!$B$69,References!$Y$107:$Y$130,References!$Y$131:$Y$154))),MATCH(AL104,References!$Y$35:$Y$58,1)))","v":""},{"$f":"IF(OR($AG104=\"\",$AG104=0),\"\",INDEX(IF(References!$B$74=References!$B$52,References!$AA$35:$AA$58,IF(References!$B$74=References!$B$57,References!$AA$83:$AA$106,IF(References!$B$74=References!$B$69,References!$AA$107:$AA$130,References!$AA$131:$AA$154))),MATCH(AL104,References!$Y$35:$Y$58,1)))","v":""},{"$f":"IF(OR($AG104=\"\",$AG104=0),\"\",INDEX(IF(References!$B$74=References!$B$52,References!$AB$35:$AB$58,IF(References!$B$74=References!$B$57,References!$AB$83:$AB$106,IF(References!$B$74=References!$B$69,References!$AB$107:$AB$130,References!$AB$131:$AB$154))),MATCH(AM104,References!$Y$35:$Y$58,1)))","v":""},{"$f":"IF(OR($AG104=\"\",$AG104=0),\"\",INDEX(IF(References!$B$74=References!$B$52,References!$AC$35:$AC$58,IF(References!$B$74=References!$B$57,References!$AC$83:$AC$106,IF(References!$B$74=References!$B$69,References!$AC$107:$AC$130,References!$AC$131:$AC$154))),MATCH(AM104,References!$Y$35:$Y$58,1)))","v":""},{"$f":"Worksheet!$J$62","v":0},{"$f":"IF(OR(AR104=References!$X$4,AR104=References!$X$10,AR104=References!$X$7,AR104=References!$X$12),TRUE)","v":false},{"$f":"IF(OR(AR104=References!$X$10,AR104=References!$X$5,AR104=References!$X$9,AR104=References!$X$12),TRUE)","v":false},{"$f":"IF(OR(AR104=References!$X$4,AR104=References!$X$10,AR104=References!$X$6,AR104=References!$X$11),TRUE)","v":false},{"$f":"IF(OR(AR104=References!$X$5,AR104=References!$X$10,AR104=References!$X$6,AR104=References!$X$11),TRUE)","v":false},{"$f":"IF(AS104,($C$93/1000)*(1/$F$93)*$Q$93,0)+IF(AT104,($C$94/1000)*(1/$F$94)*$Q$94,0)","v":0},{"$f":"IF(AND(AU104=TRUE,$N$93=FALSE),($J$93/1000)*(1/$L$93)*$R$93,0)+IF(AND(AV104=TRUE,$N$94=FALSE),($J$94/1000)*(1/$L$94)*$R$94,0)","v":0},{"$f":"IF(AND(AU104=TRUE,$N$93=TRUE),($J$93/1000000)*(1/$M$93)*$R$93,0)+IF(AND(AV104=TRUE,$N$94=TRUE),($J$94/1000000)*(1/$M$94)*$R$94,0)","v":0},null,null,{"$f":"IF(OR(AG104=0,AH104=0,AL104=0,AM104=0,AR104=0),\"\",References!$G$3)","v":""},{"$f":"IF(OR(AR104=0,AI104=0),0,AW104*(1-(AN104/AP104))*(1-AJ104))","v":0},{"$f":"IF(OR(AR104=0,AI104=0),0,AX104*(1-(AO104/AQ104))*(1-AK104))","v":0},{"$f":"IF(OR(AR104=0,AI104=0),0,AY104*(1-(AO104/AQ104))*(1-AK104))","v":0},{"$f":"IF(OR(AR104=0,AI104=0),0,(IF(AS104,($C$93/1000)*(1/$E$93),0)+IF(AT104,($C$94/1000)*(1/$E$94),0))*(1-(AN104/AP104))*(1-AJ104))","v":0},{"$f":"IF(OR(AR104=0,AI104=0),0,(IF(AND(AU104=TRUE,$N$93=FALSE),($J$93/1000)*(1/$M$93),0)+IF(AND(AV104=TRUE,$N$94=FALSE),($J$94/1000)*(1/$M$94),0))*(1-(AO104/AQ104))*(1-AK104))","v":0},{"$f":"BC104*References!$A$17+BD104*References!$A$17+BE104","v":0},{"$f":"0","v":0},{"$f":"BH104+BI104","v":0},{"$f":"(BC104*IF(AS104,$H$93,IF(AT104,$H$94,0)))+(BD104*IF(AND(AU104,NOT($N$93)),$P$93,IF(AND(AV104,NOT($N$94)),$P$94,0)))+BE104*IF(AND(AU104,$N$93),$P$93,IF(AND(AV104,$N$94),$P$94,0))","v":{"$error":"#VALUE!"}},{"$f":"0","v":0},{"$f":"BK104+BL104","v":{"$error":"#VALUE!"}}]
[null,{"$f":"Worksheet!D70","v":0},{"$f":"Worksheet!D72","v":0},0,{"$f":"Worksheet!D76","v":0},{"$f":"IF(E105=0,0,IF(OR(E105=References!$X$4,E105=References!$X$7),\"Cooling (1)\",IF(OR(E105=References!$X$5,E105=References!$X$9),\"Cooling (2)\",0)))","v":0},{"$f":"IF(E105=0,0,IF(OR(E105=References!$X$4,E105=References!$X$6),\"Heating (1)\",IF(OR(E105=References!$X$5,E105=References!$X$8),\"Heating (2)\",0)))","v":0},"","",{"$f":"IF(H105=\"\",0,References!$AB$17)","v":0},{"$f":"IF(I105=\"\",0,References!$AB$18)","v":0},0,0,0,0,0,null,{"$f":"IF(OR(B105=0,C105=0,H105=\"\"),0,60*D105*J105*References!$AB$19*References!$AB$20*O105/(1000*Qualifying_Index!L105))","v":0},{"$f":"IF(OR(B105=0,C105=0,I105=\"\"),0,IF(INDEX($N$93:$N$94,MATCH(I105,$K$93:$K$94,0))=TRUE,0,IF(M105=0,60*D105*K105*References!$AB$19*References!$AB$20*P105/(3412*N105),60*D105*K105*References!$AB$19*References!$AB$20*P105/(1000*M105))))","v":0},{"$f":"IF(OR(B105=0,C105=0,I105=\"\"),0,IF(INDEX($N$93:$N$94,MATCH(I105,$K$93:$K$94,0))=FALSE,0,60*D105*K105*References!$AB$19*P105/(1000000*Qualifying_Index!N105)))","v":0},0,0,{"$f":"R105*References!$A$17+S105*References!$A$17+T105","v":0},{"$f":"0","v":0},0,{"$f":"IF(K105=0,\"\",R105*$H$95+S105*$P$95+T105*$P$96)","v":""},{"$f":"0","v":0},{"$f":"IF(K105=0,\"\",Z105+AA105)","v":""},null,null,0,0,{"$f":"Worksheet!$D$66","v":0},{"$f":"IF(OR(Worksheet!D68=\"\",RIGHT(Worksheet!$D$66,5)=\"Attic\",RIGHT(Worksheet!$D$66,6)=\"Garage\"),\"\",Worksheet!$D$68)","v":""},{"$f":"AG105&\" \"&AH105","v":"0 "},{"$f":"IF(OR($AG105=\"\",$AG105=0),0,INDEX(References!$AB$4:$AB$11,MATCH($AI105,References!$AA$4:$AA$11,0)))","v":0},{"$f":"IF(OR($AG105=\"\",$AG105=0),0,INDEX(References!$AC$4:$AC$11,MATCH($AI105,References!$AA$4:$AA$11,0)))","v":0},{"$f":"IF(Worksheet!D74=0,0,ROUND(Worksheet!$D$70/Worksheet!D74,2))","v":0},{"$f":"IF(Worksheet!D74=0,0,ROUND(Worksheet!$D$72*100/Worksheet!D74,2))","v":0},{"$f":"IF(OR($AG105=\"\",$AG105=0),\"\",INDEX(IF(References!$B$74=References!$B$52,References!$Z$35:$Z$58,IF(References!$B$74=References!$B$57,References!$Y$83:$Y$106,IF(References!$B$74=References!$B$69,References!$Y$107:$Y$130,References!$Y$131:$Y$154))),MATCH(AL105,References!$Y$35:$Y$58,1)))","v":""},{"$f":"IF(OR($AG105=\"\",$AG105=0),\"\",INDEX(IF(References!$B$74=References!$B$52,References!$AA$35:$AA$58,IF(References!$B$74=References!$B$57,References!$AA$83:$AA$106,IF(References!$B$74=References!$B$69,References!$AA$107:$AA$130,References!$AA$131:$AA$154))),MATCH(AL105,References!$Y$35:$Y$58,1)))","v":""},{"$f":"IF(OR($AG105=\"\",$AG105=0),\"\",INDEX(IF(References!$B$74=References!$B$52,References!$AB$35:$AB$58,IF(References!$B$74=References!$B$57,References!$AB$83:$AB$106,IF(References!$B$74=References!$B$69,References!$AB$107:$AB$130,References!$AB$131:$AB$154))),MATCH(AM105,References!$Y$35:$Y$58,1)))","v":""},{"$f":"IF(OR($AG105=\"\",$AG105=0),\"\",INDEX(IF(References!$B$74=References!$B$52,References!$AC$35:$AC$58,IF(References!$B$74=References!$B$57,References!$AC$83:$AC$106,IF(References!$B$74=References!$B$69,References!$AC$107:$AC$130,References!$AC$131:$AC$154))),MATCH(AM105,References!$Y$35:$Y$58,1)))","v":""},{"$f":"Worksheet!$D$76","v":0},{"$f":"IF(OR(AR105=References!$X$4,AR105=References!$X$10,AR105=References!$X$7,AR105=References!$X$12),TRUE)","v":false},{"$f":"IF(OR(AR105=References!$X$10,AR105=References!$X$5,AR105=References!$X$9,AR105=References!$X$12),TRUE)","v":false},{"$f":"IF(OR(AR105=References!$X$4,AR105=References!$X$10,AR105=References!$X$6,AR105=References!$X$11),TRUE)","v":false},{"$f":"IF(OR(AR105=References!$X$5,AR105=References!$X$10,AR105=References!$X$6,AR105=References!$X$11),TRUE)","v":false},{"$f":"IF(AS105,($C$93/1000)*(1/$F$93)*$Q$93,0)+IF(AT105,($C$94/1000)*(1/$F$94)*$Q$94,0)","v":0},{"$f":"IF(AND(AU105=TRUE,$N$93=FALSE),($J$93/1000)*(1/$L$93)*$R$93,0)+IF(AND(AV105=TRUE,$N$94=FALSE),($J$94/1000)*(1/$L$94)*$R$94,0)","v":0},{"$f":"IF(AND(AU105=TRUE,$N$93=TRUE),($J$93/1000000)*(1/$M$93)*$R$93,0)+IF(AND(AV105=TRUE,$N$94=TRUE),($J$94/1000000)*(1/$M$94)*$R$94,0)","v":0},null,null,{"$f":"IF(OR(AG105=0,AH105=0,AL105=0,AM105=0,AR105=0),\"\",References!$G$3)","v":""},{"$f":"IF(OR(AR105=0,AI105=0),0,AW105*(1-(AN105/AP105))*(1-AJ105))","v":0},{"$f":"IF(OR(AR105=0,AI105=0),0,AX105*(1-(AO105/AQ105))*(1-AK105))","v":0},{"$f":"IF(OR(AR105=0,AI105=0),0,AY105*(1-(AO105/AQ105))*(1-AK105))","v":0},0,0,{"$f":"BC105*References!$A$17+BD105*References!$A$17+BE105","v":0},{"$f":"0","v":0},0,{"$error":"#VALUE!"},{"$f":"0","v":0},{"$error":"#VALUE!"}]
[null,null,null,null,null,null,null,null,null,null,null,null,null,null,null,null,null,null,null,null,null,null,null,null,null,null,null,null,null,null,null,null,null,{"$f":"IF(OR(Worksheet!$D$54=\"\",RIGHT(Worksheet!$D$52,5)<>\"Space\",RIGHT(Worksheet!$D$52,8)<>\"Basement\"),\"\",Worksheet!$D$54)","v":""}]
[null,null,null,null,null,null,null,null,null,null,null,null,null,null,null,null,null,null,null,null,null,null,null,null,null,null,null,null,null,null,null,null,null,{"$f":"IF(OR(Worksheet!$D$54=\"\",RIGHT(Worksheet!$D$52,5)<>\"Space\",RIGHT(Worksheet!$D$52,8)<>\"Basement\"),\"\",Worksheet!$D$54)","v":""}]
[null,null,null,null,null,null,null,null,null,null,null,null,null,null,null,null,null,null,null,null,null,null,null,null,null,null,null,null,null,null,null,null,null,{"$f":"IF(OR(Worksheet!$D$54=\"\",RIGHT(Worksheet!$D$52,5)<>\"Space\",RIGHT(Worksheet!$D$52,8)<>\"Basement\"),\"\",Worksheet!$D$54)","v":""}]
[]
[]
["Air Sealing"]
[null,"Air Sealing Information"]
[null,"Pre CFM50","Post CFM50","Delta CFM50","Shielding Class","SF","CDD","HDD","Fn,cooling","Fn,heating",null,null,null,null,"Cooling kWh","Heating kWh","Fossil Fuel MMBTUs","Summer kW","Winter kW","EE MMBTU Savings","BE MMBTU Savings","Total MMBTU Savings","EE CO2 Savings","BE CO2 Savings","Total CO2 Savings",null,"Measure Code","Rebate","Calculated Rebate"]
[null,{"$f":"Worksheet!D92","v":0},{"$f":"Worksheet!D94","v":0},{"$f":"B114-C114","v":0},{"$f":"Worksheet!D90","v":0},{"$f":"Worksheet!D97","v":0},{"$f":"References!$AB$23","v":1160},{"$f":"References!$AB$24","v":4671},{"$f":"IF(OR(E114=\"\",E114=0),0,INDEX(References!$AF$4:$AF$8,MATCH(E114,References!$AE$4:$AE$8,0)))","v":0},{"$f":"IF(OR(E114=\"\",E114=0),0,INDEX(References!$AG$4:$AG$8,MATCH(E114,References!$AE$4:$AE$8,0)))","v":0},null,null,null,null,{"$f":"IF(OR(B114=0,C114=0,G95=\"\"),0,D114/(I114*References!$AB$21)*F114*1.08*References!AB22*G114*24/(F95*1000))","v":0},{"$f":"IF(OR(B114=0,C114=0,$O$95=0),0,IF(AND(N93=TRUE,N94=TRUE),0,IF(OR(L95=0,L95=\"\"),D114/(J114*References!$AB$21)*F114*1.08*References!AB22*G114*24/(M95*3412)*$O$95,D114/(J114*References!$AB$21)*F114*1.08*References!AB22*G114*24/(L95*1000)*$O$95)))","v":0},{"$f":"IF(OR(B114=0,C114=0,O96=0),0,D114/(J114*References!$AB$21)*F114*1.08*References!AB22*G114*24/(M96*1000000)*$O$96)","v":0},{"$f":"IF(OR(B114=0,C114=0),0,D114/(I114*References!$AB$21)*F114*1.08*References!AB22/(E95*1000))","v":0},{"$f":"IF(OR(B114=0,C114=0),0,IF(O95=0,0,D114/(J114*References!$AB$21)*F114*1.08*References!AB22/(M95*3412)*$O$95))","v":0},{"$f":"O114*References!$A$17+P114*References!$A$17+Q114","v":0},{"$f":"0","v":0},{"$f":"T114+U114","v":0},{"$f":"IF(AND(O114=0,P114=0,Q114=0),0,O114*H95+P114*P95+Q114*P96)","v":0},{"$f":"0","v":0},{"$f":"IF(W114=0,\"\",W114+X114)","v":""},null,null,{"$f":"IF(T114=0,0,Worksheet!D97*References!$N$4)","v":0},{"$f":"IF(OR(AB114=\"\",AB114=0),0,$U$96*AB114)","v":0}]
[]
[]
[]
["Insulation"]
[null,"Existing R-Value","Installed R-Value","Square Foot of Insulation Installed","CDD","HDD","F,framing",null,"Cooling kWh","Heating kWh","Fossil Fuel MMBTUs","Summer kW","Winter kW","EE MMBTU Savings","BE MMBTU Savings","Total MMBTU Savings","EE CO2 Savings","BE CO2 Savings","Total CO2 Savings",null,null,"Measure Code","Rebate","Calculated Rebate"]
[null,{"$f":"Worksheet!D114","v":0},{"$f":"IF(AND(Worksheet!D110=\"Exterior Walls\",Worksheet!D116>References!$BN$94),References!$BN$94,IF(Worksheet!D116>References!$BN$98,References!$BN$98,Worksheet!D116))","v":0},{"$f":"Worksheet!D112","v":0},{"$f":"References!$AB$23","v":1160},{"$f":"References!$AB$24","v":4671},{"$f":"IF(OR(Worksheet!D110=\"\",Worksheet!D110=0),0,INDEX(References!$BG$4:$BG$7,MATCH(Worksheet!D110,References!$BF$4:$BF$7,0)))","v":0},null,{"$f":"IF(OR(B120=0,C120=0,D120=0,$G$95=\"\"),0,((1/B120)-(1/C120))*D120*(1-G120)*E120*24/(1000*$F$95))","v":0},{"$f":"IF(OR(B120=0,C120=0,D120=0,$O$95=0),0,((1/B120)-(1/C120))*D120*(1-G120)*F120*24/(3412*$M$95)*$O$95)","v":0},{"$f":"IF(OR(B120=0,C120=0,D120=0,$O$96=0),0,((1/B120)-(1/C120))*D120*(1-G120)*F120*24/(1000000*$M$96)*$O$96)","v":0},{"$f":"IF(OR(B120=0,C120=0,D120=0),0,((1/B120)-(1/C120))*D120*(1-G120)/(1000*$E$95))","v":0},{"$f":"IF(OR(B120=0,C120=0,D120=0,$O$95=0),0,((1/B120)-(1/C120))*D120*(1-G120)/(3412*$M$95)*$O$95)","v":0},{"$f":"I120*References!$A$17+J120*References!$A$17+K120","v":0},{"$f":"0","v":0},{"$f":"N120+O120","v":0},{"$f":"IF(D120=0,\"\",I120*$H$95+J120*$P$95+K120*$P$96)","v":""},{"$f":"0","v":0},{"$f":"IF(D120=0,\"\",Q120+R120)","v":""},null,null,null,{"$f":"IFERROR(IF(N120=0,0,D120*References!$N$5),0)","v":0},{"$f":"IF(OR(W120=\"\",W120=0),0,$U$96*W120)","v":0}]
[null,{"$f":"Worksheet!J114","v":0},{"$f":"IF(AND(Worksheet!J110=\"Exterior Walls\",Worksheet!J116>References!$BN$94),References!$BN$94,IF(Worksheet!J116>References!$BN$98,References!$BN$98,Worksheet!J116))","v":0},{"$f":"Worksheet!J112","v":0},{"$f":"References!$AB$23","v":1160},{"$f":"References!$AB$24","v":4671},{"$f":"IF(OR(Worksheet!J110=\"\",Worksheet!J110=0),0,INDEX(References!$BG$4:$BG$7,MATCH(Worksheet!J110,References!$BF$4:$BF$7,0)))","v":0},null,{"$f":"IF(OR(B121=0,C121=0,D121=0,$G$95=\"\"),0,((1/B121)-(1/C121))*D121*(1-G121)*E121*24/(1000*$F$95))","v":0},{"$f":"IF(OR(B121=0,C121=0,D121=0,$O$95=0),0,((1/B121)-(1/C121))*D121*(1-G121)*F121*24/(3412*$M$95)*$O$95)","v":0},{"$f":"IF(OR(B121=0,C121=0,D121=0,$O$96=0),0,((1/B121)-(1/C121))*D121*(1-G121)*F121*24/(1000000*$M$96)*$O$96)","v":0},{"$f":"IF(OR(B121=0,C121=0,D121=0),0,((1/B121)-(1/C121))*D121*(1-G121)/(1000*$E$95))","v":0},{"$f":"IF(OR(B121=0,C121=0,D121=0,$O$95=0),0,((1/B121)-(1/C121))*D121*(1-G121)/(3412*$M$95)*$O$95)","v":0},{"$f":"I121*References!$A$17+J121*References!$A$17+K121","v":0},{"$f":"0","v":0},{"$f":"N121+O121","v":0},{"$f":"IF(D121=0,\"\",I121*$H$95+J121*$P$95+K121*$P$96)","v":""},{"$f":"0","v":0},{"$f":"IF(D121=0,\"\",Q121+R121)","v":""},null,null,null,{"$f":"IFERROR(IF(N121=0,0,D121*References!$N$5),0)","v":0},{"$f":"IF(OR(W121=\"\",W121=0),0,$U$96*W121)","v":0}]
[null,{"$f":"Worksheet!D124","v":0},{"$f":"IF(AND(Worksheet!D120=\"Exterior Walls\",Worksheet!D126>References!$BN$94),References!$BN$94,IF(Worksheet!D126>References!$BN$98,References!$BN$98,Worksheet!D126))","v":0},{"$f":"Worksheet!D122","v":0},{"$f":"References!$AB$23","v":1160},{"$f":"References!$AB$24","v":4671},{"$f":"IF(OR(Worksheet!D120=\"\",Worksheet!D120=0),0,INDEX(References!$BG$4:$BG$7,MATCH(Worksheet!D120,References!$BF$4:$BF$7,0)))","v":0},null,0,0,0,0,0,{"$f":"I122*References!$A$17+J122*References!$A$17+K122","v":0},{"$f":"0","v":0},0,"",{"$f":"0","v":0},"",null,null,null,{"$f":"IFERROR(IF(N122=0,0,D122*References!$N$5),0)","v":0},0]
[null,{"$f":"Worksheet!J124","v":0},{"$f":"IF(AND(Worksheet!J120=\"Exterior Walls\",Worksheet!J126>References!$BN$94),References!$BN$94,IF(Worksheet!J126>References!$BN$98,References!$BN$98,Worksheet!J126))","v":0},{"$f":"Worksheet!J122","v":0},{"$f":"References!$AB$23","v":1160},{"$f":"References!$AB$24","v":4671},{"$f":"IF(OR(Worksheet!J120=\"\",Worksheet!J120=0),0,INDEX(References!$BG$4:$BG$7,MATCH(Worksheet!J120,References!$BF$4:$BF$7,0)))","v":0},null,0,0,0,0,0,{"$f":"I123*References!$A$17+J123*References!$A$17+K123","v":0},{"$f":"0","v":0},0,"",{"$f":"0","v":0},"",null,null,null,{"$f":"IFERROR(IF(N123=0,0,D123*References!$N$5),0)","v":0},0]
[null,{"$f":"Worksheet!D134","v":0},{"$f":"IF(AND(Worksheet!D130=\"Exterior Walls\",Worksheet!D136>References!$BN$94),References!$BN$94,IF(Worksheet!D136>References!$BN$98,References!$BN$98,Worksheet!D136))","v":0},{"$f":"Worksheet!D132","v":0},{"$f":"References!$AB$23","v":1160},{"$f":"References!$AB$24","v":4671},{"$f":"IF(OR(Worksheet!D130=\"\",Worksheet!D130=0),0,INDEX(References!$BG$4:$BG$7,MATCH(Worksheet!D130,References!$BF$4:$BF$7,0)))","v":0},null,0,0,0,0,0,{"$f":"I124*References!$A$17+J124*References!$A$17+K124","v":0},{"$f":"0","v":0},0,"",{"$f":"0","v":0},"",null,null,null,{"$f":"IFERROR(IF(N124=0,0,D124*References!$N$5),0)","v":0},0]
[]
[]
[]
[]
[]
[]
[]
["Air Curtain"]
[null,"Air Curtain Information"]
[null,"Horsepower","Efficiency Curtain","Length","Height","Fdischarge","Fopening","Toutdoor,cooling","Tindoor,cooling","MPHcooling","Houtdoor,cooling","Hindoor,cooling","Toutdoor,heating","Tindoor,heating","MPHheating","Hours","Days,cooling","Days,heating",null,"Qwind,cooling","Qthermal,cooling","QA,cooling","Qwind,heating","Qthermal,heating","QA,heating","kBTU/h,cooling","kBTU/h,heating",null,null,"kWh cooling","kWh heating","Heating MMBTUs","EE MMBTU Savings","BE MMBTU Savings","Total MMBTU Savings","Summer kW","Winter kW","EE CO2 Savings","BE CO2 Savings","Total CO2 Savings",null,null,"Measure Code","Rebate","Calculated Rebate"]
[null,{"$f":"Worksheet!D150","v":0},0.7,{"$f":"Worksheet!D152","v":0},{"$f":"Worksheet!D154","v":0},0.4,0.3,88.7,85,9.6999999999999993,37.299999999999997,34.6,50.1,60,12.09,{"$f":"'Customer Information'!L17*References!$AY$4","v":0},98,180,null,{"$f":"J135*E135*D135*G135*88","v":0},{"$f":"60*E135*D135*F135*SQRT(32.2*E135*((H135-I135)/(H135+459.67)))","v":0},{"$f":"SQRT((T135^2)+(U135^2))","v":0},{"$f":"O135*E135*D135*G135*88","v":0},{"$f":"60*E135*D135*F135*SQRT(32.2*E135*((N135-M135)/(N135+459.67)))","v":0},{"$f":"SQRT((W135^2)+(X135^2))","v":0},{"$f":"4.5*V135*(K135-L135)*C135/1000","v":0},{"$f":"1.08*Y135*(N135-M135)*C135/1000","v":0},null,null,{"$f":"IF(OR(B135=0,D135=0,G95=\"\"),0,((Z135/E95)-(B135*0.746))*P135*Q135)","v":0},{"$f":"IF(O95=0,-(B135*0.746)*P135*R135,((AA135/M95)*O95-(B135*0.746))*P135*R135)","v":0},{"$f":"IF(O96>0,(AA135/(M96*1000))*O96*P135*R135,0)","v":0},{"$f":"AD135*References!$A$17+AE135*References!$A$17+AF135","v":0},{"$f":"0","v":0},{"$f":"AG135+AH135","v":0},{"$f":"AD135/(Q135*24)","v":0},{"$f":"AE135/(R135*24)","v":0},{"$f":"IF(B135=0,0,AD135*H95+AE135*P95+AF135*P96)","v":0},{"$f":"0","v":0},{"$f":"AL135+AM135","v":0},null,null,null,{"$f":"IFERROR(IF(AG135<=0,0,References!$N$6),0)","v":0},{"$f":"IF(OR(AR135=\"\",AR135=0),0,$U$96*AR135)","v":0}]
[]
[]
[]
["Pipe Insulation"]
[null,"Pipe Insulation Information"]
[null,"Water Heater Source","Length","Pipe Diameter","Insulation thickness","Baseline UA/L","Efficient UA/L","Water Heater Efficiency","T pipe","T amb","Delta Temp","hours","Elec SF",null,"kWh Savings","EE MMBTU Savings","BE MMBTU Savings","Total MMBTUs","Summer kW","Winter kW","EE CO2 Savings","BE CO2 Savings","Total CO2 Savings",null,"Measure Code","Rebates"]
[null,{"$f":"Worksheet!D168","v":0},{"$f":"Worksheet!$D$170","v":0},{"$f":"Worksheet!$D$172","v":0},{"$f":"Worksheet!D174","v":0},{"$f":"INDEX(References!$AK$4:$AK$16,MATCH(D142,References!$AJ$4:$AJ$16,0))","v":{"$error":"#N/A"}},{"$f":"INDEX(References!$AJ$3:$AQ$16,MATCH(D142,References!$AJ$3:$AJ$16,0),MATCH(E142,References!$AJ$3:$AQ$3,0))","v":{"$error":"#N/A"}},{"$f":"INDEX(References!$AL$25:$AL$27,MATCH(B142,References!$AK$25:$AK$27,0))","v":{"$error":"#N/A"}},{"$f":"References!$AP$26","v":125},{"$f":"References!$AP$27","v":70},{"$f":"I142-J142","v":55},{"$f":"References!$AP$25","v":8760},{"$f":"References!$AP$28","v":1},null,{"$f":"IF(OR(B142=0,C142=0,D142=0,E142=0),0,((F142-G142)/(H142*3412))*C142*K142*L142*M142)","v":0},{"$f":"IF(O142=\"\",\"\",O142*References!A17)","v":0},{"$f":"IF(B142=\"\",\"\",0)","v":0},{"$f":"IF(P142=\"\",\"\",P142+Q142)","v":0},{"$f":"IF(O142=\"\",\"\",O142/8760)","v":0},{"$f":"IF(O142=\"\",\"\",O142/8760)","v":0},{"$f":"O142*References!$A$12","v":0},{"$f":"0","v":0},{"$f":"U142+V142","v":0},null,null,{"$f":"IF(P142=0,0,C142*References!$N$7)","v":0},{"$f":"IF(OR(Z142=\"\",Z142=0),0,$U$96*Z142)","v":0}]

{"sheet":"References","index":13,"n_rows":503,"n_cols":69,"rows_kept":503,"cut":false,"hidden":true,"merged":[[200,54,200,56],[200,57,200,59],[200,60,200,62],[200,63,200,65],[200,66,200,68],[191,64,191,65],[192,64,192,65],[193,64,193,65],[194,64,194,65],[194,67,194,68],[194,58,194,59],[194,61,194,62],[191,55,191,56],[192,55,192,56],[193,55,193,56],[194,55,194,56],[192,58,192,59],[193,58,193,59],[192,61,192,62],[193,61,193,62],[192,67,192,68],[193,67,193,68],[190,58,190,59],[191,58,191,59],[183,55,183,56],[184,55,184,56],[182,67,182,68],[183,67,183,68],[184,67,184,68],[185,67,185,68],[182,61,182,62],[183,61,183,62],[184,61,184,62],[186,67,186,68],[187,67,187,68],[182,64,182,65],[183,64,183,65],[184,64,184,65],[185,64,185,65],[186,64,186,65],[187,64,187,65],[188,64,188,65],[189,64,189,65],[190,64,190,65],[190,55,190,56],[170,55,170,56],[176,54,176,56],[177,55,177,56],[188,67,188,68],[189,67,189,68],[190,67,190,68],[191,67,191,68],[182,58,182,59],[182,55,182,56],[185,61,185,62],[186,61,186,62],[187,61,187,62],[188,61,188,62],[189,61,189,62],[190,61,190,62],[191,61,191,62],[183,58,183,59],[184,58,184,59],[185,58,185,59],[186,58,186,59],[187,58,187,59],[188,58,188,59],[189,58,189,59],[176,66,176,68],[177,67,177,68],[178,67,178,68],[179,67,179,68],[185,55,185,56],[186,55,186,56],[187,55,187,56],[188,55,188,56],[189,55,189,56],[179,64,179,65],[180,64,180,65],[181,64,181,65],[178,58,178,59],[177,58,177,59],[181,55,181,56],[176,57,176,59],[179,58,179,59],[180,58,180,59],[181,58,181,59],[169,55,169,56],[169,58,169,59],[169,61,169,62],[169,64,169,65],[169,67,169,68],[180,67,180,68],[181,67,181,68],[176,60,176,62],[177,61,177,62],[178,61,178,62],[179,61,179,62],[180,61,180,62],[181,61,181,62],[170,58,170,59],[170,61,170,62],[170,64,170,65],[170,67,170,68],[178,55,178,56],[179,55,179,56],[180,55,180,56],[176,63,176,65],[177,64,177,65],[178,64,178,65],[152,54,152,56],[152,57,152,59],[152,60,152,62],[152,63,152,65],[152,66,152,68],[167,55,167,56],[167,58,167,59],[167,61,167,62],[167,64,167,65],[167,67,167,68],[163,55,163,56],[163,58,163,59],[163,61,163,62],[163,64,163,65],[163,67,163,68],[164,55,164,56],[164,58,164,59],[164,61,164,62],[164,64,164,65],[164,67,164,68],[161,55,161,56],[161,58,161,59],[161,61,161,62],[161,64,161,65],[168,55,168,56],[168,58,168,59],[168,61,168,62],[168,64,168,65],[168,67,168,68],[165,55,165,56],[165,58,165,59],[165,61,165,62],[165,64,165,65],[165,67,165,68],[166,55,166,56],[166,58,166,59],[166,61,166,62],[166,64,166,65],[166,67,166,68],[161,67,161,68],[162,55,162,56],[162,58,162,59],[162,61,162,62],[162,64,162,65],[162,67,162,68],[159,55,159,56],[159,58,159,59],[159,61,159,62],[159,64,159,65],[159,67,159,68],[160,55,160,56],[160,58,160,59],[160,61,160,62],[160,64,160,65],[160,67,160,68],[157,55,157,56],[157,58,157,59],[157,61,157,62],[157,64,157,65],[157,67,157,68],[158,55,158,56],[158,58,158,59],[158,61,158,62],[158,64,158,65],[158,67,158,68],[155,55,155,56],[155,58,155,59],[155,61,155,62],[155,64,155,65],[155,67,155,68],[156,55,156,56],[156,58,156,59],[156,61,156,62],[156,64,156,65],[156,67,156,68],[153,55,153,56],[153,58,153,59],[153,61,153,62],[153,64,153,65],[153,67,153,68],[154,55,154,56],[154,58,154,59],[154,61,154,62],[154,64,154,65],[154,67,154,68],[146,64,146,65],[129,67,129,68],[130,67,130,68],[132,67,132,68],[136,67,136,68],[138,67,138,68],[140,67,140,68],[144,67,144,68],[146,67,146,68],[129,64,129,65],[130,64,130,65],[132,64,132,65],[136,64,136,65],[138,64,138,65],[139,64,139,65],[141,64,141,65],[142,64,142,65],[143,64,143,65],[145,64,145,65],[131,64,131,65],[133,64,133,65],[134,64,134,65],[135,64,135,65],[137,64,137,65],[146,58,146,59],[146,61,146,62],[144,61,144,62],[140,61,140,62],[129,58,129,59],[130,58,130,59],[132,58,132,59],[136,58,136,59],[142,58,142,59],[143,58,143,59],[145,58,145,59],[131,61,131,62],[133,61,133,62],[134,61,134,62],[135,61,135,62],[128,66,128,68],[94,55,95,55],[94,56,95,56],[129,61,129,62],[146,55,146,56],[128,54,128,56],[128,57,128,59],[134,55,134,56],[135,55,135,56],[137,55,137,56],[139,55,139,56],[141,55,141,56],[142,55,142,56],[143,55,143,56],[145,55,145,56],[131,58,131,59],[133,58,133,59],[129,55,129,56],[130,55,130,56],[132,55,132,56],[136,55,136,56],[138,55,138,56],[138,58,138,59],[140,58,140,59],[144,55,144,56],[130,61,130,62],[145,67,145,68],[131,67,131,68],[133,67,133,68],[134,67,134,68],[135,67,135,68],[137,67,137,68],[137,61,137,62],[139,61,139,62],[141,61,141,62],[142,61,142,62],[143,61,143,62],[145,61,145,62],[132,61,132,62],[136,61,136,62],[138,61,138,62],[131,55,131,56],[133,55,133,56],[144,58,144,59],[144,64,144,65],[139,67,139,68],[141,67,141,68],[142,67,142,68],[143,67,143,68],[134,58,134,59],[135,58,135,59],[137,58,137,59],[139,58,139,59],[141,58,141,59],[1,37,1,42],[1,43,1,48],[32,24,33,24],[32,25,33,25],[32,26,33,26],[32,27,33,27],[32,28,33,28],[104,66,104,68],[104,63,104,65],[104,60,104,62],[104,57,104,59],[104,54,104,56],[32,57,32,58],[42,57,42,58],[42,60,42,61],[94,53,95,53],[94,54,95,54],[94,58,94,59],[32,23,33,23],[140,64,140,65],[140,55,140,56],[1,26,2,26],[1,27,2,27],[1,28,2,28],[128,60,128,62],[128,63,128,65],[66,53,66,54],[32,30,33,30],[32,31,33,31],[32,32,33,32],[32,33,33,33],[32,34,33,34],[32,35,33,35],[32,36,33,36],[1,30,2,30],[1,31,2,31],[1,32,2,32]]}
["Basic References",null,null,null,null,null,null,null,null,null,null,null,null,null,null,null,null,null,null,null,null,null,null,"Duct Sealing",null,null,null,null,null,null,"Air Sealing",null,null,null,null,"Pipie Insulation","* NYS TRM v7",null,null,null,null,null,null,null,null,null,null,null,null,null,"Air Curtain",null,null,"Home Performance"]
[null,null,null,"Product Line","Product Class","Product Name","Measure Code","Coincidence Factor","Free Ridership","Spillover","Line Loss Demand","Line Loss Energy","In Sevice Rate","Rebate",null,null,null,null,null,null,null,null,null,"Duct_Heating_Cooling System",null,null,"Duct Location","TRF cooling","TRF heating",null,"Shielding Class","Fn,cooling","Fn,heating",null,null,null,null,"Fiberglass",null,null,null,null,null,"Rigid Foam/Cellular Glass"]
["Value","Decimal Places",null,"CEP Weatherization","CEP Duct Sealing",null,"CW100",0.8,null,null,8.5000000000000006E-2,0.06,1,1.3,null,null,null,null,null,null,null,null,null,"- Please Select -",null,null,null,null,null,null,null,null,null,null,null,"Pipe Diameter","Baseline",0.5,1,1.5,2,2.5,3,0.5,1,1.5,2,2.5,3,null,"% Hours Operation",null,null,null,null,null,null,"Location","F,framing",null,null,null,null,"Rebates "]
["kW",7,null,"CEP Weatherization","CEP Air Sealing",null,"CW200",0.79800000000000004,null,null,8.5000000000000006E-2,0.06,1,0.15,null,null,null,null,null,null,null,null,null,"Heating & Cooling (1)",null,null,"Unconditioned Attic ",0.1,0.1,null,"No shielding on any side",9,8,null,null,0.5,0.44,0.13,0.09,0.08,7.0000000000000007E-2,0.06,0.06,0.15,0.12,0.1,0.09,0.09,0.08,null,0.2,null,null,"Yes_No","YES","NO",null,"Attic",7.0000000000000007E-2,null,null,null,null,"Measure","Regular Offering","Income Eligible"]
["kWh",5,null,"CEP Weatherization","CEP Insulation",null,"CW300",null,null,null,8.5000000000000006E-2,0.06,1,0.5,null,null,null,null,null,null,null,null,null,"Heating & Cooling (2)",null,null,"Unconditioned Garage ",0.1,0.1,null,"A few nearby obstruction",10,9,null,null,0.75,0.54,0.14000000000000001,0.11,0.09,0.08,7.0000000000000007E-2,7.0000000000000007E-2,0.17,0.13,0.11,0.1,0.1,0.09,null,null,null,null,"Select…","- Please Select -",null,null,"Attic 2",7.0000000000000007E-2,null,null,"Select…",null,"Duct Sealing",250,500]
[null,null,null,"CEP Weatherization","CEP Air Curtain",null,"CW400",0.8,null,null,8.5000000000000006E-2,0.06,1,500,null,null,null,null,null,null,null,null,null,"Heating (1)",null,null,"Unconditioned Crawl Space Uninsulated",0.6,0.6,null,"A collection of obstructions within 25 feet",12,10,null,null,1,0.65,0.17,0.12,0.1,0.09,0.08,7.0000000000000007E-2,0.19,0.15,0.13,0.12,0.11,0.1,null,null,null,null,"YES","Heating & Cooling (1)",null,null,"Exterior Walls",0.25,null,null,1,null,"Air Sealing",250,500]
["Yes_No",null,null,"CEP Weatherization","CEP Pipe Insulation",null,"CW500",1,null,null,8.5000000000000006E-2,0.06,1,10,null,null,null,null,null,null,null,null,null,"Cooling (1)",null,null,"Unconditioned Crawl Space Insulated Floor",0.63,0.6,null,"Substantial number of obstructions shield most of the perimeter - typical suburban setting",16,13,null,null,1.25,0.8,0.2,0.14000000000000001,0.11,0.1,0.09,0.08,0.23,0.17,0.15,0.13,0.12,0.11,null,null,null,null,"NO","Heating & Cooling (1&2)",null,null,"Garage/Overhang",7.0000000000000007E-2,null,null,{"$f":"BJ6+1","v":2},null,"Insulation",500,3000]
["YES",null,null,null,null,null,null,null,null,null,null,null,null,null,null,null,null,null,null,null,null,null,null,"Heating (2)",null,null,"Unconditioned Crawl Space Insulated Floor & Walls",0.3,0.3,null,"Building surrounded by large structures - typical urban setting",27,22,null,null,1.5,0.9,0.22,0.15,0.12,0.11,0.1,0.09,0.25,0.19,0.16,0.14000000000000001,0.13,0.12,null,null,null,null,"DECLINED",null,null,null,null,null,null,null,{"$f":"BJ7+1","v":3}]
["NO",null,null,null,null,null,null,null,null,null,null,null,null,null,null,null,null,null,null,null,null,null,null,"Cooling (2)",null,null,"Unconditioned Basement Insulated",0.6,0.6,null,null,null,null,null,null,2,1.1000000000000001,0.26,0.18,0.14000000000000001,0.12,0.11,0.1,0.28999999999999998,0.22,0.18,0.16,0.14000000000000001,0.13,null,null,null,null,null,null,null,null,null,null,null,null,4]
[null,null,null,null,null,null,null,null,null,null,null,null,null,null,null,null,null,null,null,null,null,null,null,"Heating & Cooling (1&2)",null,null,"Unconditioned Basement Uninsulated",0.5,0.5,null,null,null,null,null,null,2.5,1.31,0.3,0.2,0.16,0.14000000000000001,0.12,0.11,0.34,0.25,0.2,0.18,0.16,0.15,null,null,null,null,"Location",null,null,null,null,null,null,null,5]
["Emission Factor (lb CO2 / kWh)",null,null,null,null,null,null,null,null,null,null,null,null,null,null,null,null,null,null,null,null,null,null,"Heating (1&2)",null,null,"Under-slab",0.2,0.2,null,null,null,null,null,null,3,1.57,0.35,0.24,0.18,0.16,0.14000000000000001,0.12,0.39,0.28999999999999998,0.23,0.2,0.18,0.16,null,null,null,null,"Attic",null,null,null,null,null,null,null,6]
[1.1961999999999999,null,null,null,null,null,null,null,null,null,null,null,null,null,null,null,null,null,null,null,null,null,null,"Cooling (1&2)",null,null,null,null,null,null,null,null,null,null,null,3.5,1.77,0.4,0.26,0.2,0.17,0.15,0.13,0.44,0.32,0.26,0.22,0.2,0.18,null,null,null,null,"Attic 2",null,null,null,null,null,null,null,7]
[null,null,null,null,null,null,null,null,null,null,null,null,null,null,null,null,null,null,null,null,null,null,null,null,null,null,null,null,null,null,null,null,null,null,null,4,1.98,0.44,0.28999999999999998,0.22,0.18,0.16,0.14000000000000001,0.48,0.35,0.28000000000000003,0.24,0.21,0.19,null,null,null,null,"Exterior Walls",null,null,null,null,null,null,null,8]
["ConversionFactors",null,null,"Organization Type","Rebate Payment Method",null,null,null,null,null,null,null,null,null,null,null,null,null,null,null,null,null,null,null,null,null,null,null,null,null,null,null,null,null,null,5,2.41,0.52,0.34,0.26,0.22,0.19,0.17,0.57999999999999996,0.41,0.33,0.28000000000000003,0.25,0.22,null,null,null,null,"Garage/Overhang",null,"Attic","Attic 2","Exterior Walls","Garage Overhang","Basement Ceiling",null,9,null,"Look up","Measure Code","Product Class","Product Line","Product Name"]
[2204.6,"lbs/metric ton",null,"…please select…","…please select…",null,null,null,null,null,null,null,null,null,null,null,null,null,null,null,null,null,null,null,null,null,null,null,null,null,null,null,null,null,null,6,2.84,0.61,0.39,0.3,0.25,0.21,0.19,0.67,0.47,0.37,0.32,0.28000000000000003,0.25,null,null,null,null,null,null,null,null,null,null,"Rim Joist",null,10,null,"Conditioned Space ","HPwES-100","HPwES-Systems","HPwES-Systems","HPwES Duct Sealing"]
[1E-3,"kg/metric ton",null,"Government","Check to Customer",null,null,null,null,null,null,null,null,null,null,null,null,null,null,null,null,null,null,null,null,null,"Variable","Value",null,null,null,null,null,null,null,8,3.64,0.77,0.49,0.37,0.3,0.26,0.23,0.84,0.59,0.46,0.39,0.34,0.3]
[3.4120000000000001E-3,"MMBTU/kWh",null,"Incorporated","Assigned to Contractor",null,null,null,null,null,null,null,null,null,null,null,null,null,null,null,null,null,null,"Duct Sealing - Attribute",null,null,"Delta Temp, Cooling",22.7]
[null,null,null,"Not Incorporated",null,null,null,null,null,null,null,null,null,null,null,null,null,null,null,null,null,null,null,"Unconditioned Basement","Unconditioned Crawl Space",null,"Delta Temp, Heating",64.900000000000006]
["Rebate Cost Cap",null,null,null,null,null,null,null,null,null,null,null,null,null,null,null,null,null,null,null,null,null,null,"Select…","Select…",null,"Specific heat capacity (Cp)",1.7999999999999999E-2,null,null,"Variables","Value"]
[0.8,null,null,null,null,null,null,null,null,null,null,null,null,null,null,null,null,null,null,null,null,null,null,"Insulated","Insulated Floor",null,"Latent Multiplier (LM)",5.2,null,null,"Latent Multiplier",4.2]
[null,null,null,null,null,null,null,null,null,null,null,null,null,null,null,null,null,null,null,null,null,null,null,"Uninsulated","Insulated Floor & Walls",null,"Fh",{"$f":"1^-0.3","v":1},null,null,"Specific Heat Capacity",1.7999999999999999E-2]
[null,null,null,null,null,null,null,null,null,null,null,null,null,null,null,null,null,null,null,null,null,null,null,null,"Uninsulated",null,"LM",6.2,null,null,"cu.ft/min to cu.ft/hr",60,null,null,null,null,null,null,null,null,null,null,null,null,null,null,null,null,null,null,null,null,null,null,null,null,null,null,null,"Foundation Walls",null,{"$f":"BJ15+1","v":11},null,"Unconditioned Attic","HPwES-105","HPwES-Systems","HPwES-Systems","HPwES Duct Sealing"]
[null,null,null,null,null,null,null,null,null,null,null,null,null,null,null,null,null,null,null,null,null,null,null,null,null,null,"CDD",1160,null,null,null,null,null,null,null,null,null,null,null,null,null,null,null,null,null,null,null,null,null,null,null,null,null,null,null,null,null,null,null,"Flooring",null,12,null,"Unconditioned Basement","HPwES-106","HPwES-Systems","HPwES-Systems","HPwES Duct Sealing"]
[null,null,null,null,null,null,null,null,null,null,null,null,null,null,null,null,null,null,null,null,null,null,null,null,null,null,"HDD",4671,null,null,null,null,null,null,null,null,"Water Heater Equipment Type","Thermal Efficiency",null,null,"Variable","Value","Details",null,null,null,null,null,null,null,null,null,null,"Location Attribute",null,null,null,null,null,null,null,13,null,"Unconditioned Garage","HPwES-107","HPwES-Systems","HPwES-Systems","HPwES Duct Sealing"]
[null,"Move table over 1 column and then add column 0",null,null,null,null,null,null,null,null,null,null,null,null,null,null,null,null,null,null,null,null,null,"Duct Location",null,null,null,null,null,null,"Season","Outdoor Temp",null,null,null,null,"Electric Storage",0.98,null,null,"hrs",8760,"DHW",null,null,null,null,null,null,null,null,null,null,null,null,null,null,null,null,null,null,14,null,"Unconditioned Crawl Space","HPwES-110","HPwES-Systems","HPwES-Systems","HPwES Duct Sealing"]
[null,0,6000,8000,14000,20000,65000,135000,240000,300000,760000,2500000,1000000000,null,null,null,null,null,null,null,null,null,null,"Unconditioned Attic",null,null,null,null,null,null,"Cooling",82.1,null,null,null,null,"Electric Instantaneous",0.98,null,null,"T pipe",125,"degrees F DHW",null,null,null,null,null,null,null,null,null,null,"Combustion Equipment",null,"Venting",null,"Fuel Type",null,"Distribution",null,15,null,null,"HPwES-115","HPwES-Systems","HPwES-Systems","HPwES Air Sealing"]
["Air Conditioners - Air Cooled Split","< 5.4 tons","< 5.4 tons","< 5.4 tons","< 5.4 tons","< 5.4 tons","< 5.4 tons","> 5.4 & < 11.25 tons","> 11.25 & < 20 tons","> 20 & < 63 tons","> 20 & < 63 tons","> 63 tons","> 63 tons",null,null,null,null,null,null,null,null,null,null,"Unconditioned Basement",null,null,null,null,null,null,"Heating",42,null,null,null,null,"Electric Heat Pump",2.2000000000000002,"*Should I add <55 gallons",null,"Tamb",70,"degrees F DHW",null,null,null,null,null,null,null,null,null,null,"Furnace",null,"Natural",null,"Oil",null,"Forced Hot Air",null,null,null,"Attic","HPwES-120","HPwES-Systems","HPwES-Systems","HPwES Insulation"]
["Air Conditioners - Air Cooled Single Package","< 5.4 tons","< 5.4 tons","< 5.4 tons","< 5.4 tons","< 5.4 tons","< 5.4 tons","> 5.4 & < 11.25 tons","> 11.25 & < 20 tons","> 20 & < 63 tons","> 20 & < 63 tons","> 63 tons","> 63 tons",null,null,null,null,null,null,null,null,null,null,"Unconditioned Crawl Space",null,null,null,null,null,null,"*From Bin Data. See Air Sealing analysis",null,null,null,null,null,null,null,null,null,"Elec SF",1,"Electric Hot Water only",null,null,null,null,null,null,null,null,null,null,"Boiler",null,"Induced",null,"Natural Gas",null,"Baseboard",null,null,null,"Exterior Walls","HPwES-125","HPwES-Systems","HPwES-Systems","HPwES Insulation"]
["Air Conditioners - Water Cooled","< 5.4 tons","< 5.4 tons","< 5.4 tons","< 5.4 tons","< 5.4 tons","< 5.4 tons","> 5.4 & < 11.25 tons","> 11.25 & < 20 tons","> 20 & < 63 tons","> 20 & < 63 tons","> 63 tons","> 63 tons",null,null,null,null,null,null,null,null,null,null,"Unconditioned Garage",null,null,null,null,null,null,null,null,null,null,null,null,null,null,null,null,null,null,null,null,null,null,null,null,null,null,null,null,null,"Heat Pump",null,"Power Vented ",null,"Electric",null,"Radiator",null,null,null,"Garage/Overhang","HPwES-130","HPwES-Systems","HPwES-Systems","HPwES Insulation"]
["Air Conditioners - Evaporatively Cooled","< 5.4 tons","< 5.4 tons","< 5.4 tons","< 5.4 tons","< 5.4 tons","< 5.4 tons","> 5.4 & < 11.25 tons","> 11.25 & < 20 tons","> 20 & < 63 tons","> 20 & < 63 tons","> 63 tons","> 63 tons",null,null,null,null,null,null,null,null,null,null,null,null,null,null,null,null,null,null,null,null,null,null,null,null,null,null,null,null,null,null,null,null,null,null,null,null,null,null,null,null,"Geothermal",null,"Sealed",null,"Propane",null,null,null,null,null,"Basement Ceiling","HPwES-135","HPwES-Systems","HPwES-Systems","HPwES Insulation"]
["Air Source Heat Pumps","< 5.4 tons","< 5.4 tons","< 5.4 tons","< 5.4 tons","< 5.4 tons","< 5.4 tons","> 5.4 & < 11.25 tons","> 11.25 & < 20 tons","> 20 tons","> 20 tons","> 20 tons","> 63 tons",null,null,null,null,null,null,null,null,null,null,null,null,null,null,null,null,null,null,null,null,null,null,null,null,null,null,null,null,null,null,null,null,null,null,null,null,null,null,null,null,"Electric Baseboard",null,null,null,"Other"]
["Ductless Mini-Split AC"]
["Ductless Mini-Split Heat Pumps",null,null,null,null,null,null,null,null,null,null,null,null,null,null,null,null,null,null,null,null,null,null,"Building Type","Duct Total Leakage","Cooling Distribution Efficiency Baseline *","Heating Distribution Efficiency Baseline *","Cooling Distribution Efficiency EE *","Heating Distribution Efficiency EE *",null,"Building type","Occupied Cooling Temp","Unoccupied Cooling Temp","Occupied Heating Temp","Unoccupied Heating Temp","Average Cooling Temp","Average Heating Temp",null,null,null,null,null,null,null,null,null,null,null,null,null,null,null,null,"DHW",null,"Color",null,"Attic",null,null,"Bypass Codes"]
["Packaged Terminal Air Conditioners",null,null,null,null,null,null,null,null,null,null,null,null,null,null,null,null,null,null,null,null,null,null,null,null,null,null,null,null,null,null,null,null,null,null,null,null,null,null,null,null,null,null,null,null,null,null,null,null,null,null,null,null,"Electric",null,"Select…",null,"Select…","-",null,"Select…","-"]
["Packaged Terminal Heat Pumps",null,null,null,null,null,null,null,null,null,null,null,null,null,null,null,null,null,null,null,null,null,null,"Assembly",0,0.92200000000000004,0.85699999999999998,0.98599999999999999,0.89600000000000002,null,"Assembly",76,79,72,69,{"$f":"((AF35*AM35+AG35*(8760-AM35))/8760)","v":77.379452054794527},{"$f":"((AH35*AM35+AI35*(8760-AM35))/8760)","v":70.620547945205473},"*Mon-Sun 8am-9pm",{"$f":"(13)*7*52","v":4732},null,null,null,null,null,null,null,null,null,null,null,null,null,null,"Direct Storage",null,"Black",null,"I - Inaccessible","I",null,"C - Chaseways","C"]
["Room Air Conditioners","< 1/2 tons","< 1/2 tons","> 1/2 & < 2/3 tons","> 2/3 & < 1 1/6 tons","> 1 1/6 & < 1 2/3 tons","> 1 2/3 tons","> 1 2/3 tons","> 1 2/3 tons","> 1 2/3 tons","> 1 2/3 tons","> 1 2/3 tons","> 1 2/3 tons",null,null,null,null,null,null,null,null,null,null,"Assembly",0.08,0.92200000000000004,0.85699999999999998,0.98599999999999999,0.89600000000000002,null,"Fast Food Restaurant",77,80,72,69,{"$f":"((AF36*AM36+AG36*(8760-AM36))/8760)","v":77.88082191780822},{"$f":"((AH36*AM36+AI36*(8760-AM36))/8760)","v":71.11917808219178},"*Mon-Sun 6am-11pm",{"$f":"(17)*7*52","v":6188},null,null,null,null,null,null,null,null,null,null,null,null,null,null,"Indirect Storage",null,"White ",null,"F - Floored","F",null,"F - Flue Stacks","F"]
["VRF Air Cooled Heat Pumps","< 5.4 tons","< 5.4 tons","< 5.4 tons","< 5.4 tons","< 5.4 tons","< 5.4 tons","> 5.4 & < 11.25 tons","> 11.25 & < 20 tons","> 20 tons","> 20 tons","> 20 tons","> 20 tons",null,null,null,null,null,null,null,null,null,null,"Assembly",0.09,{"$f":"((($Y37-$Y$36)*(Z$43-Z$36))/($Y$43-$Y$36))+Z$36","v":0.92},0.85299999999999998,0.98328571428571432,0.89128571428571435,null,"Full Service Restaurant",77,80,72,69,78.130136986301366,70.869863013698634,"*Mon-Sun 9am-12pm",{"$f":"(15)*7*52","v":5460},null,null,null,null,null,null,null,null,null,null,null,null,null,null,"Tankless",null,"Bisque ",null,"O - Open/ Unfloored","O",null,"P - Plumping Stacks","P"]
["VRF Water Source Heat Pumps","< 5.4 tons","< 5.4 tons","< 5.4 tons","< 5.4 tons","< 5.4 tons","< 5.4 tons","> 5.4 & < 11.25 tons","> 11.25 & < 20 tons","> 20 tons","> 20 tons","> 20 tons","> 20 tons",null,null,null,null,null,null,null,null,null,null,"Assembly",0.1,0.91800000000000004,0.84899999999999998,0.98057142857142854,0.88657142857142857,null,"Grocery",74,79,70,65,75.675799086757991,68.324200913242009,"*Mon-Sun 6am-10pm",{"$f":"(16)*7*52","v":5824},null,null,null,null,null,null,null,null,null,null,null,null,null,null,null,null,null,null,"S - Finished Slope","S",null,"W - Open Wall Tops","W"]
["Water Source Heat Pumps",null,null,null,null,null,null,null,null,null,null,null,null,null,null,null,null,null,null,null,null,null,null,"Assembly",0.11,0.91600000000000004,0.84499999999999997,0.97785714285714287,0.88185714285714289,null,"Health",null,null,null,null,{"$f":"AJ45","v":77.885895484525633},{"$f":"AK45","v":69.669660071029924},"*Other","NA",null,null,null,null,null,null,null,null,null,null,null,null,null,null,"Conditioned",null,"Color 2",null,"K - Kneewall","K",null,"D - Dropped Ceiling","D"]
["Ground Source Heat Pump",null,null,null,null,null,null,null,null,null,null,null,null,null,null,null,null,null,null,null,null,null,null,"Assembly",0.12,0.91400000000000003,0.84099999999999997,0.97514285714285709,0.87714285714285711,null,"Hotel",76,81,72,67,{"$f":"AF40*0.6+AG40*0.4","v":78},{"$f":"AH40*0.6+AI40*0.4","v":70},"*60% Occ, 40% unocc","NA",null,null,null,null,null,null,null,null,null,null,null,null,null,null,"Select…",null,"Select...",null,"V - Overhang","V",null,"H - Attic Hatch","H"]
["Natural Gas Furnace",null,null,null,null,null,null,null,null,null,null,null,null,null,null,null,null,null,null,null,null,null,null,"Assembly",0.13,0.91200000000000003,0.83699999999999997,0.97242857142857142,0.87242857142857144,null,"Religious",76,82,70,64,{"$f":"((AF41*AM41+AG41*(8760-AM41))/8760)","v":80.361643835616434},{"$f":"((AH41*AM41+AI41*(8760-AM41))/8760)","v":65.638356164383566},"*Mon-Sat 12pm-6pm, Sun 9am-7pm",{"$f":"(6*6*52)+(10*52)","v":2392},null,null,null,null,null,null,null,null,null,null,null,null,null,null,"Conditioned",null,"Black",null,"G - Garage Ceiling","G",null,"O - Other","O"]
["Oil Furnace",null,null,null,null,null,null,null,null,null,null,null,null,null,null,null,null,null,null,null,null,null,null,"Assembly",0.14000000000000001,0.91,0.83299999999999996,0.96971428571428564,0.86771428571428566,null,"School",76,79,72,69,{"$f":"((AF42*AM42+AG42*(8760-AM42))/8760)","v":77.967123287671228},{"$f":"((AH42*AM42+AI42*(8760-AM42))/8760)","v":70.032876712328772},"*Mon-Fri 8am-6pm, Sun 8am-4pm",{"$f":"(10*5*52)+(8*52)","v":3016},null,null,null,null,null,null,null,null,null,null,null,null,null,null,"Unconditioned",null,"White"]
["Propane Furnace",null,null,null,null,null,null,null,null,null,null,null,null,null,null,null,null,null,null,null,null,null,null,"Assembly",0.15,0.90800000000000003,0.82899999999999996,0.96699999999999997,0.86299999999999999,null,"Small Office",76,79,72,69,78.038356164383558,69.961643835616442,"*Mon-Sat 9am-6pm",{"$f":"(9)*6*52","v":2808},null,null,null,null,null,null,null,null,null,null,null,null,null,null,null,null,"Bisque",null,"Attic Insulation",null,null,"Condition Codes"]
["Electric Furnace",null,null,null,null,null,null,null,null,null,null,null,null,null,null,null,null,null,null,null,null,null,null,"Assembly",0.16,{"$f":"((($Y44-$Y$43)*(Z$48-Z$43))/($Y$48-$Y$43))+Z$43","v":0.90580000000000005},0.82519999999999993,0.96439999999999992,0.85860000000000003,null,"Small Retail",76,79,72,69,77.539726027397265,70.460273972602735,"*Mon-Sat 10am-10pm, Sun 10am-8pm",{"$f":"(12*6*52)+(10*52)","v":4264},null,null,null,null,null,null,null,null,null,null,null,null,null,null,"Conditoned/Unconditioned",null,null,null,"Select…","-",null,"Select…","-"]
["Natural Gas Boiler","< 25 tons","< 25 tons","< 25 tons","< 25 tons","< 25 tons","< 25 tons","< 25 tons","< 25 tons","< 25 tons","> 25 & < 208 tons","> 25 & < 208 tons","> 208 tons",null,null,null,null,null,null,null,null,null,null,"Assembly",0.17,0.90360000000000007,0.82140000000000002,0.96179999999999999,0.85419999999999996,null,"Other",null,null,null,null,{"$f":"AVERAGE(AJ35:AJ38,AJ40:AJ44)","v":77.885895484525633},{"$f":"AVERAGE(AK35:AK38,AK40:AK44)","v":69.669660071029924},null,null,null,null,null,null,null,null,null,null,null,null,null,null,null,null,"Select…",null,"Condition",null,"R-29","> 12\"",null,"EX - Existing Leak","EX"]
["Oil Boiler","< 25 tons","< 25 tons","< 25 tons","< 25 tons","< 25 tons","< 25 tons","< 25 tons","< 25 tons","< 25 tons","> 25 & < 208 tons","> 25 & < 208 tons","> 208 tons",null,null,null,null,null,null,null,null,null,null,"Assembly",0.18,0.90139999999999998,0.81759999999999999,0.95919999999999994,0.8498,null,{"$f":"IF(B74=\"\",\"\",B74)","v":""},{"$f":"IF($AE$46=\"\",0,_xlfn.IFNA(INDEX(AF35:AF45,MATCH(AE46,AE35:AE45,0)),AF45))","v":0},{"$f":"IF($AE$46=\"\",0,_xlfn.IFNA(INDEX(AG35:AG45,MATCH(AF46,AF35:AF45,0)),AG45))","v":0},0,0,0,0,null,null,null,null,null,null,null,null,null,null,null,null,null,null,null,null,"Conditioned",null,"Select…",null,"R-24","9 - 12\"",null,"P - Prior Leak","P"]
["Electric Resistance",null,null,null,null,null,null,null,null,null,null,null,null,null,null,null,null,null,null,null,null,null,null,"Assembly",0.19,0.8992,0.81380000000000008,0.95660000000000001,0.84539999999999993]
[null,null,null,null,null,null,null,null,null,null,null,null,null,null,null,null,null,null,null,null,null,null,null,"Assembly",0.2,0.89700000000000002,0.81,0.95399999999999996,0.84099999999999997]
[null,null,null,null,null,null,null,null,null,null,null,null,null,null,null,null,null,null,null,null,null,null,null,"Assembly",0.21,{"$f":"((($Y49-$Y$48)*(Z$53-Z$48))/($Y$53-$Y$48))+Z$48","v":0.89480000000000004},0.80660000000000009,0.95099999999999996,0.83699999999999997,null,null,null,null,null,null,null,null,null,null,null,null,null,null,null,null,null,null,null,null,null,null,null,null,"Unconditioned",null,"Yes",null,"R-19","6 - 9\"",null,"S - Structural Damage","S"]
["Building Type","Building Type","Cooling ELFH","Heating EFLH",null,"Cooling Equipment Type","Heating Equipment Type","Water Heater Equipment Type",null,"Equipemnt for Efficiency","EER","SEER","HSPF","COP","CO2 lbs/unit","FF T/F",null,"REM Cooling kWh ","REM Heating kWh ","REM Heating MMBTU ","REM Cooling kW ","REM Heating kW ",null,"Assembly",0.22,0.89260000000000006,0.80320000000000003,0.94799999999999995,0.83299999999999996,null,null,null,null,null,null,null,null,null,null,null,null,null,null,null,null,null,null,null,null,null,null,null,null,"Overheated",null,"None",null,"R-14","3 -5\"",null,"M - Minor Damage","M"]
[null,"… please select …",null,null,null,"Air Conditioners - Air Cooled Split","Natural Gas Furnace","Electric Storage",null,"Air Conditioners - Air Cooled Split < 5.4 tons",{"$f":"1.12*L51-0.02*L51^2","v":11.180000000000003},13,null,null,1.1961999999999999,false,null,1.0589999999999999,0,0,2.3E-3,0,null,"Assembly",0.23,0.89039999999999997,0.79980000000000007,0.94499999999999995,0.82899999999999996,null,null,null,null,null,null,null,null,null,null,null,null,null,null,null,null,null,null,null,null,null,null,null,null,null,null,"No Access",null,"R-9","< 3\"",null,"O - Obstructions","O"]
[3,"Assembly",669,603,null,"Air Conditioners - Air Cooled Single Package","Oil Furnace","Electric Instantaneous",null,"Air Conditioners - Air Cooled Single Package < 5.4 tons",{"$f":"1.12*L52-0.02*L52^2","v":11.760000000000002},14,null,null,1.1961999999999999,false,null,1.0589999999999999,0,0,2.3E-3,0,null,"Assembly",0.24,0.88819999999999999,0.7964,0.94199999999999995,0.82499999999999996,null,null,null,null,null,null,null,null,null,null,null,null,null,null,null,null,null,null,null,null,null,null,null,null,"Hinge",null,null,null,null,null,null,"C - Customer Will Clear","C"]
[null,"Auto Repair",426,1910,null,"Air Conditioners - Water Cooled","Propane Furnace","Electric Heat Pump",null,"Air Conditioners - Air Cooled Split > 5.4 & < 11.25 tons",11.2,12.7,null,null,1.1961999999999999,false,null,1.0589999999999999,0,0,2.3E-3,0,null,"Assembly",0.25,0.88600000000000001,0.79300000000000004,0.93899999999999995,0.82099999999999995,null,null,null,null,null,null,null,null,null,null,null,null,null,null,null,null,null,null,null,null,null,null,null,null,"Select...",null,"Heating Source",null,"Locations 2"]
[null,"Big Box Retail",1276,191,null,"Air Conditioners - Evaporatively Cooled","Electric Furnace",null,null,"Air Conditioners - Air Cooled Single Package > 5.4 & < 11.25 tons",11.2,12.7,null,null,1.1961999999999999,false,null,1.0589999999999999,0,0,2.3E-3,0,null,"Assembly",0.26,{"$f":"((($Y54-$Y$53)*(Z$58-Z$53))/($Y$58-$Y$53))+Z$53","v":0.88339999999999996},0.78960000000000008,0.93599999999999994,0.81699999999999995,null,null,null,null,null,null,null,null,null,null,null,null,null,null,null,null,null,null,null,null,null,null,null,null,"Left ",null,"Gas",null,"Select…",null,"Locations"]
[1,"Community College",992,1082,null,"Air Source Heat Pumps","Natural Gas Boiler",null,null,"Air Conditioners - Air Cooled Split > 11.25 & < 20 tons",10.8,12.2,null,null,1.1961999999999999,false,null,1.0589999999999999,0,0,2.3E-3,0,null,"Assembly",0.27,0.88080000000000003,0.78620000000000001,0.93299999999999994,0.81299999999999994,null,null,null,null,null,null,null,null,null,null,null,null,null,null,null,null,null,null,null,null,null,null,null,null,"Right",null,"Oil",null,"Front Door",null,"Select…"]
[null,"Fast Food Restaurant",645,813,null,"Ductless Mini-Split AC","Oil Boiler",null,null,"Air Conditioners - Air Cooled Single Package > 11.25 & < 20 tons",10.8,12.2,null,null,1.1961999999999999,false,null,1.0589999999999999,0,0,2.3E-3,0,null,"Assembly",0.28000000000000003,0.87819999999999998,0.78280000000000005,0.92999999999999994,0.80899999999999994,null,null,null,null,null,null,null,null,null,null,null,null,null,null,null,null,null,null,null,null,null,null,null,null,null,null,"Electric Resistance",null,"Side/Rear Door",null,"B - Bedroom"]
[9,"Full Service Restaurant",574,821,null,"Ductless Mini-Split Heat Pumps","Electric Resistance",null,null,"Air Conditioners - Air Cooled Split > 20 & < 63 tons",9.8000000000000007,11.4,null,null,1.1961999999999999,false,null,1.0589999999999999,0,0,2.3E-3,0,null,"Assembly",0.28999999999999998,0.87560000000000004,0.77939999999999998,0.92700000000000005,0.80500000000000005,null,null,null,null,null,null,null,null,null,null,null,null,null,null,null,null,null,null,null,null,null,null,null,null,"AC Types",null,"Electric Heat Pump",null,"Interior Passageway",null,"BC - Basement/Cellar"]
[2,"Grocery ",1279,191,null,"Packaged Terminal Air Conditioners","Air Source Heat Pumps",null,null,"Air Conditioners - Air Cooled Single Package > 20 & < 63 tons",9.8000000000000007,11.4,null,null,1.1961999999999999,false,null,1.0589999999999999,0,0,2.3E-3,0,null,"Assembly",0.3,0.873,0.77600000000000002,0.92400000000000004,0.80100000000000005,null,null,null,null,null,null,null,null,null,null,null,null,null,null,null,null,null,null,null,null,null,null,null,null,"Select…",null,"Propane",null,null,null,"D - Dining Room"]
[null,"High School",704,708,null,"Packaged Terminal Heat Pumps","Ductless Mini-Split Heat Pumps",null,null,"Air Conditioners - Air Cooled Split > 63 tons",9.5,11,null,null,1.1961999999999999,false,null,1.0589999999999999,0,0,2.3E-3,0,null,"Fast Food Restaurant",0,0.86599999999999999,0.76600000000000001,0.94499999999999995,0.875,null,null,null,null,null,null,null,null,null,null,null,null,null,null,null,null,null,null,null,null,null,null,null,null,"Central AC",null,"Wood",null,"notes",null,"E - Exterior"]
[4,"Hospital",1925,2477,null,"Room Air Conditioners","Packaged Terminal Heat Pumps",null,null,"Air Conditioners - Air Cooled Single Package > 63 tons",9.5,11,null,null,1.1961999999999999,false,null,1.0589999999999999,0,0,2.3E-3,0,null,"Fast Food Restaurant",0.08,0.86599999999999999,0.76600000000000001,0.94499999999999995,0.875,null,null,null,null,null,null,null,null,null,null,null,null,null,null,null,null,null,null,null,null,null,null,null,null,"Central HP",null,"Other",null,"Select…",null,"F - Family Room/Den"]
[5,"Hotel",3049,655,null,"VRF Air Cooled Heat Pumps","VRF Air Cooled Heat Pumps",null,null,"Air Conditioners - Water Cooled < 5.4 tons",12.1,12.3,null,null,1.1961999999999999,false,null,1.0589999999999999,0,0,2.3E-3,0,null,"Fast Food Restaurant",0.09,{"$f":"((($Y61-$Y$60)*(Z$67-Z$60))/($Y$67-$Y$60))+Z$60","v":0.8641428571428571},0.76142857142857145,0.94214285714285706,0.86785714285714288,null,null,null,null,null,null,null,null,null,null,null,null,null,null,null,null,null,null,null,null,null,null,null,null,"Minisplit AC",null,null,null,"Refrigerator Subcontractor",null,"H - Hallway"]
[null,"Large Office",1756,1643,null,"VRF Water Source Heat Pumps","VRF Water Source Heat Pumps",null,null,"Air Conditioners - Water Cooled > 5.4 & < 11.25 tons",11.9,13.7,null,null,1.1961999999999999,false,null,1.0589999999999999,0,0,2.3E-3,0,null,"Fast Food Restaurant",0.1,0.86228571428571432,0.75685714285714289,0.93928571428571428,0.86071428571428565,null,null,null,null,null,null,null,null,null,null,null,null,null,null,null,null,null,null,null,null,null,null,null,null,"Minisplit HP",null,"PASS/FAIL2",null,"Custom Measure Evaluation",null,"K - Kitchen"]
[null,"Large Retail",1487,1711,null,"Water Source Heat Pumps","Water Source Heat Pumps",null,null,"Air Conditioners - Water Cooled > 11.25 & < 20 tons",12.3,13.7,null,null,1.1961999999999999,false,null,1.0589999999999999,0,0,2.3E-3,0,null,"Fast Food Restaurant",0.11,0.86042857142857143,0.75228571428571434,0.93642857142857139,0.85357142857142854,null,null,null,null,null,null,null,null,null,null,null,null,null,null,null,null,null,null,null,null,null,null,null,null,"Closed Loop Geo",null,"Select…",null,"File",null,"L - Living Room"]
[6,"Light Industrial",549,714,null,"Ground Source Heat Pump","Ground Source Heat Pump",null,null,"Air Conditioners - Water Cooled > 20 & < 63 tons",12.2,13.4,null,null,1.1961999999999999,false,null,1.0589999999999999,0,0,2.3E-3,0,null,"Fast Food Restaurant",0.12,0.85857142857142854,0.74771428571428566,0.93357142857142861,0.84642857142857142,null,null,null,null,null,null,null,null,null,null,null,null,null,null,null,null,null,null,null,null,null,null,null,null,"Open Loop Geo",null,"Pass",null,"Electrician",null,"O  - Office/Study"]
[null,"Motel",1233,619,null,null,null,null,null,"Air Conditioners - Water Cooled > 63 tons",12,13.3,null,null,1.1961999999999999,false,null,1.0589999999999999,0,0,2.3E-3,0,null,"Fast Food Restaurant",0.13,0.85671428571428565,0.74314285714285711,0.93071428571428572,0.8392857142857143,null,null,null,null,null,null,null,null,null,null,null,null,null,null,null,null,null,null,null,null,null,null,null,null,null,null,"Fail",null,"Plumber",null,"T - Bathroom Toilet"]
[11,"Primary School",394,840,null,null,null,null,null,"Air Conditioners - Evaporatively Cooled < 5.4 tons",12.1,12.3,null,null,1.1961999999999999,false,null,1.0589999999999999,0,0,2.3E-3,0,null,"Fast Food Restaurant",0.14000000000000001,0.85485714285714287,0.73857142857142855,0.92785714285714294,0.83214285714285707,null,null,null,null,null,null,null,null,null,null,null,null,null,null,null,null,null,null,null,null,null,null,null,null,null,null,null,null,"HVAC Subcontractor",null,"U - Unlisted/Other"]
[8,"Religious",279,722,null,null,null,null,null,"Air Conditioners - Evaporatively Cooled > 5.4 & < 11.25 tons",11.9,12.1,null,null,1.1961999999999999,false,null,1.0589999999999999,0,0,2.3E-3,0,null,"Fast Food Restaurant",0.15,0.85299999999999998,0.73399999999999999,0.92500000000000004,0.82499999999999996,null,null,null,null,null,null,null,null,null,null,null,null,null,null,null,null,null,null,null,null,null,null,null,null,"Locations 3",null,null,null,"Other:"]
[7,"Small Office",955,431,null,null,null,null,null,"Air Conditioners - Evaporatively Cooled > 11.25 & < 20 tons",11.8,12,null,null,1.1961999999999999,false,null,1.0589999999999999,0,0,2.3E-3,0,null,"Fast Food Restaurant",0.16,{"$f":"((($Y68-$Y$67)*(Z$72-Z$67))/($Y$72-$Y$67))+Z$67","v":0.85119999999999996},0.73,0.92220000000000002,0.81879999999999997,null,null,null,null,null,null,null,null,null,null,null,null,null,null,null,null,null,null,null,null,null,null,null,null,"Select…","-"]
[10,"Small Retail",882,545,null,null,null,null,null,"Air Conditioners - Evaporatively Cooled > 20 & < 63 tons",11.7,11.9,null,null,1.1961999999999999,false,null,1.0589999999999999,0,0,2.3E-3,0,null,"Fast Food Restaurant",0.17,0.84939999999999993,0.72599999999999998,0.9194,0.81259999999999999,null,null,null,null,null,null,null,null,null,null,null,null,null,null,null,null,null,null,null,null,null,null,null,null,"A - Attic","Attic",null,"Siding",null,null,"R-Values",null,null,"Existing R-Values","Installed R-Values"]
[null,"University",1057,1011,null,null,null,null,null,"Air Conditioners - Evaporatively Cooled > 63 tons",11.5,11.7,null,null,1.1961999999999999,false,null,1.0589999999999999,0,0,2.3E-3,0,null,"Fast Food Restaurant",0.18,0.84760000000000002,0.72199999999999998,0.91660000000000008,0.80640000000000001,null,null,null,null,null,null,null,null,null,null,null,null,null,null,null,null,null,null,null,null,null,null,null,null,"B - Bedroom","Bedroom",null,"Select…","-",null,"Select…","-",null,"Select…","Select…"]
[12,"Warehouse",400,452,null,null,null,null,null,"Air Source Heat Pumps < 5.4 tons",{"$f":"1.12*L71-0.02*L71^2","v":11.760000000000002},14,8.1999999999999993,{"$f":"M71/3.412","v":2.4032825322391558},1.1961999999999999,false,null,1.0589999999999999,3.847,0,2.3E-3,1.5800000000000002E-2,null,"Fast Food Restaurant",0.19,0.8458,0.71799999999999997,0.91380000000000006,0.80020000000000002,null,null,null,null,null,null,null,null,null,null,null,null,null,null,null,null,null,null,null,null,null,null,null,null,"BC - Basement/Cellar",null,null,"A - Asbestos","A",null,"R-24","> 10\"",null,"0-5","11-12"]
[13,"Other",736,681,null,null,null,null,null,"Air Source Heat Pumps > 5.4 & < 11.25 tons",10.8,12,{"$f":"N72*3.412","v":11.259599999999999},3.3,1.1961999999999999,false,null,1.0589999999999999,3.847,0,2.3E-3,1.5800000000000002E-2,null,"Fast Food Restaurant",0.2,0.84399999999999997,0.71399999999999997,0.91100000000000003,0.79400000000000004,null,null,null,null,null,null,null,null,null,null,null,null,null,null,null,null,null,null,null,null,null,null,null,null,"C - Cellar/Crawl","Cellar/Crawl",null,"AL - Aluminum","AL",null,"R-19","6 - 9\"",null,"5-11","13-16"]
[null,null,null,null,null,null,null,null,null,"Air Source Heat Pumps > 11.25 & < 20 tons",10.4,11.4,{"$f":"N73*3.412","v":10.9184},3.2,1.1961999999999999,false,null,1.0589999999999999,3.847,0,2.3E-3,1.5800000000000002E-2,null,"Fast Food Restaurant",0.21,{"$f":"((($Y73-$Y$72)*(Z$77-Z$72))/($Y$77-$Y$72))+Z$72","v":0.84199999999999997},0.70979999999999999,0.90800000000000003,0.78820000000000001,null,null,null,null,null,null,null,null,null,null,null,null,null,null,null,null,null,null,null,null,null,null,null,null,"E - Exterior","Exterior",null,"AS - Asphalt","AS",null,"R-14","3 - 5\"",null,"12-13","17-18"]
[1,{"$f":"IF(OR('Customer Information'!C17=\"\",'Customer Information'!C17=B51),\"\",'Customer Information'!C17)","v":""},{"$f":"INDEX(C$51:C$73,MATCH($B$74,$B$51:$B$73,0))","v":{"$error":"#N/A"}},{"$f":"INDEX(D$51:D$73,MATCH($B$74,$B$51:$B$73,0))","v":{"$error":"#N/A"}},null,null,null,null,null,"Air Source Heat Pumps > 20 tons",9.3000000000000007,10.4,10.9184,3.2,1.1961999999999999,false,null,1.0589999999999999,3.847,0,2.3E-3,1.5800000000000002E-2,null,"Fast Food Restaurant",0.22,0.84,0.7056,0.90500000000000003,0.78239999999999998,null,null,null,null,null,null,null,null,null,null,null,null,null,null,null,null,null,null,null,null,null,null,null,null,"F - Family Room","Family Room",null,"B - Brick","B",null,"R-9","< 3\"",null,"14-17","19-20"]
[null,null,null,null,null,null,null,null,null,"Ductless Mini-Split AC ",{"$f":"1.12*L75-0.02*L75^2","v":11.180000000000003},13,null,null,1.1961999999999999,false,null,0,0,0,0,0,null,"Fast Food Restaurant",0.23,0.83799999999999997,0.70139999999999991,0.90200000000000002,0.77660000000000007,null,null,null,null,null,null,null,null,null,null,null,null,null,null,null,null,null,null,null,null,null,null,null,null,"K - Kitchen","Kitchen",null,"M - Masonite","M",null,null,null,null,"18+","21-24"]
[null,null,null,null,null,null,null,null,null,"Ductless Mini-Split Heat Pumps ",{"$f":"1.12*L76-0.02*L76^2","v":11.760000000000002},14,8.1999999999999993,{"$f":"M76/3.412","v":2.4032825322391558},1.1961999999999999,false,null,0,0,0,0,0,null,"Fast Food Restaurant",0.24,0.83599999999999997,0.69719999999999993,0.89900000000000002,0.77080000000000004,null,null,null,null,null,null,null,null,null,null,null,null,null,null,null,null,null,null,null,null,null,null,null,null,"L - Living Room","Living Room",null,"S - Stucco","S",null,null,null,null,null,"25-26"]
[null,null,null,null,null,null,null,null,null,"Packaged Terminal Air Conditioners ",{"$f":"14-(0.3*(IF(Worksheet!$J$13=J77,Qualifying_Index!C93,0)+IF(Worksheet!$J$26=J77,Qualifying_Index!C94,0))/1000)","v":14},{"$f":"K77","v":14},null,null,1.1961999999999999,false,null,0,0,0,0,0,null,"Fast Food Restaurant",0.25,0.83399999999999996,0.69299999999999995,0.89600000000000002,0.76500000000000001,null,null,null,null,null,null,null,null,null,null,null,null,null,null,null,null,null,null,null,null,null,null,null,null,"S - Office/Study","Office/Study",null,"W - Wood","W",null,null,null,null,null,"27+"]
[null,null,null,null,null,null,null,null,null,"Packaged Terminal Heat Pumps ",{"$f":"14-(0.3*(IF(Worksheet!$J$13=J78,Qualifying_Index!C93,0)+IF(Worksheet!$J$26=J78,Qualifying_Index!C94,0))/1000)","v":14},{"$f":"K78","v":14},{"$f":"N78*3.412","v":12.6244},{"$f":"3.7-(0.052*(IF(Worksheet!D13=J78,Qualifying_Index!J93,0)+IF(Worksheet!D26=J78,Qualifying_Index!J94,0))/1000)","v":3.7},1.1961999999999999,false,null,0,0,0,0,0,null,"Fast Food Restaurant",0.26,{"$f":"((($Y78-$Y$77)*(Z$82-Z$77))/($Y$82-$Y$77))+Z$77","v":0.83179999999999998},0.68940000000000001,0.89300000000000002,0.75980000000000003,null,null,null,null,null,null,null,null,null,null,null,null,null,null,null,null,null,null,null,null,null,null,null,null,"O - Other","Other",null,"V - Vinyl","V"]
[null,null,null,null,null,null,null,null,null,"Room Air Conditioners < 1/2 tons",{"$f":"1.12*L79-0.02*L79^2","v":8.9822000000000006},9.6999999999999993,null,null,1.1961999999999999,false,null,0,0,0,0,0,null,"Fast Food Restaurant",0.27,0.8296,0.68579999999999997,0.89,0.75459999999999994,null,null,null,null,null,null,null,null,null,null,null,null,null,null,null,null,null,null,null,null,null,null,null,null,"W - Work Area/Shop","Work Area/Shop",null,"O - Other","O"]
[null,null,null,null,null,null,null,null,null,"Room Air Conditioners > 1/2 & < 2/3 tons",{"$f":"1.12*L80-0.02*L80^2","v":8.9822000000000006},9.6999999999999993,null,null,1.1961999999999999,false,null,0,0,0,0,0,null,"Fast Food Restaurant",0.28000000000000003,0.82739999999999991,0.68220000000000003,0.88700000000000001,0.74939999999999996]
["ECCCNYS","https://www.dos.ny.gov/DCEA/pdf/pdf/2020%20ECCCNYS%20November%202019.pdf",null,null,null,null,null,null,null,"Room Air Conditioners > 2/3 & < 1 1/6 tons",9.0552000000000028,9.8000000000000007,null,null,1.1961999999999999,false,null,0,0,0,0,0,null,"Fast Food Restaurant",0.28999999999999998,0.82519999999999993,0.67859999999999998,0.88400000000000001,0.74419999999999997]
["Noted in NYS TRM that duct work must meet ECCCNYS compliance",null,null,null,null,null,null,null,null,"Room Air Conditioners > 1 1/6 & < 1 2/3 tons",8.9822000000000006,9.6999999999999993,null,null,1.1961999999999999,false,null,0,0,0,0,0,null,"Fast Food Restaurant",0.3,0.82299999999999995,0.67500000000000004,0.88100000000000001,0.73899999999999999]
["IECC 2018","https://codes.iccsafe.org/content/IECC2018P4/chapter-4-ce-commercial-energy-efficiency",null,null,null,null,null,null,null,"Room Air Conditioners > 1 2/3 tons",8.0750000000000011,8.5,null,null,1.1961999999999999,false,null,0,0,0,0,0,null,"Full Service Restaurant",0,0.85399999999999998,0.79700000000000004,0.95399999999999996,0.89300000000000002]
["Air Sealing 0.40 cfm/sft",null,null,null,null,null,null,null,null,"VRF Air Cooled Heat Pumps < 5.4 tons",11.180000000000003,13,7.7,{"$f":"M84/3.412","v":2.2567409144196953},1.1961999999999999,false,null,1.0589999999999999,3.847,0,2.3E-3,1.5800000000000002E-2,null,"Full Service Restaurant",0.08,0.85399999999999998,0.79700000000000004,0.95399999999999996,0.89300000000000002,null,null,null,null,null,null,null,null,null,null,null,null,null,null,null,null,null,null,null,null,null,null,null,null,null,null,null,null,null,null,null,null,null,null,"Max","Min","Base/Measure R-Value"]
["ASHRAE 2016",null,null,null,null,null,null,null,null,"VRF Air Cooled Heat Pumps > 5.4 & < 11.25 tons",11,14.6,{"$f":"N85*3.412","v":11.259599999999999},3.3,1.1961999999999999,false,null,1.0589999999999999,3.847,0,2.3E-3,1.5800000000000002E-2,null,"Full Service Restaurant",0.09,{"$f":"((($Y85-$Y$84)*(Z$91-Z$84))/($Y$91-$Y$84))+Z$84","v":0.85271428571428565},0.79242857142857148,0.95214285714285707,0.88657142857142857,null,null,null,null,null,null,null,null,null,null,null,null,null,null,null,null,null,null,null,null,null,null,null,null,null,null,null,null,null,null,null,null,null,null,10.999999000000001,0,0]
[null,null,null,null,null,null,null,null,null,"VRF Air Cooled Heat Pumps > 11.25 & < 20 tons",10.6,13.9,{"$f":"N86*3.412","v":10.9184},3.2,1.1961999999999999,false,null,1.0589999999999999,3.847,0,2.3E-3,1.5800000000000002E-2,null,"Full Service Restaurant",0.1,0.85142857142857142,0.78785714285714292,0.95028571428571429,0.88014285714285712]
[null,null,null,null,null,null,null,null,null,"VRF Air Cooled Heat Pumps > 20 tons",9.5,12.7,10.9184,3.2,1.1961999999999999,false,null,1.0589999999999999,3.847,0,2.3E-3,1.5800000000000002E-2,null,"Full Service Restaurant",0.11,0.85014285714285709,0.78328571428571436,0.9484285714285714,0.87371428571428567]
[null,null,null,null,null,null,null,null,null,"VRF Water Source Heat Pumps < 5.4 tons",12,16,14.6716,4.3,1.1961999999999999,false,null,1.0589999999999999,2.5640000000000001,0,2.3E-3,5.3E-3,null,"Full Service Restaurant",0.12,0.84885714285714287,0.77871428571428569,0.94657142857142851,0.86728571428571433,null,null,null,null,null,null,null,null,null,null,null,null,null,null,null,null,null,null,null,null,null,null,null,null,null,null,null,null,null,null,null,null,null,null,12.999999000000001,11,11]
[null,null,null,null,null,null,null,null,null,"VRF Water Source Heat Pumps > 5.4 & < 11.25 tons",12,16,14.6716,4.3,1.1961999999999999,false,null,1.0589999999999999,2.5640000000000001,0,2.3E-3,5.3E-3,null,"Full Service Restaurant",0.13,0.84757142857142853,0.77414285714285713,0.94471428571428562,0.86085714285714288,null,null,null,null,null,null,null,null,null,null,null,null,null,null,null,null,null,null,null,null,null,null,null,null,null,null,null,null,null,null,null,null,null,null,16.999998999999999,13,13]
[null,null,null,null,null,null,null,null,null,"VRF Water Source Heat Pumps > 11.25 & < 20 tons",10,14,13.648,4,1.1961999999999999,false,null,1.0589999999999999,2.5640000000000001,0,2.3E-3,5.3E-3,null,"Full Service Restaurant",0.14000000000000001,0.84628571428571431,0.76957142857142857,0.94285714285714284,0.85442857142857143,null,null,null,null,null,null,null,null,null,null,null,null,null,null,null,null,null,null,null,null,null,null,null,null,null,null,null,null,null,null,null,null,null,null,18.999998999999999,17,17]
[null,null,null,null,null,null,null,null,null,"VRF Water Source Heat Pumps > 20 tons",10,12,13.306799999999999,3.9,1.1961999999999999,false,null,1.0589999999999999,2.5640000000000001,0,2.3E-3,5.3E-3,null,"Full Service Restaurant",0.15,0.84499999999999997,0.76500000000000001,0.94099999999999995,0.84799999999999998,null,null,null,null,null,null,null,null,null,null,null,null,null,null,null,null,null,null,null,null,null,null,null,null,null,null,null,null,null,null,null,null,null,null,20.999998999999999,19,19]
[null,null,null,null,null,null,null,null,null,"Water Source Heat Pumps ",18,{"$f":"K92","v":18},12.6244,3.7,1.1961999999999999,false,null,1.0589999999999999,2.5640000000000001,0,2.3E-3,5.3E-3,null,"Full Service Restaurant",0.16,{"$f":"((($Y92-$Y$91)*(Z$96-Z$91))/($Y$96-$Y$91))+Z$91","v":0.84339999999999993},0.76060000000000005,0.93899999999999995,0.84199999999999997,null,null,null,null,null,null,null,null,null,null,null,null,null,null,null,null,null,null,null,null,null,null,null,null,null,null,null,null,null,null,null,null,null,null,24.999998999999999,21,21]
[null,null,null,null,null,null,null,null,null,"Ground Source Heat Pump ",14.1,{"$f":"K93","v":14.1},10.9184,3.2,1.1961999999999999,false,null,1.0589999999999999,2.5640000000000001,0,2.3E-3,5.3E-3,null,"Full Service Restaurant",0.17,0.84179999999999999,0.75619999999999998,0.93699999999999994,0.83599999999999997,null,null,null,null,null,null,null,null,null,null,null,null,null,null,null,null,null,null,null,null,null,null,null,null,null,null,null,null,null,null,null,null,null,null,26.999998999999999,25,25]
[null,null,null,null,null,null,null,null,null,"Natural Gas Furnace ",null,null,null,0.8,{"$f":"0.05306*A15","v":116.97607600000001},true,null,0,1.1000000000000001,3.5000000000000003E-2,0,0,null,"Full Service Restaurant",0.18,0.84019999999999995,0.75180000000000002,0.93500000000000005,0.83,null,null,null,null,null,null,null,null,null,null,null,null,null,null,null,null,null,null,null,null,null,null,null,null,null,null,null,null,null,null,null,null,null,null,1000000,27,27]
[null,null,null,null,null,null,null,null,null,"Oil Furnace ",null,null,null,0.8,{"$f":"0.07396*A15","v":163.05221599999999},true,null,0,1.1000000000000001,3.5000000000000003E-2,0,0,null,"Full Service Restaurant",0.19,0.83860000000000001,0.74739999999999995,0.93300000000000005,0.82399999999999995,null,null,null,null,null,null,null,null,null,null,null,null,null,null,null,null,null,null,null,null,null,null,null,null,"Heating & Cooling Type","kWh/CFM","kW/CFM","Therm/CFM",null,"Air Sealing Corrections",null,null,null,null,37.999999000000003,30,30]
[null,null,null,null,null,null,null,null,null,"Propane Furnace ",null,null,null,0.8,{"$f":"0.06146*A15","v":135.49471599999998},true,null,0,1.1000000000000001,3.5000000000000003E-2,0,0,null,"Full Service Restaurant",0.2,0.83699999999999997,0.74299999999999999,0.93100000000000005,0.81799999999999995,null,null,null,null,null,null,null,null,null,null,null,null,null,null,null,null,null,null,null,null,null,null,null,null,"Heating & Cooling type","kWh/CFM","kW/CFM","Therm/CFM",null,"Fn",19,null,null,null,48.999999000000003,38,38]
[null,null,null,null,null,null,null,null,null,"Electric Furnace ",null,null,null,1,1.1961999999999999,false,null,0,7.6929999999999996,0,0,1.5800000000000002E-2,null,"Full Service Restaurant",0.21,{"$f":"((($Y97-$Y$96)*(Z$101-Z$96))/($Y$101-$Y$96))+Z$96","v":0.83539999999999992},0.73860000000000003,0.92860000000000009,0.81219999999999992,null,null,null,null,null,null,null,null,null,null,null,null,null,null,null,null,null,null,null,null,null,null,null,null,"AC Fossil Fuel Heat",2.2999999999999998,4.0000000000000001E-3,1.7,null,"Fh",0.9,null,null,null,59.999999000000003,49,49]
[null,null,null,null,null,null,null,null,null,"Natural Gas Boiler < 25 tons",null,null,null,0.82,{"$f":"0.05306","v":5.3060000000000003E-2},true,null,0,0,0,0,0,null,"Full Service Restaurant",0.22,0.83379999999999999,0.73419999999999996,0.92620000000000002,0.80640000000000001,null,null,null,null,null,null,null,null,null,null,null,null,null,null,null,null,null,null,null,null,null,null,null,null,"Heat Pump",21,3.0000000000000001E-3,0,null,null,null,null,null,null,1000000,60,60]
[null,null,null,null,null,null,null,null,null,"Natural Gas Boiler > 25 & < 208 tons",null,null,null,0.8,5.3060000000000003E-2,true,null,0,0,0,0,0,null,"Full Service Restaurant",0.23,0.83219999999999994,0.7298,0.92380000000000007,0.80059999999999998,null,null,null,null,null,null,null,null,null,null,null,null,null,null,null,null,null,null,null,null,null,null,null,null,"AC Electric Heat",39.799999999999997,4.0000000000000001E-3,0]
[null,null,null,null,null,null,null,null,null,"Natural Gas Boiler > 208 tons",null,null,null,0.82,5.3060000000000003E-2,true,null,0,0,0,0,0,null,"Full Service Restaurant",0.24,0.8306,0.72539999999999993,0.9214,0.79480000000000006,null,null,null,null,null,null,null,null,null,null,null,null,null,null,null,null,null,null,null,null,null,null,null,null,"Fossil Fuel Only",0.8,0,1.7]
[null,null,null,null,null,null,null,null,null,"Oil Boiler < 25 tons",null,null,null,0.84,{"$f":"0.07396*A15","v":163.05221599999999},true,null,0,0,0,0,0,null,"Full Service Restaurant",0.25,0.82899999999999996,0.72099999999999997,0.91900000000000004,0.78900000000000003,null,null,null,null,null,null,null,null,null,null,null,null,null,null,null,null,null,null,null,null,null,null,null,null,"Electric Heat",38.4,4.0000000000000001E-3,0]
[null,null,null,null,null,null,null,null,null,"Oil Boiler > 25 & < 208 tons",null,null,null,0.82,{"$f":"0.07396*A15","v":163.05221599999999},true,null,0,0,0,0,0,null,"Full Service Restaurant",0.26,{"$f":"((($Y102-$Y$101)*(Z$106-Z$101))/($Y$106-$Y$101))+Z$101","v":0.82719999999999994},0.71699999999999997,0.91660000000000008,0.78380000000000005]
[null,null,null,null,null,null,null,null,null,"Oil Boiler > 208 tons",null,null,null,0.84,{"$f":"0.07396*A15","v":163.05221599999999},true,null,0,0,0,0,0,null,"Full Service Restaurant",0.27,0.82539999999999991,0.71299999999999997,0.91420000000000001,0.77859999999999996]
[null,null,null,null,null,null,null,null,null,"Electric Resistance ",null,null,{"$f":"N104*3.412","v":3.4119999999999999},1,1.1961999999999999,false,null,0,0,0,0,0,null,"Full Service Restaurant",0.28000000000000003,0.8236,0.70899999999999996,0.91180000000000005,0.77339999999999998,null,null,null,null,null,null,null,null,null,null,null,null,null,null,null,null,null,null,null,null,null,null,null,null,"Wall Insulation - HVAC: AC with Gas Heat"]
[null,null,null,null,null,null,null,null,null,null,null,null,null,null,null,null,null,null,null,null,null,null,null,"Full Service Restaurant",0.28999999999999998,0.82179999999999997,0.70499999999999996,0.90939999999999999,0.76819999999999999,null,null,null,null,null,null,null,null,null,null,null,null,null,null,null,null,null,null,null,null,null,null,null,null,"Base",0,null,null,11,null,null,13,null,null,17,null,null,19]
[null,null,null,null,null,null,null,null,null,null,null,null,null,null,null,null,null,null,null,null,null,null,null,"Full Service Restaurant",0.3,0.82,0.70099999999999996,0.90700000000000003,0.76300000000000001,null,null,null,null,null,null,null,null,null,null,null,null,null,null,null,null,null,null,null,null,null,null,null,null,"Measure","kWh/ kSF","kW/ kSF","therm/ kSF","kWh/ kSF","kW/ kSF","therm/ kSF","kWh/ kSF","kW/ kSF","therm/ kSF","kWh/ kSF","kW/ kSF","therm/ kSF","kWh/ kSF","kW/ kSF","therm/ kSF"]
[null,null,null,null,null,null,null,null,null,null,null,null,null,null,null,null,null,null,null,null,null,null,null,"Small Retail",0,0.83799999999999997,0.61399999999999999,0.93100000000000005,0.76700000000000002,null,null,null,null,null,null,null,null,null,null,null,null,null,null,null,null,null,null,null,null,null,null,null,null,11,60,5.3999999999999999E-2,36.6]
[null,null,null,null,null,null,null,null,null,null,null,null,null,null,null,null,null,null,null,null,null,null,null,"Small Retail",0.08,0.83799999999999997,0.61399999999999999,0.93100000000000005,0.76700000000000002,null,null,null,null,null,null,null,null,null,null,null,null,null,null,null,null,null,null,null,null,null,null,null,null,12,{"$f":"((($BB$108-$BB$107)*(BC109-BC107))/($BB$109-$BB$107))+BC107","v":63.35},5.9499999999999997E-2,39.450000000000003,3.3,5.4999999999999997E-3,2.8,0,0,0,0,0,0,0,0,0]
[null,null,null,null,null,null,null,null,null,null,null,null,null,null,null,null,null,null,null,null,null,null,null,"Small Retail",0.09,{"$f":"((($Y109-$Y$108)*(Z$115-Z$108))/($Y$115-$Y$108))+Z$108","v":0.83642857142857141},0.60928571428571432,0.92871428571428571,0.75942857142857145,null,null,null,null,null,null,null,null,null,null,null,null,null,null,null,null,null,null,null,null,null,null,null,null,13,66.7,6.5000000000000002E-2,42.3,6.6,1.0999999999999999E-2,5.6]
[null,null,null,null,null,null,null,null,null,null,null,null,null,null,null,null,null,null,null,null,null,null,null,"Small Retail",0.1,0.83485714285714285,0.60457142857142854,0.92642857142857149,0.75185714285714289,null,null,null,null,null,null,null,null,null,null,null,null,null,null,null,null,null,null,null,null,null,null,null,null,14,{"$f":"((($BB110-$BB$109)*(BC$113-BC$109))/($BB$113-$BB$109))+BC$109","v":70.174999999999997},6.7750000000000005E-2,44.375,10.1,1.3749999999999998E-2,7.6999999999999993,3.5,2.7499999999999998E-3,2.0750000000000002,0,0,0,0,0,0]
[null,null,null,null,null,null,null,null,null,null,null,null,null,null,null,null,null,null,null,null,null,null,null,"Small Retail",0.11,0.8332857142857143,0.59985714285714287,0.92414285714285715,0.74428571428571433,null,null,null,null,null,null,null,null,null,null,null,null,null,null,null,null,null,null,null,null,null,null,null,null,15,73.650000000000006,7.0500000000000007E-2,46.45,13.600000000000001,1.6500000000000001E-2,9.8000000000000007,7,5.4999999999999997E-3,4.1500000000000004,0,0,0,0,0,0]
[null,null,null,null,null,null,null,null,null,null,null,null,null,null,null,null,null,null,null,null,null,null,null,"Small Retail",0.12,0.83171428571428563,0.59514285714285708,0.92185714285714293,0.73671428571428565,null,null,null,null,null,null,null,null,null,null,null,null,null,null,null,null,null,null,null,null,null,null,null,null,16,77.125,7.3249999999999996E-2,48.524999999999999,17.100000000000001,1.925E-2,11.9,10.5,8.2500000000000004E-3,6.2250000000000005,0,0,0,0,0,0]
[null,null,null,null,null,null,null,null,null,null,null,null,null,null,null,null,null,null,null,null,null,null,null,"Small Retail",0.13,0.83014285714285707,0.59042857142857141,0.9195714285714286,0.72914285714285709,null,null,null,null,null,null,null,null,null,null,null,null,null,null,null,null,null,null,null,null,null,null,null,null,17,80.599999999999994,7.5999999999999998E-2,50.6,20.6,2.1999999999999999E-2,14,14,1.0999999999999999E-2,8.3000000000000007]
[null,null,null,null,null,null,null,null,null,null,null,null,null,null,null,null,null,null,null,null,null,null,null,"Small Retail",0.14000000000000001,0.82857142857142851,0.58571428571428563,0.91728571428571437,0.72157142857142853,null,null,null,null,null,null,null,null,null,null,null,null,null,null,null,null,null,null,null,null,null,null,null,null,18,{"$f":"((($BB$114-$BB$113)*(BC115-BC113))/($BB$115-$BB$113))+BC113","v":83.199999999999989},7.5999999999999998E-2,52.150000000000006,23.200000000000003,2.1999999999999999E-2,15.5,16.600000000000001,1.0999999999999999E-2,9.8500000000000014,2.6,0,1.5,0,0,0]
[null,null,null,null,null,null,null,null,null,null,null,null,null,null,null,null,null,null,null,null,null,null,null,"Small Retail",0.15,0.82699999999999996,0.58099999999999996,0.91500000000000004,0.71399999999999997,null,null,null,null,null,null,null,null,null,null,null,null,null,null,null,null,null,null,null,null,null,null,null,null,19,85.8,7.5999999999999998E-2,53.7,25.8,2.1999999999999999E-2,17,19.2,1.0999999999999999E-2,11.4,5.2,0,3]
[null,null,null,null,null,null,null,null,null,null,null,null,null,null,null,null,null,null,null,null,null,null,null,"Small Retail",0.16,{"$f":"((($Y116-$Y$115)*(Z$120-Z$115))/($Y$120-$Y$115))+Z$115","v":0.82519999999999993},0.5766,0.91280000000000006,0.70699999999999996,null,null,null,null,null,null,null,null,null,null,null,null,null,null,null,null,null,null,null,null,null,null,null,null,20,{"$f":"((($BB$116-$BB$115)*(BC117-BC115))/($BB$117-$BB$115))+BC115","v":87.949999999999989},7.5999999999999998E-2,54.900000000000006,27.9,2.1999999999999999E-2,18.25,21.299999999999997,1.0999999999999999E-2,12.65,7.3000000000000007,0,4.25,2.1,0,1.25]
[null,null,null,null,null,null,null,null,null,null,null,null,null,null,null,null,null,null,null,null,null,null,null,"Small Retail",0.17,0.82339999999999991,0.57220000000000004,0.91060000000000008,0.7,null,null,null,null,null,null,null,null,null,null,null,null,null,null,null,null,null,null,null,null,null,null,null,null,21,90.1,7.5999999999999998E-2,56.1,30,2.1999999999999999E-2,19.5,23.4,1.0999999999999999E-2,13.9,9.4,0,5.5,4.2,0,2.5]
[null,null,null,null,null,null,null,null,null,null,null,null,null,null,null,null,null,null,null,null,null,null,null,"Small Retail",0.18,0.8216,0.56779999999999997,0.90839999999999999,0.69300000000000006,null,null,null,null,null,null,null,null,null,null,null,null,null,null,null,null,null,null,null,null,null,null,null,null,22,{"$f":"((($BB118-$BB$117)*(BC$121-BC$117))/($BB$121-$BB$117))+BC$117","v":91.449999999999989},7.8750000000000001E-2,57.125,31.35,2.4750000000000001E-2,20.5,24.75,1.3749999999999998E-2,14.9,10.75,2.7499999999999998E-3,6.5,5.55,2.7499999999999998E-3,3.5]
[null,null,null,null,null,null,null,null,null,null,null,null,null,null,null,null,null,null,null,null,null,null,null,"Small Retail",0.19,0.81979999999999997,0.56340000000000001,0.90620000000000001,0.68600000000000005,null,null,null,null,null,null,null,null,null,null,null,null,null,null,null,null,null,null,null,null,null,null,null,null,23,92.8,8.1499999999999989E-2,58.150000000000006,32.700000000000003,2.75E-2,21.5,26.1,1.6500000000000001E-2,15.899999999999999,12.100000000000001,5.4999999999999997E-3,7.5,6.9,5.4999999999999997E-3,4.5]
[null,null,null,null,null,null,null,null,null,null,null,null,null,null,null,null,null,null,null,null,null,null,null,"Small Retail",0.2,0.81799999999999995,0.55900000000000005,0.90400000000000003,0.67900000000000005,null,null,null,null,null,null,null,null,null,null,null,null,null,null,null,null,null,null,null,null,null,null,null,null,24,94.15,8.4249999999999992E-2,59.175000000000004,34.049999999999997,3.0249999999999999E-2,22.5,27.45,1.925E-2,16.899999999999999,13.450000000000001,8.2500000000000004E-3,8.5,8.25,8.2500000000000004E-3,5.5]
[null,null,null,null,null,null,null,null,null,null,null,null,null,null,null,null,null,null,null,null,null,null,null,"Small Retail",0.21,{"$f":"((($Y121-$Y$120)*(Z$125-Z$120))/($Y$125-$Y$120))+Z$120","v":0.81619999999999993},0.55480000000000007,0.90139999999999998,0.67280000000000006,null,null,null,null,null,null,null,null,null,null,null,null,null,null,null,null,null,null,null,null,null,null,null,null,25,95.5,8.6999999999999994E-2,60.2,35.4,3.3000000000000002E-2,23.5,28.8,2.1999999999999999E-2,17.899999999999999,14.8,1.0999999999999999E-2,9.5,9.6,1.0999999999999999E-2,6.5]
[null,null,null,null,null,null,null,null,null,null,null,null,null,null,null,null,null,null,null,null,null,null,null,"Small Retail",0.22,0.81440000000000001,0.55060000000000009,0.89880000000000004,0.66660000000000008,null,null,null,null,null,null,null,null,null,null,null,null,null,null,null,null,null,null,null,null,null,null,null,null,26,{"$f":"((($BB$122-$BB$121)*(BC123-BC121))/($BB$123-$BB$121))+BC121","v":96.65},8.6999999999999994E-2,60.95,36.549999999999997,3.3000000000000002E-2,24.25,29.950000000000003,2.1999999999999999E-2,14.5,15.950000000000001,1.0999999999999999E-2,10.3,10.75,1.0999999999999999E-2,7.25]
[null,null,null,null,null,null,null,null,null,null,null,null,null,null,null,null,null,null,null,null,null,null,null,"Small Retail",0.23,0.81259999999999999,0.5464,0.8962,0.66039999999999999,null,null,null,null,null,null,null,null,null,null,null,null,null,null,null,null,null,null,null,null,null,null,null,null,27,97.8,8.6999999999999994E-2,61.7,37.700000000000003,3.3000000000000002E-2,25,31.1,2.1999999999999999E-2,11.1,17.100000000000001,1.0999999999999999E-2,11.1,11.9,1.0999999999999999E-2,8]
[null,null,null,null,null,null,null,null,null,null,null,null,null,null,null,null,null,null,null,null,null,null,null,"Small Retail",0.24,0.81080000000000008,0.54220000000000002,0.89360000000000006,0.6542]
[null,null,null,null,null,null,null,null,null,null,null,null,null,null,null,null,null,null,null,null,null,null,null,"Small Retail",0.25,0.80900000000000005,0.53800000000000003,0.89100000000000001,0.64800000000000002]
[null,null,null,null,null,null,null,null,null,null,null,null,null,null,null,null,null,null,null,null,null,null,null,"Small Retail",0.26,{"$f":"((($Y126-$Y$125)*(Z$130-Z$125))/($Y$130-$Y$125))+Z$125","v":0.80700000000000005},0.53439999999999999,0.88860000000000006,0.64219999999999999]
[null,null,null,null,null,null,null,null,null,null,null,null,null,null,null,null,null,null,null,null,null,null,null,"Small Retail",0.27,0.80500000000000005,0.53080000000000005,0.88619999999999999,0.63639999999999997]
[null,null,null,null,null,null,null,null,null,null,null,null,null,null,null,null,null,null,null,null,null,null,null,"Small Retail",0.28000000000000003,0.80300000000000005,0.5272,0.88380000000000003,0.63059999999999994,null,null,null,null,null,null,null,null,null,null,null,null,null,null,null,null,null,null,null,null,null,null,null,null,"Wall Insulation - HVAC: Heat Pump"]
[null,null,null,null,null,null,null,null,null,null,null,null,null,null,null,null,null,null,null,null,null,null,null,"Small Retail",0.28999999999999998,0.80100000000000005,0.52360000000000007,0.88139999999999996,0.62480000000000002,null,null,null,null,null,null,null,null,null,null,null,null,null,null,null,null,null,null,null,null,null,null,null,null,"Base",0,null,null,11,null,null,13,null,null,17,null,null,19]
[null,null,null,null,null,null,null,null,null,null,null,null,null,null,null,null,null,null,null,null,null,null,null,"Small Retail",0.3,0.79900000000000004,0.52,0.879,0.61899999999999999,null,null,null,null,null,null,null,null,null,null,null,null,null,null,null,null,null,null,null,null,null,null,null,null,"Measure","kWh/ kSF","kW/ kSF",null,"kWh/ kSF","kW/ kSF",null,"kWh/ kSF","kW/ kSF",null,"kWh/ kSF","kW/ kSF",null,"kWh/ kSF","kW/ kSF"]
[null,null,null,null,null,null,null,null,null,null,null,null,null,null,null,null,null,null,null,null,null,null,null,"Other",0,0.87,0.75900000000000001,0.95399999999999996,0.85799999999999998,null,null,null,null,null,null,null,null,null,null,null,null,null,null,null,null,null,null,null,null,null,null,null,null,11,430.4,7.5999999999999998E-2]
[null,null,null,null,null,null,null,null,null,null,null,null,null,null,null,null,null,null,null,null,null,null,null,"Other",0.08,0.87,0.75900000000000001,0.95399999999999996,0.85799999999999998,null,null,null,null,null,null,null,null,null,null,null,null,null,null,null,null,null,null,null,null,null,null,null,null,12,{"$f":"((($BB$132-$BB$131)*(BC133-BC131))/($BB$133-$BB$131))+BC131","v":462.1},{"$f":"((($BB$132-$BB$131)*(BD133-BD131))/($BB$133-$BB$131))+BD131","v":8.1499999999999989E-2},null,{"$f":"((($BB$132-$BB$131)*(BF133-BF131))/($BB$133-$BB$131))+BF131","v":31.7},{"$f":"((($BB$132-$BB$131)*(BG133-BG131))/($BB$133-$BB$131))+BG131","v":5.4999999999999997E-3},null,{"$f":"((($BB$132-$BB$131)*(BI133-BI131))/($BB$133-$BB$131))+BI131","v":0},{"$f":"((($BB$132-$BB$131)*(BJ133-BJ131))/($BB$133-$BB$131))+BJ131","v":0},null,{"$f":"((($BB$132-$BB$131)*(BL133-BL131))/($BB$133-$BB$131))+BL131","v":0},{"$f":"((($BB$132-$BB$131)*(BM133-BM131))/($BB$133-$BB$131))+BM131","v":0},null,{"$f":"((($BB$132-$BB$131)*(BO133-BO131))/($BB$133-$BB$131))+BO131","v":0},{"$f":"((($BB$132-$BB$131)*(BP133-BP131))/($BB$133-$BB$131))+BP131","v":0}]
[null,null,null,null,null,null,null,null,null,null,null,null,null,null,null,null,null,null,null,null,null,null,null,"Other",0.09,{"$f":"((($Y133-$Y$132)*(Z$139-Z$132))/($Y$139-$Y$132))+Z$132","v":0.86828571428571433},0.75442857142857145,0.95157142857142851,0.85157142857142853,null,null,null,null,null,null,null,null,null,null,null,null,null,null,null,null,null,null,null,null,null,null,null,null,13,493.8,8.6999999999999994E-2,null,63.4,1.0999999999999999E-2]
[null,null,null,null,null,null,null,null,null,null,null,null,null,null,null,null,null,null,null,null,null,null,null,"Other",0.1,0.86657142857142855,0.74985714285714289,0.94914285714285718,0.84514285714285708,null,null,null,null,null,null,null,null,null,null,null,null,null,null,null,null,null,null,null,null,null,null,null,null,14,{"$f":"((($BB134-$BB$133)*(BC$137-BC$133))/($BB$137-$BB$133))+BC$133","v":518},8.9749999999999996E-2,null,{"$f":"((($BB134-$BB$133)*(BF$137-BF$133))/($BB$137-$BB$133))+BF$133","v":87.6},1.3749999999999998E-2,null,{"$f":"((($BB134-$BB$133)*(BI$137-BI$133))/($BB$137-$BB$133))+BI$133","v":24.2},{"$f":"((($BB134-$BB$133)*(BJ$137-BJ$133))/($BB$137-$BB$133))+BJ$133","v":2.7499999999999998E-3},null,{"$f":"((($BB134-$BB$133)*(BL$137-BL$133))/($BB$137-$BB$133))+BL$133","v":0},0,null,{"$f":"((($BB134-$BB$133)*(BO$137-BO$133))/($BB$137-$BB$133))+BO$133","v":0},0]
[null,null,null,null,null,null,null,null,null,null,null,null,null,null,null,null,null,null,null,null,null,null,null,"Other",0.11,0.86485714285714288,0.74528571428571433,0.94671428571428573,0.83871428571428563,null,null,null,null,null,null,null,null,null,null,null,null,null,null,null,null,null,null,null,null,null,null,null,null,15,542.20000000000005,9.2499999999999999E-2,null,111.79999999999998,1.6500000000000001E-2,null,{"$f":"((($BB135-$BB$133)*(BI$137-BI$133))/($BB$137-$BB$133))+BI$133","v":48.4},{"$f":"((($BB135-$BB$133)*(BJ$137-BJ$133))/($BB$137-$BB$133))+BJ$133","v":5.4999999999999997E-3},null,0,0,null,0,0]
[null,null,null,null,null,null,null,null,null,null,null,null,null,null,null,null,null,null,null,null,null,null,null,"Other",0.12,0.8631428571428571,0.74071428571428566,0.94428571428571428,0.8322857142857143,null,null,null,null,null,null,null,null,null,null,null,null,null,null,null,null,null,null,null,null,null,null,null,null,16,566.4,9.5250000000000001E-2,null,136,1.925E-2,null,{"$f":"((($BB136-$BB$133)*(BI$137-BI$133))/($BB$137-$BB$133))+BI$133","v":72.599999999999994},{"$f":"((($BB136-$BB$133)*(BJ$137-AOV186))/($BB$137-$BB$133))+BJ$133","v":8.2500000000000004E-3},null,0,0,null,0,0]
[null,null,null,null,null,null,null,null,null,null,null,null,null,null,null,null,null,null,null,null,null,null,null,"Other",0.13,0.86142857142857143,0.7361428571428571,0.94185714285714284,0.82585714285714285,null,null,null,null,null,null,null,null,null,null,null,null,null,null,null,null,null,null,null,null,null,null,null,null,17,590.6,9.8000000000000004E-2,null,160.19999999999999,2.1999999999999999E-2,null,96.8,1.0999999999999999E-2]
[null,null,null,null,null,null,null,null,null,null,null,null,null,null,null,null,null,null,null,null,null,null,null,"Other",0.14000000000000001,0.85971428571428565,0.73157142857142854,0.9394285714285715,0.8194285714285714,null,null,null,null,null,null,null,null,null,null,null,null,null,null,null,null,null,null,null,null,null,null,null,null,18,{"$f":"((($BB$138-$BB$137)*(BC139-BC137))/($BB$139-$BB$137))+BC137","v":608.35},{"$f":"((($BB$138-$BB$137)*(BD139-BD137))/($BB$139-$BB$137))+BD137","v":0.10300000000000001},null,{"$f":"((($BB$138-$BB$137)*(BF139-BF137))/($BB$139-$BB$137))+BF137","v":177.89999999999998},{"$f":"((($BB$138-$BB$137)*(BG139-BG137))/($BB$139-$BB$137))+BG137","v":2.75E-2},null,{"$f":"((($BB$138-$BB$137)*(BI139-BI137))/($BB$139-$BB$137))+BI137","v":114.5},{"$f":"((($BB$138-$BB$137)*(BJ139-BJ137))/($BB$139-$BB$137))+BJ137","v":1.6500000000000001E-2},null,{"$f":"((($BB$138-$BB$137)*(BL139-BL137))/($BB$139-$BB$137))+BL137","v":27.15},{"$f":"((($BB$138-$BB$137)*(BM139-BM137))/($BB$139-$BB$137))+BM137","v":5.4999999999999997E-3},null,{"$f":"((($BB$138-$BB$137)*(BO139-BO137))/($BB$139-$BB$137))+BO137","v":0},{"$f":"((($BB$138-$BB$137)*(BP139-BP137))/($BB$139-$BB$137))+BP137","v":0}]
[null,null,null,null,null,null,null,null,null,null,null,null,null,null,null,null,null,null,null,null,null,null,null,"Other",0.15,0.85799999999999998,0.72699999999999998,0.93700000000000006,0.81299999999999994,null,null,null,null,null,null,null,null,null,null,null,null,null,null,null,null,null,null,null,null,null,null,null,null,19,626.1,0.108,null,195.6,3.3000000000000002E-2,null,132.19999999999999,2.1999999999999999E-2,null,54.3,1.0999999999999999E-2]
[null,null,null,null,null,null,null,null,null,null,null,null,null,null,null,null,null,null,null,null,null,null,null,"Other",0.16,{"$f":"((($Y140-$Y$139)*(Z$144-Z$139))/($Y$144-$Y$139))+Z$139","v":0.85619999999999996},0.72299999999999998,0.9346000000000001,0.80699999999999994,null,null,null,null,null,null,null,null,null,null,null,null,null,null,null,null,null,null,null,null,null,null,null,null,20,{"$f":"((($BB$140-$BB$139)*(BC141-BC139))/($BB$141-$BB$139))+BC139","v":640.45000000000005},{"$f":"((($BB$140-$BB$139)*(BD141-BD139))/($BB$141-$BB$139))+BD139","v":0.108},null,{"$f":"((($BB$140-$BB$139)*(BF141-BF139))/($BB$141-$BB$139))+BF139","v":210},{"$f":"((($BB$140-$BB$139)*(BG141-BG139))/($BB$141-$BB$139))+BG139","v":3.3000000000000002E-2},null,{"$f":"((($BB$140-$BB$139)*(BI141-BI139))/($BB$141-$BB$139))+BI139","v":146.6},{"$f":"((($BB$140-$BB$139)*(BJ141-BJ139))/($BB$141-$BB$139))+BJ139","v":2.1999999999999999E-2},null,{"$f":"((($BB$140-$BB$139)*(BL141-BL139))/($BB$141-$BB$139))+BL139","v":59.25},{"$f":"((($BB$140-$BB$139)*(BM141-BM139))/($BB$141-$BB$139))+BM139","v":1.0999999999999999E-2},null,{"$f":"((($BB$140-$BB$139)*(BO141-BO139))/($BB$141-$BB$139))+BO139","v":14.35},{"$f":"((($BB$140-$BB$139)*(BP141-BP139))/($BB$141-$BB$139))+BP139","v":0}]
[null,null,null,null,null,null,null,null,null,null,null,null,null,null,null,null,null,null,null,null,null,null,null,"Other",0.17,0.85439999999999994,0.71899999999999997,0.93220000000000003,0.80099999999999993,null,null,null,null,null,null,null,null,null,null,null,null,null,null,null,null,null,null,null,null,null,null,null,null,21,654.79999999999995,0.108,null,224.4,3.3000000000000002E-2,null,161,2.1999999999999999E-2,null,64.2,1.0999999999999999E-2,null,28.7,0]
[null,null,null,null,null,null,null,null,null,null,null,null,null,null,null,null,null,null,null,null,null,null,null,"Other",0.18,0.85260000000000002,0.71499999999999997,0.92980000000000007,0.79500000000000004,null,null,null,null,null,null,null,null,null,null,null,null,null,null,null,null,null,null,null,null,null,null,null,null,22,{"$f":"((($BB142-$BB$141)*(BC$145-BC$141))/($BB$145-$BB$141))+BC$141","v":665.8},0.108,null,{"$f":"((($BB142-$BB$141)*(BF$145-BF$141))/($BB$145-$BB$141))+BF$141","v":235.4},3.3000000000000002E-2,null,{"$f":"((($BB142-$BB$141)*(BI$145-BI$141))/($BB$145-$BB$141))+BI$141","v":172},2.1999999999999999E-2,null,{"$f":"((($BB142-$BB$141)*(BL$145-BL$141))/($BB$145-$BB$141))+BL$141","v":75.2},1.0999999999999999E-2,null,{"$f":"((($BB142-$BB$141)*(BO$145-BO$141))/($BB$145-$BB$141))+BO$141","v":39.700000000000003},0]
[null,null,null,null,null,null,null,null,null,null,null,null,null,null,null,null,null,null,null,null,null,null,null,"Other",0.19,0.8508,0.71099999999999997,0.9274,0.78900000000000003,null,null,null,null,null,null,null,null,null,null,null,null,null,null,null,null,null,null,null,null,null,null,null,null,23,676.8,0.108,null,246.39999999999998,3.3000000000000002E-2,null,183,2.1999999999999999E-2,null,86.2,1.0999999999999999E-2,null,50.7,0]
[null,null,null,null,null,null,null,null,null,null,null,null,null,null,null,null,null,null,null,null,null,null,null,"Other",0.2,0.84899999999999998,0.70699999999999996,0.92500000000000004,0.78300000000000003,null,null,null,null,null,null,null,null,null,null,null,null,null,null,null,null,null,null,null,null,null,null,null,null,24,687.8,0.108,null,257.39999999999998,3.3000000000000002E-2,null,194,2.1999999999999999E-2,null,97.2,1.0999999999999999E-2,null,61.7,0]
[null,null,null,null,null,null,null,null,null,null,null,null,null,null,null,null,null,null,null,null,null,null,null,"Other",0.21,{"$f":"((($Y145-$Y$144)*(Z$149-Z$144))/($Y$149-$Y$144))+Z$144","v":0.84719999999999995},0.70279999999999998,0.92220000000000002,0.77760000000000007,null,null,null,null,null,null,null,null,null,null,null,null,null,null,null,null,null,null,null,null,null,null,null,null,25,698.8,0.108,null,268.39999999999998,3.3000000000000002E-2,null,205,2.1999999999999999E-2,null,108.2,1.0999999999999999E-2,null,72.7,0]
[null,null,null,null,null,null,null,null,null,null,null,null,null,null,null,null,null,null,null,null,null,null,null,"Other",0.22,0.84539999999999993,0.6986,0.9194,0.7722,null,null,null,null,null,null,null,null,null,null,null,null,null,null,null,null,null,null,null,null,null,null,null,null,26,{"$f":"((($BB$146-$BB$145)*(BC147-BC145))/($BB$147-$BB$145))+BC145","v":708},{"$f":"((($BB$146-$BB$145)*(BD147-BD145))/($BB$147-$BB$145))+BD145","v":0.11349999999999999},null,{"$f":"((($BB$146-$BB$145)*(BF147-BF145))/($BB$147-$BB$145))+BF145","v":277.60000000000002},{"$f":"((($BB$146-$BB$145)*(BG147-BG145))/($BB$147-$BB$145))+BG145","v":3.7999999999999999E-2},null,{"$f":"((($BB$146-$BB$145)*(BI147-BI145))/($BB$147-$BB$145))+BI145","v":165.5},{"$f":"((($BB$146-$BB$145)*(BJ147-BJ145))/($BB$147-$BB$145))+BJ145","v":2.75E-2},null,{"$f":"((($BB$146-$BB$145)*(BL147-BL145))/($BB$147-$BB$145))+BL145","v":117.4},{"$f":"((($BB$146-$BB$145)*(BM147-BM145))/($BB$147-$BB$145))+BM145","v":1.6500000000000001E-2},null,{"$f":"((($BB$146-$BB$145)*(BO147-BO145))/($BB$147-$BB$145))+BO145","v":81.95},{"$f":"((($BB$146-$BB$145)*(BP147-BP145))/($BB$147-$BB$145))+BP145","v":5.4999999999999997E-3}]
[null,null,null,null,null,null,null,null,null,null,null,null,null,null,null,null,null,null,null,null,null,null,null,"Other",0.23,0.84360000000000002,0.69440000000000002,0.91660000000000008,0.76680000000000004,null,null,null,null,null,null,null,null,null,null,null,null,null,null,null,null,null,null,null,null,null,null,null,null,27,717.2,0.11899999999999999,null,286.8,4.2999999999999997E-2,null,126,3.3000000000000002E-2,null,126.6,2.1999999999999999E-2,null,91.2,1.0999999999999999E-2]
[null,null,null,null,null,null,null,null,null,null,null,null,null,null,null,null,null,null,null,null,null,null,null,"Other",0.24,0.84179999999999999,0.69020000000000004,0.91380000000000006,0.76139999999999997]
[null,null,null,null,null,null,null,null,null,null,null,null,null,null,null,null,null,null,null,null,null,null,null,"Other",0.25,0.84,0.68600000000000005,0.91100000000000003,0.75600000000000001]
[null,null,null,null,null,null,null,null,null,null,null,null,null,null,null,null,null,null,null,null,null,null,null,"Other",0.26,{"$f":"((($Y150-$Y$149)*(Z$154-Z$149))/($Y$154-$Y$149))+Z$149","v":0.83779999999999999},0.68240000000000001,0.90839999999999999,0.751]
[null,null,null,null,null,null,null,null,null,null,null,null,null,null,null,null,null,null,null,null,null,null,null,"Other",0.27,0.83560000000000001,0.67880000000000007,0.90580000000000005,0.746]
[null,null,null,null,null,null,null,null,null,null,null,null,null,null,null,null,null,null,null,null,null,null,null,"Other",0.28000000000000003,0.83339999999999992,0.67520000000000002,0.9032,0.74099999999999999,null,null,null,null,null,null,null,null,null,null,null,null,null,null,null,null,null,null,null,null,null,null,null,null,"Wall Insulation - HVAC: AC with Electric Heat"]
[null,null,null,null,null,null,null,null,null,null,null,null,null,null,null,null,null,null,null,null,null,null,null,"Other",0.28999999999999998,0.83119999999999994,0.67160000000000009,0.90060000000000007,0.73599999999999999,null,null,null,null,null,null,null,null,null,null,null,null,null,null,null,null,null,null,null,null,null,null,null,null,"Base",0,null,null,11,null,null,13,null,null,17,null,null,19]
[null,null,null,null,null,null,null,null,null,null,null,null,null,null,null,null,null,null,null,null,null,null,null,"Other",0.3,0.82899999999999996,0.66800000000000004,0.89800000000000002,0.73099999999999998,null,null,null,null,null,null,null,null,null,null,null,null,null,null,null,null,null,null,null,null,null,null,null,null,"Measure","kWh/ kSF","kW/ kSF",null,"kWh/ kSF","kW/ kSF",null,"kWh/ kSF","kW/ kSF",null,"kWh/ kSF","kW/ kSF",null,"kWh/ kSF","kW/ kSF"]
[null,null,null,null,null,null,null,null,null,null,null,null,null,null,null,null,null,null,null,null,null,null,null,null,null,null,null,null,null,null,null,null,null,null,null,null,null,null,null,null,null,null,null,null,null,null,null,null,null,null,null,null,null,11,840.8,5.3999999999999999E-2]
[null,null,null,null,null,null,null,null,null,null,null,null,null,null,null,null,null,null,null,null,null,null,null,null,null,null,null,null,null,null,null,null,null,null,null,null,null,null,null,null,null,null,null,null,null,null,null,null,null,null,null,null,null,12,{"$f":"((($BB$156-$BB$155)*(BC157-BC155))/($BB$157-$BB$155))+BC155","v":904.4},{"$f":"((($BB$156-$BB$155)*(BD157-BD155))/($BB$157-$BB$155))+BD155","v":5.9499999999999997E-2},null,{"$f":"((($BB$156-$BB$155)*(BF157-BF155))/($BB$157-$BB$155))+BF155","v":63.6},{"$f":"((($BB$156-$BB$155)*(BG157-BG155))/($BB$157-$BB$155))+BG155","v":5.4999999999999997E-3},null,{"$f":"((($BB$156-$BB$155)*(BI157-BI155))/($BB$157-$BB$155))+BI155","v":0},{"$f":"((($BB$156-$BB$155)*(BJ157-BJ155))/($BB$157-$BB$155))+BJ155","v":0},null,{"$f":"((($BB$156-$BB$155)*(BL157-BL155))/($BB$157-$BB$155))+BL155","v":0},{"$f":"((($BB$156-$BB$155)*(BM157-BM155))/($BB$157-$BB$155))+BM155","v":0},null,{"$f":"((($BB$156-$BB$155)*(BO157-BO155))/($BB$157-$BB$155))+BO155","v":0},{"$f":"((($BB$156-$BB$155)*(BP157-BP155))/($BB$157-$BB$155))+BP155","v":0}]
[null,null,null,null,null,null,null,null,null,null,null,null,null,null,null,null,null,null,null,null,null,null,null,null,null,null,null,null,null,null,null,null,null,null,null,null,null,null,null,null,null,null,null,null,null,null,null,null,null,null,null,null,null,13,968,6.5000000000000002E-2,null,127.2,1.0999999999999999E-2]
[null,null,null,null,null,null,null,null,null,null,null,null,null,null,null,null,null,null,null,null,null,null,null,null,null,null,null,null,null,null,null,null,null,null,null,null,null,null,null,null,null,null,null,null,null,null,null,null,null,null,null,null,null,14,{"$f":"((($BB158-$BB$157)*(BC$161-BC$157))/($BB$161-$BB$157))+BC$157","v":1015.5},6.7750000000000005E-2,null,{"$f":"((($BB158-$BB$157)*(BF$161-BF$157))/($BB$161-$BB$157))+BF$157","v":174.72500000000002},{"$f":"((($BB158-$BB$157)*(BG$161-BG$157))/($BB$161-$BB$157))+BG$157","v":1.3749999999999998E-2},null,{"$f":"((($BB158-$BB$157)*(BI$161-BI$157))/($BB$161-$BB$157))+BI$157","v":47.5},2.7499999999999998E-3,null,{"$f":"((($BB158-$BB$157)*(BL$161-BL$157))/($BB$161-$BB$157))+BL$157","v":0},0,null,{"$f":"((($BB158-$BB$157)*(BO$161-BO$157))/($BB$161-$BB$157))+BO$157","v":0},0]
[null,null,null,null,null,null,null,null,null,null,null,null,null,null,null,null,null,null,null,null,null,null,null,null,null,null,null,null,null,null,null,null,null,null,null,null,null,null,null,null,null,null,null,null,null,null,null,null,null,null,null,null,null,15,1063,7.0500000000000007E-2,null,{"$f":"((($BB159-$BB$157)*(BF$161-BF$157))/($BB$161-$BB$157))+BF$157","v":222.25},{"$f":"((($BB159-$BB$157)*(BG$161-BG$157))/($BB$161-$BB$157))+BG$157","v":1.6500000000000001E-2},null,95,5.4999999999999997E-3,null,0,0,null,0,0]
[null,null,null,null,null,null,null,null,null,null,null,null,null,null,null,null,null,null,null,null,null,null,null,null,null,null,null,null,null,null,null,null,null,null,null,null,null,null,null,null,null,null,null,null,null,null,null,null,null,null,null,null,null,16,1110.5,7.3249999999999996E-2,null,269.77500000000003,{"$f":"((($BB160-$BB$157)*(BG$161-BG$157))/($BB$161-$BB$157))+BG$157","v":1.925E-2},null,142.5,8.2500000000000004E-3,null,0,0,null,0,0]
[null,null,null,null,null,null,null,null,null,null,null,null,null,null,null,null,null,null,null,null,null,null,null,null,null,null,null,null,null,null,null,null,null,null,null,null,null,null,null,null,null,null,null,null,null,null,null,null,null,null,null,null,null,17,1158,7.5999999999999998E-2,null,317.3,2.1999999999999999E-2,null,190,1.0999999999999999E-2]
[null,null,null,null,null,null,null,null,null,null,null,null,null,null,null,null,null,null,null,null,null,null,null,null,null,null,null,null,null,null,null,null,null,null,null,null,null,null,null,null,null,null,null,null,null,null,null,null,null,null,null,null,null,18,{"$f":"((($BB$162-$BB$161)*(BC163-BC161))/($BB$163-$BB$161))+BC161","v":1192.7},{"$f":"((($BB$162-$BB$161)*(BD163-BD161))/($BB$163-$BB$161))+BD161","v":7.5999999999999998E-2},null,{"$f":"((($BB$162-$BB$161)*(BF163-BF161))/($BB$163-$BB$161))+BF$161","v":351.95000000000005},{"$f":"((($BB$162-$BB$161)*(BG163-BG161))/($BB$163-$BB$161))+BG161","v":2.1999999999999999E-2},null,{"$f":"((($BB$162-$BB$161)*(BI163-BI161))/($BB$163-$BB$161))+BI161","v":224.7},{"$f":"((($BB$162-$BB$161)*(BJ163-BJ161))/($BB$163-$BB$161))+BJ161","v":1.0999999999999999E-2},null,{"$f":"((($BB$162-$BB$161)*(BL163-BL161))/($BB$163-$BB$161))+BL161","v":34.700000000000003},{"$f":"((($BB$162-$BB$161)*(BM163-BM161))/($BB$163-$BB$161))+BM161","v":0},null,{"$f":"((($BB$162-$BB$161)*(BO163-BO161))/($BB$163-$BB$161))+BO161","v":0},{"$f":"((($BB$162-$BB$161)*(BP163-BP161))/($BB$163-$BB$161))+BP161","v":0}]
[null,null,null,null,null,null,null,null,null,null,null,null,null,null,null,null,null,null,null,null,null,null,null,null,null,null,null,null,null,null,null,null,null,null,null,null,null,null,null,null,null,null,null,null,null,null,null,null,null,null,null,null,null,19,1227.4000000000001,7.5999999999999998E-2,null,386.6,2.1999999999999999E-2,null,259.39999999999998,1.0999999999999999E-2,null,69.400000000000006,0,null,0,0]
[null,null,null,null,null,null,null,null,null,null,null,null,null,null,null,null,null,null,null,null,null,null,null,null,null,null,null,null,null,null,null,null,null,null,null,null,null,null,null,null,null,null,null,null,null,null,null,null,null,null,null,null,null,20,{"$f":"((($BB$164-$BB$163)*(BC165-BC163))/($BB$165-$BB$163))+BC163","v":1256.0999999999999},{"$f":"((($BB$164-$BB$163)*(BD165-BD163))/($BB$165-$BB$163))+BD163","v":7.5999999999999998E-2},null,{"$f":"((($BB$164-$BB$163)*(BF165-BF163))/($BB$165-$BB$163))+BF163","v":415.35},{"$f":"((($BB$164-$BB$163)*(BG165-BG163))/($BB$165-$BB$163))+BG163","v":2.1999999999999999E-2},null,{"$f":"((($BB$164-$BB$163)*(BI165-BI163))/($BB$165-$BB$163))+BI163","v":288.10000000000002},{"$f":"((($BB$164-$BB$163)*(BJ165-BJ163))/($BB$165-$BB$163))+BJ163","v":1.0999999999999999E-2},null,{"$f":"((($BB$164-$BB$163)*(BL165-BL163))/($BB$165-$BB$163))+BL163","v":98.1},{"$f":"((($BB$164-$BB$163)*(BM165-BM163))/($BB$165-$BB$163))+BM163","v":0},null,{"$f":"((($BB$164-$BB$163)*(BO165-BO163))/($BB$165-$BB$163))+BO163","v":28.7},{"$f":"((($BB$164-$BB$163)*(BP165-BP163))/($BB$165-$BB$163))+BP163","v":0}]
[null,null,null,null,null,null,null,null,null,null,null,null,null,null,null,null,null,null,null,null,null,null,null,null,null,null,null,null,null,null,null,null,null,null,null,null,null,null,null,null,null,null,null,null,null,null,null,null,null,null,null,null,null,21,1284.8,7.5999999999999998E-2,null,444.1,2.1999999999999999E-2,null,316.8,1.0999999999999999E-2,null,126.8,0,null,57.4,0]
[null,null,null,null,null,null,null,null,null,null,null,null,null,null,null,null,null,null,null,null,null,null,null,null,null,null,null,null,null,null,null,null,null,null,null,null,null,null,null,null,null,null,null,null,null,null,null,null,null,null,null,null,null,22,{"$f":"((($BB166-$BB$165)*(BC$169-BC$165))/($BB$169-$BB$165))+BC$165","v":1307.175},7.8750000000000001E-2,null,{"$f":"((($BB166-$BB$165)*(BF$169-BF$165))/($BB$169-$BB$165))+BF$165","v":466.45000000000005},2.4750000000000001E-2,null,{"$f":"((($BB166-$BB$165)*(BI$169-BI$165))/($BB$169-$BB$165))+BI$165","v":339.15},1.3749999999999998E-2,null,{"$f":"((($BB166-$BB$165)*(BJ$169-BJ$165))/($BB$169-$BB$165))+BJ$165","v":1.3749999999999998E-2},{"$f":"((($BB166-$BB$165)*(BM$169-BM$165))/($BB$169-$BB$165))+BM$165","v":2.7499999999999998E-3},null,{"$f":"((($BB166-$BB$165)*(BO$169-BO$165))/($BB$169-$BB$165))+BO$165","v":79.775000000000006},0]
[null,null,null,null,null,null,null,null,null,null,null,null,null,null,null,null,null,null,null,null,null,null,null,null,null,null,null,null,null,null,null,null,null,null,null,null,null,null,null,null,null,null,null,null,null,null,null,null,null,null,null,null,null,23,1329.55,8.1499999999999989E-2,null,488.8,2.75E-2,null,361.5,1.6500000000000001E-2,null,{"$f":"((($BB167-$BB$165)*(BL$169-BL$165))/($BB$169-$BB$165))+BL$165","v":171.5},{"$f":"((($BB167-$BB$165)*(BM$169-BM$165))/($BB$169-$BB$165))+BM$165","v":5.4999999999999997E-3},null,102.15,0]
[null,null,null,null,null,null,null,null,null,null,null,null,null,null,null,null,null,null,null,null,null,null,null,null,null,null,null,null,null,null,null,null,null,null,null,null,null,null,null,null,null,null,null,null,null,null,null,null,null,null,null,null,null,24,1351.925,8.4249999999999992E-2,null,511.15,3.0249999999999999E-2,null,383.85,1.925E-2,null,{"$f":"((($BB168-$BB$165)*(BL$169-BL$165))/($BB$169-$BB$165))+BL$165","v":193.85},{"$f":"((($BB168-$BB$165)*(BM$169-BM$165))/($BB$169-$BB$165))+BM$165","v":8.2500000000000004E-3},null,124.52500000000001,0]
[null,null,null,null,null,null,null,null,null,null,null,null,null,null,null,null,null,null,null,null,null,null,null,null,null,null,null,null,null,null,null,null,null,null,null,null,null,null,null,null,null,null,null,null,null,null,null,null,null,null,null,null,null,25,1374.3,8.6999999999999994E-2,null,533.5,3.3000000000000002E-2,null,406.2,2.1999999999999999E-2,null,216.2,1.0999999999999999E-2,null,146.9,0]
[null,null,null,null,null,null,null,null,null,null,null,null,null,null,null,null,null,null,null,null,null,null,null,null,null,null,null,null,null,null,null,null,null,null,null,null,null,null,null,null,null,null,null,null,null,null,null,null,null,null,null,null,null,26,{"$f":"((($BB$170-$BB$169)*(BC171-BC169))/($BB$171-$BB$169))+BC169","v":1392.1999999999998},{"$f":"((($BB$170-$BB$169)*(BD171-BD169))/($BB$171-$BB$169))+BD169","v":8.6999999999999994E-2},null,{"$f":"((($BB$170-$BB$169)*(BF171-BF169))/($BB$171-$BB$169))+BF169","v":551.45000000000005},{"$f":"((($BB$170-$BB$169)*(BG171-BG169))/($BB$171-$BB$169))+BG169","v":3.3000000000000002E-2},null,{"$f":"((($BB$170-$BB$169)*(BI171-BI169))/($BB$171-$BB$169))+BI169","v":424.15},{"$f":"((($BB$170-$BB$169)*(BJ171-BJ169))/($BB$171-$BB$169))+BJ169","v":2.1999999999999999E-2},null,{"$f":"((($BB$170-$BB$169)*(BL171-BL169))/($BB$171-$BB$169))+BL169","v":234.14999999999998},{"$f":"((($BB$170-$BB$169)*(BM171-BM169))/($BB$171-$BB$169))+BM169","v":1.0999999999999999E-2},null,{"$f":"((($BB$170-$BB$169)*(BO171-BO169))/($BB$171-$BB$169))+BO169","v":164.8},{"$f":"((($BB$170-$BB$169)*(BP171-BP169))/($BB$171-$BB$169))+BP169","v":5.4999999999999997E-3}]
[null,null,null,null,null,null,null,null,null,null,null,null,null,null,null,null,null,null,null,null,null,null,null,null,null,null,null,null,null,null,null,null,null,null,null,null,null,null,null,null,null,null,null,null,null,null,null,null,null,null,null,null,null,27,1410.1,8.6999999999999994E-2,null,569.4,3.3000000000000002E-2,null,442.1,2.1999999999999999E-2,null,252.1,1.0999999999999999E-2,null,182.7,1.0999999999999999E-2]
[]
[]
[]
[]
[null,null,null,null,null,null,null,null,null,null,null,null,null,null,null,null,null,null,null,null,null,null,null,null,null,null,null,null,null,null,null,null,null,null,null,null,null,null,null,null,null,null,null,null,null,null,null,null,null,null,null,null,null,"Wall Insulation - HVAC: Electric Heat No AC"]
[null,null,null,null,null,null,null,null,null,null,null,null,null,null,null,null,null,null,null,null,null,null,null,null,null,null,null,null,null,null,null,null,null,null,null,null,null,null,null,null,null,null,null,null,null,null,null,null,null,null,null,null,null,"Base",0,null,null,11,null,null,13,null,null,17,null,null,19]
[null,null,null,null,null,null,null,null,null,null,null,null,null,null,null,null,null,null,null,null,null,null,null,null,null,null,null,null,null,null,null,null,null,null,null,null,null,null,null,null,null,null,null,null,null,null,null,null,null,null,null,null,null,"Measure","kWh/ kSF","kW/ kSF",null,"kWh/ kSF","kW/ kSF",null,"kWh/ kSF","kW/ kSF",null,"kWh/ kSF","kW/ kSF",null,"kWh/ kSF","kW/ kSF"]
[null,null,null,null,null,null,null,null,null,null,null,null,null,null,null,null,null,null,null,null,null,null,null,null,null,null,null,null,null,null,null,null,null,null,null,null,null,null,null,null,null,null,null,null,null,null,null,null,null,null,null,null,null,11,798.1,0]
[null,null,null,null,null,null,null,null,null,null,null,null,null,null,null,null,null,null,null,null,null,null,null,null,null,null,null,null,null,null,null,null,null,null,null,null,null,null,null,null,null,null,null,null,null,null,null,null,null,null,null,null,null,12,{"$f":"(((BB180-BB181)*(BC181-BC179))/($BB$181-BB179))+BC179","v":736.35},{"$f":"(((BC180-BC181)*(BD181-BD179))/($BB$181-BC179))+BD179","v":0},null,{"$f":"((($BB$180-$BB$179)*(BF181-BF179))/($BB$181-$BB$179))+BF179","v":61.8},{"$f":"((($BB$180-$BB$179)*(BG181-BG179))/($BB$181-$BB$179))+BG179","v":0},null,{"$f":"((($BB$180-$BB$179)*(BI181-BI179))/($BB$181-$BB$179))+BI179","v":0},{"$f":"((($BB$180-$BB$179)*(BJ181-BJ179))/($BB$181-$BB$179))+BJ179","v":0},null,{"$f":"((($BB$180-$BB$179)*(BL181-BL179))/($BB$181-$BB$179))+BL179","v":0},{"$f":"((($BB$180-$BB$179)*(BM181-BM179))/($BB$181-$BB$179))+BM179","v":0},null,{"$f":"((($BB$180-$BB$179)*(BO181-BO179))/($BB$181-$BB$179))+BO179","v":0},{"$f":"((($BB$180-$BB$179)*(BP181-BP179))/($BB$181-$BB$179))+BP179","v":0}]
[null,null,null,null,null,null,null,null,null,null,null,null,null,null,null,null,null,null,null,null,null,null,null,null,null,null,null,null,null,null,null,null,null,null,null,null,null,null,null,null,null,null,null,null,null,null,null,null,null,null,null,null,null,13,921.6,0,null,123.6,0,null,0,0,null,0,0,null,0,0]
[null,null,null,null,null,null,null,null,null,null,null,null,null,null,null,null,null,null,null,null,null,null,null,null,null,null,null,null,null,null,null,null,null,null,null,null,null,null,null,null,null,null,null,null,null,null,null,null,null,null,null,null,null,14,{"$f":"((($BB182-$BB$181)*(BC$185-BC$181))/($BB$185-$BB$181))+BC$181","v":966.5},0,null,{"$f":"((($BB182-$BB$181)*(BF$185-BF$181))/($BB$185-$BB$181))+BF$181","v":168.5},0,null,{"$f":"((($BB182-$BB$181)*(BI$185-BI$181))/($BB$185-$BB$181))+BI$181","v":44.9},0,null,{"$f":"((($BB182-$BB$181)*(BL$185-BL$181))/($BB$185-$BB$181))+BL$181","v":0},0,null,{"$f":"((($BB182-$BB$181)*(BO$185-BO$181))/($BB$185-$BB$181))+BO$181","v":0},0]
[null,null,null,null,null,null,null,null,null,null,null,null,null,null,null,null,null,null,null,null,null,null,null,null,null,null,null,null,null,null,null,null,null,null,null,null,null,null,null,null,null,null,null,null,null,null,null,null,null,null,null,null,null,15,1011.4000000000001,0,null,213.39999999999998,0,null,89.8,0,null,0,0,null,0,0]
[null,null,null,null,null,null,null,null,null,null,null,null,null,null,null,null,null,null,null,null,null,null,null,null,null,null,null,null,null,null,null,null,null,null,null,null,null,null,null,null,null,null,null,null,null,null,null,null,null,null,null,null,null,16,1056.3,0,null,258.29999999999995,0,null,134.69999999999999,0,null,0,0,null,0,0]
[null,null,null,null,null,null,null,null,null,null,null,null,null,null,null,null,null,null,null,null,null,null,null,null,null,null,null,null,null,null,null,null,null,null,null,null,null,null,null,null,null,null,null,null,null,null,null,null,null,null,null,null,null,17,1101.2,0,null,303.2,0,null,179.6,0,null,0,0,null,0,0]
[null,null,null,null,null,null,null,null,null,null,null,null,null,null,null,null,null,null,null,null,null,null,null,null,null,null,null,null,null,null,null,null,null,null,null,null,null,null,null,null,null,null,null,null,null,null,null,null,null,null,null,null,null,18,{"$f":"((($BB$186-$BB$185)*(BC187-BC185))/($BB$187-$BB$185))+BC185","v":1133.95},{"$f":"((($BB$186-$BB$185)*(BD187-BD185))/($BB$187-$BB$185))+BD185","v":0},null,{"$f":"((($BB$186-$BB$185)*(BF187-BF185))/($BB$187-$BB$185))+BF185","v":335.9},{"$f":"((($BB$186-$BB$185)*(BG187-BG185))/($BB$187-$BB$185))+BG185","v":0},null,{"$f":"((($BB$186-$BB$185)*(BI187-BI185))/($BB$187-$BB$185))+BI185","v":212.35},{"$f":"((($BB$186-$BB$185)*(BJ187-BJ185))/($BB$187-$BB$185))+BJ185","v":0},null,{"$f":"((($BB$186-$BB$185)*(BL187-BL185))/($BB$187-$BB$185))+BL185","v":32.75},{"$f":"((($BB$186-$BB$185)*(BM187-BM185))/($BB$187-$BB$185))+BM185","v":0},null,{"$f":"((($BB$186-$BB$185)*(BO187-BO185))/($BB$187-$BB$185))+BO185","v":0},{"$f":"((($BB$186-$BB$185)*(BP187-BP185))/($BB$187-$BB$185))+BP185","v":0}]
[null,null,null,null,null,null,null,null,null,null,null,null,null,null,null,null,null,null,null,null,null,null,null,null,null,null,null,null,null,null,null,null,null,null,null,null,null,null,null,null,null,null,null,null,null,null,null,null,null,null,null,null,null,19,1166.7,0,null,368.6,0,null,245.1,0,null,65.5,0,null,0,0]
[null,null,null,null,null,null,null,null,null,null,null,null,null,null,null,null,null,null,null,null,null,null,null,null,null,null,null,null,null,null,null,null,null,null,null,null,null,null,null,null,null,null,null,null,null,null,null,null,null,null,null,null,null,20,{"$f":"((($BB$188-$BB$187)*(BC189-BC187))/($BB$189-$BB$187))+BC187","v":1194.0999999999999},{"$f":"((($BB$188-$BB$187)*(BD189-BD187))/($BB$189-$BB$187))+BD187","v":0},null,{"$f":"((($BB$188-$BB$187)*(BF189-BF187))/($BB$189-$BB$187))+BF187","v":396.05},{"$f":"((($BB$188-$BB$187)*(BG189-BG187))/($BB$189-$BB$187))+BG187","v":0},null,{"$f":"((($BB$188-$BB$187)*(BI189-BI187))/($BB$189-$BB$187))+BI187","v":272.5},{"$f":"((($BB$188-$BB$187)*(BJ189-BJ187))/($BB$189-$BB$187))+BJ187","v":0},null,{"$f":"((($BB$188-$BB$187)*(BL189-BL187))/($BB$189-$BB$187))+BL187","v":92.9},{"$f":"((($BB$188-$BB$187)*(BM189-BM187))/($BB$189-$BB$187))+BM187","v":0},null,{"$f":"((($BB$188-$BB$187)*(BO189-BO187))/($BB$189-$BB$187))+BO187","v":27.4},{"$f":"((($BB$188-$BB$187)*(BP189-BP187))/($BB$189-$BB$187))+BP187","v":0}]
[null,null,null,null,null,null,null,null,null,null,null,null,null,null,null,null,null,null,null,null,null,null,null,null,null,null,null,null,null,null,null,null,null,null,null,null,null,null,null,null,null,null,null,null,null,null,null,null,null,null,null,null,null,21,1221.5,0,null,423.5,0,null,299.89999999999998,0,null,120.3,0,null,54.8,0]
[null,null,null,null,null,null,null,null,null,null,null,null,null,null,null,null,null,null,null,null,null,null,null,null,null,null,null,null,null,null,null,null,null,null,null,null,null,null,null,null,null,null,null,null,null,null,null,null,null,null,null,null,null,22,{"$f":"((($BB190-$BB$189)*(BC$193-BC$189))/($BB$193-$BB$189))+BC$189","v":1243.0250000000001},0,null,{"$f":"((($BB190-$BB$189)*(BF$193-BF$189))/($BB$193-$BB$189))+BF$189","v":445},0,null,{"$f":"((($BB190-$BB$189)*(BI$193-BI$189))/($BB$193-$BB$189))+BI$189","v":321.42499999999995},0,null,{"$f":"((($BB190-$BB$189)*(BL$193-BL$189))/($BB$193-$BB$189))+BL$189","v":141.82499999999999},0,null,{"$f":"((($BB190-$BB$189)*(BO$193-BO$189))/($BB$193-$BB$189))+BO$189","v":76.325000000000003},{"$f":"((($BB190-$BB$189)*(BP$193-BP$189))/($BB$193-$BB$189))+BP189","v":0}]
[null,null,null,null,null,null,null,null,null,null,null,null,null,null,null,null,null,null,null,null,null,null,null,null,null,null,null,null,null,null,null,null,null,null,null,null,null,null,null,null,null,null,null,null,null,null,null,null,null,null,null,null,null,23,1264.55,0,null,466.5,0,null,342.95,0,null,163.35,0,null,{"$f":"((($BB191-$BB$189)*(BO$193-BO$189))/($BB$193-$BB$189))+BO$189","v":97.85},{"$f":"((($BB191-$BB$189)*(BP$193-BP$189))/($BB$193-$BB$189))+BP190","v":0}]
[null,null,null,null,null,null,null,null,null,null,null,null,null,null,null,null,null,null,null,null,null,null,null,null,null,null,null,null,null,null,null,null,null,null,null,null,null,null,null,null,null,null,null,null,null,null,null,null,null,null,null,null,null,24,1286.0749999999998,0,null,488,0,null,364.47500000000002,0,null,184.875,0,null,{"$f":"((($BB192-$BB$189)*(BO$193-BO$189))/($BB$193-$BB$189))+BO$189","v":119.375},{"$f":"((($BB192-$BB$189)*(BP$193-BP$189))/($BB$193-$BB$189))+BP191","v":0}]
[null,null,null,null,null,null,null,null,null,null,null,null,null,null,null,null,null,null,null,null,null,null,null,null,null,null,null,null,null,null,null,null,null,null,null,null,null,null,null,null,null,null,null,null,null,null,null,null,null,null,null,null,null,25,1307.5999999999999,0,null,509.5,0,null,386,0,null,206.4,0,null,140.9,0]
[null,null,null,null,null,null,null,null,null,null,null,null,null,null,null,null,null,null,null,null,null,null,null,null,null,null,null,null,null,null,null,null,null,null,null,null,null,null,null,null,null,null,null,null,null,null,null,null,null,null,null,null,null,26,{"$f":"((($BB$194-$BB$193)*(BC195-BC193))/($BB$195-$BB$193))+BC193","v":1324.6},{"$f":"((($BB$194-$BB$193)*(BD195-BD193))/($BB$195-$BB$193))+BD193","v":0},null,{"$f":"((($BB$194-$BB$193)*(BF195-BF193))/($BB$195-$BB$193))+BF193","v":526.54999999999995},{"$f":"((($BB$194-$BB$193)*(BG195-BG193))/($BB$195-$BB$193))+BG193","v":0},null,{"$f":"((($BB$194-$BB$193)*(BI195-BI193))/($BB$195-$BB$193))+BI193","v":403},{"$f":"((($BB$194-$BB$193)*(BJ195-BJ193))/($BB$195-$BB$193))+BJ193","v":0},null,{"$f":"((($BB$194-$BB$193)*(BL195-BL193))/($BB$195-$BB$193))+BL193","v":223.4},{"$f":"((($BB$194-$BB$193)*(BM195-BM193))/($BB$195-$BB$193))+BM193","v":0},null,{"$f":"((($BB$194-$BB$193)*(BO195-BO193))/($BB$195-$BB$193))+BO193","v":157.9},{"$f":"((($BB$194-$BB$193)*(BP195-BP193))/($BB$195-$BB$193))+BP193","v":0}]
[null,null,null,null,null,null,null,null,null,null,null,null,null,null,null,null,null,null,null,null,null,null,null,null,null,null,null,null,null,null,null,null,null,null,null,null,null,null,null,null,null,null,null,null,null,null,null,null,null,null,null,null,null,27,1341.6,0,null,543.6,0,null,420,0,null,240.4,0,null,174.9,0]
[]
[]
[]
[]
[null,null,null,null,null,null,null,null,null,null,null,null,null,null,null,null,null,null,null,null,null,null,null,null,null,null,null,null,null,null,null,null,null,null,null,null,null,null,null,null,null,null,null,null,null,null,null,null,null,null,null,null,null,"Wall Insulation - HVAC: Gas Heat No AC"]
[null,null,null,null,null,null,null,null,null,null,null,null,null,null,null,null,null,null,null,null,null,null,null,null,null,null,null,null,null,null,null,null,null,null,null,null,null,null,null,null,null,null,null,null,null,null,null,null,null,null,null,null,null,"Base",0,null,null,11,null,null,13,null,null,17,null,null,19]
[null,null,null,null,null,null,null,null,null,null,null,null,null,null,null,null,null,null,null,null,null,null,null,null,null,null,null,null,null,null,null,null,null,null,null,null,null,null,null,null,null,null,null,null,null,null,null,null,null,null,null,null,null,"Measure","kWh/ kSF","kW/ kSF","therm/ kSF","kWh/ kSF","kW/ kSF","therm/ kSF","kWh/ kSF","kW/ kSF","therm/ kSF","kWh/ kSF","kW/ kSF","therm/ kSF","kWh/ kSF","kW/ kSF","therm/ kSF"]
[null,null,null,null,null,null,null,null,null,null,null,null,null,null,null,null,null,null,null,null,null,null,null,null,null,null,null,null,null,null,null,null,null,null,null,null,null,null,null,null,null,null,null,null,null,null,null,null,null,null,null,null,null,11,17.2,0,36.700000000000003]
[null,null,null,null,null,null,null,null,null,null,null,null,null,null,null,null,null,null,null,null,null,null,null,null,null,null,null,null,null,null,null,null,null,null,null,null,null,null,null,null,null,null,null,null,null,null,null,null,null,null,null,null,null,12,{"$f":"(((BB204-BB203)*(BC205-BC203))/($BB$205-BB203))+BC203","v":18.5},{"$f":"(((BB204-BB203)*(BD205-BD203))/($BB$205-BB203))+BD203","v":0},{"$f":"(((BB204-BB203)*(BE205-BE203))/($BB$205-BB203))+BE203","v":39.549999999999997},{"$f":"(((BB204-BB203)*(BF205-BF203))/($BB$205-BB203))+BF203","v":1.3},{"$f":"(((BB204-BB203)*(BG205-BG203))/($BB$205-BB203))+BG203","v":0},{"$f":"(((BB204-BB203)*(BH205-BH203))/($BB$205-BB203))+BH203","v":2.8},{"$f":"(((BB204-BB203)*(BI205-BI203))/($BB$205-BB203))+BI203","v":0},{"$f":"(((BB204-BB203)*(BJ205-BJ203))/($BB$205-BB203))+BJ203","v":0},{"$f":"(((BB204-BB203)*(BK205-BK203))/($BB$205-BB203))+BK203","v":0},{"$f":"(((BB204-BB203)*(BL205-BL203))/($BB$205-BB203))+BL203","v":0},{"$f":"(((BB204-BB203)*(BM205-BM203))/($BB$205-BB203))+BM203","v":0},{"$f":"(((BB204-BB203)*(BN205-BN203))/($BB$205-BB203))+BN203","v":0},{"$f":"(((BB204-BB203)*(BO205-BO203))/($BB$205-BB203))+BO203","v":0},{"$f":"(((BB204-BB203)*(BP205-BP203))/($BB$205-BB203))+BP203","v":0},{"$f":"(((BB204-BB203)*(BQ205-BQ203))/($BB$205-BB203))+BQ203","v":0}]
[null,null,null,null,null,null,null,null,null,null,null,null,null,null,null,null,null,null,null,null,null,null,null,null,null,null,null,null,null,null,null,null,null,null,null,null,null,null,null,null,null,null,null,null,null,null,null,null,null,null,null,null,null,13,19.8,0,42.4,2.6,0,5.6,0,0,0,0,0,0,0,0,0]
[null,null,null,null,null,null,null,null,null,null,null,null,null,null,null,null,null,null,null,null,null,null,null,null,null,null,null,null,null,null,null,null,null,null,null,null,null,null,null,null,null,null,null,null,null,null,null,null,null,null,null,null,null,14,{"$f":"((($BB206-$BB$205)*(BC$209-BC$205))/($BB$209-$BB$205))+BC$205","v":20.774999999999999},0,44.45,3.5750000000000002,0,7.6749999999999998,0.97499999999999998,0,2.0499999999999998,0,0,0,0,0,0]
[null,null,null,null,null,null,null,null,null,null,null,null,null,null,null,null,null,null,null,null,null,null,null,null,null,null,null,null,null,null,null,null,null,null,null,null,null,null,null,null,null,null,null,null,null,null,null,null,null,null,null,null,null,15,21.75,0,46.5,4.55,0,9.75,1.95,0,4.0999999999999996,0,0,0,0,0,0]
[null,null,null,null,null,null,null,null,null,null,null,null,null,null,null,null,null,null,null,null,null,null,null,null,null,null,null,null,null,null,null,null,null,null,null,null,null,null,null,null,null,null,null,null,null,null,null,null,null,null,null,null,null,16,22.725000000000001,0,48.55,5.5250000000000004,0,11.824999999999999,2.9249999999999998,0,6.1499999999999995,0,0,0,0,0,0]
[null,null,null,null,null,null,null,null,null,null,null,null,null,null,null,null,null,null,null,null,null,null,null,null,null,null,null,null,null,null,null,null,null,null,null,null,null,null,null,null,null,null,null,null,null,null,null,null,null,null,null,null,null,17,23.7,0,50.6,6.5,0,13.9,3.9,0,8.1999999999999993,0,0,0,0,0,0]
[null,null,null,null,null,null,null,null,null,null,null,null,null,null,null,null,null,null,null,null,null,null,null,null,null,null,null,null,null,null,null,null,null,null,null,null,null,null,null,null,null,null,null,null,null,null,null,null,null,null,null,null,null,18,{"$f":"((($BB$210-$BB$209)*(BC211-BC209))/($BB$211-$BB$209))+BC209","v":24.4},0,37.200000000000003,7.2,0,15.45,4.5999999999999996,0,9.8000000000000007,0.7,0,1.55,0,0,0]
[null,null,null,null,null,null,null,null,null,null,null,null,null,null,null,null,null,null,null,null,null,null,null,null,null,null,null,null,null,null,null,null,null,null,null,null,null,null,null,null,null,null,null,null,null,null,null,null,null,null,null,null,null,19,25.1,0,23.8,7.9,0,17,5.3,0,11.4,1.4,0,3.1,0,0,0]
[null,null,null,null,null,null,null,null,null,null,null,null,null,null,null,null,null,null,null,null,null,null,null,null,null,null,null,null,null,null,null,null,null,null,null,null,null,null,null,null,null,null,null,null,null,null,null,null,null,null,null,null,null,20,{"$f":"((($BB$212-$BB$211)*(BC213-BC211))/($BB$213-$BB$211))+BC211","v":25.700000000000003},0,40.049999999999997,8.5,0,18.25,5.9,0,12.65,2,0,4.3499999999999996,0.6,0,1.25]
[null,null,null,null,null,null,null,null,null,null,null,null,null,null,null,null,null,null,null,null,null,null,null,null,null,null,null,null,null,null,null,null,null,null,null,null,null,null,null,null,null,null,null,null,null,null,null,null,null,null,null,null,null,21,26.3,0,56.3,9.1,0,19.5,6.5,0,13.9,2.6,0,5.6,1.2,0,2.5]
[null,null,null,null,null,null,null,null,null,null,null,null,null,null,null,null,null,null,null,null,null,null,null,null,null,null,null,null,null,null,null,null,null,null,null,null,null,null,null,null,null,null,null,null,null,null,null,null,null,null,null,null,null,22,{"$f":"((($BB214-$BB$213)*(BC$217-BC$213))/($BB$217-$BB$213))+BC$213","v":26.8},0,57.3,9.6,0,20.5,7,0,14.9,3.1,0,6.6,1.675,0,3.5]
[null,null,null,null,null,null,null,null,null,null,null,null,null,null,null,null,null,null,null,null,null,null,null,null,null,null,null,null,null,null,null,null,null,null,null,null,null,null,null,null,null,null,null,null,null,null,null,null,null,null,null,null,null,23,27.3,0,58.3,10.1,0,21.5,7.5,0,15.899999999999999,3.5999999999999996,0,7.6,2.15,0,4.5]
[null,null,null,null,null,null,null,null,null,null,null,null,null,null,null,null,null,null,null,null,null,null,null,null,null,null,null,null,null,null,null,null,null,null,null,null,null,null,null,null,null,null,null,null,null,null,null,null,null,null,null,null,null,24,27.8,0,59.3,10.6,0,22.5,8,0,16.899999999999999,4.0999999999999996,0,8.6,2.625,0,5.5]
[null,null,null,null,null,null,null,null,null,null,null,null,null,null,null,null,null,null,null,null,null,null,null,null,null,null,null,null,null,null,null,null,null,null,null,null,null,null,null,null,null,null,null,null,null,null,null,null,null,null,null,null,null,25,28.3,0,60.3,11.1,0,23.5,8.5,0,17.899999999999999,4.5999999999999996,0,9.6,3.1,0,6.5]
[null,null,null,null,null,null,null,null,null,null,null,null,null,null,null,null,null,null,null,null,null,null,null,null,null,null,null,null,null,null,null,null,null,null,null,null,null,null,null,null,null,null,null,null,null,null,null,null,null,null,null,null,null,26,{"$f":"((($BB$218-$BB$217)*(BC219-BC217))/($BB$219-$BB$217))+BC217","v":28.65},0,61.05,11.45,0,24.25,8.85,0,18.649999999999999,4.9499999999999993,0,10.399999999999999,3.5,0,7.25]
[null,null,null,null,null,null,null,null,null,null,null,null,null,null,null,null,null,null,null,null,null,null,null,null,null,null,null,null,null,null,null,null,null,null,null,null,null,null,null,null,null,null,null,null,null,null,null,null,null,null,null,null,null,27,29,0,61.8,11.8,0,25,9.1999999999999993,0,19.399999999999999,5.3,0,11.2,3.9,0,8]
[]
[]
[]
[]
[null,null,null,null,null,null,null,null,null,null,null,null,null,null,null,null,null,null,null,null,null,null,null,null,null,null,null,null,null,null,null,null,null,null,null,null,null,null,null,null,null,null,null,null,null,null,null,null,null,null,null,null,null,"Ceiling Insulation - HVAC: AC with Gas Heat"]
[null,null,null,null,null,null,null,null,null,null,null,null,null,null,null,null,null,null,null,null,null,null,null,null,null,null,null,null,null,null,null,null,null,null,null,null,null,null,null,null,null,null,null,null,null,null,null,null,null,null,null,null,null,"Base",0,null,null,11,null,null,19,null,null,30,null,null,38]
[null,null,null,null,null,null,null,null,null,null,null,null,null,null,null,null,null,null,null,null,null,null,null,null,null,null,null,null,null,null,null,null,null,null,null,null,null,null,null,null,null,null,null,null,null,null,null,null,null,null,null,null,null,"Measure","kWh/ kSF","kW/ kSF","therm/ kSF","kWh/ kSF","kW/ kSF","therm/ kSF","kWh/ kSF","kW/ kSF","therm/ kSF","kWh/ kSF","kW/ kSF","therm/ kSF","kWh/ kSF","kW/ kSF","therm/ kSF"]
[null,null,null,null,null,null,null,null,null,null,null,null,null,null,null,null,null,null,null,null,null,null,null,null,null,null,null,null,null,null,null,null,null,null,null,null,null,null,null,null,null,null,null,null,null,null,null,null,null,null,null,null,null,11,415.2,0.307,224.4,0,0,0,0,0,0,0,0,0,0,0,0]
[null,null,null,null,null,null,null,null,null,null,null,null,null,null,null,null,null,null,null,null,null,null,null,null,null,null,null,null,null,null,null,null,null,null,null,null,null,null,null,null,null,null,null,null,null,null,null,null,null,null,null,null,null,12,{"$f":"((($BB228-$BB$227)*(BC$235-BC$227))/($BB$235-$BB$227))+BC$227","v":421.91249999999997},0.3155,227.9,6.7249999999999996,8.5000000000000006E-3,3.5,0,0,0,0,0,0,0,0,0]
[null,null,null,null,null,null,null,null,null,null,null,null,null,null,null,null,null,null,null,null,null,null,null,null,null,null,null,null,null,null,null,null,null,null,null,null,null,null,null,null,null,null,null,null,null,null,null,null,null,null,null,null,null,13,428.625,0.32400000000000001,231.4,13.45,1.7000000000000001E-2,7,0,0,0,0,0,0,0,0,0]
[null,null,null,null,null,null,null,null,null,null,null,null,null,null,null,null,null,null,null,null,null,null,null,null,null,null,null,null,null,null,null,null,null,null,null,null,null,null,null,null,null,null,null,null,null,null,null,null,null,null,null,null,null,14,435.33749999999998,0.33250000000000002,234.9,20.174999999999997,2.5500000000000002E-2,10.5,0,0,0,0,0,0,0,0,0]
[null,null,null,null,null,null,null,null,null,null,null,null,null,null,null,null,null,null,null,null,null,null,null,null,null,null,null,null,null,null,null,null,null,null,null,null,null,null,null,null,null,null,null,null,null,null,null,null,null,null,null,null,null,15,442.04999999999995,0.34099999999999997,238.4,26.9,3.4000000000000002E-2,14,0,0,0,0,0,0,0,0,0]
[null,null,null,null,null,null,null,null,null,null,null,null,null,null,null,null,null,null,null,null,null,null,null,null,null,null,null,null,null,null,null,null,null,null,null,null,null,null,null,null,null,null,null,null,null,null,null,null,null,null,null,null,null,16,448.76249999999999,0.34949999999999998,241.9,33.625,4.2500000000000003E-2,17.5,0,0,0,0,0,0,0,0,0]
[null,null,null,null,null,null,null,null,null,null,null,null,null,null,null,null,null,null,null,null,null,null,null,null,null,null,null,null,null,null,null,null,null,null,null,null,null,null,null,null,null,null,null,null,null,null,null,null,null,null,null,null,null,17,455.47499999999997,0.35799999999999998,245.4,40.349999999999994,5.1000000000000004E-2,21,0,0,0,0,0,0,0,0,0]
[null,null,null,null,null,null,null,null,null,null,null,null,null,null,null,null,null,null,null,null,null,null,null,null,null,null,null,null,null,null,null,null,null,null,null,null,null,null,null,null,null,null,null,null,null,null,null,null,null,null,null,null,null,18,462.1875,0.36649999999999999,248.9,47.074999999999996,5.9500000000000004E-2,24.5,0,0,0,0,0,0,0,0,0]
[null,null,null,null,null,null,null,null,null,null,null,null,null,null,null,null,null,null,null,null,null,null,null,null,null,null,null,null,null,null,null,null,null,null,null,null,null,null,null,null,null,null,null,null,null,null,null,null,null,null,null,null,null,19,468.9,0.375,252.4,53.8,6.8000000000000005E-2,28,0,0,0,0,0,0,0,0,0]
[null,null,null,null,null,null,null,null,null,null,null,null,null,null,null,null,null,null,null,null,null,null,null,null,null,null,null,null,null,null,null,null,null,null,null,null,null,null,null,null,null,null,null,null,null,null,null,null,null,null,null,null,null,20,{"$f":"((($BB236-$BB$235)*(BC$246-BC$235))/($BB$246-$BB$235))+BC$235","v":471.5272727272727},0.37654545454545457,253.87272727272727,56.418181818181814,6.9545454545454549E-2,29.472727272727273,2.6181818181818182,1.5454545454545456E-3,1.4727272727272727,0,0,0,0,0,0]
[null,null,null,null,null,null,null,null,null,null,null,null,null,null,null,null,null,null,null,null,null,null,null,null,null,null,null,null,null,null,null,null,null,null,null,null,null,null,null,null,null,null,null,null,null,null,null,null,null,null,null,null,null,21,474.15454545454543,0.37809090909090909,255.34545454545454,59.036363636363632,7.1090909090909093E-2,30.945454545454545,5.2363636363636363,3.0909090909090912E-3,2.9454545454545453,0,0,0,0,0,0]
[null,null,null,null,null,null,null,null,null,null,null,null,null,null,null,null,null,null,null,null,null,null,null,null,null,null,null,null,null,null,null,null,null,null,null,null,null,null,null,null,null,null,null,null,null,null,null,null,null,null,null,null,null,22,476.78181818181815,0.37963636363636366,256.81818181818181,61.654545454545449,7.2636363636363638E-2,32.418181818181822,7.8545454545454554,4.6363636363636364E-3,4.418181818181818,0,0,0,0,0,0]
[null,null,null,null,null,null,null,null,null,null,null,null,null,null,null,null,null,null,null,null,null,null,null,null,null,null,null,null,null,null,null,null,null,null,null,null,null,null,null,null,null,null,null,null,null,null,null,null,null,null,null,null,null,23,479.40909090909088,0.38118181818181818,258.29090909090911,64.272727272727266,7.4181818181818182E-2,33.890909090909091,10.472727272727273,6.1818181818181824E-3,5.8909090909090907,0,0,0,0,0,0]
[null,null,null,null,null,null,null,null,null,null,null,null,null,null,null,null,null,null,null,null,null,null,null,null,null,null,null,null,null,null,null,null,null,null,null,null,null,null,null,null,null,null,null,null,null,null,null,null,null,null,null,null,null,24,482.0363636363636,0.38272727272727275,259.76363636363635,66.890909090909091,7.5727272727272726E-2,35.363636363636367,13.090909090909092,7.7272727272727276E-3,7.3636363636363633,0,0,0,0,0,0]
[null,null,null,null,null,null,null,null,null,null,null,null,null,null,null,null,null,null,null,null,null,null,null,null,null,null,null,null,null,null,null,null,null,null,null,null,null,null,null,null,null,null,null,null,null,null,null,null,null,null,null,null,null,25,484.66363636363639,0.38427272727272727,261.23636363636365,69.509090909090901,7.7272727272727271E-2,36.836363636363636,15.709090909090911,9.2727272727272728E-3,8.836363636363636,0,0,0,0,0,0]
[null,null,null,null,null,null,null,null,null,null,null,null,null,null,null,null,null,null,null,null,null,null,null,null,null,null,null,null,null,null,null,null,null,null,null,null,null,null,null,null,null,null,null,null,null,null,null,null,null,null,null,null,null,26,487.29090909090911,0.38581818181818184,262.70909090909095,72.127272727272725,7.8818181818181829E-2,38.309090909090912,18.327272727272728,1.0818181818181819E-2,10.309090909090909,0,0,0,0,0,0]
[null,null,null,null,null,null,null,null,null,null,null,null,null,null,null,null,null,null,null,null,null,null,null,null,null,null,null,null,null,null,null,null,null,null,null,null,null,null,null,null,null,null,null,null,null,null,null,null,null,null,null,null,null,27,489.91818181818184,0.38736363636363635,264.18181818181819,74.745454545454535,8.0363636363636373E-2,39.781818181818181,20.945454545454545,1.2363636363636365E-2,11.781818181818181,0,0,0,0,0,0]
[null,null,null,null,null,null,null,null,null,null,null,null,null,null,null,null,null,null,null,null,null,null,null,null,null,null,null,null,null,null,null,null,null,null,null,null,null,null,null,null,null,null,null,null,null,null,null,null,null,null,null,null,null,28,492.54545454545456,0.38890909090909093,265.65454545454548,77.36363636363636,8.1909090909090917E-2,41.254545454545458,23.563636363636363,1.3909090909090911E-2,13.254545454545452,0,0,0,0,0,0]
[null,null,null,null,null,null,null,null,null,null,null,null,null,null,null,null,null,null,null,null,null,null,null,null,null,null,null,null,null,null,null,null,null,null,null,null,null,null,null,null,null,null,null,null,null,null,null,null,null,null,null,null,null,29,495.17272727272729,0.39045454545454544,267.12727272727273,79.981818181818184,8.3454545454545462E-2,42.727272727272734,26.181818181818183,1.5454545454545455E-2,14.727272727272727,0,0,0,0,0,0]
[null,null,null,null,null,null,null,null,null,null,null,null,null,null,null,null,null,null,null,null,null,null,null,null,null,null,null,null,null,null,null,null,null,null,null,null,null,null,null,null,null,null,null,null,null,null,null,null,null,null,null,null,null,30,497.8,0.39200000000000002,268.60000000000002,82.6,8.5000000000000006E-2,44.2,28.8,1.7000000000000001E-2,16.2,0,0,0,0,0,0]
[null,null,null,null,null,null,null,null,null,null,null,null,null,null,null,null,null,null,null,null,null,null,null,null,null,null,null,null,null,null,null,null,null,null,null,null,null,null,null,null,null,null,null,null,null,null,null,null,null,null,null,null,null,31,{"$f":"((($BB247-$BB$246)*(BC$254-BC$246))/($BB$254-$BB$246))+BC$246","v":499.125},0.39424999999999999,269.41250000000002,83.924999999999997,8.7125000000000008E-2,45.012500000000003,30.125,1.9125000000000003E-2,17.012499999999999,1.325,2.1250000000000002E-3,0.8125,0,0,0]
[null,null,null,null,null,null,null,null,null,null,null,null,null,null,null,null,null,null,null,null,null,null,null,null,null,null,null,null,null,null,null,null,null,null,null,null,null,null,null,null,null,null,null,null,null,null,null,null,null,null,null,null,null,32,500.45,0.39650000000000002,270.22500000000002,85.25,8.9249999999999996E-2,45.825000000000003,31.45,2.1250000000000002E-2,17.824999999999999,2.65,4.2500000000000003E-3,1.625,0,0,0]
[null,null,null,null,null,null,null,null,null,null,null,null,null,null,null,null,null,null,null,null,null,null,null,null,null,null,null,null,null,null,null,null,null,null,null,null,null,null,null,null,null,null,null,null,null,null,null,null,null,null,null,null,null,33,501.77499999999998,0.39874999999999999,271.03750000000002,86.575000000000003,9.1374999999999998E-2,46.637500000000003,32.774999999999999,2.3375E-2,18.637499999999999,3.9749999999999996,6.3750000000000005E-3,2.4375,0,0,0]
[null,null,null,null,null,null,null,null,null,null,null,null,null,null,null,null,null,null,null,null,null,null,null,null,null,null,null,null,null,null,null,null,null,null,null,null,null,null,null,null,null,null,null,null,null,null,null,null,null,null,null,null,null,34,503.1,0.40100000000000002,271.85000000000002,87.9,9.35E-2,47.45,34.1,2.5500000000000002E-2,19.45,5.3,8.5000000000000006E-3,3.25,0,0,0]
[null,null,null,null,null,null,null,null,null,null,null,null,null,null,null,null,null,null,null,null,null,null,null,null,null,null,null,null,null,null,null,null,null,null,null,null,null,null,null,null,null,null,null,null,null,null,null,null,null,null,null,null,null,35,504.42500000000001,0.40325,272.66250000000002,89.224999999999994,9.5625000000000002E-2,48.262500000000003,35.424999999999997,2.7625000000000004E-2,20.262499999999999,6.625,1.0625000000000001E-2,4.0625,0,0,0]
[null,null,null,null,null,null,null,null,null,null,null,null,null,null,null,null,null,null,null,null,null,null,null,null,null,null,null,null,null,null,null,null,null,null,null,null,null,null,null,null,null,null,null,null,null,null,null,null,null,null,null,null,null,36,505.75,0.40549999999999997,273.47500000000002,90.55,9.7750000000000004E-2,49.075000000000003,36.75,2.9750000000000002E-2,21.074999999999999,7.9499999999999993,1.2750000000000001E-2,4.875,0,0,0]
[null,null,null,null,null,null,null,null,null,null,null,null,null,null,null,null,null,null,null,null,null,null,null,null,null,null,null,null,null,null,null,null,null,null,null,null,null,null,null,null,null,null,null,null,null,null,null,null,null,null,null,null,null,37,507.07499999999999,0.40775,274.28750000000002,91.875,9.9874999999999992E-2,49.887500000000003,38.075000000000003,3.1875000000000001E-2,21.887499999999999,9.2750000000000004,1.4875000000000001E-2,5.6875,0,0,0]
[null,null,null,null,null,null,null,null,null,null,null,null,null,null,null,null,null,null,null,null,null,null,null,null,null,null,null,null,null,null,null,null,null,null,null,null,null,null,null,null,null,null,null,null,null,null,null,null,null,null,null,null,null,38,508.4,0.41,275.10000000000002,93.2,0.10199999999999999,50.7,39.4,3.4000000000000002E-2,22.7,10.6,1.7000000000000001E-2,6.5,0,0,0]
[null,null,null,null,null,null,null,null,null,null,null,null,null,null,null,null,null,null,null,null,null,null,null,null,null,null,null,null,null,null,null,null,null,null,null,null,null,null,null,null,null,null,null,null,null,null,null,null,null,null,null,null,null,39,{"$f":"((($BB255-$BB$254)*(BC$265-BC$254))/($BB$265-$BB$254))+BC$254","v":509.0181818181818},0.41,275.59090909090912,93.818181818181827,0.10199999999999999,51.190909090909095,40.018181818181816,3.4000000000000002E-2,23.2,11.218181818181817,1.7000000000000001E-2,6.9909090909090912,0.61818181818181817,0,0.5]
[null,null,null,null,null,null,null,null,null,null,null,null,null,null,null,null,null,null,null,null,null,null,null,null,null,null,null,null,null,null,null,null,null,null,null,null,null,null,null,null,null,null,null,null,null,null,null,null,null,null,null,null,null,40,509.63636363636363,0.41,276.08181818181822,94.436363636363637,0.10199999999999999,51.681818181818187,40.636363636363633,3.4000000000000002E-2,23.7,11.836363636363636,1.7000000000000001E-2,7.4818181818181824,1.2363636363636363,0,1]
[null,null,null,null,null,null,null,null,null,null,null,null,null,null,null,null,null,null,null,null,null,null,null,null,null,null,null,null,null,null,null,null,null,null,null,null,null,null,null,null,null,null,null,null,null,null,null,null,null,null,null,null,null,41,510.25454545454545,0.41,276.57272727272726,95.054545454545462,0.10199999999999999,52.172727272727272,41.254545454545458,3.4000000000000002E-2,24.2,12.454545454545453,1.7000000000000001E-2,7.9727272727272727,1.8545454545454545,0,1.5]
[null,null,null,null,null,null,null,null,null,null,null,null,null,null,null,null,null,null,null,null,null,null,null,null,null,null,null,null,null,null,null,null,null,null,null,null,null,null,null,null,null,null,null,null,null,null,null,null,null,null,null,null,null,42,510.87272727272727,0.41,277.06363636363636,95.672727272727272,0.10199999999999999,52.663636363636364,41.872727272727275,3.4000000000000002E-2,24.7,13.072727272727272,1.7000000000000001E-2,8.4636363636363647,2.4727272727272727,0,2]
[null,null,null,null,null,null,null,null,null,null,null,null,null,null,null,null,null,null,null,null,null,null,null,null,null,null,null,null,null,null,null,null,null,null,null,null,null,null,null,null,null,null,null,null,null,null,null,null,null,null,null,null,null,43,511.4909090909091,0.41,277.55454545454546,96.290909090909096,0.10199999999999999,53.154545454545456,42.490909090909092,3.4000000000000002E-2,25.2,13.69090909090909,1.7000000000000001E-2,8.954545454545455,3.0909090909090908,0,2.5]
[null,null,null,null,null,null,null,null,null,null,null,null,null,null,null,null,null,null,null,null,null,null,null,null,null,null,null,null,null,null,null,null,null,null,null,null,null,null,null,null,null,null,null,null,null,null,null,null,null,null,null,null,null,44,512.10909090909092,0.41,278.04545454545456,96.909090909090907,0.10199999999999999,53.645454545454548,43.109090909090909,3.4000000000000002E-2,25.7,14.309090909090909,1.7000000000000001E-2,9.4454545454545453,3.709090909090909,0,3]
[null,null,null,null,null,null,null,null,null,null,null,null,null,null,null,null,null,null,null,null,null,null,null,null,null,null,null,null,null,null,null,null,null,null,null,null,null,null,null,null,null,null,null,null,null,null,null,null,null,null,null,null,null,45,512.72727272727275,0.41,278.53636363636366,97.527272727272731,0.10199999999999999,54.13636363636364,43.727272727272727,3.4000000000000002E-2,26.2,14.927272727272726,1.7000000000000001E-2,9.9363636363636374,4.3272727272727272,0,3.5]
[null,null,null,null,null,null,null,null,null,null,null,null,null,null,null,null,null,null,null,null,null,null,null,null,null,null,null,null,null,null,null,null,null,null,null,null,null,null,null,null,null,null,null,null,null,null,null,null,null,null,null,null,null,46,513.34545454545457,0.41,279.02727272727276,98.145454545454541,0.10199999999999999,54.627272727272732,44.345454545454544,3.4000000000000002E-2,26.7,15.545454545454543,1.7000000000000001E-2,10.427272727272728,4.9454545454545453,0,4]
[null,null,null,null,null,null,null,null,null,null,null,null,null,null,null,null,null,null,null,null,null,null,null,null,null,null,null,null,null,null,null,null,null,null,null,null,null,null,null,null,null,null,null,null,null,null,null,null,null,null,null,null,null,47,513.9636363636364,0.41,279.5181818181818,98.763636363636365,0.10199999999999999,55.118181818181817,44.963636363636368,3.4000000000000002E-2,27.2,16.163636363636364,1.7000000000000001E-2,10.918181818181818,5.5636363636363635,0,4.5]
[null,null,null,null,null,null,null,null,null,null,null,null,null,null,null,null,null,null,null,null,null,null,null,null,null,null,null,null,null,null,null,null,null,null,null,null,null,null,null,null,null,null,null,null,null,null,null,null,null,null,null,null,null,48,514.58181818181822,0.41,280.0090909090909,99.381818181818176,0.10199999999999999,55.609090909090909,45.581818181818186,3.4000000000000002E-2,27.7,16.781818181818181,1.7000000000000001E-2,11.40909090909091,6.1818181818181817,0,5]
[null,null,null,null,null,null,null,null,null,null,null,null,null,null,null,null,null,null,null,null,null,null,null,null,null,null,null,null,null,null,null,null,null,null,null,null,null,null,null,null,null,null,null,null,null,null,null,null,null,null,null,null,null,49,515.20000000000005,0.41,280.5,100,0.10199999999999999,56.1,46.2,3.4000000000000002E-2,28.2,17.399999999999999,1.7000000000000001E-2,11.9,6.8,0,5.5]
[null,null,null,null,null,null,null,null,null,null,null,null,null,null,null,null,null,null,null,null,null,null,null,null,null,null,null,null,null,null,null,null,null,null,null,null,null,null,null,null,null,null,null,null,null,null,null,null,null,null,null,null,null,50,{"$f":"((($BB266-$BB$265)*(BC$276-BC$265))/($BB$276-$BB$265))+BC$265","v":515.80000000000007},0.41154545454545455,280.82727272727271,100.60909090909091,0.10354545454545454,56.427272727272729,46.809090909090912,3.5545454545454547E-2,28.518181818181816,18.009090909090908,1.8545454545454546E-2,12.227272727272728,7.4090909090909092,1.5454545454545456E-3,5.8181818181818183]
[null,null,null,null,null,null,null,null,null,null,null,null,null,null,null,null,null,null,null,null,null,null,null,null,null,null,null,null,null,null,null,null,null,null,null,null,null,null,null,null,null,null,null,null,null,null,null,null,null,null,null,null,null,51,516.4,0.41309090909090906,281.15454545454548,101.21818181818182,0.10509090909090908,56.754545454545458,47.418181818181822,3.7090909090909091E-2,28.836363636363636,18.618181818181817,2.0090909090909093E-2,12.554545454545455,8.0181818181818176,3.0909090909090912E-3,6.1363636363636367]
[null,null,null,null,null,null,null,null,null,null,null,null,null,null,null,null,null,null,null,null,null,null,null,null,null,null,null,null,null,null,null,null,null,null,null,null,null,null,null,null,null,null,null,null,null,null,null,null,null,null,null,null,null,52,517,0.41463636363636364,281.4818181818182,101.82727272727273,0.10663636363636363,57.081818181818186,48.027272727272731,3.8636363636363635E-2,29.154545454545453,19.227272727272727,2.1636363636363638E-2,12.881818181818183,8.627272727272727,4.6363636363636364E-3,6.454545454545455]
[null,null,null,null,null,null,null,null,null,null,null,null,null,null,null,null,null,null,null,null,null,null,null,null,null,null,null,null,null,null,null,null,null,null,null,null,null,null,null,null,null,null,null,null,null,null,null,null,null,null,null,null,null,53,517.6,0.41618181818181815,281.80909090909091,102.43636363636364,0.10818181818181817,57.409090909090914,48.63636363636364,4.018181818181818E-2,29.472727272727273,19.836363636363636,2.3181818181818185E-2,13.209090909090909,9.2363636363636363,6.1818181818181824E-3,6.7727272727272725]
[null,null,null,null,null,null,null,null,null,null,null,null,null,null,null,null,null,null,null,null,null,null,null,null,null,null,null,null,null,null,null,null,null,null,null,null,null,null,null,null,null,null,null,null,null,null,null,null,null,null,null,null,null,54,518.20000000000005,0.41772727272727272,282.13636363636363,103.04545454545455,0.10972727272727271,57.736363636363642,49.24545454545455,4.1727272727272724E-2,29.790909090909089,20.445454545454545,2.472727272727273E-2,13.536363636363637,9.8454545454545457,7.7272727272727276E-3,7.0909090909090908]
[null,null,null,null,null,null,null,null,null,null,null,null,null,null,null,null,null,null,null,null,null,null,null,null,null,null,null,null,null,null,null,null,null,null,null,null,null,null,null,null,null,null,null,null,null,null,null,null,null,null,null,null,null,55,518.79999999999995,0.41927272727272724,282.4636363636364,103.65454545454546,0.11127272727272727,58.063636363636363,49.854545454545452,4.3272727272727268E-2,30.109090909090909,21.054545454545455,2.6272727272727274E-2,13.863636363636363,10.454545454545455,9.2727272727272728E-3,7.4090909090909092]
[null,null,null,null,null,null,null,null,null,null,null,null,null,null,null,null,null,null,null,null,null,null,null,null,null,null,null,null,null,null,null,null,null,null,null,null,null,null,null,null,null,null,null,null,null,null,null,null,null,null,null,null,null,56,519.4,0.42081818181818181,282.79090909090911,104.26363636363637,0.11281818181818182,58.390909090909091,50.463636363636361,4.481818181818182E-2,30.427272727272726,21.663636363636364,2.7818181818181818E-2,14.190909090909091,11.063636363636363,1.0818181818181819E-2,7.7272727272727266]
[null,null,null,null,null,null,null,null,null,null,null,null,null,null,null,null,null,null,null,null,null,null,null,null,null,null,null,null,null,null,null,null,null,null,null,null,null,null,null,null,null,null,null,null,null,null,null,null,null,null,null,null,null,57,520,0.42236363636363633,283.11818181818182,104.87272727272727,0.11436363636363636,58.718181818181819,51.072727272727271,4.6363636363636364E-2,30.745454545454546,22.272727272727273,2.9363636363636366E-2,14.518181818181818,11.672727272727272,1.2363636363636365E-2,8.045454545454545]
[null,null,null,null,null,null,null,null,null,null,null,null,null,null,null,null,null,null,null,null,null,null,null,null,null,null,null,null,null,null,null,null,null,null,null,null,null,null,null,null,null,null,null,null,null,null,null,null,null,null,null,null,null,58,520.6,0.4239090909090909,283.44545454545454,105.48181818181818,0.11590909090909091,59.045454545454547,51.68181818181818,4.7909090909090908E-2,31.063636363636363,22.881818181818183,3.0909090909090914E-2,14.845454545454546,12.281818181818181,1.3909090909090911E-2,8.3636363636363633]
[null,null,null,null,null,null,null,null,null,null,null,null,null,null,null,null,null,null,null,null,null,null,null,null,null,null,null,null,null,null,null,null,null,null,null,null,null,null,null,null,null,null,null,null,null,null,null,null,null,null,null,null,null,59,521.19999999999993,0.42545454545454542,283.77272727272731,106.09090909090909,0.11745454545454545,59.372727272727275,52.290909090909089,4.9454545454545452E-2,31.381818181818183,23.490909090909092,3.2454545454545458E-2,15.172727272727274,12.890909090909091,1.5454545454545455E-2,8.6818181818181817]
[null,null,null,null,null,null,null,null,null,null,null,null,null,null,null,null,null,null,null,null,null,null,null,null,null,null,null,null,null,null,null,null,null,null,null,null,null,null,null,null,null,null,null,null,null,null,null,null,null,null,null,null,null,60,521.79999999999995,0.42699999999999999,284.10000000000002,106.7,0.11899999999999999,59.7,52.9,5.0999999999999997E-2,31.7,24.1,3.4000000000000002E-2,15.5,13.5,1.7000000000000001E-2,9]
[]
[]
[]
[]
[null,null,null,null,null,null,null,null,null,null,null,null,null,null,null,null,null,null,null,null,null,null,null,null,null,null,null,null,null,null,null,null,null,null,null,null,null,null,null,null,null,null,null,null,null,null,null,null,null,null,null,null,null,"Ceiling Insulation - HVAC: Heat Pump"]
[null,null,null,null,null,null,null,null,null,null,null,null,null,null,null,null,null,null,null,null,null,null,null,null,null,null,null,null,null,null,null,null,null,null,null,null,null,null,null,null,null,null,null,null,null,null,null,null,null,null,null,null,null,"Base",0,null,null,11,null,null,19,null,null,30,null,null,38]
[null,null,null,null,null,null,null,null,null,null,null,null,null,null,null,null,null,null,null,null,null,null,null,null,null,null,null,null,null,null,null,null,null,null,null,null,null,null,null,null,null,null,null,null,null,null,null,null,null,null,null,null,null,"Measure","kWh/ kSF","kW/ kSF",null,"kWh/ kSF","kW/ kSF",null,"kWh/ kSF","kW/ kSF",null,"kWh/ kSF","kW/ kSF",null,"kWh/ kSF","kW/ kSF"]
[null,null,null,null,null,null,null,null,null,null,null,null,null,null,null,null,null,null,null,null,null,null,null,null,null,null,null,null,null,null,null,null,null,null,null,null,null,null,null,null,null,null,null,null,null,null,null,null,null,null,null,null,null,11,2988.4,0.34100000000000003,0,0,0,0,0,0,0,0,0,0,0,0,0]
[null,null,null,null,null,null,null,null,null,null,null,null,null,null,null,null,null,null,null,null,null,null,null,null,null,null,null,null,null,null,null,null,null,null,null,null,null,null,null,null,null,null,null,null,null,null,null,null,null,null,null,null,null,12,{"$f":"((($BB285-$BB$284)*(BC$292-BC$284))/($BB$292-$BB$284))+BC$284","v":3031.4875000000002},0.34962500000000002,0,43.087499999999999,8.5000000000000006E-3,0,0,0,0,0,0,0,0,0,0]
[null,null,null,null,null,null,null,null,null,null,null,null,null,null,null,null,null,null,null,null,null,null,null,null,null,null,null,null,null,null,null,null,null,null,null,null,null,null,null,null,null,null,null,null,null,null,null,null,null,null,null,null,null,13,3074.5749999999998,0.35825000000000001,0,86.174999999999997,1.7000000000000001E-2,0,0,0,0,0,0,0,0,0,0]
[null,null,null,null,null,null,null,null,null,null,null,null,null,null,null,null,null,null,null,null,null,null,null,null,null,null,null,null,null,null,null,null,null,null,null,null,null,null,null,null,null,null,null,null,null,null,null,null,null,null,null,null,null,14,3117.6624999999999,0.36687500000000001,0,129.26249999999999,2.5500000000000002E-2,0,0,0,0,0,0,0,0,0,0]
[null,null,null,null,null,null,null,null,null,null,null,null,null,null,null,null,null,null,null,null,null,null,null,null,null,null,null,null,null,null,null,null,null,null,null,null,null,null,null,null,null,null,null,null,null,null,null,null,null,null,null,null,null,15,3160.75,0.3755,0,172.35,3.4000000000000002E-2,0,0,0,0,0,0,0,0,0,0]
[null,null,null,null,null,null,null,null,null,null,null,null,null,null,null,null,null,null,null,null,null,null,null,null,null,null,null,null,null,null,null,null,null,null,null,null,null,null,null,null,null,null,null,null,null,null,null,null,null,null,null,null,null,16,3203.8375000000001,0.38412499999999999,0,215.4375,4.2500000000000003E-2,0,0,0,0,0,0,0,0,0,0]
[null,null,null,null,null,null,null,null,null,null,null,null,null,null,null,null,null,null,null,null,null,null,null,null,null,null,null,null,null,null,null,null,null,null,null,null,null,null,null,null,null,null,null,null,null,null,null,null,null,null,null,null,null,17,3246.9250000000002,0.39274999999999999,0,258.52499999999998,5.1000000000000004E-2,0,0,0,0,0,0,0,0,0,0]
[null,null,null,null,null,null,null,null,null,null,null,null,null,null,null,null,null,null,null,null,null,null,null,null,null,null,null,null,null,null,null,null,null,null,null,null,null,null,null,null,null,null,null,null,null,null,null,null,null,null,null,null,null,18,3290.0124999999998,0.40137499999999998,0,301.61250000000001,5.9500000000000004E-2,0,0,0,0,0,0,0,0,0,0]
[null,null,null,null,null,null,null,null,null,null,null,null,null,null,null,null,null,null,null,null,null,null,null,null,null,null,null,null,null,null,null,null,null,null,null,null,null,null,null,null,null,null,null,null,null,null,null,null,null,null,null,null,null,19,3333.1,0.41,0,344.7,6.8000000000000005E-2,0,0,0,0,0,0,0,0,0,0]
[null,null,null,null,null,null,null,null,null,null,null,null,null,null,null,null,null,null,null,null,null,null,null,null,null,null,null,null,null,null,null,null,null,null,null,null,null,null,null,null,null,null,null,null,null,null,null,null,null,null,null,null,null,20,{"$f":"((($BB293-$BB$292)*(BC$303-BC$292))/($BB$303-$BB$292))+BC$292","v":3350.8454545454547},0.41463636363636364,0,362.44545454545454,7.2636363636363638E-2,0,17.745454545454546,4.6363636363636364E-3,0,0,0,0,0,0,0]
[null,null,null,null,null,null,null,null,null,null,null,null,null,null,null,null,null,null,null,null,null,null,null,null,null,null,null,null,null,null,null,null,null,null,null,null,null,null,null,null,null,null,null,null,null,null,null,null,null,null,null,null,null,21,3368.590909090909,0.41927272727272724,0,380.19090909090909,7.7272727272727271E-2,0,35.490909090909092,9.2727272727272728E-3,0,0,0,0,0,0,0]
[null,null,null,null,null,null,null,null,null,null,null,null,null,null,null,null,null,null,null,null,null,null,null,null,null,null,null,null,null,null,null,null,null,null,null,null,null,null,null,null,null,null,null,null,null,null,null,null,null,null,null,null,null,22,3386.3363636363638,0.4239090909090909,0,397.93636363636364,8.1909090909090904E-2,0,53.236363636363627,1.3909090909090909E-2,0,0,0,0,0,0,0]
[null,null,null,null,null,null,null,null,null,null,null,null,null,null,null,null,null,null,null,null,null,null,null,null,null,null,null,null,null,null,null,null,null,null,null,null,null,null,null,null,null,null,null,null,null,null,null,null,null,null,null,null,null,23,3404.0818181818181,0.42854545454545456,0,415.68181818181819,8.654545454545455E-2,0,70.981818181818184,1.8545454545454546E-2,0,0,0,0,0,0,0]
[null,null,null,null,null,null,null,null,null,null,null,null,null,null,null,null,null,null,null,null,null,null,null,null,null,null,null,null,null,null,null,null,null,null,null,null,null,null,null,null,null,null,null,null,null,null,null,null,null,null,null,null,null,24,3421.8272727272729,0.43318181818181817,0,433.42727272727274,9.1181818181818183E-2,0,88.727272727272734,2.3181818181818182E-2,0,0,0,0,0,0,0]
[null,null,null,null,null,null,null,null,null,null,null,null,null,null,null,null,null,null,null,null,null,null,null,null,null,null,null,null,null,null,null,null,null,null,null,null,null,null,null,null,null,null,null,null,null,null,null,null,null,null,null,null,null,25,3439.5727272727272,0.43781818181818183,0,451.17272727272723,9.5818181818181816E-2,0,106.47272727272725,2.7818181818181818E-2,0,0,0,0,0,0,0]
[null,null,null,null,null,null,null,null,null,null,null,null,null,null,null,null,null,null,null,null,null,null,null,null,null,null,null,null,null,null,null,null,null,null,null,null,null,null,null,null,null,null,null,null,null,null,null,null,null,null,null,null,null,26,3457.318181818182,0.44245454545454543,0,468.91818181818178,0.10045454545454546,0,124.2181818181818,3.2454545454545451E-2,0,0,0,0,0,0,0]
[null,null,null,null,null,null,null,null,null,null,null,null,null,null,null,null,null,null,null,null,null,null,null,null,null,null,null,null,null,null,null,null,null,null,null,null,null,null,null,null,null,null,null,null,null,null,null,null,null,null,null,null,null,27,3475.0636363636363,0.44709090909090909,0,486.66363636363633,0.1050909090909091,0,141.96363636363637,3.7090909090909091E-2,0,0,0,0,0,0,0]
[null,null,null,null,null,null,null,null,null,null,null,null,null,null,null,null,null,null,null,null,null,null,null,null,null,null,null,null,null,null,null,null,null,null,null,null,null,null,null,null,null,null,null,null,null,null,null,null,null,null,null,null,null,28,3492.8090909090911,0.45172727272727276,0,504.40909090909088,0.10972727272727273,0,159.70909090909092,4.1727272727272724E-2,0,0,0,0,0,0,0]
[null,null,null,null,null,null,null,null,null,null,null,null,null,null,null,null,null,null,null,null,null,null,null,null,null,null,null,null,null,null,null,null,null,null,null,null,null,null,null,null,null,null,null,null,null,null,null,null,null,null,null,null,null,29,3510.5545454545454,0.45636363636363636,0,522.15454545454543,0.11436363636363636,0,177.45454545454547,4.6363636363636364E-2,0,0,0,0,0,0,0]
[null,null,null,null,null,null,null,null,null,null,null,null,null,null,null,null,null,null,null,null,null,null,null,null,null,null,null,null,null,null,null,null,null,null,null,null,null,null,null,null,null,null,null,null,null,null,null,null,null,null,null,null,null,30,3528.3,0.46100000000000002,0,539.9,0.11899999999999999,0,195.2,5.0999999999999997E-2,0,0,0,0,0,0,0]
[null,null,null,null,null,null,null,null,null,null,null,null,null,null,null,null,null,null,null,null,null,null,null,null,null,null,null,null,null,null,null,null,null,null,null,null,null,null,null,null,null,null,null,null,null,null,null,null,null,null,null,null,null,31,{"$f":"((($BB304-$BB$303)*(BC$311-BC$303))/($BB$311-$BB$303))+BC$303","v":3537.8125},0.46312500000000001,0,549.41250000000002,0.12125,0,204.71249999999998,5.3124999999999999E-2,0,9.5124999999999993,2.1250000000000002E-3,0,0,0,0]
[null,null,null,null,null,null,null,null,null,null,null,null,null,null,null,null,null,null,null,null,null,null,null,null,null,null,null,null,null,null,null,null,null,null,null,null,null,null,null,null,null,null,null,null,null,null,null,null,null,null,null,null,null,32,3547.3250000000003,0.46525,0,558.92499999999995,0.1235,0,214.22499999999999,5.525E-2,0,19.024999999999999,4.2500000000000003E-3,0,0,0,0]
[null,null,null,null,null,null,null,null,null,null,null,null,null,null,null,null,null,null,null,null,null,null,null,null,null,null,null,null,null,null,null,null,null,null,null,null,null,null,null,null,null,null,null,null,null,null,null,null,null,null,null,null,null,33,3556.8375000000001,0.46737499999999998,0,568.4375,0.12575,0,223.73750000000001,5.7375000000000002E-2,0,28.537499999999998,6.3750000000000005E-3,0,0,0,0]
[null,null,null,null,null,null,null,null,null,null,null,null,null,null,null,null,null,null,null,null,null,null,null,null,null,null,null,null,null,null,null,null,null,null,null,null,null,null,null,null,null,null,null,null,null,null,null,null,null,null,null,null,null,34,3566.3500000000004,0.46950000000000003,0,577.95000000000005,0.128,0,233.25,5.9499999999999997E-2,0,38.049999999999997,8.5000000000000006E-3,0,0,0,0]
[null,null,null,null,null,null,null,null,null,null,null,null,null,null,null,null,null,null,null,null,null,null,null,null,null,null,null,null,null,null,null,null,null,null,null,null,null,null,null,null,null,null,null,null,null,null,null,null,null,null,null,null,null,35,3575.8625000000002,0.47162500000000002,0,587.46249999999998,0.13025,0,242.76249999999999,6.1624999999999999E-2,0,47.5625,1.0625000000000001E-2,0,0,0,0]
[null,null,null,null,null,null,null,null,null,null,null,null,null,null,null,null,null,null,null,null,null,null,null,null,null,null,null,null,null,null,null,null,null,null,null,null,null,null,null,null,null,null,null,null,null,null,null,null,null,null,null,null,null,36,3585.375,0.47375,0,596.97500000000002,0.13250000000000001,0,252.27500000000001,6.3750000000000001E-2,0,57.074999999999996,1.2750000000000001E-2,0,0,0,0]
[null,null,null,null,null,null,null,null,null,null,null,null,null,null,null,null,null,null,null,null,null,null,null,null,null,null,null,null,null,null,null,null,null,null,null,null,null,null,null,null,null,null,null,null,null,null,null,null,null,null,null,null,null,37,3594.8875000000003,0.47587499999999999,0,606.48749999999995,0.13475000000000001,0,261.78750000000002,6.5875000000000003E-2,0,66.587499999999991,1.4875000000000001E-2,0,0,0,0]
[null,null,null,null,null,null,null,null,null,null,null,null,null,null,null,null,null,null,null,null,null,null,null,null,null,null,null,null,null,null,null,null,null,null,null,null,null,null,null,null,null,null,null,null,null,null,null,null,null,null,null,null,null,38,3604.4,0.47799999999999998,0,616,0.13700000000000001,0,271.3,6.8000000000000005E-2,0,76.099999999999994,1.7000000000000001E-2,0,0,0,0]
[null,null,null,null,null,null,null,null,null,null,null,null,null,null,null,null,null,null,null,null,null,null,null,null,null,null,null,null,null,null,null,null,null,null,null,null,null,null,null,null,null,null,null,null,null,null,null,null,null,null,null,null,null,39,{"$f":"((($BB312-$BB$311)*(BC$322-BC$311))/($BB$322-$BB$311))+BC$311","v":3609.9909090909091},0.47799999999999998,0,621.59090909090912,0.13700000000000001,0,276.89090909090908,6.8000000000000005E-2,0,81.681818181818173,1.7000000000000001E-2,0,5.581818181818182,0,0]
[null,null,null,null,null,null,null,null,null,null,null,null,null,null,null,null,null,null,null,null,null,null,null,null,null,null,null,null,null,null,null,null,null,null,null,null,null,null,null,null,null,null,null,null,null,null,null,null,null,null,null,null,null,40,3615.5818181818181,0.47799999999999998,0,627.18181818181813,0.13700000000000001,0,282.4818181818182,6.8000000000000005E-2,0,87.263636363636351,1.7000000000000001E-2,0,11.163636363636364,0,0]
[null,null,null,null,null,null,null,null,null,null,null,null,null,null,null,null,null,null,null,null,null,null,null,null,null,null,null,null,null,null,null,null,null,null,null,null,null,null,null,null,null,null,null,null,null,null,null,null,null,null,null,null,null,41,3621.1727272727276,0.47799999999999998,0,632.77272727272725,0.13700000000000001,0,288.07272727272726,6.8000000000000005E-2,0,92.845454545454544,1.7000000000000001E-2,0,16.745454545454546,0,0]
[null,null,null,null,null,null,null,null,null,null,null,null,null,null,null,null,null,null,null,null,null,null,null,null,null,null,null,null,null,null,null,null,null,null,null,null,null,null,null,null,null,null,null,null,null,null,null,null,null,null,null,null,null,42,3626.7636363636366,0.47799999999999998,0,638.36363636363637,0.13700000000000001,0,293.66363636363639,6.8000000000000005E-2,0,98.427272727272722,1.7000000000000001E-2,0,22.327272727272728,0,0]
[null,null,null,null,null,null,null,null,null,null,null,null,null,null,null,null,null,null,null,null,null,null,null,null,null,null,null,null,null,null,null,null,null,null,null,null,null,null,null,null,null,null,null,null,null,null,null,null,null,null,null,null,null,43,3632.3545454545456,0.47799999999999998,0,643.9545454545455,0.13700000000000001,0,299.25454545454545,6.8000000000000005E-2,0,104.0090909090909,1.7000000000000001E-2,0,27.90909090909091,0,0]
[null,null,null,null,null,null,null,null,null,null,null,null,null,null,null,null,null,null,null,null,null,null,null,null,null,null,null,null,null,null,null,null,null,null,null,null,null,null,null,null,null,null,null,null,null,null,null,null,null,null,null,null,null,44,3637.9454545454546,0.47799999999999998,0,649.5454545454545,0.13700000000000001,0,304.84545454545457,6.8000000000000005E-2,0,109.59090909090909,1.7000000000000001E-2,0,33.490909090909092,0,0]
[null,null,null,null,null,null,null,null,null,null,null,null,null,null,null,null,null,null,null,null,null,null,null,null,null,null,null,null,null,null,null,null,null,null,null,null,null,null,null,null,null,null,null,null,null,null,null,null,null,null,null,null,null,45,3643.5363636363636,0.47799999999999998,0,655.13636363636363,0.13700000000000001,0,310.43636363636364,6.8000000000000005E-2,0,115.17272727272727,1.7000000000000001E-2,0,39.072727272727271,0,0]
[null,null,null,null,null,null,null,null,null,null,null,null,null,null,null,null,null,null,null,null,null,null,null,null,null,null,null,null,null,null,null,null,null,null,null,null,null,null,null,null,null,null,null,null,null,null,null,null,null,null,null,null,null,46,3649.1272727272726,0.47799999999999998,0,660.72727272727275,0.13700000000000001,0,316.02727272727276,6.8000000000000005E-2,0,120.75454545454545,1.7000000000000001E-2,0,44.654545454545456,0,0]
[null,null,null,null,null,null,null,null,null,null,null,null,null,null,null,null,null,null,null,null,null,null,null,null,null,null,null,null,null,null,null,null,null,null,null,null,null,null,null,null,null,null,null,null,null,null,null,null,null,null,null,null,null,47,3654.7181818181821,0.47799999999999998,0,666.31818181818187,0.13700000000000001,0,321.61818181818182,6.8000000000000005E-2,0,126.33636363636364,1.7000000000000001E-2,0,50.236363636363642,0,0]
[null,null,null,null,null,null,null,null,null,null,null,null,null,null,null,null,null,null,null,null,null,null,null,null,null,null,null,null,null,null,null,null,null,null,null,null,null,null,null,null,null,null,null,null,null,null,null,null,null,null,null,null,null,48,3660.3090909090911,0.47799999999999998,0,671.90909090909088,0.13700000000000001,0,327.20909090909095,6.8000000000000005E-2,0,131.91818181818181,1.7000000000000001E-2,0,55.81818181818182,0,0]
[null,null,null,null,null,null,null,null,null,null,null,null,null,null,null,null,null,null,null,null,null,null,null,null,null,null,null,null,null,null,null,null,null,null,null,null,null,null,null,null,null,null,null,null,null,null,null,null,null,null,null,null,null,49,3665.9,0.47799999999999998,0,677.5,0.13700000000000001,0,332.8,6.8000000000000005E-2,null,137.5,1.7000000000000001E-2,null,61.4,0,0]
[null,null,null,null,null,null,null,null,null,null,null,null,null,null,null,null,null,null,null,null,null,null,null,null,null,null,null,null,null,null,null,null,null,null,null,null,null,null,null,null,null,null,null,null,null,null,null,null,null,null,null,null,null,50,{"$f":"((($BB323-$BB$322)*(BC$333-BC$322))/($BB$333-$BB$322))+BC$322","v":3669.8090909090911},0.47954545454545455,0,681.40909090909088,0.13854545454545455,0,336.70909090909095,6.9545454545454549E-2,0,141.40909090909091,1.8545454545454546E-2,0,65.309090909090912,1.5454545454545456E-3,0]
[null,null,null,null,null,null,null,null,null,null,null,null,null,null,null,null,null,null,null,null,null,null,null,null,null,null,null,null,null,null,null,null,null,null,null,null,null,null,null,null,null,null,null,null,null,null,null,null,null,null,null,null,null,51,3673.7181818181821,0.48109090909090907,0,685.31818181818187,0.1400909090909091,0,340.61818181818182,7.1090909090909093E-2,0,145.31818181818181,2.0090909090909093E-2,0,69.218181818181819,3.0909090909090912E-3,0]
[null,null,null,null,null,null,null,null,null,null,null,null,null,null,null,null,null,null,null,null,null,null,null,null,null,null,null,null,null,null,null,null,null,null,null,null,null,null,null,null,null,null,null,null,null,null,null,null,null,null,null,null,null,52,3677.6272727272726,0.48263636363636364,0,689.22727272727275,0.14163636363636364,0,344.52727272727276,7.2636363636363638E-2,0,149.22727272727272,2.1636363636363638E-2,0,73.127272727272725,4.6363636363636364E-3,0]
[null,null,null,null,null,null,null,null,null,null,null,null,null,null,null,null,null,null,null,null,null,null,null,null,null,null,null,null,null,null,null,null,null,null,null,null,null,null,null,null,null,null,null,null,null,null,null,null,null,null,null,null,null,53,3681.5363636363636,0.48418181818181816,0,693.13636363636363,0.14318181818181819,0,348.43636363636364,7.4181818181818182E-2,0,153.13636363636363,2.3181818181818185E-2,0,77.036363636363632,6.1818181818181824E-3,0]
[null,null,null,null,null,null,null,null,null,null,null,null,null,null,null,null,null,null,null,null,null,null,null,null,null,null,null,null,null,null,null,null,null,null,null,null,null,null,null,null,null,null,null,null,null,null,null,null,null,null,null,null,null,54,3685.4454545454546,0.48572727272727273,0,697.0454545454545,0.14472727272727273,0,352.34545454545457,7.5727272727272726E-2,0,157.04545454545456,2.472727272727273E-2,0,80.945454545454538,7.7272727272727276E-3,0]
[null,null,null,null,null,null,null,null,null,null,null,null,null,null,null,null,null,null,null,null,null,null,null,null,null,null,null,null,null,null,null,null,null,null,null,null,null,null,null,null,null,null,null,null,null,null,null,null,null,null,null,null,null,55,3689.3545454545456,0.48727272727272725,0,700.9545454545455,0.14627272727272728,0,356.25454545454545,7.7272727272727271E-2,0,160.95454545454544,2.6272727272727274E-2,0,84.854545454545459,9.2727272727272728E-3,0]
[null,null,null,null,null,null,null,null,null,null,null,null,null,null,null,null,null,null,null,null,null,null,null,null,null,null,null,null,null,null,null,null,null,null,null,null,null,null,null,null,null,null,null,null,null,null,null,null,null,null,null,null,null,56,3693.2636363636366,0.48881818181818182,0,704.86363636363637,0.14781818181818182,0,360.16363636363639,7.8818181818181829E-2,0,164.86363636363637,2.7818181818181818E-2,0,88.763636363636365,1.0818181818181819E-2,0]
[null,null,null,null,null,null,null,null,null,null,null,null,null,null,null,null,null,null,null,null,null,null,null,null,null,null,null,null,null,null,null,null,null,null,null,null,null,null,null,null,null,null,null,null,null,null,null,null,null,null,null,null,null,57,3697.1727272727276,0.49036363636363633,0,708.77272727272725,0.14936363636363637,0,364.07272727272726,8.0363636363636373E-2,0,168.77272727272728,2.9363636363636366E-2,0,92.672727272727272,1.2363636363636365E-2,0]
[null,null,null,null,null,null,null,null,null,null,null,null,null,null,null,null,null,null,null,null,null,null,null,null,null,null,null,null,null,null,null,null,null,null,null,null,null,null,null,null,null,null,null,null,null,null,null,null,null,null,null,null,null,58,3701.0818181818181,0.49190909090909091,0,712.68181818181813,0.15090909090909091,0,367.9818181818182,8.1909090909090917E-2,0,172.68181818181819,3.0909090909090914E-2,0,96.581818181818193,1.3909090909090911E-2,0]
[null,null,null,null,null,null,null,null,null,null,null,null,null,null,null,null,null,null,null,null,null,null,null,null,null,null,null,null,null,null,null,null,null,null,null,null,null,null,null,null,null,null,null,null,null,null,null,null,null,null,null,null,null,59,3704.9909090909091,0.49345454545454542,0,716.59090909090912,0.15245454545454545,0,371.89090909090908,8.3454545454545462E-2,0,176.59090909090909,3.2454545454545458E-2,0,100.4909090909091,1.5454545454545455E-2,0]
[null,null,null,null,null,null,null,null,null,null,null,null,null,null,null,null,null,null,null,null,null,null,null,null,null,null,null,null,null,null,null,null,null,null,null,null,null,null,null,null,null,null,null,null,null,null,null,null,null,null,null,null,null,60,3708.9,0.495,0,720.5,0.154,0,375.8,8.5000000000000006E-2,0,180.5,3.4000000000000002E-2,0,104.4,1.7000000000000001E-2,0]
[]
[]
[]
[]
[null,null,null,null,null,null,null,null,null,null,null,null,null,null,null,null,null,null,null,null,null,null,null,null,null,null,null,null,null,null,null,null,null,null,null,null,null,null,null,null,null,null,null,null,null,null,null,null,null,null,null,null,null,"Ceiling Insulation - HVAC: AC with Electric Heat"]
[null,null,null,null,null,null,null,null,null,null,null,null,null,null,null,null,null,null,null,null,null,null,null,null,null,null,null,null,null,null,null,null,null,null,null,null,null,null,null,null,null,null,null,null,null,null,null,null,null,null,null,null,null,"Base",0,null,null,11,null,null,19,null,null,30,null,null,38]
[null,null,null,null,null,null,null,null,null,null,null,null,null,null,null,null,null,null,null,null,null,null,null,null,null,null,null,null,null,null,null,null,null,null,null,null,null,null,null,null,null,null,null,null,null,null,null,null,null,null,null,null,null,"Measure","kWh/ kSF","kW/ kSF",null,"kWh/ kSF","kW/ kSF",null,"kWh/ kSF","kW/ kSF",null,"kWh/ kSF","kW/ kSF",null,"kWh/ kSF","kW/ kSF"]
[null,null,null,null,null,null,null,null,null,null,null,null,null,null,null,null,null,null,null,null,null,null,null,null,null,null,null,null,null,null,null,null,null,null,null,null,null,null,null,null,null,null,null,null,null,null,null,null,null,null,null,null,null,11,5338.7,0.307,0,0,0,0,0,0,0,0,0,0,0,0,0]
[null,null,null,null,null,null,null,null,null,null,null,null,null,null,null,null,null,null,null,null,null,null,null,null,null,null,null,null,null,null,null,null,null,null,null,null,null,null,null,null,null,null,null,null,null,null,null,null,null,null,null,null,null,12,{"$f":"((($BB342-$BB$341)*(BC$349-BC$341))/($BB$349-$BB$341))+BC$341","v":5420.9375},0.3155,0,82.224999999999994,8.5000000000000006E-3,0,0,0,0,0,0,0,0,0,0]
[null,null,null,null,null,null,null,null,null,null,null,null,null,null,null,null,null,null,null,null,null,null,null,null,null,null,null,null,null,null,null,null,null,null,null,null,null,null,null,null,null,null,null,null,null,null,null,null,null,null,null,null,null,13,5503.1750000000002,0.32400000000000001,0,164.45,1.7000000000000001E-2,0,0,0,0,0,0,0,0,0,0]
[null,null,null,null,null,null,null,null,null,null,null,null,null,null,null,null,null,null,null,null,null,null,null,null,null,null,null,null,null,null,null,null,null,null,null,null,null,null,null,null,null,null,null,null,null,null,null,null,null,null,null,null,null,14,5585.4125000000004,0.33250000000000002,0,246.67499999999998,2.5500000000000002E-2,0,0,0,0,0,0,0,0,0,0]
[null,null,null,null,null,null,null,null,null,null,null,null,null,null,null,null,null,null,null,null,null,null,null,null,null,null,null,null,null,null,null,null,null,null,null,null,null,null,null,null,null,null,null,null,null,null,null,null,null,null,null,null,null,15,5667.65,0.34099999999999997,0,328.9,3.4000000000000002E-2,0,0,0,0,0,0,0,0,0,0]
[null,null,null,null,null,null,null,null,null,null,null,null,null,null,null,null,null,null,null,null,null,null,null,null,null,null,null,null,null,null,null,null,null,null,null,null,null,null,null,null,null,null,null,null,null,null,null,null,null,null,null,null,null,16,5749.8874999999998,0.34949999999999998,0,411.125,4.2500000000000003E-2,0,0,0,0,0,0,0,0,0,0]
[null,null,null,null,null,null,null,null,null,null,null,null,null,null,null,null,null,null,null,null,null,null,null,null,null,null,null,null,null,null,null,null,null,null,null,null,null,null,null,null,null,null,null,null,null,null,null,null,null,null,null,null,null,17,5832.125,0.35799999999999998,0,493.34999999999997,5.1000000000000004E-2,0,0,0,0,0,0,0,0,0,0]
[null,null,null,null,null,null,null,null,null,null,null,null,null,null,null,null,null,null,null,null,null,null,null,null,null,null,null,null,null,null,null,null,null,null,null,null,null,null,null,null,null,null,null,null,null,null,null,null,null,null,null,null,null,18,5914.3625000000002,0.36649999999999999,0,575.57499999999993,5.9500000000000004E-2,0,0,0,0,0,0,0,0,0,0]
[null,null,null,null,null,null,null,null,null,null,null,null,null,null,null,null,null,null,null,null,null,null,null,null,null,null,null,null,null,null,null,null,null,null,null,null,null,null,null,null,null,null,null,null,null,null,null,null,null,null,null,null,null,19,5996.6,0.375,0,657.8,6.8000000000000005E-2,0,0,0,0,0,0,0,0,0,0]
[null,null,null,null,null,null,null,null,null,null,null,null,null,null,null,null,null,null,null,null,null,null,null,null,null,null,null,null,null,null,null,null,null,null,null,null,null,null,null,null,null,null,null,null,null,null,null,null,null,null,null,null,null,20,{"$f":"((($BB350-$BB$349)*(BC$360-BC$349))/($BB$360-$BB$349))+BC$349","v":6030.9000000000005},0.37654545454545457,0,692.10909090909092,6.9545454545454549E-2,0,34.300000000000004,1.5454545454545456E-3,0,0,0,0,0,0,0]
[null,null,null,null,null,null,null,null,null,null,null,null,null,null,null,null,null,null,null,null,null,null,null,null,null,null,null,null,null,null,null,null,null,null,null,null,null,null,null,null,null,null,null,null,null,null,null,null,null,null,null,null,null,21,6065.2,0.37809090909090909,0,726.41818181818178,7.1090909090909093E-2,0,68.600000000000009,3.0909090909090912E-3,0,0,0,0,0,0,0]
[null,null,null,null,null,null,null,null,null,null,null,null,null,null,null,null,null,null,null,null,null,null,null,null,null,null,null,null,null,null,null,null,null,null,null,null,null,null,null,null,null,null,null,null,null,null,null,null,null,null,null,null,null,22,6099.5,0.37963636363636366,0,760.72727272727275,7.2636363636363638E-2,0,102.9,4.6363636363636364E-3,0,0,0,0,0,0,0]
[null,null,null,null,null,null,null,null,null,null,null,null,null,null,null,null,null,null,null,null,null,null,null,null,null,null,null,null,null,null,null,null,null,null,null,null,null,null,null,null,null,null,null,null,null,null,null,null,null,null,null,null,null,23,6133.8,0.38118181818181818,0,795.0363636363636,7.4181818181818182E-2,0,137.20000000000002,6.1818181818181824E-3,0,0,0,0,0,0,0]
[null,null,null,null,null,null,null,null,null,null,null,null,null,null,null,null,null,null,null,null,null,null,null,null,null,null,null,null,null,null,null,null,null,null,null,null,null,null,null,null,null,null,null,null,null,null,null,null,null,null,null,null,null,24,6168.1,0.38272727272727275,0,829.34545454545457,7.5727272727272726E-2,0,171.5,7.7272727272727276E-3,0,0,0,0,0,0,0]
[null,null,null,null,null,null,null,null,null,null,null,null,null,null,null,null,null,null,null,null,null,null,null,null,null,null,null,null,null,null,null,null,null,null,null,null,null,null,null,null,null,null,null,null,null,null,null,null,null,null,null,null,null,25,6202.4,0.38427272727272727,0,863.65454545454543,7.7272727272727271E-2,0,205.8,9.2727272727272728E-3,0,0,0,0,0,0,0]
[null,null,null,null,null,null,null,null,null,null,null,null,null,null,null,null,null,null,null,null,null,null,null,null,null,null,null,null,null,null,null,null,null,null,null,null,null,null,null,null,null,null,null,null,null,null,null,null,null,null,null,null,null,26,6236.7,0.38581818181818184,0,897.9636363636364,7.8818181818181829E-2,0,240.1,1.0818181818181819E-2,0,0,0,0,0,0,0]
[null,null,null,null,null,null,null,null,null,null,null,null,null,null,null,null,null,null,null,null,null,null,null,null,null,null,null,null,null,null,null,null,null,null,null,null,null,null,null,null,null,null,null,null,null,null,null,null,null,null,null,null,null,27,6271,0.38736363636363635,0,932.27272727272725,8.0363636363636373E-2,0,274.40000000000003,1.2363636363636365E-2,0,0,0,0,0,0,0]
[null,null,null,null,null,null,null,null,null,null,null,null,null,null,null,null,null,null,null,null,null,null,null,null,null,null,null,null,null,null,null,null,null,null,null,null,null,null,null,null,null,null,null,null,null,null,null,null,null,null,null,null,null,28,6305.3,0.38890909090909093,0,966.58181818181822,8.1909090909090917E-2,0,308.70000000000005,1.3909090909090911E-2,0,0,0,0,0,0,0]
[null,null,null,null,null,null,null,null,null,null,null,null,null,null,null,null,null,null,null,null,null,null,null,null,null,null,null,null,null,null,null,null,null,null,null,null,null,null,null,null,null,null,null,null,null,null,null,null,null,null,null,null,null,29,6339.5999999999995,0.39045454545454544,0,1000.8909090909092,8.3454545454545462E-2,0,343,1.5454545454545455E-2,0,0,0,0,0,0,0]
[null,null,null,null,null,null,null,null,null,null,null,null,null,null,null,null,null,null,null,null,null,null,null,null,null,null,null,null,null,null,null,null,null,null,null,null,null,null,null,null,null,null,null,null,null,null,null,null,null,null,null,null,null,30,6373.9,0.39200000000000002,0,1035.2,8.5000000000000006E-2,0,377.3,1.7000000000000001E-2,0,0,0,0,0,0,0]
[null,null,null,null,null,null,null,null,null,null,null,null,null,null,null,null,null,null,null,null,null,null,null,null,null,null,null,null,null,null,null,null,null,null,null,null,null,null,null,null,null,null,null,null,null,null,null,null,null,null,null,null,null,31,{"$f":"((($BB361-$BB$360)*(BC$368-BC$360))/($BB$368-$BB$360))+BC$360","v":6392.2374999999993},0.39424999999999999,0,1053.5375000000001,8.7125000000000008E-2,0,395.65000000000003,1.9125000000000003E-2,0,18.350000000000001,2.1250000000000002E-3,0,0,0,0]
[null,null,null,null,null,null,null,null,null,null,null,null,null,null,null,null,null,null,null,null,null,null,null,null,null,null,null,null,null,null,null,null,null,null,null,null,null,null,null,null,null,null,null,null,null,null,null,null,null,null,null,null,null,32,6410.5749999999998,0.39650000000000002,0,1071.875,8.9249999999999996E-2,0,414,2.1250000000000002E-2,0,36.700000000000003,4.2500000000000003E-3,0,0,0,0]
[null,null,null,null,null,null,null,null,null,null,null,null,null,null,null,null,null,null,null,null,null,null,null,null,null,null,null,null,null,null,null,null,null,null,null,null,null,null,null,null,null,null,null,null,null,null,null,null,null,null,null,null,null,33,6428.9125000000004,0.39874999999999999,0,1090.2125000000001,9.1374999999999998E-2,0,432.35,2.3375E-2,0,55.050000000000004,6.3750000000000005E-3,0,0,0,0]
[null,null,null,null,null,null,null,null,null,null,null,null,null,null,null,null,null,null,null,null,null,null,null,null,null,null,null,null,null,null,null,null,null,null,null,null,null,null,null,null,null,null,null,null,null,null,null,null,null,null,null,null,null,34,6447.25,0.40100000000000002,0,1108.5500000000002,9.35E-2,0,450.70000000000005,2.5500000000000002E-2,0,73.400000000000006,8.5000000000000006E-3,0,0,0,0]
[null,null,null,null,null,null,null,null,null,null,null,null,null,null,null,null,null,null,null,null,null,null,null,null,null,null,null,null,null,null,null,null,null,null,null,null,null,null,null,null,null,null,null,null,null,null,null,null,null,null,null,null,null,35,6465.5874999999996,0.40325,0,1126.8875,9.5625000000000002E-2,0,469.05,2.7625000000000004E-2,0,91.75,1.0625000000000001E-2,0,0,0,0]
[null,null,null,null,null,null,null,null,null,null,null,null,null,null,null,null,null,null,null,null,null,null,null,null,null,null,null,null,null,null,null,null,null,null,null,null,null,null,null,null,null,null,null,null,null,null,null,null,null,null,null,null,null,36,6483.9250000000002,0.40549999999999997,0,1145.2250000000001,9.7750000000000004E-2,0,487.40000000000003,2.9750000000000002E-2,0,110.10000000000001,1.2750000000000001E-2,0,0,0,0]
[null,null,null,null,null,null,null,null,null,null,null,null,null,null,null,null,null,null,null,null,null,null,null,null,null,null,null,null,null,null,null,null,null,null,null,null,null,null,null,null,null,null,null,null,null,null,null,null,null,null,null,null,null,37,6502.2625000000007,0.40775,0,1163.5625,9.9874999999999992E-2,0,505.75,3.1875000000000001E-2,0,128.45000000000002,1.4875000000000001E-2,0,0,0,0]
[null,null,null,null,null,null,null,null,null,null,null,null,null,null,null,null,null,null,null,null,null,null,null,null,null,null,null,null,null,null,null,null,null,null,null,null,null,null,null,null,null,null,null,null,null,null,null,null,null,null,null,null,null,38,6520.6,0.41,0,1181.9000000000001,0.10199999999999999,0,524.1,3.4000000000000002E-2,0,146.80000000000001,1.7000000000000001E-2,0,0,0,0]
[null,null,null,null,null,null,null,null,null,null,null,null,null,null,null,null,null,null,null,null,null,null,null,null,null,null,null,null,null,null,null,null,null,null,null,null,null,null,null,null,null,null,null,null,null,null,null,null,null,null,null,null,null,39,{"$f":"((($BB369-$BB$368)*(BC$379-BC$368))/($BB$379-$BB$368))+BC$368","v":6532.0727272727272},0.41,0,1193.3636363636365,0.10199999999999999,0,535.56363636363642,3.4000000000000002E-2,0,158.26363636363638,1.7000000000000001E-2,0,11.463636363636363,0,0]
[null,null,null,null,null,null,null,null,null,null,null,null,null,null,null,null,null,null,null,null,null,null,null,null,null,null,null,null,null,null,null,null,null,null,null,null,null,null,null,null,null,null,null,null,null,null,null,null,null,null,null,null,null,40,6543.545454545455,0.41,0,1204.8272727272729,0.10199999999999999,0,547.0272727272727,3.4000000000000002E-2,0,169.72727272727275,1.7000000000000001E-2,0,22.927272727272726,0,0]
[null,null,null,null,null,null,null,null,null,null,null,null,null,null,null,null,null,null,null,null,null,null,null,null,null,null,null,null,null,null,null,null,null,null,null,null,null,null,null,null,null,null,null,null,null,null,null,null,null,null,null,null,null,41,6555.0181818181818,0.41,0,1216.2909090909091,0.10199999999999999,0,558.4909090909091,3.4000000000000002E-2,0,181.19090909090909,1.7000000000000001E-2,0,34.390909090909084,0,0]
[null,null,null,null,null,null,null,null,null,null,null,null,null,null,null,null,null,null,null,null,null,null,null,null,null,null,null,null,null,null,null,null,null,null,null,null,null,null,null,null,null,null,null,null,null,null,null,null,null,null,null,null,null,42,6566.4909090909096,0.41,0,1227.7545454545455,0.10199999999999999,0,569.9545454545455,3.4000000000000002E-2,0,192.65454545454546,1.7000000000000001E-2,0,45.854545454545452,0,0]
[null,null,null,null,null,null,null,null,null,null,null,null,null,null,null,null,null,null,null,null,null,null,null,null,null,null,null,null,null,null,null,null,null,null,null,null,null,null,null,null,null,null,null,null,null,null,null,null,null,null,null,null,null,43,6577.9636363636364,0.41,0,1239.2181818181818,0.10199999999999999,0,581.41818181818189,3.4000000000000002E-2,0,204.11818181818182,1.7000000000000001E-2,0,57.31818181818182,0,0]
[null,null,null,null,null,null,null,null,null,null,null,null,null,null,null,null,null,null,null,null,null,null,null,null,null,null,null,null,null,null,null,null,null,null,null,null,null,null,null,null,null,null,null,null,null,null,null,null,null,null,null,null,null,44,6589.4363636363641,0.41,0,1250.6818181818182,0.10199999999999999,0,592.88181818181818,3.4000000000000002E-2,0,215.58181818181816,1.7000000000000001E-2,0,68.781818181818167,0,0]
[null,null,null,null,null,null,null,null,null,null,null,null,null,null,null,null,null,null,null,null,null,null,null,null,null,null,null,null,null,null,null,null,null,null,null,null,null,null,null,null,null,null,null,null,null,null,null,null,null,null,null,null,null,45,6600.909090909091,0.41,0,1262.1454545454546,0.10199999999999999,0,604.34545454545457,3.4000000000000002E-2,0,227.04545454545456,1.7000000000000001E-2,0,80.245454545454535,0,0]
[null,null,null,null,null,null,null,null,null,null,null,null,null,null,null,null,null,null,null,null,null,null,null,null,null,null,null,null,null,null,null,null,null,null,null,null,null,null,null,null,null,null,null,null,null,null,null,null,null,null,null,null,null,46,6612.3818181818187,0.41,0,1273.609090909091,0.10199999999999999,0,615.80909090909097,3.4000000000000002E-2,0,238.5090909090909,1.7000000000000001E-2,0,91.709090909090904,0,0]
[null,null,null,null,null,null,null,null,null,null,null,null,null,null,null,null,null,null,null,null,null,null,null,null,null,null,null,null,null,null,null,null,null,null,null,null,null,null,null,null,null,null,null,null,null,null,null,null,null,null,null,null,null,47,6623.8545454545456,0.41,0,1285.0727272727272,0.10199999999999999,0,627.27272727272725,3.4000000000000002E-2,0,249.97272727272724,1.7000000000000001E-2,0,103.17272727272726,0,0]
[null,null,null,null,null,null,null,null,null,null,null,null,null,null,null,null,null,null,null,null,null,null,null,null,null,null,null,null,null,null,null,null,null,null,null,null,null,null,null,null,null,null,null,null,null,null,null,null,null,null,null,null,null,48,6635.3272727272733,0.41,0,1296.5363636363636,0.10199999999999999,0,638.73636363636365,3.4000000000000002E-2,0,261.43636363636358,1.7000000000000001E-2,0,114.63636363636364,0,0]
[null,null,null,null,null,null,null,null,null,null,null,null,null,null,null,null,null,null,null,null,null,null,null,null,null,null,null,null,null,null,null,null,null,null,null,null,null,null,null,null,null,null,null,null,null,null,null,null,null,null,null,null,null,49,6646.8,0.41,0,1308,0.10199999999999999,0,650.20000000000005,3.4000000000000002E-2,0,272.89999999999998,1.7000000000000001E-2,0,126.1,0,0]
[null,null,null,null,null,null,null,null,null,null,null,null,null,null,null,null,null,null,null,null,null,null,null,null,null,null,null,null,null,null,null,null,null,null,null,null,null,null,null,null,null,null,null,null,null,null,null,null,null,null,null,null,null,50,{"$f":"((($BB380-$BB$379)*(BC$390-BC$379))/($BB$390-$BB$379))+BC$379","v":6654.4636363636364},0.41154545454545455,0,1315.6636363636364,0.10354545454545454,0,657.86363636363637,3.5545454545454547E-2,0,280.56363636363636,1.8545454545454546E-2,0,133.76363636363635,1.5454545454545456E-3,0]
[null,null,null,null,null,null,null,null,null,null,null,null,null,null,null,null,null,null,null,null,null,null,null,null,null,null,null,null,null,null,null,null,null,null,null,null,null,null,null,null,null,null,null,null,null,null,null,null,null,null,null,null,null,51,6662.1272727272726,0.41309090909090906,0,1323.3272727272727,0.10509090909090908,0,665.52727272727282,3.7090909090909091E-2,0,288.22727272727269,2.0090909090909093E-2,0,141.42727272727274,3.0909090909090912E-3,0]
[null,null,null,null,null,null,null,null,null,null,null,null,null,null,null,null,null,null,null,null,null,null,null,null,null,null,null,null,null,null,null,null,null,null,null,null,null,null,null,null,null,null,null,null,null,null,null,null,null,null,null,null,null,52,6669.7909090909097,0.41463636363636364,0,1330.9909090909091,0.10663636363636363,0,673.19090909090914,3.8636363636363635E-2,0,295.89090909090908,2.1636363636363638E-2,0,149.09090909090909,4.6363636363636364E-3,0]
[null,null,null,null,null,null,null,null,null,null,null,null,null,null,null,null,null,null,null,null,null,null,null,null,null,null,null,null,null,null,null,null,null,null,null,null,null,null,null,null,null,null,null,null,null,null,null,null,null,null,null,null,null,53,6677.454545454546,0.41618181818181815,0,1338.6545454545455,0.10818181818181817,0,680.85454545454547,4.018181818181818E-2,0,303.55454545454546,2.3181818181818185E-2,0,156.75454545454545,6.1818181818181824E-3,0]
[null,null,null,null,null,null,null,null,null,null,null,null,null,null,null,null,null,null,null,null,null,null,null,null,null,null,null,null,null,null,null,null,null,null,null,null,null,null,null,null,null,null,null,null,null,null,null,null,null,null,null,null,null,54,6685.1181818181822,0.41772727272727272,0,1346.3181818181818,0.10972727272727271,0,688.5181818181818,4.1727272727272724E-2,0,311.21818181818179,2.472727272727273E-2,0,164.41818181818181,7.7272727272727276E-3,0]
[null,null,null,null,null,null,null,null,null,null,null,null,null,null,null,null,null,null,null,null,null,null,null,null,null,null,null,null,null,null,null,null,null,null,null,null,null,null,null,null,null,null,null,null,null,null,null,null,null,null,null,null,null,55,6692.7818181818184,0.41927272727272724,0,1353.9818181818182,0.11127272727272727,0,696.18181818181824,4.3272727272727268E-2,0,318.88181818181818,2.6272727272727274E-2,0,172.08181818181819,9.2727272727272728E-3,0]
[null,null,null,null,null,null,null,null,null,null,null,null,null,null,null,null,null,null,null,null,null,null,null,null,null,null,null,null,null,null,null,null,null,null,null,null,null,null,null,null,null,null,null,null,null,null,null,null,null,null,null,null,null,56,6700.4454545454546,0.42081818181818181,0,1361.6454545454544,0.11281818181818182,0,703.84545454545457,4.481818181818182E-2,0,326.5454545454545,2.7818181818181818E-2,0,179.74545454545455,1.0818181818181819E-2,0]
[null,null,null,null,null,null,null,null,null,null,null,null,null,null,null,null,null,null,null,null,null,null,null,null,null,null,null,null,null,null,null,null,null,null,null,null,null,null,null,null,null,null,null,null,null,null,null,null,null,null,null,null,null,57,6708.1090909090908,0.42236363636363633,0,1369.3090909090909,0.11436363636363636,0,711.5090909090909,4.6363636363636364E-2,0,334.20909090909089,2.9363636363636366E-2,0,187.40909090909091,1.2363636363636365E-2,0]
[null,null,null,null,null,null,null,null,null,null,null,null,null,null,null,null,null,null,null,null,null,null,null,null,null,null,null,null,null,null,null,null,null,null,null,null,null,null,null,null,null,null,null,null,null,null,null,null,null,null,null,null,null,58,6715.7727272727279,0.4239090909090909,0,1376.9727272727273,0.11590909090909091,0,719.17272727272734,4.7909090909090908E-2,0,341.87272727272727,3.0909090909090914E-2,0,195.07272727272726,1.3909090909090911E-2,0]
[null,null,null,null,null,null,null,null,null,null,null,null,null,null,null,null,null,null,null,null,null,null,null,null,null,null,null,null,null,null,null,null,null,null,null,null,null,null,null,null,null,null,null,null,null,null,null,null,null,null,null,null,null,59,6723.4363636363641,0.42545454545454542,0,1384.6363636363635,0.11745454545454545,0,726.83636363636367,4.9454545454545452E-2,0,349.5363636363636,3.2454545454545458E-2,0,202.73636363636365,1.5454545454545455E-2,0]
[null,null,null,null,null,null,null,null,null,null,null,null,null,null,null,null,null,null,null,null,null,null,null,null,null,null,null,null,null,null,null,null,null,null,null,null,null,null,null,null,null,null,null,null,null,null,null,null,null,null,null,null,null,60,6731.1,0.42699999999999999,0,1392.3,0.11899999999999999,0,734.5,5.0999999999999997E-2,0,357.2,3.4000000000000002E-2,0,210.4,1.7000000000000001E-2,0]
[]
[]
[]
[]
[null,null,null,null,null,null,null,null,null,null,null,null,null,null,null,null,null,null,null,null,null,null,null,null,null,null,null,null,null,null,null,null,null,null,null,null,null,null,null,null,null,null,null,null,null,null,null,null,null,null,null,null,null,"Ceiling Insulation - Electric Heat No AC"]
[null,null,null,null,null,null,null,null,null,null,null,null,null,null,null,null,null,null,null,null,null,null,null,null,null,null,null,null,null,null,null,null,null,null,null,null,null,null,null,null,null,null,null,null,null,null,null,null,null,null,null,null,null,"Base",0,null,null,11,null,null,19,null,null,30,null,null,38]
[null,null,null,null,null,null,null,null,null,null,null,null,null,null,null,null,null,null,null,null,null,null,null,null,null,null,null,null,null,null,null,null,null,null,null,null,null,null,null,null,null,null,null,null,null,null,null,null,null,null,null,null,null,"Measure","kWh/ kSF","kW/ kSF",null,"kWh/ kSF","kW/ kSF",null,"kWh/ kSF","kW/ kSF",null,"kWh/ kSF","kW/ kSF",null,"kWh/ kSF","kW/ kSF"]
[null,null,null,null,null,null,null,null,null,null,null,null,null,null,null,null,null,null,null,null,null,null,null,null,null,null,null,null,null,null,null,null,null,null,null,null,null,null,null,null,null,null,null,null,null,null,null,null,null,null,null,null,null,11,5028.7,0,null,0,0,0,0,0,0,0,0,0,0,0,0]
[null,null,null,null,null,null,null,null,null,null,null,null,null,null,null,null,null,null,null,null,null,null,null,null,null,null,null,null,null,null,null,null,null,null,null,null,null,null,null,null,null,null,null,null,null,null,null,null,null,null,null,null,null,12,{"$f":"((($BB399-$BB$398)*(BC$406-BC$398))/($BB$406-$BB$398))+BC$398","v":5105.8125},0,0,77.112499999999997,0,0,0,0,0,0,0,0,0,0,0]
[null,null,null,null,null,null,null,null,null,null,null,null,null,null,null,null,null,null,null,null,null,null,null,null,null,null,null,null,null,null,null,null,null,null,null,null,null,null,null,null,null,null,null,null,null,null,null,null,null,null,null,null,null,13,5182.9250000000002,0,0,154.22499999999999,0,0,0,0,0,0,0,0,0,0,0]
[null,null,null,null,null,null,null,null,null,null,null,null,null,null,null,null,null,null,null,null,null,null,null,null,null,null,null,null,null,null,null,null,null,null,null,null,null,null,null,null,null,null,null,null,null,null,null,null,null,null,null,null,null,14,5260.0375000000004,0,0,231.33749999999998,0,0,0,0,0,0,0,0,0,0,0]
[null,null,null,null,null,null,null,null,null,null,null,null,null,null,null,null,null,null,null,null,null,null,null,null,null,null,null,null,null,null,null,null,null,null,null,null,null,null,null,null,null,null,null,null,null,null,null,null,null,null,null,null,null,15,5337.15,0,0,308.45,0,0,0,0,0,0,0,0,0,0,0]
[null,null,null,null,null,null,null,null,null,null,null,null,null,null,null,null,null,null,null,null,null,null,null,null,null,null,null,null,null,null,null,null,null,null,null,null,null,null,null,null,null,null,null,null,null,null,null,null,null,null,null,null,null,16,5414.2624999999998,0,0,385.5625,0,0,0,0,0,0,0,0,0,0,0]
[null,null,null,null,null,null,null,null,null,null,null,null,null,null,null,null,null,null,null,null,null,null,null,null,null,null,null,null,null,null,null,null,null,null,null,null,null,null,null,null,null,null,null,null,null,null,null,null,null,null,null,null,null,17,5491.375,0,0,462.67499999999995,0,0,0,0,0,0,0,0,0,0,0]
[null,null,null,null,null,null,null,null,null,null,null,null,null,null,null,null,null,null,null,null,null,null,null,null,null,null,null,null,null,null,null,null,null,null,null,null,null,null,null,null,null,null,null,null,null,null,null,null,null,null,null,null,null,18,5568.4875000000002,0,0,539.78750000000002,0,0,0,0,0,0,0,0,0,0,0]
[null,null,null,null,null,null,null,null,null,null,null,null,null,null,null,null,null,null,null,null,null,null,null,null,null,null,null,null,null,null,null,null,null,null,null,null,null,null,null,null,null,null,null,null,null,null,null,null,null,null,null,null,null,19,5645.6,0,null,616.9,0,0,0,0,0,0,0,0,0,0,0]
[null,null,null,null,null,null,null,null,null,null,null,null,null,null,null,null,null,null,null,null,null,null,null,null,null,null,null,null,null,null,null,null,null,null,null,null,null,null,null,null,null,null,null,null,null,null,null,null,null,null,null,null,null,20,{"$f":"((($BB407-$BB$406)*(BC$417-BC$406))/($BB$417-$BB$406))+BC$406","v":5677.9454545454546},0,0,649.24545454545455,0,0,32.345454545454544,0,0,0,0,0,0,0,0]
[null,null,null,null,null,null,null,null,null,null,null,null,null,null,null,null,null,null,null,null,null,null,null,null,null,null,null,null,null,null,null,null,null,null,null,null,null,null,null,null,null,null,null,null,null,null,null,null,null,null,null,null,null,21,5710.2909090909097,0,0,681.59090909090912,0,0,64.690909090909088,0,0,0,0,0,0,0,0]
[null,null,null,null,null,null,null,null,null,null,null,null,null,null,null,null,null,null,null,null,null,null,null,null,null,null,null,null,null,null,null,null,null,null,null,null,null,null,null,null,null,null,null,null,null,null,null,null,null,null,null,null,null,22,5742.636363636364,0,0,713.93636363636358,0,0,97.036363636363646,0,0,0,0,0,0,0,0]
[null,null,null,null,null,null,null,null,null,null,null,null,null,null,null,null,null,null,null,null,null,null,null,null,null,null,null,null,null,null,null,null,null,null,null,null,null,null,null,null,null,null,null,null,null,null,null,null,null,null,null,null,null,23,5774.9818181818182,0,0,746.28181818181815,0,0,129.38181818181818,0,0,0,0,0,0,0,0]
[null,null,null,null,null,null,null,null,null,null,null,null,null,null,null,null,null,null,null,null,null,null,null,null,null,null,null,null,null,null,null,null,null,null,null,null,null,null,null,null,null,null,null,null,null,null,null,null,null,null,null,null,null,24,5807.3272727272724,0,0,778.62727272727273,0,0,161.72727272727272,0,0,0,0,0,0,0,0]
[null,null,null,null,null,null,null,null,null,null,null,null,null,null,null,null,null,null,null,null,null,null,null,null,null,null,null,null,null,null,null,null,null,null,null,null,null,null,null,null,null,null,null,null,null,null,null,null,null,null,null,null,null,25,5839.6727272727276,0,0,810.9727272727273,0,0,194.07272727272729,0,0,0,0,0,0,0,0]
[null,null,null,null,null,null,null,null,null,null,null,null,null,null,null,null,null,null,null,null,null,null,null,null,null,null,null,null,null,null,null,null,null,null,null,null,null,null,null,null,null,null,null,null,null,null,null,null,null,null,null,null,null,26,5872.0181818181818,0,0,843.31818181818187,0,0,226.41818181818181,0,0,0,0,0,0,0,0]
[null,null,null,null,null,null,null,null,null,null,null,null,null,null,null,null,null,null,null,null,null,null,null,null,null,null,null,null,null,null,null,null,null,null,null,null,null,null,null,null,null,null,null,null,null,null,null,null,null,null,null,null,null,27,5904.363636363636,0,0,875.66363636363644,0,0,258.76363636363635,0,0,0,0,0,0,0,0]
[null,null,null,null,null,null,null,null,null,null,null,null,null,null,null,null,null,null,null,null,null,null,null,null,null,null,null,null,null,null,null,null,null,null,null,null,null,null,null,null,null,null,null,null,null,null,null,null,null,null,null,null,null,28,5936.7090909090903,0,0,908.0090909090909,0,0,291.10909090909092,0,0,0,0,0,0,0,0]
[null,null,null,null,null,null,null,null,null,null,null,null,null,null,null,null,null,null,null,null,null,null,null,null,null,null,null,null,null,null,null,null,null,null,null,null,null,null,null,null,null,null,null,null,null,null,null,null,null,null,null,null,null,29,5969.0545454545454,0,0,940.35454545454559,0,0,323.45454545454544,0,0,0,0,0,0,0,0]
[null,null,null,null,null,null,null,null,null,null,null,null,null,null,null,null,null,null,null,null,null,null,null,null,null,null,null,null,null,null,null,null,null,null,null,null,null,null,null,null,null,null,null,null,null,null,null,null,null,null,null,null,null,30,6001.4,0,0,972.7,0,0,355.8,0,0,0,0,0,0,0,0]
[null,null,null,null,null,null,null,null,null,null,null,null,null,null,null,null,null,null,null,null,null,null,null,null,null,null,null,null,null,null,null,null,null,null,null,null,null,null,null,null,null,null,null,null,null,null,null,null,null,null,null,null,null,31,{"$f":"((($BB418-$BB$417)*(BC$425-BC$417))/($BB$425-$BB$417))+BC$417","v":6018.8249999999998},0,0,990.125,0,0,373.22500000000002,0,0,17.425000000000001,0,0,0,0,0]
[null,null,null,null,null,null,null,null,null,null,null,null,null,null,null,null,null,null,null,null,null,null,null,null,null,null,null,null,null,null,null,null,null,null,null,null,null,null,null,null,null,null,null,null,null,null,null,null,null,null,null,null,null,32,6036.25,0,0,1007.55,0,0,390.65,0,0,34.85,0,0,0,0,0]
[null,null,null,null,null,null,null,null,null,null,null,null,null,null,null,null,null,null,null,null,null,null,null,null,null,null,null,null,null,null,null,null,null,null,null,null,null,null,null,null,null,null,null,null,null,null,null,null,null,null,null,null,null,33,6053.6750000000002,0,0,1024.9749999999999,0,0,408.07499999999999,0,0,52.275000000000006,0,0,0,0,0]
[null,null,null,null,null,null,null,null,null,null,null,null,null,null,null,null,null,null,null,null,null,null,null,null,null,null,null,null,null,null,null,null,null,null,null,null,null,null,null,null,null,null,null,null,null,null,null,null,null,null,null,null,null,34,6071.1,0,0,1042.4000000000001,0,0,425.5,0,0,69.7,0,0,0,0,0]
[null,null,null,null,null,null,null,null,null,null,null,null,null,null,null,null,null,null,null,null,null,null,null,null,null,null,null,null,null,null,null,null,null,null,null,null,null,null,null,null,null,null,null,null,null,null,null,null,null,null,null,null,null,35,6088.5249999999996,0,0,1059.825,0,0,442.92500000000001,0,0,87.125,0,0,0,0,0]
[null,null,null,null,null,null,null,null,null,null,null,null,null,null,null,null,null,null,null,null,null,null,null,null,null,null,null,null,null,null,null,null,null,null,null,null,null,null,null,null,null,null,null,null,null,null,null,null,null,null,null,null,null,36,6105.95,0,0,1077.25,0,0,460.35,0,0,104.55000000000001,0,0,0,0,0]
[null,null,null,null,null,null,null,null,null,null,null,null,null,null,null,null,null,null,null,null,null,null,null,null,null,null,null,null,null,null,null,null,null,null,null,null,null,null,null,null,null,null,null,null,null,null,null,null,null,null,null,null,null,37,6123.375,0,0,1094.675,0,0,477.77499999999998,0,0,121.97500000000001,0,0,0,0,0]
[null,null,null,null,null,null,null,null,null,null,null,null,null,null,null,null,null,null,null,null,null,null,null,null,null,null,null,null,null,null,null,null,null,null,null,null,null,null,null,null,null,null,null,null,null,null,null,null,null,null,null,null,null,38,6140.8,0,0,1112.0999999999999,0,0,495.2,0,0,139.4,0,0,0,0,0]
[null,null,null,null,null,null,null,null,null,null,null,null,null,null,null,null,null,null,null,null,null,null,null,null,null,null,null,null,null,null,null,null,null,null,null,null,null,null,null,null,null,null,null,null,null,null,null,null,null,null,null,null,null,39,{"$f":"((($BB426-$BB$425)*(BC$436-BC$425))/($BB$436-$BB$425))+BC$425","v":6151.8727272727274},0,0,1123.181818181818,0,0,506.28181818181815,0,0,150.4818181818182,0,0,11.072727272727272,0,0]
[null,null,null,null,null,null,null,null,null,null,null,null,null,null,null,null,null,null,null,null,null,null,null,null,null,null,null,null,null,null,null,null,null,null,null,null,null,null,null,null,null,null,null,null,null,null,null,null,null,null,null,null,null,40,6162.9454545454546,0,0,1134.2636363636364,0,0,517.36363636363637,0,0,161.56363636363636,0,0,22.145454545454545,0,0]
[null,null,null,null,null,null,null,null,null,null,null,null,null,null,null,null,null,null,null,null,null,null,null,null,null,null,null,null,null,null,null,null,null,null,null,null,null,null,null,null,null,null,null,null,null,null,null,null,null,null,null,null,null,41,6174.0181818181818,0,0,1145.3454545454545,0,0,528.4454545454546,0,0,172.64545454545456,0,0,33.218181818181819,0,0]
[null,null,null,null,null,null,null,null,null,null,null,null,null,null,null,null,null,null,null,null,null,null,null,null,null,null,null,null,null,null,null,null,null,null,null,null,null,null,null,null,null,null,null,null,null,null,null,null,null,null,null,null,null,42,6185.090909090909,0,0,1156.4272727272726,0,0,539.5272727272727,0,0,183.72727272727275,0,0,44.290909090909089,0,0]
[null,null,null,null,null,null,null,null,null,null,null,null,null,null,null,null,null,null,null,null,null,null,null,null,null,null,null,null,null,null,null,null,null,null,null,null,null,null,null,null,null,null,null,null,null,null,null,null,null,null,null,null,null,43,6196.1636363636362,0,0,1167.5090909090909,0,0,550.60909090909092,0,0,194.80909090909091,0,0,55.363636363636367,0,0]
[null,null,null,null,null,null,null,null,null,null,null,null,null,null,null,null,null,null,null,null,null,null,null,null,null,null,null,null,null,null,null,null,null,null,null,null,null,null,null,null,null,null,null,null,null,null,null,null,null,null,null,null,null,44,6207.2363636363643,0,0,1178.590909090909,0,0,561.69090909090914,0,0,205.8909090909091,0,0,66.436363636363637,0,0]
[null,null,null,null,null,null,null,null,null,null,null,null,null,null,null,null,null,null,null,null,null,null,null,null,null,null,null,null,null,null,null,null,null,null,null,null,null,null,null,null,null,null,null,null,null,null,null,null,null,null,null,null,null,45,6218.3090909090915,0,0,1189.6727272727273,0,0,572.77272727272725,0,0,216.9727272727273,0,0,77.509090909090915,0,0]
[null,null,null,null,null,null,null,null,null,null,null,null,null,null,null,null,null,null,null,null,null,null,null,null,null,null,null,null,null,null,null,null,null,null,null,null,null,null,null,null,null,null,null,null,null,null,null,null,null,null,null,null,null,46,6229.3818181818187,0,0,1200.7545454545455,0,0,583.85454545454547,0,0,228.05454545454546,0,0,88.581818181818178,0,0]
[null,null,null,null,null,null,null,null,null,null,null,null,null,null,null,null,null,null,null,null,null,null,null,null,null,null,null,null,null,null,null,null,null,null,null,null,null,null,null,null,null,null,null,null,null,null,null,null,null,null,null,null,null,47,6240.454545454546,0,0,1211.8363636363636,0,0,594.93636363636369,0,0,239.13636363636365,0,0,99.654545454545456,0,0]
[null,null,null,null,null,null,null,null,null,null,null,null,null,null,null,null,null,null,null,null,null,null,null,null,null,null,null,null,null,null,null,null,null,null,null,null,null,null,null,null,null,null,null,null,null,null,null,null,null,null,null,null,null,48,6251.5272727272732,0,0,1222.9181818181819,0,0,606.0181818181818,0,0,250.21818181818182,0,0,110.72727272727273,0,0]
[null,null,null,null,null,null,null,null,null,null,null,null,null,null,null,null,null,null,null,null,null,null,null,null,null,null,null,null,null,null,null,null,null,null,null,null,null,null,null,null,null,null,null,null,null,null,null,null,null,null,null,null,null,49,6262.6,0,0,1234,0,0,617.1,0,0,261.3,0,0,121.8,0,0]
[null,null,null,null,null,null,null,null,null,null,null,null,null,null,null,null,null,null,null,null,null,null,null,null,null,null,null,null,null,null,null,null,null,null,null,null,null,null,null,null,null,null,null,null,null,null,null,null,null,null,null,null,null,50,{"$f":"((($BB437-$BB$436)*(BC$447-BC$436))/($BB$447-$BB$436))+BC$436","v":6269.8363636363638},0,0,1241.2272727272727,0,0,624.32727272727277,0,0,268.52727272727276,0,0,129.03636363636363,0,0]
[null,null,null,null,null,null,null,null,null,null,null,null,null,null,null,null,null,null,null,null,null,null,null,null,null,null,null,null,null,null,null,null,null,null,null,null,null,null,null,null,null,null,null,null,null,null,null,null,null,null,null,null,null,51,6277.0727272727272,0,0,1248.4545454545455,0,0,631.55454545454552,0,0,275.75454545454545,0,0,136.27272727272728,0,0]
[null,null,null,null,null,null,null,null,null,null,null,null,null,null,null,null,null,null,null,null,null,null,null,null,null,null,null,null,null,null,null,null,null,null,null,null,null,null,null,null,null,null,null,null,null,null,null,null,null,null,null,null,null,52,6284.3090909090915,0,0,1255.6818181818182,0,0,638.78181818181815,0,0,282.9818181818182,0,0,143.5090909090909,0,0]
[null,null,null,null,null,null,null,null,null,null,null,null,null,null,null,null,null,null,null,null,null,null,null,null,null,null,null,null,null,null,null,null,null,null,null,null,null,null,null,null,null,null,null,null,null,null,null,null,null,null,null,null,null,53,6291.545454545455,0,0,1262.909090909091,0,0,646.0090909090909,0,0,290.20909090909095,0,0,150.74545454545455,0,0]
[null,null,null,null,null,null,null,null,null,null,null,null,null,null,null,null,null,null,null,null,null,null,null,null,null,null,null,null,null,null,null,null,null,null,null,null,null,null,null,null,null,null,null,null,null,null,null,null,null,null,null,null,null,54,6298.7818181818184,0,0,1270.1363636363637,0,0,653.23636363636365,0,0,297.43636363636364,0,0,157.9818181818182,0,0]
[null,null,null,null,null,null,null,null,null,null,null,null,null,null,null,null,null,null,null,null,null,null,null,null,null,null,null,null,null,null,null,null,null,null,null,null,null,null,null,null,null,null,null,null,null,null,null,null,null,null,null,null,null,55,6306.0181818181818,0,0,1277.3636363636363,0,0,660.4636363636364,0,0,304.66363636363639,0,0,165.21818181818182,0,0]
[null,null,null,null,null,null,null,null,null,null,null,null,null,null,null,null,null,null,null,null,null,null,null,null,null,null,null,null,null,null,null,null,null,null,null,null,null,null,null,null,null,null,null,null,null,null,null,null,null,null,null,null,null,56,6313.2545454545452,0,0,1284.590909090909,0,0,667.69090909090914,0,0,311.89090909090908,0,0,172.45454545454544,0,0]
[null,null,null,null,null,null,null,null,null,null,null,null,null,null,null,null,null,null,null,null,null,null,null,null,null,null,null,null,null,null,null,null,null,null,null,null,null,null,null,null,null,null,null,null,null,null,null,null,null,null,null,null,null,57,6320.4909090909086,0,0,1291.8181818181818,0,0,674.91818181818189,0,0,319.11818181818182,0,0,179.69090909090909,0,0]
[null,null,null,null,null,null,null,null,null,null,null,null,null,null,null,null,null,null,null,null,null,null,null,null,null,null,null,null,null,null,null,null,null,null,null,null,null,null,null,null,null,null,null,null,null,null,null,null,null,null,null,null,null,58,6327.727272727273,0,0,1299.0454545454545,0,0,682.14545454545453,0,0,326.34545454545457,0,0,186.92727272727274,0,0]
[null,null,null,null,null,null,null,null,null,null,null,null,null,null,null,null,null,null,null,null,null,null,null,null,null,null,null,null,null,null,null,null,null,null,null,null,null,null,null,null,null,null,null,null,null,null,null,null,null,null,null,null,null,59,6334.9636363636364,0,0,1306.2727272727273,0,0,689.37272727272727,0,0,333.57272727272726,0,0,194.16363636363639,0,0]
[null,null,null,null,null,null,null,null,null,null,null,null,null,null,null,null,null,null,null,null,null,null,null,null,null,null,null,null,null,null,null,null,null,null,null,null,null,null,null,null,null,null,null,null,null,null,null,null,null,null,null,null,null,60,6342.2,0,0,1313.5,0,0,696.6,0,0,340.8,0,0,201.4,0,0]
[]
[]
[]
[null,null,null,null,null,null,null,null,null,null,null,null,null,null,null,null,null,null,null,null,null,null,null,null,null,null,null,null,null,null,null,null,null,null,null,null,null,null,null,null,null,null,null,null,null,null,null,null,null,null,null,null,null,"Ceiling Insulation - HVAC: Gas Heat No AC"]
[null,null,null,null,null,null,null,null,null,null,null,null,null,null,null,null,null,null,null,null,null,null,null,null,null,null,null,null,null,null,null,null,null,null,null,null,null,null,null,null,null,null,null,null,null,null,null,null,null,null,null,null,null,"Base",0,null,null,11,null,null,19,null,null,30,null,null,38]
[null,null,null,null,null,null,null,null,null,null,null,null,null,null,null,null,null,null,null,null,null,null,null,null,null,null,null,null,null,null,null,null,null,null,null,null,null,null,null,null,null,null,null,null,null,null,null,null,null,null,null,null,null,"Measure","kWh/ kSF","kW/ kSF","therm/ kSF","kWh/ kSF","kW/ kSF","therm/ kSF","kWh/ kSF","kW/ kSF","therm/ kSF","kWh/ kSF","kW/ kSF","therm/ kSF","kWh/ kSF","kW/ kSF","therm/ kSF"]
[null,null,null,null,null,null,null,null,null,null,null,null,null,null,null,null,null,null,null,null,null,null,null,null,null,null,null,null,null,null,null,null,null,null,null,null,null,null,null,null,null,null,null,null,null,null,null,null,null,null,null,null,null,11,105.6,0,224.4]
[null,null,null,null,null,null,null,null,null,null,null,null,null,null,null,null,null,null,null,null,null,null,null,null,null,null,null,null,null,null,null,null,null,null,null,null,null,null,null,null,null,null,null,null,null,null,null,null,null,null,null,null,null,12,{"$f":"((($BB455-$BB$454)*(BC$462-BC$454))/($BB$462-$BB$454))+BC$454","v":107.19999999999999},0,227.92500000000001,1.6,0,3.5249999999999999]
[null,null,null,null,null,null,null,null,null,null,null,null,null,null,null,null,null,null,null,null,null,null,null,null,null,null,null,null,null,null,null,null,null,null,null,null,null,null,null,null,null,null,null,null,null,null,null,null,null,null,null,null,null,13,108.8,0,231.45,3.2,0,7.05]
[null,null,null,null,null,null,null,null,null,null,null,null,null,null,null,null,null,null,null,null,null,null,null,null,null,null,null,null,null,null,null,null,null,null,null,null,null,null,null,null,null,null,null,null,null,null,null,null,null,null,null,null,null,14,110.4,0,234.97499999999999,4.8000000000000007,0,10.574999999999999]
[null,null,null,null,null,null,null,null,null,null,null,null,null,null,null,null,null,null,null,null,null,null,null,null,null,null,null,null,null,null,null,null,null,null,null,null,null,null,null,null,null,null,null,null,null,null,null,null,null,null,null,null,null,15,112,0,238.5,6.4,0,14.1]
[null,null,null,null,null,null,null,null,null,null,null,null,null,null,null,null,null,null,null,null,null,null,null,null,null,null,null,null,null,null,null,null,null,null,null,null,null,null,null,null,null,null,null,null,null,null,null,null,null,null,null,null,null,16,113.6,0,242.02500000000001,8,0,17.625]
[null,null,null,null,null,null,null,null,null,null,null,null,null,null,null,null,null,null,null,null,null,null,null,null,null,null,null,null,null,null,null,null,null,null,null,null,null,null,null,null,null,null,null,null,null,null,null,null,null,null,null,null,null,17,115.2,0,245.55,9.6000000000000014,0,21.15]
[null,null,null,null,null,null,null,null,null,null,null,null,null,null,null,null,null,null,null,null,null,null,null,null,null,null,null,null,null,null,null,null,null,null,null,null,null,null,null,null,null,null,null,null,null,null,null,null,null,null,null,null,null,18,116.80000000000001,0,249.07499999999999,11.200000000000001,0,24.675000000000001]
[null,null,null,null,null,null,null,null,null,null,null,null,null,null,null,null,null,null,null,null,null,null,null,null,null,null,null,null,null,null,null,null,null,null,null,null,null,null,null,null,null,null,null,null,null,null,null,null,null,null,null,null,null,19,118.4,0,252.6,12.8,0,28.2]
[null,null,null,null,null,null,null,null,null,null,null,null,null,null,null,null,null,null,null,null,null,null,null,null,null,null,null,null,null,null,null,null,null,null,null,null,null,null,null,null,null,null,null,null,null,null,null,null,null,null,null,null,null,20,{"$f":"((($BB463-$BB$462)*(BC$473-BC$462))/($BB$473-$BB$462))+BC$462","v":119.08181818181819},0,254.07272727272726,13.481818181818182,0,29.672727272727272,0.68181818181818177,0,1.4727272727272727,0,0,0,0,0,0]
[null,null,null,null,null,null,null,null,null,null,null,null,null,null,null,null,null,null,null,null,null,null,null,null,null,null,null,null,null,null,null,null,null,null,null,null,null,null,null,null,null,null,null,null,null,null,null,null,null,null,null,null,null,21,119.76363636363637,0,255.54545454545453,14.163636363636364,0,31.145454545454545,1.3636363636363635,0,2.9454545454545453,0,0,0,0,0,0]
[null,null,null,null,null,null,null,null,null,null,null,null,null,null,null,null,null,null,null,null,null,null,null,null,null,null,null,null,null,null,null,null,null,null,null,null,null,null,null,null,null,null,null,null,null,null,null,null,null,null,null,null,null,22,120.44545454545455,0,257.0181818181818,14.845454545454546,0,32.618181818181817,2.0454545454545454,0,4.418181818181818,0,0,0,0,0,0]
[null,null,null,null,null,null,null,null,null,null,null,null,null,null,null,null,null,null,null,null,null,null,null,null,null,null,null,null,null,null,null,null,null,null,null,null,null,null,null,null,null,null,null,null,null,null,null,null,null,null,null,null,null,23,121.12727272727274,0,258.4909090909091,15.527272727272727,0,34.090909090909093,2.7272727272727271,0,5.8909090909090907,0,0,0,0,0,0]
[null,null,null,null,null,null,null,null,null,null,null,null,null,null,null,null,null,null,null,null,null,null,null,null,null,null,null,null,null,null,null,null,null,null,null,null,null,null,null,null,null,null,null,null,null,null,null,null,null,null,null,null,null,24,121.80909090909091,0,259.96363636363634,16.209090909090911,0,35.563636363636363,3.4090909090909092,0,7.3636363636363633,0,0,0,0,0,0]
[null,null,null,null,null,null,null,null,null,null,null,null,null,null,null,null,null,null,null,null,null,null,null,null,null,null,null,null,null,null,null,null,null,null,null,null,null,null,null,null,null,null,null,null,null,null,null,null,null,null,null,null,null,25,122.4909090909091,0,261.43636363636364,16.890909090909091,0,37.036363636363632,4.0909090909090908,0,8.836363636363636,0,0,0,0,0,0]
[null,null,null,null,null,null,null,null,null,null,null,null,null,null,null,null,null,null,null,null,null,null,null,null,null,null,null,null,null,null,null,null,null,null,null,null,null,null,null,null,null,null,null,null,null,null,null,null,null,null,null,null,null,26,123.17272727272727,0,262.90909090909093,17.572727272727274,0,38.509090909090908,4.7727272727272725,0,10.309090909090909,0,0,0,0,0,0]
[null,null,null,null,null,null,null,null,null,null,null,null,null,null,null,null,null,null,null,null,null,null,null,null,null,null,null,null,null,null,null,null,null,null,null,null,null,null,null,null,null,null,null,null,null,null,null,null,null,null,null,null,null,27,123.85454545454546,0,264.38181818181818,18.254545454545454,0,39.981818181818184,5.4545454545454541,0,11.781818181818181,0,0,0,0,0,0]
[null,null,null,null,null,null,null,null,null,null,null,null,null,null,null,null,null,null,null,null,null,null,null,null,null,null,null,null,null,null,null,null,null,null,null,null,null,null,null,null,null,null,null,null,null,null,null,null,null,null,null,null,null,28,124.53636363636365,0,265.85454545454547,18.936363636363637,0,41.454545454545453,6.1363636363636367,0,13.254545454545452,0,0,0,0,0,0]
[null,null,null,null,null,null,null,null,null,null,null,null,null,null,null,null,null,null,null,null,null,null,null,null,null,null,null,null,null,null,null,null,null,null,null,null,null,null,null,null,null,null,null,null,null,null,null,null,null,null,null,null,null,29,125.21818181818182,0,267.32727272727271,19.618181818181817,0,42.927272727272722,6.8181818181818183,0,14.727272727272727,0,0,0,0,0,0]
[null,null,null,null,null,null,null,null,null,null,null,null,null,null,null,null,null,null,null,null,null,null,null,null,null,null,null,null,null,null,null,null,null,null,null,null,null,null,null,null,null,null,null,null,null,null,null,null,null,null,null,null,null,30,125.9,0,268.8,20.3,0,44.4,7.5,0,16.2]
[null,null,null,null,null,null,null,null,null,null,null,null,null,null,null,null,null,null,null,null,null,null,null,null,null,null,null,null,null,null,null,null,null,null,null,null,null,null,null,null,null,null,null,null,null,null,null,null,null,null,null,null,null,31,126.2625,0,269.58750000000003,20.662500000000001,0,45.1875,7.8624999999999998,0,16.987500000000001,0.36249999999999999,0,0.78749999999999998,0,0,0]
[null,null,null,null,null,null,null,null,null,null,null,null,null,null,null,null,null,null,null,null,null,null,null,null,null,null,null,null,null,null,null,null,null,null,null,null,null,null,null,null,null,null,null,null,null,null,null,null,null,null,null,null,null,32,126.625,0,270.375,21.024999999999999,0,45.975000000000001,8.2249999999999996,0,17.774999999999999,0.72499999999999998,0,1.575,0,0,0]
[null,null,null,null,null,null,null,null,null,null,null,null,null,null,null,null,null,null,null,null,null,null,null,null,null,null,null,null,null,null,null,null,null,null,null,null,null,null,null,null,null,null,null,null,null,null,null,null,null,null,null,null,null,33,126.98750000000001,0,271.16250000000002,21.387499999999999,0,46.762500000000003,8.5875000000000004,0,18.5625,1.0874999999999999,0,2.3624999999999998,0,0,0]
[null,null,null,null,null,null,null,null,null,null,null,null,null,null,null,null,null,null,null,null,null,null,null,null,null,null,null,null,null,null,null,null,null,null,null,null,null,null,null,null,null,null,null,null,null,null,null,null,null,null,null,null,null,34,127.35000000000001,0,271.95000000000005,21.75,0,47.55,8.9499999999999993,0,19.350000000000001,1.45,0,3.15,0,0,0]
[null,null,null,null,null,null,null,null,null,null,null,null,null,null,null,null,null,null,null,null,null,null,null,null,null,null,null,null,null,null,null,null,null,null,null,null,null,null,null,null,null,null,null,null,null,null,null,null,null,null,null,null,null,35,127.71250000000001,0,272.73750000000001,22.112500000000001,0,48.337499999999999,9.3125,0,20.137499999999999,1.8125,0,3.9375,0,0,0]
[null,null,null,null,null,null,null,null,null,null,null,null,null,null,null,null,null,null,null,null,null,null,null,null,null,null,null,null,null,null,null,null,null,null,null,null,null,null,null,null,null,null,null,null,null,null,null,null,null,null,null,null,null,36,128.07500000000002,0,273.52500000000003,22.475000000000001,0,49.125,9.6750000000000007,0,20.925000000000001,2.1749999999999998,0,4.7249999999999996,0,0,0]
[null,null,null,null,null,null,null,null,null,null,null,null,null,null,null,null,null,null,null,null,null,null,null,null,null,null,null,null,null,null,null,null,null,null,null,null,null,null,null,null,null,null,null,null,null,null,null,null,null,null,null,null,null,37,128.4375,0,274.3125,22.837499999999999,0,49.912500000000001,10.037500000000001,0,21.712499999999999,2.5375000000000001,0,5.5125000000000002,0,0,0]
[null,null,null,null,null,null,null,null,null,null,null,null,null,null,null,null,null,null,null,null,null,null,null,null,null,null,null,null,null,null,null,null,null,null,null,null,null,null,null,null,null,null,null,null,null,null,null,null,null,null,null,null,null,38,128.80000000000001,0,275.10000000000002,23.2,0,50.7,10.4,0,22.5,2.9,0,6.3]
[null,null,null,null,null,null,null,null,null,null,null,null,null,null,null,null,null,null,null,null,null,null,null,null,null,null,null,null,null,null,null,null,null,null,null,null,null,null,null,null,null,null,null,null,null,null,null,null,null,null,null,null,null,39,129.03636363636366,0,275.60909090909092,23.436363636363637,0,51.209090909090911,10.636363636363637,0,23.018181818181819,3.1363636363636362,0,6.8090909090909086,0.23636363636363636,0,0.50909090909090904]
[null,null,null,null,null,null,null,null,null,null,null,null,null,null,null,null,null,null,null,null,null,null,null,null,null,null,null,null,null,null,null,null,null,null,null,null,null,null,null,null,null,null,null,null,null,null,null,null,null,null,null,null,null,40,129.27272727272728,0,276.11818181818182,23.672727272727272,0,51.718181818181819,10.872727272727273,0,23.536363636363635,3.3727272727272726,0,7.3181818181818183,0.47272727272727272,0,1.0181818181818181]
[null,null,null,null,null,null,null,null,null,null,null,null,null,null,null,null,null,null,null,null,null,null,null,null,null,null,null,null,null,null,null,null,null,null,null,null,null,null,null,null,null,null,null,null,null,null,null,null,null,null,null,null,null,41,129.50909090909093,0,276.62727272727273,23.90909090909091,0,52.227272727272727,11.109090909090909,0,24.054545454545455,3.6090909090909089,0,7.8272727272727272,0.70909090909090911,0,1.5272727272727271]
[null,null,null,null,null,null,null,null,null,null,null,null,null,null,null,null,null,null,null,null,null,null,null,null,null,null,null,null,null,null,null,null,null,null,null,null,null,null,null,null,null,null,null,null,null,null,null,null,null,null,null,null,null,42,129.74545454545455,0,277.13636363636363,24.145454545454545,0,52.736363636363635,11.345454545454546,0,24.572727272727271,3.8454545454545452,0,8.336363636363636,0.94545454545454544,0,2.0363636363636362]
[null,null,null,null,null,null,null,null,null,null,null,null,null,null,null,null,null,null,null,null,null,null,null,null,null,null,null,null,null,null,null,null,null,null,null,null,null,null,null,null,null,null,null,null,null,null,null,null,null,null,null,null,null,43,129.9818181818182,0,277.64545454545453,24.381818181818183,0,53.245454545454542,11.581818181818182,0,25.09090909090909,4.081818181818182,0,8.8454545454545457,1.1818181818181819,0,2.5454545454545454]
[null,null,null,null,null,null,null,null,null,null,null,null,null,null,null,null,null,null,null,null,null,null,null,null,null,null,null,null,null,null,null,null,null,null,null,null,null,null,null,null,null,null,null,null,null,null,null,null,null,null,null,null,null,44,130.21818181818182,0,278.15454545454548,24.618181818181817,0,53.754545454545458,11.818181818181818,0,25.609090909090909,4.3181818181818183,0,9.3545454545454554,1.4181818181818182,0,3.0545454545454542]
[null,null,null,null,null,null,null,null,null,null,null,null,null,null,null,null,null,null,null,null,null,null,null,null,null,null,null,null,null,null,null,null,null,null,null,null,null,null,null,null,null,null,null,null,null,null,null,null,null,null,null,null,null,45,130.45454545454547,0,278.66363636363639,24.854545454545455,0,54.263636363636365,12.054545454545455,0,26.127272727272725,4.5545454545454547,0,9.8636363636363633,1.6545454545454545,0,3.563636363636363]
[null,null,null,null,null,null,null,null,null,null,null,null,null,null,null,null,null,null,null,null,null,null,null,null,null,null,null,null,null,null,null,null,null,null,null,null,null,null,null,null,null,null,null,null,null,null,null,null,null,null,null,null,null,46,130.69090909090909,0,279.17272727272729,25.09090909090909,0,54.772727272727273,12.290909090909091,0,26.645454545454545,4.790909090909091,0,10.372727272727273,1.8909090909090909,0,4.0727272727272723]
[null,null,null,null,null,null,null,null,null,null,null,null,null,null,null,null,null,null,null,null,null,null,null,null,null,null,null,null,null,null,null,null,null,null,null,null,null,null,null,null,null,null,null,null,null,null,null,null,null,null,null,null,null,47,130.92727272727274,0,279.68181818181819,25.327272727272728,0,55.281818181818181,12.527272727272727,0,27.163636363636364,5.0272727272727273,0,10.881818181818183,2.1272727272727274,0,4.581818181818182]
[null,null,null,null,null,null,null,null,null,null,null,null,null,null,null,null,null,null,null,null,null,null,null,null,null,null,null,null,null,null,null,null,null,null,null,null,null,null,null,null,null,null,null,null,null,null,null,null,null,null,null,null,null,48,131.16363636363636,0,280.19090909090909,25.563636363636363,0,55.790909090909089,12.763636363636364,0,27.68181818181818,5.2636363636363637,0,11.390909090909091,2.3636363636363638,0,5.0909090909090908]
[null,null,null,null,null,null,null,null,null,null,null,null,null,null,null,null,null,null,null,null,null,null,null,null,null,null,null,null,null,null,null,null,null,null,null,null,null,null,null,null,null,null,null,null,null,null,null,null,null,null,null,null,null,49,131.4,0,280.7,25.8,0,56.3,13,0,28.2,5.5,0,11.9,2.6,0,5.6]
[null,null,null,null,null,null,null,null,null,null,null,null,null,null,null,null,null,null,null,null,null,null,null,null,null,null,null,null,null,null,null,null,null,null,null,null,null,null,null,null,null,null,null,null,null,null,null,null,null,null,null,null,null,50,131.55454545454546,0,281.0272727272727,25.954545454545457,0,56.627272727272725,13.154545454545454,0,28.518181818181816,5.6545454545454543,0,12.227272727272728,2.7545454545454544,0,5.9272727272727268]
[null,null,null,null,null,null,null,null,null,null,null,null,null,null,null,null,null,null,null,null,null,null,null,null,null,null,null,null,null,null,null,null,null,null,null,null,null,null,null,null,null,null,null,null,null,null,null,null,null,null,null,null,null,51,131.70909090909092,0,281.35454545454547,26.109090909090909,0,56.954545454545453,13.309090909090909,0,28.836363636363636,5.8090909090909095,0,12.554545454545455,2.9090909090909092,0,6.254545454545454]
[null,null,null,null,null,null,null,null,null,null,null,null,null,null,null,null,null,null,null,null,null,null,null,null,null,null,null,null,null,null,null,null,null,null,null,null,null,null,null,null,null,null,null,null,null,null,null,null,null,null,null,null,null,52,131.86363636363637,0,281.68181818181819,26.263636363636365,0,57.281818181818181,13.463636363636363,0,29.154545454545453,5.9636363636363638,0,12.881818181818183,3.0636363636363635,0,6.5818181818181811]
[null,null,null,null,null,null,null,null,null,null,null,null,null,null,null,null,null,null,null,null,null,null,null,null,null,null,null,null,null,null,null,null,null,null,null,null,null,null,null,null,null,null,null,null,null,null,null,null,null,null,null,null,null,53,132.01818181818183,0,282.0090909090909,26.418181818181818,0,57.609090909090909,13.618181818181817,0,29.472727272727273,6.1181818181818182,0,13.209090909090909,3.2181818181818183,0,6.9090909090909083]
[null,null,null,null,null,null,null,null,null,null,null,null,null,null,null,null,null,null,null,null,null,null,null,null,null,null,null,null,null,null,null,null,null,null,null,null,null,null,null,null,null,null,null,null,null,null,null,null,null,null,null,null,null,54,132.17272727272729,0,282.33636363636361,26.572727272727274,0,57.936363636363637,13.772727272727272,0,29.790909090909089,6.2727272727272725,0,13.536363636363637,3.3727272727272726,0,7.2363636363636363]
[null,null,null,null,null,null,null,null,null,null,null,null,null,null,null,null,null,null,null,null,null,null,null,null,null,null,null,null,null,null,null,null,null,null,null,null,null,null,null,null,null,null,null,null,null,null,null,null,null,null,null,null,null,55,132.32727272727271,0,282.66363636363639,26.727272727272727,0,58.263636363636358,13.927272727272728,0,30.109090909090909,6.4272727272727277,0,13.863636363636363,3.5272727272727273,0,7.5636363636363626]
[null,null,null,null,null,null,null,null,null,null,null,null,null,null,null,null,null,null,null,null,null,null,null,null,null,null,null,null,null,null,null,null,null,null,null,null,null,null,null,null,null,null,null,null,null,null,null,null,null,null,null,null,null,56,132.48181818181817,0,282.9909090909091,26.881818181818183,0,58.590909090909086,14.081818181818182,0,30.427272727272726,6.581818181818182,0,14.190909090909091,3.6818181818181817,0,7.8909090909090907]
[null,null,null,null,null,null,null,null,null,null,null,null,null,null,null,null,null,null,null,null,null,null,null,null,null,null,null,null,null,null,null,null,null,null,null,null,null,null,null,null,null,null,null,null,null,null,null,null,null,null,null,null,null,57,132.63636363636363,0,283.31818181818181,27.036363636363635,0,58.918181818181814,14.236363636363636,0,30.745454545454546,6.7363636363636363,0,14.518181818181818,3.836363636363636,0,8.2181818181818169]
[null,null,null,null,null,null,null,null,null,null,null,null,null,null,null,null,null,null,null,null,null,null,null,null,null,null,null,null,null,null,null,null,null,null,null,null,null,null,null,null,null,null,null,null,null,null,null,null,null,null,null,null,null,58,132.79090909090908,0,283.64545454545453,27.190909090909091,0,59.245454545454542,14.390909090909091,0,31.063636363636363,6.8909090909090907,0,14.845454545454546,3.9909090909090907,0,8.545454545454545]
[null,null,null,null,null,null,null,null,null,null,null,null,null,null,null,null,null,null,null,null,null,null,null,null,null,null,null,null,null,null,null,null,null,null,null,null,null,null,null,null,null,null,null,null,null,null,null,null,null,null,null,null,null,59,132.94545454545454,0,283.9727272727273,27.345454545454544,0,59.572727272727271,14.545454545454545,0,31.381818181818183,7.045454545454545,0,15.172727272727274,4.1454545454545455,0,8.872727272727273]
[null,null,null,null,null,null,null,null,null,null,null,null,null,null,null,null,null,null,null,null,null,null,null,null,null,null,null,null,null,null,null,null,null,null,null,null,null,null,null,null,null,null,null,null,null,null,null,null,null,null,null,null,null,60,133.1,0,284.3,27.5,0,59.9,14.7,0,31.7,7.2,0,15.5,4.3,0,9.1999999999999993]

{"sheet":"Air Flow References","index":14,"n_rows":34,"n_cols":46,"rows_kept":34,"cut":false,"hidden":true,"merged":[[1,12,1,15],[1,8,1,11]]}
["Air Flow Tabs"]
[]
["Air Flow Tab - Airflow Inputs","Range","Pass/Fail Check",null,"Air Flow Tab 2 - Airflow Inputs","Range","Pass/Fail Check",null,"Air Flow Tab 3 - Airflow Inputs","Range","Pass/Fail Check",null,null,"Air Flow Tab 4 - Airflow Inputs","Range","Pass/Fail Check",null,null,"Air Flow Tab 5 - Airflow Inputs","Range","Pass/Fail Check",null,null,"Air Flow Tab 6 - Airflow Inputs","Range","Pass/Fail Check",null,null,"Air Flow Tab 7 - Airflow Inputs","Range","Pass/Fail Check",null,null,"Air Flow Tab 8 - Airflow Inputs","Range","Pass/Fail Check",null,null,"Air Flow Tab 9 - Airflow Inputs","Range","Pass/Fail Check",null,null,"Air Flow Tab 10 - Airflow Inputs","Range","Pass/Fail Check"]
["Rated Cooling Capacity",".5-11.3",{"$f":"IF(AND('AIRFLOW FORM'!$E$16>=0.5,'AIRFLOW FORM'!$E$16<=11.3),\"\",\"FAIL\")","v":"FAIL"},null,"Rated Cooling Capacity",".5-11.3",{"$f":"IF(AND('AIRFLOW FORM 2'!$E$15>=0.5,'AIRFLOW FORM 2'!$E$15<=11.3),\"\",\"FAIL\")","v":"FAIL"},null,"Rated Cooling Capacity",".5-11.3",{"$f":"IF(AND('AIRFLOW FORM 3'!$E$15>=0.5,'AIRFLOW FORM 3'!$E$15<=11.3),\"\",\"FAIL\")","v":"FAIL"},null,null,"Rated Cooling Capacity",".5-11.3",{"$f":"IF(AND('AIRFLOW FORM 4'!$E$15>=0.5,'AIRFLOW FORM 4'!$E$15<=11.3),\"\",\"FAIL\")","v":"FAIL"},null,null,"Rated Cooling Capacity",".5-11.3",{"$f":"IF(AND('AIRFLOW FORM 5'!$E$15>=0.5,'AIRFLOW FORM 5'!$E$15<=11.3),\"\",\"FAIL\")","v":"FAIL"},null,null,"Rated Cooling Capacity",".5-11.3",{"$f":"IF(AND('AIRFLOW FORM 6'!$E$15>=0.5,'AIRFLOW FORM 6'!$E$15<=11.3),\"\",\"FAIL\")","v":"FAIL"},null,null,"Rated Cooling Capacity",".5-11.3",{"$f":"IF(AND('AIRFLOW FORM 7'!$E$15>=0.5,'AIRFLOW FORM 7'!$E$15<=11.3),\"\",\"FAIL\")","v":"FAIL"},null,null,"Rated Cooling Capacity",".5-11.3",{"$f":"IF(AND('AIRFLOW FORM 8'!$E$15>=0.5,'AIRFLOW FORM 8'!$E$15<=11.3),\"\",\"FAIL\")","v":"FAIL"},null,null,"Rated Cooling Capacity",".5-11.3",{"$f":"IF(AND('AIRFLOW FORM 9'!$E$15>=0.5,'AIRFLOW FORM 9'!$E$15<=11.3),\"\",\"FAIL\")","v":"FAIL"},null,null,"Rated Cooling Capacity",".5-11.3",{"$f":"IF(AND('AIRFLOW FORM 10'!$E$15>=0.5,'AIRFLOW FORM 10'!$E$15<=11.3),\"\",\"FAIL\")","v":"FAIL"}]
["Static Pressure Drop",".1-.8",{"$f":"IF(AND('AIRFLOW FORM'!$E$19>=0.1,'AIRFLOW FORM'!$E$19<=0.8),\"\",\"FAIL\")","v":"FAIL"},null,"Static Pressure Drop",".1-.8",{"$f":"IF(AND('AIRFLOW FORM 2'!$E$18>=0.1,'AIRFLOW FORM 2'!$E$18<=0.8),\"\",\"FAIL\")","v":"FAIL"},null,"Static Pressure Drop",".1-.8",{"$f":"IF(AND('AIRFLOW FORM 3'!$E$18>=0.1,'AIRFLOW FORM 3'!$E$18<=0.8),\"\",\"FAIL\")","v":"FAIL"},null,null,"Static Pressure Drop",".1-.8",{"$f":"IF(AND('AIRFLOW FORM 4'!$E$18>=0.1,'AIRFLOW FORM 4'!$E$18<=0.8),\"\",\"FAIL\")","v":"FAIL"},null,null,"Static Pressure Drop",".1-.8",{"$f":"IF(AND('AIRFLOW FORM 5'!$E$18>=0.1,'AIRFLOW FORM 5'!$E$18<=0.8),\"\",\"FAIL\")","v":"FAIL"},null,null,"Static Pressure Drop",".1-.8",{"$f":"IF(AND('AIRFLOW FORM 6'!$E$18>=0.1,'AIRFLOW FORM 6'!$E$18<=0.8),\"\",\"FAIL\")","v":"FAIL"},null,null,"Static Pressure Drop",".1-.8",{"$f":"IF(AND('AIRFLOW FORM 7'!$E$18>=0.1,'AIRFLOW FORM 7'!$E$18<=0.8),\"\",\"FAIL\")","v":"FAIL"},null,null,"Static Pressure Drop",".1-.8",{"$f":"IF(AND('AIRFLOW FORM 8'!$E$18>=0.1,'AIRFLOW FORM 8'!$E$18<=0.8),\"\",\"FAIL\")","v":"FAIL"},null,null,"Static Pressure Drop",".1-.8",{"$f":"IF(AND('AIRFLOW FORM 9'!$E$18>=0.1,'AIRFLOW FORM 9'!$E$18<=0.8),\"\",\"FAIL\")","v":"FAIL"},null,null,"Static Pressure Drop",".1-.8",{"$f":"IF(AND('AIRFLOW FORM 10'!$E$18>=0.1,'AIRFLOW FORM 10'!$E$18<=0.8),\"\",\"FAIL\")","v":"FAIL"}]
["CFM Per Ton","325-450",{"$f":"IF(AND('AIRFLOW FORM'!$M$16>=325,'AIRFLOW FORM'!$M$16<=450),\"\",\"FAIL\")","v":"FAIL"},null,"CFM Per Ton","325-450",{"$f":"IF(AND('AIRFLOW FORM 2'!$M$15>=325,'AIRFLOW FORM 2'!$M$15<=450),\"\",\"FAIL\")","v":"FAIL"},null,"CFM Per Ton","325-450",{"$f":"IF(AND('AIRFLOW FORM 3'!$M$15>=325,'AIRFLOW FORM 3'!$M$15<=450),\"\",\"FAIL\")","v":"FAIL"},null,null,"CFM Per Ton","325-450",{"$f":"IF(AND('AIRFLOW FORM 4'!$M$15>=325,'AIRFLOW FORM 4'!$M$15<=450),\"\",\"FAIL\")","v":"FAIL"},null,null,"CFM Per Ton","325-450",{"$f":"IF(AND('AIRFLOW FORM 5'!$M$15>=325,'AIRFLOW FORM 5'!$M$15<=450),\"\",\"FAIL\")","v":"FAIL"},null,null,"CFM Per Ton","325-450",{"$f":"IF(AND('AIRFLOW FORM 6'!$M$15>=325,'AIRFLOW FORM 6'!$M$15<=450),\"\",\"FAIL\")","v":"FAIL"},null,null,"CFM Per Ton","325-450",{"$f":"IF(AND('AIRFLOW FORM 7'!$M$15>=325,'AIRFLOW FORM 7'!$M$15<=450),\"\",\"FAIL\")","v":"FAIL"},null,null,"CFM Per Ton","325-450",{"$f":"IF(AND('AIRFLOW FORM 8'!$M$15>=325,'AIRFLOW FORM 8'!$M$15<=450),\"\",\"FAIL\")","v":"FAIL"},null,null,"CFM Per Ton","325-450",{"$f":"IF(AND('AIRFLOW FORM 9'!$M$15>=325,'AIRFLOW FORM 9'!$M$15<=450),\"\",\"FAIL\")","v":"FAIL"},null,null,"CFM Per Ton","325-450",{"$f":"IF(AND('AIRFLOW FORM 10'!$M$15>=325,'AIRFLOW FORM 10'!$M$15<=450),\"\",\"FAIL\")","v":"FAIL"}]
["External Static Pressure",".1-.8",{"$f":"IF(AND('AIRFLOW FORM'!$M$19>=0.1,'AIRFLOW FORM'!$M$19<=0.8),\"\",\"FAIL\")","v":"FAIL"},null,"External Static Pressure",".1-.8",{"$f":"IF(AND('AIRFLOW FORM 2'!$M$18>=0.1,'AIRFLOW FORM 2'!$M$18<=0.8),\"\",\"FAIL\")","v":"FAIL"},null,"External Static Pressure",".1-.8",{"$f":"IF(AND('AIRFLOW FORM 3'!$M$18>=0.1,'AIRFLOW FORM 3'!$M$18<=0.8),\"\",\"FAIL\")","v":"FAIL"},null,null,"External Static Pressure",".1-.8",{"$f":"IF(AND('AIRFLOW FORM 4'!$M$18>=0.1,'AIRFLOW FORM 4'!$M$18<=0.8),\"\",\"FAIL\")","v":"FAIL"},null,null,"External Static Pressure",".1-.8",{"$f":"IF(AND('AIRFLOW FORM 5'!$M$18>=0.1,'AIRFLOW FORM 5'!$M$18<=0.8),\"\",\"FAIL\")","v":"FAIL"},null,null,"External Static Pressure",".1-.8",{"$f":"IF(AND('AIRFLOW FORM 6'!$M$18>=0.1,'AIRFLOW FORM 6'!$M$18<=0.8),\"\",\"FAIL\")","v":"FAIL"},null,null,"External Static Pressure",".1-.8",{"$f":"IF(AND('AIRFLOW FORM 7'!$M$18>=0.1,'AIRFLOW FORM 7'!$M$18<=0.8),\"\",\"FAIL\")","v":"FAIL"},null,null,"External Static Pressure",".1-.8",{"$f":"IF(AND('AIRFLOW FORM 8'!$M$18>=0.1,'AIRFLOW FORM 8'!$M$18<=0.8),\"\",\"FAIL\")","v":"FAIL"},null,null,"External Static Pressure",".1-.8",{"$f":"IF(AND('AIRFLOW FORM 9'!$M$18>=0.1,'AIRFLOW FORM 9'!$M$18<=0.8),\"\",\"FAIL\")","v":"FAIL"},null,null,"External Static Pressure",".1-.8",{"$f":"IF(AND('AIRFLOW FORM 10'!$M$18>=0.1,'AIRFLOW FORM 10'!$M$18<=0.8),\"\",\"FAIL\")","v":"FAIL"}]
["True Flow CFM Measured","ANSI/ACCA Standard 5",{"$f":"IF(AND('AIRFLOW FORM'!$E$26>=('AIRFLOW FORM'!E16*'AIRFLOW FORM'!M16*0.85),'AIRFLOW FORM'!$E$26<=('AIRFLOW FORM'!E16*'AIRFLOW FORM'!M16*1.15)),\"\",\"FAIL\")","v":""},null,"True Flow CFM Measured","ANSI/ACCA Standard 5",{"$f":"IF(AND('AIRFLOW FORM 2'!$E$25>=('AIRFLOW FORM 2'!E15*'AIRFLOW FORM 2'!M15*0.85),'AIRFLOW FORM 2'!$E$25<=('AIRFLOW FORM 2'!E15*'AIRFLOW FORM 2'!M15*1.15)),\"\",\"FAIL\")","v":""},null,"True Flow CFM Measured","ANSI/ACCA Standard 5",{"$f":"IF(AND('AIRFLOW FORM 3'!$E$25>=('AIRFLOW FORM 3'!E15*'AIRFLOW FORM 3'!M15*0.85),'AIRFLOW FORM 3'!$E$25<=('AIRFLOW FORM 3'!E15*'AIRFLOW FORM 3'!M15*1.15)),\"\",\"FAIL\")","v":""},null,null,"True Flow CFM Measured","ANSI/ACCA Standard 5",{"$f":"IF(AND('AIRFLOW FORM 4'!$E$25>=('AIRFLOW FORM 4'!$E$15*'AIRFLOW FORM 4'!$M$15*0.85),'AIRFLOW FORM 4'!$E$25<=('AIRFLOW FORM 4'!$E$15*'AIRFLOW FORM 4'!$M$15*1.15)),\"\",\"FAIL\")","v":""},null,null,"True Flow CFM Measured","ANSI/ACCA Standard 5",{"$f":"IF(AND('AIRFLOW FORM 5'!$E$25>=('AIRFLOW FORM 5'!$E$15*'AIRFLOW FORM 5'!$M$15*0.85),'AIRFLOW FORM 5'!$E$25<=('AIRFLOW FORM 5'!$E$15*'AIRFLOW FORM 5'!$M$15*1.15)),\"\",\"FAIL\")","v":""},null,null,"True Flow CFM Measured","ANSI/ACCA Standard 5",{"$f":"IF(AND('AIRFLOW FORM 6'!$E$25>=('AIRFLOW FORM 6'!$E$15*'AIRFLOW FORM 6'!$M$15*0.85),'AIRFLOW FORM 6'!$E$25<=('AIRFLOW FORM 6'!$E$15*'AIRFLOW FORM 6'!$M$15*1.15)),\"\",\"FAIL\")","v":""},null,null,"True Flow CFM Measured","ANSI/ACCA Standard 5",{"$f":"IF(AND('AIRFLOW FORM 7'!$E$25>=('AIRFLOW FORM 7'!$E$15*'AIRFLOW FORM 7'!$M$15*0.85),'AIRFLOW FORM 7'!$E$25<=('AIRFLOW FORM 7'!$E$15*'AIRFLOW FORM 7'!$M$15*1.15)),\"\",\"FAIL\")","v":""},null,null,"True Flow CFM Measured","ANSI/ACCA Standard 5",{"$f":"IF(AND('AIRFLOW FORM 8'!$E$25>=('AIRFLOW FORM 8'!$E$15*'AIRFLOW FORM 8'!$M$15*0.85),'AIRFLOW FORM 8'!$E$25<=('AIRFLOW FORM 8'!$E$15*'AIRFLOW FORM 8'!$M$15*1.15)),\"\",\"FAIL\")","v":""},null,null,"True Flow CFM Measured","ANSI/ACCA Standard 5",{"$f":"IF(AND('AIRFLOW FORM 9'!$E$25>=('AIRFLOW FORM 9'!$E$15*'AIRFLOW FORM 9'!$M$15*0.85),'AIRFLOW FORM 9'!$E$25<=('AIRFLOW FORM 9'!$E$15*'AIRFLOW FORM 9'!$M$15*1.15)),\"\",\"FAIL\")","v":""},null,null,"True Flow CFM Measured","ANSI/ACCA Standard 5",{"$f":"IF(AND('AIRFLOW FORM 10'!$E$25>=('AIRFLOW FORM 10'!$E$15*'AIRFLOW FORM 10'!$M$15*0.85),'AIRFLOW FORM 10'!$E$25<=('AIRFLOW FORM 10'!$E$15*'AIRFLOW FORM 10'!$M$15*1.15)),\"\",\"FAIL\")","v":""}]
["CFM Air Flow Estimated","ANSI/ACCA Standard 6",{"$f":"IF(AND('AIRFLOW FORM'!$E$23>=('AIRFLOW FORM'!E16*'AIRFLOW FORM'!M16*0.85),'AIRFLOW FORM'!$E$23<=('AIRFLOW FORM'!E16*'AIRFLOW FORM'!M16*1.15)),\"\",\"FAIL\")","v":""},null,"CFM Air Flow Estimated","ANSI/ACCA Standard 6",{"$f":"IF(AND('AIRFLOW FORM 2'!$E$22>=('AIRFLOW FORM 2'!E15*'AIRFLOW FORM 2'!M15*0.85),'AIRFLOW FORM 2'!$E$22<=('AIRFLOW FORM 2'!E15*'AIRFLOW FORM 2'!M15*1.15)),\"\",\"FAIL\")","v":""},null,"CFM Air Flow Estimated","ANSI/ACCA Standard 6",{"$f":"IF(AND('AIRFLOW FORM 3'!$E$22>=('AIRFLOW FORM 3'!E15*'AIRFLOW FORM 3'!M15*0.85),'AIRFLOW FORM 3'!$E$22<=('AIRFLOW FORM 3'!E15*'AIRFLOW FORM 3'!M15*1.15)),\"\",\"FAIL\")","v":""},null,null,"CFM Air Flow Estimated","ANSI/ACCA Standard 6",{"$f":"IF(AND('AIRFLOW FORM 4'!$E$22>=('AIRFLOW FORM 4'!E15*'AIRFLOW FORM 4'!M15*0.85),'AIRFLOW FORM 4'!$E$22<=('AIRFLOW FORM 4'!E15*'AIRFLOW FORM 4'!M15*1.15)),\"\",\"FAIL\")","v":""},null,null,"CFM Air Flow Estimated","ANSI/ACCA Standard 6",{"$f":"IF(AND('AIRFLOW FORM 5'!$E$22>=('AIRFLOW FORM 5'!E15*'AIRFLOW FORM 5'!M15*0.85),'AIRFLOW FORM 5'!$E$22<=('AIRFLOW FORM 5'!E15*'AIRFLOW FORM 5'!M15*1.15)),\"\",\"FAIL\")","v":""},null,null,"CFM Air Flow Estimated","ANSI/ACCA Standard 6",{"$f":"IF(AND('AIRFLOW FORM 6'!$E$22>=('AIRFLOW FORM 6'!E15*'AIRFLOW FORM 6'!M15*0.85),'AIRFLOW FORM 6'!$E$22<=('AIRFLOW FORM 6'!E15*'AIRFLOW FORM 6'!M15*1.15)),\"\",\"FAIL\")","v":""},null,null,"CFM Air Flow Estimated","ANSI/ACCA Standard 6",{"$f":"IF(AND('AIRFLOW FORM 7'!$E$22>=('AIRFLOW FORM 7'!E15*'AIRFLOW FORM 7'!M15*0.85),'AIRFLOW FORM 7'!$E$22<=('AIRFLOW FORM 7'!E15*'AIRFLOW FORM 7'!M15*1.15)),\"\",\"FAIL\")","v":""},null,null,"CFM Air Flow Estimated","ANSI/ACCA Standard 6",{"$f":"IF(AND('AIRFLOW FORM 8'!$E$22>=('AIRFLOW FORM 8'!E15*'AIRFLOW FORM 8'!M15*0.85),'AIRFLOW FORM 8'!$E$22<=('AIRFLOW FORM 8'!E15*'AIRFLOW FORM 8'!M15*1.15)),\"\",\"FAIL\")","v":""},null,null,"CFM Air Flow Estimated","ANSI/ACCA Standard 6",{"$f":"IF(AND('AIRFLOW FORM 9'!$E$22>=('AIRFLOW FORM 9'!E15*'AIRFLOW FORM 9'!M15*0.85),'AIRFLOW FORM 9'!$E$22<=('AIRFLOW FORM 9'!E15*'AIRFLOW FORM 9'!M15*1.15)),\"\",\"FAIL\")","v":""},null,null,"CFM Air Flow Estimated","ANSI/ACCA Standard 6",{"$f":"IF(AND('AIRFLOW FORM 10'!$E$22>=('AIRFLOW FORM 10'!E15*'AIRFLOW FORM 10'!M15*0.85),'AIRFLOW FORM 10'!$E$22<=('AIRFLOW FORM 10'!E15*'AIRFLOW FORM 10'!M15*1.15)),\"\",\"FAIL\")","v":""}]
[]
[]
[]
[]
[]
["Air Flow Tab - Refrigerant Inputs Subcooling","Range","Pass/Fail Check",null,"Air Flow Tab 2 - Refrigerant Inputs Subcooling","Range","Pass/Fail Check",null,"Air Flow Tab 3 - Refrigerant Inputs Subcooling","Range","Pass/Fail Check",null,null,"Air Flow Tab 4 - Refrigerant Inputs Subcooling","Range","Pass/Fail Check",null,null,"Air Flow Tab 5 - Refrigerant Inputs Subcooling","Range","Pass/Fail Check",null,null,"Air Flow Tab 6 - Refrigerant Inputs Subcooling","Range","Pass/Fail Check",null,null,"Air Flow Tab 7 - Refrigerant Inputs Subcooling","Range","Pass/Fail Check",null,null,"Air Flow Tab 8 - Refrigerant Inputs Subcooling","Range","Pass/Fail Check",null,null,"Air Flow Tab 9 - Refrigerant Inputs Subcooling","Range","Pass/Fail Check",null,null,"Air Flow Tab 10 - Refrigerant Inputs Subcooling","Range","Pass/Fail Check"]
["Required Subcooling","6-14",{"$f":"IF(AND('AIRFLOW FORM'!$E$50>=6,'AIRFLOW FORM'!$E$50<=14),\"\",\"FAIL\")","v":"FAIL"},null,"Required Subcooling","6-14",{"$f":"IF(AND('AIRFLOW FORM 2'!$E$49>=6,'AIRFLOW FORM 2'!$E$49<=14),\"\",\"FAIL\")","v":"FAIL"},null,"Required Subcooling","6-14",{"$f":"IF(AND('AIRFLOW FORM 3'!$E$49>=6,'AIRFLOW FORM 3'!$E$49<=14),\"\",\"FAIL\")","v":"FAIL"},null,null,"Required Subcooling","6-14",{"$f":"IF(AND('AIRFLOW FORM 4'!$E$49>=6,'AIRFLOW FORM 4'!$E$49<=14),\"\",\"FAIL\")","v":"FAIL"},null,null,"Required Subcooling","6-14",{"$f":"IF(AND('AIRFLOW FORM 5'!$E$49>=6,'AIRFLOW FORM 5'!$E$49<=14),\"\",\"FAIL\")","v":"FAIL"},null,null,"Required Subcooling","6-14",{"$f":"IF(AND('AIRFLOW FORM 6'!$E$49>=6,'AIRFLOW FORM 6'!$E$49<=14),\"\",\"FAIL\")","v":"FAIL"},null,null,"Required Subcooling","6-14",{"$f":"IF(AND('AIRFLOW FORM 7'!$E$49>=6,'AIRFLOW FORM 7'!$E$49<=14),\"\",\"FAIL\")","v":"FAIL"},null,null,"Required Subcooling","6-14",{"$f":"IF(AND('AIRFLOW FORM 8'!$E$49>=6,'AIRFLOW FORM 8'!$E$49<=14),\"\",\"FAIL\")","v":"FAIL"},null,null,"Required Subcooling","6-14",{"$f":"IF(AND('AIRFLOW FORM 9'!$E$49>=6,'AIRFLOW FORM 9'!$E$49<=14),\"\",\"FAIL\")","v":"FAIL"},null,null,"Required Subcooling","6-14",{"$f":"IF(AND('AIRFLOW FORM 10'!$E$49>=6,'AIRFLOW FORM 10'!$E$49<=14),\"\",\"FAIL\")","v":"FAIL"}]
["Outdoor Dry Bulb Temp","60-114",{"$f":"IF(AND('AIRFLOW FORM'!$E$52>=60,'AIRFLOW FORM'!$E$52<=114),\"\",\"FAIL\")","v":"FAIL"},null,"Outdoor Dry Bulb Temp","60-114",{"$f":"IF(AND('AIRFLOW FORM 2'!$E$51>=60,'AIRFLOW FORM 2'!$E$51<=114),\"\",\"FAIL\")","v":"FAIL"},null,"Outdoor Dry Bulb Temp","60-114",{"$f":"IF(AND('AIRFLOW FORM 3'!$E$51>=60,'AIRFLOW FORM 3'!$E$51<=114),\"\",\"FAIL\")","v":"FAIL"},null,null,"Outdoor Dry Bulb Temp","60-114",{"$f":"IF(AND('AIRFLOW FORM 4'!$E$51>=60,'AIRFLOW FORM 4'!$E$51<=114),\"\",\"FAIL\")","v":"FAIL"},null,null,"Outdoor Dry Bulb Temp","60-114",{"$f":"IF(AND('AIRFLOW FORM 5'!$E$51>=60,'AIRFLOW FORM 5'!$E$51<=114),\"\",\"FAIL\")","v":"FAIL"},null,null,"Outdoor Dry Bulb Temp","60-114",{"$f":"IF(AND('AIRFLOW FORM 6'!$E$51>=60,'AIRFLOW FORM 6'!$E$51<=114),\"\",\"FAIL\")","v":"FAIL"},null,null,"Outdoor Dry Bulb Temp","60-114",{"$f":"IF(AND('AIRFLOW FORM 7'!$E$51>=60,'AIRFLOW FORM 7'!$E$51<=114),\"\",\"FAIL\")","v":"FAIL"},null,null,"Outdoor Dry Bulb Temp","60-114",{"$f":"IF(AND('AIRFLOW FORM 8'!$E$51>=60,'AIRFLOW FORM 8'!$E$51<=114),\"\",\"FAIL\")","v":"FAIL"},null,null,"Outdoor Dry Bulb Temp","60-114",{"$f":"IF(AND('AIRFLOW FORM 9'!$E$51>=60,'AIRFLOW FORM 9'!$E$51<=114),\"\",\"FAIL\")","v":"FAIL"},null,null,"Outdoor Dry Bulb Temp","60-114",{"$f":"IF(AND('AIRFLOW FORM 10'!$E$51>=60,'AIRFLOW FORM 10'!$E$51<=114),\"\",\"FAIL\")","v":"FAIL"}]
["Liquid Line Pressure","195-475",{"$f":"IF(AND('AIRFLOW FORM'!$E$56>=195,'AIRFLOW FORM'!$E$56<=475),\"\",\"FAIL\")","v":"FAIL"},null,"Liquid Line Pressure","195-475",{"$f":"IF(AND('AIRFLOW FORM 2'!$E$55>=195,'AIRFLOW FORM 2'!$E$55<=475),\"\",\"FAIL\")","v":"FAIL"},null,"Liquid Line Pressure","195-475",{"$f":"IF(AND('AIRFLOW FORM 3'!$E$55>=195,'AIRFLOW FORM 3'!$E$55<=475),\"\",\"FAIL\")","v":"FAIL"},null,null,"Liquid Line Pressure","195-475",{"$f":"IF(AND('AIRFLOW FORM 4'!$E$55>=195,'AIRFLOW FORM 4'!$E$55<=475),\"\",\"FAIL\")","v":"FAIL"},null,null,"Liquid Line Pressure","195-475",{"$f":"IF(AND('AIRFLOW FORM 5'!$E$55>=195,'AIRFLOW FORM 5'!$E$55<=475),\"\",\"FAIL\")","v":"FAIL"},null,null,"Liquid Line Pressure","195-475",{"$f":"IF(AND('AIRFLOW FORM 6'!$E$55>=195,'AIRFLOW FORM 6'!$E$55<=475),\"\",\"FAIL\")","v":"FAIL"},null,null,"Liquid Line Pressure","195-475",{"$f":"IF(AND('AIRFLOW FORM 7'!$E$55>=195,'AIRFLOW FORM 7'!$E$55<=475),\"\",\"FAIL\")","v":"FAIL"},null,null,"Liquid Line Pressure","195-475",{"$f":"IF(AND('AIRFLOW FORM 8'!$E$55>=195,'AIRFLOW FORM 8'!$E$55<=475),\"\",\"FAIL\")","v":"FAIL"},null,null,"Liquid Line Pressure","195-475",{"$f":"IF(AND('AIRFLOW FORM 9'!$E$55>=195,'AIRFLOW FORM 9'!$E$55<=475),\"\",\"FAIL\")","v":"FAIL"},null,null,"Liquid Line Pressure","195-475",{"$f":"IF(AND('AIRFLOW FORM 10'!$E$55>=195,'AIRFLOW FORM 10'!$E$55<=475),\"\",\"FAIL\")","v":"FAIL"}]
["Saturation Temp","71-130",{"$f":"IF(AND('AIRFLOW FORM'!$E$58>=71,'AIRFLOW FORM'!$E$58<=130),\"\",\"FAIL\")","v":"FAIL"},null,"Saturation Temp","71-130",{"$f":"IF(AND('AIRFLOW FORM 2'!$E$57>=71,'AIRFLOW FORM 2'!$E$57<=130),\"\",\"FAIL\")","v":"FAIL"},null,"Saturation Temp","71-130",{"$f":"IF(AND('AIRFLOW FORM 3'!$E$57>=71,'AIRFLOW FORM 3'!$E$57<=130),\"\",\"FAIL\")","v":"FAIL"},null,null,"Saturation Temp","71-130",{"$f":"IF(AND('AIRFLOW FORM 4'!$E$57>=71,'AIRFLOW FORM 4'!$E$57<=130),\"\",\"FAIL\")","v":"FAIL"},null,null,"Saturation Temp","71-130",{"$f":"IF(AND('AIRFLOW FORM 5'!$E$57>=71,'AIRFLOW FORM 5'!$E$57<=130),\"\",\"FAIL\")","v":"FAIL"},null,null,"Saturation Temp","71-130",{"$f":"IF(AND('AIRFLOW FORM 6'!$E$57>=71,'AIRFLOW FORM 6'!$E$57<=130),\"\",\"FAIL\")","v":"FAIL"},null,null,"Saturation Temp","71-130",{"$f":"IF(AND('AIRFLOW FORM 7'!$E$57>=71,'AIRFLOW FORM 7'!$E$57<=130),\"\",\"FAIL\")","v":"FAIL"},null,null,"Saturation Temp","71-130",{"$f":"IF(AND('AIRFLOW FORM 8'!$E$57>=71,'AIRFLOW FORM 8'!$E$57<=130),\"\",\"FAIL\")","v":"FAIL"},null,null,"Saturation Temp","71-130",{"$f":"IF(AND('AIRFLOW FORM 9'!$E$57>=71,'AIRFLOW FORM 9'!$E$57<=130),\"\",\"FAIL\")","v":"FAIL"},null,null,"Saturation Temp","71-130",{"$f":"IF(AND('AIRFLOW FORM 10'!$E$57>=71,'AIRFLOW FORM 10'!$E$57<=130),\"\",\"FAIL\")","v":"FAIL"}]
["Liquid Line Temp","57-116",{"$f":"IF(AND('AIRFLOW FORM'!$E$60>=57,'AIRFLOW FORM'!$E$60<=116),\"\",\"FAIL\")","v":"FAIL"},null,"Liquid Line Temp","57-116",{"$f":"IF(AND('AIRFLOW FORM 2'!$E$59>=57,'AIRFLOW FORM 2'!$E$59<=116),\"\",\"FAIL\")","v":"FAIL"},null,"Liquid Line Temp","57-116",{"$f":"IF(AND('AIRFLOW FORM 3'!$E$59>=57,'AIRFLOW FORM 3'!$E$59<=116),\"\",\"FAIL\")","v":"FAIL"},null,null,"Liquid Line Temp","57-116",{"$f":"IF(AND('AIRFLOW FORM 4'!$E$59>=57,'AIRFLOW FORM 4'!$E$59<=116),\"\",\"FAIL\")","v":"FAIL"},null,null,"Liquid Line Temp","57-116",{"$f":"IF(AND('AIRFLOW FORM 5'!$E$59>=57,'AIRFLOW FORM 5'!$E$59<=116),\"\",\"FAIL\")","v":"FAIL"},null,null,"Liquid Line Temp","57-116",{"$f":"IF(AND('AIRFLOW FORM 6'!$E$59>=57,'AIRFLOW FORM 6'!$E$59<=116),\"\",\"FAIL\")","v":"FAIL"},null,null,"Liquid Line Temp","57-116",{"$f":"IF(AND('AIRFLOW FORM 7'!$E$59>=57,'AIRFLOW FORM 7'!$E$59<=116),\"\",\"FAIL\")","v":"FAIL"},null,null,"Liquid Line Temp","57-116",{"$f":"IF(AND('AIRFLOW FORM 8'!$E$59>=57,'AIRFLOW FORM 8'!$E$59<=116),\"\",\"FAIL\")","v":"FAIL"},null,null,"Liquid Line Temp","57-116",{"$f":"IF(AND('AIRFLOW FORM 9'!$E$59>=57,'AIRFLOW FORM 9'!$E$59<=116),\"\",\"FAIL\")","v":"FAIL"},null,null,"Liquid Line Temp","57-116",{"$f":"IF(AND('AIRFLOW FORM 10'!$E$59>=57,'AIRFLOW FORM 10'!$E$59<=116),\"\",\"FAIL\")","v":"FAIL"}]
["Measured Subcooling","+-3",{"$f":"IF('AIRFLOW FORM'!E62=\"\",\"\",IF(AND('AIRFLOW FORM'!E62<='AIRFLOW FORM'!E50+3,'AIRFLOW FORM'!E62>='AIRFLOW FORM'!E50-3),\"\",\"FAIL\"))","v":""},null,"Measured Subcooling","+-3",{"$f":"IF('AIRFLOW FORM 2'!E61=\"\",\"\",IF(AND('AIRFLOW FORM 2'!E61<='AIRFLOW FORM 2'!E49+3,'AIRFLOW FORM 2'!E61>='AIRFLOW FORM 2'!E49-3),\"\",\"FAIL\"))","v":""},null,"Measured Subcooling","+-3",{"$f":"IF('AIRFLOW FORM 3'!E61=\"\",\"\",IF(AND('AIRFLOW FORM 3'!E61<='AIRFLOW FORM 3'!E49+3,'AIRFLOW FORM 3'!E61>='AIRFLOW FORM 3'!E49-3),\"\",\"FAIL\"))","v":""},null,null,"Measured Subcooling","+-3",{"$f":"IF('AIRFLOW FORM 4'!E61=\"\",\"\",IF(AND('AIRFLOW FORM 4'!E61<='AIRFLOW FORM 4'!E49+3,'AIRFLOW FORM 4'!E61>='AIRFLOW FORM 4'!E49-3),\"\",\"FAIL\"))","v":""},null,null,"Measured Subcooling","+-3",{"$f":"IF('AIRFLOW FORM 5'!E61=\"\",\"\",IF(AND('AIRFLOW FORM 5'!E61<='AIRFLOW FORM 5'!E49+3,'AIRFLOW FORM 5'!E61>='AIRFLOW FORM 5'!E49-3),\"\",\"FAIL\"))","v":""},null,null,"Measured Subcooling","+-3",{"$f":"IF('AIRFLOW FORM 6'!E61=\"\",\"\",IF(AND('AIRFLOW FORM 6'!E61<='AIRFLOW FORM 6'!E49+3,'AIRFLOW FORM 6'!E61>='AIRFLOW FORM 6'!E49-3),\"\",\"FAIL\"))","v":""},null,null,"Measured Subcooling","+-3",{"$f":"IF('AIRFLOW FORM 7'!E61=\"\",\"\",IF(AND('AIRFLOW FORM 7'!E61<='AIRFLOW FORM 7'!E49+3,'AIRFLOW FORM 7'!E61>='AIRFLOW FORM 7'!E49-3),\"\",\"FAIL\"))","v":""},null,null,"Measured Subcooling","+-3",{"$f":"IF('AIRFLOW FORM 8'!E61=\"\",\"\",IF(AND('AIRFLOW FORM 8'!E61<='AIRFLOW FORM 8'!E49+3,'AIRFLOW FORM 8'!E61>='AIRFLOW FORM 8'!E49-3),\"\",\"FAIL\"))","v":""},null,null,"Measured Subcooling","+-3",{"$f":"IF('AIRFLOW FORM 9'!E61=\"\",\"\",IF(AND('AIRFLOW FORM 9'!E61<='AIRFLOW FORM 9'!E49+3,'AIRFLOW FORM 9'!E61>='AIRFLOW FORM 9'!E49-3),\"\",\"FAIL\"))","v":""},null,null,"Measured Subcooling","+-3",{"$f":"IF('AIRFLOW FORM 10'!E61=\"\",\"\",IF(AND('AIRFLOW FORM 10'!E61<='AIRFLOW FORM 10'!E49+3,'AIRFLOW FORM 10'!E61>='AIRFLOW FORM 10'!E49-3),\"\",\"FAIL\"))","v":""}]
[]
[]
[]
[]
[]
["Air Flow Tab - Refrigerant Inputs Super Heat","Range","Pass/Fail Check",null,"Air Flow Tab 2 - Refrigerant Inputs Super Heat","Range","Pass/Fail Check",null,"Air Flow Tab 3 - Refrigerant Inputs Super Heat","Range","Pass/Fail Check",null,null,"Air Flow Tab 4 - Refrigerant Inputs Super Heat","Range","Pass/Fail Check",null,null,"Air Flow Tab 5 - Refrigerant Inputs Super Heat","Range","Pass/Fail Check",null,null,"Air Flow Tab 6 - Refrigerant Inputs Super Heat","Range","Pass/Fail Check",null,null,"Air Flow Tab 7 - Refrigerant Inputs Super Heat","Range","Pass/Fail Check",null,null,"Air Flow Tab 8 - Refrigerant Inputs Super Heat","Range","Pass/Fail Check",null,null,"Air Flow Tab 9 - Refrigerant Inputs Super Heat","Range","Pass/Fail Check",null,null,"Air Flow Tab 10 - Refrigerant Inputs Super Heat","Range","Pass/Fail Check"]
["Manufactured Spec Superheat","5-30",{"$f":"IF(AND('AIRFLOW FORM'!$E$75>=5,'AIRFLOW FORM'!$E$75<=30),\"\",\"FAIL\")","v":"FAIL"},null,"Manufactured Spec Superheat","5-30",{"$f":"IF(AND('AIRFLOW FORM 2'!$E$74>=5,'AIRFLOW FORM 2'!$E$74<=30),\"\",\"FAIL\")","v":"FAIL"},null,"Manufactured Spec Superheat","5-30",{"$f":"IF(AND('AIRFLOW FORM 3'!$E$74>=5,'AIRFLOW FORM 3'!$E$74<=30),\"\",\"FAIL\")","v":"FAIL"},null,null,"Manufactured Spec Superheat","5-30",{"$f":"IF(AND('AIRFLOW FORM 4'!$E$74>=5,'AIRFLOW FORM 4'!$E$74<=30),\"\",\"FAIL\")","v":"FAIL"},null,null,"Manufactured Spec Superheat","5-30",{"$f":"IF(AND('AIRFLOW FORM 5'!$E$74>=5,'AIRFLOW FORM 5'!$E$74<=30),\"\",\"FAIL\")","v":"FAIL"},null,null,"Manufactured Spec Superheat","5-30",{"$f":"IF(AND('AIRFLOW FORM 6'!$E$74>=5,'AIRFLOW FORM 6'!$E$74<=30),\"\",\"FAIL\")","v":"FAIL"},null,null,"Manufactured Spec Superheat","5-30",{"$f":"IF(AND('AIRFLOW FORM 7'!$E$74>=5,'AIRFLOW FORM 7'!$E$74<=30),\"\",\"FAIL\")","v":"FAIL"},null,null,"Manufactured Spec Superheat","5-30",{"$f":"IF(AND('AIRFLOW FORM 8'!$E$74>=5,'AIRFLOW FORM 8'!$E$74<=30),\"\",\"FAIL\")","v":"FAIL"},null,null,"Manufactured Spec Superheat","5-30",{"$f":"IF(AND('AIRFLOW FORM 9'!$E$74>=5,'AIRFLOW FORM 9'!$E$74<=30),\"\",\"FAIL\")","v":"FAIL"},null,null,"Manufactured Spec Superheat","5-30",{"$f":"IF(AND('AIRFLOW FORM 10'!$E$74>=5,'AIRFLOW FORM 10'!$E$74<=30),\"\",\"FAIL\")","v":"FAIL"}]
["Indoor Wet Bulb Temp","50-80",{"$f":"IF(AND('AIRFLOW FORM'!$E$78>=50,'AIRFLOW FORM'!$E$78<=80),\"\",\"FAIL\")","v":"FAIL"},null,"Indoor Wet Bulb Temp","50-80",{"$f":"IF(AND('AIRFLOW FORM 2'!$E$77>=50,'AIRFLOW FORM 2'!$E$77<=80),\"\",\"FAIL\")","v":"FAIL"},null,"Indoor Wet Bulb Temp","50-80",{"$f":"IF(AND('AIRFLOW FORM 3'!$E$77>=50,'AIRFLOW FORM 3'!$E$77<=80),\"\",\"FAIL\")","v":"FAIL"},null,null,"Indoor Wet Bulb Temp","50-80",{"$f":"IF(AND('AIRFLOW FORM 4'!$E$77>=50,'AIRFLOW FORM 4'!$E$77<=80),\"\",\"FAIL\")","v":"FAIL"},null,null,"Indoor Wet Bulb Temp","50-80",{"$f":"IF(AND('AIRFLOW FORM 5'!$E$77>=50,'AIRFLOW FORM 5'!$E$77<=80),\"\",\"FAIL\")","v":"FAIL"},null,null,"Indoor Wet Bulb Temp","50-80",{"$f":"IF(AND('AIRFLOW FORM 6'!$E$77>=50,'AIRFLOW FORM 6'!$E$77<=80),\"\",\"FAIL\")","v":"FAIL"},null,null,"Indoor Wet Bulb Temp","50-80",{"$f":"IF(AND('AIRFLOW FORM 7'!$E$77>=50,'AIRFLOW FORM 7'!$E$77<=80),\"\",\"FAIL\")","v":"FAIL"},null,null,"Indoor Wet Bulb Temp","50-80",{"$f":"IF(AND('AIRFLOW FORM 8'!$E$77>=50,'AIRFLOW FORM 8'!$E$77<=80),\"\",\"FAIL\")","v":"FAIL"},null,null,"Indoor Wet Bulb Temp","50-80",{"$f":"IF(AND('AIRFLOW FORM 9'!$E$77>=50,'AIRFLOW FORM 9'!$E$77<=80),\"\",\"FAIL\")","v":"FAIL"},null,null,"Indoor Wet Bulb Temp","50-80",{"$f":"IF(AND('AIRFLOW FORM 10'!$E$77>=50,'AIRFLOW FORM 10'!$E$77<=80),\"\",\"FAIL\")","v":"FAIL"}]
["Outdoor Dry Bulb Temp","50-114",{"$f":"IF(AND('AIRFLOW FORM'!$E$80>=50,'AIRFLOW FORM'!$E$80<=114),\"\",\"FAIL\")","v":"FAIL"},null,"Outdoor Dry Bulb Temp","50-114",{"$f":"IF(AND('AIRFLOW FORM 2'!$E$79>=50,'AIRFLOW FORM 2'!$E$79<=114),\"\",\"FAIL\")","v":"FAIL"},null,"Outdoor Dry Bulb Temp","50-114",{"$f":"IF(AND('AIRFLOW FORM 3'!$E$79>=50,'AIRFLOW FORM 3'!$E$79<=114),\"\",\"FAIL\")","v":"FAIL"},null,null,"Outdoor Dry Bulb Temp","50-114",{"$f":"IF(AND('AIRFLOW FORM 4'!$E$79>=50,'AIRFLOW FORM 4'!$E$79<=114),\"\",\"FAIL\")","v":"FAIL"},null,null,"Outdoor Dry Bulb Temp","50-114",{"$f":"IF(AND('AIRFLOW FORM 5'!$E$79>=50,'AIRFLOW FORM 5'!$E$79<=114),\"\",\"FAIL\")","v":"FAIL"},null,null,"Outdoor Dry Bulb Temp","50-114",{"$f":"IF(AND('AIRFLOW FORM 6'!$E$79>=50,'AIRFLOW FORM 6'!$E$79<=114),\"\",\"FAIL\")","v":"FAIL"},null,null,"Outdoor Dry Bulb Temp","50-114",{"$f":"IF(AND('AIRFLOW FORM 7'!$E$79>=50,'AIRFLOW FORM 7'!$E$79<=114),\"\",\"FAIL\")","v":"FAIL"},null,null,"Outdoor Dry Bulb Temp","50-114",{"$f":"IF(AND('AIRFLOW FORM 8'!$E$79>=50,'AIRFLOW FORM 8'!$E$79<=114),\"\",\"FAIL\")","v":"FAIL"},null,null,"Outdoor Dry Bulb Temp","50-114",{"$f":"IF(AND('AIRFLOW FORM 9'!$E$79>=50,'AIRFLOW FORM 9'!$E$79<=114),\"\",\"FAIL\")","v":"FAIL"},null,null,"Outdoor Dry Bulb Temp","50-114",{"$f":"IF(AND('AIRFLOW FORM 10'!$E$79>=50,'AIRFLOW FORM 10'!$E$79<=114),\"\",\"FAIL\")","v":"FAIL"}]
["Vapor Pressure","110-160",{"$f":"IF(AND('AIRFLOW FORM'!$E$85>=110,'AIRFLOW FORM'!$E$85<=160),\"\",\"FAIL\")","v":"FAIL"},null,"Vapor Pressure","110-160",{"$f":"IF(AND('AIRFLOW FORM 2'!$E$84>=110,'AIRFLOW FORM 2'!$E$84<=160),\"\",\"FAIL\")","v":"FAIL"},null,"Vapor Pressure","110-160",{"$f":"IF(AND('AIRFLOW FORM 3'!$E$84>=110,'AIRFLOW FORM 3'!$E$84<=160),\"\",\"FAIL\")","v":"FAIL"},null,null,"Vapor Pressure","110-160",{"$f":"IF(AND('AIRFLOW FORM 4'!$E$84>=110,'AIRFLOW FORM 4'!$E$84<=160),\"\",\"FAIL\")","v":"FAIL"},null,null,"Vapor Pressure","110-160",{"$f":"IF(AND('AIRFLOW FORM 5'!$E$84>=110,'AIRFLOW FORM 5'!$E$84<=160),\"\",\"FAIL\")","v":"FAIL"},null,null,"Vapor Pressure","110-160",{"$f":"IF(AND('AIRFLOW FORM 6'!$E$84>=110,'AIRFLOW FORM 6'!$E$84<=160),\"\",\"FAIL\")","v":"FAIL"},null,null,"Vapor Pressure","110-160",{"$f":"IF(AND('AIRFLOW FORM 7'!$E$84>=110,'AIRFLOW FORM 7'!$E$84<=160),\"\",\"FAIL\")","v":"FAIL"},null,null,"Vapor Pressure","110-160",{"$f":"IF(AND('AIRFLOW FORM 8'!$E$84>=110,'AIRFLOW FORM 8'!$E$84<=160),\"\",\"FAIL\")","v":"FAIL"},null,null,"Vapor Pressure","110-160",{"$f":"IF(AND('AIRFLOW FORM 9'!$E$84>=110,'AIRFLOW FORM 9'!$E$84<=160),\"\",\"FAIL\")","v":"FAIL"},null,null,"Vapor Pressure","110-160",{"$f":"IF(AND('AIRFLOW FORM 10'!$E$84>=110,'AIRFLOW FORM 10'!$E$84<=160),\"\",\"FAIL\")","v":"FAIL"}]
["Saturation Temp","35-95",{"$f":"IF(AND('AIRFLOW FORM'!$E$87>=35,'AIRFLOW FORM'!$E$87<=95),\"\",\"FAIL\")","v":"FAIL"},null,"Saturation Temp","35-95",{"$f":"IF(AND('AIRFLOW FORM 2'!$E$86>=35,'AIRFLOW FORM 2'!$E$86<=95),\"\",\"FAIL\")","v":"FAIL"},null,"Saturation Temp","35-95",{"$f":"IF(AND('AIRFLOW FORM 3'!$E$86>=35,'AIRFLOW FORM 3'!$E$86<=95),\"\",\"FAIL\")","v":"FAIL"},null,null,"Saturation Temp","35-95",{"$f":"IF(AND('AIRFLOW FORM 4'!$E$86>=35,'AIRFLOW FORM 4'!$E$86<=95),\"\",\"FAIL\")","v":"FAIL"},null,null,"Saturation Temp","35-95",{"$f":"IF(AND('AIRFLOW FORM 5'!$E$86>=35,'AIRFLOW FORM 5'!$E$86<=95),\"\",\"FAIL\")","v":"FAIL"},null,null,"Saturation Temp","35-95",{"$f":"IF(AND('AIRFLOW FORM 6'!$E$86>=35,'AIRFLOW FORM 6'!$E$86<=95),\"\",\"FAIL\")","v":"FAIL"},null,null,"Saturation Temp","35-95",{"$f":"IF(AND('AIRFLOW FORM 7'!$E$86>=35,'AIRFLOW FORM 7'!$E$86<=95),\"\",\"FAIL\")","v":"FAIL"},null,null,"Saturation Temp","35-95",{"$f":"IF(AND('AIRFLOW FORM 8'!$E$86>=35,'AIRFLOW FORM 8'!$E$86<=95),\"\",\"FAIL\")","v":"FAIL"},null,null,"Saturation Temp","35-95",{"$f":"IF(AND('AIRFLOW FORM 9'!$E$86>=35,'AIRFLOW FORM 9'!$E$86<=95),\"\",\"FAIL\")","v":"FAIL"},null,null,"Saturation Temp","35-95",{"$f":"IF(AND('AIRFLOW FORM 10'!$E$86>=35,'AIRFLOW FORM 10'!$E$86<=95),\"\",\"FAIL\")","v":"FAIL"}]
["Vapor Line Temp","40-90",{"$f":"IF(AND('AIRFLOW FORM'!$E$89>=40,'AIRFLOW FORM'!$E$89<=90),\"\",\"FAIL\")","v":"FAIL"},null,"Vapor Line Temp","40-90",{"$f":"IF(AND('AIRFLOW FORM 2'!$E$88>=40,'AIRFLOW FORM 2'!$E$88<=90),\"\",\"FAIL\")","v":"FAIL"},null,"Vapor Line Temp","40-90",{"$f":"IF(AND('AIRFLOW FORM 3'!$E$88>=40,'AIRFLOW FORM 3'!$E$88<=90),\"\",\"FAIL\")","v":"FAIL"},null,null,"Vapor Line Temp","40-90",{"$f":"IF(AND('AIRFLOW FORM 4'!$E$88>=40,'AIRFLOW FORM 4'!$E$88<=90),\"\",\"FAIL\")","v":"FAIL"},null,null,"Vapor Line Temp","40-90",{"$f":"IF(AND('AIRFLOW FORM 5'!$E$88>=40,'AIRFLOW FORM 5'!$E$88<=90),\"\",\"FAIL\")","v":"FAIL"},null,null,"Vapor Line Temp","40-90",{"$f":"IF(AND('AIRFLOW FORM 6'!$E$88>=40,'AIRFLOW FORM 6'!$E$88<=90),\"\",\"FAIL\")","v":"FAIL"},null,null,"Vapor Line Temp","40-90",{"$f":"IF(AND('AIRFLOW FORM 7'!$E$88>=40,'AIRFLOW FORM 7'!$E$88<=90),\"\",\"FAIL\")","v":"FAIL"},null,null,"Vapor Line Temp","40-90",{"$f":"IF(AND('AIRFLOW FORM 8'!$E$88>=40,'AIRFLOW FORM 8'!$E$88<=90),\"\",\"FAIL\")","v":"FAIL"},null,null,"Vapor Line Temp","40-90",{"$f":"IF(AND('AIRFLOW FORM 9'!$E$88>=40,'AIRFLOW FORM 9'!$E$88<=90),\"\",\"FAIL\")","v":"FAIL"},null,null,"Vapor Line Temp","40-90",{"$f":"IF(AND('AIRFLOW FORM 10'!$E$88>=40,'AIRFLOW FORM 10'!$E$88<=90),\"\",\"FAIL\")","v":"FAIL"}]
["Measured Super Heat","+-5",{"$f":"IF('AIRFLOW FORM'!E91=\"\",\"\",IF(AND('AIRFLOW FORM'!E91<='AIRFLOW FORM'!E75+5,'AIRFLOW FORM'!E91>='AIRFLOW FORM'!E75-5),\"\",\"FAIL\"))","v":""},null,"Measured Super Heat","+-5",{"$f":"IF('AIRFLOW FORM 2'!E90=\"\",\"\",IF(AND('AIRFLOW FORM 2'!E90<='AIRFLOW FORM 2'!E74+5,'AIRFLOW FORM 2'!E90>='AIRFLOW FORM 2'!E74-5),\"\",\"FAIL\"))","v":""},null,"Measured Super Heat","+-5",{"$f":"IF('AIRFLOW FORM 3'!E90=\"\",\"\",IF(AND('AIRFLOW FORM 3'!E90<='AIRFLOW FORM 3'!E74+5,'AIRFLOW FORM 3'!E90>='AIRFLOW FORM 3'!E74-5),\"\",\"FAIL\"))","v":""},null,null,"Measured Super Heat","+-5",{"$f":"IF('AIRFLOW FORM 4'!E90=\"\",\"\",IF(AND('AIRFLOW FORM 4'!E90<='AIRFLOW FORM 4'!E74+5,'AIRFLOW FORM 4'!E90>='AIRFLOW FORM 4'!E74-5),\"\",\"FAIL\"))","v":""},null,null,"Measured Super Heat","+-5",{"$f":"IF('AIRFLOW FORM 5'!E90=\"\",\"\",IF(AND('AIRFLOW FORM 5'!E90<='AIRFLOW FORM 5'!E74+5,'AIRFLOW FORM 5'!E90>='AIRFLOW FORM 5'!E74-5),\"\",\"FAIL\"))","v":""},null,null,"Measured Super Heat","+-5",{"$f":"IF('AIRFLOW FORM 6'!E90=\"\",\"\",IF(AND('AIRFLOW FORM 6'!E90<='AIRFLOW FORM 6'!E74+5,'AIRFLOW FORM 6'!E90>='AIRFLOW FORM 6'!E74-5),\"\",\"FAIL\"))","v":""},null,null,"Measured Super Heat","+-5",{"$f":"IF('AIRFLOW FORM 7'!E90=\"\",\"\",IF(AND('AIRFLOW FORM 7'!E90<='AIRFLOW FORM 7'!E74+5,'AIRFLOW FORM 7'!E90>='AIRFLOW FORM 7'!E74-5),\"\",\"FAIL\"))","v":""},null,null,"Measured Super Heat","+-5",{"$f":"IF('AIRFLOW FORM 8'!E90=\"\",\"\",IF(AND('AIRFLOW FORM 8'!E90<='AIRFLOW FORM 8'!E74+5,'AIRFLOW FORM 8'!E90>='AIRFLOW FORM 8'!E74-5),\"\",\"FAIL\"))","v":""},null,null,"Measured Super Heat","+-5",{"$f":"IF('AIRFLOW FORM 9'!E90=\"\",\"\",IF(AND('AIRFLOW FORM 9'!E90<='AIRFLOW FORM 9'!E74+5,'AIRFLOW FORM 9'!E90>='AIRFLOW FORM 9'!E74-5),\"\",\"FAIL\"))","v":""},null,null,"Measured Super Heat","+-5",{"$f":"IF('AIRFLOW FORM 10'!E90=\"\",\"\",IF(AND('AIRFLOW FORM 10'!E90<='AIRFLOW FORM 10'!E74+5,'AIRFLOW FORM 10'!E90>='AIRFLOW FORM 10'!E74-5),\"\",\"FAIL\"))","v":""}]

{"sheet":"Tables","index":15,"n_rows":25,"n_cols":79,"rows_kept":25,"cut":false,"hidden":true,"merged":[[4,60,5,60],[4,61,5,61],[6,32,6,35],[2,67,2,78],[3,67,5,70],[3,71,3,74],[3,75,3,76],[3,77,3,78],[4,71,5,71],[4,72,5,72],[4,73,5,73],[4,74,5,74],[4,75,5,75],[4,76,5,76],[4,77,5,77],[4,78,5,78],[3,32,4,35],[3,36,3,40],[3,41,3,42],[3,43,3,44],[4,54,5,54],[6,48,6,51],[7,48,7,51],[7,67,7,70],[2,48,2,63],[3,48,5,51],[3,52,3,55],[3,56,3,61],[3,62,3,63],[4,52,5,52],[4,53,5,53],[6,67,6,70],[4,55,5,55],[4,56,5,56],[4,57,5,57],[4,58,5,58],[4,59,5,59],[8,67,8,70],[9,67,9,70],[2,79,2,80],[4,62,5,62],[4,63,5,63],[9,32,9,35],[2,1,2,12],[3,1,5,4],[3,5,3,8],[3,9,3,10],[3,11,3,12],[4,5,5,5],[4,6,5,6],[4,7,5,7],[4,8,5,8],[4,9,5,9],[4,25,5,25],[4,29,5,29],[3,28,3,29],[4,22,5,22],[4,23,5,23],[20,17,21,17],[9,1,9,4],[3,14,5,17],[3,18,3,21],[19,17,19,18],[4,10,5,10],[4,11,5,11],[4,12,5,12],[6,1,6,4],[7,1,7,4],[8,1,8,4],[20,18,21,18],[4,18,5,18],[4,19,5,19],[4,20,5,20],[4,21,5,21],[7,32,7,35],[8,32,8,35],[2,14,2,29],[3,22,3,27],[4,26,5,26],[4,27,5,27],[8,24,8,25],[4,28,5,28],[7,14,7,17],[8,14,8,17],[8,22,8,23],[8,26,8,27],[6,14,6,17],[4,24,5,24],[5,32,5,35],[2,32,2,44]]}
[]
[]
[null,"Electric Resistance Heating Replacement",null,null,null,null,null,null,null,null,null,null,null,null,"Whole House Projects",null,null,null,null,null,null,null,null,null,null,null,null,null,null,null,null,null,"Partial House Projects",null,null,null,null,null,null,null,null,null,null,null,null,null,null,null,"Whole House Projects - Income Eligible",null,null,null,null,null,null,null,null,null,null,null,null,null,null,null,null,null,null,"Electric Resistance Heating Replacement - Income Eligible"]
[null,"Eligible Equipment",null,null,null,"Efficiency Requirements",null,null,null,"Customer Incentive (per ton)",null,"Contractor Incentive (per project)",null,null,"Eligible Equipment",null,null,null,"Efficiency Requirements",null,null,null,"Customer Incentive (per ton)",null,null,null,null,null,"Contractor Incentive (per project)",null,null,null,"Eligible Equipment",null,null,null,"Efficiency Requirements",null,null,null,null,"Customer Incentive (per ton)",null,"Contractor Incentive (per project)",null,null,null,null,"Eligible Equipment",null,null,null,"Efficiency Requirements",null,null,null,"Customer Incentive (per ton)",null,null,null,null,null,"Contractor Incentive (per project)",null,null,null,null,"Eligible Equipment",null,null,null,"Efficiency Requirements",null,null,null,"Customer Incentive (per ton)",null,"Contractor Incentive (per project)"]
[null,null,null,null,null,"Tier I SEER","Tier I HSPF","Tier II\nSEER","Tier II \nHSPF ","Tier I","Tier II","Tier I"," Tier II",null,null,null,null,null,"Tier I SEER","Tier I HSPF","Tier II\nSEER","Tier II \nHSPF ","Tier I\nNew Construction","Tier II\nNew Construction","Tier I\nExisting Oil w/ no CAC","Tier II\nExisting Oil w/ no CAC","Tier I\nAll Others","Tier II\nAll Others","Tier I","Tier II",null,null,null,null,null,null,"Tier I SEER","Tier I EER","Tier I HSPF/COP","Tier II SEER","Tier II HSPF ","Tier I","Tier II","Tier I"," Tier II",null,null,null,null,null,null,null,"Tier I SEER","Tier I HSPF","Tier II\nSEER","Tier II \nHSPF ","Tier I\nNew Construction","Tier II\nNew Construction","Tier I\nExisting Oil w/ no CAC","Tier II\nExisting Oil w/ no CAC","Tier I\nAll Others","Tier II\nAll Others","Tier I","Tier II",null,null,null,null,null,null,null,"Tier I SEER","Tier I HSPF","Tier II\nSEER","Tier II \nHSPF ","Tier I","Tier II","Tier I"," Tier II"]
[null,null,null,null,null,null,null,null,null,null,null,null,null,null,null,null,null,null,null,null,null,null,null,null,null,null,null,null,null,null,null,null,"Ducted Air Source Heat Pumps",null,null,null,15,"n/a",8.5,16,8.5,300,325,200,200]
[null,"Ducted ASHP ",null,null,null,16,8.5,17,10,800,1000,500,500,null,"Ducted Cold Climate ASHP",null,null,null,"n/a","n/a",17,10,"n/a",1000,"n/a",800,"n/a",600,"n/a",500,null,null,"Ducted Cold Climate Air Source Heat Pumps",null,null,null,"n/a","n/a","n/a",17,10,"n/a",350,"n/a",250,null,null,null,"Ducted Cold Climate ASHP",null,null,null,"n/a","n/a",17,10,"n/a",1500,"n/a",1200,"n/a",900,"n/a",500,null,null,null,"Ducted ASHP ",null,null,null,16,8.5,17,10,1200,1500,500,500]
[null,"Ducted Cold Climate ASHP ",null,null,null,"n/a","n/a",17,10,"n/a",1000,"n/a",500,null,"Ductless Mini Split Systems - Cold Climate ASHP",null,null,null,"n/a","n/a",18,10,"n/a",1000,"n/a",800,"n/a",600,"n/a",500,null,null,"Ductless Mini Split Systems - Air Source Heat Pumps",null,null,null,18,"n/a",8.5,"n/a","n/a",300,"n/a",200,"n/a",null,null,null,"Ductless Mini Split Systems - Cold Climate ASHP",null,null,null,"n/a","n/a",18,10,"n/a",1500,"n/a",1200,"n/a",900,"n/a",500,null,null,null,"Ducted Cold Climate ASHP ",null,null,null,"n/a","n/a",17,10,"n/a",1500,"n/a",500]
[null,"Ductless Mini Split Systems - ASHP ",null,null,null,18,8.5,18,10,800,1000,500,500,null,null,null,null,null,null,null,null,null,null,null,null,null,null,null,null,null,null,null,"Ductless Mini Split Systems - Cold Climate Air Source Heat Pumps",null,null,null,"n/a","n/a","n/a",18,10,"n/a",300,"n/a",250,null,null,null,null,null,null,null,null,null,null,null,null,null,null,null,null,null,null,null,null,null,null,"Ductless Mini Split Systems - ASHP ",null,null,null,18,8.5,18,10,1200,1500,500,500]
[null,"Ductless Mini Split Systems - Cold Climate ASHP ",null,null,null,"n/a","n/a",18,10,"n/a",1000,"n/a",500,null,null,null,null,null,null,null,null,null,null,null,null,null,null,null,null,null,null,null,"Packaged Terminal Heat Pumps",null,null,null,"n/a",11.4,3.3,"n/a","n/a",100,"n/a",200,"n/a",null,null,null,null,null,null,null,null,null,null,null,null,null,null,null,null,null,null,null,null,null,null,"Ductless Mini Split Systems - Cold Climate ASHP ",null,null,null,"n/a","n/a",18,10,"n/a",1500,"n/a",500]
[]
[]
[]
[]
[]
[]
[]
[]
[]
[null,null,null,null,null,null,null,null,null,null,null,null,null,null,null,null,null,"Contractor Incentive (per project)",null,null,"Contractor Incentive (per project)"]
[null,null,null,null,null,null,null,null,null,null,null,null,null,null,null,null,null,"Tier I"," Tier II",null,"Tier I"," Tier II"]
[]
[null,null,null,null,null,null,null,null,null,null,null,null,null,null,null,null,null,"n/a",500,null,"n/a",500]
[null,null,null,null,null,null,null,null,null,null,null,null,null,null,null,null,null,"n/a",500,null,"n/a",500]
[null,null,null,null,null,null,null,null,null,null,null,null,null,null,null,null,null,"n/a","n/a",null,"n/a","n/a"]

{"sheet":"ProposedEquipment0","index":16,"n_rows":14,"n_cols":137,"rows_kept":14,"cut":false,"hidden":true,"merged":[]}
["Row Number","BaseLine Row_ID","Product Line","Class Name","Product Name","Measure Code","Application ID","Application Version","Gross kW","Gross kWh","Gross Winter kW","Gross BE kWh","Delta Gross kWh","In Service Rate","Utility Gross kW","Utility Gross kWh","Utility Gross Winter kW","Utility Gross BE kWh","Delta Utility Gross kWh","Coincidence Factor","Free Ridership","Spillover","Line Loss Summer Demand (kW)","Line Loss Energy (kWh)","Net kW","Net kWh","Net Winter kW","Net BE kWh","Delta Net kWh","Total Net kW","Total Net kWh","Total Net Winter kW","Total Net BE kWh","Total Delta Net kWh","EE CO2 Savings","BE CO2 Savings","Total CO2 Savings","EE MMBTU Savings","BE MMBTU Savings","Total MMBTU Savings","Equipment Cost","Labor Cost","Total Cost","Elec Util Cust Incentive","Total Elec Util Cust Incentive","Contractor Incentive","Product Quantity","Location","Operation Hours","Waste Heat Factor – Demand","Waste Heat Factor - Energy","Proposed/Installed Wattage ","Lamp Type","Existing Device Code","Existing Wattage","kW Saved","Ballast Type","Wattage","Lamp Length (ft)","Number Lamps","Product ID","Watts Saved","Manufacturer","Model","Baseline EER","Baseline SEER","Baseline HSPF","Baseline Heating Efficiecny (%)","Baseline COP","Proposed/Installed EER","Proposed/Installed SEER","Proposed/Installed HSPF","Proposed/Installed COP","Full Load Hours Cool","Full Load Hours Heat","Cooling Btuh","Heating Btuh","Heating Fuel Type","Cooling Manual J","Heating Manual J","Condenser Manufacturer","Condenser Model","Condenser Serial#","Coil/Air Handler Manufacturer","Coil/Air Handler Model","Coil/Air Handler Serial#","Exist tons","Exist Mfr","Exist Model","QI kW C and A Factord","QI kW RS Factor","QI kWh Factor","QI kW C and A","QI kW RS","QI kWh","Primary Cooling","Primary Heating","Geothermal Loop Type","Energy Savings Factor kW","Energy Savings Factor kWh","Roof Area (sq ft)","Solar Reflectance Index (3YR)","Solar Reflectance Index (INITIAL)","Horsepower","CFM","Storage Capacity","Baseline Compressor Factor","Compressor Factor","Building Type ","Baseline Efficiency","Load Factor","Baseline Annual Usage (kWh)","Efficient Annual Usage (kWh)","Volume (ft3)","Harvest Rate (lb/day)","Bonus Factor","Total Load","Infiltration Factor - Closed","Infiltration Factor - Open","Free Cooling - Closed","Free Cooling - Open","Unit Type","Pre CFM","Post CFM","CFM Reduction","Existing AC Age","Building Square Footage","Pre Water Temperature","Post Water Temperature","Tank Insulation","Pre GPM","Post GPM","Conditioned","Pints per Day","Proposed EF","Dehumidifier Age","Workbook Name"]
[1,null,{"$f":"IF(F2=\"\",\"\",INDEX(References!$D$3:$D$7,MATCH(F2,References!$G$3:$G$7,0)))","v":""},{"$f":"IF(F2=\"\",\"\",INDEX(References!$E$3:$E$7,MATCH(F2,References!$G$3:$G$7,0)))","v":""},{"$f":"IF(F2=\"\",\"\",INDEX(References!$F$3:$F$7,MATCH(F2,References!$G$3:$G$7,0)))","v":""},{"$f":"IF(Qualifying_Index!BB103=\"\",\"\",Qualifying_Index!BB103)","v":""},{"$f":"IF($C2=\"\",\"\",'Customer Information'!$L$42)","v":""},{"$f":"IF($C2=\"\",\"\",'Customer Information'!$L$42)","v":""},{"$f":"IF(C2=\"\",\"\",Qualifying_Index!AV62)","v":""},{"$f":"IF(C2=\"\",\"\",Qualifying_Index!AX62)","v":""},{"$f":"IF(C2=\"\",\"\",Qualifying_Index!AW62)","v":""},{"$f":"IF(C2=\"\",\"\",0)","v":""},{"$f":"IF(C2=\"\",\"\",J2+L2)","v":""},{"$f":"IF(I2=\"\",\"\",1)","v":""},{"$f":"IF(F2=\"\",\"\",I2*N2*T2)","v":""},{"$f":"IF(D2=\"\",\"\",J2*N2)","v":""},null,null,null,{"$f":"IF($F2=\"\",\"\",1)","v":""},{"$f":"IF($F2=\"\",\"\",0)","v":""},{"$f":"IF($F2=\"\",\"\",0)","v":""},{"$f":"IF($F2=\"\",\"\",0.085)","v":""},{"$f":"IF($F2=\"\",\"\",0.06)","v":""},{"$f":"IF(F2=\"\",\"\",ROUND((I2*T2)/(1-W2)*(1-U2+V2),References!$B$4))","v":""},{"$f":"IF(F2=\"\",\"\",ROUND(J2/(1-X2)*(1-U2+V2),References!$B$5))","v":""},{"$f":"IF(F2=\"\",\"\",ROUND((K2*T2)/(1-W2)*(1-U2+V2),References!$B$4))","v":""},{"$f":"IF(F2=\"\",\"\",ROUND(L2/(1-X2)*(1-U2+V2),References!$B$5))","v":""},{"$f":"IF(F2=\"\",\"\",Z2-AB2)","v":""},{"$f":"IF(F2=\"\",\"\",Y2*AU2)","v":""},{"$f":"IF(F2=\"\",\"\",Z2*AU2)","v":""},{"$f":"IF(F2=\"\",\"\",AA2*AU2)","v":""},{"$f":"IF(F2=\"\",\"\",AB2*AU2)","v":""},{"$f":"IF(F2=\"\",\"\",AE2-AG2)","v":""},null,null,null,{"$f":"IF($C2=\"\",\"\",Qualifying_Index!BD62)","v":""},{"$f":"IF($C2=\"\",\"\",0)","v":""},{"$f":"IF($C2=\"\",\"\",AL2+AM2)","v":""},{"$f":"IF($C2=\"\",\"\",Worksheet!D48/SUM($AU$2:$AU$4))","v":""},null,{"$f":"IF($C2=\"\",\"\",AO2+AP2)","v":""},{"$f":"IF($C2=\"\",\"\",Worksheet!J48/SUM($AU$2:$AU$4))","v":""},{"$f":"IF($C2=\"\",\"\",AR2*AU2)","v":""},null,{"$f":"IF(C2=\"\",\"\",1)","v":""}]
[2,null,{"$f":"IF(F3=\"\",\"\",INDEX(References!$D$3:$D$7,MATCH(F3,References!$G$3:$G$7,0)))","v":""},{"$f":"IF(F3=\"\",\"\",INDEX(References!$E$3:$E$7,MATCH(F3,References!$G$3:$G$7,0)))","v":""},{"$f":"IF(F3=\"\",\"\",INDEX(References!$F$3:$F$7,MATCH(F3,References!$G$3:$G$7,0)))","v":""},{"$f":"IF(Qualifying_Index!BB104=\"\",\"\",Qualifying_Index!BB104)","v":""},{"$f":"IF($C3=\"\",\"\",'Customer Information'!$L$42)","v":""},{"$f":"IF($C3=\"\",\"\",'Customer Information'!$L$42)","v":""},{"$f":"IF(C3=\"\",\"\",Qualifying_Index!AV63)","v":""},{"$f":"IF(C3=\"\",\"\",Qualifying_Index!AX63)","v":""},{"$f":"IF(C3=\"\",\"\",Qualifying_Index!AW63)","v":""},{"$f":"IF(C3=\"\",\"\",0)","v":""},{"$f":"IF(C3=\"\",\"\",J3+L3)","v":""},"","","",null,null,null,{"$f":"IF(F3=\"\",\"\",1)","v":""},{"$f":"IF($F3=\"\",\"\",0)","v":""},"",{"$f":"IF($F3=\"\",\"\",0.085)","v":""},{"$f":"IF($F3=\"\",\"\",0.06)","v":""},{"$f":"IF(F3=\"\",\"\",ROUND((I3*T3)/(1-W3)*(1-U3+V3),References!$B$4))","v":""},{"$f":"IF(F3=\"\",\"\",ROUND(J3/(1-X3)*(1-U3+V3),References!$B$5))","v":""},{"$f":"IF(F3=\"\",\"\",ROUND((K3*T3)/(1-W3)*(1-U3+V3),References!$B$4))","v":""},{"$f":"IF(F3=\"\",\"\",ROUND(L3/(1-X3)*(1-U3+V3),References!$B$5))","v":""},"","","","","","",null,null,null,{"$f":"IF(C3=\"\",\"\",Qualifying_Index!BD63)","v":""},{"$f":"IF($C3=\"\",\"\",0)","v":""},{"$f":"IF($C3=\"\",\"\",AL3+AM3)","v":""},{"$f":"IF($C3=\"\",\"\",Worksheet!J47/SUM($AU$2:$AU$4))","v":""},null,{"$f":"IF($C3=\"\",\"\",AO3+AP3)","v":""},{"$f":"IF($C3=\"\",\"\",Worksheet!J49/SUM($AU$2:$AU$4))","v":""},{"$f":"IF($C3=\"\",\"\",AR3*AU3)","v":""},null,{"$f":"IF(C3=\"\",\"\",1)","v":""}]
[3,null,{"$f":"IF(F4=\"\",\"\",INDEX(References!$D$3:$D$7,MATCH(F4,References!$G$3:$G$7,0)))","v":""},{"$f":"IF(F4=\"\",\"\",INDEX(References!$E$3:$E$7,MATCH(F4,References!$G$3:$G$7,0)))","v":""},{"$f":"IF(F4=\"\",\"\",INDEX(References!$F$3:$F$7,MATCH(F4,References!$G$3:$G$7,0)))","v":""},{"$f":"IF(Qualifying_Index!BB105=\"\",\"\",Qualifying_Index!BB105)","v":""},{"$f":"IF($C4=\"\",\"\",'Customer Information'!$L$42)","v":""},{"$f":"IF($C4=\"\",\"\",'Customer Information'!$L$42)","v":""},{"$f":"IF(C4=\"\",\"\",Qualifying_Index!AV64)","v":""},{"$f":"IF(C4=\"\",\"\",Qualifying_Index!AX64)","v":""},{"$f":"IF(C4=\"\",\"\",Qualifying_Index!AW64)","v":""},"","","","","",null,null,null,"","","","","",{"$f":"IF(F4=\"\",\"\",ROUND((I4*T4)/(1-W4)*(1-U4+V4),References!$B$4))","v":""},{"$f":"IF(F4=\"\",\"\",ROUND(J4/(1-X4)*(1-U4+V4),References!$B$5))","v":""},{"$f":"IF(F4=\"\",\"\",ROUND((K4*T4)/(1-W4)*(1-U4+V4),References!$B$4))","v":""},{"$f":"IF(F4=\"\",\"\",ROUND(L4/(1-X4)*(1-U4+V4),References!$B$5))","v":""},"","","","","","",null,null,null,{"$f":"IF(C4=\"\",\"\",Qualifying_Index!BD64)","v":""},"","",{"$f":"IF($C4=\"\",\"\",Worksheet!J48/SUM($AU$2:$AU$4))","v":""},null,"",{"$f":"IF($C4=\"\",\"\",Worksheet!J50/SUM($AU$2:$AU$4))","v":""},"",null,""]
[null,null,null,null,null,null,null,null,null,null,null,"","","","","",null,null,null,"","","","","",{"$f":"IF(F5=\"\",\"\",ROUND((I5*T5)/(1-W5)*(1-U5+V5),References!$B$4))","v":""},{"$f":"IF(F5=\"\",\"\",ROUND(J5/(1-X5)*(1-U5+V5),References!$B$5))","v":""},{"$f":"IF(F5=\"\",\"\",ROUND((K5*T5)/(1-W5)*(1-U5+V5),References!$B$4))","v":""},{"$f":"IF(F5=\"\",\"\",ROUND(L5/(1-X5)*(1-U5+V5),References!$B$5))","v":""},"","","","","","",null,null,null,{"$f":"IF(C5=\"\",\"\",Qualifying_Index!BD65)","v":""},"","",{"$f":"IF($C5=\"\",\"\",Worksheet!J49/SUM(AU5:AU7))","v":""},null,"",{"$f":"IF($C5=\"\",\"\",Worksheet!J51/SUM($AU$2:$AU$4))","v":""},{"$f":"IF($C5=\"\",\"\",AR5*AU5)","v":""},null,""]
[null,null,null,null,null,null,null,null,null,null,null,"","","","","",null,null,null,"","","","","",{"$f":"IF(F6=\"\",\"\",ROUND((I6*T6)/(1-W6)*(1-U6+V6),References!$B$4))","v":""},{"$f":"IF(F6=\"\",\"\",ROUND(J6/(1-X6)*(1-U6+V6),References!$B$5))","v":""},{"$f":"IF(F6=\"\",\"\",ROUND((K6*T6)/(1-W6)*(1-U6+V6),References!$B$4))","v":""},{"$f":"IF(F6=\"\",\"\",ROUND(L6/(1-X6)*(1-U6+V6),References!$B$5))","v":""},"","","","","","",null,null,null,{"$f":"IF(C6=\"\",\"\",Qualifying_Index!BD66)","v":""},"","",{"$f":"IF($C6=\"\",\"\",Worksheet!J50/SUM(AU6:AU8))","v":""},null,"",{"$f":"IF($C6=\"\",\"\",Worksheet!J52/SUM($AU$2:$AU$4))","v":""},"",null,""]
[null,null,null,null,null,null,null,null,null,null,null,"","","","","",null,null,null,"","","","","",{"$f":"IF(F7=\"\",\"\",ROUND((I7*T7)/(1-W7)*(1-U7+V7),References!$B$4))","v":""},{"$f":"IF(F7=\"\",\"\",ROUND(J7/(1-X7)*(1-U7+V7),References!$B$5))","v":""},{"$f":"IF(F7=\"\",\"\",ROUND((K7*T7)/(1-W7)*(1-U7+V7),References!$B$4))","v":""},{"$f":"IF(F7=\"\",\"\",ROUND(L7/(1-X7)*(1-U7+V7),References!$B$5))","v":""},"","","","","","",null,null,null,{"$f":"IF(C7=\"\",\"\",Qualifying_Index!BD67)","v":""},"","",{"$f":"IF($C7=\"\",\"\",Worksheet!J51/SUM(AU7:AU9))","v":""},null,"",{"$f":"IF($C7=\"\",\"\",Worksheet!J53/SUM($AU$2:$AU$4))","v":""},"",null,""]
[1,null,{"$f":"IF(F8=\"\",\"\",INDEX(References!$BO$15:$BO$30,MATCH(F8,References!$BM$15:$BM$30,0)))","v":""},{"$f":"IF(F8=\"\",\"\",INDEX(References!$BN$15:$BN$30,MATCH(F8,References!$BM$15:$BM$30,0)))","v":""},{"$f":"IF(F8=\"\",\"\",INDEX(References!$BP$15:$BP$30,MATCH(F8,References!$BM$15:$BM$30,0)))","v":""},{"$f":"IF(Qualifying_Index!AU72=\"\",\"\",Qualifying_Index!AU72)","v":""},null,null,{"$f":"IF(C8=\"\",\"\",Qualifying_Index!AV72)","v":""},{"$f":"IF(C8=\"\",\"\",Qualifying_Index!AX72)","v":""},{"$f":"IF(C8=\"\",\"\",Qualifying_Index!AW72)","v":""},"","","","","",null,null,null,"","","","","",{"$f":"IF(F8=\"\",\"\",ROUND((I8*T8)/(1-W8)*(1-U8+V8),References!$B$4))","v":""},{"$f":"IF(F8=\"\",\"\",ROUND(J8/(1-X8)*(1-U8+V8),References!$B$5))","v":""},{"$f":"IF(F8=\"\",\"\",ROUND((K8*T8)/(1-W8)*(1-U8+V8),References!$B$4))","v":""},{"$f":"IF(F8=\"\",\"\",ROUND(L8/(1-X8)*(1-U8+V8),References!$B$5))","v":""},"","","","","","",null,null,null,{"$f":"IF(C8=\"\",\"\",Qualifying_Index!BA72)","v":""},"","",{"$f":"IF($C8=\"\",\"\",Worksheet!D87)","v":""},null,"",{"$f":"IF($C8=\"\",\"\",Worksheet!J87)","v":""},"",null,""]
[null,null,null,null,null,null,null,null,null,null,null,"","","","","",null,null,null,"","","","","",{"$f":"IF(F9=\"\",\"\",ROUND((I9*T9)/(1-W9)*(1-U9+V9),References!$B$4))","v":""},{"$f":"IF(F9=\"\",\"\",ROUND(J9/(1-X9)*(1-U9+V9),References!$B$5))","v":""},{"$f":"IF(F9=\"\",\"\",ROUND((K9*T9)/(1-W9)*(1-U9+V9),References!$B$4))","v":""},{"$f":"IF(F9=\"\",\"\",ROUND(L9/(1-X9)*(1-U9+V9),References!$B$5))","v":""},"","","","","","",null,null,null,{"$f":"IF(C9=\"\",\"\",Qualifying_Index!BD69)","v":""},"","",{"$f":"IF($C9=\"\",\"\",Worksheet!J82)","v":""},null,"",{"$f":"IF($C9=\"\",\"\",Worksheet!J55/SUM($AU$2:$AU$4))","v":""},"",null,""]
[1,null,{"$f":"IF(F10=\"\",\"\",INDEX(References!$BO$15:$BO$30,MATCH(F10,References!$BM$15:$BM$30,0)))","v":""},{"$f":"IF(F10=\"\",\"\",INDEX(References!$BN$15:$BN$30,MATCH(F10,References!$BM$15:$BM$30,0)))","v":""},{"$f":"IF(F10=\"\",\"\",INDEX(References!$BP$15:$BP$30,MATCH(F10,References!$BM$15:$BM$30,0)))","v":""},{"$f":"IF(Qualifying_Index!BJ78=\"\",\"\",Qualifying_Index!BJ78)","v":""},null,null,{"$f":"IF(C10=\"\",\"\",Qualifying_Index!BK78)","v":""},{"$f":"IF(D10=\"\",\"\",Qualifying_Index!BM78)","v":""},{"$f":"IF(E10=\"\",\"\",Qualifying_Index!BL78)","v":""},"","","","","",null,null,null,"","","","","",{"$f":"IF(F10=\"\",\"\",ROUND((I10*T10)/(1-W10)*(1-U10+V10),References!$B$4))","v":""},{"$f":"IF(F10=\"\",\"\",ROUND(J10/(1-X10)*(1-U10+V10),References!$B$5))","v":""},{"$f":"IF(F10=\"\",\"\",ROUND((K10*T10)/(1-W10)*(1-U10+V10),References!$B$4))","v":""},{"$f":"IF(F10=\"\",\"\",ROUND(L10/(1-X10)*(1-U10+V10),References!$B$5))","v":""},"","","","","","",null,null,null,{"$f":"IF(C10=\"\",\"\",Qualifying_Index!BP78)","v":""},"","",{"$f":"IF($C10=\"\",\"\",Worksheet!D107/SUM($AU$10:$AU$14))","v":""},null,"",{"$f":"IF($C10=\"\",\"\",Worksheet!J107/SUM($AU$10:$AU$14))","v":""},"",null,""]
[2,null,{"$f":"IF(F11=\"\",\"\",INDEX(References!$BO$15:$BO$30,MATCH(F11,References!$BM$15:$BM$30,0)))","v":""},{"$f":"IF(F11=\"\",\"\",INDEX(References!$BN$15:$BN$30,MATCH(F11,References!$BM$15:$BM$30,0)))","v":""},{"$f":"IF(F11=\"\",\"\",INDEX(References!$BP$15:$BP$30,MATCH(F11,References!$BM$15:$BM$30,0)))","v":""},{"$f":"IF(Qualifying_Index!BJ79=\"\",\"\",Qualifying_Index!BJ79)","v":""},null,null,{"$f":"IF(C11=\"\",\"\",Qualifying_Index!BK79)","v":""},{"$f":"IF(D11=\"\",\"\",Qualifying_Index!BM79)","v":""},{"$f":"IF(E11=\"\",\"\",Qualifying_Index!BL79)","v":""},"","","","","",null,null,null,"","","","","",{"$f":"IF(F11=\"\",\"\",ROUND((I11*T11)/(1-W11)*(1-U11+V11),References!$B$4))","v":""},{"$f":"IF(F11=\"\",\"\",ROUND(J11/(1-X11)*(1-U11+V11),References!$B$5))","v":""},{"$f":"IF(F11=\"\",\"\",ROUND((K11*T11)/(1-W11)*(1-U11+V11),References!$B$4))","v":""},{"$f":"IF(F11=\"\",\"\",ROUND(L11/(1-X11)*(1-U11+V11),References!$B$5))","v":""},"","","","","","",null,null,null,{"$f":"IF(C11=\"\",\"\",Qualifying_Index!BP79)","v":""},"","",{"$f":"IF($C11=\"\",\"\",Worksheet!J103/SUM($AU$10:$AU$14))","v":""},null,"",{"$f":"IF($C11=\"\",\"\",Worksheet!#REF!/SUM($AU$10:$AU$14))","v":""},"",null,""]
[3,null,{"$f":"IF(F12=\"\",\"\",INDEX(References!$BO$15:$BO$30,MATCH(F12,References!$BM$15:$BM$30,0)))","v":""},{"$f":"IF(F12=\"\",\"\",INDEX(References!$BN$15:$BN$30,MATCH(F12,References!$BM$15:$BM$30,0)))","v":""},{"$f":"IF(F12=\"\",\"\",INDEX(References!$BP$15:$BP$30,MATCH(F12,References!$BM$15:$BM$30,0)))","v":""},{"$f":"IF(Qualifying_Index!BJ80=\"\",\"\",Qualifying_Index!BJ80)","v":""},null,null,{"$f":"IF(C12=\"\",\"\",Qualifying_Index!BK80)","v":""},{"$f":"IF(D12=\"\",\"\",Qualifying_Index!BM80)","v":""},{"$f":"IF(E12=\"\",\"\",Qualifying_Index!BL80)","v":""},"","","","","",null,null,null,"","","","","",{"$f":"IF(F12=\"\",\"\",ROUND((I12*T12)/(1-W12)*(1-U12+V12),References!$B$4))","v":""},{"$f":"IF(F12=\"\",\"\",ROUND(J12/(1-X12)*(1-U12+V12),References!$B$5))","v":""},{"$f":"IF(F12=\"\",\"\",ROUND((K12*T12)/(1-W12)*(1-U12+V12),References!$B$4))","v":""},{"$f":"IF(F12=\"\",\"\",ROUND(L12/(1-X12)*(1-U12+V12),References!$B$5))","v":""},"","","","","","",null,null,null,{"$f":"IF(C12=\"\",\"\",Qualifying_Index!BP80)","v":""},"","",{"$f":"IF($C12=\"\",\"\",Worksheet!J107/SUM($AU$10:$AU$14))","v":""},null,"",{"$f":"IF($C12=\"\",\"\",Worksheet!J108/SUM($AU$10:$AU$14))","v":""},"",null,""]
[4,null,{"$f":"IF(F13=\"\",\"\",INDEX(References!$BO$15:$BO$30,MATCH(F13,References!$BM$15:$BM$30,0)))","v":""},{"$f":"IF(F13=\"\",\"\",INDEX(References!$BN$15:$BN$30,MATCH(F13,References!$BM$15:$BM$30,0)))","v":""},{"$f":"IF(F13=\"\",\"\",INDEX(References!$BP$15:$BP$30,MATCH(F13,References!$BM$15:$BM$30,0)))","v":""},{"$f":"IF(Qualifying_Index!BJ81=\"\",\"\",Qualifying_Index!BJ81)","v":""},null,null,{"$f":"IF(C13=\"\",\"\",Qualifying_Index!BK81)","v":""},{"$f":"IF(D13=\"\",\"\",Qualifying_Index!BM81)","v":""},{"$f":"IF(E13=\"\",\"\",Qualifying_Index!BL81)","v":""},"","","","","",null,null,null,"","","","","",{"$f":"IF(F13=\"\",\"\",ROUND((I13*T13)/(1-W13)*(1-U13+V13),References!$B$4))","v":""},{"$f":"IF(F13=\"\",\"\",ROUND(J13/(1-X13)*(1-U13+V13),References!$B$5))","v":""},{"$f":"IF(F13=\"\",\"\",ROUND((K13*T13)/(1-W13)*(1-U13+V13),References!$B$4))","v":""},{"$f":"IF(F13=\"\",\"\",ROUND(L13/(1-X13)*(1-U13+V13),References!$B$5))","v":""},"","","","","","",null,null,null,{"$f":"IF(C13=\"\",\"\",Qualifying_Index!BP81)","v":""},"","",{"$f":"IF($C13=\"\",\"\",Worksheet!#REF!/SUM($AU$10:$AU$14))","v":""},null,"",{"$f":"IF($C13=\"\",\"\",Worksheet!J109/SUM($AU$10:$AU$14))","v":""},"",null,""]
[5,null,{"$f":"IF(F14=\"\",\"\",INDEX(References!$BO$15:$BO$30,MATCH(F14,References!$BM$15:$BM$30,0)))","v":""},{"$f":"IF(F14=\"\",\"\",INDEX(References!$BN$15:$BN$30,MATCH(F14,References!$BM$15:$BM$30,0)))","v":""},{"$f":"IF(F14=\"\",\"\",INDEX(References!$BP$15:$BP$30,MATCH(F14,References!$BM$15:$BM$30,0)))","v":""},{"$f":"IF(Qualifying_Index!BJ82=\"\",\"\",Qualifying_Index!BJ82)","v":""},null,null,{"$f":"IF(C14=\"\",\"\",Qualifying_Index!BK82)","v":""},{"$f":"IF(D14=\"\",\"\",Qualifying_Index!BM82)","v":""},{"$f":"IF(E14=\"\",\"\",Qualifying_Index!BL82)","v":""},"","","","","",null,null,null,"","","","","",{"$f":"IF(F14=\"\",\"\",ROUND((I14*T14)/(1-W14)*(1-U14+V14),References!$B$4))","v":""},{"$f":"IF(F14=\"\",\"\",ROUND(J14/(1-X14)*(1-U14+V14),References!$B$5))","v":""},{"$f":"IF(F14=\"\",\"\",ROUND((K14*T14)/(1-W14)*(1-U14+V14),References!$B$4))","v":""},{"$f":"IF(F14=\"\",\"\",ROUND(L14/(1-X14)*(1-U14+V14),References!$B$5))","v":""},"","","","","","",null,null,null,{"$f":"IF(C14=\"\",\"\",Qualifying_Index!BP82)","v":""},"","",{"$f":"IF($C14=\"\",\"\",Worksheet!J108/SUM($AU$10:$AU$14))","v":""},null,"",{"$f":"IF($C14=\"\",\"\",Worksheet!J110/SUM($AU$10:$AU$14))","v":""},"",null,""]

{"sheet":"Admin","index":17,"n_rows":46,"n_cols":31,"rows_kept":46,"cut":false,"hidden":true,"merged":[]}
[]
[null,"Cool Homes"]
[null,{"$f":"ProposedEquipment0!E1","v":"Product Name"},{"$f":"ProposedEquipment0!AU1","v":"Product Quantity"},{"$f":"ProposedEquipment0!F1","v":"Measure Code"},{"$f":"ProposedEquipment0!G1","v":"Application ID"},{"$f":"ProposedEquipment0!BM1","v":"Baseline EER"},{"$f":"ProposedEquipment0!BN1","v":"Baseline SEER"},{"$f":"ProposedEquipment0!BO1","v":"Baseline HSPF"},{"$f":"ProposedEquipment0!BX1","v":"Cooling Btuh"},{"$f":"ProposedEquipment0!BR1","v":"Proposed/Installed EER"},{"$f":"ProposedEquipment0!BS1","v":"Proposed/Installed SEER"},{"$f":"ProposedEquipment0!BT1","v":"Proposed/Installed HSPF"},{"$f":"ProposedEquipment0!BU1","v":"Proposed/Installed COP"},{"$f":"ProposedEquipment0!AR1","v":"Elec Util Cust Incentive"},{"$f":"ProposedEquipment0!AT1","v":"Contractor Incentive"},{"$f":"ProposedEquipment0!I1","v":"Gross kW"},{"$f":"ProposedEquipment0!J1","v":"Gross kWh"},{"$f":"ProposedEquipment0!K1","v":"Gross Winter kW"},{"$f":"ProposedEquipment0!L1","v":"Gross BE kWh"},{"$f":"ProposedEquipment0!M1","v":"Delta Gross kWh"},{"$f":"ProposedEquipment0!Y1","v":"Net kW"},{"$f":"ProposedEquipment0!Z1","v":"Net kWh"},{"$f":"ProposedEquipment0!AA1","v":"Net Winter kW"},{"$f":"ProposedEquipment0!AB1","v":"Net BE kWh"},{"$f":"ProposedEquipment0!AC1","v":"Delta Net kWh"},{"$f":"ProposedEquipment0!AD1","v":"Total Net kW"},{"$f":"ProposedEquipment0!AE1","v":"Total Net kWh"},{"$f":"ProposedEquipment0!AF1","v":"Total Net Winter kW"},{"$f":"ProposedEquipment0!AG1","v":"Total Net BE kWh"},{"$f":"ProposedEquipment0!AH1","v":"Total Delta Net kWh"},"Total Cost"]
[null,{"$f":"ProposedEquipment0!#REF!","v":{"$error":"#REF!"}},{"$f":"ProposedEquipment0!#REF!","v":{"$error":"#REF!"}},{"$f":"ProposedEquipment0!#REF!","v":{"$error":"#REF!"}},{"$f":"ProposedEquipment0!#REF!","v":{"$error":"#REF!"}},{"$f":"ProposedEquipment0!#REF!","v":{"$error":"#REF!"}},{"$f":"ProposedEquipment0!#REF!","v":{"$error":"#REF!"}},{"$f":"ProposedEquipment0!#REF!","v":{"$error":"#REF!"}},{"$f":"ProposedEquipment0!#REF!","v":{"$error":"#REF!"}},{"$f":"ProposedEquipment0!#REF!","v":{"$error":"#REF!"}},{"$f":"ProposedEquipment0!#REF!","v":{"$error":"#REF!"}},{"$f":"ProposedEquipment0!#REF!","v":{"$error":"#REF!"}},{"$f":"ProposedEquipment0!#REF!","v":{"$error":"#REF!"}},{"$f":"ProposedEquipment0!#REF!","v":{"$error":"#REF!"}},{"$f":"ProposedEquipment0!#REF!","v":{"$error":"#REF!"}},{"$f":"ProposedEquipment0!#REF!","v":{"$error":"#REF!"}},{"$f":"ProposedEquipment0!#REF!","v":{"$error":"#REF!"}},{"$f":"ProposedEquipment0!#REF!","v":{"$error":"#REF!"}},{"$f":"ProposedEquipment0!#REF!","v":{"$error":"#REF!"}},{"$f":"ProposedEquipment0!#REF!","v":{"$error":"#REF!"}},{"$f":"ProposedEquipment0!#REF!","v":{"$error":"#REF!"}},{"$f":"ProposedEquipment0!#REF!","v":{"$error":"#REF!"}},{"$f":"ProposedEquipment0!#REF!","v":{"$error":"#REF!"}},{"$f":"ProposedEquipment0!#REF!","v":{"$error":"#REF!"}},{"$f":"ProposedEquipment0!#REF!","v":{"$error":"#REF!"}},{"$f":"ProposedEquipment0!#REF!","v":{"$error":"#REF!"}},{"$f":"ProposedEquipment0!#REF!","v":{"$error":"#REF!"}},{"$f":"ProposedEquipment0!#REF!","v":{"$error":"#REF!"}},{"$f":"ProposedEquipment0!#REF!","v":{"$error":"#REF!"}},{"$f":"ProposedEquipment0!#REF!","v":{"$error":"#REF!"}}]
[null,{"$f":"ProposedEquipment0!#REF!","v":{"$error":"#REF!"}},{"$f":"ProposedEquipment0!#REF!","v":{"$error":"#REF!"}},{"$f":"ProposedEquipment0!#REF!","v":{"$error":"#REF!"}},{"$f":"ProposedEquipment0!#REF!","v":{"$error":"#REF!"}},{"$f":"ProposedEquipment0!#REF!","v":{"$error":"#REF!"}},{"$f":"ProposedEquipment0!#REF!","v":{"$error":"#REF!"}},{"$f":"ProposedEquipment0!#REF!","v":{"$error":"#REF!"}},{"$f":"ProposedEquipment0!#REF!","v":{"$error":"#REF!"}},{"$f":"ProposedEquipment0!#REF!","v":{"$error":"#REF!"}},{"$f":"ProposedEquipment0!#REF!","v":{"$error":"#REF!"}},{"$f":"ProposedEquipment0!#REF!","v":{"$error":"#REF!"}},{"$f":"ProposedEquipment0!#REF!","v":{"$error":"#REF!"}},{"$f":"ProposedEquipment0!#REF!","v":{"$error":"#REF!"}},{"$f":"ProposedEquipment0!#REF!","v":{"$error":"#REF!"}},{"$f":"ProposedEquipment0!#REF!","v":{"$error":"#REF!"}},{"$f":"ProposedEquipment0!#REF!","v":{"$error":"#REF!"}},{"$f":"ProposedEquipment0!#REF!","v":{"$error":"#REF!"}},{"$f":"ProposedEquipment0!#REF!","v":{"$error":"#REF!"}},{"$f":"ProposedEquipment0!#REF!","v":{"$error":"#REF!"}},{"$f":"ProposedEquipment0!#REF!","v":{"$error":"#REF!"}},{"$f":"ProposedEquipment0!#REF!","v":{"$error":"#REF!"}},{"$f":"ProposedEquipment0!#REF!","v":{"$error":"#REF!"}},{"$f":"ProposedEquipment0!#REF!","v":{"$error":"#REF!"}},{"$f":"ProposedEquipment0!#REF!","v":{"$error":"#REF!"}},{"$f":"ProposedEquipment0!#REF!","v":{"$error":"#REF!"}},{"$f":"ProposedEquipment0!#REF!","v":{"$error":"#REF!"}},{"$f":"ProposedEquipment0!#REF!","v":{"$error":"#REF!"}},{"$f":"ProposedEquipment0!#REF!","v":{"$error":"#REF!"}},{"$f":"ProposedEquipment0!#REF!","v":{"$error":"#REF!"}}]
[null,{"$f":"ProposedEquipment0!#REF!","v":{"$error":"#REF!"}},{"$f":"ProposedEquipment0!#REF!","v":{"$error":"#REF!"}},{"$f":"ProposedEquipment0!#REF!","v":{"$error":"#REF!"}},{"$f":"ProposedEquipment0!#REF!","v":{"$error":"#REF!"}},{"$f":"ProposedEquipment0!#REF!","v":{"$error":"#REF!"}},{"$f":"ProposedEquipment0!#REF!","v":{"$error":"#REF!"}},{"$f":"ProposedEquipment0!#REF!","v":{"$error":"#REF!"}},{"$f":"ProposedEquipment0!#REF!","v":{"$error":"#REF!"}},{"$f":"ProposedEquipment0!#REF!","v":{"$error":"#REF!"}},{"$f":"ProposedEquipment0!#REF!","v":{"$error":"#REF!"}},{"$f":"ProposedEquipment0!#REF!","v":{"$error":"#REF!"}},{"$f":"ProposedEquipment0!#REF!","v":{"$error":"#REF!"}},{"$f":"ProposedEquipment0!#REF!","v":{"$error":"#REF!"}},{"$f":"ProposedEquipment0!#REF!","v":{"$error":"#REF!"}},{"$f":"ProposedEquipment0!#REF!","v":{"$error":"#REF!"}},{"$f":"ProposedEquipment0!#REF!","v":{"$error":"#REF!"}},{"$f":"ProposedEquipment0!#REF!","v":{"$error":"#REF!"}},{"$f":"ProposedEquipment0!#REF!","v":{"$error":"#REF!"}},{"$f":"ProposedEquipment0!#REF!","v":{"$error":"#REF!"}},{"$f":"ProposedEquipment0!#REF!","v":{"$error":"#REF!"}},{"$f":"ProposedEquipment0!#REF!","v":{"$error":"#REF!"}},{"$f":"ProposedEquipment0!#REF!","v":{"$error":"#REF!"}},{"$f":"ProposedEquipment0!#REF!","v":{"$error":"#REF!"}},{"$f":"ProposedEquipment0!#REF!","v":{"$error":"#REF!"}},{"$f":"ProposedEquipment0!#REF!","v":{"$error":"#REF!"}},{"$f":"ProposedEquipment0!#REF!","v":{"$error":"#REF!"}},{"$f":"ProposedEquipment0!#REF!","v":{"$error":"#REF!"}},{"$f":"ProposedEquipment0!#REF!","v":{"$error":"#REF!"}},{"$f":"ProposedEquipment0!#REF!","v":{"$error":"#REF!"}}]
[null,{"$f":"ProposedEquipment0!#REF!","v":{"$error":"#REF!"}},{"$f":"ProposedEquipment0!#REF!","v":{"$error":"#REF!"}},{"$f":"ProposedEquipment0!#REF!","v":{"$error":"#REF!"}},{"$f":"ProposedEquipment0!#REF!","v":{"$error":"#REF!"}},{"$f":"ProposedEquipment0!#REF!","v":{"$error":"#REF!"}},{"$f":"ProposedEquipment0!#REF!","v":{"$error":"#REF!"}},{"$f":"ProposedEquipment0!#REF!","v":{"$error":"#REF!"}},{"$f":"ProposedEquipment0!#REF!","v":{"$error":"#REF!"}},{"$f":"ProposedEquipment0!#REF!","v":{"$error":"#REF!"}},{"$f":"ProposedEquipment0!#REF!","v":{"$error":"#REF!"}},{"$f":"ProposedEquipment0!#REF!","v":{"$error":"#REF!"}},{"$f":"ProposedEquipment0!#REF!","v":{"$error":"#REF!"}},{"$f":"ProposedEquipment0!#REF!","v":{"$error":"#REF!"}},{"$f":"ProposedEquipment0!#REF!","v":{"$error":"#REF!"}},{"$f":"ProposedEquipment0!#REF!","v":{"$error":"#REF!"}},{"$f":"ProposedEquipment0!#REF!","v":{"$error":"#REF!"}},{"$f":"ProposedEquipment0!#REF!","v":{"$error":"#REF!"}},{"$f":"ProposedEquipment0!#REF!","v":{"$error":"#REF!"}},{"$f":"ProposedEquipment0!#REF!","v":{"$error":"#REF!"}},{"$f":"ProposedEquipment0!#REF!","v":{"$error":"#REF!"}},{"$f":"ProposedEquipment0!#REF!","v":{"$error":"#REF!"}},{"$f":"ProposedEquipment0!#REF!","v":{"$error":"#REF!"}},{"$f":"ProposedEquipment0!#REF!","v":{"$error":"#REF!"}},{"$f":"ProposedEquipment0!#REF!","v":{"$error":"#REF!"}},{"$f":"ProposedEquipment0!#REF!","v":{"$error":"#REF!"}},{"$f":"ProposedEquipment0!#REF!","v":{"$error":"#REF!"}},{"$f":"ProposedEquipment0!#REF!","v":{"$error":"#REF!"}},{"$f":"ProposedEquipment0!#REF!","v":{"$error":"#REF!"}},{"$f":"ProposedEquipment0!#REF!","v":{"$error":"#REF!"}}]
[null,{"$f":"ProposedEquipment0!#REF!","v":{"$error":"#REF!"}},{"$f":"ProposedEquipment0!#REF!","v":{"$error":"#REF!"}},{"$f":"ProposedEquipment0!#REF!","v":{"$error":"#REF!"}},{"$f":"ProposedEquipment0!#REF!","v":{"$error":"#REF!"}},{"$f":"ProposedEquipment0!#REF!","v":{"$error":"#REF!"}},{"$f":"ProposedEquipment0!#REF!","v":{"$error":"#REF!"}},{"$f":"ProposedEquipment0!#REF!","v":{"$error":"#REF!"}},{"$f":"ProposedEquipment0!#REF!","v":{"$error":"#REF!"}},{"$f":"ProposedEquipment0!#REF!","v":{"$error":"#REF!"}},{"$f":"ProposedEquipment0!#REF!","v":{"$error":"#REF!"}},{"$f":"ProposedEquipment0!#REF!","v":{"$error":"#REF!"}},{"$f":"ProposedEquipment0!#REF!","v":{"$error":"#REF!"}},{"$f":"ProposedEquipment0!#REF!","v":{"$error":"#REF!"}},{"$f":"ProposedEquipment0!#REF!","v":{"$error":"#REF!"}},{"$f":"ProposedEquipment0!#REF!","v":{"$error":"#REF!"}},{"$f":"ProposedEquipment0!#REF!","v":{"$error":"#REF!"}},{"$f":"ProposedEquipment0!#REF!","v":{"$error":"#REF!"}},{"$f":"ProposedEquipment0!#REF!","v":{"$error":"#REF!"}},{"$f":"ProposedEquipment0!#REF!","v":{"$error":"#REF!"}},{"$f":"ProposedEquipment0!#REF!","v":{"$error":"#REF!"}},{"$f":"ProposedEquipment0!#REF!","v":{"$error":"#REF!"}},{"$f":"ProposedEquipment0!#REF!","v":{"$error":"#REF!"}},{"$f":"ProposedEquipment0!#REF!","v":{"$error":"#REF!"}},{"$f":"ProposedEquipment0!#REF!","v":{"$error":"#REF!"}},{"$f":"ProposedEquipment0!#REF!","v":{"$error":"#REF!"}},{"$f":"ProposedEquipment0!#REF!","v":{"$error":"#REF!"}},{"$f":"ProposedEquipment0!#REF!","v":{"$error":"#REF!"}},{"$f":"ProposedEquipment0!#REF!","v":{"$error":"#REF!"}},{"$f":"ProposedEquipment0!#REF!","v":{"$error":"#REF!"}}]
[null,{"$f":"ProposedEquipment0!#REF!","v":{"$error":"#REF!"}},{"$f":"ProposedEquipment0!#REF!","v":{"$error":"#REF!"}},{"$f":"ProposedEquipment0!#REF!","v":{"$error":"#REF!"}},{"$f":"ProposedEquipment0!#REF!","v":{"$error":"#REF!"}},{"$f":"ProposedEquipment0!#REF!","v":{"$error":"#REF!"}},{"$f":"ProposedEquipment0!#REF!","v":{"$error":"#REF!"}},{"$f":"ProposedEquipment0!#REF!","v":{"$error":"#REF!"}},{"$f":"ProposedEquipment0!#REF!","v":{"$error":"#REF!"}},{"$f":"ProposedEquipment0!#REF!","v":{"$error":"#REF!"}},{"$f":"ProposedEquipment0!#REF!","v":{"$error":"#REF!"}},{"$f":"ProposedEquipment0!#REF!","v":{"$error":"#REF!"}},{"$f":"ProposedEquipment0!#REF!","v":{"$error":"#REF!"}},{"$f":"ProposedEquipment0!#REF!","v":{"$error":"#REF!"}},{"$f":"ProposedEquipment0!#REF!","v":{"$error":"#REF!"}},{"$f":"ProposedEquipment0!#REF!","v":{"$error":"#REF!"}},{"$f":"ProposedEquipment0!#REF!","v":{"$error":"#REF!"}},{"$f":"ProposedEquipment0!#REF!","v":{"$error":"#REF!"}},{"$f":"ProposedEquipment0!#REF!","v":{"$error":"#REF!"}},{"$f":"ProposedEquipment0!#REF!","v":{"$error":"#REF!"}},{"$f":"ProposedEquipment0!#REF!","v":{"$error":"#REF!"}},{"$f":"ProposedEquipment0!#REF!","v":{"$error":"#REF!"}},{"$f":"ProposedEquipment0!#REF!","v":{"$error":"#REF!"}},{"$f":"ProposedEquipment0!#REF!","v":{"$error":"#REF!"}},{"$f":"ProposedEquipment0!#REF!","v":{"$error":"#REF!"}},{"$f":"ProposedEquipment0!#REF!","v":{"$error":"#REF!"}},{"$f":"ProposedEquipment0!#REF!","v":{"$error":"#REF!"}},{"$f":"ProposedEquipment0!#REF!","v":{"$error":"#REF!"}},{"$f":"ProposedEquipment0!#REF!","v":{"$error":"#REF!"}},{"$f":"ProposedEquipment0!#REF!","v":{"$error":"#REF!"}}]
[null,{"$f":"ProposedEquipment0!#REF!","v":{"$error":"#REF!"}},{"$f":"ProposedEquipment0!#REF!","v":{"$error":"#REF!"}},{"$f":"ProposedEquipment0!#REF!","v":{"$error":"#REF!"}},{"$f":"ProposedEquipment0!#REF!","v":{"$error":"#REF!"}},{"$f":"ProposedEquipment0!#REF!","v":{"$error":"#REF!"}},{"$f":"ProposedEquipment0!#REF!","v":{"$error":"#REF!"}},{"$f":"ProposedEquipment0!#REF!","v":{"$error":"#REF!"}},{"$f":"ProposedEquipment0!#REF!","v":{"$error":"#REF!"}},{"$f":"ProposedEquipment0!#REF!","v":{"$error":"#REF!"}},{"$f":"ProposedEquipment0!#REF!","v":{"$error":"#REF!"}},{"$f":"ProposedEquipment0!#REF!","v":{"$error":"#REF!"}},{"$f":"ProposedEquipment0!#REF!","v":{"$error":"#REF!"}},{"$f":"ProposedEquipment0!#REF!","v":{"$error":"#REF!"}},{"$f":"ProposedEquipment0!#REF!","v":{"$error":"#REF!"}},{"$f":"ProposedEquipment0!#REF!","v":{"$error":"#REF!"}},{"$f":"ProposedEquipment0!#REF!","v":{"$error":"#REF!"}},{"$f":"ProposedEquipment0!#REF!","v":{"$error":"#REF!"}},{"$f":"ProposedEquipment0!#REF!","v":{"$error":"#REF!"}},{"$f":"ProposedEquipment0!#REF!","v":{"$error":"#REF!"}},{"$f":"ProposedEquipment0!#REF!","v":{"$error":"#REF!"}},{"$f":"ProposedEquipment0!#REF!","v":{"$error":"#REF!"}},{"$f":"ProposedEquipment0!#REF!","v":{"$error":"#REF!"}},{"$f":"ProposedEquipment0!#REF!","v":{"$error":"#REF!"}},{"$f":"ProposedEquipment0!#REF!","v":{"$error":"#REF!"}},{"$f":"ProposedEquipment0!#REF!","v":{"$error":"#REF!"}},{"$f":"ProposedEquipment0!#REF!","v":{"$error":"#REF!"}},{"$f":"ProposedEquipment0!#REF!","v":{"$error":"#REF!"}},{"$f":"ProposedEquipment0!#REF!","v":{"$error":"#REF!"}},{"$f":"ProposedEquipment0!#REF!","v":{"$error":"#REF!"}}]
[null,{"$f":"ProposedEquipment0!#REF!","v":{"$error":"#REF!"}},{"$f":"ProposedEquipment0!#REF!","v":{"$error":"#REF!"}},{"$f":"ProposedEquipment0!#REF!","v":{"$error":"#REF!"}},{"$f":"ProposedEquipment0!#REF!","v":{"$error":"#REF!"}},{"$f":"ProposedEquipment0!#REF!","v":{"$error":"#REF!"}},{"$f":"ProposedEquipment0!#REF!","v":{"$error":"#REF!"}},{"$f":"ProposedEquipment0!#REF!","v":{"$error":"#REF!"}},{"$f":"ProposedEquipment0!#REF!","v":{"$error":"#REF!"}},{"$f":"ProposedEquipment0!#REF!","v":{"$error":"#REF!"}},{"$f":"ProposedEquipment0!#REF!","v":{"$error":"#REF!"}},{"$f":"ProposedEquipment0!#REF!","v":{"$error":"#REF!"}},{"$f":"ProposedEquipment0!#REF!","v":{"$error":"#REF!"}},{"$f":"ProposedEquipment0!#REF!","v":{"$error":"#REF!"}},{"$f":"ProposedEquipment0!#REF!","v":{"$error":"#REF!"}},{"$f":"ProposedEquipment0!#REF!","v":{"$error":"#REF!"}},{"$f":"ProposedEquipment0!#REF!","v":{"$error":"#REF!"}},{"$f":"ProposedEquipment0!#REF!","v":{"$error":"#REF!"}},{"$f":"ProposedEquipment0!#REF!","v":{"$error":"#REF!"}},{"$f":"ProposedEquipment0!#REF!","v":{"$error":"#REF!"}},{"$f":"ProposedEquipment0!#REF!","v":{"$error":"#REF!"}},{"$f":"ProposedEquipment0!#REF!","v":{"$error":"#REF!"}},{"$f":"ProposedEquipment0!#REF!","v":{"$error":"#REF!"}},{"$f":"ProposedEquipment0!#REF!","v":{"$error":"#REF!"}},{"$f":"ProposedEquipment0!#REF!","v":{"$error":"#REF!"}},{"$f":"ProposedEquipment0!#REF!","v":{"$error":"#REF!"}},{"$f":"ProposedEquipment0!#REF!","v":{"$error":"#REF!"}},{"$f":"ProposedEquipment0!#REF!","v":{"$error":"#REF!"}},{"$f":"ProposedEquipment0!#REF!","v":{"$error":"#REF!"}},{"$f":"ProposedEquipment0!#REF!","v":{"$error":"#REF!"}}]
[null,{"$f":"ProposedEquipment0!#REF!","v":{"$error":"#REF!"}},{"$f":"ProposedEquipment0!#REF!","v":{"$error":"#REF!"}},{"$f":"ProposedEquipment0!#REF!","v":{"$error":"#REF!"}},{"$f":"ProposedEquipment0!#REF!","v":{"$error":"#REF!"}},{"$f":"ProposedEquipment0!#REF!","v":{"$error":"#REF!"}},{"$f":"ProposedEquipment0!#REF!","v":{"$error":"#REF!"}},{"$f":"ProposedEquipment0!#REF!","v":{"$error":"#REF!"}},{"$f":"ProposedEquipment0!#REF!","v":{"$error":"#REF!"}},{"$f":"ProposedEquipment0!#REF!","v":{"$error":"#REF!"}},{"$f":"ProposedEquipment0!#REF!","v":{"$error":"#REF!"}},{"$f":"ProposedEquipment0!#REF!","v":{"$error":"#REF!"}},{"$f":"ProposedEquipment0!#REF!","v":{"$error":"#REF!"}},{"$f":"ProposedEquipment0!#REF!","v":{"$error":"#REF!"}},{"$f":"ProposedEquipment0!#REF!","v":{"$error":"#REF!"}},{"$f":"ProposedEquipment0!#REF!","v":{"$error":"#REF!"}},{"$f":"ProposedEquipment0!#REF!","v":{"$error":"#REF!"}},{"$f":"ProposedEquipment0!#REF!","v":{"$error":"#REF!"}},{"$f":"ProposedEquipment0!#REF!","v":{"$error":"#REF!"}},{"$f":"ProposedEquipment0!#REF!","v":{"$error":"#REF!"}},{"$f":"ProposedEquipment0!#REF!","v":{"$error":"#REF!"}},{"$f":"ProposedEquipment0!#REF!","v":{"$error":"#REF!"}},{"$f":"ProposedEquipment0!#REF!","v":{"$error":"#REF!"}},{"$f":"ProposedEquipment0!#REF!","v":{"$error":"#REF!"}},{"$f":"ProposedEquipment0!#REF!","v":{"$error":"#REF!"}},{"$f":"ProposedEquipment0!#REF!","v":{"$error":"#REF!"}},{"$f":"ProposedEquipment0!#REF!","v":{"$error":"#REF!"}},{"$f":"ProposedEquipment0!#REF!","v":{"$error":"#REF!"}},{"$f":"ProposedEquipment0!#REF!","v":{"$error":"#REF!"}},{"$f":"ProposedEquipment0!#REF!","v":{"$error":"#REF!"}}]
[null,{"$f":"ProposedEquipment0!#REF!","v":{"$error":"#REF!"}},{"$f":"ProposedEquipment0!#REF!","v":{"$error":"#REF!"}},{"$f":"ProposedEquipment0!#REF!","v":{"$error":"#REF!"}},{"$f":"ProposedEquipment0!#REF!","v":{"$error":"#REF!"}},{"$f":"ProposedEquipment0!#REF!","v":{"$error":"#REF!"}},{"$f":"ProposedEquipment0!#REF!","v":{"$error":"#REF!"}},{"$f":"ProposedEquipment0!#REF!","v":{"$error":"#REF!"}},{"$f":"ProposedEquipment0!#REF!","v":{"$error":"#REF!"}},{"$f":"ProposedEquipment0!#REF!","v":{"$error":"#REF!"}},{"$f":"ProposedEquipment0!#REF!","v":{"$error":"#REF!"}},{"$f":"ProposedEquipment0!#REF!","v":{"$error":"#REF!"}},{"$f":"ProposedEquipment0!#REF!","v":{"$error":"#REF!"}},{"$f":"ProposedEquipment0!#REF!","v":{"$error":"#REF!"}},{"$f":"ProposedEquipment0!#REF!","v":{"$error":"#REF!"}},{"$f":"ProposedEquipment0!#REF!","v":{"$error":"#REF!"}},{"$f":"ProposedEquipment0!#REF!","v":{"$error":"#REF!"}},{"$f":"ProposedEquipment0!#REF!","v":{"$error":"#REF!"}},{"$f":"ProposedEquipment0!#REF!","v":{"$error":"#REF!"}},{"$f":"ProposedEquipment0!#REF!","v":{"$error":"#REF!"}},{"$f":"ProposedEquipment0!#REF!","v":{"$error":"#REF!"}},{"$f":"ProposedEquipment0!#REF!","v":{"$error":"#REF!"}},{"$f":"ProposedEquipment0!#REF!","v":{"$error":"#REF!"}},{"$f":"ProposedEquipment0!#REF!","v":{"$error":"#REF!"}},{"$f":"ProposedEquipment0!#REF!","v":{"$error":"#REF!"}},{"$f":"ProposedEquipment0!#REF!","v":{"$error":"#REF!"}},{"$f":"ProposedEquipment0!#REF!","v":{"$error":"#REF!"}},{"$f":"ProposedEquipment0!#REF!","v":{"$error":"#REF!"}},{"$f":"ProposedEquipment0!#REF!","v":{"$error":"#REF!"}},{"$f":"ProposedEquipment0!#REF!","v":{"$error":"#REF!"}}]
[null,{"$f":"ProposedEquipment0!#REF!","v":{"$error":"#REF!"}},{"$f":"ProposedEquipment0!#REF!","v":{"$error":"#REF!"}},{"$f":"ProposedEquipment0!#REF!","v":{"$error":"#REF!"}},{"$f":"ProposedEquipment0!#REF!","v":{"$error":"#REF!"}},null,null,null,null,null,null,null,null,{"$f":"ProposedEquipment0!#REF!","v":{"$error":"#REF!"}},null,{"$f":"ProposedEquipment0!#REF!","v":{"$error":"#REF!"}},{"$f":"ProposedEquipment0!#REF!","v":{"$error":"#REF!"}},{"$f":"ProposedEquipment0!#REF!","v":{"$error":"#REF!"}},{"$f":"ProposedEquipment0!#REF!","v":{"$error":"#REF!"}},{"$f":"ProposedEquipment0!#REF!","v":{"$error":"#REF!"}},{"$f":"ProposedEquipment0!#REF!","v":{"$error":"#REF!"}},{"$f":"ProposedEquipment0!#REF!","v":{"$error":"#REF!"}},{"$f":"ProposedEquipment0!#REF!","v":{"$error":"#REF!"}},{"$f":"ProposedEquipment0!#REF!","v":{"$error":"#REF!"}},{"$f":"ProposedEquipment0!#REF!","v":{"$error":"#REF!"}},{"$f":"ProposedEquipment0!#REF!","v":{"$error":"#REF!"}},{"$f":"ProposedEquipment0!#REF!","v":{"$error":"#REF!"}},{"$f":"ProposedEquipment0!#REF!","v":{"$error":"#REF!"}},{"$f":"ProposedEquipment0!#REF!","v":{"$error":"#REF!"}},{"$f":"ProposedEquipment0!#REF!","v":{"$error":"#REF!"}}]
[null,{"$f":"ProposedEquipment0!#REF!","v":{"$error":"#REF!"}},{"$f":"ProposedEquipment0!#REF!","v":{"$error":"#REF!"}},{"$f":"ProposedEquipment0!#REF!","v":{"$error":"#REF!"}},{"$f":"ProposedEquipment0!#REF!","v":{"$error":"#REF!"}},null,null,null,null,null,null,null,null,{"$f":"ProposedEquipment0!#REF!","v":{"$error":"#REF!"}},null,{"$f":"ProposedEquipment0!#REF!","v":{"$error":"#REF!"}},{"$f":"ProposedEquipment0!#REF!","v":{"$error":"#REF!"}},{"$f":"ProposedEquipment0!#REF!","v":{"$error":"#REF!"}},{"$f":"ProposedEquipment0!#REF!","v":{"$error":"#REF!"}},{"$f":"ProposedEquipment0!#REF!","v":{"$error":"#REF!"}},{"$f":"ProposedEquipment0!#REF!","v":{"$error":"#REF!"}},{"$f":"ProposedEquipment0!#REF!","v":{"$error":"#REF!"}},{"$f":"ProposedEquipment0!#REF!","v":{"$error":"#REF!"}},{"$f":"ProposedEquipment0!#REF!","v":{"$error":"#REF!"}},{"$f":"ProposedEquipment0!#REF!","v":{"$error":"#REF!"}},{"$f":"ProposedEquipment0!#REF!","v":{"$error":"#REF!"}},{"$f":"ProposedEquipment0!#REF!","v":{"$error":"#REF!"}},{"$f":"ProposedEquipment0!#REF!","v":{"$error":"#REF!"}},{"$f":"ProposedEquipment0!#REF!","v":{"$error":"#REF!"}},{"$f":"ProposedEquipment0!#REF!","v":{"$error":"#REF!"}}]
[null,{"$f":"ProposedEquipment0!#REF!","v":{"$error":"#REF!"}},{"$f":"ProposedEquipment0!#REF!","v":{"$error":"#REF!"}},{"$f":"ProposedEquipment0!#REF!","v":{"$error":"#REF!"}},{"$f":"ProposedEquipment0!#REF!","v":{"$error":"#REF!"}},null,null,null,null,null,null,null,null,{"$f":"ProposedEquipment0!#REF!","v":{"$error":"#REF!"}},null,{"$f":"ProposedEquipment0!#REF!","v":{"$error":"#REF!"}},{"$f":"ProposedEquipment0!#REF!","v":{"$error":"#REF!"}},{"$f":"ProposedEquipment0!#REF!","v":{"$error":"#REF!"}},{"$f":"ProposedEquipment0!#REF!","v":{"$error":"#REF!"}},{"$f":"ProposedEquipment0!#REF!","v":{"$error":"#REF!"}},{"$f":"ProposedEquipment0!#REF!","v":{"$error":"#REF!"}},{"$f":"ProposedEquipment0!#REF!","v":{"$error":"#REF!"}},{"$f":"ProposedEquipment0!#REF!","v":{"$error":"#REF!"}},{"$f":"ProposedEquipment0!#REF!","v":{"$error":"#REF!"}},{"$f":"ProposedEquipment0!#REF!","v":{"$error":"#REF!"}},{"$f":"ProposedEquipment0!#REF!","v":{"$error":"#REF!"}},{"$f":"ProposedEquipment0!#REF!","v":{"$error":"#REF!"}},{"$f":"ProposedEquipment0!#REF!","v":{"$error":"#REF!"}},{"$f":"ProposedEquipment0!#REF!","v":{"$error":"#REF!"}},{"$f":"ProposedEquipment0!#REF!","v":{"$error":"#REF!"}}]
[null,{"$f":"ProposedEquipment0!#REF!","v":{"$error":"#REF!"}},{"$f":"ProposedEquipment0!#REF!","v":{"$error":"#REF!"}},{"$f":"ProposedEquipment0!#REF!","v":{"$error":"#REF!"}},{"$f":"ProposedEquipment0!#REF!","v":{"$error":"#REF!"}},null,null,null,null,null,null,null,null,{"$f":"ProposedEquipment0!#REF!","v":{"$error":"#REF!"}},null,{"$f":"ProposedEquipment0!#REF!","v":{"$error":"#REF!"}},{"$f":"ProposedEquipment0!#REF!","v":{"$error":"#REF!"}},{"$f":"ProposedEquipment0!#REF!","v":{"$error":"#REF!"}},{"$f":"ProposedEquipment0!#REF!","v":{"$error":"#REF!"}},{"$f":"ProposedEquipment0!#REF!","v":{"$error":"#REF!"}},{"$f":"ProposedEquipment0!#REF!","v":{"$error":"#REF!"}},{"$f":"ProposedEquipment0!#REF!","v":{"$error":"#REF!"}},{"$f":"ProposedEquipment0!#REF!","v":{"$error":"#REF!"}},{"$f":"ProposedEquipment0!#REF!","v":{"$error":"#REF!"}},{"$f":"ProposedEquipment0!#REF!","v":{"$error":"#REF!"}},{"$f":"ProposedEquipment0!#REF!","v":{"$error":"#REF!"}},{"$f":"ProposedEquipment0!#REF!","v":{"$error":"#REF!"}},{"$f":"ProposedEquipment0!#REF!","v":{"$error":"#REF!"}},{"$f":"ProposedEquipment0!#REF!","v":{"$error":"#REF!"}},{"$f":"ProposedEquipment0!#REF!","v":{"$error":"#REF!"}}]
[null,{"$f":"ProposedEquipment0!#REF!","v":{"$error":"#REF!"}},{"$f":"ProposedEquipment0!#REF!","v":{"$error":"#REF!"}},{"$f":"ProposedEquipment0!#REF!","v":{"$error":"#REF!"}},{"$f":"ProposedEquipment0!#REF!","v":{"$error":"#REF!"}},null,null,null,null,null,null,null,null,{"$f":"ProposedEquipment0!#REF!","v":{"$error":"#REF!"}},null,{"$f":"ProposedEquipment0!#REF!","v":{"$error":"#REF!"}},{"$f":"ProposedEquipment0!#REF!","v":{"$error":"#REF!"}},{"$f":"ProposedEquipment0!#REF!","v":{"$error":"#REF!"}},{"$f":"ProposedEquipment0!#REF!","v":{"$error":"#REF!"}},{"$f":"ProposedEquipment0!#REF!","v":{"$error":"#REF!"}},{"$f":"ProposedEquipment0!#REF!","v":{"$error":"#REF!"}},{"$f":"ProposedEquipment0!#REF!","v":{"$error":"#REF!"}},{"$f":"ProposedEquipment0!#REF!","v":{"$error":"#REF!"}},{"$f":"ProposedEquipment0!#REF!","v":{"$error":"#REF!"}},{"$f":"ProposedEquipment0!#REF!","v":{"$error":"#REF!"}},{"$f":"ProposedEquipment0!#REF!","v":{"$error":"#REF!"}},{"$f":"ProposedEquipment0!#REF!","v":{"$error":"#REF!"}},{"$f":"ProposedEquipment0!#REF!","v":{"$error":"#REF!"}},{"$f":"ProposedEquipment0!#REF!","v":{"$error":"#REF!"}},{"$f":"ProposedEquipment0!#REF!","v":{"$error":"#REF!"}}]
[null,{"$f":"ProposedEquipment0!#REF!","v":{"$error":"#REF!"}},{"$f":"ProposedEquipment0!#REF!","v":{"$error":"#REF!"}},{"$f":"ProposedEquipment0!#REF!","v":{"$error":"#REF!"}},{"$f":"ProposedEquipment0!#REF!","v":{"$error":"#REF!"}},null,null,null,null,null,null,null,null,{"$f":"ProposedEquipment0!#REF!","v":{"$error":"#REF!"}},null,{"$f":"ProposedEquipment0!#REF!","v":{"$error":"#REF!"}},{"$f":"ProposedEquipment0!#REF!","v":{"$error":"#REF!"}},{"$f":"ProposedEquipment0!#REF!","v":{"$error":"#REF!"}},{"$f":"ProposedEquipment0!#REF!","v":{"$error":"#REF!"}},{"$f":"ProposedEquipment0!#REF!","v":{"$error":"#REF!"}},{"$f":"ProposedEquipment0!#REF!","v":{"$error":"#REF!"}},{"$f":"ProposedEquipment0!#REF!","v":{"$error":"#REF!"}},{"$f":"ProposedEquipment0!#REF!","v":{"$error":"#REF!"}},{"$f":"ProposedEquipment0!#REF!","v":{"$error":"#REF!"}},{"$f":"ProposedEquipment0!#REF!","v":{"$error":"#REF!"}},{"$f":"ProposedEquipment0!#REF!","v":{"$error":"#REF!"}},{"$f":"ProposedEquipment0!#REF!","v":{"$error":"#REF!"}},{"$f":"ProposedEquipment0!#REF!","v":{"$error":"#REF!"}},{"$f":"ProposedEquipment0!#REF!","v":{"$error":"#REF!"}},{"$f":"ProposedEquipment0!#REF!","v":{"$error":"#REF!"}}]
[null,{"$f":"ProposedEquipment0!#REF!","v":{"$error":"#REF!"}},{"$f":"ProposedEquipment0!#REF!","v":{"$error":"#REF!"}},{"$f":"ProposedEquipment0!#REF!","v":{"$error":"#REF!"}},{"$f":"ProposedEquipment0!#REF!","v":{"$error":"#REF!"}},null,null,null,null,null,null,null,null,{"$f":"ProposedEquipment0!#REF!","v":{"$error":"#REF!"}},null,{"$f":"ProposedEquipment0!#REF!","v":{"$error":"#REF!"}},{"$f":"ProposedEquipment0!#REF!","v":{"$error":"#REF!"}},{"$f":"ProposedEquipment0!#REF!","v":{"$error":"#REF!"}},{"$f":"ProposedEquipment0!#REF!","v":{"$error":"#REF!"}},{"$f":"ProposedEquipment0!#REF!","v":{"$error":"#REF!"}},{"$f":"ProposedEquipment0!#REF!","v":{"$error":"#REF!"}},{"$f":"ProposedEquipment0!#REF!","v":{"$error":"#REF!"}},{"$f":"ProposedEquipment0!#REF!","v":{"$error":"#REF!"}},{"$f":"ProposedEquipment0!#REF!","v":{"$error":"#REF!"}},{"$f":"ProposedEquipment0!#REF!","v":{"$error":"#REF!"}},{"$f":"ProposedEquipment0!#REF!","v":{"$error":"#REF!"}},{"$f":"ProposedEquipment0!#REF!","v":{"$error":"#REF!"}},{"$f":"ProposedEquipment0!#REF!","v":{"$error":"#REF!"}},{"$f":"ProposedEquipment0!#REF!","v":{"$error":"#REF!"}},{"$f":"ProposedEquipment0!#REF!","v":{"$error":"#REF!"}}]
[null,{"$f":"ProposedEquipment0!#REF!","v":{"$error":"#REF!"}},{"$f":"ProposedEquipment0!#REF!","v":{"$error":"#REF!"}},{"$f":"ProposedEquipment0!#REF!","v":{"$error":"#REF!"}},{"$f":"ProposedEquipment0!#REF!","v":{"$error":"#REF!"}},null,null,null,null,null,null,null,null,{"$f":"ProposedEquipment0!#REF!","v":{"$error":"#REF!"}},null,{"$f":"ProposedEquipment0!#REF!","v":{"$error":"#REF!"}},{"$f":"ProposedEquipment0!#REF!","v":{"$error":"#REF!"}},{"$f":"ProposedEquipment0!#REF!","v":{"$error":"#REF!"}},{"$f":"ProposedEquipment0!#REF!","v":{"$error":"#REF!"}},{"$f":"ProposedEquipment0!#REF!","v":{"$error":"#REF!"}},{"$f":"ProposedEquipment0!#REF!","v":{"$error":"#REF!"}},{"$f":"ProposedEquipment0!#REF!","v":{"$error":"#REF!"}},{"$f":"ProposedEquipment0!#REF!","v":{"$error":"#REF!"}},{"$f":"ProposedEquipment0!#REF!","v":{"$error":"#REF!"}},{"$f":"ProposedEquipment0!#REF!","v":{"$error":"#REF!"}},{"$f":"ProposedEquipment0!#REF!","v":{"$error":"#REF!"}},{"$f":"ProposedEquipment0!#REF!","v":{"$error":"#REF!"}},{"$f":"ProposedEquipment0!#REF!","v":{"$error":"#REF!"}},{"$f":"ProposedEquipment0!#REF!","v":{"$error":"#REF!"}},{"$f":"ProposedEquipment0!#REF!","v":{"$error":"#REF!"}}]
[null,{"$f":"ProposedEquipment0!#REF!","v":{"$error":"#REF!"}},{"$f":"ProposedEquipment0!#REF!","v":{"$error":"#REF!"}},{"$f":"ProposedEquipment0!#REF!","v":{"$error":"#REF!"}},{"$f":"ProposedEquipment0!#REF!","v":{"$error":"#REF!"}},null,null,null,null,null,null,null,null,{"$f":"ProposedEquipment0!#REF!","v":{"$error":"#REF!"}},null,{"$f":"ProposedEquipment0!#REF!","v":{"$error":"#REF!"}},{"$f":"ProposedEquipment0!#REF!","v":{"$error":"#REF!"}},{"$f":"ProposedEquipment0!#REF!","v":{"$error":"#REF!"}},{"$f":"ProposedEquipment0!#REF!","v":{"$error":"#REF!"}},{"$f":"ProposedEquipment0!#REF!","v":{"$error":"#REF!"}},{"$f":"ProposedEquipment0!#REF!","v":{"$error":"#REF!"}},{"$f":"ProposedEquipment0!#REF!","v":{"$error":"#REF!"}},{"$f":"ProposedEquipment0!#REF!","v":{"$error":"#REF!"}},{"$f":"ProposedEquipment0!#REF!","v":{"$error":"#REF!"}},{"$f":"ProposedEquipment0!#REF!","v":{"$error":"#REF!"}},{"$f":"ProposedEquipment0!#REF!","v":{"$error":"#REF!"}},{"$f":"ProposedEquipment0!#REF!","v":{"$error":"#REF!"}},{"$f":"ProposedEquipment0!#REF!","v":{"$error":"#REF!"}},{"$f":"ProposedEquipment0!#REF!","v":{"$error":"#REF!"}},{"$f":"ProposedEquipment0!#REF!","v":{"$error":"#REF!"}}]
[null,{"$f":"ProposedEquipment0!#REF!","v":{"$error":"#REF!"}},{"$f":"ProposedEquipment0!#REF!","v":{"$error":"#REF!"}},{"$f":"ProposedEquipment0!#REF!","v":{"$error":"#REF!"}},{"$f":"ProposedEquipment0!#REF!","v":{"$error":"#REF!"}},null,null,null,null,null,null,null,null,{"$f":"ProposedEquipment0!#REF!","v":{"$error":"#REF!"}},null,{"$f":"ProposedEquipment0!#REF!","v":{"$error":"#REF!"}},{"$f":"ProposedEquipment0!#REF!","v":{"$error":"#REF!"}},{"$f":"ProposedEquipment0!#REF!","v":{"$error":"#REF!"}},{"$f":"ProposedEquipment0!#REF!","v":{"$error":"#REF!"}},{"$f":"ProposedEquipment0!#REF!","v":{"$error":"#REF!"}},{"$f":"ProposedEquipment0!#REF!","v":{"$error":"#REF!"}},{"$f":"ProposedEquipment0!#REF!","v":{"$error":"#REF!"}},{"$f":"ProposedEquipment0!#REF!","v":{"$error":"#REF!"}},{"$f":"ProposedEquipment0!#REF!","v":{"$error":"#REF!"}},{"$f":"ProposedEquipment0!#REF!","v":{"$error":"#REF!"}},{"$f":"ProposedEquipment0!#REF!","v":{"$error":"#REF!"}},{"$f":"ProposedEquipment0!#REF!","v":{"$error":"#REF!"}},{"$f":"ProposedEquipment0!#REF!","v":{"$error":"#REF!"}},{"$f":"ProposedEquipment0!#REF!","v":{"$error":"#REF!"}},{"$f":"ProposedEquipment0!#REF!","v":{"$error":"#REF!"}}]
[null,{"$f":"ProposedEquipment0!#REF!","v":{"$error":"#REF!"}},{"$f":"ProposedEquipment0!#REF!","v":{"$error":"#REF!"}},{"$f":"ProposedEquipment0!#REF!","v":{"$error":"#REF!"}},{"$f":"ProposedEquipment0!#REF!","v":{"$error":"#REF!"}},null,null,null,null,null,null,null,null,{"$f":"ProposedEquipment0!#REF!","v":{"$error":"#REF!"}},null,{"$f":"ProposedEquipment0!#REF!","v":{"$error":"#REF!"}},{"$f":"ProposedEquipment0!#REF!","v":{"$error":"#REF!"}},{"$f":"ProposedEquipment0!#REF!","v":{"$error":"#REF!"}},{"$f":"ProposedEquipment0!#REF!","v":{"$error":"#REF!"}},{"$f":"ProposedEquipment0!#REF!","v":{"$error":"#REF!"}},{"$f":"ProposedEquipment0!#REF!","v":{"$error":"#REF!"}},{"$f":"ProposedEquipment0!#REF!","v":{"$error":"#REF!"}},{"$f":"ProposedEquipment0!#REF!","v":{"$error":"#REF!"}},{"$f":"ProposedEquipment0!#REF!","v":{"$error":"#REF!"}},{"$f":"ProposedEquipment0!#REF!","v":{"$error":"#REF!"}},{"$f":"ProposedEquipment0!#REF!","v":{"$error":"#REF!"}},{"$f":"ProposedEquipment0!#REF!","v":{"$error":"#REF!"}},{"$f":"ProposedEquipment0!#REF!","v":{"$error":"#REF!"}},{"$f":"ProposedEquipment0!#REF!","v":{"$error":"#REF!"}},{"$f":"ProposedEquipment0!#REF!","v":{"$error":"#REF!"}}]
[null,{"$f":"ProposedEquipment0!#REF!","v":{"$error":"#REF!"}},{"$f":"ProposedEquipment0!#REF!","v":{"$error":"#REF!"}},{"$f":"ProposedEquipment0!#REF!","v":{"$error":"#REF!"}},{"$f":"ProposedEquipment0!#REF!","v":{"$error":"#REF!"}},null,null,null,null,null,null,null,null,{"$f":"ProposedEquipment0!#REF!","v":{"$error":"#REF!"}},null,{"$f":"ProposedEquipment0!#REF!","v":{"$error":"#REF!"}},{"$f":"ProposedEquipment0!#REF!","v":{"$error":"#REF!"}},{"$f":"ProposedEquipment0!#REF!","v":{"$error":"#REF!"}},{"$f":"ProposedEquipment0!#REF!","v":{"$error":"#REF!"}},{"$f":"ProposedEquipment0!#REF!","v":{"$error":"#REF!"}},{"$f":"ProposedEquipment0!#REF!","v":{"$error":"#REF!"}},{"$f":"ProposedEquipment0!#REF!","v":{"$error":"#REF!"}},{"$f":"ProposedEquipment0!#REF!","v":{"$error":"#REF!"}},{"$f":"ProposedEquipment0!#REF!","v":{"$error":"#REF!"}},{"$f":"ProposedEquipment0!#REF!","v":{"$error":"#REF!"}},{"$f":"ProposedEquipment0!#REF!","v":{"$error":"#REF!"}},{"$f":"ProposedEquipment0!#REF!","v":{"$error":"#REF!"}},{"$f":"ProposedEquipment0!#REF!","v":{"$error":"#REF!"}},{"$f":"ProposedEquipment0!#REF!","v":{"$error":"#REF!"}},{"$f":"ProposedEquipment0!#REF!","v":{"$error":"#REF!"}}]
[]
[]
[]
[]
[]
[]
[null,"Home Performance"]
[null,"Product Name","Product Quantity","Measure Code","Elec Util Cust Incentive","Contractor Incentive","Gross kW","Gross kWh","Gross Winter kW","Gross BE kWh","Delta Gross kWh","Net kW","Net kWh","Net Winter kW","Net BE kWh","Delta Net kWh","Total Net kW","Total Net kWh","Total Net Winter kW","Total Net BE kWh",{"$f":"ProposedEquipment0!AH1","v":"Total Delta Net kWh"},{"$f":"ProposedEquipment0!AL1","v":"EE MMBTU Savings"},{"$f":"ProposedEquipment0!AM1","v":"BE MMBTU Savings"},{"$f":"ProposedEquipment0!AN1","v":"Total MMBTU Savings"}]
[null,{"$f":"ProposedEquipment0!E2","v":""},{"$f":"ProposedEquipment0!AU2","v":""},{"$f":"ProposedEquipment0!F2","v":""},{"$f":"ProposedEquipment0!AR2","v":""},{"$f":"ProposedEquipment0!AT2","v":0},{"$f":"ProposedEquipment0!I2","v":""},{"$f":"ProposedEquipment0!J2","v":""},{"$f":"ProposedEquipment0!K2","v":""},{"$f":"ProposedEquipment0!L2","v":""},{"$f":"ProposedEquipment0!M2","v":""},{"$f":"ProposedEquipment0!Y2","v":""},{"$f":"ProposedEquipment0!Z2","v":""},{"$f":"ProposedEquipment0!AA2","v":""},{"$f":"ProposedEquipment0!AB2","v":""},{"$f":"ProposedEquipment0!AC2","v":""},{"$f":"ProposedEquipment0!AD2","v":""},{"$f":"ProposedEquipment0!AE2","v":""},{"$f":"ProposedEquipment0!AF2","v":""},{"$f":"ProposedEquipment0!AG2","v":""},{"$f":"ProposedEquipment0!AH2","v":""},{"$f":"ProposedEquipment0!AL2","v":""},{"$f":"ProposedEquipment0!AM2","v":""},{"$f":"ProposedEquipment0!AN2","v":""}]
[null,{"$f":"ProposedEquipment0!E3","v":""},{"$f":"ProposedEquipment0!AU3","v":""},{"$f":"ProposedEquipment0!F3","v":""},{"$f":"ProposedEquipment0!AR3","v":""},{"$f":"ProposedEquipment0!AT3","v":0},{"$f":"ProposedEquipment0!I3","v":""},{"$f":"ProposedEquipment0!J3","v":""},{"$f":"ProposedEquipment0!K3","v":""},{"$f":"ProposedEquipment0!L3","v":""},{"$f":"ProposedEquipment0!M3","v":""},{"$f":"ProposedEquipment0!Y3","v":""},{"$f":"ProposedEquipment0!Z3","v":""},{"$f":"ProposedEquipment0!AA3","v":""},{"$f":"ProposedEquipment0!AB3","v":""},{"$f":"ProposedEquipment0!AC3","v":""},{"$f":"ProposedEquipment0!AD3","v":""},{"$f":"ProposedEquipment0!AE3","v":""},{"$f":"ProposedEquipment0!AF3","v":""},{"$f":"ProposedEquipment0!AG3","v":""},{"$f":"ProposedEquipment0!AH3","v":""},{"$f":"ProposedEquipment0!AL3","v":""},{"$f":"ProposedEquipment0!AM3","v":""},{"$f":"ProposedEquipment0!AN3","v":""}]
[null,{"$f":"ProposedEquipment0!E4","v":""},{"$f":"ProposedEquipment0!AU4","v":""},{"$f":"ProposedEquipment0!F4","v":""},{"$f":"ProposedEquipment0!AR4","v":""},{"$f":"ProposedEquipment0!AT4","v":0},{"$f":"ProposedEquipment0!I4","v":""},{"$f":"ProposedEquipment0!J4","v":""},{"$f":"ProposedEquipment0!K4","v":""},{"$f":"ProposedEquipment0!L4","v":""},{"$f":"ProposedEquipment0!M4","v":""},{"$f":"ProposedEquipment0!Y4","v":""},{"$f":"ProposedEquipment0!Z4","v":""},{"$f":"ProposedEquipment0!AA4","v":""},{"$f":"ProposedEquipment0!AB4","v":""},{"$f":"ProposedEquipment0!AC4","v":""},{"$f":"ProposedEquipment0!AD4","v":""},{"$f":"ProposedEquipment0!AE4","v":""},{"$f":"ProposedEquipment0!AF4","v":""},{"$f":"ProposedEquipment0!AG4","v":""},{"$f":"ProposedEquipment0!AH4","v":""},{"$f":"ProposedEquipment0!AL4","v":""},{"$f":"ProposedEquipment0!AM4","v":""},{"$f":"ProposedEquipment0!AN4","v":""}]
[null,{"$f":"ProposedEquipment0!E5","v":0},{"$f":"ProposedEquipment0!AU5","v":""},{"$f":"ProposedEquipment0!F5","v":0},{"$f":"ProposedEquipment0!AR5","v":""},{"$f":"ProposedEquipment0!AT5","v":0},{"$f":"ProposedEquipment0!I5","v":0},{"$f":"ProposedEquipment0!J5","v":0},{"$f":"ProposedEquipment0!K5","v":0},{"$f":"ProposedEquipment0!L5","v":""},{"$f":"ProposedEquipment0!M5","v":""},{"$f":"ProposedEquipment0!Y5","v":""},{"$f":"ProposedEquipment0!Z5","v":""},{"$f":"ProposedEquipment0!AA5","v":""},{"$f":"ProposedEquipment0!AB5","v":""},{"$f":"ProposedEquipment0!AC5","v":""},{"$f":"ProposedEquipment0!AD5","v":""},{"$f":"ProposedEquipment0!AE5","v":""},{"$f":"ProposedEquipment0!AF5","v":""},{"$f":"ProposedEquipment0!AG5","v":""},{"$f":"ProposedEquipment0!AH5","v":""},{"$f":"ProposedEquipment0!AL5","v":""},{"$f":"ProposedEquipment0!AM5","v":""},{"$f":"ProposedEquipment0!AN5","v":""}]
[null,{"$f":"ProposedEquipment0!E6","v":0},{"$f":"ProposedEquipment0!AU6","v":""},{"$f":"ProposedEquipment0!F6","v":0},{"$f":"ProposedEquipment0!AR6","v":""},{"$f":"ProposedEquipment0!AT6","v":0},{"$f":"ProposedEquipment0!I6","v":0},{"$f":"ProposedEquipment0!J6","v":0},{"$f":"ProposedEquipment0!K6","v":0},{"$f":"ProposedEquipment0!L6","v":""},{"$f":"ProposedEquipment0!M6","v":""},{"$f":"ProposedEquipment0!Y6","v":""},{"$f":"ProposedEquipment0!Z6","v":""},{"$f":"ProposedEquipment0!AA6","v":""},{"$f":"ProposedEquipment0!AB6","v":""},{"$f":"ProposedEquipment0!AC6","v":""},{"$f":"ProposedEquipment0!AD6","v":""},{"$f":"ProposedEquipment0!AE6","v":""},{"$f":"ProposedEquipment0!AF6","v":""},{"$f":"ProposedEquipment0!AG6","v":""},{"$f":"ProposedEquipment0!AH6","v":""},{"$f":"ProposedEquipment0!AL6","v":""},{"$f":"ProposedEquipment0!AM6","v":""},{"$f":"ProposedEquipment0!AN6","v":""}]
[null,{"$f":"ProposedEquipment0!E7","v":0},{"$f":"ProposedEquipment0!AU7","v":""},{"$f":"ProposedEquipment0!F7","v":0},{"$f":"ProposedEquipment0!AR7","v":""},{"$f":"ProposedEquipment0!AT7","v":0},{"$f":"ProposedEquipment0!I7","v":0},{"$f":"ProposedEquipment0!J7","v":0},{"$f":"ProposedEquipment0!K7","v":0},{"$f":"ProposedEquipment0!L7","v":""},{"$f":"ProposedEquipment0!M7","v":""},{"$f":"ProposedEquipment0!Y7","v":""},{"$f":"ProposedEquipment0!Z7","v":""},{"$f":"ProposedEquipment0!AA7","v":""},{"$f":"ProposedEquipment0!AB7","v":""},{"$f":"ProposedEquipment0!AC7","v":""},{"$f":"ProposedEquipment0!AD7","v":""},{"$f":"ProposedEquipment0!AE7","v":""},{"$f":"ProposedEquipment0!AF7","v":""},{"$f":"ProposedEquipment0!AG7","v":""},{"$f":"ProposedEquipment0!AH7","v":""},{"$f":"ProposedEquipment0!AL7","v":""},{"$f":"ProposedEquipment0!AM7","v":""},{"$f":"ProposedEquipment0!AN7","v":""}]
[null,{"$f":"ProposedEquipment0!E8","v":""},{"$f":"ProposedEquipment0!AU8","v":""},{"$f":"ProposedEquipment0!F8","v":""},{"$f":"ProposedEquipment0!AR8","v":""},{"$f":"ProposedEquipment0!AT8","v":0},{"$f":"ProposedEquipment0!I8","v":""},{"$f":"ProposedEquipment0!J8","v":""},{"$f":"ProposedEquipment0!K8","v":""},{"$f":"ProposedEquipment0!L8","v":""},{"$f":"ProposedEquipment0!M8","v":""},{"$f":"ProposedEquipment0!Y8","v":""},{"$f":"ProposedEquipment0!Z8","v":""},{"$f":"ProposedEquipment0!AA8","v":""},{"$f":"ProposedEquipment0!AB8","v":""},{"$f":"ProposedEquipment0!AC8","v":""},{"$f":"ProposedEquipment0!AD8","v":""},{"$f":"ProposedEquipment0!AE8","v":""},{"$f":"ProposedEquipment0!AF8","v":""},{"$f":"ProposedEquipment0!AG8","v":""},{"$f":"ProposedEquipment0!AH8","v":""},{"$f":"ProposedEquipment0!AL8","v":""},{"$f":"ProposedEquipment0!AM8","v":""},{"$f":"ProposedEquipment0!AN8","v":""}]
[null,{"$f":"ProposedEquipment0!E9","v":0},{"$f":"ProposedEquipment0!AU9","v":""},{"$f":"ProposedEquipment0!F9","v":0},{"$f":"ProposedEquipment0!AR9","v":""},{"$f":"ProposedEquipment0!AT9","v":0},{"$f":"ProposedEquipment0!I9","v":0},{"$f":"ProposedEquipment0!J9","v":0},{"$f":"ProposedEquipment0!K9","v":0},{"$f":"ProposedEquipment0!L9","v":""},{"$f":"ProposedEquipment0!M9","v":""},{"$f":"ProposedEquipment0!Y9","v":""},{"$f":"ProposedEquipment0!Z9","v":""},{"$f":"ProposedEquipment0!AA9","v":""},{"$f":"ProposedEquipment0!AB9","v":""},{"$f":"ProposedEquipment0!AC9","v":""},{"$f":"ProposedEquipment0!AD9","v":""},{"$f":"ProposedEquipment0!AE9","v":""},{"$f":"ProposedEquipment0!AF9","v":""},{"$f":"ProposedEquipment0!AG9","v":""},{"$f":"ProposedEquipment0!AH9","v":""},{"$f":"ProposedEquipment0!AL9","v":""},{"$f":"ProposedEquipment0!AM9","v":""},{"$f":"ProposedEquipment0!AN9","v":""}]
[null,{"$f":"ProposedEquipment0!E10","v":""},{"$f":"ProposedEquipment0!AU10","v":""},{"$f":"ProposedEquipment0!F10","v":""},{"$f":"ProposedEquipment0!AR10","v":""},{"$f":"ProposedEquipment0!AT10","v":0},{"$f":"ProposedEquipment0!I10","v":""},{"$f":"ProposedEquipment0!J10","v":""},{"$f":"ProposedEquipment0!K10","v":""},{"$f":"ProposedEquipment0!L10","v":""},{"$f":"ProposedEquipment0!M10","v":""},{"$f":"ProposedEquipment0!Y10","v":""},{"$f":"ProposedEquipment0!Z10","v":""},{"$f":"ProposedEquipment0!AA10","v":""},{"$f":"ProposedEquipment0!AB10","v":""},{"$f":"ProposedEquipment0!AC10","v":""},{"$f":"ProposedEquipment0!AD10","v":""},{"$f":"ProposedEquipment0!AE10","v":""},{"$f":"ProposedEquipment0!AF10","v":""},{"$f":"ProposedEquipment0!AG10","v":""},{"$f":"ProposedEquipment0!AH10","v":""},{"$f":"ProposedEquipment0!AL10","v":""},{"$f":"ProposedEquipment0!AM10","v":""},{"$f":"ProposedEquipment0!AN10","v":""}]
[null,{"$f":"ProposedEquipment0!E11","v":""},{"$f":"ProposedEquipment0!AU11","v":""},{"$f":"ProposedEquipment0!F11","v":""},{"$f":"ProposedEquipment0!AR11","v":""},{"$f":"ProposedEquipment0!AT11","v":0},{"$f":"ProposedEquipment0!I11","v":""},{"$f":"ProposedEquipment0!J11","v":""},{"$f":"ProposedEquipment0!K11","v":""},{"$f":"ProposedEquipment0!L11","v":""},{"$f":"ProposedEquipment0!M11","v":""},{"$f":"ProposedEquipment0!Y11","v":""},{"$f":"ProposedEquipment0!Z11","v":""},{"$f":"ProposedEquipment0!AA11","v":""},{"$f":"ProposedEquipment0!AB11","v":""},{"$f":"ProposedEquipment0!AC11","v":""},{"$f":"ProposedEquipment0!AD11","v":""},{"$f":"ProposedEquipment0!AE11","v":""},{"$f":"ProposedEquipment0!AF11","v":""},{"$f":"ProposedEquipment0!AG11","v":""},{"$f":"ProposedEquipment0!AH11","v":""},{"$f":"ProposedEquipment0!AL11","v":""},{"$f":"ProposedEquipment0!AM11","v":""},{"$f":"ProposedEquipment0!AN11","v":""}]
[null,{"$f":"ProposedEquipment0!E12","v":""},{"$f":"ProposedEquipment0!AU12","v":""},{"$f":"ProposedEquipment0!F12","v":""},{"$f":"ProposedEquipment0!AR12","v":""},{"$f":"ProposedEquipment0!AT12","v":0},{"$f":"ProposedEquipment0!I12","v":""},{"$f":"ProposedEquipment0!J12","v":""},{"$f":"ProposedEquipment0!K12","v":""},{"$f":"ProposedEquipment0!L12","v":""},{"$f":"ProposedEquipment0!M12","v":""},{"$f":"ProposedEquipment0!Y12","v":""},{"$f":"ProposedEquipment0!Z12","v":""},{"$f":"ProposedEquipment0!AA12","v":""},{"$f":"ProposedEquipment0!AB12","v":""},{"$f":"ProposedEquipment0!AC12","v":""},{"$f":"ProposedEquipment0!AD12","v":""},{"$f":"ProposedEquipment0!AE12","v":""},{"$f":"ProposedEquipment0!AF12","v":""},{"$f":"ProposedEquipment0!AG12","v":""},{"$f":"ProposedEquipment0!AH12","v":""},{"$f":"ProposedEquipment0!AL12","v":""},{"$f":"ProposedEquipment0!AM12","v":""},{"$f":"ProposedEquipment0!AN12","v":""}]
[null,{"$f":"ProposedEquipment0!E13","v":""},{"$f":"ProposedEquipment0!AU13","v":""},{"$f":"ProposedEquipment0!F13","v":""},{"$f":"ProposedEquipment0!AR13","v":""},{"$f":"ProposedEquipment0!AT13","v":0},{"$f":"ProposedEquipment0!I13","v":""},{"$f":"ProposedEquipment0!J13","v":""},{"$f":"ProposedEquipment0!K13","v":""},{"$f":"ProposedEquipment0!L13","v":""},{"$f":"ProposedEquipment0!M13","v":""},{"$f":"ProposedEquipment0!Y13","v":""},{"$f":"ProposedEquipment0!Z13","v":""},{"$f":"ProposedEquipment0!AA13","v":""},{"$f":"ProposedEquipment0!AB13","v":""},{"$f":"ProposedEquipment0!AC13","v":""},{"$f":"ProposedEquipment0!AD13","v":""},{"$f":"ProposedEquipment0!AE13","v":""},{"$f":"ProposedEquipment0!AF13","v":""},{"$f":"ProposedEquipment0!AG13","v":""},{"$f":"ProposedEquipment0!AH13","v":""},{"$f":"ProposedEquipment0!AL13","v":""},{"$f":"ProposedEquipment0!AM13","v":""},{"$f":"ProposedEquipment0!AN13","v":""}]
[null,{"$f":"ProposedEquipment0!E14","v":""},{"$f":"ProposedEquipment0!AU14","v":""},{"$f":"ProposedEquipment0!F14","v":""},{"$f":"ProposedEquipment0!AR14","v":""},{"$f":"ProposedEquipment0!AT14","v":0},{"$f":"ProposedEquipment0!I14","v":""},{"$f":"ProposedEquipment0!J14","v":""},{"$f":"ProposedEquipment0!K14","v":""},{"$f":"ProposedEquipment0!L14","v":""},{"$f":"ProposedEquipment0!M14","v":""},{"$f":"ProposedEquipment0!Y14","v":""},{"$f":"ProposedEquipment0!Z14","v":""},{"$f":"ProposedEquipment0!AA14","v":""},{"$f":"ProposedEquipment0!AB14","v":""},{"$f":"ProposedEquipment0!AC14","v":""},{"$f":"ProposedEquipment0!AD14","v":""},{"$f":"ProposedEquipment0!AE14","v":""},{"$f":"ProposedEquipment0!AF14","v":""},{"$f":"ProposedEquipment0!AG14","v":""},{"$f":"ProposedEquipment0!AH14","v":""},{"$f":"ProposedEquipment0!AL14","v":""},{"$f":"ProposedEquipment0!AM14","v":""},{"$f":"ProposedEquipment0!AN14","v":""}]

{"sheet":"EFS Pre-Approval","index":18,"n_rows":20,"n_cols":8,"rows_kept":20,"cut":false,"hidden":true,"merged":[[19,2,19,3],[17,7,17,8],[17,2,17,3],[5,7,5,8],[7,7,7,8],[9,7,9,8],[15,2,15,3],[9,2,9,3],[7,2,7,3],[5,2,5,3],[15,7,15,8],[11,2,11,3],[11,7,11,8],[13,2,13,3],[13,7,13,8]]}
[1043]
[]
[null,"This form is to be used only for Home Comfort and Home Performance with ENERGY STAR projects where a loan from EFS is to be provided to the customer."]
[null,"Please fill in appropriate project data in grey fields."]
[]
[null,"Customer Name:",{"$f":"IF('Customer Information'!C6=\"\",\"\",'Customer Information'!C6)","v":""},null,null,null,"Application ID:",{"$f":"IF('Customer Information'!L42=\"\",\"\",'Customer Information'!L42)","v":""}]
[]
[null,"Customer Address:",{"$f":"IF('Customer Information'!C7=\"\",\"\",'Customer Information'!C7)","v":""},null,null,null,"Customer City:",{"$f":"IF('Customer Information'!I7=\"\",\"\",'Customer Information'!I7)","v":""}]
[]
[null,"Customer Zip:",{"$f":"IF('Customer Information'!L7=\"\",\"\",'Customer Information'!L7)","v":""},null,null,null,"Contractor:",{"$f":"IF('Customer Information'!C23=\"\",\"\",'Customer Information'!C23)","v":""}]
[]
[null,"Customer Incentive Amount:",{"$f":"(IF(Worksheet!J48=\"\",0,Worksheet!J48)+IF(Worksheet!J87=\"\",0,Worksheet!J87)+IF(Worksheet!J107=\"\",0,Worksheet!J107))+(IF(#REF!=\"\",0,#REF!)+IF('Smart T-Stats'!K33=\"\",0,'Smart T-Stats'!K33)+IF(#REF!=\"\",0,#REF!)+IF(#REF!=\"\",0,#REF!))","v":{"$error":"#REF!"}},null,null,null,"Total Project Cost",{"$f":"(Worksheet!D48+Worksheet!D87+Worksheet!D107)+(Admin!AE4+Admin!AE5+Admin!AE6+Admin!AE7+Admin!AE8+Admin!AE9+Admin!AE10+Admin!AE11+Admin!AE12+Admin!AE13+Admin!AE14+Admin!AE15+Admin!AE16+Admin!AE17+Admin!AE18+Admin!AE19+Admin!AE20+Admin!AE21+Admin!AE22+Admin!AE23+Admin!AE24)","v":0}]
[]
[null,"EFS Project ID Number:",null,null,null,null,"Project Type:"]
[]
[null,"Total Customer Down Payment:",null,null,null,null,"Customer Incentive Type:"]
[]
[null,"Loan Type Requested:",null,null,null,null,"Total Loan Amount*:"]
[null,null,null,null,null,null,"*Indicate if Loan Amount includes \n$150 EFS Fee"]
[null,"Non-Incentive Measure Cost Total:"]

{"sheet":"AIRFLOW FORM","index":19,"n_rows":127,"n_cols":15,"rows_kept":127,"cut":false,"hidden":true,"merged":[[15,12,15,13],[5,7,5,8],[7,7,7,8],[30,2,30,11],[0,0,0,9],[15,4,15,5],[29,0,29,12],[18,0,18,3],[18,12,18,13],[1,0,1,9],[20,0,20,2],[22,4,22,5],[2,0,2,9],[118,13,119,13],[25,4,25,5],[18,4,18,5],[99,4,99,5],[18,6,18,7],[46,4,46,5],[39,8,39,9],[71,4,71,5],[100,0,101,1],[126,3,126,5],[126,6,126,8],[118,5,119,10],[118,12,119,12],[118,0,119,4]]}
[{"$f":"Development!$A$3&\" Residential Efficiency Program\"","v":"2023 Residential Efficiency Program"}]
["Post Installation/Airflow & Refrigerant Charge Form"]
["For Ducted Systems Only"]
["Equipment Data"]
[]
["Unit Number: ",{"$f":"#REF!","v":{"$error":"#REF!"}},null,null,null,null,"Manufacturer",{"$f":"IF(#REF!=\"\",\"\",#REF!)","v":{"$error":"#REF!"}}]
[]
[null,null,null,null,null,null,"Model No.",{"$f":"IF(#REF!=\"\",\"\",#REF!)","v":{"$error":"#REF!"}}]
[]
[null,"Ducts Tested?",null,"Ducts Sealed?"]
[]
["Airflow"]
[]
["Please fill out all of the below fields as applicable for the installation"]
[]
["1. Rated Cooling Capacity (tons):",null,null,null,null,null,{"$f":"IF(OR(E16=\"\"),\"\",'Air Flow References'!C4)","v":""},null,null,null,null,"2. Target Airflow Volume (CFM) PER TON:",null,null,{"$f":"IF(OR(M16=\"\"),\"\",'Air Flow References'!C6)","v":""}]
[]
["Complete field 3a OR field 3b"]
["3a. Static pressure drop in inches of water column W.C. measures across evaporator coil if new installed:",null,null,null,null,null,{"$f":"IF(OR(E19=\"\"),\"\",'Air Flow References'!C5)","v":""},null,"OR",null,null,"3b. External static pressure for fan coil unit:",null,null,{"$f":"IF(OR(M19=\"\"),\"\",'Air Flow References'!C7)","v":""}]
[]
["4. Total Static measured with:"]
[]
["5. CFM Air Flow Estimated from Total Static Measurement:",null,null,null,null,null,{"$f":"IF(OR(E23=\"\"),\"\",'Air Flow References'!C9)","v":""}]
["*If this field contains data, leave True Flow CFM field below blank"]
[]
["6. True Flow CFM measured:",null,null,null,null,null,{"$f":"IF(OR(E26=\"\"),\"\",'Air Flow References'!C8)","v":""}]
["*If this field contains data, no data input is required for field 3a/3b and field 5"]
[]
[]
["Installations must have visible and accessible ports for airflow and temperature measurements. Ports must be sealed with contrasting color plugs. Please indicate"]
["location of test ports:"]
[]
["Notes: "]
["Convert Pascals to inches of WC by dividing pascals by 249.09"]
["Copy of table or graph supplied by manufacturer and used to estimate airflow must be attached to this form."]
[]
[]
["Refrigerant Charge Method"]
[]
["Charging Method Used:"]
[]
["Option 1: SUBCOOLING Notes: Preferred Method. Typical for most Thermal Expansion Valve systems when outdoor temperature is greater than OEM spec. (Typ. 60°F)"]
[]
["Inputs"]
["Refrigerant Type"]
[]
[]
[]
[]
[null,"Required Subcooling:",null,null,null,"°F",{"$f":"IF(OR(E50=\"\"),\"\",'Air Flow References'!C16)","v":""}]
[]
[null,"Outdoor Dry Bulb Temperature:",null,null,null,"°F",{"$f":"IF(OR(E52=\"\"),\"\",'Air Flow References'!C17)","v":""}]
[]
["Measurements"]
[]
["Liquid Line Pressure",null,null,null,null,"psig",{"$f":"IF(OR(E56=\"\"),\"\",'Air Flow References'!C18)","v":""}]
[]
["(F) Saturation temperature for measured pressure",null,null,null,null,"°F",{"$f":"IF(OR(E58=\"\"),\"\",'Air Flow References'!C19)","v":""}]
[]
["(G) Liquid Line temperature",null,null,null,null,"°F",{"$f":"IF(OR(E60=\"\"),\"\",'Air Flow References'!C20)","v":""}]
[]
["*Measured Subcooling (F minus G)",null,null,null,{"$f":"IF(OR(E58=\"\",E60=\"\"),\"\",E58-E60)","v":""},"°F",{"$f":"'Air Flow References'!C21","v":""}]
[]
["*Measured Subcooling must be within 3°F of the manufacturer specified Subcooling."]
[]
["Note: A copy of the documentation of the manufacturer's specified subcooling for the installed equipment must be attached to this form"]
["Option 2: SUPERHEAT Note: Can only be used for fixed orifice systems (Non-TXV) when outdoor temperature is greater than OEM spec. (Type 55°)"]
[]
["Inputs"]
["Refrigerant Type"]
[]
[]
[]
[]
[null,"Manufacturer Specified Superheat",null,null,null,"°F ",{"$f":"IF(OR(E75=\"\"),\"\",'Air Flow References'!C28)","v":""}]
[null,"(from manufacturer service guide or as per manufacturer's specification or cut sheet)"]
[]
[null,"Indoor Wet Bulb Temperature",null,null,null,"°F",{"$f":"IF(OR(E78=\"\"),\"\",'Air Flow References'!C29)","v":""}]
[]
[null,"Outdoor Dry Bulb Temperature",null,null,null,"°F",{"$f":"IF(OR(E80=\"\"),\"\",'Air Flow References'!C30)","v":""}]
[]
[]
["Measurements"]
[]
["Vapor (suction) pressure",null,null,null,null,"psig",{"$f":"IF(OR(E85=\"\"),\"\",'Air Flow References'!C31)","v":""}]
[]
["(D) Saturation temperature for measured pressure",null,null,null,null,"°F",{"$f":"IF(OR(E87=\"\"),\"\",'Air Flow References'!C32)","v":""}]
[]
["(E) Vapor (suction) line temperature near compressor",null,null,null,null,"°F",{"$f":"IF(OR(E89=\"\"),\"\",'Air Flow References'!C33)","v":""}]
[null,null,null,null,null,null,"  "]
["*Measured Superheat (E minus D)",null,null,null,{"$f":"IF(OR(E87=\"\",E89=\"\"),\"\",E89-E87)","v":""},"°F",{"$f":"'Air Flow References'!C34","v":""}]
[]
["*Measured Superheat must be within 5°F of the manufacturer specified Superheat."]
[]
["Note: A copy of the documentation of the manufacturer's specified superheat for the installed equipment must be attached to this form."]
["Option 3: Weigh In (can be used for any system ONLY when outdoor ambient temperature is below OEM specification.):"]
[]
["Refrigerant Type:"]
[]
[null,null,null,null,null,null,"(specify)"]
["Capacity of Refrigerant Shipped With Outdoor Unit:"]
[null,null,null,"lbs.",null,"oz."]
[]
[]
["Does this capacity include an allowance for an evaporator ?"]
[]
[]
["Does this capacity include an allowance for a line set?"]
[]
[]
["Allowed Line Set Length:",null,null,"feet"]
[]
["(A) Suction Line Outside Diameter",null,null,null,"inches","Net length*",null,"feet","x",null,"ounces/foot","=",null,"ounces"]
[]
["(B) Liquid Line Outside Diameter",null,null,null,"inches","Net length*",null,"feet","x",null,"ounces/foot","=",null,"ounces"]
[]
["(C) Driers, Accumulator, and Evaporator Capacities (if not included above):",null,null,null,null,null,null,null,null,null,null,null,null,"ounces"]
[]
["*Net Length = Measured Length Minus (-) Allowed Length",null,null,null,null,"Total charge weighed in (A) + (B) + (C)",null,null,null,null,null,null,{"$f":"IF(AND(M113=\"\",M115=\"\",M117=\"\"),\"\",M113+M115+M117)","v":""},"ounces"]
[]
[]
["Note: Copy of table or graph supplied by manufacturer and used to estimate charge must be attached to this form."]
[]
[]
[]
[]
["Application Version:",null,{"$f":"Development!$A$2","v":"1.0"},null,null,null,null,null,null,null,null,null,null,"Effective:",{"$f":"Development!$A$4","v":"11.14.22"}]

{"sheet":"AIRFLOW FORM 2","index":20,"n_rows":125,"n_cols":15,"rows_kept":125,"cut":false,"hidden":true,"merged":[[29,2,29,11],[21,4,21,5],[45,4,45,5],[17,12,17,13],[17,4,17,5],[19,4,19,5],[24,4,24,5],[28,0,28,12],[38,8,38,9],[0,0,0,9],[1,0,1,9],[14,4,14,5],[14,12,14,13],[17,0,17,3],[4,7,4,8],[6,7,6,8],[8,1,8,2],[9,1,9,2],[117,12,118,12],[117,13,118,13],[124,3,124,5],[124,6,124,8],[70,4,70,5],[98,4,98,5],[117,0,118,4],[117,5,118,10],[99,0,100,1]]}
[{"$f":"Development!$A$3&\" Residential Efficiency Program\"","v":"2023 Residential Efficiency Program"}]
["Post Installation/Airflow & Refrigerant Charge Form"]
["Equipment Data"]
[]
["Unit Number: ",{"$f":"#REF!","v":{"$error":"#REF!"}},null,null,null,null,"Manufacturer",{"$f":"IF(#REF!=\"\",\"\",#REF!)","v":{"$error":"#REF!"}}]
[]
[null,null,null,null,null,null,"Model No.",{"$f":"IF(#REF!=\"\",\"\",#REF!)","v":{"$error":"#REF!"}}]
["For Ducted Systems Only"]
[null,"Ducts Tested?",null,"Ducts Sealed?"]
[]
["Airflow"]
[]
["Please fill out all of the below fields as applicable for the installation"]
[]
["1. Rated Cooling Capacity (tons):",null,null,null,null,null,{"$f":"IF(OR(E15=\"\"),\"\",'Air Flow References'!G4)","v":""},null,null,null,null,"2. Target Airflow Volume (CFM) PER TON:",null,null,{"$f":"IF(OR(M15=\"\"),\"\",'Air Flow References'!G6)","v":""}]
[]
["Complete field 3a OR field 3b"]
["3a. Static pressure drop in inches of water column W.C. measures across evaporator coil if new installed:",null,null,null,null,null,{"$f":"IF(OR(E18=\"\"),\"\",'Air Flow References'!G5)","v":""},null,"OR",null,null,"3b. External static pressure for fan coil unit:",null,null,{"$f":"IF(OR(M18=\"\"),\"\",'Air Flow References'!G7)","v":""}]
[]
["4. Total static measured with:"]
[]
["5. CFM Air Flow Estimated from Total Static Measurement:",null,null,null,null,null,{"$f":"IF(OR(E22=\"\"),\"\",'Air Flow References'!G9)","v":""}]
["*If this field contains data, leave True Flow CFM field below blank"]
[]
["6. True Flow CFM measured:",null,null,null,null,null,{"$f":"IF(OR(E25=\"\"),\"\",'Air Flow References'!G8)","v":""}]
["*If this field contains data, no data input is required for field 3a/3b and field 5"]
[]
[]
["Installations must have visible and accessible ports for airflow and temperature measurements. Ports must be sealed with contrasting color plugs. Please indicate"]
["location of test ports:"]
[]
["Notes: "]
["Convert Pascals to inches of WC by dividing pascals by 249.09"]
["Copy of table or graph supplied by manufacturer and used to estimate airflow must be attached to this form."]
[]
[]
["Refrigerant Charge Method"]
[]
["Charging Method Used:"]
[]
["Option 1: SUBCOOLING Notes: Typical for most Thermal Expansion Valve systems when outdoor temperature is greater than OEM spec. (Typ. 60°F)"]
[]
["Inputs"]
["Refrigerant Type"]
[]
[]
[]
[]
[null,"Required Subcooling:",null,null,null,"°F",{"$f":"IF(OR(E49=\"\"),\"\",'Air Flow References'!G16)","v":""}]
[]
[null,"Outdoor Dry Bulb Temperature:",null,null,null,"°F",{"$f":"IF(OR(E51=\"\"),\"\",'Air Flow References'!G17)","v":""}]
[]
["Measurements"]
[]
["Liquid Line Pressure",null,null,null,null,"psig",{"$f":"IF(OR(E55=\"\"),\"\",'Air Flow References'!G18)","v":""}]
[]
["(F) Saturation temperature for measured pressure",null,null,null,null,"°F",{"$f":"IF(OR(E57=\"\"),\"\",'Air Flow References'!G19)","v":""}]
[]
["(G) Liquid Line temperature",null,null,null,null,"°F",{"$f":"IF(OR(E59=\"\"),\"\",'Air Flow References'!G20)","v":""}]
[]
["*Measured Subcooling (F minus G)",null,null,null,{"$f":"IF(OR(E57=\"\",E59=\"\"),\"\",E57-E59)","v":""},"°F",{"$f":"'Air Flow References'!G21","v":""}]
[]
["*Measured Subcooling must be within 3°F of the manufacturer specified Subcooling."]
[]
["Note: A copy of the documentation of the manufacturer's specified subcooling for the installed equipment must be attached to this form"]
["Option 2: SUPERHEAT Note: Can only be used for fixed orifice systems (Non-TXV) when outdoor temperature is greater than OEM spec. (Type 55°)"]
[]
["Inputs"]
["Refrigerant Type"]
[]
[]
[]
[]
[null,"Manufacturer Specified Superheat",null,null,null,"°F ",{"$f":"IF(OR(E74=\"\"),\"\",'Air Flow References'!G28)","v":""}]
[null,"(from manufacturer service guide or as per manufacturer's specification or cut sheet)"]
[]
[null,"Indoor Wet Bulb Temperature",null,null,null,"°F",{"$f":"IF(OR(E77=\"\"),\"\",'Air Flow References'!G29)","v":""}]
[]
[null,"Outdoor Dry Bulb Temperature",null,null,null,"°F",{"$f":"IF(OR(E79=\"\"),\"\",'Air Flow References'!G30)","v":""}]
[]
[]
["Measurements"]
[]
["Vapor (suction) pressure",null,null,null,null,"psig",{"$f":"IF(OR(E84=\"\"),\"\",'Air Flow References'!G31)","v":""}]
[]
["(D) Saturation temperature for measured pressure",null,null,null,null,"°F",{"$f":"IF(OR(E86=\"\"),\"\",'Air Flow References'!G32)","v":""}]
[]
["(E) Vapor (suction) line temperature near compressor",null,null,null,null,"°F",{"$f":"IF(OR(E88=\"\"),\"\",'Air Flow References'!G33)","v":""}]
[]
["*Measured Superheat (E minus D)",null,null,null,{"$f":"IF(OR(E86=\"\",E88=\"\"),\"\",E88-E86)","v":""},"°F",{"$f":"'Air Flow References'!G34","v":""}]
[]
["*Measured Superheat must be within 5°F of the manufacturer specified Superheat."]
[]
["Note: A copy of the documentation of the manufacturer's specified superheat for the installed equipment must be attached to this form."]
["Option 3: Weigh In (can be used for any system ONLY when outdoor ambient temperature is below OEM specification.):"]
[]
["Refrigerant Type:"]
[]
[null,null,null,null,null,null,"(specify)"]
["Capacity of Refrigerant Shipped With Outdoor Unit:"]
[null,null,null,"lbs.",null,"oz."]
[]
[]
["Does this capacity include an allowance for an evaporator?"]
[]
[]
["Does this capacity include an allowance for a line set?"]
[]
[]
["Allowed Line Set Length:",null,null,"feet"]
[]
["(A) Suction Line Outside Diameter",null,null,null,"inches","Net length*",null,"feet","x",null,"ounces/foot","=",null,"ounces"]
[]
["(B) Liquid Line Outside Diameter",null,null,null,"inches","Net length*",null,"feet","x",null,"ounces/foot","=",null,"ounces"]
[]
["(C) Driers, Accumulator, and Evaporator Capacities (if not included above):",null,null,null,null,null,null,null,null,null,null,null,null,"ounces"]
[]
["*Net Length = Measured Length Minus (-) Allowed Length",null,null,null,null,"Total charge weighed in (A) + (B) + (C)",null,null,null,null,null,null,{"$f":"IF(AND(M112=\"\",M114=\"\",M116=\"\"),\"\",M112+M114+M116)","v":""},"ounces"]
[]
[]
["Note: Copy of table or graph supplied by manufacturer and used to estimate charge must be attached to this form."]
[]
[]
[]
["Application Version:",null,{"$f":"Development!$A$4&\"_\"&Development!$A$2","v":"11.14.22_1.0"},null,null,null,null,null,null,null,null,null,null,"Effective:",{"$f":"Development!$A$4","v":"11.14.22"}]

{"sheet":"AIRFLOW FORM 3","index":21,"n_rows":123,"n_cols":15,"rows_kept":123,"cut":false,"hidden":true,"merged":[[17,12,17,13],[70,4,70,5],[122,3,122,5],[122,6,122,8],[45,4,45,5],[98,4,98,5],[110,7,110,8],[112,7,112,8],[115,5,116,10],[99,0,100,1],[38,8,38,9],[29,2,29,11],[24,4,24,5],[0,0,0,9],[1,0,1,9],[14,4,14,5],[19,4,19,5],[17,6,17,7],[21,4,21,5],[28,0,28,12],[14,12,14,13],[17,0,17,3],[17,4,17,5],[4,7,4,8],[6,7,6,8]]}
[{"$f":"Development!$A$3&\" Residential Efficiency Program\"","v":"2023 Residential Efficiency Program"}]
["Post Installation/Airflow & Refrigerant Charge Form"]
["Equipment Data"]
[]
["Unit Number: ",{"$f":"#REF!","v":{"$error":"#REF!"}},null,null,null,null,"Manufacturer",{"$f":"IF(#REF!=\"\",\"\",#REF!)","v":{"$error":"#REF!"}}]
[]
[null,null,null,null,null,null,"Model No.",{"$f":"IF(#REF!=\"\",\"\",#REF!)","v":{"$error":"#REF!"}}]
["For Ducted Systems Only"]
[null,"Ducts Tested?",null,"Ducts Sealed?"]
[]
["Airflow"]
[]
["Please fill out all of the below fields as applicable for the installation"]
[]
["1. Rated Cooling Capacity (tons):",null,null,null,null,null,{"$f":"IF(OR(E15=\"\"),\"\",'Air Flow References'!K4)","v":""},null,null,null,null,"2. Target Airflow Volume (CFM) PER TON:",null,null,{"$f":"IF(OR(M15=\"\"),\"\",'Air Flow References'!K6)","v":""}]
[]
["Complete field 3a or 3b"]
["3a. Static pressure drop in inches of water column W.C. measures across evaporator coil if new installed:",null,null,null,null,null,{"$f":"IF(OR(E18=\"\"),\"\",'Air Flow References'!K5)","v":""},null,"OR",null,null,"3b. External static pressure for fan coil unit:",null,null,{"$f":"IF(OR(M18=\"\"),\"\",'Air Flow References'!K7)","v":""}]
[]
["4. Total Static measure with:"]
[]
["5. CFM Air Flow Estimated from Total Static Measurement:",null,null,null,null,null,{"$f":"IF(OR(E22=\"\"),\"\",'Air Flow References'!K9)","v":""}]
["If this field contains data, no data input is required for the True Flow CFM field below"]
[]
["6. True Flow CFM measured:",null,null,null,null,null,{"$f":"IF(OR(E25=\"\"),\"\",'Air Flow References'!K8)","v":""}]
["If this field contains data, no data input is required for field 3a/3b and field 5"]
[]
[]
["Installations must have visible and accessible ports for airflow and temperature measurements. Ports must be sealed with contrasting color plugs. Please indicate"]
["location of test ports:"]
[]
["Notes: "]
["Convert Pascals to inches of WC by dividing pascals by 249.09"]
["Copy of table or graph supplied by manufacturer and used to estimate airflow must be attached to this form."]
[]
[]
["Refrigerant Charge Method"]
[]
["Charging Method Used:"]
[]
["Option 1: SUBCOOLING Notes: Typical for most Thermal Expansion Valve systems when outdoor temperature is greater than OEM spec. (Typ. 60°F)"]
[]
["Inputs"]
["Refrigerant Type"]
[]
[]
[]
[]
[null,"Required Subcooling:",null,null,null,"°F",{"$f":"IF(OR(E49=\"\"),\"\",'Air Flow References'!K16)","v":""}]
[]
[null,"Outdoor Dry Bulb Temperature:",null,null,null,"°F",{"$f":"IF(OR(E51=\"\"),\"\",'Air Flow References'!K17)","v":""}]
[]
["Measurements"]
[]
["Liquid Line Pressure",null,null,null,null,"psig",{"$f":"IF(OR(E55=\"\"),\"\",'Air Flow References'!K18)","v":""}]
[]
["(F) Saturation temperature for measured pressure",null,null,null,null,"°F",{"$f":"IF(OR(E57=\"\"),\"\",'Air Flow References'!K19)","v":""}]
[]
["(G) Liquid Line temperature",null,null,null,null,"°F",{"$f":"IF(OR(E59=\"\"),\"\",'Air Flow References'!K20)","v":""}]
[]
["*Measured Subcooling (F minus G)",null,null,null,{"$f":"IF(OR(E57=\"\",E59=\"\"),\"\",E57-E59)","v":""},"°F",{"$f":"'Air Flow References'!K21","v":""}]
[]
["*Measured Subcooling must be within 3°F of the manufacturer specified Subcooling."]
[]
["Note: A copy of the documentation of the manufacturer's specified subcooling for the installed equipment must be attached to this form"]
["Option 2: SUPERHEAT Note: Can only be used for fixed orifice systems (Non-TXV) when outdoor temperature is greater than OEM spec. (Type 55°)"]
[]
["Inputs"]
["Refrigerant Type"]
[]
[]
[]
[]
[null,"Manufacturer Specified Superheat",null,null,null,"°F ",{"$f":"IF(OR(E74=\"\"),\"\",'Air Flow References'!K28)","v":""}]
[null,"(from manufacturer service guide or as per manufacturer's specification or cut sheet)"]
[]
[null,"Indoor Wet Bulb Temperature",null,null,null,"°F",{"$f":"IF(OR(E77=\"\"),\"\",'Air Flow References'!K29)","v":""}]
[]
[null,"Outdoor Dry Bulb Temperature",null,null,null,"°F",{"$f":"IF(OR(E79=\"\"),\"\",'Air Flow References'!K30)","v":""}]
[]
[]
["Measurements"]
[]
["Vapor (suction) pressure",null,null,null,null,"psig",{"$f":"IF(OR(E84=\"\"),\"\",'Air Flow References'!K31)","v":""}]
[]
["(D) Saturation temperature for measured pressure",null,null,null,null,"°F",{"$f":"IF(OR(E86=\"\"),\"\",'Air Flow References'!K32)","v":""}]
[]
["(E) Vapor (suction) line temperature near compressor",null,null,null,null,"°F",{"$f":"IF(OR(E88=\"\"),\"\",'Air Flow References'!K33)","v":""}]
[]
["*Measured Superheat (E minus D)",null,null,null,{"$f":"IF(OR(E86=\"\",E88=\"\"),\"\",E88-E86)","v":""},"°F",{"$f":"'Air Flow References'!K34","v":""}]
[]
["*Measured Superheat must be within 5°F of the manufacturer specified Superheat."]
[]
["Note: A copy of the documentation of the manufacturer's specified superheat for the installed equipment must be attached to this form."]
["Option 3: Weigh in (Can be used for any system ONLY when outdoor ambient temperature is below OEM specifications):"]
[]
["Refrigerant Type:"]
[]
[null,null,null,null,null,null,"(specify)"]
["Capacity of Refrigerant Shipped With Outdoor Unit:"]
[null,null,null,"lbs.",null,"oz."]
[]
[]
["Does this capacity include an allowance for an evaportator?"]
[]
["Does this capacity include an allowance for a line set?"]
[]
[]
["Allowed Line Set Length:",null,null,"feet"]
[]
["(A) Suction Line Outside Diameter",null,null,null,"inches","Net length*",null," x",null,null,"ounces/foot","=",null,"ounces"]
[]
["(B) Liquid Line Outside Diameter",null,null,null,"inches","Net length*",null,"x",null,null,"ounces/foot","=",null,"ounces"]
[]
["(C) Driers, Accumulator, and Evaporator Capcities (if not included above)",null,null,null,null,null,null,null,null,null,null,null,null,"ounces"]
[null,null,null,null,null,"Total charge weighed in (A) + (B) + (C) "]
[null,"*Net Length = Measured Length Minus (-) Allowed Length",null,null,null,null,null,null,null,null,null,null,{"$f":"IF(AND(M85=\"\",M87=\"\",M89=\"\"),\"\",M85+M87+M89)","v":""},"ounces"]
[]
["Note: Copy of table or graph supplied by manufacturer and used to estimate charge must be attached to this form."]
[]
[]
[]
["Application Version:",null,{"$f":"Development!$A$4&\"_\"&Development!$A$2","v":"11.14.22_1.0"},null,null,null,null,null,null,null,null,null,null,"Effective:",{"$f":"Development!$A$4","v":"11.14.22"}]

{"sheet":"AIRFLOW FORM 4","index":22,"n_rows":125,"n_cols":15,"rows_kept":125,"cut":false,"hidden":true,"merged":[[117,12,118,12],[117,13,118,13],[70,4,70,5],[44,4,44,5],[98,4,98,5],[117,0,118,4],[117,5,118,10],[99,0,100,1],[19,4,19,5],[17,12,17,13],[21,4,21,5],[28,0,28,12],[37,8,37,9],[29,2,29,11],[24,4,24,5],[0,0,0,9],[1,0,1,9],[14,4,14,5],[14,12,14,13],[17,0,17,3],[17,4,17,5],[4,7,4,8],[6,7,6,8]]}
[{"$f":"Development!$A$3&\" Residential Efficiency Program\"","v":"2023 Residential Efficiency Program"}]
["Post Installation/Airflow & Refrigerant Charge Form"]
["Equipment Data"]
[]
["Unit Number: ",{"$f":"#REF!","v":{"$error":"#REF!"}},null,null,null,null,"Manufacturer",{"$f":"IF(#REF!=\"\",\"\",#REF!)","v":{"$error":"#REF!"}}]
[]
[null,null,null,null,null,null,"Model No.",{"$f":"IF(#REF!=\"\",\"\",#REF!)","v":{"$error":"#REF!"}}]
["For Ducted Systems Only"]
[null,"Ducts Tested?",null,"Ducts Sealed?"]
[]
["Airflow"]
[]
["Please fill out all of the below fields as applicable for the installation"]
[]
["1. Rated Cooling Capacity (tons):",null,null,null,null,null,{"$f":"IF(OR(E15=\"\"),\"\",'Air Flow References'!P4)","v":""},null,null,null,null,"2. Target Airflow Volume (CFM) PER TON:",null,null,{"$f":"IF(OR(M15=\"\"),\"\",'Air Flow References'!P6)","v":""}]
[]
["Complete field 3a or 3b"]
["3a. Static pressure drop in inches of water column W.C. measures across evaporator coil if new installed:",null,null,null,null,null,{"$f":"IF(OR(E18=\"\"),\"\",'Air Flow References'!P5)","v":""},null,"OR",null,null,"3b. External static pressure for fan coil unit:",null,null,{"$f":"IF(OR(M18=\"\"),\"\",'Air Flow References'!P7)","v":""}]
[]
["4. Total Static measured with:"]
[]
["5. CFM Air Flow Estimated from Total Static Measurement:",null,null,null,null,null,{"$f":"IF(OR(E22=\"\"),\"\",'Air Flow References'!P9)","v":""}]
["If this field contains data, no data input is required for the True Flow CFM field below"]
[]
["6. True Flow CFM measured:",null,null,null,null,null,{"$f":"IF(OR(E25=\"\"),\"\",'Air Flow References'!P8)","v":""}]
["If this field contains data, no data input is required for field 3a/3b and field 5"]
[]
[]
["Installations must have visible and accessible ports for airflow and temperature measurements. Ports must be sealed with contrasting color plugs. Please indicate"]
["location of test ports:"]
[]
["Notes: "]
["Convert Pascals to inches of WC by dividing pascals by 249.09"]
["Copy of table or graph supplied by manufacturer and used to estimate airflow must be attached to this form."]
[]
["Refrigerant Charge Method"]
[]
["Charging Method Used:"]
[]
["Option 1: SUBCOOLING Notes: Typical for most Thermal Expansion Valve systems when outdoor temperature is greater than OEM spec. (Typ. 60°F)"]
[]
["Inputs"]
["Refrigerant Type"]
[]
[]
[]
[]
[]
[null,"Required Subcooling:",null,null,null,"°F",{"$f":"IF(OR(E49=\"\"),\"\",'Air Flow References'!P16)","v":""}]
[]
[null,"Outdoor Dry Bulb Temperature:",null,null,null,"°F",{"$f":"IF(OR(E51=\"\"),\"\",'Air Flow References'!P17)","v":""}]
[]
["Measurements"]
[]
["Liquid Line Pressure",null,null,null,null,"psig",{"$f":"IF(OR(E55=\"\"),\"\",'Air Flow References'!P18)","v":""}]
[]
["(F) Saturation temperature for measured pressure",null,null,null,null,"°F",{"$f":"IF(OR(E57=\"\"),\"\",'Air Flow References'!P19)","v":""}]
[]
["(G) Liquid Line temperature",null,null,null,null,"°F",{"$f":"IF(OR(E59=\"\"),\"\",'Air Flow References'!P20)","v":""}]
[]
["*Measured Subcooling (F minus G)",null,null,null,{"$f":"IF(OR(E57=\"\",E59=\"\"),\"\",E57-E59)","v":""},"°F",{"$f":"'Air Flow References'!P21","v":""}]
[]
["*Measured Subcooling must be within 3°F of the manufacturer specified Subcooling."]
[]
["Note: A copy of the documentation of the manufacturer's specified subcooling for the installed equipment must be attached to this form"]
["Option 2: SUPERHEAT Note: Can only be used for fixed orifice systems (Non-TXV) when outdoor temperature is greater than OEM spec. (Type 55°)"]
[]
["Inputs"]
["Refrigerant Type"]
[]
[]
[]
[]
[null,"Manufacturer Specified Superheat",null,null,null,"°F ",{"$f":"IF(OR(E74=\"\"),\"\",'Air Flow References'!P28)","v":""}]
[null,"(from manufacturer service guide or as per manufacturer's specification or cut sheet)"]
[]
[null,"Indoor Wet Bulb Temperature",null,null,null,"°F",{"$f":"IF(OR(E77=\"\"),\"\",'Air Flow References'!P29)","v":""}]
[]
[null,"Outdoor Dry Bulb Temperature",null,null,null,"°F",{"$f":"IF(OR(E79=\"\"),\"\",'Air Flow References'!P30)","v":""}]
[]
[]
["Measurements"]
[]
["Vapor (suction) pressure",null,null,null,null,"psig",{"$f":"IF(OR(E84=\"\"),\"\",'Air Flow References'!P31)","v":""}]
[]
["(D) Saturation temperature for measured pressure",null,null,null,null,"°F",{"$f":"IF(OR(E86=\"\"),\"\",'Air Flow References'!P32)","v":""}]
[]
["(E) Vapor (suction) line temperature near compressor",null,null,null,null,"°F",{"$f":"IF(OR(E88=\"\"),\"\",'Air Flow References'!P33)","v":""}]
[]
["*Measured Superheat (E minus D)",null,null,null,{"$f":"IF(OR(E86=\"\",E88=\"\"),\"\",E88-E86)","v":""},"°F",{"$f":"'Air Flow References'!P34","v":""}]
[]
["*Measured Superheat must be within 5°F of the manufacturer specified Superheat."]
[]
["Note: A copy of the documentation of the manufacturer's specified superheat for the installed equipment must be attached to this form."]
["Option 3: Weigh In (can be used for any system ONLY when outdoor ambient temperature is below OEM specification.):"]
[]
["Refrigerant Type:"]
[]
[null,null,null,null,null,null,"(specify)"]
["Capacity of Refrigerant Shipped With Outdoor Unit:"]
[null,null,null,"lbs.",null,"oz."]
[]
[]
["Does this capacity include an allowance for an evaporator?"]
[]
[]
["Does this capacity include an allowance for a line set?"]
[]
[]
["Allowed Line Set Length:",null,null,"feet"]
[]
["(A) Suction Line Outside Diameter",null,null,null,"inches","Net length*",null,"feet","x",null,"ounces/foot","=",null,"ounces"]
[]
["(B) Liquid Line Outside Diameter",null,null,null,"inches","Net length*",null,"feet","x",null,"ounces/foot","=",null,"ounces"]
[]
["(C) Driers, Accumulator, and Evaporator Capacities (if not included above):",null,null,null,null,null,null,null,null,null,null,null,null,"ounces"]
[]
["*Net Length = Measured Length Minus (-) Allowed Length",null,null,null,null,"Total charge weighed in (A) + (B) + (C)",null,null,null,null,null,null,{"$f":"IF(AND(M112=\"\",M114=\"\",M116=\"\"),\"\",M112+M114+M116)","v":""},"ounces"]
[]
[]
["Note: Copy of table or graph supplied by manufacturer and used to estimate charge must be attached to this form."]
[]
[]
[]
["Application Version:",null,{"$f":"Development!$A$4&\"_\"&Development!$A$2","v":"11.14.22_1.0"},null,null,null,null,null,null,null,null,null,"Effective:",{"$f":"Development!A4","v":"11.14.22"}]

{"sheet":"AIRFLOW FORM 5","index":23,"n_rows":125,"n_cols":15,"rows_kept":125,"cut":false,"hidden":true,"merged":[[29,2,29,11],[24,4,24,5],[124,3,124,5],[124,6,124,8],[44,4,44,5],[98,4,98,5],[117,0,118,4],[117,5,118,10],[99,0,100,1],[117,12,118,12],[117,13,118,13],[70,4,70,5],[0,0,0,9],[1,0,1,9],[14,4,14,5],[14,12,14,13],[17,0,17,3],[17,4,17,5],[4,2,4,3],[4,7,4,8],[6,7,6,8],[17,12,17,13],[21,4,21,5],[28,0,28,12],[37,8,37,9]]}
[{"$f":"Development!$A$3&\" Residential Efficiency Program\"","v":"2023 Residential Efficiency Program"}]
["Post Installation/Airflow & Refrigerant Charge Form"]
["Equipment Data"]
[]
["Unit Number: ",{"$f":"#REF!","v":{"$error":"#REF!"}},null,null,null,null,"Manufacturer",{"$f":"IF(#REF!=\"\",\"\",#REF!)","v":{"$error":"#REF!"}}]
[]
[null,null,null,null,null,null,"Model No.",{"$f":"IF(#REF!=\"\",\"\",#REF!)","v":{"$error":"#REF!"}}]
["For Ducted Systems Only"]
[null,"Ducts Tested?",null,"Ducts Sealed?"]
[]
["Airflow"]
[]
["Please fill out all of the below fields as applicable for the installation"]
[]
["1. Rated Cooling Capacity (tons):",null,null,null,null,null,{"$f":"IF(OR(E15=\"\"),\"\",'Air Flow References'!U4)","v":""},null,null,null,null,"2. Target Airflow Volume (CFM) PER TON:",null,null,{"$f":"IF(OR(M15=\"\"),\"\",'Air Flow References'!U6)","v":""}]
[]
["Complete field 3a or 3b"]
["3a. Static pressure drop in inches of water column W.C. measures across evaporator coil if new installed:",null,null,null,null,null,{"$f":"IF(OR(E18=\"\"),\"\",'Air Flow References'!U5)","v":""},null,"OR",null,null,"3b. External static pressure for fan coil unit:",null,null,{"$f":"IF(OR(M18=\"\"),\"\",'Air Flow References'!U7)","v":""}]
[]
["4. Total Static measured with:"]
[]
["5. CFM Air Flow Estimated from Total Static Measurement:",null,null,null,null,null,{"$f":"IF(OR(E22=\"\"),\"\",'Air Flow References'!U9)","v":""}]
["If this field contains data, no data input is required for the True Flow CFM field below"]
[]
["6. True Flow CFM measured:",null,null,null,null,null,{"$f":"IF(OR(E25=\"\"),\"\",'Air Flow References'!U8)","v":""}]
["If this field contains data, no data input is required for field 3a/3b and field 5"]
[]
[]
["Installations must have visible and accessible ports for airflow and temperature measurements. Ports must be sealed with contrasting color plugs. Please indicate"]
["location of test ports:"]
[]
["Notes: "]
["Convert Pascals to inches of WC by dividing pascals by 249.09"]
["Copy of table or graph supplied by manufacturer and used to estimate airflow must be attached to this form."]
[]
["Refrigerant Charge Method"]
[]
["Charging Method Used:"]
[]
["Option 1: SUBCOOLING Notes: Typical for most Thermal Expansion Valve systems when outdoor temperature is greater than OEM spec. (Typ. 60°F)"]
[]
["Inputs"]
["Refrigerant Type"]
[]
[]
[]
[]
[]
[null,"Required Subcooling:",null,null,null,"°F",{"$f":"IF(OR(E49=\"\"),\"\",'Air Flow References'!U16)","v":""}]
[]
[null,"Outdoor Dry Bulb Temperature:",null,null,null,"°F",{"$f":"IF(OR(E51=\"\"),\"\",'Air Flow References'!U17)","v":""}]
[]
["Measurements"]
[]
["Liquid Line Pressure",null,null,null,null,"psig",{"$f":"IF(OR(E55=\"\"),\"\",'Air Flow References'!U18)","v":""}]
[]
["(F) Saturation temperature for measured pressure",null,null,null,null,"°F",{"$f":"IF(OR(E57=\"\"),\"\",'Air Flow References'!U19)","v":""}]
[]
["(G) Liquid Line temperature",null,null,null,null,"°F",{"$f":"IF(OR(E59=\"\"),\"\",'Air Flow References'!U20)","v":""}]
[]
["*Measured Subcooling (F minus G)",null,null,null,{"$f":"IF(OR(E57=\"\",E59=\"\"),\"\",E57-E59)","v":""},"°F",{"$f":"'Air Flow References'!U21","v":""}]
[]
["*Measured Subcooling must be within 3°F of the manufacturer specified Subcooling."]
[]
["Note: A copy of the documentation of the manufacturer's specified subcooling for the installed equipment must be attached to this form"]
["Option 2: SUPERHEAT Note: Can only be used for fixed orifice systems (Non-TXV) when outdoor temperature is greater than OEM spec. (Type 55°)"]
[]
["Inputs"]
["Refrigerant Type"]
[]
[]
[]
[]
[null,"Manufacturer Specified Superheat",null,null,null,"°F ",{"$f":"IF(OR(E74=\"\"),\"\",'Air Flow References'!U28)","v":""}]
[null,"(from manufacturer service guide or as per manufacturer's specification or cut sheet)"]
[]
[null,"Indoor Wet Bulb Temperature",null,null,null,"°F",{"$f":"IF(OR(E77=\"\"),\"\",'Air Flow References'!U29)","v":""}]
[]
[null,"Outdoor Dry Bulb Temperature",null,null,null,"°F",{"$f":"IF(OR(E79=\"\"),\"\",'Air Flow References'!U30)","v":""}]
[]
[]
["Measurements"]
[]
["Vapor (suction) pressure",null,null,null,null,"psig",{"$f":"IF(OR(E84=\"\"),\"\",'Air Flow References'!U31)","v":""}]
[]
["(D) Saturation temperature for measured pressure",null,null,null,null,"°F",{"$f":"IF(OR(E86=\"\"),\"\",'Air Flow References'!U32)","v":""}]
[]
["(E) Vapor (suction) line temperature near compressor",null,null,null,null,"°F",{"$f":"IF(OR(E88=\"\"),\"\",'Air Flow References'!U33)","v":""}]
[]
["*Measured Superheat (E minus D)",null,null,null,{"$f":"IF(OR(E86=\"\",E88=\"\"),\"\",E88-E86)","v":""},"°F",{"$f":"'Air Flow References'!U34","v":""}]
[]
["*Measured Superheat must be within 5°F of the manufacturer specified Superheat."]
[]
["Note: A copy of the documentation of the manufacturer's specified superheat for the installed equipment must be attached to this form."]
["Option 3: Weigh In (can be used for any system ONLY when outdoor ambient temperature is below OEM specification.):"]
[]
["Refrigerant Type:"]
[]
[null,null,null,null,null,null,"(specify)"]
["Capacity of Refrigerant Shipped With Outdoor Unit:"]
[null,null,null,"lbs.",null,"oz."]
[]
[]
["Does this capacity include an allowance for an evaporator?"]
[]
[]
["Does this capacity include an allowance for a line set?"]
[]
[]
["Allowed Line Set Length:",null,null,"feet"]
[]
["(A) Suction Line Outside Diameter",null,null,null,"inches","Net length*",null,"feet","x",null,"ounces/foot","=",null,"ounces"]
[]
["(B) Liquid Line Outside Diameter",null,null,null,"inches","Net length*",null,"feet","x",null,"ounces/foot","=",null,"ounces"]
[]
["(C) Driers, Accumulator, and Evaporator Capacities (if not included above):",null,null,null,null,null,null,null,null,null,null,null,null,"ounces"]
[]
["*Net Length = Measured Length Minus (-) Allowed Length",null,null,null,null,"Total charge weighed in (A) + (B) + (C)",null,null,null,null,null,null,{"$f":"IF(AND(M112=\"\",M114=\"\",M116=\"\"),\"\",M112+M114+M116)","v":""},"ounces"]
[]
[]
[]
[]
[]
["Note: Copy of table or graph supplied by manufacturer and used to estimate charge must be attached to this form."]
["Application Version:",null,{"$f":"Development!$A$4&\"_\"&Development!$A$2","v":"11.14.22_1.0"},null,null,null,null,null,null,null,null,null,null,"Effective:",{"$f":"Development!$A$4","v":"11.14.22"}]

{"sheet":"AIRFLOW FORM 6","index":24,"n_rows":124,"n_cols":15,"rows_kept":124,"cut":false,"hidden":true,"merged":[[117,12,118,12],[117,13,118,13],[70,4,70,5],[123,3,123,5],[123,6,123,8],[98,4,98,5],[117,0,118,4],[117,5,118,10],[99,0,100,1],[21,4,21,5],[28,0,28,12],[29,2,29,11],[37,8,37,9],[44,4,44,5],[24,4,24,5],[14,4,14,5],[14,12,14,13],[17,0,17,3],[17,4,17,5],[17,12,17,13],[0,0,0,9],[1,0,1,9],[4,2,4,3],[4,7,4,8],[6,7,6,8]]}
[{"$f":"Development!$A$3&\" Residential Efficiency Program\"","v":"2023 Residential Efficiency Program"}]
["Post Installation/Airflow & Refrigerant Charge Form"]
["Equipment Data"]
[]
["Unit Number: ",{"$f":"#REF!","v":{"$error":"#REF!"}},null,null,null,null,"Manufacturer",{"$f":"IF(#REF!=\"\",\"\",#REF!)","v":{"$error":"#REF!"}}]
[]
[null,null,null,null,null,null,"Model No.",{"$f":"IF(#REF!=\"\",\"\",#REF!)","v":{"$error":"#REF!"}}]
["For Ducted Systems Only"]
[null,"Ducts Tested?",null,"Ducts Sealed?"]
[]
["Airflow"]
[]
["Please fill out all of the below fields as applicable for the installation"]
[]
["1. Rated Cooling Capacity (tons):",null,null,null,null,null,{"$f":"IF(OR(E15=\"\"),\"\",'Air Flow References'!Z4)","v":""},null,null,null,null,"2. Target Airflow Volume (CFM) PER TON:",null,null,{"$f":"IF(OR(M15=\"\"),\"\",'Air Flow References'!Z6)","v":""}]
[]
["Complete field 3a or 3b"]
["3a. Static pressure drop in inches of water column W.C. measures across evaporator coil if new installed:",null,null,null,null,null,{"$f":"IF(OR(E18=\"\"),\"\",'Air Flow References'!Z5)","v":""},"OR",null,null,null,"3b. External static pressure for fan coil unit:",null,null,{"$f":"IF(OR(M18=\"\"),\"\",'Air Flow References'!Z7)","v":""}]
[]
["4. Total Static measured with:"]
[]
["5. CFM Air Flow Estimated from Total Static Measurement:",null,null,null,null,null,{"$f":"IF(OR(E22=\"\"),\"\",'Air Flow References'!Z9)","v":""}]
["If this field contains data, no data input is required for the True Flow CFM field below"]
[]
["6. True Flow CFM measured:",null,null,null,null,null,{"$f":"IF(OR(E25=\"\"),\"\",'Air Flow References'!Z8)","v":""}]
["If this field contains data, no data input is required for field 3a/3b and field 5"]
[]
[]
["Installations must have visible and accessible ports for airflow and temperature measurements. Ports must be sealed with contrasting color plugs. Please indicate"]
["location of test ports:"]
[]
["Notes: "]
["Convert Pascals to inches of WC by dividing pascals by 249.09"]
["Copy of table or graph supplied by manufacturer and used to estimate airflow must be attached to this form."]
[]
["Refrigerant Charge Method"]
[]
["Charging Method Used:"]
[]
["Option 1: SUBCOOLING Notes: Typical for most Thermal Expansion Valve systems when outdoor temperature is greater than OEM spec. (Typ. 60°F)"]
[]
["Inputs"]
["Refrigerant Type"]
[]
[]
[]
[]
[]
[null,"Required Subcooling:",null,null,null,"°F",{"$f":"IF(OR(E49=\"\"),\"\",'Air Flow References'!Z16)","v":""}]
[]
[null,"Outdoor Dry Bulb Temperature:",null,null,null,"°F",{"$f":"IF(OR(E51=\"\"),\"\",'Air Flow References'!Z17)","v":""}]
[]
["Measurements"]
[]
["Liquid Line Pressure",null,null,null,null,"psig",{"$f":"IF(OR(E55=\"\"),\"\",'Air Flow References'!Z18)","v":""}]
[]
["(F) Saturation temperature for measured pressure",null,null,null,null,"°F",{"$f":"IF(OR(E57=\"\"),\"\",'Air Flow References'!Z19)","v":""}]
[]
["(G) Liquid Line temperature",null,null,null,null,"°F",{"$f":"IF(OR(E59=\"\"),\"\",'Air Flow References'!Z20)","v":""}]
[]
["*Measured Subcooling (F minus G)",null,null,null,{"$f":"IF(OR(E57=\"\",E59=\"\"),\"\",E57-E59)","v":""},"°F",{"$f":"'Air Flow References'!Z21","v":""}]
[]
["*Measured Subcooling must be within 3°F of the manufacturer specified Subcooling."]
[]
["Note: A copy of the documentation of the manufacturer's specified subcooling for the installed equipment must be attached to this form"]
["Option 2: SUPERHEAT Note: Can only be used for fixed orifice systems (Non-TXV) when outdoor temperature is greater than OEM spec. (Type 55°)"]
[]
["Inputs"]
["Refrigerant Type"]
[]
[]
[]
[]
[null,"Manufacturer Specified Superheat",null,null,null,"°F ",{"$f":"IF(OR(E74=\"\"),\"\",'Air Flow References'!Z28)","v":""}]
[null,"(from manufacturer service guide or as per manufacturer's specification or cut sheet)"]
[]
[null,"Indoor Wet Bulb Temperature",null,null,null,"°F",{"$f":"IF(OR(E77=\"\"),\"\",'Air Flow References'!Z29)","v":""}]
[]
[null,"Outdoor Dry Bulb Temperature",null,null,null,"°F",{"$f":"IF(OR(E79=\"\"),\"\",'Air Flow References'!Z30)","v":""}]
[]
[]
["Measurements"]
[]
["Vapor (suction) pressure",null,null,null,null,"psig",{"$f":"IF(OR(E84=\"\"),\"\",'Air Flow References'!Z31)","v":""}]
[]
["(D) Saturation temperature for measured pressure",null,null,null,null,"°F",{"$f":"IF(OR(E86=\"\"),\"\",'Air Flow References'!Z32)","v":""}]
[]
["(E) Vapor (suction) line temperature near compressor",null,null,null,null,"°F",{"$f":"IF(OR(E88=\"\"),\"\",'Air Flow References'!Z33)","v":""}]
[]
["*Measured Superheat (E minus D)",null,null,null,{"$f":"IF(OR(E86=\"\",E88=\"\"),\"\",E88-E86)","v":""},"°F",{"$f":"'Air Flow References'!Z34","v":""}]
[]
["*Measured Superheat must be within 5°F of the manufacturer specified Superheat."]
[]
["Note: A copy of the documentation of the manufacturer's specified superheat for the installed equipment must be attached to this form."]
["Option 3: Weigh In (can be used for any system ONLY when outdoor ambient temperature is below OEM specification.):"]
[]
["Refrigerant Type:"]
[]
[null,null,null,null,null,null,"(specify)"]
["Capacity of Refrigerant Shipped With Outdoor Unit:"]
[null,null,null,"lbs.",null,"oz."]
[]
[]
["Does this capacity include an allowance for an evaporator?"]
[]
[]
["Does this capacity include an allowance for a line set?"]
[]
[]
["Allowed Line Set Length:",null,null,"feet"]
[]
["(A) Suction Line Outside Diameter",null,null,null,"inches","Net length*",null,"feet","x",null,"ounces/foot","=",null,"ounces"]
[]
["(B) Liquid Line Outside Diameter",null,null,null,"inches","Net length*",null,"feet","x",null,"ounces/foot","=",null,"ounces"]
[]
["(C) Driers, Accumulator, and Evaporator Capacities (if not included above):",null,null,null,null,null,null,null,null,null,null,null,null,"ounces"]
[]
["*Net Length = Measured Length Minus (-) Allowed Length",null,null,null,null,"Total charge weighed in (A) + (B) + (C)",null,null,null,null,null,null,{"$f":"IF(AND(M112=\"\",M114=\"\",M116=\"\"),\"\",M112+M114+M116)","v":""},"ounces"]
[]
[]
[]
[]
["Note: Copy of table or graph supplied by manufacturer and used to estimate charge must be attached to this form."]
["Application Version:",null,{"$f":"Development!$A$4&\"_\"&Development!$A$2","v":"11.14.22_1.0"},null,null,null,null,null,null,null,null,null,null,"Effective:",{"$f":"Development!$A$4","v":"11.14.22"}]

{"sheet":"AIRFLOW FORM 7","index":25,"n_rows":125,"n_cols":15,"rows_kept":125,"cut":false,"hidden":true,"merged":[[117,12,118,12],[117,13,118,13],[70,4,70,5],[98,4,98,5],[117,0,118,4],[117,5,118,10],[99,0,100,1],[21,4,21,5],[28,0,28,12],[29,2,29,11],[37,8,37,9],[44,4,44,5],[24,4,24,5],[14,4,14,5],[14,12,14,13],[17,0,17,3],[17,4,17,5],[17,12,17,13],[0,0,0,9],[1,0,1,9],[4,2,4,3],[4,7,4,8],[6,7,6,8]]}
[{"$f":"Development!$A$3&\" Residential Efficiency Program\"","v":"2023 Residential Efficiency Program"}]
["Post Installation/Airflow & Refrigerant Charge Form"]
["Equipment Data"]
[]
["Unit Number: ",{"$f":"#REF!","v":{"$error":"#REF!"}},null,null,null,null,"Manufacturer",{"$f":"IF(#REF!=\"\",\"\",#REF!)","v":{"$error":"#REF!"}}]
[]
[null,null,null,null,null,null,"Model No.",{"$f":"IF(#REF!=\"\",\"\",#REF!)","v":{"$error":"#REF!"}}]
["For Ducted Systems Only"]
[null,"Ducts Tested?",null,"Ducts Sealed?"]
[]
["Airflow"]
[]
["Please fill out all of the below fields as applicable for the installation"]
[]
["1. Rated Cooling Capacity (tons):",null,null,null,null,null,{"$f":"IF(OR(E15=\"\"),\"\",'Air Flow References'!AE4)","v":""},null,null,null,null,"2. Target Airflow Volume (CFM) PER TON:",null,null,{"$f":"IF(OR(M15=\"\"),\"\",'Air Flow References'!AE6)","v":""}]
[]
["Complete field 3a or 3b"]
["3a. Static pressure drop in inches of water column W.C. measures across evaporator coil if new installed:",null,null,null,null,null,{"$f":"IF(OR(E18=\"\"),\"\",'Air Flow References'!AE5)","v":""},null,"OR",null,null,"3b. External static pressure for fan coil unit:",null,null,{"$f":"IF(OR(M18=\"\"),\"\",'Air Flow References'!AE7)","v":""}]
[]
["4. Total Static measured with:"]
[]
["5. CFM Air Flow Estimated from Total Static Measurement:",null,null,null,null,null,{"$f":"IF(OR(E22=\"\"),\"\",'Air Flow References'!AE9)","v":""}]
["If this field contains data, no data input is required for the True Flow CFM field below"]
[]
["6. True Flow CFM measured:",null,null,null,null,null,{"$f":"IF(OR(E25=\"\"),\"\",'Air Flow References'!AE8)","v":""}]
["If this field contains data, no data input is required for field 3a/3b and field 5"]
[]
[]
["Installations must have visible and accessible ports for airflow and temperature measurements. Ports must be sealed with contrasting color plugs. Please indicate"]
["location of test ports:"]
[]
["Notes: "]
["Convert Pascals to inches of WC by dividing pascals by 249.09"]
["Copy of table or graph supplied by manufacturer and used to estimate airflow must be attached to this form."]
[]
["Refrigerant Charge Method"]
[]
["Charging Method Used:"]
[]
["Option 1: SUBCOOLING Notes: Typical for most Thermal Expansion Valve systems when outdoor temperature is greater than OEM spec. (Typ. 60°F)"]
[]
["Inputs"]
["Refrigerant Type"]
[]
[]
[]
[]
[]
[null,"Required Subcooling:",null,null,null,"°F",{"$f":"IF(OR(E49=\"\"),\"\",'Air Flow References'!AE16)","v":""}]
[]
[null,"Outdoor Dry Bulb Temperature:",null,null,null,"°F",{"$f":"IF(OR(E51=\"\"),\"\",'Air Flow References'!AE17)","v":""}]
[]
["Measurements"]
[]
["Liquid Line Pressure",null,null,null,null,"psig",{"$f":"IF(OR(E55=\"\"),\"\",'Air Flow References'!AE18)","v":""}]
[]
["(F) Saturation temperature for measured pressure",null,null,null,null,"°F",{"$f":"IF(OR(E57=\"\"),\"\",'Air Flow References'!AE19)","v":""}]
[]
["(G) Liquid Line temperature",null,null,null,null,"°F",{"$f":"IF(OR(E59=\"\"),\"\",'Air Flow References'!AE20)","v":""}]
[]
["*Measured Subcooling (F minus G)",null,null,null,{"$f":"IF(OR(E57=\"\",E59=\"\"),\"\",E57-E59)","v":""},"°F",{"$f":"'Air Flow References'!AE21","v":""}]
[]
["*Measured Subcooling must be within 3°F of the manufacturer specified Subcooling."]
[]
["Note: A copy of the documentation of the manufacturer's specified subcooling for the installed equipment must be attached to this form"]
["Option 2: SUPERHEAT Note: Can only be used for fixed orifice systems (Non-TXV) when outdoor temperature is greater than OEM spec. (Type 55°)"]
[]
["Inputs"]
["Refrigerant Type"]
[]
[]
[]
[]
[null,"Manufacturer Specified Superheat",null,null,null,"°F ",{"$f":"IF(OR(E74=\"\"),\"\",'Air Flow References'!AE28)","v":""}]
[null,"(from manufacturer service guide or as per manufacturer's specification or cut sheet)"]
[]
[null,"Indoor Wet Bulb Temperature",null,null,null,"°F",{"$f":"IF(OR(E77=\"\"),\"\",'Air Flow References'!AE29)","v":""}]
[]
[null,"Outdoor Dry Bulb Temperature",null,null,null,"°F",{"$f":"IF(OR(E79=\"\"),\"\",'Air Flow References'!AE30)","v":""}]
[]
[]
["Measurements"]
[]
["Vapor (suction) pressure",null,null,null,null,"psig",{"$f":"IF(OR(E84=\"\"),\"\",'Air Flow References'!AE31)","v":""}]
[]
["(D) Saturation temperature for measured pressure",null,null,null,null,"°F",{"$f":"IF(OR(E86=\"\"),\"\",'Air Flow References'!AE32)","v":""}]
[]
["(E) Vapor (suction) line temperature near compressor",null,null,null,null,"°F",{"$f":"IF(OR(E88=\"\"),\"\",'Air Flow References'!AE33)","v":""}]
[]
["*Measured Superheat (E minus D)",null,null,null,{"$f":"IF(OR(E86=\"\",E88=\"\"),\"\",E88-E86)","v":""},"°F",{"$f":"'Air Flow References'!AE34","v":""}]
[]
["*Measured Superheat must be within 5°F of the manufacturer specified Superheat."]
[]
["Note: A copy of the documentation of the manufacturer's specified superheat for the installed equipment must be attached to this form."]
["Option 3: Weigh In (can be used for any system ONLY when outdoor ambient temperature is below OEM specification.):"]
[]
["Refrigerant Type:"]
[]
[null,null,null,null,null,null,"(specify)"]
["Capacity of Refrigerant Shipped With Outdoor Unit:"]
[null,null,null,"lbs.",null,"oz."]
[]
[]
["Does this capacity include an allowance for an evaporator?"]
[]
[]
["Does this capacity include an allowance for a line set?"]
[]
[]
["Allowed Line Set Length:",null,null,"feet"]
[]
["(A) Suction Line Outside Diameter",null,null,null,"inches","Net length*",null,"feet","x",null,"ounces/foot","=",null,"ounces"]
[]
["(B) Liquid Line Outside Diameter",null,null,null,"inches","Net length*",null,"feet","x",null,"ounces/foot","=",null,"ounces"]
[]
["(C) Driers, Accumulator, and Evaporator Capacities (if not included above):",null,null,null,null,null,null,null,null,null,null,null,null,"ounces"]
[]
["*Net Length = Measured Length Minus (-) Allowed Length",null,null,null,null,"Total charge weighed in (A) + (B) + (C)",null,null,null,null,null,null,{"$f":"IF(AND(M112=\"\",M114=\"\",M116=\"\"),\"\",M112+M114+M116)","v":""},"ounces"]
[]
[]
["Note: Copy of table or graph supplied by manufacturer and used to estimate charge must be attached to this form."]
[]
[]
[]
["Application Version:",null,{"$f":"Development!$A$4&\"_\"&Development!$A$2","v":"11.14.22_1.0"},null,null,null,null,null,null,null,null,null,"Effective:",{"$f":"Development!A4","v":"11.14.22"}]

{"sheet":"AIRFLOW FORM 8","index":26,"n_rows":126,"n_cols":15,"rows_kept":126,"cut":false,"hidden":true,"merged":[[117,12,118,12],[117,13,118,13],[70,4,70,5],[125,3,125,5],[125,6,125,8],[98,4,98,5],[117,0,118,4],[117,5,118,10],[99,0,100,1],[21,4,21,5],[28,0,28,12],[29,2,29,11],[37,8,37,9],[44,4,44,5],[24,4,24,5],[14,4,14,5],[14,12,14,13],[17,0,17,3],[17,4,17,5],[17,12,17,13],[0,0,0,9],[1,0,1,9],[4,2,4,3],[4,7,4,8],[6,7,6,8]]}
[{"$f":"Development!$A$3&\" Residential Efficiency Program\"","v":"2023 Residential Efficiency Program"}]
["Post Installation/Airflow & Refrigerant Charge Form"]
["Equipment Data"]
[]
["Unit Number: ",{"$f":"#REF!","v":{"$error":"#REF!"}},null,null,null,null,"Manufacturer",{"$f":"IF(#REF!=\"\",\"\",#REF!)","v":{"$error":"#REF!"}}]
[]
[null,null,null,null,null,null,"Model No.",{"$f":"IF(#REF!=\"\",\"\",#REF!)","v":{"$error":"#REF!"}}]
["For Ducted Systems Only"]
[null,"Ducts Tested?",null,"Ducts Sealed?"]
[]
["Airflow"]
[]
["Please fill out all of the below fields as applicable for the installation"]
[]
["1. Rated Cooling Capacity (tons):",null,null,null,null,null,{"$f":"IF(OR(E15=\"\"),\"\",'Air Flow References'!AJ4)","v":""},null,null,null,null,"2. Target Airflow Volume (CFM) PER TON:",null,null,{"$f":"IF(OR(M15=\"\"),\"\",'Air Flow References'!AJ6)","v":""}]
[]
["Complete field 3a or 3b"]
["3a. Static pressure drop in inches of water column W.C. measures across evaporator coil if new installed:",null,null,null,null,null,{"$f":"IF(OR(E18=\"\"),\"\",'Air Flow References'!AJ5)","v":""},null,"OR",null,null,"3b. External static pressure for fan coil unit:",null,null,{"$f":"IF(OR(M18=\"\"),\"\",'Air Flow References'!AJ7)","v":""}]
[]
["4. Total Static measured with:"]
[]
["5. CFM Air Flow Estimated from Total Static Measurement:",null,null,null,null,null,{"$f":"IF(OR(E22=\"\"),\"\",'Air Flow References'!AJ9)","v":""}]
["If this field contains data, no data input is required for the True Flow CFM field below"]
[]
["6. True Flow CFM measured:",null,null,null,null,null,{"$f":"IF(OR(E25=\"\"),\"\",'Air Flow References'!AJ8)","v":""}]
["If this field contains data, no data input is required for field 3a/3b and field 5"]
[]
[]
["Installations must have visible and accessible ports for airflow and temperature measurements. Ports must be sealed with contrasting color plugs. Please indicate"]
["location of test ports:"]
[]
["Notes: "]
["Convert Pascals to inches of WC by dividing pascals by 249.09"]
["Copy of table or graph supplied by manufacturer and used to estimate airflow must be attached to this form."]
[]
["Refrigerant Charge Method"]
[]
["Charging Method Used:"]
[]
["Option 1: SUBCOOLING Notes: Typical for most Thermal Expansion Valve systems when outdoor temperature is greater than OEM spec. (Typ. 60°F)"]
[]
["Inputs"]
["Refrigerant Type"]
[]
[]
[]
[]
[]
[null,"Required Subcooling:",null,null,null,"°F",{"$f":"IF(OR(E49=\"\"),\"\",'Air Flow References'!AJ16)","v":""}]
[]
[null,"Outdoor Dry Bulb Temperature:",null,null,null,"°F",{"$f":"IF(OR(E51=\"\"),\"\",'Air Flow References'!AJ17)","v":""}]
[]
["Measurements"]
[]
["Liquid Line Pressure",null,null,null,null,"psig",{"$f":"IF(OR(E55=\"\"),\"\",'Air Flow References'!AJ18)","v":""}]
[]
["(F) Saturation temperature for measured pressure",null,null,null,null,"°F",{"$f":"IF(OR(E57=\"\"),\"\",'Air Flow References'!AJ19)","v":""}]
[]
["(G) Liquid Line temperature",null,null,null,null,"°F",{"$f":"IF(OR(E59=\"\"),\"\",'Air Flow References'!AJ20)","v":""}]
[]
["*Measured Subcooling (F minus G)",null,null,null,{"$f":"IF(OR(E57=\"\",E59=\"\"),\"\",E57-E59)","v":""},"°F",{"$f":"'Air Flow References'!AJ21","v":""}]
[]
["*Measured Subcooling must be within 3°F of the manufacturer specified Subcooling."]
[]
["Note: A copy of the documentation of the manufacturer's specified subcooling for the installed equipment must be attached to this form"]
["Option 2: SUPERHEAT Note: Can only be used for fixed orifice systems (Non-TXV) when outdoor temperature is greater than OEM spec. (Type 55°)"]
[]
["Inputs"]
["Refrigerant Type"]
[]
[]
[]
[]
[null,"Manufacturer Specified Superheat",null,null,null,"°F ",{"$f":"IF(OR(E74=\"\"),\"\",'Air Flow References'!AJ28)","v":""}]
[null,"(from manufacturer service guide or as per manufacturer's specification or cut sheet)"]
[]
[null,"Indoor Wet Bulb Temperature",null,null,null,"°F",{"$f":"IF(OR(E77=\"\"),\"\",'Air Flow References'!AJ29)","v":""}]
[]
[null,"Outdoor Dry Bulb Temperature",null,null,null,"°F",{"$f":"IF(OR(E79=\"\"),\"\",'Air Flow References'!AJ30)","v":""}]
[]
[]
["Measurements"]
[]
["Vapor (suction) pressure",null,null,null,null,"psig",{"$f":"IF(OR(E84=\"\"),\"\",'Air Flow References'!AJ31)","v":""}]
[]
["(D) Saturation temperature for measured pressure",null,null,null,null,"°F",{"$f":"IF(OR(E86=\"\"),\"\",'Air Flow References'!AJ32)","v":""}]
[]
["(E) Vapor (suction) line temperature near compressor",null,null,null,null,"°F",{"$f":"IF(OR(E88=\"\"),\"\",'Air Flow References'!AJ33)","v":""}]
[]
["*Measured Superheat (E minus D)",null,null,null,{"$f":"IF(OR(E86=\"\",E88=\"\"),\"\",E88-E86)","v":""},"°F",{"$f":"'Air Flow References'!AJ34","v":""}]
[]
["*Measured Superheat must be within 5°F of the manufacturer specified Superheat."]
[]
["Note: A copy of the documentation of the manufacturer's specified superheat for the installed equipment must be attached to this form."]
["Option 3: Weigh In (can be used for any system ONLY when outdoor ambient temperature is below OEM specification.):"]
[]
["Refrigerant Type:"]
[]
[null,null,null,null,null,null,"(specify)"]
["Capacity of Refrigerant Shipped With Outdoor Unit:"]
[null,null,null,"lbs.",null,"oz."]
[]
[]
["Does this capacity include an allowance for an evaporator?"]
[]
[]
["Does this capacity include an allowance for a line set?"]
[]
[]
["Allowed Line Set Length:",null,null,"feet"]
[]
["(A) Suction Line Outside Diameter",null,null,null,"inches","Net length*",null,"feet","x",null,"ounces/foot","=",null,"ounces"]
[]
["(B) Liquid Line Outside Diameter",null,null,null,"inches","Net length*",null,"feet","x",null,"ounces/foot","=",null,"ounces"]
[]
["(C) Driers, Accumulator, and Evaporator Capacities (if not included above):",null,null,null,null,null,null,null,null,null,null,null,null,"ounces"]
[]
["*Net Length = Measured Length Minus (-) Allowed Length",null,null,null,null,"Total charge weighed in (A) + (B) + (C)",null,null,null,null,null,null,{"$f":"IF(AND(M112=\"\",M114=\"\",M116=\"\"),\"\",M112+M114+M116)","v":""},"ounces"]
[]
[]
["Note: Copy of table or graph supplied by manufacturer and used to estimate charge must be attached to this form."]
[]
[]
[]
[]
["Application Version:",null,{"$f":"Development!$A$4&\"_\"&Development!$A$2","v":"11.14.22_1.0"},null,null,null,null,null,null,null,null,null,null,"Effective:",{"$f":"Development!$A$4","v":"11.14.22"}]

{"sheet":"AIRFLOW FORM 9","index":27,"n_rows":124,"n_cols":15,"rows_kept":124,"cut":false,"hidden":true,"merged":[[117,12,118,12],[117,13,118,13],[70,4,70,5],[123,3,123,5],[123,6,123,8],[98,4,98,5],[117,0,118,4],[117,5,118,10],[99,0,100,1],[21,4,21,5],[28,0,28,12],[29,2,29,11],[37,8,37,9],[44,4,44,5],[24,4,24,5],[14,4,14,5],[14,12,14,13],[17,0,17,3],[17,4,17,5],[17,12,17,13],[0,0,0,9],[1,0,1,9],[4,2,4,3],[4,7,4,8],[6,7,6,8]]}
[{"$f":"Development!$A$3&\" Residential Efficiency Program\"","v":"2023 Residential Efficiency Program"}]
["Post Installation/Airflow & Refrigerant Charge Form"]
["Equipment Data"]
[]
["Unit Number: ",{"$f":"#REF!","v":{"$error":"#REF!"}},null,null,null,null,"Manufacturer",{"$f":"IF(#REF!=\"\",\"\",#REF!)","v":{"$error":"#REF!"}}]
[]
[null,null,null,null,null,null,"Model No.",{"$f":"IF(#REF!=\"\",\"\",#REF!)","v":{"$error":"#REF!"}}]
["For Ducted Systems Only"]
[null,"Ducts Tested?",null,"Ducts Sealed?"]
[]
["Airflow"]
[]
["Please fill out all of the below fields as applicable for the installation"]
[]
["1. Rated Cooling Capacity (tons):",null,null,null,null,null,{"$f":"IF(OR(E15=\"\"),\"\",'Air Flow References'!AO4)","v":""},null,null,null,null,"2. Target Airflow Volume (CFM) PER TON:",null,null,{"$f":"IF(OR(M15=\"\"),\"\",'Air Flow References'!AO6)","v":""}]
[]
["Complete field 3a or 3b"]
["3a. Static pressure drop in inches of water column W.C. measures across evaporator coil if new installed:",null,null,null,null,null,{"$f":"IF(OR(E18=\"\"),\"\",'Air Flow References'!AO5)","v":""},null,"OR",null,null,"3b. External static pressure for fan coil unit:",null,null,{"$f":"IF(OR(M18=\"\"),\"\",'Air Flow References'!AO7)","v":""}]
[]
["4. Total Static measured with:"]
[]
["5. CFM Air Flow Estimated from Total Static Measurement:",null,null,null,null,null,{"$f":"IF(OR(E22=\"\"),\"\",'Air Flow References'!AO9)","v":""}]
["If this field contains data, no data input is required for the True Flow CFM field below"]
[]
["6. True Flow CFM measured:",null,null,null,null,null,{"$f":"IF(OR(E25=\"\"),\"\",'Air Flow References'!AO8)","v":""}]
["If this field contains data, no data input is required for field 3a/3b and field 5"]
[]
[]
["Installations must have visible and accessible ports for airflow and temperature measurements. Ports must be sealed with contrasting color plugs. Please indicate"]
["location of test ports:"]
[]
["Notes: "]
["Convert Pascals to inches of WC by dividing pascals by 249.09"]
["Copy of table or graph supplied by manufacturer and used to estimate airflow must be attached to this form."]
[]
["Refrigerant Charge Method"]
[]
["Charging Method Used:"]
[]
["Option 1: SUBCOOLING Notes: Typical for most Thermal Expansion Valve systems when outdoor temperature is greater than OEM spec. (Typ. 60°F)"]
[]
["Inputs"]
["Refrigerant Type"]
[]
[]
[]
[]
[]
[null,"Required Subcooling:",null,null,null,"°F",{"$f":"IF(OR(E49=\"\"),\"\",'Air Flow References'!AO16)","v":""}]
[]
[null,"Outdoor Dry Bulb Temperature:",null,null,null,"°F",{"$f":"IF(OR(E51=\"\"),\"\",'Air Flow References'!AO17)","v":""}]
[]
["Measurements"]
[]
["Liquid Line Pressure",null,null,null,null,"psig",{"$f":"IF(OR(E55=\"\"),\"\",'Air Flow References'!AO18)","v":""}]
[]
["(F) Saturation temperature for measured pressure",null,null,null,null,"°F",{"$f":"IF(OR(E57=\"\"),\"\",'Air Flow References'!AO19)","v":""}]
[]
["(G) Liquid Line temperature",null,null,null,null,"°F",{"$f":"IF(OR(E59=\"\"),\"\",'Air Flow References'!AO20)","v":""}]
[]
["*Measured Subcooling (F minus G)",null,null,null,{"$f":"IF(OR(E57=\"\",E59=\"\"),\"\",E57-E59)","v":""},"°F",{"$f":"'Air Flow References'!AO21","v":""}]
[]
["*Measured Subcooling must be within 3°F of the manufacturer specified Subcooling."]
[]
["Note: A copy of the documentation of the manufacturer's specified subcooling for the installed equipment must be attached to this form"]
["Option 2: SUPERHEAT Note: Can only be used for fixed orifice systems (Non-TXV) when outdoor temperature is greater than OEM spec. (Type 55°)"]
[]
["Inputs"]
["Refrigerant Type"]
[]
[]
[]
[]
[null,"Manufacturer Specified Superheat",null,null,null,"°F ",{"$f":"IF(OR(E74=\"\"),\"\",'Air Flow References'!AO28)","v":""}]
[null,"(from manufacturer service guide or as per manufacturer's specification or cut sheet)"]
[]
[null,"Indoor Wet Bulb Temperature",null,null,null,"°F",{"$f":"IF(OR(E77=\"\"),\"\",'Air Flow References'!AO29)","v":""}]
[]
[null,"Outdoor Dry Bulb Temperature",null,null,null,"°F",{"$f":"IF(OR(E79=\"\"),\"\",'Air Flow References'!AO30)","v":""}]
[]
[]
["Measurements"]
[]
["Vapor (suction) pressure",null,null,null,null,"psig",{"$f":"IF(OR(E84=\"\"),\"\",'Air Flow References'!AO31)","v":""}]
[]
["(D) Saturation temperature for measured pressure",null,null,null,null,"°F",{"$f":"IF(OR(E86=\"\"),\"\",'Air Flow References'!AO32)","v":""}]
[]
["(E) Vapor (suction) line temperature near compressor",null,null,null,null,"°F",{"$f":"IF(OR(E88=\"\"),\"\",'Air Flow References'!AO33)","v":""}]
[]
["*Measured Superheat (E minus D)",null,null,null,{"$f":"IF(OR(E86=\"\",E88=\"\"),\"\",E88-E86)","v":""},"°F",{"$f":"'Air Flow References'!AO34","v":""}]
[]
["*Measured Superheat must be within 5°F of the manufacturer specified Superheat."]
[]
["Note: A copy of the documentation of the manufacturer's specified superheat for the installed equipment must be attached to this form."]
["Option 3: Weigh In (can be used for any system ONLY when outdoor ambient temperature is below OEM specification.):"]
[]
["Refrigerant Type:"]
[]
[null,null,null,null,null,null,"(specify)"]
["Capacity of Refrigerant Shipped With Outdoor Unit:"]
[null,null,null,"lbs.",null,"oz."]
[]
[]
["Does this capacity include an allowance for an evaporator?"]
[]
[]
["Does this capacity include an allowance for a line set?"]
[]
[]
["Allowed Line Set Length:",null,null,"feet"]
[]
["(A) Suction Line Outside Diameter",null,null,null,"inches","Net length*",null,"feet","x",null,"ounces/foot","=",null,"ounces"]
[]
["(B) Liquid Line Outside Diameter",null,null,null,"inches","Net length*",null,"feet","x",null,"ounces/foot","=",null,"ounces"]
[]
["(C) Driers, Accumulator, and Evaporator Capacities (if not included above):",null,null,null,null,null,null,null,null,null,null,null,null,"ounces"]
[]
["*Net Length = Measured Length Minus (-) Allowed Length",null,null,null,null,"Total charge weighed in (A) + (B) + (C)",null,null,null,null,null,null,{"$f":"IF(AND(M112=\"\",M114=\"\",M116=\"\"),\"\",M112+M114+M116)","v":""},"ounces"]
[]
[]
[]
["Note: Copy of table or graph supplied by manufacturer and used to estimate charge must be attached to this form."]
[]
["Application Version:",null,{"$f":"Development!$A$4&\"_\"&Development!$A$2","v":"11.14.22_1.0"},null,null,null,null,null,null,null,null,null,null,"Effective:",{"$f":"Development!$A$4","v":"11.14.22"}]

{"sheet":"AIRFLOW FORM 10","index":28,"n_rows":123,"n_cols":15,"rows_kept":123,"cut":false,"hidden":true,"merged":[[117,0,118,4],[117,5,118,10],[117,12,118,12],[117,13,118,13],[70,4,70,5],[98,4,98,5],[99,0,100,1],[21,4,21,5],[28,0,28,12],[29,2,29,11],[37,8,37,9],[44,4,44,5],[24,4,24,5],[14,4,14,5],[14,12,14,13],[17,0,17,3],[17,4,17,5],[17,12,17,13],[0,0,0,9],[1,0,1,9],[4,2,4,3],[4,7,4,8],[6,7,6,8]]}
[{"$f":"Development!$A$3&\" Residential Efficiency Program\"","v":"2023 Residential Efficiency Program"}]
["Post Installation/Airflow & Refrigerant Charge Form"]
["Equipment Data"]
[]
["Unit Number: ",{"$f":"#REF!","v":{"$error":"#REF!"}},null,null,null,null,"Manufacturer",{"$f":"IF(#REF!=\"\",\"\",#REF!)","v":{"$error":"#REF!"}}]
[]
[null,null,null,null,null,null,"Model No.",{"$f":"IF(#REF!=\"\",\"\",#REF!)","v":{"$error":"#REF!"}}]
["For Ducted Systems Only"]
[null,"Ducts Tested?",null,"Ducts Sealed?"]
[]
["Airflow"]
[]
["Please fill out all of the below fields as applicable for the installation"]
[]
["1. Rated Cooling Capacity (tons):",null,null,null,null,null,{"$f":"IF(OR(E15=\"\"),\"\",'Air Flow References'!AT4)","v":""},null,null,null,null,"2. Target Airflow Volume (CFM) PER TON:",null,null,{"$f":"IF(OR(M15=\"\"),\"\",'Air Flow References'!AT6)","v":""}]
[]
["Complete field 3a or 3b"]
["3a. Static pressure drop in inches of water column W.C. measures across evaporator coil if new installed:",null,null,null,null,null,{"$f":"IF(OR(E18=\"\"),\"\",'Air Flow References'!AT5)","v":""},null,"OR",null,null,"3b. External static pressure for fan coil unit:",null,null,{"$f":"IF(OR(M18=\"\"),\"\",'Air Flow References'!AT7)","v":""}]
[]
["4. Total Static measured with:"]
[]
["5. CFM Air Flow Estimated from Total Static Measurement:",null,null,null,null,null,{"$f":"IF(OR(E22=\"\"),\"\",'Air Flow References'!AT9)","v":""}]
["If this field contains data, no data input is required for the True Flow CFM field below"]
[]
["6. True Flow CFM measured:",null,null,null,null,null,{"$f":"IF(OR(E25=\"\"),\"\",'Air Flow References'!AT8)","v":""}]
["If this field contains data, no data input is required for field 3a/3b and field 5"]
[]
[]
["Installations must have visible and accessible ports for airflow and temperature measurements. Ports must be sealed with contrasting color plugs. Please indicate"]
["location of test ports:"]
[]
["Notes: "]
["Convert Pascals to inches of WC by dividing pascals by 249.09"]
["Copy of table or graph supplied by manufacturer and used to estimate airflow must be attached to this form."]
[]
["Refrigerant Charge Method"]
[]
["Charging Method Used:"]
[]
["Option 1: SUBCOOLING Notes: Typical for most Thermal Expansion Valve systems when outdoor temperature is greater than OEM spec. (Typ. 60°F)"]
[]
["Inputs"]
["Refrigerant Type"]
[]
[]
[]
[]
[]
[null,"Required Subcooling:",null,null,null,"°F",{"$f":"IF(OR(E49=\"\"),\"\",'Air Flow References'!AT16)","v":""}]
[]
[null,"Outdoor Dry Bulb Temperature:",null,null,null,"°F",{"$f":"IF(OR(E51=\"\"),\"\",'Air Flow References'!AT17)","v":""}]
[]
["Measurements"]
[]
["Liquid Line Pressure",null,null,null,null,"psig",{"$f":"IF(OR(E55=\"\"),\"\",'Air Flow References'!AT18)","v":""}]
[]
["(F) Saturation temperature for measured pressure",null,null,null,null,"°F",{"$f":"IF(OR(E57=\"\"),\"\",'Air Flow References'!AT19)","v":""}]
[]
["(G) Liquid Line temperature",null,null,null,null,"°F",{"$f":"IF(OR(E59=\"\"),\"\",'Air Flow References'!AT20)","v":""}]
[]
["*Measured Subcooling (F minus G)",null,null,null,{"$f":"IF(OR(E57=\"\",E59=\"\"),\"\",E57-E59)","v":""},"°F",{"$f":"'Air Flow References'!AT21","v":""}]
[]
["*Measured Subcooling must be within 3°F of the manufacturer specified Subcooling."]
[]
["Note: A copy of the documentation of the manufacturer's specified subcooling for the installed equipment must be attached to this form"]
["Option 2: SUPERHEAT Note: Can only be used for fixed orifice systems (Non-TXV) when outdoor temperature is greater than OEM spec. (Type 55°)"]
[]
["Inputs"]
["Refrigerant Type"]
[]
[]
[]
[]
[null,"Manufacturer Specified Superheat",null,null,null,"°F ",{"$f":"IF(OR(E74=\"\"),\"\",'Air Flow References'!AT28)","v":""}]
[null,"(from manufacturer service guide or as per manufacturer's specification or cut sheet)"]
[]
[null,"Indoor Wet Bulb Temperature",null,null,null,"°F",{"$f":"IF(OR(E77=\"\"),\"\",'Air Flow References'!AT29)","v":""}]
[]
[null,"Outdoor Dry Bulb Temperature",null,null,null,"°F",{"$f":"IF(OR(E79=\"\"),\"\",'Air Flow References'!AT30)","v":""}]
[]
[]
["Measurements"]
[]
["Vapor (suction) pressure",null,null,null,null,"psig",{"$f":"IF(OR(E84=\"\"),\"\",'Air Flow References'!AT31)","v":""}]
[]
["(D) Saturation temperature for measured pressure",null,null,null,null,"°F",{"$f":"IF(OR(E86=\"\"),\"\",'Air Flow References'!AT32)","v":""}]
[]
["(E) Vapor (suction) line temperature near compressor",null,null,null,null,"°F",{"$f":"IF(OR(E88=\"\"),\"\",'Air Flow References'!AT33)","v":""}]
[]
["*Measured Superheat (E minus D)",null,null,null,{"$f":"IF(OR(E86=\"\",E88=\"\"),\"\",E88-E86)","v":""},"°F",{"$f":"'Air Flow References'!AT34","v":""}]
[]
["*Measured Superheat must be within 5°F of the manufacturer specified Superheat."]
[]
["Note: A copy of the documentation of the manufacturer's specified superheat for the installed equipment must be attached to this form."]
["Option 3: Weigh In (can be used for any system ONLY when outdoor ambient temperature is below OEM specification.):"]
[]
["Refrigerant Type:"]
[]
[null,null,null,null,null,null,"(specify)"]
["Capacity of Refrigerant Shipped With Outdoor Unit:"]
[null,null,null,"lbs.",null,"oz."]
[]
[]
["Does this capacity include an allowance for an evaporator?"]
[]
[]
["Does this capacity include an allowance for a line set?"]
[]
[]
["Allowed Line Set Length:",null,null,"feet"]
[]
["(A) Suction Line Outside Diameter",null,null,null,"inches","Net length*",null,"feet","x",null,"ounces/foot","=",null,"ounces"]
[]
["(B) Liquid Line Outside Diameter",null,null,null,"inches","Net length*",null,"feet","x",null,"ounces/foot","=",null,"ounces"]
[]
["(C) Driers, Accumulator, and Evaporator Capacities (if not included above):",null,null,null,null,null,null,null,null,null,null,null,null,"ounces"]
[]
["*Net Length = Measured Length Minus (-) Allowed Length",null,null,null,null,"Total charge weighed in (A) + (B) + (C)",null,null,null,null,null,null,{"$f":"IF(AND(M112=\"\",M114=\"\",M116=\"\"),\"\",M112+M114+M116)","v":""},"ounces"]
[]
[]
["Note: Copy of table or graph supplied by manufacturer and used to estimate charge must be attached to this form."]
[]
["Application Version:",null,{"$f":"Development!$A$4&\"_\"&Development!$A$2","v":"11.14.22_1.0"},null,null,null,null,null,null,null,null,null,null,"Effective:",{"$f":"Development!A4","v":"11.14.22"}]

{"sheet":"Project Completion Form","index":29,"n_rows":79,"n_cols":11,"rows_kept":79,"cut":false,"hidden":true,"merged":[[0,191,0,200],[0,221,0,230],[1,241,1,250],[0,171,0,180],[1,231,1,240],[1,191,1,200],[0,231,0,240],[1,221,1,230],[0,241,0,250],[0,201,0,210],[1,201,1,210],[0,251,0,255],[1,251,1,255],[0,101,0,110],[1,81,1,90],[1,211,1,220],[1,101,1,110],[0,131,0,140],[0,161,0,170],[0,211,0,220],[0,181,0,190],[0,151,0,160],[1,151,1,160],[1,181,1,190],[1,161,1,170],[1,171,1,180],[0,121,0,130],[1,131,1,140],[1,61,1,70],[4,0,4,1],[4,2,4,5],[4,9,4,11],[1,111,1,120],[1,121,1,130],[1,0,1,6],[2,0,2,11],[1,91,1,100],[1,31,1,40],[1,71,1,80],[1,51,1,60],[22,0,22,11],[0,141,0,150],[0,71,0,80],[0,61,0,70],[0,111,0,120],[0,81,0,90],[0,91,0,100],[0,21,0,30],[0,31,0,40],[0,41,0,50],[0,51,0,60],[1,21,1,30],[1,41,1,50],[3,0,3,11],[1,141,1,150],[5,0,5,1],[18,10,18,11],[18,0,18,2],[7,0,7,1],[7,2,7,5],[10,0,10,11],[8,2,8,5],[8,0,8,1],[5,9,5,11],[6,0,6,1],[5,2,5,5],[15,0,15,11],[6,2,6,5],[5,7,5,8],[30,0,30,11],[27,0,27,11],[42,2,42,8],[42,10,42,11],[32,0,32,1],[32,2,32,8],[34,0,34,1],[35,0,35,11],[34,10,34,11],[36,0,36,11],[37,0,37,11],[40,2,40,8],[34,2,34,8],[28,0,28,11],[29,0,29,11]]}
[{"$f":"Development!$A$3&\" Residential Efficiency Program\"","v":"2023 Residential Efficiency Program"}]
["       Project Completion Form"]
["Use this form to self certify project completion"]
["Customer Information"]
["Account No:",null,{"$f":"IF('Customer Information'!C5=\"\",\"\",'Customer Information'!C5)","v":""},null,null,null,null,null,"Home Phone:",{"$f":"IF('Customer Information'!K9=\"\",\"\",'Customer Information'!K9)","v":""}]
["Customer Name:",null,{"$f":"IF('Customer Information'!C6=\"\",\"\",'Customer Information'!C6)","v":""},null,null,null,null,"Cell Phone:",null,{"$f":"IF('Customer Information'!K10=\"\",\"\",'Customer Information'!K10)","v":""}]
["Installation Address:",null,{"$f":"IF('Customer Information'!C7=\"\",\"\",'Customer Information'!C7)","v":""}]
["Mailing Address:\n(if different than above)",null,{"$f":"IF('Customer Information'!C8=\"\",\"\",'Customer Information'!C8)","v":""}]
["Loan Project ID Number:\n(if applicable)",null,{"$f":"IF('EFS Pre-Approval'!C14=\"\",\"\",'EFS Pre-Approval'!C14)","v":""}]
[]
["Airflow"]
[]
[]
[]
[]
["Installation Information"]
[]
[]
["Installation Completion Date :",null,null,null,null,null,null,null,null,"Project Cost ( as reflected on invoice ) :"]
[]
[null,null,null,null,null,null,null,null,null,null,"Customer Payment:"]
[]
["I would like customer rebate: (check one)"]
[]
[]
[null,"(must complete a Rebate Assignment Form / This option may not be offered by all Contractors)"]
[]
["Customer Verification Statement: "]
[]
["I, the Customer, certify that the equipment listed on the rebate application has been purchased and installed at the address indicated on the application.  I understand that PSEG Long Island reserves the right to verify any equipment purchases or installations which may include a site visit.  I further understand that PSEG Long Island may adjust the incentive amount before issuing the rebate based upon the verification and documentation provided by me or my Contractors responsible for the installation of the equipment."]
["Disclaimer: Terms and conditions are subject to change without notice, including early termination of this promotion. No additional fees apply. The rebate will be issued in the form of a check unless otherwise indicated. PSEG Long Island administers the rebate program on behalf of the Long Island Power Authority, the rebate program sponsor. Please visit www.psegliny.com/efficiency for more details. "]
[]
["Customer Name:\n(Print)"]
[]
["Customer Signature:",null,null,null,null,null,null,null,null,"Date:"]
[]
["Contractor Verification Statement:"]
["I, the Contractor, certify that the equipment listed on the rebate application has been purchased and installed at the address indicated on the application.  I understand that PSEG Long Island reserves the right to verify any equipment purchases or installations which may include a site visit.  I further understand that PSEG Long Island may adjust the incentive amount before issuing the rebate based upon the verification and documentation provided by me or my technicians responsible for the installation of the equipment."]
[]
[]
["Contractor Name:\n(Print)",null,{"$f":"IF('Customer Information'!C25=\"\",\"\",'Customer Information'!C25)","v":""}]
[]
["Contractor Signature:",null,null,null,null,null,null,null,null,"Date:"]
[]
["Please send all required documents to ",null,null,"HomeComfortLI@pseg.com"]
[]
[]
[]
[]
[]
[]
[]
[]
[]
[]
[]
[]
[]
[]
[]
[]
[]
[]
[]
[]
[]
[]
[]
[]
[]
[]
[]
[]
[]
[]
[]
[]
[]
[null,"Application Version:",{"$f":"Development!$A$2","v":"1.0"},null,null,null,null,null,null,"Effective:",{"$f":"Development!$A$4","v":"11.14.22"}]

{"sheet":"Project Completion Form HPwES","index":30,"n_rows":63,"n_cols":11,"rows_kept":63,"cut":false,"hidden":true,"merged":[[59,0,59,2],[56,4,56,7],[59,4,59,7],[56,9,56,10],[59,9,59,10],[44,0,44,10],[46,0,47,10],[56,0,56,2],[38,0,39,10],[40,0,40,10],[41,0,42,10],[43,0,43,10],[50,1,50,2],[51,0,51,5],[31,0,31,11],[33,0,34,10],[36,0,36,10],[32,0,32,11],[23,0,24,10],[26,0,27,10],[29,0,29,1],[0,131,0,140],[0,21,0,30],[0,31,0,40],[0,41,0,50],[0,51,0,60],[0,61,0,70],[0,71,0,80],[0,81,0,90],[0,91,0,100],[0,101,0,110],[0,111,0,120],[0,121,0,130],[0,251,0,255],[0,141,0,150],[0,151,0,160],[0,161,0,170],[0,171,0,180],[0,181,0,190],[0,191,0,200],[0,201,0,210],[0,211,0,220],[0,221,0,230],[0,231,0,240],[0,241,0,250],[2,91,2,100],[2,101,2,110],[2,111,2,120],[2,121,2,130],[2,21,2,30],[2,31,2,40],[2,41,2,50],[2,51,2,60],[2,61,2,70],[2,251,2,255],[6,0,6,11],[2,191,2,200],[2,201,2,210],[2,211,2,220],[2,221,2,230],[2,231,2,240],[2,241,2,250],[2,131,2,140],[2,141,2,150],[2,151,2,160],[2,161,2,170],[2,171,2,180],[2,181,2,190],[2,71,2,80],[2,81,2,90],[12,0,13,10],[16,0,16,11],[21,0,21,11],[14,0,14,1],[18,0,19,10],[20,0,20,10],[4,0,5,11],[7,0,7,10],[8,0,8,10],[9,0,9,10],[10,0,10,10]]}
[{"$f":"Development!$A$3&\" Residential Efficiency Program\"","v":"2023 Residential Efficiency Program"}]
[]
["Certificate of Completion - Read and Sign after Work is Completed"]
[]
["Note to Customer: Please read the following statement before signing. By signing this document, you are attesting that all work has been completed pursuant to your contract. If any part of the work has not been completed, please indicate below. If you have any questions or concerns about any aspect of the work performed, you should resolve them with your contractor BEFORE signing this form. "]
[]
[]
["All work has been completed, with the exception of the following:"]
[]
[]
[]
[]
["Contractor agrees to complete these items and will notify TRC Companies upon their completion. Job will not be credited fully as a completed project until the Contractor and Customer sign a new Certificate of Completion that has no pending items."]
[]
["Contractor Intials"]
[]
["Warranty"]
[]
["Contractor warrants that the work and the equipment furnished in this installation job comply with the requirements as outlined in the Contractor Participation Agreement with PSEG Long Island. In the event that ant defect in workmanship or equipment is discovered within one (1) year after payment authorization, the Contractor will remedy, repair, correct, or cause to be remedied, repaired, corrected, or replaced at Contractor's expense such defect in equipment or workmanship. The foregoing warranty survives any inspection PSEG Long Island may elect to make."]
[]
[]
["Lien Waiver"]
[]
["WORK AND EQUIPMENT COVERED BY Home Performance with ENERGY STAR Program FINANCING OR ASSISTED HOME PERFORMANCE SUBSIDY: Contractor hereby waives and releases any and all lien or claim of, or right, to lien, under laws relating to mechanics liens with respect to and on the property referenced above."]
[]
[]
["WORK AND EQUIPMENT NOT COVERED BY HPwES FINANCING: Said waiver does not apply to any work and equipment furnished in this installation job that is not financed by the HPwES Loan or an Assisted Home Performance Subsidy. Any costs incurred by Customer exceeding the sum of the HPwES Loan and the Assisted ome Performance Subsidy, or financed by any means other than HPwES financing or an Assisted Home Performance Subsidy, are subject to a mechanics lien or claim under applicable laws relating to mechanics liens with respect to and on the property referenced above."]
[]
[]
["Customer Affirmation"]
[]
["Customer's Acceptance of Work Scope"]
[]
["The energy efficiency upgrades to be installed in the property as well as any applicable incentives, loan, and/or subsidy stated herein have been explained thoroughly by the Contractor, are satisfactory, and are hereby accepted. This worksheet accurately describes the work as agreed to through the contract between me and the Home Performance Contractor. The Home Performance Contractor is authorized to do the work as specified in the contract that has been provided to me by my contractor."]
[]
[]
["Program Quality Assurance and Evaluation"]
[]
["I agree to participate in program quality assurance and evaluation activities. The purposes of these activities are to provide the Program Administrators with an opportunity to ensure that the eligible measures are installed consistent with program standards, to assess energy savings and to evaluate program effectiveness. Program quality assurance and evaluation activities may include in-site visits, questionnaries and interviews."]
[]
[]
["As a value added service, the PSEG Long Island Home Performance with ENERGY STAR Program offers participants the option of having a post-completion inspection performed on their home. If you are interested in receiving this valuable, FREE service, please contact PSEG Long Island to schedule an appointment. Availability depends upon number of requests received."]
[]
[]
["Customer Statement"]
[]
["The undersigned hereby certifies personal ownership of the home specified above, that all materials and equipment included in the construction contract (work order, job order, bd summary, proposal, invoice, etc.) have been furnished and installed by the Contractor, and that the work has been completed pursuant to the contract. In addition, I have not obtained the benefit of and will not receive any cash payment, rebate, cash bonus, sales commission, or anything from the contractor as inducement to enter into the HPwES Agreement or proceed with work. If there is a HPwES Loan Agreement, I also agree to the terms specified in the HPwES Loan Agreement and authorize payment to the above Contractor."]
[]
[]
[]
["Loan Project ID:\n(if applicable)",{"$f":"IF('EFS Pre-Approval'!C14=\"\",\"\",'EFS Pre-Approval'!C14)","v":""}]
["I would like customer rebate: (Check One)"]
[]
[null,"(must complete a Rebate Assignment Form/This opion may not be offered to all Contractors)"]
[]
[]
[]
["Homeowner's Name (Print)",null,null,null,"Signature",null,null,null,null,"Date"]
[]
[]
["Contractor's Business Name (Print)",null,null,null,"Signature",null,null,null,null,"Date"]
[]
["Application Version:",{"$f":"Development!$A$2","v":"1.0"},null,null,null,null,null,null,null,"Effective:",{"$f":"Development!$A$4","v":"11.14.22"}]

{"sheet":"Development","index":31,"n_rows":584,"n_cols":4,"rows_kept":584,"cut":false,"hidden":true,"merged":[]}
[]
["1.0","Version Number"]
[2023,"Program Year"]
["11.14.22","Effective Date"]
["Commercial Efficiency Program","Program"]
[]
["Date","Description","Initials","Version"]
["5.8.19","Legacy 2019 Home Comfort Application v1.0","MT","1.0_Draft 1.0"]
["5.8.19","Rebate tables on the Worksheet tab were updated to show the new efficiency tier levels and rebates","MT","1.0_Draft 1.0"]
["5.20.19","Added Existing Heating Equipment table to the References tab ","MCR","1.0_Draft 1.2"]
["5.20.19","Added TRUE of FALSE for Beneficial electrification for each existing heating type on the Existing Heating Equipment table","MCR","1.0_Draft 1.2"]
["5.20.19","Added New Construction to both the Existing Heating Tpye and Primary Heating Source check boxes on the Customer Information tab","MCR","1.0_Draft 1.2"]
["5.20.19","Added New Construction and Air Source Heat Pump to the list of Existing Heating Equipment","MCR","1.0_Draft 1.2"]
["5.20.19","Added values for Efficiency, Displacement, and CO2 emissions","MCR","1.0_Draft 1.2"]
["5.20.19","Added Existing Cooling Equipment table to the References tab ","MCR","1.0_Draft 1.2"]
["5.20.19","Updated Baseline EER, Baseline SEER, Baseline HSPF, and Displacement Factor on the Worksheet tab to reference the Existing Heating Equipment table ","MCR","1.0_Draft 1.2"]
["5.20.19","Updated rebates on the References tab to be consistent with the proposal","MCR","1.0_Draft 1.2"]
["5.20.19","Reduced the size of the New Equipment Type drop down on the Worksheet tab to only include this offering","MCR","1.0_Draft 1.2"]
["5.20.19","Moved Naming tab information to table in References tab, and deleted the Naming tab","MCR","1.0_Draft 1.2"]
["5.20.19","Updated the Prop0 formulas to reference the References tab instead of the Naming tab","MCR","1.0_Draft 1.2"]
["5.20.19","Updated the Tier EER SEER and HSPF values on the Reference tab to be consistent with the proposal","MCR","1.0_Draft 1.2"]
["5.21.19","Added Pre Inspection tab","MCR","1.0_Draft 1.3"]
["5.21.19","Changed the name of the Inspection Form Tab to say Post Inspection Form","MCR","1.0_Draft 1.3"]
["5.21.19","Added True/False for each heating equipment type able to be selected on the Customer Information tab","MCR","1.0_Draft 1.3"]
["5.22.19","Moved hidden calculation in the Worksheet tab to the Qualifying Index tab","MCR","1.0_Draft 1.3.1"]
["5.22.19","Added Existing Building and New Construction option buttons to the Customer Information tab and put them in a Group box","MCR","1.0_Draft 1.3.1"]
["5.22.19","Shifted columns for Unit Efficiency on the Worksheet tab to columns J:M","MCR","1.0_Draft 1.3.1"]
["5.22.19","Added the Existing Equipment Type and Efficiency to colmns P:S on the Worksheet tab","MCR","1.0_Draft 1.3.1"]
["5.22.19","Added the Existing Equipment Operation, Manufactur, and Model to colmns O51:S61 on the Worksheet tab ","MCR","1.0_Draft 1.3.1"]
["5.23.19","Wrote marco to hide and unhide Columns O:S on the Worksheet tab depending on whather the project is for a Existing Building or New Construction. Macro will also clear contents when hidden.","MCR","1.0_Draft 1.3.1"]
["5.23.19","Moved Smart Thermostat check box, QIV contractor check box, and Clear All button Worksheet tab so that columns could hide without objects error","MCR","1.0_Draft 1.3.1"]
["5.24.19","Added Ductless Mini Split and Other to list of existing equipment on the References tab, and expanded the drop down on the worksheet tab","MCR","1.0_Draft 1.3.1"]
["5.24.19","Adjust the Prop0 to the Mater Prop0 layout","MCR","1.0_Draft 1.3.1"]
["5.24.19","Adjusted the Existing Equipment table on the Reference tab to organize by fuel type and equipment type","MCR","1.0_Draft 1.3.1"]
["5.24.19","Added Tonnage to Existing Equipment on the Worksheet tab","MCR","1.0_Draft 1.3.1"]
["5.28.19","Added Cooling and Heating Savings section to the Qualifying Index tab","MCR","1.0_Draft 1.3.2"]
["5.28.19","Cooling and Heating Savings will calculte the cooling kW, kWh, MMBTU, and CO2 savings, as well as the heating kW, kWh, MMBTU beneficial electrification, and kW, kWh, MMBTU, and CO2 savings","MCR","1.0_Draft 1.3.2"]
["5.28.19","Mapped the correct savings value to the right column of the Prop0 tab","MCR","1.0_Draft 1.3.2"]
["5.28.19","Extended Prop0 tab to include field from Comprehensive lighting, FT lighting, Outdoor Lighting, HVAC, Refrigeration, Standard, HPDI, REAP, and Geothermal Applications. This application will have the first master Prop0 tab","MCR","1.0_Draft 1.3.2"]
["5.29.19","Removed QIV language","MCR","1.0_Draft 1.3.2"]
["5.29.19","Removed pink comments from Customer Information, T&Cs, Required Documents, and Guidelines","MCR","1.0_Draft 1.3.2"]
["5.29.19","Changed the application submission date from January 1, 2019 to the effective date of the application","MCR","1.0_Draft 1.3.2"]
["6.5.19","Customer Information tab: added field to collect square footage of home","MT","1.0_Draft 1.3.4"]
["6.5.19","Adjusted row heights and column width on guidelines tab so text can be fully visible.","MT","1.0_Draft 1.3.4"]
["6.5.19","Corrected typo on guidelines tab","MT","1.0_Draft 1.3.4"]
["6.5.19","On worksheet tab: merged and centered cells for input of serial number under Installed System Specifications section","MT","1.0_Draft 1.3.4"]
["6.5.19","Hid formulas within tables on both inspection tabs","MT","1.0_Draft 1.3.4"]
["6.5.19","Locked all cells not requiring data input on inspection tabs","MT","1.0_Draft 1.3.4"]
["6.6.19","Formatted PSEG-LI Logos across each tab","MT","1.0_Draft 1.3.4"]
["6.6.19","Changed settings for QIV Contractor checkbox on the Worksheet tab to move and size with cells","MCR","1.0_Draft 1.3.4"]
["6.6.19","Hid rows that are connected to the QIV Contractor checkbox so the checkbox will also be hidden","MCR","1.0_Draft 1.3.4"]
["6.6.19","Removed \"Check her to Assign Rebate\" check box because it is already checked under Rebate Payment Method in the section above","MCR","1.0_Draft 1.3.4"]
["6.6.19","Moved the formula that shos/hides the Assignment Form tab to the \"Assigned Installation Contractor\" check box","MCR","1.0_Draft 1.3.4"]
["6.6.19","Reinstated the Ductless HP options in the table on the Worksheet tab with the old teir values of 18 SEER and 8.5 or 10 HSPF","MCR","1.0_Draft 1.3.4"]
["6.6.19","Added new rebate and incentive values to the Ductless HPs on the Worksheets tab table","MCR","1.0_Draft 1.3.4"]
["6.6.19","Added the Word \"Ducted\" before all non-ductless heat pumps listed on the Worksheet tab table","MCR","1.0_Draft 1.3.4"]
["6.7.19","Require ccASHP for new construction Whole House Solutions","MCR","1.0_Draft 1.3.5"]
["6.7.19","Added Option 3 on Airflow Form","MCR","1.0_Draft 1.3.5"]
["6.7.19","Noted that Option 1 was the preferred method for Airflow testing on the Airflow tab","MCR","1.0_Draft 1.3.5"]
["6.7.19","On the Qualifying Index tab the logic for Equipment + Tier was updated to say <> CAC PTHP or Ductless, as opposed to = ASHP or Ductless HP","MCR","1.0_Draft 1.3.5"]
["6.7.19","Added EE and BE CO2 columns to Prop 0 which will reference the CO2 savings calculated on the Qualifying index tab","MCR","1.0_Draft 1.3.5"]
["6.7.19","Added Heating CO2 Savings from kWh and ff to Qualifying Index tab to properly separate out the CO2 savings","MCR","1.0_Draft 1.3.5"]
["6.7.19","Updated Product Names and Measure codes to be more consistan with the current method to set up Measure Codes","MCR","1.0_Draft 1.3.5"]
["6.7.19","Added Ducted ccASHP EH Tier II, Ductless Mini Split - ASHP EH Tier II, and Ductless Mini Split - ccASHP EH Tier II to the Rebate lookup table on the References tab","MCR","1.0_Draft 1.3.5"]
["6.7.19","Updated the table on the worksheet to only reflect the ccASHPs offered for New Construction Whole House Solutions","MCR","1.0_Draft 1.3.5"]
["6.7.19","Adjusted Existing Building/ New Construction button code to clear the new Existing equipment table range","MCR","1.0_Draft 1.3.5"]
["6.7.19","Added space on the Post Inspection form to collect secondary heating systems as well as integrated controls","MCR","1.0_Draft 1.3.5"]
["6.7.19","Added Requirement for Integrated Controls on the Guidelines tab","MCR","1.0_Draft 1.3.5"]
["6.7.19","Added check box for Integrated controls on the Worksheet tab","MCR","1.0_Draft 1.3.5"]
["6.7.19","Added row for Integrated controls on the Prop0, Only populated fields for Product Line, Class, Name, Measure Code, Savings (0), and Rebate. Currently not requiring additional info on controls.","MCR","1.0_Draft 1.3.5"]
["6.7.19","Added Integrated controls to the table on the Worksheet tab","MCR","1.0_Draft 1.3.5"]
["6.7.19","Updated language prefacing Assignment Letter","MT","1.0_Draft 1.3.5"]
["6.7.19","Updated Terms & Conditions and Guidelines with new policy related to secondary heating source. Updated Guidelines to reflect newsizing requirements ","MT","1.0_Draft 1.3.5"]
["6.10.19","Added QIV factor savings to Heating EE kW and kWh savings on the Qualifying Index","MCR","1.0_Draft 1.3.6"]
["6.10.19","Updated Winter kW Savings to be depndant on whether the heating is EE or BE","MCR","1.0_Draft 1.3.6"]
["6.10.19","Chnaged the Qualifying Index to always have negative kW for BE savings","MCR","1.0_Draft 1.3.6"]
["6.10.19","Added an \"IF\" statement to the Integrated Controls on the Prop0 tab so savings will apear as \"\" if there are no Integrated controls","MCR","1.0_Draft 1.3.6"]
["6.12.19","Worksheet tab: split eligibility and rebate table into two; one for new construction and the other for electric resistance heating customers","MT","1.0_Draft 1.3.7"]
["6.12.19","Increased row height on Terms & Conditions tab so text is legible","MT","1.0_Draft 1.3.7"]
["6.12.19","Required Documents Tab: made sure manual j requirement applied to heating and cooling load calculations","MT","1.0_Draft 1.3.7"]
["6.13.19","Moved Worksheet tables to be one on top of the other","MCR","1.0_Draft 1.3.8"]
["6.13.19","Added PopUp and Note on Customer Information to notify the contractor this offering is only available to NC whole house or existing ER","MCR","1.0_Draft 1.3.8"]
["6.13.19","Added Learning vs Connected table to references to differentiate between ENERGYSTAR rated Learning/geofencing thermostats, and ones only with Wifi capability","MCR","1.0_Draft 1.3.8"]
["6.13.19","Added Smart Tstat Savings calcs to Qualifying index using ASHP real data or TRM assumptions","MCR","1.0_Draft 1.3.8"]
["6.13.19","Smart Tstat Savings will follow the original Index and Match protocol for connected thermostats, and will calculate using HVAC info and energy savings factors for Leanring thermostats","MCR","1.0_Draft 1.3.8"]
["6.13.19","Populated Qualifying Index Smart Tstat saving to Prop0","MCR","1.0_Draft 1.3.8"]
["6.13.19","Ductless ccASHP tier 2 was changed to be be $1000 per ton. It was incorrectly written as $800","MCR","1.0_Draft 1.3.9"]
["6.13.19","Rebate calculation on the Worksheet was updated to search if References cell H14 was blank instead of G14","MCR","1.0_Draft 1.3.9"]
["6.13.19","Updated Coincidence factor to be 65% to be consistant with the ODC TRM","MCR","1.0_Draft 1.3.9"]
["6.13.19","Measure codes for whole House Solutions were updated to show WH-NC for whole house new construction","MCR","1.0_Draft 1.3.9"]
["6.14.19","Increased row height on Terms & Conditions tab even more so text is legible","MT","1.0_Draft 1.4"]
["6.18.19","Draft 1.0 approved by client and ready for release. ","MT",1]
["7.9.19","Fixed QIV kWh savings to allow heating QIV savings when \"Ducted ccASHP\" is selected. Previously, it was only for \"Ducted ASHP\".","MCR","1.1_Draft 1.0"]
["7.9.19","Adjusted formatting for SqFt. On Customer Information tab. Previously it was following the phone number format","MCR","1.1_Draft 1.0"]
["7.9.19","Added \"WH\" to the Product Name of Whole House Heat Pumps","MCR","1.1_Draft 1.0"]
["7.9.19","Removed \"EE\" from renamed savings fields to make mapping easier for the first iteration of the Master Prop0","MCR","1.1_Draft 1.0"]
["7.9.19","Updated formula on References tab I36:N36 to allow formulas to work when NC is selected without a source or primary heating","MCR","1.1_Draft 1.0"]
["7.9.19","Updated EE and BE MMBTU formulas on Prop0 to have positive kWh MMBTU (Heating MMBTU Savings (kWh)) savings be counted as EE MMBTU and Negative kWh MMBTU counted as BE MMBTU","MCR","1.1_Draft 1.0"]
["7.10.19","Mapped Building SqFt to Prop0 column DW","MCR","1.1_Draft 1.1"]
["7.10.19","Changed contractor incentive to reference ReferencesH36 instead of ReferencesG14, because incentive was not appearing if NC was selected w/o a heating source or equipment","MCR","1.1_Draft 1.1"]
["7.11.19","Changed rounding values on Reference tab to be 7 and 5 for kW and kWh savings respectively","MCR","1.1_Draft 1.1"]
["7.11.19","Customer and contractor information were not populating to the Pre-Isection Form tab. Formulas were added to match the Post-Inspection Form tab.","MCR","1.1_Draft 1.1"]
["7.23.19","EFLH was correctly displayed for calculations, but incorrectly mapped to Prop0. Prop0 Full load hours now reference the Qualifying Index tab","MCR","1.1_Draft 1.2"]
["7.23.19","Added NOT ISNUMBER function for Existing equipment logic on the Qualifying Index to avoid non-number values from being used in formulas","MCR","1.1_Draft 1.2"]
["7.23.19","Changed Qualifying Index Winter kW calcs to reference HSPF not EER","MCR","1.1_Draft 1.2"]
["7.24.19","Changed font and border colors, and logos to match LM colors and logos on all tabs","MCR","1.1_Draft 1.2"]
["7.25.19","Changed Winter kW to look at heating efficiencies ","MCR","1.1_Draft 1.3"]
["7.25.19","Changed NC SEER baseline to 14 SEER to be consistant with the WH proposal ","MCR","1.1_Draft 1.3"]
["7.25.19","Rounded rebate to the nearest dollar","MCR","1.1_Draft 1.3"]
["7.29.19","Removed \"New Construction\" from the Elecrtic Heating table on the Worksheet","MCR","1.1_Draft 1.4"]
["7.29.19","Removed Coincidence Factor from Winter kW Savings as there is not Winter Peak yet","MCR","1.1_Draft 1.5"]
["7.31.19","Worksheet: Updated number formatting in \"existing\" table for cooling btuh","ED","1.1_Draft1.6"]
["7.31.19","Prop 0: Updated formula in Column K (Gross Winter kW) to drag down References I36 to all equipment lines","Ed","1.1_Draft1.7"]
["7.31.19","Qualifying Index: Column BC - Changed formula to reference column AJ instead of AI","ED","1.1_Draft1.7"]
["7.31.19","Prop 0: kW and MMBTU BE/EE Formulas dragged down","ED","1.1_Draft1.7"]
[]
["8.6.19","Locked up and finalized workbook per client approval; updated effective date to 8.6.2019 and version to 1.0 since this is the first INTERNAL version of the workbook","ED",1]
[]
["9.18.19","Reference: Changed the Ductless mini split ccASHP Tier 2 for Electric Heat measure code from CH302 to CH220","MCR","draft1.0"]
["9.18.19","Reference: Changed the Ductless mini split ccASHP Tier 2 for Whole House measure code from CH313 to CH220","MCR","draft1.0"]
["9.18.19","Reference: Changed the Ducted ccASHP Tier 2 for Electric Heat measure code from CH312 to CH221","MCR","draft1.0"]
["9.18.19","Reference: Changed the Ducted ccASHP Tier 2 for Whole House measure code from CH312 to CH221","MCR","draft1.0"]
["9.18.19","Refrences: Updated contractor incentive from $500 to $1,500 this will be effective for Sept 1st through October 31st","MCR","draft1.0"]
["9.18.19","Worksheet: changed Contractor Incentive on electric heat  eligibility table from $500 to $1,500","MCR","draft1.0"]
[]
["10.17.19","Early release of Whole House Application with senarios 2 & 3 available","MCR","2.0_draft1.0"]
["10.17.19","Customer Information: Added \"Whole House Existing Building\" and \"Whole House New Construction\" Option buttons","MCR","2.0_draft1.0"]
["10.17.19","Customer Information: Linked new Option buttons to References A21 & Macro","MCR","2.0_draft1.0"]
["10.17.19","References: Added a Whole House TRUE FALSE in C21","MCR","2.0_draft1.0"]
["10.17.19","Qualifying_Index: Added Column I to track which WH scenario is true","MCR","2.0_draft1.0"]
["10.17.19","Qualifying_Index: Cooling and Heating EFLH will change based on whether the project is Whole house, new constrcution, etc.","MCR","2.0_draft1.0"]
["10.17.19","Qualifying_Index: Revised New or Retrofit column to include Whole House","MCR","2.0_draft1.0"]
["10.17.19","Qualifying_Index: Revised New Equipment + Tier to include Whole House Scenario","MCR","2.0_draft1.0"]
["10.17.19","References: Added Scenarios 2 & 3 from 2020 Master Internal Resi draft 1.2.2","MCR","2.0_draft1.0"]
["10.18.19","Qualifying_Index: Adjusted rebate formula to include new Whole House scenarios","MCR","2.0_draft1.1"]
["10.18.19","Qualifying Index: Adjusted formulas in AG AH AJ AK to check if project is Whole House instead of New Construction","MCR","2.0_draft1.1"]
["10.18.19","Worksheet: Expanded rebate table","MCR","2.0_draft1.2"]
[]
["10.18.19","Change to External worksheet: Remove \"INTERNAL\", change colors to orange, logos are all PSEGLI","MCR","2.0_draft1.0"]
[]
["10.22.19","Worksheet: Changed logic in P38  formula to include Whole House New Construction","MCR","2.0_draft1.1"]
["10.22.19","Worksheet: Removed tables","MCR","2.0_draft1.1"]
["10.22.19","Added new tab \"Tables\"","MCR","2.0_draft1.1"]
["10.22.19","Tables: Recreated Electric Heat and Whole House eligibility tables","MCR","2.0_draft1.1"]
["10.22.19","Worksheet: Copied tables from \"Tables\" as pictures","MCR","2.0_draft1.1"]
["10.22.19","Customer Macro: Added two new Macros for the two Whole House option buttons that will trigger a pop up explaining the main criteria for whole house","MCR","2.0_draft1.1"]
["10.22.19","Customer Macro: Added two new Macros for the two Whole House option buttons that will trigger a pop up explaining the main criteria for whole house","MCR","2.0_draft1.1"]
["10.22.19","References: Changed H14 formula to include Whole House New Construction","MCR","2.0_draft1.1"]
["10.22.19","Qualifying_Index: Changed New or Retrofit to look for Whole House first","MCR","2.0_draft1.1"]
["11.4.19","References: Added Integrated Controls Section Listing Manufactures, and Models for both Dual Fuel Thermostats and Integrated controls. Based on masssave 10/18 list","MCR ","2.0_draft1.2"]
["11.4.19","Integrated Controls: Copied Dual Fuel Thermostat Tab and renamed \"Integrated Controls\"","MCR ","2.0_draft1.2"]
["11.4.19","Integrated Controls: Hid all but one row for User inputs","MCR ","2.0_draft1.3"]
["11.4.19","Integrated Controls: Linked drop downs to new Integrated Controls section in References. Manufacturers will update based on whether Thermostat or Control is selected.","MCR ","2.0_draft1.3"]
["11.4.19","Integrated Controls: Updated Customer and Contractor incentive based on 10/30/19 meeting. Contractor will get larger incentive for their labor.","MCR ","2.0_draft1.3"]
["11.4.19","Integrated Controls: Updated Instructions","MCR ","2.0_draft1.3"]
["11.4.19","Integrated Controls: Changed the eligibilty explanation in row 4 to be more relevant for dual fuel thermostats and integrated controls","MCR ","2.0_draft1.3"]
["11.4.19","Worksheet: Linked Integrated Control Check box to Integrated control sheet to hide/unhide","MCR ","2.0_draft1.3"]
["11.4.19","Worksheet: Removed Integrated Control incentive","MCR ","2.0_draft1.3"]
["11.4.19","Integrated Control: Added Contractor Incentive Column to table","MCR ","2.0_draft1.3"]
["11.4.19","Qualifying_Index: Added Integrated controls Section","MCR ","2.0_draft1.3"]
["11.4.19","Prop0: Linked Savings for integrated controls to the Qualifying Index","MCR ","2.0_draft1.3"]
["11.4.19","Prop0: Linked customer and contractor incentives, manufacturer, and model for integrated controls to the Integrated controls tab","MCR ","2.0_draft1.3"]
["11.4.19","Integrated Controls: Added instructions for smart thermostats","MCR ","2.0_draft1.3"]
["11.5.19","Qualifying_Index: Added Logic for SEER, HSPF Teirs 1 and 2 to find EH specific Minimum efficiencies","MCR","2.0_draft 1.4"]
["11.5.19","References: Populated Minimum efficiencies for Ductless ccASHP EH replacements","MCR","2.0_draft 1.4"]
["11.5.19","Integrated Controls: Deleted the Customer Incentive column","MCR","2.0_draft 1.4"]
["11.5.19","Integrated Controls: Chnaged Contractor Incentive to $500","MCR","2.0_draft 1.4"]
["11.6.19","References: Chnaged \"Air Source HP\" to \"Ducted Air Source HP\"","MCR","2.0_draft 1.4.1"]
["11.6.19","Qualifying Index:  Added logic to Whole House Scenario to generate scenario 3 for existing ducted ASHPs","MCR","2.0_draft 1.4.1"]
["11.7.19","Worksheet: Changed instructions to inform user to fill in the Customer Inouts tab first","MCR","2.0_draft 1.4.2"]
["11.7.19","Customer Information: Updated language at the top to explain which customers are eligible for the two rebate offerings on this application.","MCR","2.0_draft 1.4.2"]
["11.8.19","Integrated Controls: Switched Rebate back to Customer","MCR","2.0_draft 1.4.3"]
["11.8.19","Prop0: Moved Contractor incentive to Customer Rebate column","MCR","2.0_draft 1.4.3"]
["11.14.19","HPwES: Moved from PSEGLI_2020 Home Comfort_VERSION draft_2.4","MCR","1.0_draft 2.5"]
["11.14.19","HPwES H&S: Moved from PSEGLI_2020 Home Comfort_VERSION draft_2.4","MCR","1.0_draft 2.5"]
["11.14.19","References: Cut and Paste HP tables on draft 2.4 Reference tab to this Reference tab","MCR","1.0_draft 2.5"]
["11.14.19","HPwES: Changed Data Validation to use Offset formula for D110, J110, D122, J122, & D134","MCR","1.0_draft 2.5"]
["11.14.19","References: Cut and Paste DHW tabled from 2020 HPDI draft 4 References tab to this References tab","MCR","1.0_draft 2.5"]
["11.14.19","Customer Information: added 2 rows below Application Type & Named row Project Type","MCR","1.0_draft 2.5"]
["11.14.19","Customer Information: added 2 Check Boxes to Project Type called \"Whole House\" & \"Income Eligible\"","MCR","1.0_draft 2.5"]
["11.14.19","Customer Information: Linked \"Whole House\" check box to References cell C21","MCR","1.0_draft 2.5"]
["11.14.19","Customer Information: Linked \"Income Eligible\" check box to References cell C17","MCR","1.0_draft 2.5"]
["11.14.19","Macro: Added macro for \"Whole House\" (checkbox1) so that when TRUE a pop-up explains what whole house is","MCR","1.0_draft 2.5"]
["11.14.19","Macro: Added macro for \"Income Eligible\" (chackbox3) so that when TRUE a pop-up explains where they can learn if they are income eligible","MCR","1.0_draft 2.5"]
["11.15.19","Tables: Added Regular HC offerings table","MCR","1.0_draft 2.6"]
["11.25.19","Name Manager: Remove duplicate names","MCR","1.0_draft 2.7"]
["11.25.19","Qualifying Index: Added HPwES Duct Sealing table for calcs","MCR","1.0_draft 2.7"]
["11.25.19","Qualifying Index: Added HPwES Duct Sealing table to HPwES tab Heating and cooling information","MCR","1.0_draft 2.7"]
["11.25.19","References: Created a new table under Home Performance to show all locations for the duct sealing ","MCR","1.0_draft 2.7"]
["11.25.19","References: Added columns to new table for TRF and Distribution efficiency","MCR","1.0_draft 2.7"]
["11.25.19","Qualifying idex: Separated Heating and Cooling information from duct information on Duct Sealing table","MCR","1.0_draft 2.7"]
["11.25.19","Qualifying idex: Added third section under duct sealing for savings calcs","MCR","1.0_draft 2.8"]
["11.27.19","References: Filled out TRF and Distribution efficiency table","MCR","1.0_draft 2.8"]
["11.27.19","Qualifying Index: Linked Duct information table to References tab"]
["12.1.19","Ref Tab: Added table : Duct Attribute - Instulation (Added to name Manager)","ED","1.0_Draft2.9"]
["12.1.19","Ref Tab: Added \"Heating & Cooling 1\" and \"Heating & Cooling 2\" to Heating/Cooling Table (Updated Name Manager as needed)","ED","1.0_Draft2.9"]
["12.1.19","HPwES Tab: Added Heating & Cooling 2\" section under Heating and Cooling","ED","1.0_Draft2.9"]
["12.1.19","HPwES Tab: Heating and Cooling Section - Added \"btu\" after Heating and Cooling Capacity fields","ED","1.0_Draft2.9"]
["12.1.19","HPwES Tab: Added %Heating and % Cooling fields under Heating and Cooling Section","ED","1.0_Draft2.9"]
["12.1.19","HPwES Tab: Added field for \"Total Ductwork Performed\" under Duct Sealing Section","ED","1.0_Draft2.9"]
["12.1.19","HPwES Tab: Added \"Location Attribute\" field under Duct Sealing for Crawl Space Insulated/Uninsulated","ED","1.0_Draft2.9"]
["12.1.19","HPwES Tab: Changed Duct Square Footage to Linear Footage","ED","1.0_Draft2.9"]
["12.1.19","HPwES Tab: Added Location 3 under duct sealing section","ED","1.0_Draft2.9"]
["12.2.19","HPwES H&S: Removed references to Home Comfort draft 2.4_Testing Development tab","MCR","1.0_Draft3.0"]
["12.3.19","Project Completion Form HPwES Tab: Added tab per current HPwES requirements","ED","1.0_Draft 3.1"]
["12.05.19","Ref Tab: Added in Wall Insulation and Ceiling Insulation Tables per NYS TRM V 7 ","ED","1.0_Draft 3.3"]
["12.06.19","HPwES Tab: Added conditional formatting to duct section to hide \"Location Attribute\" fields unless Crawl Space is selected"]
["12.06.19","HPwES Tab: Removed option for \"Cooling\" and \"heating\" from system drop down and replaced with \"Heating and Coolin (1)\" and \"Heating and Cooling (1&2)\""]
["12.06.19","Name Manager: Changed Duct_Location range","MCR","1.0_Draft 3.5"]
["12.06.19","References: Added Unconditioned Basement Uninsulated to Duct Location & TRF table","MCR","1.0_Draft 3.5"]
["12.06.19","References: Expanded Duct Attribute table","MCR","1.0_Draft 3.5"]
["12.06.19","Qualifying Index: Added Additional Attribute and Duct Info columns to Duct Information Table under Duct Sealing","MCR","1.0_Draft 3.5"]
["12.06.19","Qualifying Index: Linked Additional Attribute to HPwES tab","MCR","1.0_Draft 3.5"]
["12.06.19","Qualifying Index: Updated TRF formulas","MCR","1.0_Draft 3.5"]
["12.06.19","Qualifying Index: Added Heating 1 Fuel and Heating 2 Fuel to HVAC Info Table under Duct Sealing","MCR","1.0_Draft 3.5"]
["12.09.19","HPwES: Changed Data Validation for Duct Attribute to reference different cells for Crawl Spaces","MCR","1.0_Draft 3.6"]
["12.09.19","References: Differentiated between Electric Resistance and Electric Heat Pump for Heating Sources under Home Performance w/ ES","MCR","1.0_Draft 3.6"]
["12.09.19","Qualifying Index added Air Sealing Information table which will Show CFM50 info, HVAc info for kWh/CFM lookups, kW/CFM lookups, and Therm/CFM lookups","MCR","1.0_Draft 3.6"]
["12.09.19","HPwES: Changed Existing R-Value data validation for Insulation to greater than or equal to 0","MCR","1.0_Draft 3.6"]
["12.09.19","Qualifying Index: Added Insulation Info Tbale","MCR","1.0_Draft 3.6"]
["12.09.19","References: Expanded Insulation tables to include \"in between\" values of installed insulation. Values found through linear interpolation","MCR","1.0_Draft 3.6"]
["12.10.19","References: Added a table for Existing and Installed R Values - Added both to Name Manager - \"Insulation_Existing_Rvalue\" and \"Insulation_Installed_Rvalue\"","ED","1.0_Draft3.7"]
["12.10.19","HPwES Tab: Added Total Cost and Rebate fields to each section (Duct Sealing, Air Sealing, and Insulation)","ED","1.0_Draft3.7"]
["12.10.19","HPwES Tab: Insulation - Existing R Value and R Value Installed fields - Added data validation to both fields to populate with drop down selections based on \"Insulation_Existing_Rvalue\" \nand \"Insulation_Installed_Rvalue\"","ED","1.0_Draft3.7"]
["12.10.19","HpwES Tab: Air Sealing - Added \"cubic feet\" after Conditioned Air Volume","ED","1.0_Draft3.7"]
["12.10.19","References: Expanded Insulation tables to include \"in between\" values of installed insulation. Values found through linear interpolation (done for HVAC:Heat Pump)","ED","1.0_Draft3.7"]
["12.11.19","References: Expanded Insulation tables to include \"in between\" values of installed insulation. Values found through linear interpolation (done for HVAC: AC with Electric Heart)","Ed","1.0_Draft3.8"]
["12.11.19","HPwES Tab: Removed drop down data validation from R-Value fields- Updated fields to reflect Whole Number Data Validation and added validation to ensure installed R value is greater than existing","ED","1.0_Draft3.8"]
["12.11.19","References: Expanded Insulation tables to include \"in between\" values of installed insulation. Values found through linear interpolation (done for Ceiling HVAC:AC with Gas)","MCR","1.0_Draft3.9"]
["12.11.19","References: Expanded Insulation tables to include \"in between\" values of installed insulation. Values found through linear interpolation (done for Ceiling HVAC:AC with Electric Heat)","MCR","1.0_Draft3.9"]
["12.11.19","References: Expanded Insulation tables to include \"in between\" values of installed insulation. Values found through linear interpolation (done for Ceiling HVAC:Heat Pump)","MCR","1.0_Draft3.9"]
["12.11.19","References: Expanded Insulation tables to include \"in between\" values of installed insulation. Values found through linear interpolation (done for Ceiling HVAC:Gas Heat only)","MCR","1.0_Draft3.9"]
["12.11.19","References: Expanded Insulation tables to include \"in between\" values of installed insulation. Values found through linear interpolation (done for Ceiling HVAC:Electric Heat only)","MCR","1.0_Draft3.9"]
["12.11.19","Qualifying Index: Finished Calculating Delta (kW,kWh,therms)/1000 sqft","MCR","1.0_Draft3.9"]
["12.11.19","Qualifying Index: Removed extra rows from Duct Sealing, Air Sealing, and Insulation","MCR","1.0_Draft3.9"]
["12.11.19","References: Updated Distribution Efficiencies for Duct Sealing to Average R-4+ and R-8+ Insulation for post sealing efficiency","MCR","1.0_Draft3.9"]
["12.12.19","References: Expanded Insulation tables to include \"in between\" values of installed insulation. Values found through linear interpolation (done for HVAC: Electric Heat No AC)"]
["12.12.19","References: Expanded Insulation tables to include \"in between\" values of installed insulation. Values found through linear interpolation (done for HVAC: Gas Heat No AC)"]
["12.12.19","HPwES Tab: Ductwork - Added a field to each duct section to collect \"R-Vaue Installed\""]
["12.12.19","HPwES Tab: Ductwork - Added a field to capture \"System Impacted\" - Added a drop down from the Name Manager \"Ductwork_HeatingCooling_System\""]
["12.12.19","Ref Tab: Added a table for Duct Heating and Cooling System - Added to Name Manager"]
["12.12.19","Qualifying Index: Added logic for HVAC portion of Duct Sealing","MCR","1.0_Draft4.2"]
["12.13.19","Worksheet: Removed Conditional Formatting in H52:H61 so that you do not have to enter \"HP\". All systems should be heat pumps","MCR","1.0_Draft4.3"]
["12.13.19","Worksheet: Expanded C52:C61 Data Validation to include PTHPs","MCR","1.0_Draft4.3"]
["12.13.19","Customer Information: Chnaged \"Customer Name\" to \"Account Holder Name\"","MCR","1.0_Draft4.3"]
["12.13.19","Qualifying Index: Adjusted Manual J Pass/Fail to require Manual J for all Whole House Systems, and Ducted non-Whole House only","MCR","1.0_Draft4.3"]
["12.13.19","Qualifying Index: Added Heating FF Laod to Duct Info under Duct sealing","MCR","1.0_Draft4.3"]
["12.13.19","Qualifying Index: Changed Logic in Savings formula to account for new Manual J PASS/FAIL criteria","MCR","1.0_Draft4.3"]
["12.16.19","Qualifying Index: Adjusted Dut Sealing Savings","MCR","1.0_Draft4.4"]
["12.17.19","Qualifying Index: Adjusted Air Sealing Savings","MCR","1.0_Draft4.5"]
["12.17.19","Qualifying Index: Adjusted Insulation Savings","MCR","1.0_Draft4.5"]
["12.17.19","References: Created a HP measure codes table","MCR","1.0_Draft4.5"]
["12.17.19","Qualifying Index: Added Duct Sealing lookup","MCR","1.0_Draft4.5"]
["12.17.19","Qualifying Index: Added Air Sealing lookup","MCR","1.0_Draft4.5"]
["12.17.19","Qualifying Index: Added Insulation lookup","MCR","1.0_Draft4.5"]
["12.17.19","HPwES: Changed formulas in C146, I146, C158, I158, C170, and I170 to look for \"Basement Ceiling\"","MCR","1.0_Draft4.5"]
["12.17.19","HPwES: Changed Conditional formatting in D146, J146, D158, J158, D170, and J170 to look for \"Basement Ceiling\"","MCR","1.0_Draft4.5"]
["12.17.19","References: Changed Sealing to Ceiling in cell AN68","MCR","1.0_Draft4.5"]
["12.17.19","References: Added Rebate lookup table","MCR","1.0_Draft4.5"]
["12.17.19","Qualifying Index: Added Rebate calculation to all three measures","MCR","1.0_Draft4.5"]
["12.17.19","HPwES: Linked Rebate to Qualifying Index tab calculations","MCR","1.0_Draft4.5"]
["12.17.19","Prop0: Linked Measure codes to Qualifying Index tab","MCR","1.0_Draft4.5"]
["12.17.19","EFS Pre-Approval Tab: Added this new tab to build  EFS Loan approval letter using fields provided by Steve Wagner"]
["12.17.19","Macro: Udated Check box Macro for Whole House, Income Eligible, and Electric Resistance to Hide/Unhide tables","MCR","1.0_Draft4.7"]
["12.18.19","References: Extended Rebate lookup table to include LMI rebates","MCR","1.0_Draft4.8"]
["12.18.19","Qualifying Index: Changed Rebate calculations for HP measures to change to LMI if \"Income Eligible\" is selected","MCR","1.0_Draft4.8"]
["12.18.19","Macro: Module5: Un-comment New Construction Option button","MCR","1.0_Draft4.8"]
["12.18.19","Macro: Module5: Change New Construction Clear range to be consistent with added rows, and move unlock to after the clear content","MCR","1.0_Draft4.8"]
["12.18.19","References: Added Gas/Oil split for New Construction in table N2:O4","MCR","1.0_Draft4.8"]
["12.18.19","References: Changed New Construction Efficiency to weighted average of Gas and Oil","MCR","1.0_Draft4.8"]
["12.18.19","References: Changed New Construction CO2 to weighted average of Gas and Oil ","MCR","1.0_Draft4.8"]
["12.18.19","Calculations: Changed Displacement factor formula","MCR","1.0_Draft4.8"]
["12.18.19","EFS Pre-Approval Tab: Finished Tab based on SW comments. Added conditional formatting to generate fields based on code 1043","ED","1.0_Draft4.9"]
["12.18.19","PCF Tab: Added a field under Customer Information to captuer \"Loan Project ID\" and linked to EFS Project ID cell on EFS Pre-App Tab","ED","1.0_Draft4.9"]
["12.18.19","PCF Tab: Added \"Loan - Rebate assigned to EFS\" as a radio button for customer rebate method","ED","1.0_Draft4.9"]
["12.18.19","HPwES PCF Tab: Added a field under Customer Information to captuer \"Loan Project ID\" and linked to EFS Project ID cell on EFS Pre-App Tab","ED","1.0_Draft4.9"]
["12.18.19","Hpwes PCF Tab: Added \"Loan - Rebate assigned to EFS\" as a radio button for customer rebate method","ED","1.0_Draft5"]
["12.18.19","Required Docs Tab: Added Required Documents for HPwES, Loan, and LMI","ED","1.0_Draft5"]
["12.18.19","Airflow tabs: Updated all air flow tabs 2-10 to include section 3 like tab 1","ED","1.0_Draft5.1"]
["12.19.19","PCF Tabs - Removed \"Loan-Rebate assigned to EFS\" radio buttons","ED","1.0_Draft5.2"]
["12.19.19","Customer Info Tab - Removed \"Loan\" checkbox associated with Rebate Payment Type","ED","1.0_Draft5.2"]
["12.19.19","Guidelines Tab: Reworked guidelnes tab to include specifics for All Project types, Home Comfort Projects, and HPwES Projects","ED","1.0_Draft5.2"]
["12.19.19","Name Managed - Added \"HP_Content1\" \"HP_Content2\", \"HP_Content3\" and tied to HPwES tab \"Clear Input\" Button - Updated Code as well","ED","1.0_Draft5.3"]
["12.19.19","Customer Information: Changed Primary Heating to Existing Primary Heating","MCR","1.0_Draft5.4"]
["12.19.19","References: Updated rebates for non-whole house and non electric replacements","MCR","1.0_Draft5.4"]
["12.20.19","Tables: Adjusted columns to show contractor incentive is (per Project)","MCR","1.0_Draft5.6"]
[null,"Tables: Updated Contractor incentive"]
[null,"Worksheet: Added adjusted tables"]
[null,"References: Updated Partial Rebate Values to match \"SystemToTonNonWHashp_v1\" proposal"]
[null,"EFS Pre-Approval: Adjusted Customer Incentive formula to change \"\" values to 0"]
["12.21.19","Review of formatting ","ED","1.0_draft5.7"]
["12.23.19","Integrated Controls: Added link to NYSERDA Qualified Integrated Controls list","MCR","1.0_draft5.8"]
["12.23.19","Integrated Controls: If Incomeligible is selected the rebate is $750 for an integrted control","MCR","1.0_draft5.9"]
["12.23.19","Worksheet: Partial House rebate typo incetive was change to incentive","MCR","1.0_draft5.9"]
["1.6.2020","References: Added \"per Project\", \"per ton\", and \"per control\" to the appropriate rebate and incentive columns (X21:Z21) [Voltz request]","MCR","1.0_draft1.6"]
["1.6.20","References: changed Learning thermostat rebate to $50 per control","MCR","1.0_draft1.6"]
["1.6.20","Smart T-stat: Customer Incentive now shows $35 for Wifi Enabled and $50 for Learning","MCR","1.0_draft1.6"]
["1.6.20","Worksheet: PTHP can receive Contractor Incentive","MCR","1.0_draft1.6"]
["1.6.20","Workbook Locked for Use","MCR","version 1.0"]
["1.7.20","Worksheet: Allow PTHP to receive contractor incentive","MCR","version 1.1_draft1"]
["1.7.20","References: Removed Ductless ASHP tier 2","MCR","draft1"]
["1.7.20","Qualified index: Whole House Scenario should look for ReferencesA21=2 not 4","MCR","draft1"]
[]
["1.7.20","Locked and finalized workbook as Version 1.1 (Version 1.0 was sent internally but with a glitch)","ED","Version 1.1"]
[]
["3.4.20","Changed version to 1.2 in preparation of Q2 launch","MCR","Version 1.2_draft 1"]
["3.4.20","Custom Information: Added Data validation to the Building Size cell so only numbers are entered","MCR","draft 1"]
["3.4.20","References: Added Freeze Stat to the integrated drop dpwn list for Technology Type","MCR","draft 1"]
["3.4.20","Integrated Controls: adjusted data validation to allow user entry of Manufacturer name and Model. (This should only be used for freeze stats.)","MCR","draft 1"]
["3.4.20","Qualifying Index: Chnaged Connected Cooling and Heating to Connected Heating and Cooling","MCR","draft 1"]
["3.4.20","Prop0: Changed Measure code lookup to reference Qualifying Index column R","MCR","draft 1"]
["3.4.20","Prop0: Changed per unit rebate to reference Qualifying Index column U","MCR","draft 1"]
["3.4.20","References: Added Freeze Stat to the Home Comfort measure code table","MCR","draft 1"]
["3.4.20","HPwES: Added Data Validation message for r-values less than 11 for installed insulation","MCR","draft 1"]
["3.6.20","References: Added Freeze Stat Rebate of $350","MCR","Draft 2"]
["3.6.20","Integrated Controls: Added Instruction \"4\" stating that the Freeze Stat must switch at 32 degrees or less","MCR","Draft 2"]
["3.6.20","Integrated Controls: added \"Freeze Stats\" to rebate table","MCR","Draft 2"]
["3.6.20","Integrated Controls: Added 2nd row ","MCR","Draft 2"]
["3.6.20","Post-Inspection: Added addition row for integrated contrls","MCR","Draft 2"]
["3.6.20","Qualifying_Index: Added row to Integrated control table","MCR","Draft 2"]
["3.6.20","Qualifying_Index: Added column to Integrated control table that calculates the rebate, but doesn't allow more than one","MCR","Draft 2"]
["3.6.20","Integrated Controls: Linked rebate column to the Qualifying Index","MCR","Draft 2"]
["3.6.20","Qualifying Index: Changed Whole House Manual J requirements to 90%-125%","MCR","Draft 2"]
["3.6.20","Home Comfort Worksheet: Changed AHRI heating header to say AHRI Heating BTUh @ 17⁰F","MCR","Draft 2"]
["3.12.20","Qualifying Index: Added Heating QIV kWh column","MCR","Draft 3"]
["3.12.20","Qualifying Index: Adjusted QIV kWh to Cooling QIV kWh","MCR","Draft 3"]
["3.12.20","Qualifying Index: Adjusted QIV kW column","MCR","Draft 3"]
["3.12.20","Qualifying Index: Adjusted Heating kWh Savings to reference new heating QIV kWh","MCR","Draft 3"]
["3.12.20","HPwES: Added formula next t rebate when rebate is capped that the rebate cannot be higher than the cost ","MCR","Draft 3"]
["3.12.20","Air Flow References: Created","MCR","Draft 3"]
["3.12.20","References: Cut and pasted Air flow tables to Air Flow References","MCR","Draft 3"]
["3.12.20","References: Moved Home Comfort Measure Code table and HPwES info to columns AB through BP","MCR","Draft 3"]
["3.20.20","Qualifying Index: Changed Whole House Manual J requirements FROM 90%-125% TO 100%-130%"]
["3.20.20","EFS Pre-Approval: Added field for Steve","MCR","Draft 4"]
["3.20.20","Qualifying Index: Added QIV savings to heating kWh savings when fuel switching is present","MCR","Draft 5"]
["3.20.20","Qualifyinig Index: Adjusted MMBTU Heating from kWh formula for QIV savings","MCR","Draft 5"]
["3.20.20","Prop0: Integrated Control formulas were extended to include Freeze Stats","MCR","Draft 5"]
["3.20.20","Air Flow Tabs 1-10: Fixed workinf under Option 3","MCR","Draft 5"]
["3.24.20","Guidelines Tab: Added additional language and made edits to existing language as per Josh Ebner (PA for Home Comfort ) - Also re-organized lines per JE's request","ED","Draft 6"]
["3.24.20","Required Documents Tab: Updated Responsible Party for Pre/Post INS to \"Customer and PSEG LI Representative\"","ED","Draft 6"]
["3.24.20","Ts and Cs/Required Documents/Guidelines Tabs: Added box for initials to the bottom of each tab","ED","Draft 6"]
["3.24.20","Ts and CS Tab: Line 4 - added Pre and Post inspections are required (in bold text)","ED","Draft 6"]
["3.24.20","Ts and Cs Tab: Line 10 - Added language that the ASHP must be the primary heating source in the space","ED","Draft 6"]
["3.24.20","Worksheet Tab: Added the following language to the \"Important\" header:  *Pre and Post Inspections are required for all projects. Where a Whole House installation is completed, the PSEG Long Island Inspector will need to access the inside of the home to verify the removal of the existing heating source and confirm installation of integrated controls.","ED","Draft 6"]
["3.24.20","Guidelnes Tab: Added language to line 25 stating that the Whole House ASHP must meet 100-130 of the load and also be used at that capacity","ED","Draft 6"]
["3.24.20","HPwES Tab: Removed COP field from Cooling System 1 and 2","ED","Draft 6"]
["3.24.20","HPwES Tab: Name Manager - \"HP Content 1\" - Updated cells to account for removal of COP fields (this allows Clear Inputs button to function properly)","ED","Draft 6"]
["3.24.20","HPwES Tab: Corrected the misspelling of \"Efficiency\"","ED","Draft 6"]
["3.26.20","Had to re-save draft as 6.1 - draft 6 was giving an error message that draft was in-use, but it was not","ED","Draft6.1"]
[]
["4.6.2020","T&Cs: Formated \"Initials\" cell to not \"Locked\"","MCR","Draft 7"]
["4.6.2020","Guidelines: Formated \"Initials\" cell to not \"Locked\"","MCR","Draft 7"]
["4.6.2020","Required Docs: Formated \"Initials\" cell to not \"Locked\"","MCR","Draft 7"]
["4.6.2020","Qualilfying Index: Dragged down cell R42 to R51","MCR","Draft 7"]
["4.6.2020","Smart Tstats: Hide column J","MCR","Draft 7"]
["4.6.2020","Integrated Controls: Changed wording in Row 4 to\"If the customer will have fossil fuel back up heat present after the proposed equipment is installed, Integrated Controls, Freeze Stats, or Dual Fuel Thermostats must be installed. For Ductless Systems, installation of Integrated Controls or Freeze Stats is required.\"","MCR","Draft 7"]
["4.6.2020","Air Flow References: testing ranges C11:F12","MCR","Draft 7"]
["4.6.2020","Smart Tstats: Hide row 31","MCR","Draft 7"]
["4.8.2020","Prop0: Changed per unit incentive to reference Integrated Controls","MCR","Draft 8"]
["4.8.2020","Prop0: Changed Product Line and Product Class of Integrated Controls to only show up if measure code shows up","MCR","Draft 8"]
["4.8.2020","EFS Approval: Changed Customer Incentive amount to add up the individual Home Comfort tabs","MCR","Draft 8"]
["4.8.2020","T&Cs: Added #5. to specify ccASHPs must be NEEP listed","MCR","Draft 8"]
["4.9.2020","Integrated Controls: Added language to Instructions to inform customer that Freeze Stat inputs are manual entries and not selectable in the dropdown","ED","Draft 9"]
["4.10.2020","Worksheet: Removed \"@ 17 degrees\" from heating","MCR","Draft 10"]
["4.10.2020","Worksheet: Changed Partial Home Eligibility Table to have ccASHPs be tier 2","MCR","Draft 10"]
["4.10.2020","References: Changed AX90 to \"Fossil Fuel Only\"","MCR","Draft 10"]
["4.10.2020","Qualifying Index: Extended formula in AG78 down to other rows","MCR","Draft 10"]
["4.10.2020","Air Flow References: Chnaged CFM Air flow range to a formula based on ACCA Standard 5","MCR","Draft 10"]
["4.10.2020","Air Flow References: Changed Sub cooling Outdoor Dry Bulb Temp to 114","MCR","Draft 10"]
["4.10.2020","Air Flow References: Changed Superheat Outdoor Dry Bulb Temp to 114","MCR","Draft 10"]
["4.10.2020","Air Flow References: Changed Measured Subcooling to moving range based on Required Subcooling","MCR","Draft 10"]
["4.10.2020","Air Flow References: Changed Measured Superheat to moving range based on Required Subcooling","MCR","Draft 10"]
["4.10.2020","Air Flow Form: Added space for Measured Subcooling and Super heat to FAIL based on value compared to Required Subcooling","MCR","Draft 10"]
["4.14.20","Air Flow References: Chnaged CFM Air flow range to a formula based on ACCA Standard 5 (Air Flow tabs 3-10)","MCR","Draft 11"]
["4.14.20","Air Flow References: Changed Sub cooling Outdoor Dry Bulb Temp to 114 (Air Flow tabs 3-10)","MCR","Draft 11"]
["4.14.20","Air Flow References: Changed Superheat Outdoor Dry Bulb Temp to 114 (Air Flow tabs 3-10)","MCR","Draft 11"]
["4.14.20","Air Flow References: Changed Measured Subcooling to moving range based on Required Subcooling (Air Flow tabs 3-10)","MCR","Draft 11"]
["4.14.20","Air Flow References: Changed Measured Superheat to moving range based on Required Subcooling (Air Flow tabs 3-10)","MCR","Draft 11"]
["4.14.20","Air Flow Form: Added space for Measured Subcooling and Super heat to FAIL based on value compared to Required Subcooling (Air Flow tabs 3-10)","MCR","Draft 11"]
["4.15.20","Macro: Hide/Unhide Integrated controls check box if Whole House is not checked off","MCR","Draft 12"]
["4.17.20","Integrated Controls: Changed Dual Fuel Thermostat Named Range to be C17:G18","MCR","Draft 12"]
["4.27.20","Air Flow tabs 1-10: Changed wording in Notes to say DIVIDE pascals by 249.09, in place of multiply","MCR","Draft 13"]
["4.27.20","Air Flow tabs 1-10: Updated Capacity of refrigerant to say lbs. and oz.","MCR","Draft 13"]
["4.29.20","Qualifying Index: Heating Manual J check to make sure its whole house and not Electric","MCR","Draft 14"]
["4.29.20","Macro: changed explanation of Manual J to 100%","MCR","Draft 14"]
["5.22.20","Admin Tab: Re-aligned HPwES savings with Prop0","MCR","Draft 15"]
["5.22.20","Prop0: Linked savings to Qualifying Index tab","MCR","Draft 15"]
["5.26.20","Qualifying Index: Changed Insulation logic for fossil fuel only systems","MCR","Draft 16"]
["6.12.20","Airflow Form 1-10: Added decimals for inches and oz/feet in the wiegh in method ","MCR","Draft 17"]
["6.22.20","Prop0: Expanded Integrated control reference to References row 34","MCR","Draft 18"]
["6.22.20","Qualifying Index: Added kW savings for connectd thermostats","MCR","Draft 18"]
["6.22.20","Prop0: References Qualifying index for thermostat kW savings","MCR","Draft 18"]
["6.22.20","References: Changed the CF for connect thermostats to 0"]
["6.24.20","Worksheet: Added data validation for Existing equipment: Numbers greater than 0","MCR","Draft 19"]
["6.24.20","References: Fixed Electric Resistance heating with AC insulation interpolation","MCR","Draft 19"]
["6.24.20","Qualifying Index: HPwES Insualtion Delta kWh 2 High Reference AE instead of AD","MCR","Draft 19"]
["7.06.20","HPwES: Data Validation so that no one can enter more than 100% of the load","MCR","Draft 20"]
["7.07.20","Customer Information: Added additional language to the Whole House Check Box about the Integrated controls tab","MCR","Draft 21"]
["7.07.20","Customer Information: Changed the Whole House Message box to an Exclamation","MCR","Draft 21"]
["7.07.20","Integrated Controls: Chnaged color and move to the right of Whole House","MCR","Draft 21"]
["7.07.20","Customer Information: Changed the Whole House check box function to open Integrated Controls tab","MCR","Draft 21"]
["7.15.20","Worksheet: Round Rebate values to have no decimals","MCR","Draft 23"]
["7.21.20","Customer Information: Macro: Changed Electric Resistance pop-up message to have homecomfortLI@pseg.com as the website","MCR","Draft 24"]
[]
["7.27.20","Per Brian L. 7.20.20 email the following changes were made:","MCR","Draft 25"]
[null,"Required Doc: Rows 37 - 42 were hidden, and the check boxes for loan docs were removed."]
[null,"T&C: removed \"For Loan project, send all Loan ProFormas directly to EFS\" from row 9 "]
[null,"Guidelines: Changes row 15 language to “For Loan project, send all Loan ProFormas directly to EFS”"]
[null,"Guidelines: Changed Row 8 (item 4) to \"Pre and post verification of installed equipment is required. PSEG will accept photo verification in lieu of inspection.\""]
[null,"Worksheet: Changed language about inspectins to \"Pre and post verification of installed equipment is required. PSEG will accept photo verification in lieu of inspection.\""]
[null,"Development tab: Changed effective range to 7.1.20 - 9.30.20"]
[]
["9.17.20","HPwES tab name changed to Workheet","MCR","draft 1.0"]
[null,"HC Worksheet tab name changed to Remove"]
[null,"Worksheet: Moved Heating Source to the top of the Heating information"]
[null,"Worksheet: Added Cooling Source to the top of the Cooling information"]
[null,"Worksheet: Hid all HVAC efficiency and % information "]
[null,"Worksheet Added Check boxes next to the Duct Sealing, Air Sealing and Insulation headers"]
[null,"Worksheet: Macro: Coded new check boxes to hide unhide the input sections","MCR","draft 1.1"]
[null,"Worksheet: Added Air Curtains and Pipe Insulation Measures"]
[null,"Worksheet: Added Inputs for Air Curtains and Pipe Insulation"]
[null,"Worksheet: Added check boxes next to Air Curtain and Pipe Insulation headers"]
[null,"Worksheet: Macro: Coded new check boxes to hide unhide the input sections"]
[null,"Changed Header on all tabs to 2020 Commercial Efficiency Prgram"]
[null,"Remove: Deleted HC tab as it is not needed"]
[null,"Worksheet Added space for eligibility criteria for each measure"]
["9.18.20","References: Added Commercial EFLH","MCR","draft 1.2"]
[null,"References: Deleted all HC references"]
[null,"References: Added all commercial heating and cooling equipment"]
[null,"References: added heating and cooling efficiencies from ASHRAE 2016"]
["9.21.20","Qualifying Index: Finished HVAC Info on Qualifying Index for heating","MCR ","draft 1.3"]
[null,"Qualifying Index: Moved Duct Sealing Table below HVAC table"]
[null,"Qualifying Index: Added Cooling and Heating 1 & 2 TRUE/FALSE "]
[null,"Qualifying Index: fixed cooling and heating load calcs"]
[null,"Qualifying Index: Added Cooling and Heating kWh and MMBTU savings table"]
["9.21.20","Guidelines: Updated guidelines ","AW","draft 1.4"]
["9.22.20","References: Fixed Distribution Efficiency table for duct sealing","MCR","draft 1.5"]
["9.23.20","Customer Inforamtion: Editted to look like the Standard Application","MCR","draft 1.6"]
[null,"References: Set up building type look-up table"]
[null,"Qualifying Index: updated INDEX MATCH for Distribution Efficiency"]
[null,"Qualifying Index: Added Duct Sealing kW Savings, MMBTU Svaings, and CO2 Savings"]
[null,"Qualifying Index: Added Air Sealing Information table and Savings clalcs"]
[null,"Qualifying Index: Created Designated area for Insulation, Air Curain, and Pipe Insulation Information tables"]
[null,"Qualifying Index: Added Air Curtains formulas and savings"]
["9.25.20","Qualifying Index: Started changing Headers and formulas for pipe insulation"]
[null,"References: built out pipe insulation tables","MCR","draft 1.7"]
["10.16.20","Worksheet: Added Pictures for each measure","MCR","draft 1.10"]
[null,"Worksheet: Moved Criteria to column F and Total Cost to column C"]
[null,"Worksheet Macro: Changed Hide unhide for each measure to new range"]
["7.12.21","References: Added table to show indoor temperature setpoints of businesses","MCR","draft 3.0"]
[null,"References: Added outdoor average temperatures","MCR","draft 3.0"]
["7.13.21","Qualifying Index: Adjusted delta temperature formula to reference the indoor temperature and outdoor temperature tables","MCR","draft 3.1"]
[null,"References: Added table with random air sealing variables"]
[null,"Qualifying Index: Adjusted cooling and heating kWh and MMBTU formulas to reference new table instead of hard coded values"]
[null,"Qualifying Index: Added delta temperature to Insulation section"]
[null,"Qualifying Index: Added Savings formulas for Insulation"]
[null,"Qualifying Index: Deleted old Insulation tables"]
[null,"Qualifying Index: Added new Duct Sealing section"]
[null,"References: Add REM columns for Duct Sealing"]
[null,"Qualifying Index: Added Savings formulas for Duct Sealing"]
[null,"Worksheet: Macro: Updated Hide/Unhide lengths for check boxes"]
["7.30.21","Qualifying Index: Updated Insulation Fossil Fuel MMBTU","MCR","draft4"]
[null,"Qualifying Index: Updated Insulation EE CO2 formula"]
[null,"References: Added Rebates or rebates per area"]
[null,"Qualifying Index: added Insulation, air sealing, air curtain, and pipe insulation rebates"]
[null,"Worksheet: added Insulation, air sealing, air curtain, and pipe insulation rebates"]
["8.4.21","T's and C's: copy and pasted CEP terms and conditions (from HVAC worksheet)","AW","Version1.0_draft5"]
["8.4.21","Required Docs: tab updated to include list of required docs from CEP (HVAC worksheet)","AW","Version1.0_draft5"]
["8.4.21","Guidelines: tab updated to include guidelines from CEP (HVAC worksheet)","AW","Version1.0_draft5"]
["8.5.21","Ref Tab: Removed space in equipment names in table beginning in F50","ED","Version1.0_Draft6"]
["8.5.21","T's and C's: customized language for Commercial Weatherization Program","AW","Version1.0_Draft7"]
["8.5.21","Guidelines: Updated guidelines to reflect weatherization","AW","Version1.0_Draft7"]
["8.5.21","References: Added and removed spaces from heating types","MCR","draft8"]
[null,"Qualifying Index: Added O96=0 to Duct Sealing Fossil Fuel MMBTU logic"]
[null,"Qualifying Index: Added O96=0 to Insulation Fossil Fuel MMBTU logic"]
["8.10.21","Worksheet: Added Pipe Insulation eligibility","MCR","draft9"]
[null,"Qualifying Index: Added logic for no heating  MMBTUs if there are no fossil fuel MMBTUs"]
[null,"Worksheet: Added rebate levels to check boxes"]
["8.17.21","Worksheet: Added Total Project Cost","MCR","draft10"]
["8.18.21","Qualifying Index: Added Total Rebate, Total Project Cost, and Calculated Rebate, and %","MCR","draft11"]
[null,"Qualifying Index: Added Calculated rebate to each measure"]
[null,"Worksheet: Added new rebate capped message"]
[null,"Qualifying Index: Added Pipe Insulation Totals MMBTUs"]
["8.19.21","Worksheet: Corrected reference cell for Cost for Duct Sealing Rebate (Formula was refencing cell D87 instead of D48)","ED","Draft12"]
["8.19.21","Ts and Cs: Updated formatting in header","AW","Draft13"]
[null,"Required Docs: Updated formatting in header"]
[null,"Guidelines: Updated formatting in header"]
["8.19.21","Qual Index: Corrected R Value Installed Formula","ED","Draft14"]
["8.19.21","Insulation Eligibility: updated formatting in header","AW","Draft 15"]
["8.20.21","Changed Effective date","MCR","Draft16"]
[null,"Customer Info: Removed language about ACCA Manual Js. It is not relevant to this application"]
[null,"Required Docs: Hid Whole House cASHP check boxes and rows"]
[null,"Qualifying Index: Removed VALUE errors from the qualifying index when no heating and cooling system is entered. Rebate will default to 0"]
[null,"Locked sheets for testing & QC"]
["8.23.21","Dev Tab: Updated effective date to 10.1.2021 - 12.31.2021","ED","Draft17"]
["8.23.21","Ts and Cs: Deleted comments and removed highlights","ED","Draft17"]
["8.23.21","Guidelines: Added language to row 7 that NC does not qualify","ED","Draft17"]
["8.23.21","Guidelines: Row 11 - Increased Row height (language was hiddeen)","ED","Draft17"]
["8.23.21","Guidelines: Row 16 - Increased Row height (language was hiddeen)","ED","Draft17"]
["8.23.21","Worksheet Tab: Reworded Commercial HVAC offering language in row 38 and added link to commercial page underneath (did not add rows for this)","ED","Draft17"]
["8.23.21","Worksheet Tab: Added Instruction 4 about entering measure project cost and total project cost","ED","Draft17"]
["8.23.21","Worksheet Tab: Correct Typos and Grammar on page","ED","Draft17"]
["8.23.21","Air Flow Tabs: VBA - Made \"Sheet Very Hidden\"","ED","Draft17"]
["8.23.21","Smart Tstat Tab: VBA - Made \"Sheet Very Hidden\"","ED","Draft17"]
["8.23.21"," Inspection Form Tabs: VBA - Made \"Sheet Very Hidden\"","ED","Draft17"]
["8.23.21","Guidelines: Added Row 8 language - Building must be 10,000 Square Feet or less to be eligible.","ED","Draft18"]
["8.23.21","Cust Info: Building Size Box: Added data validation and message to not allow entry over 10,000 sq ft","ED","Draft18"]
["8.24.21","Qualifying Index: Added Summer and Winter kW to Air Curtains and Pipe Insulation","MCR","Draft 19"]
[null,"Qualifying Index: Removed VALUE, NA, and DIV0 errors from savings"]
["8.24.21","Worksheet: Added Validation to all numeric user entry cells to only allow Whole Numbers and Decimals","MCR","Draft 20"]
[null,"Worksheet: Added Validation to all Post and Installed values so the returned value is more efficient than the Pre or Existing value. Message updated as well"]
[null,"Customer Information: Fax input updated to allow large numbers"]
[null,"Customer Information: Chnaged Etimated Rebate to a formula that SUMs all rebates"]
["8.31.21","Worksheet: Changed the pre and post CFM data validaion so the post is less than the existing","MCR","Draft 21"]
["9.2.21","Guidelines: added insulation and air sealing requirement language to line 9","AW","Draft 22"]
["9.2.21","Customer Info: unlocked cell J16 (\"Other\" building type description)","AW","Draft 23"]
["9.2.21","Customer Info: Adjusted formatting on Contractor phone number cells to be left-aligned, consistent with other phone number fields","AW","Draft 23"]
["9.8.21","Qualifying Index: Removed #Value errors from CO2 calc","MCR","Draft 24"]
[null,"Qualifying Index: Removed value errors from eflh heating"]
[null,"References: Added lower limit to the equipment size table of \"0\""]
[null,"Worksheet: Conditioned Floor Area had added Data Validation to ensure area is less than10000"]
[null,"Worksheet: added data vaildation for horsepower <20hp"]
[9.24,"Guidelines tab: added the following language to row 23:","AW","Draft 25"]
[null,"If customer has participated in any other state or utility sponsored rebate program, related to the technology in this application, please contact a PSEG Long Island Representative to determine whether the project is also eligible under this program."]
["9.24.21"]
["9.29.21","Required Docs: Changed Inspection Responsible Party to Customer/Applicant","MCR","Draft 28"]
[null,"Required Docs: Added note that in person inspections are suspended and the PSEG project representitive can help them with what is required to be in those photos"]
[null,"Guidelines: \"All projects are subject to Pre-Inspection\" wording was added to pre inspection requirement"]
["9.6.22","References: Updated Duct Sealing Reference Table to match 2023 TRM","MCR","2023_Version 1.0_draft1"]
[null,"Qualifying Index: Updated Savings Formulas to 2023 methodology"]
["9.30.22","Worksheet: Removed Project Cost cell","MCR","draft2"]
[null,"Qualifying Index: Sum individual measure costs instead of referencing a total project cost cell"]
[null,"References: Added 80% for rebate cost cap "]
[null,"Qualifying Index: Reference 80% cost cap on references tab"]
["9.30.22","Guidelines: Updated cost cap to 80%","MT","draft3"]
["10.10.22","Insulation Eligibility: Created table to replace screenshot","MCR","draft4"]
[null,"Worksheet: Removed Location Attribute from Insulation"]
[null,"Worksheet: Removed error message in Air Sealing in wrong spot"]
[null,"References: Electric Furnace Fossil Fuel T/F changed to FALSE"]
[null,"References: Fixed Air Cooled Air Conditioner Single Package >5.4 & <11.25 in table lookup. \"<\" was missing"]
[null,"Qualifying Index: Multiplied savings by Sqft"]
[null,"Worksheet: Added \"conditioned\" to the indoor/outdor criteria for Air Curtains"]
[null,"Worksheet: Added height entry for the Air Curtain measure"]
[null,"References: Added Pipe Diameter 0.5 for pipe insulation table"]
[null,"References: water temp from 140 to 125"]
[null,"References: Electric Storage Water Heater efficiency updated to 0.98"]
[null,"Customer Information: Changed Organization Type, Building Type, and Payment Type to dropdowns"]
[null,"References: Chnaged building type look up t be based on new drop downs"]
[null,"Guidelines: increased font for the email address to 14 pt font"]
[null,"Worksheet: Changed Worksheet instruction #4 to read \"Rebates will be capped based on the total cost of the project\""]
[null,"Worksheet: Edited hyperlink to PSEGLI CEP rebate page"]
[null,"Worksheet: Added Pipe Insulation eligibility to select nearest value"]
["10.11.22","Worksheet fixed rounding and commas for measure inputs","MCR","draft5"]
[null,"All tabs: Removed \"We make things work for you\" from PSEG images"]
["10.13.22","Pre Inspection Form: Deleted","MCR","draft6"]
[null,"Post Inspection Form: Changed to Inspection Form"]
[null,"Post Inspection Form: Added section for Duct Sealing"]
[null,"Post Inspection Form: Added section for Air Sealing"]
[null,"Post Inspection Form: Added section for Insulation"]
["10.14.22","Post Inspection Form: Added section for Air Curtains","MCR","darft7"]
[null,"Post Inspection Form: Added section for Pipe Insulation"]
[null,"Worksheet: Added new named ranges to be used in the \"Clear Inputs\" macro"]
[null,"Worksheet: Added Check box to hide/unhide Inspection Form"]
[null,"Worksheet: changed cooling btu to tons"]
[null,"Qualifying Index: convert tons capacity to btu"]
[null,"Glossary: Added new tab"]
["10.21.22","Worksheet: Changed Data validation for ton for cooling capacity","MCR","draft9"]
[null,"Customer Inforamtion: Chnaged Fax formatting"]
[null,"Required Docs: Removed Covid  inpsection language"]
[null,"Qualifying Index: Updated electric efficinecy total formula"]
["10.28.22","Guideline: Moved multiple utility rebate guideline towards top of the list","MCR","draft11"]
[null,"Worksheet: Added \"per Location\" to the Duct Sealing rebate"]
[null,"References: Added Air Curtain section so % of Hours Operation could be entered"]
[null,"Customer Information: Added Daily Facilty Hours user entry"]
[null,"Qualifying Index: Changed hours for air curtains to be new Customer Information Daily Facility Hours and % of hours of operation"]
[]
["11.02.2022","Qual Index Tab: Updated PRECFM/SF and PostCFM/SF - Removed \"/SF\" from header and formulas","ED","forLaunch"]
["11.07.2022"]
["11.08.2022","Calculations: Added Heating % to Air Sealing, Insulation and Air Curtains","MCR","For Launch"]
[null,"Calculations: Added more =0 statements to pipe insulation"]
[null,"Worksheet: Added error message for missing Daily Facility hours for Air Curtains"]
[null,"Calculations: changed Air Sealing Cooling kWh to reference G95=\"\""]
[null,"Calculations: Air Curtains rebate will be 0 if savings are <=0"]
["11.10.22","Locked and finalized for 2023 early launch","ED","Version1.0"]